{"text_format":"1","workbook":"xlsx","n_sheets":6,"sheets":["Summary and Notes","ProviderTable","PR05","PR06","RF03","LookUp"],"not_rendered":{"charts":1,"images":2,"macros":1,"external_links":0,"defined_names":3,"comments":0,"pivot_tables":0},"unopened":[],"bounds":{"document_bytes":16777216,"sheet_cells":100000,"rows_first":2000,"rows_last":500,"rows_between":2000,"halvings":0,"cell_chars":16384,"cell_head_chars":4096},"cells_cut":0,"cells_raw":0,"read":"whole","date_system":"1900"}

{"sheet":"Summary and Notes","index":0,"n_rows":52,"n_cols":2,"rows_kept":52,"cut":false,"hidden":false,"merged":[]}
[]
[]
[]
[]
[]
[]
[]
[]
[null,"Further Education Outcome Based Success Measures - Interactive tables"]
[]
[null,"These tables show outcomes by provider, split by learner categories."]
[null,"Learner categories are factors such as a learner's characteristics and the type of training completed. They are designed to help users understand how providers’ outcomes compare when measured against similar provision."]
[null,"The Provider Table shows the cohort size, sustained positive destination rate, and the quintile for each learner category, and allows providers to understand how the headline measure in table PR05 has been constructed"]
[]
[null,{"$f":"'PR05'!$A$1","v":"PR05: Sustained Positive Destination Outcomes by Learner Category"}]
[null,{"$f":"'PR06'!A1","v":"PR06: Completion count, Sustained Positive Destination Rate and Quintile by Learner category"}]
[null,{"$f":"'RF03'!$A$1","v":"RF03: Sustained Positive Destination Rate distributions by learner category"}]
[]
[null,"Definitions:"]
[null,"Completions – the number of completers in each learner category. Cohorts are only included in the measure where there are ten or more learners per category, therefore totals may not match to provider numbers published elsewhere in this report."]
[null,"Sustained Positive Destination Rate – see main report for all Measure definitions and headline outcomes"]
[null,"Quintile – Identified by comparing the Sustained Positive Destination Rate against the distributions listed in table RF03:"]
[null,"  “Bottom quintile” - outcomes are below the 20th percentile;"]
[null,"  “Second quintile” - outcomes are between the 20th and 40th percentile;"]
[null,"  “Third quintile” - outcomes are between the 40th and 60th percentile;"]
[null,"  “Fourth quintile” - outcomes are between the 60th and 80th percentile;"]
[null,"  “Top quintile” - outcomes are above the 80th percentile."]
[]
[null,"Table Footnotes"]
[null,"1) The data relate to learners completing all Apprenticeships, all Traineeships, and Adult (19+) FE and Skills learners that completed an ESFA funded aim in academic years 2013/14, 2014/15 and 2015/16. Please see gov.uk for full technical details, guidance on use, and other measures that have been developed."]
[]
[null,"2) For all data, totals are rounded to the nearest 10 learners and percentages are rounded and reported to the nearest percentage point. Totals may not sum due to rounding."]
[]
[null,"3) For data where there were zero completing learners the cell is marked with ' .' to show no data available. Outcomes rates for a destination are suppressed and marked with ‘x‘ where:\n   - there were fewer than 11 completers  \n   - the rate is based on 1 or 2 learners\n   - the rate rounds to zero"]
[]
[null,"4) Cohorts are only included in the Learner Category measure where there are ten or more learners per category, therefore totals may not match to provider numbers published elsewhere in this report. For more details please see the technical note."]
[]
[null,"5) Where a learner completes more than one aim in the academic year, outcomes are reported against the aim that was completed at the highest level."]
[]
[null,"6) The Learner Category 'Other provision below Full Level 2' does not include ESOL, English & Maths, Traineeships and Learners with Learning Difficulty and/or Disability (LLDD)."]
[]
[]
[null,"Contact:"]
[null,"Alicia Heptinstall"]
[]
[null,"Department for Education"]
[null,"Sanctuary Buildings"]
[null,"Great Smith Street"]
[null,"London"]
[null,"SW1P 3BT"]
[]
[null,"Email: FE.OUTCOMESDATA@education.gov.uk"]

{"sheet":"ProviderTable","index":1,"n_rows":80,"n_cols":25,"rows_kept":80,"cut":false,"hidden":false,"merged":[[20,18,20,24],[21,18,21,20],[21,22,21,24],[1,0,1,1],[20,2,20,8],[20,10,20,16],[21,2,21,4],[21,6,21,8],[21,10,21,12],[21,14,21,16]]}
[]
["Select UKPRN or Provider Name from the menu below and then click 'Show data':"]
["Provider:",""]
[]
["Cohort includes all age apprenticeships, all age traineeships, and adult (19+) FE and skills learners that completed an ESFA funded aim in academic years 2013/14, 2014/15 and 2015/16"]
[]
[]
[null,{"$f":"'PR05'!A1","v":"PR05: Sustained Positive Destination Outcomes by Learner Category"}]
[null,null,"2013/14","2014/15","2015/16"]
[null,"Top Quintile"]
[null,"Fourth Quintile"]
[null,"Third Quintile"]
[null,"Second Quintile"]
[null,"Bottom Quintile"]
[null,"Total completions"]
[]
[]
[]
[]
[null,{"$f":"'PR06'!A1","v":"PR06: Completion count, Sustained Positive Destination Rate and Quintile by Learner category"}]
[null,null,"2013/14",null,null,null,null,null,null,null,"2014/15",null,null,null,null,null,null,null,"2015/16"]
[null,null,"Benefit learners",null,null,null,"All (excl. benefit learners)",null,null,null,"Benefit learners",null,null,null,"All (excl. benefit learners)",null,null,null,"Benefit learners",null,null,null,"All (excl. benefit learners)"]
[null,"Learner Category","Completions","Sustained Positive Destination Rate","Quintile",null,"Completions","Sustained Positive Destination Rate","Quintile",null,"Completions","Sustained Positive Destination Rate","Quintile",null,"Completions","Sustained Positive Destination Rate","Quintile",null,"Completions","Sustained Positive Destination Rate","Quintile",null,"Completions","Sustained Positive Destination Rate","Quintile"]
[null,"LLDD learner"]
[null,"Advanced and Higher Apprenticeships: Agriculture, Horticulture and Animal Care"]
[null,"Advanced and Higher Apprenticeships: Arts, Media and Publishing"]
[null,"Advanced and Higher Apprenticeships: Business, Administration and Law"]
[null,"Advanced and Higher Apprenticeships: Construction, Planning and the Built Environment"]
[null,"Advanced and Higher Apprenticeships: Education and Training"]
[null,"Advanced and Higher Apprenticeships: Engineering and Manufacturing Technologies"]
[null,"Advanced and Higher Apprenticeships: Health, Public Services and Care"]
[null,"Advanced and Higher Apprenticeships: Information and Communication Technology"]
[null,"Advanced and Higher Apprenticeships: Leisure, Travel and Tourism"]
[null,"Advanced and Higher Apprenticeships: Retail and Commercial Enterprise"]
[null,"Advanced and Higher Apprenticeships: Science and Mathematics"]
[null,"Full Level 3+: Agriculture, Horticulture and Animal Care"]
[null,"Full Level 3+: Arts, Media and Publishing"]
[null,"Full Level 3+: Business, Administration and Law"]
[null,"Full Level 3+: Construction, Planning and the Built Environment"]
[null,"Full Level 3+: Education and Training"]
[null,"Full Level 3+: Engineering and Manufacturing Technologies"]
[null,"Full Level 3+: Health, Public Services and Care"]
[null,"Full Level 3+: History, Philosophy and Theology"]
[null,"Full Level 3+: Information and Communication Technology"]
[null,"Full Level 3+: Languages, Literature and Culture"]
[null,"Full Level 3+: Leisure, Travel and Tourism"]
[null,"Full Level 3+: Preparation for Life and Work"]
[null,"Full Level 3+: Retail and Commercial Enterprise"]
[null,"Full Level 3+: Science and Mathematics"]
[null,"Full Level 3+: Social Sciences"]
[null,"Access to HE"]
[null,"Other Level 3"]
[null,"Intermediate Apprenticeships: Agriculture, Horticulture and Animal Care"]
[null,"Intermediate Apprenticeships: Arts, Media and Publishing"]
[null,"Intermediate Apprenticeships: Business, Administration and Law"]
[null,"Intermediate Apprenticeships: Construction, Planning and the Built Environment"]
[null,"Intermediate Apprenticeships: Education and Training"]
[null,"Intermediate Apprenticeships: Engineering and Manufacturing Technologies"]
[null,"Intermediate Apprenticeships: Health, Public Services and Care"]
[null,"Intermediate Apprenticeships: Information and Communication Technology"]
[null,"Intermediate Apprenticeships: Leisure, Travel and Tourism"]
[null,"Intermediate Apprenticeships: Retail and Commercial Enterprise"]
[null,"Full Level 2: Agriculture, Horticulture and Animal Care"]
[null,"Full Level 2: Arts, Media and Publishing"]
[null,"Full Level 2: Business, Administration and Law"]
[null,"Full Level 2: Construction, Planning and the Built Environment"]
[null,"Full Level 2: Education and Training"]
[null,"Full Level 2: Engineering and Manufacturing Technologies"]
[null,"Full Level 2: Health, Public Services and Care"]
[null,"Full Level 2: Information and Communication Technology"]
[null,"Full Level 2: Languages, Literature and Culture"]
[null,"Full Level 2: Leisure, Travel and Tourism"]
[null,"Full Level 2: Preparation for Life and Work"]
[null,"Full Level 2: Retail and Commercial Enterprise"]
[null,"Full Level 2: Science and Mathematics"]
[null,"Full Level 2: Social Sciences"]
[null,"Traineeships"]
[null,"English & Maths"]
[null,"ESOL"]
[null,"Other provision below Full Level 2"]

{"sheet":"PR05","index":2,"n_rows":1194,"n_cols":23,"rows_kept":1194,"cut":false,"hidden":false,"merged":[[3,10,3,15],[3,17,3,22],[3,3,3,8]]}
["PR05: Sustained Positive Destination Outcomes by Learner Category"]
["Cohort includes all age Apprenticeships, all age Traineeships, and Adult (19+) FE and Skills learners that completed an ESFA funded aim in academic years 2013/14, 2014/15 and 2015/16"]
[]
[null,null,null,"Completers 2013/14",null,null,null,null,null,null,"Completers 2014/15",null,null,null,null,null,null,"Completers 2015/16"]
["UKPRN","Provider Name","Provider Type","Completions","Bottom Quintile","Second Quintile","Third Quintile","Fourth Quintile","Top Quintile"," ","Completions","Bottom Quintile","Second Quintile","Third Quintile","Fourth Quintile","Top Quintile"," ","Completions","Bottom Quintile","Second Quintile","Third Quintile","Fourth Quintile","Top Quintile"]
[10003876,"1LIFE MANAGEMENT SOLUTIONS LIMITED","Private Sector Public Funded",140,0,0,20,36,43,null,"x","x","x","x","x","x",null,".",".",".",".",".","."]
[10000020,"5 E LTD.","Private Sector Public Funded",820,38,11,1,49,2,null,670,44,33,9,11,2,null,830,23,17,50,10,0]
[10000115,"A4E LTD","Private Sector Public Funded",7760,42,55,2,1,1,null,6510,6,42,17,4,32,null,1220,14,66,0,14,6]
[10010933,"ABA TRAINING LIMITED","Private Sector Public Funded","x","x","x","x","x","x",null,"x","x","x","x","x","x",null,".",".",".",".",".","."]
[10000055,"ABINGDON AND WITNEY COLLEGE","General FE College incl Tertiary",2680,2,5,13,43,38,null,1110,4,4,7,36,49,null,2120,2,24,26,11,37]
[10019646,"ABIS RESOURCES LIMITED","Private Sector Public Funded",".",".",".",".",".",".",null,"x","x","x","x","x","x",null,50,100,0,0,0,0]
[10000060,"ACACIA TRAINING AND DEVELOPMENT LTD","Private Sector Public Funded",3240,14,1,5,72,7,null,2160,14,20,2,16,48,null,1750,10,26,48,6,9]
[10000061,"ACACIA TRAINING LIMITED","Private Sector Public Funded",540,95,0,0,0,5,null,710,35,62,2,0,0,null,460,2,2,0,33,63]
[10033736,"ACADEMIES ENTERPRISE TRUST","Private Sector Public Funded","x","x","x","x","x","x",null,"x","x","x","x","x","x",null,"x","x","x","x","x","x"]
[10000191,"ACADEMY EDUCATION LIMITED","Private Sector Public Funded",80,65,35,0,0,0,null,70,36,64,0,0,0,null,90,53,47,0,0,0]
[10024597,"ACADEMY TRAINING GROUP LIMITED","Private Sector Public Funded",".",".",".",".",".",".",null,50,0,0,100,0,0,null,30,100,0,0,0,0]
[10039859,"ACADEMY TRANSFORMATION TRUST","Private Sector Public Funded",1070,62,33,1,0,4,null,730,27,38,6,23,5,null,600,21,7,36,24,11]
[10000080,"ACCESS TO MUSIC LIMITED","Private Sector Public Funded",690,34,4,20,0,42,null,340,64,17,0,19,0,null,260,90,0,4,0,6]
[10010584,"ACCESS TRAINING (EAST MIDLANDS) LTD","Private Sector Public Funded",310,5,19,10,13,53,null,270,0,17,22,0,61,null,310,19,0,0,7,74]
[10009059,"ACCESS TRAINING LIMITED","Private Sector Public Funded",690,17,27,24,0,32,null,410,30,41,7,0,22,null,580,8,22,11,15,44]
[10000093,"ACCRINGTON AND ROSSENDALE COLLEGE","General FE College incl Tertiary",4870,43,2,41,7,6,null,3050,47,37,10,2,5,null,2720,43,18,4,28,6]
[10034055,"ACE TRAINING AND CONSULTANCY LIMITED","Private Sector Public Funded",".",".",".",".",".",".",null,"x","x","x","x","x","x",null,"x","x","x","x","x","x"]
[10019431,"ACHIEVE THROUGH LEARNING LIMITED","Private Sector Public Funded",700,5,59,0,7,29,null,710,38,9,0,33,20,null,630,23,0,0,39,39]
[10000099,"ACHIEVEMENT TRAINING LIMITED","Private Sector Public Funded",1330,11,1,20,2,66,null,750,11,18,30,26,14,null,610,9,35,3,43,10]
[10000108,"ACORN TRAINING CONSULTANTS LIMITED","Private Sector Public Funded",".",".",".",".",".",".",null,"x","x","x","x","x","x",null,10,0,0,0,100,0]
[10007706,"ACTIV8 LEARNING","Private Sector Public Funded",".",".",".",".",".",".",null,".",".",".",".",".",".",null,"x","x","x","x","x","x"]
[10019237,"ACTIVATE COMMUNITY AND EDUCATION SERVICES","Private Sector Public Funded",20,0,0,0,0,100,null,20,100,0,0,0,0,null,20,100,0,0,0,0]
[10004927,"ACTIVATE LEARNING","General FE College incl Tertiary",4980,2,7,17,36,38,null,4270,3,9,25,14,49,null,3240,4,15,29,24,29]
[10000124,"ACTON TRAINING CENTRE LIMITED","Private Sector Public Funded",50,100,0,0,0,0,null,".",".",".",".",".",".",null,".",".",".",".",".","."]
[10019155,"ADVANCED PERSONNEL MANAGEMENT GROUP (UK) LIMITED","Private Sector Public Funded",1370,100,0,0,0,0,null,1370,93,6,0,1,0,null,1300,95,2,0,0,3]
[10032745,"AGE UK TRADING CIC","Private Sector Public Funded",2660,38,1,10,19,32,null,2090,37,24,30,7,1,null,1230,15,9,19,43,14]
[10036303,"AGILISYS LIMITED","Private Sector Public Funded",30,100,0,0,0,0,null,80,14,48,0,38,0,null,".",".",".",".",".","."]
[10000201,"ALDER TRAINING LIMITED","Private Sector Public Funded",560,23,8,38,9,22,null,470,0,0,22,0,78,null,400,0,34,0,36,30]
[10027693,"ALL TRADES TRAINING LIMITED","Private Sector Public Funded","x","x","x","x","x","x",null,10,0,0,100,0,0,null,"x","x","x","x","x","x"]
[10000238,"ALLIANCE LEARNING","Private Sector Public Funded",240,23,19,0,29,29,null,260,11,21,11,32,25,null,200,0,30,28,20,22]
[10022311,"ALPHA BUILDING SERVICES ENGINEERING LTD","Private Sector Public Funded",50,100,0,0,0,0,null,50,100,0,0,0,0,null,".",".",".",".",".","."]
[10022070,"ALPHA CARE AGENCY LIMITED","Private Sector Public Funded",".",".",".",".",".",".",null,".",".",".",".",".",".",null,30,100,0,0,0,0]
[10001777,"ALT VALLEY COMMUNITY TRUST LIMITED","Private Sector Public Funded","x","x","x","x","x","x",null,"x","x","x","x","x","x",null,"x","x","x","x","x","x"]
[10000256,"ALTON COLLEGE","Other",210,48,0,0,26,26,null,160,6,19,10,48,17,null,120,17,22,9,13,39]
[10000275,"AMERSHAM & WYCOMBE COLLEGE","General FE College incl Tertiary",1070,22,12,22,21,23,null,1050,34,1,23,24,18,null,890,34,7,47,0,13]
[10023918,"ANDERSON STOCKLEY ACCREDITED TRAINING LTD","Private Sector Public Funded",".",".",".",".",".",".",null,10,0,0,0,0,100,null,40,0,0,0,0,100]
[10000285,"ANDREW COLLINGE TRAINING LIMITED","Private Sector Public Funded",110,89,0,0,11,0,null,80,69,31,0,0,0,null,60,33,0,67,0,0]
[10022210,"ANNE CLARKE ASSOCIATES LIMITED","Private Sector Public Funded",2300,13,6,0,1,80,null,2140,20,2,6,0,72,null,1400,18,2,0,42,38]
[10000311,"APCYMRU LIMITED","Private Sector Public Funded","x","x","x","x","x","x",null,"x","x","x","x","x","x",null,"x","x","x","x","x","x"]
[10006901,"APM LEARNING AND EDUCATION ALLIANCE LIMITED","Private Sector Public Funded",".",".",".",".",".",".",null,"x","x","x","x","x","x",null,".",".",".",".",".","."]
[10030249,"APPRENTICE FUNDING ASSISTANT LIMITED","Private Sector Public Funded",70,62,38,0,0,0,null,200,64,22,0,0,13,null,160,58,0,0,42,0]
[10032404,"APPRENTICESHIPS & TRAINING SERVICES CONSORTIUM LIMITED","Private Sector Public Funded",160,65,8,0,0,27,null,270,16,78,6,0,0,null,350,16,0,77,5,3]
[10000848,"APPRIS CHARITY LIMITED","Private Sector Public Funded",70,0,83,0,17,0,null,100,0,12,78,0,11,null,70,76,0,0,0,24]
[10000330,"AQUINAS COLLEGE","Other",70,17,20,0,64,0,null,50,0,0,0,0,100,null,100,51,0,22,27,0]
[10000348,"ARCHWAY ACADEMY","Other","x","x","x","x","x","x",null,"x","x","x","x","x","x",null,"x","x","x","x","x","x"]
[10000350,"ARDEN COLLEGE","Private Sector Public Funded",".",".",".",".",".",".",null,"x","x","x","x","x","x",null,"x","x","x","x","x","x"]
[10024163,"AREA 51 EDUCATION LTD","Private Sector Public Funded",".",".",".",".",".",".",null,"x","x","x","x","x","x",null,".",".",".",".",".","."]
[10000385,"ARTS UNIVERSITY BOURNEMOUTH, THE","Other Public Funded",80,24,0,60,0,15,null,40,0,0,0,0,100,null,40,0,0,0,0,100]
[10000409,"ASHTON SIXTH FORM COLLEGE","Other",180,18,47,0,0,35,null,220,0,5,0,42,53,null,160,0,9,20,0,71]
[10009956,"ASHTON, WIGAN & DISTRICT YOUNG MEN'S CHRISTIAN ASSOCIATION (ALSO KNOWN AS ASHTON,WIGAN & DISTRICT YMCA)","Private Sector Public Funded","x","x","x","x","x","x",null,"x","x","x","x","x","x",null,"x","x","x","x","x","x"]
[10000415,"ASKHAM BRYAN COLLEGE","Special Colleges",800,2,39,14,34,9,null,690,13,51,5,17,13,null,720,4,87,0,9,0]
[10019293,"ASPHALEIA LIMITED","Private Sector Public Funded","x","x","x","x","x","x",null,"x","x","x","x","x","x",null,".",".",".",".",".","."]
[10000421,"ASPIRATION TRAINING LIMITED","Private Sector Public Funded",1020,35,43,19,0,3,null,1710,4,20,33,9,34,null,2670,0,4,1,14,80]
[10031241,"ASPIRE ACHIEVE ADVANCE LIMITED","Private Sector Public Funded",40,100,0,0,0,0,null,480,59,0,0,21,20,null,1360,0,0,43,41,15]
[10006942,"ASPIRE TRAINING TEAM LIMITED","Private Sector Public Funded",100,50,0,0,0,50,null,120,84,0,0,0,16,null,110,13,0,30,9,48]
[10001182,"ASPIRE-I LIMITED","Private Sector Public Funded","x","x","x","x","x","x",null,"x","x","x","x","x","x",null,"x","x","x","x","x","x"]
[10003248,"ASPIRE-IGEN LTD","Private Sector Public Funded",".",".",".",".",".",".",null,"x","x","x","x","x","x",null,10,100,0,0,0,0]
[10000427,"ASSET TRAINING & CONSULTANCY LIMITED","Private Sector Public Funded",1610,28,17,11,24,20,null,1840,45,21,1,2,31,null,1800,30,45,17,6,2]
[10037337,"ASSOCIATED TRAINING SOLUTIONS LIMITED","Private Sector Public Funded",".",".",".",".",".",".",null,".",".",".",".",".",".",null,"x","x","x","x","x","x"]
[10020307,"ASTUTE MINDS LTD","Private Sector Public Funded",10,100,0,0,0,0,null,200,88,0,0,0,12,null,420,0,38,4,58,0]
[10000476,"ATG TRAINING","Private Sector Public Funded",440,27,18,0,11,45,null,580,8,40,6,0,46,null,610,0,15,2,44,39]
[10000452,"AURELIA TRAINING LIMITED","Private Sector Public Funded",290,0,12,0,0,88,null,170,48,0,0,0,52,null,180,0,9,0,44,47]
[10022513,"AVANT PARTNERSHIP LIMITED","Private Sector Public Funded",520,36,0,0,24,40,null,390,48,14,15,18,5,null,330,16,28,0,13,43]
[10018436,"AWAAZ ENTERPRISES LTD","Private Sector Public Funded",".",".",".",".",".",".",null,".",".",".",".",".",".",null,"x","x","x","x","x","x"]
[10008081,"AWE PLC","Private Sector Public Funded",20,0,0,100,0,0,null,80,27,0,0,0,73,null,"x","x","x","x","x","x"]
[10000470,"AXIA SOLUTIONS LIMITED","Private Sector Public Funded",380,3,35,0,0,62,null,210,0,0,0,50,50,null,340,3,0,50,8,39]
[10000473,"AYLESBURY COLLEGE","General FE College incl Tertiary",1660,19,9,8,20,45,null,1700,30,4,18,16,31,null,1170,44,5,17,6,28]
[10005781,"AZURE CHARITABLE ENTERPRISES","Private Sector Public Funded","x","x","x","x","x","x",null,"x","x","x","x","x","x",null,".",".",".",".",".","."]
[10000486,"B L TRAINING LIMITED","Private Sector Public Funded",320,55,23,12,0,10,null,240,0,32,58,0,10,null,260,0,5,89,6,0]
[10029186,"B2B ENGAGE LIMITED","Private Sector Public Funded",740,41,0,24,0,35,null,800,47,3,2,21,27,null,400,34,13,29,16,7]
[10037348,"BABCOCK SKILLS DEVELOPMENT AND TRAINING LIMITED","Private Sector Public Funded",290,0,0,0,93,7,null,150,0,0,0,41,59,null,250,0,0,42,43,16]
[10003161,"BABCOCK TRAINING LIMITED","Private Sector Public Funded",9760,8,3,30,51,8,null,9810,7,0,14,69,10,null,9480,4,2,0,83,10]
[10000494,"BABINGTON BUSINESS COLLEGE LIMITED","Private Sector Public Funded",1670,4,0,65,6,25,null,1320,9,3,30,43,15,null,2160,1,23,4,61,11]
[10000501,"BAE SYSTEMS PLC","Private Sector Public Funded",160,0,0,0,0,100,null,210,0,0,0,10,90,null,260,4,0,0,0,96]
[10013530,"BALDWIN TRAINING LIMITED","Private Sector Public Funded",240,69,18,4,0,9,null,".",".",".",".",".",".",null,".",".",".",".",".","."]
[10019026,"BALTIC TRAINING SERVICES LIMITED","Private Sector Public Funded",1280,11,8,0,13,68,null,1990,11,1,23,13,52,null,1300,18,2,32,30,18]
[10000524,"BARCHESTER HEALTHCARE LIMITED","Private Sector Public Funded",400,0,0,22,0,78,null,450,19,0,0,0,81,null,190,0,0,0,0,100]
[10000525,"BARFORD EDUCATION AND TRAINING (NORTH EAST) LIMITED","Private Sector Public Funded",210,67,0,0,0,33,null,190,30,0,15,37,18,null,".",".",".",".",".","."]
[10000143,"BARKING & DAGENHAM LONDON BOROUGH COUNCIL","Other Public Funded",1440,49,2,41,3,4,null,1270,17,0,43,33,6,null,720,4,37,50,5,4]
[10000528,"BARKING AND DAGENHAM COLLEGE","General FE College incl Tertiary",7130,42,10,43,2,3,null,5150,37,38,9,12,3,null,4400,44,30,8,15,4]
[10000532,"BARNARDO'S","Private Sector Public Funded",200,58,11,0,0,32,null,110,82,18,0,0,0,null,30,38,0,0,0,62]
[10000533,"BARNET & SOUTHGATE COLLEGE","General FE College incl Tertiary",12190,17,60,10,11,2,null,10350,55,34,3,6,1,null,6280,26,45,19,9,2]
[10000534,"BARNFIELD COLLEGE","General FE College incl Tertiary",7540,7,8,7,68,10,null,4130,31,3,13,46,7,null,2070,13,52,15,9,11]
[10000536,"BARNSLEY COLLEGE","General FE College incl Tertiary",1950,8,18,23,11,40,null,1710,17,26,24,23,11,null,2230,14,18,49,11,9]
[10000538,"BARNSLEY METROPOLITAN BOROUGH COUNCIL","Other Public Funded",1450,0,54,2,28,17,null,1420,2,69,1,16,11,null,1140,19,35,23,19,5]
[10000546,"BARROW-IN-FURNESS SIXTH FORM COLLEGE","Other",150,8,0,0,0,92,null,170,0,9,0,0,91,null,10,0,0,0,0,100]
[10000552,"BARTON PEVERIL SIXTH FORM COLLEGE","Other",360,15,54,5,13,13,null,340,3,0,31,14,51,null,260,6,31,29,14,19]
[10000560,"BASINGSTOKE COLLEGE OF TECHNOLOGY","General FE College incl Tertiary",2200,10,4,51,13,21,null,2120,13,1,31,5,50,null,1840,15,5,21,20,39]
[10000561,"BASINGSTOKE YOUTH ACTION TRUST LIMITED","Private Sector Public Funded",60,16,0,0,0,84,null,70,53,0,0,0,47,null,60,47,21,0,0,32]
[10000565,"BASSETLAW TRAINING AGENCY (PROPERTIES) LIMITED","Private Sector Public Funded","x","x","x","x","x","x",null,"x","x","x","x","x","x",null,"x","x","x","x","x","x"]
[10001465,"BATH COLLEGE","General FE College incl Tertiary",1570,4,23,5,8,61,null,1300,34,14,0,24,29,null,2770,4,2,61,8,25]
[10046797,"BC ARCH LIMITED","Private Sector Public Funded",".",".",".",".",".",".",null,".",".",".",".",".",".",null,210,60,32,0,0,8]
[10006600,"BCTG LIMITED","Private Sector Public Funded",2680,25,14,22,35,4,null,2870,4,28,19,26,22,null,2760,18,21,5,43,13]
[10019227,"BE TOTALLY YOU","Private Sector Public Funded",40,54,0,0,0,46,null,210,49,6,0,0,45,null,130,35,14,23,0,27]
[10045359,"BE WISER INSURANCE SERVICES LTD","Private Sector Public Funded",".",".",".",".",".",".",null,".",".",".",".",".",".",null,50,0,0,100,0,0]
[10033608,"BEACON EDUCATION PARTNERSHIP LIMITED","Private Sector Public Funded",".",".",".",".",".",".",null,"x","x","x","x","x","x",null,150,0,100,0,0,0]
[10000599,"BEAUMONT COLLEGE - A SCOPE COLLEGE","Other Public Funded",90,0,0,0,100,0,null,100,0,0,0,100,0,null,110,0,100,0,0,0]
[10020123,"BECKETT CORPORATION LIMITED","Private Sector Public Funded",250,0,54,0,46,0,null,200,0,56,0,44,0,null,100,0,47,53,0,0]
[10000610,"BEDFORD COLLEGE","General FE College incl Tertiary",4650,7,1,26,19,47,null,4450,9,4,49,7,32,null,2860,2,14,24,22,38]
[10000612,"BEDFORDSHIRE & LUTON EDUCATION BUSINESS PARTNERSHIP","Private Sector Public Funded",30,0,0,0,0,100,null,40,0,0,100,0,0,null,40,100,0,0,0,0]
[10000631,"BELLIS TRAINING LIMITED","Private Sector Public Funded","x","x","x","x","x","x",null,10,0,0,0,0,100,null,"x","x","x","x","x","x"]
[10000654,"BERKSHIRE COLLEGE OF AGRICULTURE, THE (BCA)","Special Colleges",200,10,19,0,0,71,null,190,0,10,68,12,11,null,190,14,67,0,19,0]
[10018344,"BESTLAND SOLUTIONS LIMITED","Private Sector Public Funded",10,100,0,0,0,0,null,140,84,0,0,16,0,null,150,59,0,20,0,20]
[10000670,"BEXHILL COLLEGE","Other",110,16,0,0,84,0,null,170,27,0,0,0,73,null,140,26,0,0,74,0]
[10000671,"BEXLEY COLLEGE","General FE College incl Tertiary",1490,13,12,1,3,70,null,1050,7,41,2,17,33,null,790,15,4,27,53,1]
[10000146,"BEXLEY LONDON BOROUGH COUNCIL","Other Public Funded",1360,15,3,46,10,25,null,1280,8,20,18,50,4,null,1050,11,5,51,23,9]
[10000673,"BEXLEY YOUTH TRAINING GROUP","Private Sector Public Funded",200,49,12,0,9,30,null,260,67,12,8,7,5,null,400,33,0,51,17,0]
[10019980,"BHS LIMITED","Private Sector Public Funded",410,0,0,0,0,100,null,340,0,0,4,65,31,null,170,76,8,0,9,7]
[10000683,"BICTON COLLEGE","Special Colleges",410,15,46,12,6,21,null,430,6,31,7,56,0,null,".",".",".",".",".","."]
[10046350,"BIG CREATIVE ACADEMY","Other",".",".",".",".",".",".",null,"x","x","x","x","x","x",null,10,100,0,0,0,0]
[10002073,"BIG CREATIVE TRAINING LTD","Private Sector Public Funded","x","x","x","x","x","x",null,10,100,0,0,0,0,null,"x","x","x","x","x","x"]
[10000695,"BILBOROUGH COLLEGE","Other",".",".",".",".",".",".",null,"x","x","x","x","x","x",null,"x","x","x","x","x","x"]
[10000702,"BIRKENHEAD SIXTH FORM COLLEGE","Other",130,0,45,0,55,0,null,160,12,0,0,16,72,null,120,0,0,23,37,40]
[10000703,"BIRMINGHAM CITY COUNCIL","Other Public Funded",8080,14,19,52,4,9,null,6270,3,33,52,1,11,null,4540,38,5,32,17,9]
[10000715,"BIRMINGHAM ELECTRICAL TRAINING LTD","Private Sector Public Funded",30,0,0,100,0,0,null,30,0,0,0,0,100,null,40,0,100,0,0,0]
[10006442,"BIRMINGHAM METROPOLITAN COLLEGE","General FE College incl Tertiary",14690,22,51,12,7,8,null,11360,23,34,12,26,5,null,8090,19,36,1,24,21]
[10000720,"BISHOP AUCKLAND COLLEGE","General FE College incl Tertiary",4060,11,14,33,35,8,null,3120,10,38,3,28,20,null,2290,23,50,18,2,7]
[10000721,"BISHOP BURTON COLLEGE","Special Colleges",570,44,37,3,16,0,null,360,32,0,0,51,17,null,340,42,0,43,8,7]
[10000747,"BLACKBURN COLLEGE","General FE College incl Tertiary",4160,8,17,2,67,6,null,3080,14,24,6,40,16,null,2490,29,27,26,10,7]
[10000748,"BLACKBURN WITH DARWEN UNITARY AUTHORITY","Other Public Funded",310,25,10,9,30,26,null,260,56,12,0,32,0,null,230,83,0,17,0,0]
[10000754,"BLACKPOOL AND THE FYLDE COLLEGE","General FE College incl Tertiary",4760,25,41,18,8,8,null,3890,11,28,28,24,9,null,3110,14,15,36,23,12]
[10000755,"BLACKPOOL UNITARY AUTHORITY","Other Public Funded",300,78,0,7,15,0,null,90,70,0,30,0,0,null,80,54,46,0,0,0]
[10013208,"BLUE TRAINING (U.K.) LIMITED","Private Sector Public Funded",580,2,36,0,41,20,null,520,3,23,0,35,39,null,10,100,0,0,0,0]
[10000952,"BMC (BROOKSBY MELTON COLLEGE)","Special Colleges",340,6,26,14,12,42,null,520,15,19,5,33,28,null,400,0,0,29,3,68]
[10025267,"BOCK CONSULTANCY & PERSONNEL DEVELOPMENT LIMITED","Private Sector Public Funded",".",".",".",".",".",".",null,".",".",".",".",".",".",null,70,100,0,0,0,0]
[10000794,"BOLTON COLLEGE","General FE College incl Tertiary",3760,20,22,21,9,28,null,3570,9,16,29,20,26,null,2480,7,8,53,10,22]
[10000795,"BOLTON METROPOLITAN BOROUGH COUNCIL","Other Public Funded",840,5,63,0,32,0,null,320,0,52,10,16,22,null,310,11,56,0,4,29]
[10000796,"BOLTON SIXTH FORM COLLEGE","Other","x","x","x","x","x","x",null,"x","x","x","x","x","x",null,"x","x","x","x","x","x"]
[10028930,"BOOTS OPTICIANS PROFESSIONAL SERVICES LIMITED","Private Sector Public Funded",80,0,0,0,0,100,null,40,0,0,0,100,0,null,100,0,0,0,0,100]
[10005143,"BOROUGH OF POOLE","Other Public Funded",3210,53,7,2,14,24,null,2310,38,24,4,15,18,null,1560,6,35,0,44,15]
[10006547,"BOROUGH OF TELFORD AND WREKIN","Other Public Funded",820,27,38,0,14,21,null,800,84,0,0,0,16,null,470,66,0,0,0,34]
[10042884,"BOSCH AUTOMOTIVE SERVICE SOLUTIONS LTD","Private Sector Public Funded",20,0,0,0,0,100,null,90,0,0,33,0,67,null,110,0,0,85,0,15]
[10000807,"BOSCO CENTRE","Private Sector Public Funded","x","x","x","x","x","x",null,".",".",".",".",".",".",null,".",".",".",".",".","."]
[10000812,"BOSTON COLLEGE","General FE College incl Tertiary",4000,7,19,13,48,13,null,3350,3,14,29,39,16,null,2330,16,2,16,50,16]
[10000820,"BOURNEMOUTH AND POOLE COLLEGE, THE","General FE College incl Tertiary",2960,16,16,18,30,19,null,2680,6,35,9,16,34,null,2240,11,25,8,13,42]
[10000825,"BOURNVILLE COLLEGE","General FE College incl Tertiary",6280,16,22,6,18,37,null,4890,12,19,2,58,9,null,3500,38,4,15,21,23]
[10009975,"BOWLING COLLEGE","Private Sector Public Funded",590,97,0,0,3,0,null,430,55,45,0,0,0,null,90,62,11,0,16,11]
[10000831,"BPP HOLDINGS LIMITED","Private Sector Public Funded",330,0,0,0,0,100,null,420,0,0,0,0,100,null,580,0,0,0,0,100]
[10000833,"BRACKNELL AND WOKINGHAM COLLEGE","General FE College incl Tertiary",1410,9,1,1,30,59,null,1120,12,2,11,18,57,null,920,3,7,31,8,52]
[10000834,"BRACKNELL FOREST BOROUGH COUNCIL","Other Public Funded",200,16,27,0,6,51,null,120,14,27,0,11,48,null,90,14,0,0,0,86]
[10000850,"BRADFORD CITY COUNCIL","Other Public Funded",370,27,48,12,0,12,null,340,61,39,0,0,0,null,300,68,0,21,8,3]
[10000840,"BRADFORD COLLEGE","General FE College incl Tertiary",10100,46,9,12,16,18,null,7640,33,15,40,6,6,null,6330,26,49,10,8,7]
[10000863,"BRENT LONDON BOROUGH COUNCIL","Other Public Funded",2060,32,50,11,4,4,null,1710,45,23,19,1,12,null,1450,22,37,28,13,0]
[10000872,"BRIDGE COLLEGE","Special Colleges",30,100,0,0,0,0,null,30,100,0,0,0,0,null,30,100,0,0,0,0]
[10000874,"BRIDGE TRAINING LIMITED","Private Sector Public Funded","x","x","x","x","x","x",null,"x","x","x","x","x","x",null,"x","x","x","x","x","x"]
[10000878,"BRIDGWATER COLLEGE","General FE College incl Tertiary",3980,1,2,15,14,69,null,3590,2,8,5,13,71,null,3020,3,6,8,44,40]
[10003609,"BRIGHT HORIZONS FAMILY SOLUTIONS LIMITED","Private Sector Public Funded",".",".",".",".",".",".",null,30,0,0,0,0,100,null,40,0,0,0,100,0]
[10037945,"BRIGHTER FUTURES MERSEYSIDE LIMITED","Private Sector Public Funded","x","x","x","x","x","x",null,"x","x","x","x","x","x",null,"x","x","x","x","x","x"]
[10000883,"BRIGHTON & HOVE CITY COUNCIL","Other Public Funded",60,100,0,0,0,0,null,40,0,71,29,0,0,null,30,40,0,0,60,0]
[10000887,"BRIGHTON HOVE AND SUSSEX SIXTH FORM COLLEGE","Other",20,0,0,100,0,0,null,30,0,100,0,0,0,null,20,0,100,0,0,0]
[10022320,"BRINSWORTH TRAINING LIMITED","Private Sector Public Funded",60,0,0,100,0,0,null,60,0,0,0,100,0,null,80,0,0,73,28,0]
[10000896,"BRISTOL CITY COUNCIL","Other Public Funded",460,22,51,4,7,16,null,440,12,17,50,0,21,null,330,23,45,7,0,25]
[10033440,"BRITISH ARMY","Other Public Funded",9570,0,48,10,11,31,null,9840,11,13,28,8,40,null,8590,0,2,13,48,37]
[10000915,"BRITISH GAS SERVICES LIMITED","Private Sector Public Funded",50,0,0,62,0,38,null,140,0,0,0,81,19,null,450,100,0,0,0,0]
[10000929,"BRITISH PRINTING INDUSTRIES FEDERATION LTD","Private Sector Public Funded",100,0,0,0,0,100,null,120,0,80,0,20,0,null,100,17,0,0,23,60]
[10027662,"BRITISH TELECOMMUNICATIONS PUBLIC LIMITED COMPANY","Private Sector Public Funded",920,94,0,6,0,0,null,550,68,0,25,6,0,null,600,16,4,0,80,0]
[10000941,"BROADLAND DISTRICT COUNCIL","Other Public Funded",120,0,35,13,10,42,null,170,20,38,0,6,36,null,120,0,0,22,39,39]
[10000944,"BROCKENHURST COLLEGE","General FE College incl Tertiary",2500,2,14,11,27,47,null,2160,3,0,66,3,28,null,1320,10,15,3,50,23]
[10000948,"BROMLEY COLLEGE OF FURTHER AND HIGHER EDUCATION","General FE College incl Tertiary",3030,15,21,33,26,6,null,3230,8,20,29,21,23,null,2200,21,23,9,35,12]
[10003987,"BROMLEY LONDON BOROUGH COUNCIL","Other Public Funded",1740,28,21,48,0,2,null,1400,14,21,0,63,3,null,830,8,37,13,32,11]
[10000950,"BROOKLANDS COLLEGE","General FE College incl Tertiary",1970,14,26,25,23,13,null,1650,32,8,26,27,6,null,2010,35,30,13,9,13]
[10039535,"BROOKS & KIRK LIMITED","Private Sector Public Funded",".",".",".",".",".",".",null,20,0,0,0,0,100,null,20,0,0,0,100,0]
[10048409,"BRS EDUCATION LIMITED","Private Sector Public Funded",".",".",".",".",".",".",null,".",".",".",".",".",".",null,60,0,0,0,52,48]
[10000488,"B-SKILL LIMITED","Private Sector Public Funded",1070,91,0,0,0,9,null,1100,66,25,5,5,0,null,1040,85,7,0,3,4]
[10000976,"BUCKINGHAMSHIRE COUNTY COUNCIL","Other Public Funded",2470,13,29,20,8,31,null,2130,21,23,25,1,30,null,1360,1,24,47,6,22]
[10009063,"BUILDING CRAFTS COLLEGE","Other Public Funded",80,13,0,38,0,49,null,50,0,22,50,28,0,null,50,0,0,47,22,31]
[10000984,"BUILDING ENGINEERING SERVICES TRAINING LIMITED","Private Sector Public Funded",300,0,13,4,32,51,null,200,0,0,32,56,13,null,160,0,0,94,0,6]
[10001000,"BURNLEY COLLEGE","General FE College incl Tertiary",2190,29,12,17,27,15,null,1820,32,3,39,8,18,null,1660,26,4,26,38,7]
[10001004,"BURTON AND SOUTH DERBYSHIRE COLLEGE","General FE College incl Tertiary",2790,9,25,9,7,50,null,2320,15,12,26,1,46,null,1700,3,15,34,10,38]
[10001005,"BURY COLLEGE","General FE College incl Tertiary",2880,12,23,29,9,27,null,2250,19,17,8,10,45,null,1920,13,18,14,21,34]
[10001008,"BURY METROPOLITAN BOROUGH COUNCIL","Other Public Funded",1410,35,20,8,37,0,null,1270,24,19,4,48,5,null,770,18,21,12,21,28]
[10023403,"BUSINESS IMPACT UK LIMITED","Private Sector Public Funded",730,37,17,2,13,30,null,330,17,0,0,68,15,null,".",".",".",".",".","."]
[10001055,"BUSINESS MANAGEMENT RESOURCES (UK) LTD","Private Sector Public Funded",120,63,0,37,0,0,null,100,74,0,0,15,12,null,180,55,7,10,0,27]
[10030637,"BUSY BEES NURSERIES LIMITED","Private Sector Public Funded",170,54,0,0,46,0,null,190,49,0,0,0,51,null,350,32,6,18,0,43]
[10008135,"BUZZ LEARNING LIMITED","Private Sector Public Funded","x","x","x","x","x","x",null,"x","x","x","x","x","x",null,10,100,0,0,0,0]
[10001078,"CABLECOM TRAINING LIMITED","Private Sector Public Funded",860,77,12,5,0,5,null,580,51,27,7,0,15,null,380,48,24,18,0,10]
[10001082,"CADBURY SIXTH FORM COLLEGE","Other","x","x","x","x","x","x",null,"x","x","x","x","x","x",null,"x","x","x","x","x","x"]
[10001093,"CALDERDALE COLLEGE","General FE College incl Tertiary",2750,59,26,7,3,6,null,2410,50,23,6,9,12,null,2060,43,20,23,7,7]
[10001094,"CALDERDALE METROPOLITAN BOROUGH COUNCIL","Other Public Funded",1060,21,67,0,7,4,null,220,0,88,0,0,12,null,200,0,57,0,16,27]
[10012822,"CAMBIAN DILSTON COLLEGE","Other Public Funded",".",".",".",".",".",".",null,"x","x","x","x","x","x",null,10,100,0,0,0,0]
[10012804,"CAMBIAN LUFTON COLLEGE","Other Public Funded",".",".",".",".",".",".",null,30,100,0,0,0,0,null,20,100,0,0,0,0]
[10027379,"CAMBIAN WING COLLEGE","NULL",".",".",".",".",".",".",null,".",".",".",".",".",".",null,"x","x","x","x","x","x"]
[10001116,"CAMBRIDGE REGIONAL COLLEGE","General FE College incl Tertiary",6990,13,18,16,12,41,null,6340,16,9,7,14,54,null,6190,39,6,3,16,36]
[10001123,"CAMBRIDGESHIRE COUNTY COUNCIL","Other Public Funded",930,38,20,14,10,18,null,620,51,0,29,0,20,null,650,73,0,25,0,2]
[10003988,"CAMDEN LONDON BOROUGH COUNCIL","Other Public Funded",90,100,0,0,0,0,null,100,15,85,0,0,0,null,100,83,17,0,0,0]
[10001144,"CANTERBURY COLLEGE","General FE College incl Tertiary",3040,11,28,19,11,31,null,2210,17,15,45,16,7,null,1470,13,24,45,8,10]
[10001145,"CANTO LIMITED","Private Sector Public Funded","x","x","x","x","x","x",null,"x","x","x","x","x","x",null,10,100,0,0,0,0]
[10001148,"CAPEL MANOR COLLEGE","Special Colleges",1630,10,41,11,30,7,null,1430,20,24,2,52,2,null,1020,9,0,80,5,6]
[10001149,"CAPITA PLC","Private Sector Public Funded",690,2,10,0,0,88,null,840,0,0,6,40,54,null,1540,6,20,1,21,52]
[10022461,"CAPITAL ENGINEERING GROUP HOLDINGS LTD","Private Sector Public Funded",360,29,7,0,47,17,null,260,52,0,16,0,32,null,270,17,0,65,0,18]
[10001165,"CARDINAL NEWMAN COLLEGE","Other",150,7,0,0,0,93,null,110,9,0,0,0,91,null,100,0,0,0,0,100]
[10001177,"CAREER DEVELOPMENT CENTER LIMITED","Private Sector Public Funded",290,53,0,15,0,32,null,130,0,58,0,0,42,null,".",".",".",".",".","."]
[10001193,"CARILLION CONSTRUCTION LIMITED","Private Sector Public Funded",700,9,71,0,20,0,null,580,100,0,0,0,0,null,530,93,4,0,0,2]
[10001196,"CARLISLE COLLEGE","General FE College incl Tertiary",880,9,18,4,4,65,null,750,13,12,27,2,46,null,610,9,9,23,19,40]
[10001201,"CARMEL COLLEGE","Other","x","x","x","x","x","x",null,"x","x","x","x","x","x",null,"x","x","x","x","x","x"]
[10001207,"CARSHALTON COLLEGE","General FE College incl Tertiary",790,15,20,2,28,35,null,510,25,14,5,18,38,null,320,33,5,11,30,21]
[10025727,"CATCH 22 CHARITY LIMITED","Private Sector Public Funded",200,69,12,0,0,19,null,510,75,4,0,0,20,null,510,59,4,26,0,11]
[10001292,"CCP GRADUATE SCHOOL LTD","Private Sector Public Funded","x","x","x","x","x","x",null,"x","x","x","x","x","x",null,"x","x","x","x","x","x"]
[10002061,"CENTRAL BEDFORDSHIRE COLLEGE","General FE College incl Tertiary",1500,16,22,4,39,20,null,1440,39,0,13,37,11,null,1350,8,4,56,28,4]
[10024292,"CENTRAL BEDFORDSHIRE COUNCIL","Other Public Funded",910,27,26,12,32,3,null,630,39,23,16,20,2,null,590,23,39,0,29,9]
[10005991,"CENTRAL COLLEGE NOTTINGHAM","General FE College incl Tertiary",14500,6,30,34,13,17,null,10740,15,21,12,29,24,null,9110,15,27,12,26,20]
[10001744,"CENTRAL SUSSEX COLLEGE","General FE College incl Tertiary",3310,25,3,15,27,29,null,2650,8,25,19,18,30,null,1900,5,8,43,32,13]
[10001259,"CENTRAL TRAINING ACADEMY LIMITED","Private Sector Public Funded",510,55,2,0,16,27,null,510,57,3,5,14,21,null,430,12,8,4,55,20]
[10018361,"CENTRE FOR ADVANCED STUDIES LIMITED","Private Sector Public Funded",".",".",".",".",".",".",null,".",".",".",".",".",".",null,"x","x","x","x","x","x"]
[10001310,"CHAMBER TRAINING (HUMBER) LIMITED","Private Sector Public Funded",210,36,0,0,0,64,null,160,49,0,15,0,36,null,160,24,0,0,11,65]
[10024603,"CHAPMAN BENNETT ASSOCIATES LIMITED","Private Sector Public Funded",200,93,0,0,0,7,null,340,93,0,0,0,7,null,300,0,91,0,0,9]
[10001326,"CHARNWOOD TRAINING GROUP LIMITED","Private Sector Public Funded",1730,1,13,45,15,25,null,840,22,1,0,24,53,null,".",".",".",".",".","."]
[10001346,"CHEADLE AND MARPLE SIXTH FORM COLLEGE","Other",460,9,6,20,25,40,null,280,17,49,26,4,4,null,220,28,8,5,27,32]
[10001351,"CHELMER TRAINING LIMITED","Private Sector Public Funded","x","x","x","x","x","x",null,"x","x","x","x","x","x",null,".",".",".",".",".","."]
[10001353,"CHELMSFORD COLLEGE","General FE College incl Tertiary",1350,63,3,19,6,8,null,1050,75,13,3,2,7,null,920,47,20,11,13,10]
[10024293,"CHESHIRE EAST COUNCIL","Other Public Funded",640,43,13,43,0,2,null,600,55,15,30,0,0,null,470,37,0,63,0,0]
[10024294,"CHESHIRE WEST AND CHESTER COUNCIL","Other Public Funded",910,31,2,0,0,66,null,780,39,15,0,41,4,null,700,17,12,22,47,2]
[10020827,"CHESTERFIELD BUSINESS COLLEGE LIMITED","Private Sector Public Funded",".",".",".",".",".",".",null,"x","x","x","x","x","x",null,"x","x","x","x","x","x"]
[10001378,"CHESTERFIELD COLLEGE","General FE College incl Tertiary",3000,7,13,23,36,21,null,2670,12,9,37,15,27,null,2800,25,20,11,21,23]
[10008159,"CHEYNE'S (MANAGEMENT) LIMITED","Private Sector Public Funded",160,74,26,0,0,0,null,260,72,28,0,0,0,null,370,67,33,0,0,0]
[10007817,"CHICHESTER COLLEGE","General FE College incl Tertiary",5390,11,4,7,35,43,null,3250,10,18,4,13,55,null,2890,17,27,21,8,26]
[10001392,"CHILDREN'S LINKS","Private Sector Public Funded",50,46,0,0,54,0,null,50,0,0,0,0,100,null,60,41,0,34,25,0]
[10001394,"CHILTERN TRAINING LIMITED","Private Sector Public Funded",250,20,16,0,47,18,null,240,9,20,0,33,38,null,170,58,0,0,10,32]
[10001405,"CHOICES 4 ALL","Private Sector Public Funded",10,0,0,0,100,0,null,10,0,0,0,100,0,null,".",".",".",".",".","."]
[10001416,"CHRIST THE KING SIXTH FORM COLLEGE","Other","x","x","x","x","x","x",null,"x","x","x","x","x","x",null,"x","x","x","x","x","x"]
[10001446,"CIRENCESTER COLLEGE","Other",590,6,2,0,9,83,null,490,62,0,2,2,34,null,210,0,45,0,8,48]
[10001436,"CITB","Other Public Funded",3310,12,22,54,6,6,null,3720,1,22,57,12,7,null,3900,24,1,65,8,2]
[10019087,"CITROEN U.K. LIMITED","Private Sector Public Funded",130,0,0,0,36,64,null,120,13,37,0,34,16,null,130,0,29,48,0,23]
[10001452,"CITY AND ISLINGTON COLLEGE","General FE College incl Tertiary",7710,16,38,21,22,3,null,6190,18,36,12,30,3,null,4810,24,14,35,16,11]
[10001457,"CITY COLLEGE BRIGHTON AND HOVE","General FE College incl Tertiary",2400,21,11,14,33,21,null,2100,5,16,37,28,15,null,1400,5,8,47,33,8]
[10001458,"CITY COLLEGE COVENTRY","General FE College incl Tertiary",1910,6,7,13,23,51,null,1490,8,31,36,7,19,null,1110,10,22,16,30,22]
[10004772,"CITY COLLEGE NORWICH","General FE College incl Tertiary",2220,8,7,29,2,55,null,1760,3,1,22,31,43,null,1240,10,10,24,48,8]
[10009263,"CITY COLLEGE NOTTINGHAM","Private Sector Public Funded",".",".",".",".",".",".",null,"x","x","x","x","x","x",null,20,100,0,0,0,0]
[10005128,"CITY COLLEGE PLYMOUTH","General FE College incl Tertiary",3810,4,11,41,27,16,null,2770,9,12,8,33,40,null,2400,3,17,16,30,34]
[10019383,"CITY GATEWAY","Private Sector Public Funded",320,23,28,4,29,16,null,270,36,19,36,4,4,null,190,70,30,0,0,0]
[10037669,"CITY GATEWAY 14-19 PROVISION","Other","x","x","x","x","x","x",null,10,100,0,0,0,0,null,50,0,0,100,0,0]
[10001467,"CITY OF BRISTOL COLLEGE","General FE College incl Tertiary",8870,5,7,45,30,13,null,6140,12,12,25,19,32,null,5120,2,39,10,23,25]
[10001474,"CITY OF STOKE-ON-TRENT SIXTH FORM COLLEGE","Other","x","x","x","x","x","x",null,"x","x","x","x","x","x",null,"x","x","x","x","x","x"]
[10001476,"CITY OF WESTMINSTER COLLEGE","General FE College incl Tertiary",3640,48,17,2,26,6,null,3470,45,15,8,5,27,null,2980,38,20,36,1,5]
[10007578,"CITY OF WOLVERHAMPTON COLLEGE","General FE College incl Tertiary",5960,16,26,20,27,11,null,4120,27,19,34,10,9,null,3110,20,15,34,22,9]
[10001477,"CITY OF YORK COUNCIL","Other Public Funded",1050,51,0,7,25,17,null,680,18,3,13,46,20,null,480,7,63,12,7,11]
[10001488,"CLARKSON EVANS LIMITED","Private Sector Public Funded",50,0,0,0,0,100,null,".",".",".",".",".",".",null,".",".",".",".",".","."]
[10025390,"CLARKSON EVANS TRAINING LIMITED","Private Sector Public Funded",".",".",".",".",".",".",null,90,0,0,0,100,0,null,80,0,0,0,100,0]
[10001492,"CLAVERHAM COMMUNITY COLLEGE","Other",20,0,0,100,0,0,null,".",".",".",".",".",".",null,".",".",".",".",".","."]
[10001503,"CLEVELAND COLLEGE OF ART AND DESIGN","Special Colleges",60,18,0,0,51,31,null,50,37,0,0,0,63,null,60,0,0,0,84,16]
[10005775,"CLEVELAND YOUTH ASSOCIATION","Private Sector Public Funded",60,0,0,0,0,100,null,50,0,0,46,0,54,null,70,21,32,47,0,0]
[10001535,"COLCHESTER INSTITUTE","General FE College incl Tertiary",3920,11,19,9,36,25,null,3040,13,18,6,32,31,null,2500,18,14,24,15,29]
[10001538,"COLEG ELIDYR","Private Sector Public Funded","x","x","x","x","x","x",null,".",".",".",".",".",".",null,"x","x","x","x","x","x"]
[10001548,"COLLEGE OF HARINGEY, ENFIELD AND NORTH-EAST LONDON, THE","General FE College incl Tertiary",14900,52,18,7,3,21,null,11850,8,49,39,3,1,null,8640,33,7,5,18,37]
[10001549,"COLLEGE OF NORTH WEST LONDON, THE","General FE College incl Tertiary",4980,7,38,32,14,9,null,5570,23,35,16,23,3,null,6430,11,29,34,23,3]
[10008915,"COMMON COUNCIL OF THE CITY OF LONDON","Other Public Funded",150,59,0,0,26,14,null,170,93,7,0,0,0,null,140,37,0,0,45,18]
[10002006,"COMMUNICATION SPECIALIST COLLEGE -  DONCASTER","Private Sector Public Funded","x","x","x","x","x","x",null,"x","x","x","x","x","x",null,"x","x","x","x","x","x"]
[10032017,"COMMUNITY LEARNING IN PARTNERSHIP (CLIP) CIC","Private Sector Public Funded",".",".",".",".",".",".",null,".",".",".",".",".",".",null,"x","x","x","x","x","x"]
[10001602,"COMMUNITY TRAINING SERVICES LIMITED","Private Sector Public Funded",1520,74,3,10,0,13,null,1380,75,10,12,3,0,null,1350,57,24,0,14,5]
[10024317,"COMPASS GROUP, UK AND IRELAND LIMITED","Private Sector Public Funded",420,17,0,13,0,70,null,360,42,0,0,0,58,null,210,0,31,0,49,20]
[10009120,"CONDOVER COLLEGE LIMITED","Private Sector Public Funded",10,100,0,0,0,0,null,"x","x","x","x","x","x",null,10,100,0,0,0,0]
[10033482,"CONSORTIA TRAINING LIMITED","Private Sector Public Funded",120,56,31,0,0,13,null,100,0,60,0,0,40,null,150,36,0,0,0,64]
[10033547,"CONSORTIUM OF VOCATIONAL AND EDUCATIONAL TRAINERS LIMITED","Private Sector Public Funded",230,23,0,14,0,64,null,150,18,10,0,46,26,null,170,0,53,0,15,32]
[10032547,"CORDANT GROUP PLC","Private Sector Public Funded",170,0,8,9,32,51,null,".",".",".",".",".",".",null,".",".",".",".",".","."]
[10001696,"CORNWALL COLLEGE","General FE College incl Tertiary",5360,18,25,20,15,22,null,4680,25,14,14,34,13,null,3910,5,35,23,15,23]
[10001705,"COULSDON SIXTH FORM COLLEGE","Other","x","x","x","x","x","x",null,"x","x","x","x","x","x",null,"x","x","x","x","x","x"]
[10001710,"COUNCIL OF THE ISLES OF SCILLY","Other Public Funded","x","x","x","x","x","x",null,"x","x","x","x","x","x",null,".",".",".",".",".","."]
[10002064,"COUNTY DURHAM COUNCIL","Other Public Funded",1090,28,56,0,6,10,null,1300,51,0,5,43,1,null,1010,74,13,0,2,11]
[10001309,"COVENTRY AND WARWICKSHIRE CHAMBERS OF COMMERCE TRAINING LIMITED","Private Sector Public Funded",820,12,13,14,8,54,null,810,23,0,6,13,59,null,560,47,0,0,3,50]
[10001723,"COVENTRY CITY COUNCIL","Other Public Funded",2610,1,0,33,43,23,null,2690,2,21,29,42,7,null,2310,4,5,43,45,3]
[10001726,"COVENTRY UNIVERSITY","Other Public Funded",30,56,0,0,0,44,null,10,0,0,0,0,100,null,"x","x","x","x","x","x"]
[10001736,"CRACKERJACK TRAINING LIMITED","Private Sector Public Funded",180,100,0,0,0,0,null,290,59,22,11,0,8,null,180,24,69,0,6,0]
[10001743,"CRAVEN COLLEGE","General FE College incl Tertiary",2790,12,14,7,35,32,null,2540,11,23,28,2,36,null,1960,10,1,33,19,37]
[10023901,"CREATIVE PROCESS","Private Sector Public Funded",10,100,0,0,0,0,null,110,0,49,0,51,0,null,100,85,0,0,0,15]
[10001778,"CROYDON COLLEGE","General FE College incl Tertiary",4020,6,2,7,56,29,null,2690,3,9,13,45,29,null,2670,4,2,61,5,28]
[10003989,"CROYDON LONDON BOROUGH COUNCIL","Other Public Funded",3050,6,59,13,18,3,null,2700,8,50,30,12,0,null,2410,4,50,40,4,1]
[10001786,"CSM CONSULTING LIMITED","Private Sector Public Funded",1090,6,0,55,29,10,null,480,15,24,35,0,27,null,320,9,69,4,18,0]
[10001174,"CT SKILLS LIMITED","Private Sector Public Funded",2630,21,12,9,53,5,null,2010,20,14,5,15,45,null,1720,15,10,6,14,56]
[10007911,"CTC KINGSHURST ACADEMY","Other Public Funded",70,0,14,0,0,86,null,".",".",".",".",".",".",null,"x","x","x","x","x","x"]
[10001800,"CUMBRIA COUNTY COUNCIL","Other Public Funded",1700,70,1,5,5,20,null,1340,47,16,7,31,0,null,930,26,0,9,22,42]
[10001997,"D M T BUSINESS SERVICES LTD","Private Sector Public Funded",110,64,12,0,12,11,null,100,0,27,13,0,60,null,70,35,0,18,19,28]
[10031146,"D MANTLE LIMITED","Private Sector Public Funded",10,100,0,0,0,0,null,30,0,62,0,0,38,null,90,28,0,0,31,41]
[10035656,"D.K.B. LEASING LIMITED","Private Sector Public Funded",".",".",".",".",".",".",null,".",".",".",".",".",".",null,"x","x","x","x","x","x"]
[10001831,"DAMAR LIMITED","Private Sector Public Funded",460,0,0,0,0,100,null,510,0,2,69,22,7,null,560,0,2,26,60,12]
[10001848,"DARLINGTON BOROUGH COUNCIL","Other Public Funded",240,34,57,0,4,5,null,190,63,0,0,37,0,null,270,23,25,36,13,4]
[10001850,"DARLINGTON COLLEGE","General FE College incl Tertiary",4620,11,58,11,1,20,null,3140,24,35,15,13,12,null,2680,54,12,16,2,16]
[10001828,"DART LIMITED","Private Sector Public Funded",190,13,35,0,24,28,null,160,6,0,37,0,57,null,260,18,40,24,0,18]
[10001869,"DAVIDSON TRAINING UK LIMITED","Private Sector Public Funded",290,87,13,0,0,0,null,220,93,0,7,0,0,null,270,74,11,15,0,0]
[10022117,"DAWN HODGE ASSOCIATES LIMITED","Private Sector Public Funded",430,12,0,75,0,13,null,540,32,47,0,0,21,null,620,4,0,0,0,96]
[10001883,"DE MONTFORT UNIVERSITY","Other Public Funded",30,0,0,0,0,100,null,30,0,0,0,0,100,null,30,0,0,0,0,100]
[10001897,"DEARNE VALLEY COLLEGE","General FE College incl Tertiary",670,38,5,16,36,4,null,670,51,3,21,2,23,null,630,12,8,22,49,8]
[10005109,"DERBY BUSINESS COLLEGE LIMITED","Private Sector Public Funded","x","x","x","x","x","x",null,"x","x","x","x","x","x",null,30,0,0,0,0,100]
[10001918,"DERBY CITY COUNCIL","Other Public Funded",1590,13,41,16,20,9,null,1570,19,21,42,0,18,null,1240,2,44,29,6,18]
[10001919,"DERBY COLLEGE","General FE College incl Tertiary",9060,29,24,4,23,20,null,7310,12,25,18,28,17,null,6210,16,32,33,5,14]
[10007922,"DERBY SKILLBUILD","Private Sector Public Funded",".",".",".",".",".",".",null,"x","x","x","x","x","x",null,"x","x","x","x","x","x"]
[10001927,"DERBYSHIRE AND NOTTINGHAMSHIRE CHAMBER OF COMMERCE AND INDUSTRY","Private Sector Public Funded",240,44,0,48,0,8,null,180,13,0,0,13,74,null,140,14,11,0,0,75]
[10001928,"DERBYSHIRE COUNTY COUNCIL","Other Public Funded",3300,3,25,21,21,30,null,2350,0,30,16,25,28,null,2040,2,40,2,23,33]
[10001929,"DERWEN COLLEGE","Other Public Funded",50,100,0,0,0,0,null,40,100,0,0,0,0,null,30,100,0,0,0,0]
[10001934,"DERWENTSIDE COLLEGE","General FE College incl Tertiary",5300,7,4,36,41,13,null,3970,16,32,34,1,16,null,3230,11,21,53,2,14]
[10001944,"DEVELOPING INITIATIVES FOR SUPPORT IN THE COMMUNITY","Private Sector Public Funded",".",".",".",".",".",".",null,"x","x","x","x","x","x",null,".",".",".",".",".","."]
[10001951,"DEVON COUNTY COUNCIL","Other Public Funded",2980,32,37,0,13,18,null,1930,65,9,0,16,10,null,1230,51,4,10,22,12]
[10024714,"DHL INTERNATIONAL (UK) LIMITED","Private Sector Public Funded",20,100,0,0,0,0,null,70,0,0,0,0,100,null,50,0,0,100,0,0]
[10001967,"DIDAC LIMITED","Private Sector Public Funded",90,30,38,0,0,32,null,110,9,17,0,25,49,null,130,0,0,17,48,34]
[10001971,"DIMENSIONS TRAINING SOLUTIONS LIMITED","Private Sector Public Funded",100,78,0,0,0,22,null,110,79,21,0,0,0,null,160,40,10,38,12,0]
[10002005,"DONCASTER COLLEGE","General FE College incl Tertiary",3940,20,2,20,11,46,null,3400,18,15,21,12,34,null,2990,14,15,32,21,17]
[10002008,"DONCASTER METROPOLITAN BOROUGH COUNCIL","Other Public Funded",120,35,28,11,18,8,null,".",".",".",".",".",".",null,100,0,0,75,0,25]
[10002009,"DONCASTER ROTHERHAM AND DISTRICT MOTOR TRADES GROUP TRAINING ASSOCIATION LIMITED","Private Sector Public Funded",110,40,0,0,0,60,null,100,35,0,0,38,27,null,110,48,0,0,0,52]
[10004399,"DOOSAN BABCOCK LIMITED","Private Sector Public Funded",70,100,0,0,0,0,null,70,100,0,0,0,0,null,60,100,0,0,0,0]
[10009069,"DORTON COLLEGE","Private Sector Public Funded",".",".",".",".",".",".",null,"x","x","x","x","x","x",null,"x","x","x","x","x","x"]
[10007924,"DUDLEY COLLEGE","General FE College incl Tertiary",5110,38,17,25,18,2,null,4460,12,41,20,20,7,null,3300,27,15,21,25,12]
[10002054,"DUDLEY METROPOLITAN BOROUGH COUNCIL","Other Public Funded",200,79,0,0,0,21,null,130,9,0,11,80,0,null,110,0,71,18,0,10]
[10010648,"E.H.BOOTH & CO.,LIMITED","Private Sector Public Funded",40,0,0,0,0,100,null,".",".",".",".",".",".",null,".",".",".",".",".","."]
[10023793,"E.ON UK PLC","Private Sector Public Funded",10,0,0,100,0,0,null,20,0,0,0,100,0,null,20,0,0,0,0,100]
[10002085,"E.QUALITY TRAINING LIMITED","Private Sector Public Funded","x","x","x","x","x","x",null,"x","x","x","x","x","x",null,"x","x","x","x","x","x"]
[10002088,"EAGIT LTD.","Private Sector Public Funded",90,0,0,0,74,26,null,".",".",".",".",".",".",null,".",".",".",".",".","."]
[10009206,"EALING LONDON BOROUGH COUNCIL","Other Public Funded",460,82,0,3,0,16,null,340,100,0,0,0,0,null,100,69,0,0,31,0]
[10002094,"EALING, HAMMERSMITH & WEST LONDON COLLEGE","General FE College incl Tertiary",10270,29,28,5,35,4,null,10120,17,65,3,12,2,null,9090,8,26,14,43,8]
[10002107,"EAST BERKSHIRE COLLEGE","General FE College incl Tertiary",3250,7,4,19,18,53,null,2950,7,7,17,57,12,null,2380,8,8,74,4,7]
[10002111,"EAST DURHAM COLLEGE","General FE College incl Tertiary",3080,47,10,11,6,27,null,2450,13,18,19,22,29,null,1780,28,5,22,7,38]
[10006570,"EAST KENT COLLEGE","General FE College incl Tertiary",2380,26,44,17,7,7,null,2510,42,46,3,9,0,null,1750,46,20,21,5,7]
[10002471,"EAST LINDSEY INFORMATION TECHNOLOGY CENTRE","Private Sector Public Funded",260,21,12,29,34,4,null,220,15,0,46,0,39,null,230,0,17,54,17,12]
[10002118,"EAST LONDON ADVANCED TECHNOLOGY TRAINING","Private Sector Public Funded",360,72,7,0,8,13,null,320,68,14,8,0,10,null,320,50,19,19,6,6]
[10002122,"EAST NORFOLK SIXTH FORM COLLEGE","Other","x","x","x","x","x","x",null,20,0,0,0,100,0,null,"x","x","x","x","x","x"]
[10002126,"EAST RIDING COLLEGE","General FE College incl Tertiary",1760,35,10,9,6,41,null,1520,8,25,3,10,54,null,1220,25,3,7,0,65]
[10008919,"EAST RIDING OF YORKSHIRE COUNCIL","Other Public Funded",1090,1,54,4,10,31,null,640,40,7,26,8,20,null,610,39,0,28,15,18]
[10002130,"EAST SURREY COLLEGE","General FE College incl Tertiary",1640,12,6,15,54,12,null,1320,2,1,27,38,32,null,630,8,17,22,31,22]
[10002143,"EASTLEIGH COLLEGE","General FE College incl Tertiary",8140,12,10,20,32,26,null,8130,25,16,8,25,26,null,7770,34,9,20,9,27]
[10037344,"EASTON AND OTLEY COLLEGE","Special Colleges",2160,5,6,9,40,39,null,1300,4,9,7,36,44,null,610,2,0,48,17,33]
[10004177,"ECONOMIC SOLUTIONS LIMITED","Private Sector Public Funded",4380,11,18,15,17,40,null,4250,19,26,14,37,4,null,3660,19,10,15,50,6]
[10019914,"EDEN COLLEGE OF HUMAN RESOURCE DEVELOPMENT AND MANAGEMENT STUDIES LIMITED","Private Sector Public Funded",".",".",".",".",".",".",null,".",".",".",".",".",".",null,"x","x","x","x","x","x"]
[10027766,"EDEN TRAINING SOLUTIONS LIMITED","Private Sector Public Funded",190,5,13,0,25,56,null,200,24,0,27,15,35,null,440,25,20,12,13,30]
[10002186,"EDUCATION & YOUTH SERVICES LIMITED","Private Sector Public Funded",1300,10,11,0,0,78,null,1040,31,20,0,37,12,null,660,49,8,38,0,5]
[10002345,"EDUCATION AND SERVICES FOR PEOPLE WITH AUTISM","Private Sector Public Funded",20,0,0,0,100,0,null,"x","x","x","x","x","x",null,"x","x","x","x","x","x"]
[10002187,"EDUCATION AND TRAINING SKILLS LTD","Private Sector Public Funded",180,0,28,0,0,72,null,160,0,0,0,0,100,null,170,25,0,14,0,60]
[10001298,"EDUCATION DEVELOPMENT TRUST","Private Sector Public Funded","x","x","x","x","x","x",null,".",".",".",".",".",".",null,".",".",".",".",".","."]
[10025384,"EEF LIMITED","Private Sector Public Funded",40,0,0,0,0,100,null,90,12,0,0,0,88,null,110,0,0,0,0,100]
[10002214,"ELFRIDA RATHBONE CAMDEN - LEIGHTON EDUCATION PROJECT","Private Sector Public Funded","x","x","x","x","x","x",null,10,0,0,0,0,100,null,10,0,0,100,0,0]
[10019194,"ELMFIELD TRAINING LTD","Private Sector Public Funded",740,6,19,7,16,52,null,".",".",".",".",".",".",null,".",".",".",".",".","."]
[10031331,"ELMS ASSOCIATES LTD","Private Sector Public Funded",".",".",".",".",".",".",null,".",".",".",".",".",".",null,10,0,0,0,0,100]
[10023898,"ENABLING DEVELOPMENT OPPORTUNITIES LTD","Private Sector Public Funded",".",".",".",".",".",".",null,10,0,0,0,0,100,null,40,0,0,34,0,66]
[10002260,"ENFIELD LONDON BOROUGH COUNCIL","Other Public Funded",290,82,0,18,0,0,null,240,35,44,0,0,21,null,160,14,73,0,0,13]
[10003402,"ENGINEERING TRUST TRAINING LIMITED","Private Sector Public Funded",40,0,0,100,0,0,null,30,100,0,0,0,0,null,70,0,0,0,0,100]
[10013548,"ENGLAND AND WALES CRICKET BOARD LIMITED","Private Sector Public Funded",70,100,0,0,0,0,null,50,0,100,0,0,0,null,60,100,0,0,0,0]
[10008920,"ENHAM TRUST","Private Sector Public Funded","x","x","x","x","x","x",null,"x","x","x","x","x","x",null,"x","x","x","x","x","x"]
[10032393,"ENLIGHTENMENT PARTNERSHIP LIMITED","Private Sector Public Funded",250,56,9,0,0,35,null,130,18,32,19,0,31,null,".",".",".",".",".","."]
[10002297,"EPPING FOREST COLLEGE","General FE College incl Tertiary",790,16,23,5,9,47,null,960,6,5,17,32,41,null,550,24,3,51,2,19]
[10044028,"EQL SOLUTIONS LIMITED","Private Sector Public Funded",1990,17,9,11,57,6,null,1650,39,7,43,7,5,null,1830,40,16,28,13,3]
[10034309,"ESG (SKILLS) LIMITED","Private Sector Public Funded",10280,19,48,31,1,0,null,7430,6,64,22,8,1,null,6260,23,21,36,19,0]
[10002314,"ESHER COLLEGE","Other","x","x","x","x","x","x",null,".",".",".",".",".",".",null,".",".",".",".",".","."]
[10002327,"ESSEX COUNTY COUNCIL","Other Public Funded",4960,3,20,13,52,12,null,2880,17,7,27,27,22,null,2590,12,33,25,18,12]
[10002078,"E-TRAINING LIMITED","Private Sector Public Funded",230,19,0,0,39,42,null,180,64,0,0,14,22,null,190,6,43,0,15,35]
[10019037,"EVENTS STEWARDING, TRAINING AND CONSULTANCY LTD","Private Sector Public Funded",110,40,12,0,0,49,null,".",".",".",".",".",".",null,".",".",".",".",".","."]
[10002368,"EXEMPLAS HOLDINGS LIMITED","Private Sector Public Funded",330,16,31,24,0,30,null,290,55,20,0,0,25,null,120,32,10,10,0,48]
[10002370,"EXETER COLLEGE","General FE College incl Tertiary",2720,5,3,20,37,36,null,2350,5,8,4,8,75,null,1820,12,2,7,12,67]
[10024771,"EXETER ROYAL ACADEMY FOR DEAF EDUCATION","Private Sector Public Funded",30,100,0,0,0,0,null,"x","x","x","x","x","x",null,10,0,100,0,0,0]
[10003231,"EXG LIMITED","Private Sector Public Funded",3240,19,60,0,0,21,null,3570,100,0,0,0,0,null,1930,100,0,0,0,0]
[10041170,"EXPANSE GROUP LTD","Private Sector Public Funded",".",".",".",".",".",".",null,".",".",".",".",".",".",null,"x","x","x","x","x","x"]
[10002375,"EXPEDIENT TRAINING SERVICES LIMITED","Private Sector Public Funded",270,23,10,0,63,4,null,500,3,89,0,0,8,null,20,100,0,0,0,0]
[10002387,"F1 COMPUTER SERVICES & TRAINING LIMITED","Private Sector Public Funded","x","x","x","x","x","x",null,".",".",".",".",".",".",null,".",".",".",".",".","."]
[10002396,"FAIRFIELD FARM COLLEGE (FAIRFIELD FARM TRUST)","Private Sector Public Funded","x","x","x","x","x","x",null,"x","x","x","x","x","x",null,"x","x","x","x","x","x"]
[10007928,"FAREHAM COLLEGE","General FE College incl Tertiary",1250,13,31,30,4,22,null,1050,20,22,14,22,22,null,760,20,9,22,15,35]
[10002407,"FAREPORT TRAINING ORGANISATION LIMITED","Private Sector Public Funded",340,10,14,0,32,45,null,280,24,14,6,51,5,null,330,28,14,7,15,36]
[10002409,"FARLEIGH FURTHER EDUCATION COLLEGE - FROME","Other Public Funded",".",".",".",".",".",".",null,"x","x","x","x","x","x",null,"x","x","x","x","x","x"]
[10002412,"FARNBOROUGH COLLEGE OF TECHNOLOGY","General FE College incl Tertiary",1220,0,7,3,6,84,null,1040,0,12,24,24,39,null,940,3,16,19,10,53]
[10012865,"FARRIERS REGISTRATION COUNCIL","Other Public Funded",50,0,0,0,0,100,null,".",".",".",".",".",".",null,".",".",".",".",".","."]
[10009213,"FASHION RETAIL ACADEMY","Private Sector Public Funded",50,100,0,0,0,0,null,50,28,0,0,0,72,null,30,0,0,0,0,100]
[10020022,"FINMECCANICA UK LIMITED","Private Sector Public Funded",40,0,0,0,0,100,null,20,0,0,0,100,0,null,20,0,0,0,0,100]
[10002463,"FINNING (UK) LTD.","Private Sector Public Funded",20,100,0,0,0,0,null,30,0,0,0,39,61,null,40,0,0,0,0,100]
[10008641,"FIRCROFT COLLEGE OF ADULT EDUCATION","Special Colleges",610,73,0,21,6,0,null,660,90,0,0,6,4,null,620,86,0,14,0,0]
[10010571,"FIRST CITY TRAINING LIMITED","Private Sector Public Funded",150,7,0,0,33,60,null,90,0,0,29,0,71,null,190,10,0,0,63,27]
[10002483,"FIRST RUNG LIMITED","Private Sector Public Funded",10,0,0,100,0,0,null,30,0,0,0,100,0,null,60,0,0,0,0,100]
[10038911,"FIRST4SKILLS LIMITED","Private Sector Public Funded",5020,6,55,23,3,13,null,4070,8,27,52,5,7,null,3480,19,49,3,18,11]
[10002424,"FNTC TRAINING AND CONSULTANCY LIMITED","Private Sector Public Funded",310,40,0,0,46,13,null,250,18,0,71,0,11,null,310,18,28,0,12,42]
[10009687,"FOCUS TRAINING & DEVELOPMENT LTD","Private Sector Public Funded",630,10,10,0,2,79,null,720,24,7,2,0,66,null,520,10,10,0,28,52]
[10026590,"FOCUS TRAINING (SW) LIMITED","Private Sector Public Funded",730,29,0,4,23,44,null,430,14,7,31,0,48,null,320,33,15,8,0,44]
[10010401,"FOCUS TRAINING LIMITED","Private Sector Public Funded",".",".",".",".",".",".",null,"x","x","x","x","x","x",null,120,0,0,0,87,13]
[10001230,"FORSTER COMMUNITY COLLEGE LIMITED","Private Sector Public Funded",420,55,26,0,19,0,null,400,100,0,0,0,0,null,290,55,45,0,0,0]
[10002554,"FOUR COUNTIES TRAINING LIMITED","Private Sector Public Funded",280,21,4,0,0,75,null,730,12,2,0,0,86,null,".",".",".",".",".","."]
[10002560,"FOXES ACADEMY","Private Sector Public Funded",20,100,0,0,0,0,null,10,100,0,0,0,0,null,".",".",".",".",".","."]
[10002565,"FRANCESCO GROUP (HOLDINGS) LIMITED","Private Sector Public Funded",100,0,0,38,0,62,null,130,0,0,0,0,100,null,140,0,0,0,0,100]
[10002570,"FRANKLIN COLLEGE","Other",620,26,5,34,35,0,null,410,16,45,19,0,20,null,350,52,0,25,9,14]
[10025915,"FREEMAN COLLEGE","Private Sector Public Funded",20,0,0,100,0,0,null,"x","x","x","x","x","x",null,"x","x","x","x","x","x"]
[10002578,"FRIENDS CENTRE","Private Sector Public Funded",310,3,60,9,25,3,null,200,69,20,0,0,10,null,130,0,53,8,28,11]
[10002599,"FURNESS COLLEGE","General FE College incl Tertiary",1070,36,8,19,4,32,null,680,16,35,12,8,29,null,520,21,17,7,8,47]
[10002613,"FUTURE-WIZE LIMITED","Private Sector Public Funded",150,0,0,10,22,67,null,140,15,0,9,0,76,null,30,0,0,0,0,100]
[10002618,"G B TRAINING (UK) LTD","Private Sector Public Funded",120,22,0,48,0,30,null,380,71,21,0,0,8,null,700,43,38,0,0,20]
[10000789,"G.R. & M.M. BLACKLEDGE PLC","Private Sector Public Funded",110,0,0,0,31,69,null,80,20,0,0,80,0,null,90,0,61,27,0,12]
[10005728,"G4S CARE AND JUSTICE SERVICES (UK) LIMITED","Private Sector Public Funded",".",".",".",".",".",".",null,50,0,0,0,0,100,null,".",".",".",".",".","."]
[10002638,"GATESHEAD COLLEGE","General FE College incl Tertiary",9380,28,5,25,34,9,null,8440,8,20,42,21,10,null,6650,2,7,33,37,21]
[10002639,"GATESHEAD COUNCIL","Other Public Funded",1720,43,29,7,12,8,null,1530,66,9,13,4,8,null,1410,41,30,9,13,7]
[10002642,"GATEWAY SIXTH FORM COLLEGE","Other",100,35,0,10,0,55,null,110,11,0,11,24,54,null,100,0,0,0,10,90]
[10002655,"GENII ENGINEERING & TECHNOLOGY TRAINING LIMITED","Private Sector Public Funded",300,6,0,0,16,78,null,400,0,3,14,53,30,null,440,4,0,3,24,69]
[10012171,"GHQ TRAINING LIMITED","Private Sector Public Funded",80,0,18,16,66,0,null,170,13,53,0,0,34,null,200,31,15,33,14,7]
[10039882,"GI GROUP RECRUITMENT LTD","Private Sector Public Funded",".",".",".",".",".",".",null,210,11,82,0,0,7,null,290,81,0,0,0,19]
[10020867,"GK TRAINING SERVICES LIMITED","Private Sector Public Funded","x","x","x","x","x","x",null,".",".",".",".",".",".",null,".",".",".",".",".","."]
[10025914,"GLASSHOUSE COLLEGE","Private Sector Public Funded",20,0,100,0,0,0,null,"x","x","x","x","x","x",null,"x","x","x","x","x","x"]
[10002696,"GLOUCESTERSHIRE COLLEGE","General FE College incl Tertiary",5490,2,25,16,24,33,null,4220,14,9,40,10,27,null,3190,3,9,25,41,22]
[10002697,"GLOUCESTERSHIRE COUNTY COUNCIL","Other Public Funded",720,38,15,12,11,23,null,420,75,0,0,11,14,null,340,59,32,0,0,10]
[10002704,"GLOUCESTERSHIRE ENGINEERING TRAINING LIMITED","Private Sector Public Funded",".",".",".",".",".",".",null,70,0,0,0,0,100,null,70,0,0,0,0,100]
[10002710,"GODALMING COLLEGE","Other","x","x","x","x","x","x",null,"x","x","x","x","x","x",null,"x","x","x","x","x","x"]
[10019262,"GORDON FRANKS","Private Sector Public Funded",50,0,0,35,0,65,null,".",".",".",".",".",".",null,".",".",".",".",".","."]
[10043571,"GORDON FRANKS TRAINING LIMITED","Private Sector Public Funded",".",".",".",".",".",".",null,80,12,0,17,56,15,null,80,54,0,23,0,24]
[10036952,"GP STRATEGIES TRAINING LIMITED","Private Sector Public Funded",3610,37,3,25,27,8,null,4910,39,51,6,0,4,null,5040,4,65,26,0,5]
[10002743,"GRANTHAM COLLEGE","General FE College incl Tertiary",890,27,25,9,7,31,null,900,12,0,22,21,46,null,640,13,8,37,8,34]
[10002755,"GREAT YARMOUTH COLLEGE","General FE College incl Tertiary",1070,23,7,28,6,36,null,1030,12,3,30,21,33,null,720,13,5,41,2,39]
[10020561,"GREATER MERSEYSIDE LEARNING PROVIDERS' FEDERATION LIMITED","Private Sector Public Funded","x","x","x","x","x","x",null,30,38,0,0,62,0,null,"x","x","x","x","x","x"]
[10038020,"GREEN INC (EU) LIMITED","Private Sector Public Funded",".",".",".",".",".",".",null,"x","x","x","x","x","x",null,"x","x","x","x","x","x"]
[10002767,"GREENBANK PROJECT (THE)","Private Sector Public Funded",140,9,68,23,0,0,null,140,0,0,0,93,7,null,120,0,9,0,91,0]
[10026002,"GREENBANK SERVICES LIMITED","Private Sector Public Funded",90,25,63,0,0,12,null,10,0,100,0,0,0,null,"x","x","x","x","x","x"]
[10002770,"GREENHEAD COLLEGE","Other",".",".",".",".",".",".",null,"x","x","x","x","x","x",null,".",".",".",".",".","."]
[10002780,"GREENWICH COMMUNITY COLLEGE","General FE College incl Tertiary",2710,34,11,4,18,32,null,1870,23,16,28,15,18,null,1340,4,17,30,39,10]
[10007938,"GRIMSBY INSTITUTE OF FURTHER AND HIGHER EDUCATION","General FE College incl Tertiary",7100,21,15,21,21,22,null,6280,7,10,29,40,14,null,4680,2,32,7,50,9]
[10021185,"GROUNDWORK SOUTH TYNESIDE AND NEWCASTLE","Private Sector Public Funded",".",".",".",".",".",".",null,20,0,0,100,0,0,null,10,100,0,0,0,0]
[10032778,"GSS SOLUTIONS LIMITED","Private Sector Public Funded",".",".",".",".",".",".",null,"x","x","x","x","x","x",null,"x","x","x","x","x","x"]
[10033155,"GTA ENGLAND LIMITED","Private Sector Public Funded",390,4,11,19,46,20,null,".",".",".",".",".",".",null,".",".",".",".",".","."]
[10002815,"GUILDFORD COLLEGE","General FE College incl Tertiary",3000,12,4,28,38,18,null,3660,2,4,8,18,67,null,2440,1,63,14,4,18]
[10002835,"HACKNEY COMMUNITY COLLEGE","General FE College incl Tertiary",4090,41,17,15,16,11,null,2970,21,28,37,2,12,null,2650,37,13,15,23,12]
[10010792,"HACKNEY LONDON BOROUGH COUNCIL","Other Public Funded",840,89,0,0,0,11,null,870,91,0,0,0,9,null,680,71,23,2,0,4]
[10002841,"HADDON TRAINING LIMITED","Private Sector Public Funded",220,83,17,0,0,0,null,230,78,0,22,0,0,null,310,62,0,33,0,5]
[10002843,"HADLOW COLLEGE","Special Colleges",460,0,14,34,43,9,null,480,2,18,25,40,15,null,510,13,16,34,37,0]
[10002850,"HAIR ACADEMY SOUTH WEST LIMITED","Private Sector Public Funded",180,100,0,0,0,0,null,130,47,53,0,0,0,null,90,50,0,0,50,0]
[10002834,"HAIR AND BEAUTY INDUSTRY TRAINING LIMITED","Private Sector Public Funded",60,69,31,0,0,0,null,60,100,0,0,0,0,null,70,78,0,0,0,22]
[10002852,"HALESOWEN COLLEGE","General FE College incl Tertiary",1340,21,6,9,2,63,null,1380,55,9,14,6,16,null,710,23,27,9,20,21]
[10002861,"HALTON BOROUGH COUNCIL","Other Public Funded",500,29,49,17,5,0,null,470,57,0,16,24,2,null,320,75,0,0,0,25]
[10002868,"HAMMERSMITH AND FULHAM LONDON BOROUGH COUNCIL","Other Public Funded",1350,48,7,32,2,11,null,1010,49,36,0,13,3,null,820,11,69,0,7,13]
[10002872,"HAMPSHIRE COUNTY COUNCIL","Other Public Funded",370,37,28,12,9,13,null,120,52,0,9,39,0,null,120,69,15,16,0,0]
[10002859,"HARINGEY LONDON BOROUGH COUNCIL","Other Public Funded",1020,35,0,9,37,19,null,950,30,23,31,0,16,null,740,44,44,7,0,5]
[10040630,"HARINGEY SIXTH FORM CENTRE","Other Public Funded",10,100,0,0,0,0,null,20,0,0,100,0,0,null,10,0,100,0,0,0]
[10002896,"HARINGTON SCHEME LIMITED(THE)","Private Sector Public Funded",20,0,0,0,100,0,null,20,0,0,100,0,0,null,20,0,100,0,0,0]
[10002899,"HARLOW COLLEGE","General FE College incl Tertiary",3930,13,20,4,60,2,null,3210,16,32,46,2,3,null,2560,46,32,3,2,17]
[10002907,"HARROW COLLEGE","General FE College incl Tertiary",3670,33,35,6,5,21,null,3350,36,42,7,3,12,null,3160,29,13,31,19,9]
[10002910,"HARROW LONDON BOROUGH COUNCIL","Other Public Funded",400,81,0,0,0,19,null,380,96,4,0,0,0,null,250,100,0,0,0,0]
[10002916,"HARTLEPOOL BOROUGH COUNCIL","Other Public Funded",560,28,68,2,0,2,null,370,29,29,12,17,13,null,530,68,6,0,4,22]
[10002917,"HARTLEPOOL COLLEGE OF FURTHER EDUCATION","General FE College incl Tertiary",3190,60,8,8,13,10,null,2240,15,47,23,8,7,null,1790,2,7,65,14,11]
[10002918,"HARTLEPOOL SIXTH FORM COLLEGE","Other","x","x","x","x","x","x",null,"x","x","x","x","x","x",null,"x","x","x","x","x","x"]
[10002919,"HARTPURY COLLEGE","Special Colleges",1870,1,3,1,35,60,null,1690,2,0,2,45,51,null,1210,3,0,1,49,47]
[10002929,"HAVANT COLLEGE","Other",420,36,17,11,16,19,null,330,21,31,16,25,8,null,260,21,17,22,16,24]
[10002935,"HAVERING COLLEGE OF FURTHER AND HIGHER EDUCATION","General FE College incl Tertiary",4480,17,38,19,18,8,null,5520,19,33,15,14,19,null,3490,33,23,3,33,8]
[10003993,"HAVERING LONDON BOROUGH COUNCIL","Other Public Funded",1210,7,23,4,56,10,null,1060,43,4,5,40,8,null,980,37,21,28,5,9]
[10002937,"HAVERING SIXTH FORM COLLEGE","Other","x","x","x","x","x","x",null,"x","x","x","x","x","x",null,"x","x","x","x","x","x"]
[10009600,"HAWK MANAGEMENT (UK) LIMITED","Private Sector Public Funded",920,12,27,29,1,32,null,1090,57,14,0,23,6,null,1270,17,47,0,25,11]
[10002948,"HAYDON TRAINING SERVICES LIMITED","Private Sector Public Funded","x","x","x","x","x","x",null,".",".",".",".",".",".",null,"x","x","x","x","x","x"]
[10030120,"HAYS TRAVEL LIMITED","Private Sector Public Funded",100,0,25,0,36,39,null,60,0,0,0,27,73,null,110,0,0,0,0,100]
[10002960,"HEAD TO HEAD TRAINING","Private Sector Public Funded","x","x","x","x","x","x",null,"x","x","x","x","x","x",null,".",".",".",".",".","."]
[10021665,"HEALTH & SAFETY TRAINING LIMITED","Private Sector Public Funded",810,0,46,0,4,51,null,860,2,8,24,55,11,null,540,0,49,0,9,42]
[10022133,"HEALTH AND FITNESS EDUCATION LIMITED","Private Sector Public Funded",".",".",".",".",".",".",null,".",".",".",".",".",".",null,70,0,0,0,100,0]
[10041332,"HEALTH EDUCATION ENGLAND NORTH EAST","Other Public Funded",290,4,0,18,33,44,null,280,13,30,0,0,57,null,210,5,0,0,40,54]
[10002976,"HEART OF ENGLAND TRAINING LIMITED","Private Sector Public Funded",590,8,19,17,8,48,null,490,11,0,10,0,79,null,560,0,9,15,7,70]
[10007977,"HEART OF WORCESTERSHIRE COLLEGE","General FE College incl Tertiary",2710,12,4,9,38,37,null,4760,4,12,17,25,43,null,3660,3,6,21,55,15]
[10002979,"HEATHERCROFT TRAINING SERVICES LIMITED","Private Sector Public Funded",140,55,25,0,0,21,null,130,0,0,0,35,65,null,120,9,25,0,10,56]
[10003010,"HENLEY COLLEGE COVENTRY","General FE College incl Tertiary",2410,11,13,12,25,39,null,1670,10,29,12,3,45,null,1260,18,16,14,2,51]
[10012814,"HENSHAW'S COLLEGE","Other Public Funded",20,100,0,0,0,0,null,10,100,0,0,0,0,null,20,100,0,0,0,0]
[10003019,"HERBERT OF LIVERPOOL (TRAINING) LTD","Private Sector Public Funded",80,84,0,0,0,16,null,110,66,0,0,0,34,null,".",".",".",".",".","."]
[10003022,"HEREFORD COLLEGE OF ARTS","Special Colleges",60,0,0,0,0,100,null,60,0,0,63,37,0,null,50,0,100,0,0,0]
[10003021,"HEREFORD SIXTH FORM COLLEGE","Other",30,45,0,0,0,55,null,20,0,0,0,100,0,null,20,0,0,0,0,100]
[10003023,"HEREFORDSHIRE AND LUDLOW COLLEGE","General FE College incl Tertiary",2320,5,2,1,20,71,null,2160,2,5,7,3,82,null,2920,4,4,5,6,81]
[10003025,"HEREFORDSHIRE COUNCIL","Other Public Funded",110,26,0,26,28,21,null,180,57,10,0,23,10,null,170,86,0,14,0,0]
[10003026,"HEREFORDSHIRE GROUP TRAINING ASSOCIATION LIMITED","Private Sector Public Funded",220,0,55,0,0,45,null,160,0,0,0,66,34,null,210,66,0,0,0,34]
[10003029,"HEREWARD COLLEGE OF FURTHER EDUCATION","General FE College incl Tertiary",290,14,0,48,6,31,null,250,7,0,0,57,36,null,290,0,0,54,0,46]
[10003035,"HERTFORD REGIONAL COLLEGE","General FE College incl Tertiary",2440,21,3,32,28,15,null,2210,14,20,9,31,25,null,1770,13,9,19,52,7]
[10003039,"HERTFORDSHIRE COUNTY COUNCIL","Other Public Funded",1560,26,15,0,12,46,null,1100,34,10,0,56,0,null,760,38,13,49,0,0]
[10007945,"HIGHBURY COLLEGE PORTSMOUTH","General FE College incl Tertiary",3300,19,33,2,30,16,null,2300,23,23,6,18,30,null,2460,30,39,2,16,13]
[10003085,"HILL HOLT WOOD","Private Sector Public Funded",".",".",".",".",".",".",null,"x","x","x","x","x","x",null,"x","x","x","x","x","x"]
[10003088,"HILLCROFT COLLEGE (INCORPORATED) LIMITED","Special Colleges",380,87,0,0,0,13,null,280,94,0,0,0,6,null,270,87,0,4,0,10]
[10003089,"HILLINGDON LONDON BOROUGH COUNCIL","Other Public Funded",1070,6,38,31,23,2,null,940,5,28,44,22,1,null,730,10,82,0,5,3]
[10003093,"HILLINGDON TRAINING LIMITED","Private Sector Public Funded",290,77,9,0,0,15,null,120,16,0,36,0,48,null,100,59,25,0,0,16]
[10003094,"HILLS ROAD SIXTH FORM COLLEGE","Other",770,0,0,0,0,100,null,"x","x","x","x","x","x",null,20,0,0,100,0,0]
[10003103,"HINWICK HALL COLLEGE","Other Public Funded",10,100,0,0,0,0,null,".",".",".",".",".",".",null,".",".",".",".",".","."]
[10012467,"HIT TRAINING LTD","Private Sector Public Funded",10910,5,44,31,12,7,null,9410,2,39,31,18,9,null,8380,3,9,58,7,22]
[10044778,"HOB SALONS LIMITED","Private Sector Public Funded",".",".",".",".",".",".",null,"x","x","x","x","x","x",null,40,0,0,100,0,0]
[10003128,"HOLY CROSS COLLEGE","Other","x","x","x","x","x","x",null,"x","x","x","x","x","x",null,"x","x","x","x","x","x"]
[10003136,"HOMEFIELD COLLEGE","Private Sector Public Funded","x","x","x","x","x","x",null,20,100,0,0,0,0,null,20,100,0,0,0,0]
[10011941,"HONDA MOTOR EUROPE LIMITED","Private Sector Public Funded",60,0,54,0,46,0,null,80,0,0,0,64,36,null,60,47,0,0,0,53]
[10036333,"HOOPLE LTD","Private Sector Public Funded",390,17,0,43,18,21,null,290,18,30,0,0,52,null,230,0,0,21,17,62]
[10003146,"HOPWOOD HALL COLLEGE","General FE College incl Tertiary",4400,13,48,1,22,15,null,3240,1,38,47,3,11,null,2120,1,29,13,24,32]
[10003162,"HOSPITALITY TRAINING PARTNERSHIP (IOW) LIMITED","Private Sector Public Funded",710,7,45,15,5,28,null,510,27,35,8,0,29,null,570,15,23,18,0,44]
[10003165,"HOUNSLOW LONDON BOROUGH COUNCIL","Other Public Funded",1530,20,25,11,32,13,null,1100,32,48,20,0,1,null,1050,32,53,0,0,15]
[10005426,"HOUSE OF CLIVE (HAIR AND BEAUTY) LIMITED","Private Sector Public Funded",380,33,0,0,37,30,null,420,36,6,23,0,35,null,410,28,29,0,0,42]
[10029358,"HOUSING & CARE 21","Private Sector Public Funded",160,0,0,0,87,13,null,110,0,0,0,0,100,null,".",".",".",".",".","."]
[10011240,"HSBC BANK PLC","Private Sector Public Funded",470,0,0,0,0,100,null,250,0,0,0,91,9,null,280,0,0,0,85,15]
[10003188,"HUDDERSFIELD NEW COLLEGE","Other",10,100,0,0,0,0,null,"x","x","x","x","x","x",null,"x","x","x","x","x","x"]
[10003190,"HUDDERSFIELD TEXTILE TRAINING LIMITED","Private Sector Public Funded","x","x","x","x","x","x",null,10,0,100,0,0,0,null,20,45,0,55,0,0]
[10003192,"HUDSON & HUGHES TRAINING LIMITED","Private Sector Public Funded",220,0,0,74,0,26,null,260,16,44,13,0,27,null,130,79,0,21,0,0]
[10003193,"HUGH BAIRD COLLEGE","General FE College incl Tertiary",1660,23,14,26,19,19,null,1370,38,1,33,10,18,null,1070,11,36,19,22,12]
[10003197,"HULL BUSINESS TRAINING CENTRE LIMITED","Private Sector Public Funded",180,0,0,43,0,57,null,150,53,0,22,0,25,null,180,15,0,0,6,79]
[10003200,"HULL COLLEGE","General FE College incl Tertiary",9940,30,19,24,16,10,null,8080,38,29,10,13,10,null,6250,4,10,22,48,16]
[10003207,"HUMBER LEARNING CONSORTIUM","Private Sector Public Funded",40,100,0,0,0,0,null,330,32,25,22,20,0,null,230,54,0,33,0,13]
[10003206,"HUMBERSIDE ENGINEERING TRAINING ASSOCIATION LIMITED","Private Sector Public Funded",160,0,0,0,0,100,null,140,0,0,0,70,30,null,200,0,0,0,0,100]
[10007949,"HUNTINGDONSHIRE REGIONAL COLLEGE","General FE College incl Tertiary",3720,11,18,7,20,44,null,2860,6,12,26,44,12,null,1760,15,5,6,16,58]
[10003219,"HYA TRAINING LIMITED","Private Sector Public Funded","x","x","x","x","x","x",null,"x","x","x","x","x","x",null,"x","x","x","x","x","x"]
[10029116,"ICOCO TRAINING LIMITED","Private Sector Public Funded",10,0,0,0,0,100,null,".",".",".",".",".",".",null,".",".",".",".",".","."]
[10003240,"ICON VOCATIONAL TRAINING LIMITED","Private Sector Public Funded",500,3,0,0,27,69,null,390,0,0,47,3,50,null,480,0,0,0,24,76]
[10022627,"IMPACT LEARNING & DATA SOLUTIONS LIMITED","Private Sector Public Funded",270,6,0,0,0,94,null,360,42,0,21,37,0,null,910,40,0,28,28,4]
[10003279,"IN TOUCH CARE LIMITED","Private Sector Public Funded",350,19,0,0,0,81,null,160,0,0,0,0,100,null,220,56,32,0,0,12]
[10003280,"IN-COMM TRAINING AND BUSINESS SERVICES LIMITED","Private Sector Public Funded",".",".",".",".",".",".",null,".",".",".",".",".",".",null,110,0,0,51,0,49]
[10003281,"IN-COMM TRAINING SERVICES LIMITED","Private Sector Public Funded",70,25,15,0,0,59,null,90,0,0,41,0,59,null,".",".",".",".",".","."]
[10003289,"INDEPENDENT TRAINING SERVICES LIMITED","Private Sector Public Funded",230,37,16,6,0,40,null,220,55,0,11,34,0,null,350,0,34,25,10,31]
[10007755,"INGEUS TRAINING LIMITED","Private Sector Public Funded",2470,72,6,10,7,4,null,1680,61,8,5,6,19,null,880,5,17,29,37,13]
[10010940,"INSPIRE 2 INDEPENDENCE (I2I) LTD","Private Sector Public Funded",1140,88,0,8,0,4,null,650,80,0,4,0,15,null,560,71,0,4,6,19]
[10013106,"INSTITUTE OF SWIMMING LIMITED","Private Sector Public Funded",190,49,0,0,41,9,null,320,0,28,0,0,72,null,110,0,55,30,0,15]
[10003347,"INTEC BUSINESS COLLEGES LIMITED","Private Sector Public Funded",1390,0,13,0,74,14,null,1550,12,1,2,50,36,null,1080,5,0,27,56,12]
[10003354,"INTER TRAINING SERVICES LIMITED","Private Sector Public Funded",30,0,0,0,55,45,null,30,41,0,0,0,59,null,50,0,38,0,0,62]
[10013539,"INTERACTIVE DEVELOPMENT EDUCATION LIMITED","Private Sector Public Funded",270,0,19,19,40,21,null,290,12,16,15,5,52,null,270,0,32,25,13,30]
[10025078,"INTERSERVE (FACILITIES MANAGEMENT) LTD","Private Sector Public Funded","x","x","x","x","x","x",null,".",".",".",".",".",".",null,".",".",".",".",".","."]
[10034022,"INTROTRAIN (ACE) LIMITED","Private Sector Public Funded",70,0,26,49,0,25,null,80,0,27,0,0,73,null,140,0,43,0,0,57]
[10003382,"INTUITIONS LIMITED","Private Sector Public Funded",160,8,50,0,0,41,null,110,34,0,10,0,56,null,110,11,33,0,10,45]
[10003385,"IPS INTERNATIONAL LIMITED","Private Sector Public Funded",860,6,20,18,43,14,null,700,24,13,24,20,19,null,690,24,40,15,0,22]
[10003406,"ISLE OF WIGHT COLLEGE","General FE College incl Tertiary",2420,10,2,1,18,68,null,2240,11,1,9,38,41,null,1560,4,3,11,9,73]
[10003407,"ISLE OF WIGHT COUNCIL","Other Public Funded",210,84,0,16,0,0,null,50,0,38,62,0,0,null,80,0,0,37,51,12]
[10003414,"ISLINGTON LONDON BOROUGH COUNCIL","Other Public Funded",770,58,0,17,22,3,null,870,65,10,0,22,2,null,750,77,0,21,0,2]
[10027719,"ISS UK LIMITED","Private Sector Public Funded",40,50,0,0,0,50,null,"x","x","x","x","x","x",null,"x","x","x","x","x","x"]
[10003427,"ITCHEN COLLEGE","Other",200,10,35,16,40,0,null,160,7,25,0,30,37,null,110,73,10,0,0,17]
[10003430,"ITEC NORTH EAST LIMITED","Private Sector Public Funded",970,72,12,7,0,9,null,710,69,0,0,17,14,null,680,64,1,0,10,25]
[10036282,"ITS TRAINING LTD","Private Sector Public Funded",90,18,0,14,34,34,null,90,0,0,0,39,61,null,70,0,0,17,31,52]
[10033758,"IXION HOLDINGS (CONTRACTS) LIMITED","Private Sector Public Funded",2040,15,3,25,6,52,null,1850,27,15,0,3,55,null,2130,25,13,10,8,43]
[10027031,"J D WETHERSPOON PLC","Private Sector Public Funded",130,24,0,0,63,13,null,70,0,0,0,75,25,null,".",".",".",".",".","."]
[10019114,"JACKIE EVERETT","Private Sector Public Funded",".",".",".",".",".",".",null,".",".",".",".",".",".",null,"x","x","x","x","x","x"]
[10009671,"JAGUAR LAND ROVER HOLDINGS LIMITED","Private Sector Public Funded",90,40,60,0,0,0,null,90,53,0,47,0,0,null,150,10,0,0,35,55]
[10007951,"JANARD TRAINING AND ASSESSMENT CENTRE LIMITED","Private Sector Public Funded",150,51,0,0,0,49,null,170,0,53,0,0,47,null,60,0,0,28,0,72]
[10042190,"JANCETT CHILDCARE & JACE TRAINING LIMITED","Private Sector Public Funded",160,65,14,0,21,0,null,190,69,0,0,7,23,null,160,64,0,0,13,23]
[10003456,"JARVIS TRAINING MANAGEMENT LIMITED","Private Sector Public Funded",1540,58,7,10,12,13,null,1270,88,7,1,0,3,null,1320,76,1,14,0,9]
[10019314,"JBC COMPUTER TRAINING LIMITED","Private Sector Public Funded",".",".",".",".",".",".",null,20,0,100,0,0,0,null,20,100,0,0,0,0]
[10021254,"JFC  TRAINING COLLEGE LTD","Private Sector Public Funded",".",".",".",".",".",".",null,90,0,100,0,0,0,null,150,0,90,0,10,0]
[10006710,"JGA LIMITED","Private Sector Public Funded",350,21,0,35,5,39,null,300,55,0,0,0,45,null,510,91,3,0,2,4]
[10003471,"JIGSAW TRAINING LIMITED","Private Sector Public Funded",110,0,0,0,0,100,null,".",".",".",".",".",".",null,".",".",".",".",".","."]
[10003478,"JOBWISE TRAINING LIMITED","Private Sector Public Funded",380,0,25,35,0,40,null,380,52,3,6,25,14,null,280,11,5,33,40,11]
[10040271,"JOHN FRANK TRAINING LTD","Private Sector Public Funded",".",".",".",".",".",".",null,".",".",".",".",".",".",null,660,91,5,2,2,0]
[10003490,"JOHN LAING TRAINING LIMITED","Private Sector Public Funded",10,0,0,0,0,100,null,80,100,0,0,0,0,null,80,20,62,0,0,18]
[10003491,"JOHN LEGGOTT SIXTH FORM COLLEGE","Other",10,0,100,0,0,0,null,30,43,0,0,0,57,null,30,47,53,0,0,0]
[10003500,"JOHN RUSKIN COLLEGE","Other",70,33,43,0,0,24,null,270,23,35,16,5,21,null,710,70,17,3,0,10]
[10003508,"JOINT LEARNING PARTNERSHIP LIMITED","Private Sector Public Funded",1350,9,19,47,12,12,null,1320,46,7,10,19,17,null,1090,50,4,20,2,24]
[10003511,"JOSEPH CHAMBERLAIN SIXTH FORM COLLEGE","Other",530,86,2,0,3,9,null,980,62,0,0,10,28,null,830,75,0,22,0,3]
[10003526,"JTL","Private Sector Public Funded",1110,78,0,0,12,9,null,980,3,78,2,13,4,null,1080,0,79,0,14,7]
[10003529,"JUNIPER TRAINING LIMITED","Private Sector Public Funded","x","x","x","x","x","x",null,30,39,0,61,0,0,null,50,0,48,0,52,0]
[10033723,"K & G HAIR LLP","Private Sector Public Funded",90,72,0,0,0,28,null,110,84,0,0,0,16,null,60,76,0,0,0,24]
[10000446,"KAPLAN FINANCIAL LIMITED","Private Sector Public Funded",3350,6,47,0,34,12,null,3370,22,34,0,27,17,null,3030,21,0,25,4,49]
[10016742,"KATS LTD","Private Sector Public Funded",30,100,0,0,0,0,null,"x","x","x","x","x","x",null,".",".",".",".",".","."]
[10003571,"KEITS TRAINING SERVICES LTD","Private Sector Public Funded",690,35,13,24,17,10,null,700,22,11,25,26,16,null,720,60,14,21,0,5]
[10003558,"KENDAL COLLEGE","General FE College incl Tertiary",1240,2,24,22,2,51,null,920,14,7,6,24,48,null,880,5,6,0,26,63]
[10003564,"KENSINGTON AND CHELSEA COLLEGE","General FE College incl Tertiary",3160,28,32,19,0,21,null,2720,51,7,33,0,10,null,1450,63,11,14,6,5]
[10003570,"KENT COUNTY COUNCIL","Other Public Funded",3630,3,10,27,50,10,null,2760,2,12,38,36,12,null,2310,1,3,49,35,11]
[10030877,"KENTUCKY FRIED CHICKEN (GREAT BRITAIN) LIMITED","Private Sector Public Funded",110,0,0,0,0,100,null,100,0,0,0,0,100,null,100,0,0,0,77,23]
[10003593,"KEY TRAINING LIMITED","Private Sector Public Funded",1260,4,1,0,62,33,null,1290,6,0,0,57,37,null,1440,3,0,0,19,78]
[10003602,"KIDDERMINSTER COLLEGE","General FE College incl Tertiary",1350,18,21,2,34,26,null,".",".",".",".",".",".",null,".",".",".",".",".","."]
[10053960,"KIDDERMINSTER COLLEGE","General FE College incl Tertiary",".",".",".",".",".",".",null,".",".",".",".",".",".",null,880,10,2,40,26,22]
[10003624,"KING EDWARD VI COLLEGE NUNEATON","Other","x","x","x","x","x","x",null,"x","x","x","x","x","x",null,"x","x","x","x","x","x"]
[10003625,"KING EDWARD VI COLLEGE STOURBRIDGE","Other","x","x","x","x","x","x",null,"x","x","x","x","x","x",null,"x","x","x","x","x","x"]
[10003640,"KING GEORGE V COLLEGE","Other","x","x","x","x","x","x",null,"x","x","x","x","x","x",null,"x","x","x","x","x","x"]
[10003666,"KINGSBURY TRAINING CENTRE LIMITED","Private Sector Public Funded",".",".",".",".",".",".",null,".",".",".",".",".",".",null,"x","x","x","x","x","x"]
[10003674,"KINGSTON COLLEGE","General FE College incl Tertiary",1690,29,30,12,16,13,null,1210,24,32,11,18,15,null,1020,19,1,13,34,33]
[10003676,"KINGSTON MAURWARD COLLEGE","Special Colleges",980,23,39,4,5,29,null,690,5,21,30,10,33,null,420,6,8,5,57,25]
[10003198,"KINGSTON UPON HULL CITY COUNCIL","Other Public Funded",2430,20,8,35,17,21,null,2070,11,44,11,12,22,null,1520,12,4,50,21,13]
[10003688,"KIRKDALE INDUSTRIAL TRAINING SERVICES LIMITED","Private Sector Public Funded",100,0,49,0,0,51,null,90,43,0,0,57,0,null,120,0,0,0,48,52]
[10003189,"KIRKLEES COLLEGE","General FE College incl Tertiary",6670,18,10,45,11,16,null,5120,16,22,37,14,11,null,3890,2,42,19,32,5]
[10003692,"KIRKLEES METROPOLITAN COUNCIL","Other Public Funded",20,100,0,0,0,0,null,40,100,0,0,0,0,null,30,57,43,0,0,0]
[10003708,"KNOWSLEY COMMUNITY COLLEGE","General FE College incl Tertiary",1900,33,30,14,13,10,null,1350,56,12,2,16,15,null,1430,44,24,15,0,17]
[10003709,"KNOWSLEY METROPOLITAN BOROUGH COUNCIL","Other Public Funded",530,10,29,34,14,13,null,450,14,33,0,38,14,null,490,19,57,0,16,9]
[10003720,"KTS TRAINING (2002) LIMITED","Private Sector Public Funded","x","x","x","x","x","x",null,"x","x","x","x","x","x",null,"x","x","x","x","x","x"]
[10003724,"KWIK-FIT (GB) LIMITED","Private Sector Public Funded",220,0,0,100,0,0,null,160,0,92,0,0,8,null,90,0,100,0,0,0]
[10003728,"L.I.T.S. LIMITED","Private Sector Public Funded",40,0,0,0,46,54,null,40,0,0,0,50,50,null,20,0,0,0,0,100]
[10003744,"LAGAT LIMITED","Private Sector Public Funded",190,21,35,10,0,33,null,270,43,13,18,0,26,null,220,61,0,0,7,33]
[10003753,"LAKES COLLEGE WEST CUMBRIA","General FE College incl Tertiary",2640,41,18,5,26,9,null,2190,39,27,4,1,29,null,1570,17,15,15,21,32]
[10040375,"LAKESIDE EARLY ADULT PROVISION - LEAP COLLEGE (WARGRAVE HOUSE LTD)","Other Public Funded",".",".",".",".",".",".",null,"x","x","x","x","x","x",null,"x","x","x","x","x","x"]
[10003755,"LAMBETH COLLEGE","General FE College incl Tertiary",7440,6,46,22,7,19,null,7220,17,24,25,24,10,null,5250,7,31,50,9,3]
[10003995,"LAMBETH LONDON BOROUGH COUNCIL","Other Public Funded",1320,80,13,4,0,3,null,1020,83,0,0,3,14,null,900,55,43,0,0,1]
[10003765,"LANCASHIRE COUNTY COUNCIL","Other Public Funded",3060,53,21,14,7,6,null,2450,49,31,15,2,3,null,".",".",".",".",".","."]
[10003768,"LANCASTER AND MORECAMBE COLLEGE","General FE College incl Tertiary",2170,10,4,11,40,35,null,1690,2,19,6,40,33,null,1720,3,7,19,28,43]
[10003771,"LANCASTER TRAINING SERVICES LIMITED","Private Sector Public Funded",40,45,0,0,0,55,null,"x","x","x","x","x","x",null,50,0,0,46,0,54]
[10003774,"LANDMARKS","Private Sector Public Funded","x","x","x","x","x","x",null,"x","x","x","x","x","x",null,"x","x","x","x","x","x"]
[10003775,"LANGDON COLLEGE","Private Sector Public Funded",10,100,0,0,0,0,null,"x","x","x","x","x","x",null,"x","x","x","x","x","x"]
[10022654,"LAWN TENNIS ASSOCIATION LIMITED","Private Sector Public Funded",100,89,0,0,0,11,null,110,100,0,0,0,0,null,90,84,0,0,0,16]
[10027803,"LD TRAINING SERVICES LIMITED","Private Sector Public Funded",".",".",".",".",".",".",null,"x","x","x","x","x","x",null,110,100,0,0,0,0]
[10003808,"LEAGUE FOOTBALL EDUCATION","Private Sector Public Funded",640,100,0,0,0,0,null,600,100,0,0,0,0,null,630,100,0,0,0,0]
[10003816,"LEARNDIRECT LIMITED","Private Sector Public Funded",92360,16,7,63,5,8,null,78170,21,6,46,21,7,null,59390,15,63,21,0,0]
[10008935,"LEARNING CURVE (JAA) LIMITED","Private Sector Public Funded",1210,14,60,0,15,11,null,690,35,40,0,0,25,null,1530,8,23,31,14,24]
[10032740,"LEARNING SKILLS PARTNERSHIP LTD","Private Sector Public Funded",20,100,0,0,0,0,null,30,0,0,0,0,100,null,150,0,21,0,0,79]
[10024962,"LEEDS CITY COLLEGE","General FE College incl Tertiary",17350,12,37,13,26,12,null,15720,15,25,15,16,29,null,10710,17,9,11,22,40]
[10003853,"LEEDS CITY COUNCIL","Other Public Funded",20,100,0,0,0,0,null,60,100,0,0,0,0,null,10,0,0,0,100,0]
[10003854,"LEEDS COLLEGE OF ART","Other Public Funded",90,0,0,0,0,100,null,60,25,0,0,0,75,null,70,0,0,48,0,52]
[10003855,"LEEDS COLLEGE OF BUILDING","General FE College incl Tertiary",1880,7,2,51,30,10,null,1510,5,14,22,13,47,null,1320,1,38,22,30,8]
[10003866,"LEICESTER CITY COUNCIL","Other Public Funded",1900,18,64,1,5,12,null,1370,51,34,5,3,8,null,1300,20,14,50,1,15]
[10003867,"LEICESTER COLLEGE","General FE College incl Tertiary",15590,12,21,26,38,2,null,10790,13,22,38,18,9,null,8270,5,21,22,38,14]
[10003872,"LEICESTERSHIRE COUNTY COUNCIL","Other Public Funded",2460,0,0,53,28,19,null,2000,1,1,38,3,57,null,1920,1,11,3,69,17]
[10003889,"LESLIE FRANCES (HAIR FASHIONS) LIMITED","Private Sector Public Funded",90,0,0,0,0,100,null,80,46,25,0,0,29,null,80,0,0,0,84,16]
[10003895,"LEWISHAM LONDON BOROUGH COUNCIL","Other Public Funded",1240,10,29,54,1,6,null,1360,45,36,17,0,3,null,1270,7,66,0,19,8]
[10003894,"LEWISHAM SOUTHWARK COLLEGE","General FE College incl Tertiary",10850,9,37,27,23,4,null,9670,10,1,37,40,12,null,4880,19,23,45,12,1]
[10003899,"LEYTON SIXTH FORM COLLEGE","Other",10,0,0,100,0,0,null,10,0,0,0,100,0,null,10,0,0,0,100,0]
[10003909,"LIFESKILLS SOLUTIONS LIMITED","Private Sector Public Funded",200,13,13,0,67,7,null,370,0,0,19,33,49,null,360,20,50,8,0,23]
[10003915,"LIFETIME TRAINING GROUP LIMITED","Private Sector Public Funded",6550,1,49,29,5,16,null,8440,0,0,61,29,9,null,10050,0,13,59,10,18]
[10034315,"LIGA (UK) LTD","Private Sector Public Funded","x","x","x","x","x","x",null,40,76,0,0,0,24,null,110,27,0,54,0,19]
[10003928,"LINCOLN COLLEGE","General FE College incl Tertiary",5510,14,6,22,11,47,null,5020,8,21,21,27,23,null,3020,5,16,25,22,32]
[10003932,"LINCOLNSHIRE COUNTY COUNCIL","Other Public Funded",570,70,0,23,7,0,null,770,65,31,4,0,0,null,220,31,46,0,0,24]
[10003940,"LINKAGE COMMUNITY TRUST","Private Sector Public Funded",20,100,0,0,0,0,null,10,100,0,0,0,0,null,"x","x","x","x","x","x"]
[10032250,"LIONHEART IN THE COMMUNITY LIMITED","Private Sector Public Funded",".",".",".",".",".",".",null,".",".",".",".",".",".",null,490,15,0,74,10,0]
[10008354,"LITE (STOCKPORT) LIMITED","Private Sector Public Funded",60,0,0,0,39,61,null,60,0,42,0,0,58,null,70,0,72,0,0,28]
[10030252,"LIVERPOOL CHAMBER TRAINING LTD","Private Sector Public Funded",180,52,12,0,0,36,null,240,34,42,0,0,24,null,230,0,42,4,10,44]
[10003954,"LIVERPOOL CITY COUNCIL","Other Public Funded",1850,63,11,4,2,21,null,1540,69,3,8,0,20,null,1220,67,21,1,9,2]
[10003976,"LOCOMOTIVATION LTD.","Private Sector Public Funded",560,5,59,2,11,23,null,590,29,0,9,57,5,null,440,28,57,3,0,11]
[10022998,"LONDON BOROUGH OF SUTTON (ORCHARD HILL COLLEGE)","Other Public Funded",230,100,0,0,0,0,null,190,100,0,0,0,0,null,170,100,0,0,0,0]
[10006444,"LONDON BOROUGH OF SUTTON (SCOLA)","Other Public Funded",2600,8,27,25,40,0,null,1830,3,35,1,37,23,null,1610,17,23,0,57,3]
[10004032,"LONDON ELECTRONICS COLLEGE LIMITED","Private Sector Public Funded",60,17,48,17,0,17,null,30,100,0,0,0,0,null,200,63,11,0,0,26]
[10021684,"LONDON LEARNING CONSORTIUM COMMUNITY INTEREST COMPANY","Private Sector Public Funded",1690,48,33,1,3,15,null,1770,12,16,37,23,11,null,2140,59,5,0,28,8]
[10022507,"LONDON SKILLS & DEVELOPMENT NETWORK LIMITED","Private Sector Public Funded",880,50,13,5,14,19,null,1030,59,18,23,0,0,null,740,58,12,16,11,3]
[10024404,"LONDON VESTA COLLEGE LIMITED","Private Sector Public Funded","x","x","x","x","x","x",null,"x","x","x","x","x","x",null,"x","x","x","x","x","x"]
[10004088,"LONG ROAD SIXTH FORM COLLEGE","Other","x","x","x","x","x","x",null,"x","x","x","x","x","x",null,"x","x","x","x","x","x"]
[10008655,"LONGLEY PARK SIXTH FORM COLLEGE","Other",20,0,100,0,0,0,null,20,0,0,0,0,100,null,20,0,0,0,0,100]
[10012477,"LOOKFANTASTIC TRAINING LIMITED","Private Sector Public Funded",430,32,0,0,21,46,null,350,30,10,16,14,30,null,230,11,9,42,13,26]
[10004108,"LORETO COLLEGE","Other","x","x","x","x","x","x",null,"x","x","x","x","x","x",null,"x","x","x","x","x","x"]
[10004112,"LOUGHBOROUGH COLLEGE","General FE College incl Tertiary",4150,1,2,2,11,84,null,3200,2,4,12,19,63,null,2130,1,13,3,25,58]
[10004116,"LOWESTOFT COLLEGE","General FE College incl Tertiary",1040,7,18,18,23,34,null,730,18,26,5,26,24,null,710,20,19,20,12,29]
[10029916,"LOWESTOFT SIXTH FORM COLLEGE","Other","x","x","x","x","x","x",null,"x","x","x","x","x","x",null,"x","x","x","x","x","x"]
[10004124,"LUTON BOROUGH COUNCIL","Other Public Funded",840,41,33,3,6,15,null,670,57,14,4,16,9,null,720,44,32,10,0,14]
[10004125,"LUTON SIXTH FORM COLLEGE","Other","x","x","x","x","x","x",null,"x","x","x","x","x","x",null,"x","x","x","x","x","x"]
[10004440,"M I T SKILLS LIMITED","Private Sector Public Funded",620,70,3,0,12,15,null,530,25,45,0,0,30,null,600,14,31,0,19,36]
[10004144,"MACCLESFIELD COLLEGE","General FE College incl Tertiary",1000,1,36,25,19,19,null,870,5,15,23,28,29,null,740,8,32,13,5,42]
[10009491,"MAINSTREAM TRAINING LIMITED","Private Sector Public Funded",910,3,1,10,0,85,null,790,4,1,12,0,83,null,560,6,0,81,12,2]
[10004169,"MANAGEMENT AND PERSONNEL SERVICES LIMITED","Private Sector Public Funded",60,0,0,17,51,32,null,".",".",".",".",".",".",null,".",".",".",".",".","."]
[10004175,"MANCHESTER CITY COUNCIL","Other Public Funded",3440,12,66,0,12,10,null,2940,20,25,3,32,20,null,2480,5,76,4,0,16]
[10023139,"MANCHESTER COLLEGE, THE","General FE College incl Tertiary",10180,21,21,23,24,11,null,9110,17,24,30,21,9,null,7280,9,15,52,12,13]
[10004192,"MANOR TRAINING AND RESOURCE CENTRE LIMITED","Private Sector Public Funded",".",".",".",".",".",".",null,"x","x","x","x","x","x",null,".",".",".",".",".","."]
[10004181,"MANTRA LEARNING LIMITED","Private Sector Public Funded",1040,11,6,1,0,82,null,1200,22,0,10,2,65,null,1260,4,3,3,3,88]
[10005926,"MARDELL ASSOCIATES LIMITED","Private Sector Public Funded",1430,74,1,1,16,9,null,1320,58,25,0,11,6,null,740,37,20,7,7,29]
[10003748,"MARITIME + ENGINEERING COLLEGE NORTH WEST","Private Sector Public Funded",130,23,20,32,11,14,null,140,85,0,0,0,15,null,80,52,0,0,0,48]
[10026001,"MARKET DRIVEN TRAINING LIMITED","Private Sector Public Funded",500,11,75,0,11,3,null,310,44,0,23,26,7,null,160,29,15,56,0,0]
[10024124,"MARR CORPORATION LIMITED","Private Sector Public Funded",750,0,0,57,1,41,null,1860,2,17,0,39,42,null,2720,1,0,59,0,40]
[10004223,"MARSON GARAGES (WOLSTANTON) LIMITED","Private Sector Public Funded",".",".",".",".",".",".",null,"x","x","x","x","x","x",null,"x","x","x","x","x","x"]
[10000994,"MARTINEX LIMITED","Private Sector Public Funded",".",".",".",".",".",".",null,"x","x","x","x","x","x",null,".",".",".",".",".","."]
[10007875,"MARY WARD SETTLEMENT","Special Colleges",3500,1,17,78,0,4,null,3850,1,1,82,1,16,null,3830,1,15,67,3,15]
[10004240,"MATRIX TRAINING AND DEVELOPMENT LIMITED","Private Sector Public Funded","x","x","x","x","x","x",null,"x","x","x","x","x","x",null,30,55,0,0,0,45]
[10004257,"MCARTHUR DEAN TRAINING LIMITED","Private Sector Public Funded",340,31,11,9,14,35,null,320,13,12,9,38,28,null,280,0,0,0,13,87]
[10013073,"MCDONALD'S RESTAURANTS LIMITED","Private Sector Public Funded",850,0,0,0,96,4,null,850,0,0,0,95,5,null,250,0,0,0,93,7]
[10004264,"MEADOWHALL CENTRE (1999) LIMITED","Private Sector Public Funded",550,0,33,33,0,34,null,".",".",".",".",".",".",null,".",".",".",".",".","."]
[10010905,"MEADOWHALL TRAINING LIMITED","Private Sector Public Funded",".",".",".",".",".",".",null,510,40,0,54,0,6,null,410,0,66,3,22,10]
[10028909,"MEDI PROSPECTS LTD","Private Sector Public Funded",".",".",".",".",".",".",null,240,88,0,0,0,13,null,270,100,0,0,0,0]
[10004285,"MEDWAY COUNCIL","Other Public Funded",1290,6,27,28,38,1,null,1050,21,29,2,33,15,null,1010,31,12,4,12,41]
[10022856,"MERCEDES-BENZ UK LIMITED","Private Sector Public Funded",220,0,56,44,0,0,null,250,56,44,0,0,0,null,240,51,0,0,0,49]
[10004303,"MERCIA PARTNERSHIP (UK) LTD","Private Sector Public Funded",390,22,69,0,4,5,null,270,63,33,0,0,4,null,270,56,5,7,9,23]
[10003996,"MERTON BOROUGH COUNCIL","Other Public Funded",1160,45,25,24,1,5,null,880,13,57,0,8,22,null,630,58,29,13,0,0]
[10004319,"METSKILL LIMITED","Private Sector Public Funded",210,11,0,32,0,57,null,570,30,7,50,0,13,null,430,4,86,0,0,10]
[10018328,"MI COMPUTSOLUTIONS INCORPORATED","Private Sector Public Funded",860,30,17,6,28,20,null,610,26,43,30,0,0,null,590,59,30,2,9,0]
[10011242,"MIC SKILLS & EMPLOYABILITY LTD","Private Sector Public Funded",260,82,0,0,14,4,null,".",".",".",".",".",".",null,".",".",".",".",".","."]
[10014196,"MICHAEL JOHN HEATH","Private Sector Public Funded",160,81,0,0,0,19,null,160,58,0,8,34,0,null,130,73,0,0,0,27]
[10007002,"MICHAEL JOHN TRAINING LIMITED","Private Sector Public Funded",350,29,0,0,26,45,null,590,13,0,34,0,53,null,850,27,34,13,10,16]
[10012892,"MICHAEL MCCORMACK","Private Sector Public Funded",190,0,13,0,0,87,null,180,0,0,0,0,100,null,140,19,15,0,0,66]
[10004339,"MID-CHESHIRE COLLEGE","General FE College incl Tertiary",1050,12,5,13,4,66,null,890,3,41,11,11,33,null,630,14,43,8,9,27]
[10004344,"MIDDLESBROUGH COLLEGE","General FE College incl Tertiary",3470,68,4,17,5,6,null,3750,21,7,9,8,56,null,3690,18,22,6,23,30]
[10004343,"MIDDLESBROUGH COUNCIL","Other Public Funded",1590,86,12,0,1,1,null,1060,94,1,1,3,0,null,720,48,11,37,0,4]
[10036176,"MIDDLETONMURRAY LIMITED","Private Sector Public Funded",".",".",".",".",".",".",null,"x","x","x","x","x","x",null,30,0,0,100,0,0]
[10004340,"MID-KENT COLLEGE","General FE College incl Tertiary",2260,14,20,4,33,30,null,1790,23,24,10,26,18,null,1100,22,10,23,17,28]
[10004355,"MIDLAND GROUP TRAINING SERVICES LIMITED","Private Sector Public Funded",130,21,8,0,41,30,null,130,15,0,0,74,11,null,140,0,0,0,71,29]
[10004819,"MIDLANDS TRAINING AND DEVELOPMENT LIMITED","Private Sector Public Funded","x","x","x","x","x","x",null,".",".",".",".",".",".",null,".",".",".",".",".","."]
[10020990,"MIDSTREAM (WEST LANCS) LIMITED","Private Sector Public Funded","x","x","x","x","x","x",null,".",".",".",".",".",".",null,".",".",".",".",".","."]
[10005264,"MILLBROOK MANAGEMENT SERVICES LIMITED","Private Sector Public Funded",180,19,0,0,27,55,null,130,0,0,0,0,100,null,140,0,0,43,0,57]
[10027518,"MILLENNIUM ACADEMY LTD","Private Sector Public Funded",".",".",".",".",".",".",null,50,0,45,55,0,0,null,220,0,18,0,82,0]
[10004374,"MILTON KEYNES CHRISTIAN FOUNDATION LIMITED","Private Sector Public Funded",".",".",".",".",".",".",null,"x","x","x","x","x","x",null,"x","x","x","x","x","x"]
[10004375,"MILTON KEYNES COLLEGE","General FE College incl Tertiary",4030,7,15,14,28,37,null,3550,11,18,34,16,21,null,3130,4,52,1,31,12]
[10004376,"MILTON KEYNES COUNCIL","Other Public Funded",770,21,1,25,17,36,null,670,47,7,13,16,17,null,510,23,3,53,0,22]
[10023999,"MITIE GROUP PLC","Private Sector Public Funded",990,0,0,0,0,100,null,640,0,0,0,5,95,null,560,5,0,0,19,76]
[10004404,"MOBILE CARE QUALIFICATIONS LIMITED","Private Sector Public Funded",300,0,78,0,7,15,null,390,5,0,0,59,36,null,360,0,12,0,79,9]
[10044729,"MOMENTUM TRAINING AND CONSULTANCY LTD","Private Sector Public Funded",".",".",".",".",".",".",null,50,54,0,46,0,0,null,30,100,0,0,0,0]
[10004432,"MORLEY COLLEGE LIMITED","Special Colleges",8410,1,0,3,0,95,null,8630,1,0,1,91,7,null,8260,2,0,0,12,85]
[10004434,"MORTHYNG GROUP LIMITED","Private Sector Public Funded","x","x","x","x","x","x",null,20,55,0,45,0,0,null,40,46,0,0,54,0]
[10004436,"MORTIMORE ENTERPRISES LIMITED","Private Sector Public Funded","x","x","x","x","x","x",null,".",".",".",".",".",".",null,".",".",".",".",".","."]
[10004442,"MOULTON COLLEGE","Special Colleges",1330,2,22,18,15,44,null,930,6,8,23,37,27,null,850,8,41,0,30,21]
[10023896,"MPOWER TRAINING SOLUTIONS LTD","Private Sector Public Funded","x","x","x","x","x","x",null,30,100,0,0,0,0,null,230,43,38,0,0,19]
[10004478,"MYERSCOUGH COLLEGE","Special Colleges",740,10,11,31,0,48,null,580,9,18,37,36,0,null,710,5,3,44,0,49]
[10004484,"N & B TRAINING COMPANY LIMITED","Private Sector Public Funded","x","x","x","x","x","x",null,60,0,0,0,32,68,null,260,0,14,0,23,64]
[10013112,"N.T.S. LIMITED","Private Sector Public Funded",".",".",".",".",".",".",null,"x","x","x","x","x","x",null,".",".",".",".",".","."]
[10004486,"NACRO","Private Sector Public Funded",640,95,5,0,0,0,null,910,97,0,0,2,1,null,1020,21,37,11,21,10]
[10012810,"NASH COLLEGE","Other Public Funded",40,100,0,0,0,0,null,20,100,0,0,0,0,null,20,100,0,0,0,0]
[10004499,"NATIONAL BUSINESS COLLEGE LIMITED","Private Sector Public Funded",120,0,0,66,0,34,null,120,0,0,29,0,71,null,110,71,0,0,0,29]
[10004512,"NATIONAL GRID PLC","Private Sector Public Funded",20,0,0,0,0,100,null,".",".",".",".",".",".",null,"x","x","x","x","x","x"]
[10004527,"NATIONAL STAR COLLEGE","Private Sector Public Funded",30,100,0,0,0,0,null,60,100,0,0,0,0,null,40,100,0,0,0,0]
[10004530,"NATIONAL TYRE SERVICE LIMITED","Private Sector Public Funded",10,100,0,0,0,0,null,20,100,0,0,0,0,null,10,100,0,0,0,0]
[10004599,"NCG","General FE College incl Tertiary",20540,31,20,33,15,1,null,18640,20,21,26,28,5,null,4510,24,36,34,0,6]
[10004552,"NELSON AND COLNE COLLEGE","General FE College incl Tertiary",1500,9,37,27,22,5,null,1460,51,13,3,19,14,null,1100,35,33,22,0,10]
[10026072,"NESTOR PRIMECARE SERVICES LIMITED","Private Sector Public Funded",310,0,0,5,73,22,null,270,0,0,5,0,95,null,170,61,0,39,0,0]
[10004558,"NETA TRAINING TRUST","Private Sector Public Funded",730,90,0,2,2,6,null,90,74,0,0,0,26,null,90,88,0,0,0,13]
[10013544,"NETWORK RAIL INFRASTRUCTURE LIMITED","Private Sector Public Funded",220,0,0,0,0,100,null,"x","x","x","x","x","x",null,".",".",".",".",".","."]
[10004576,"NEW COLLEGE DURHAM","General FE College incl Tertiary",3080,33,36,13,2,17,null,2470,23,54,6,10,7,null,2220,34,20,27,15,4]
[10004577,"NEW COLLEGE NOTTINGHAM (NCN)","General FE College incl Tertiary",8270,2,29,4,29,35,null,7170,10,5,31,23,32,null,5950,2,4,43,33,18]
[10004578,"NEW COLLEGE PONTEFRACT","Other","x","x","x","x","x","x",null,".",".",".",".",".",".",null,"x","x","x","x","x","x"]
[10006303,"NEW COLLEGE STAMFORD","General FE College incl Tertiary",2490,1,17,0,66,16,null,1790,13,9,5,41,31,null,1330,6,11,13,17,54]
[10004579,"NEW COLLEGE SWINDON","General FE College incl Tertiary",4280,5,13,16,27,39,null,3440,9,34,11,33,13,null,2750,39,2,19,23,17]
[10004580,"NEW COLLEGE TELFORD","Other",20,0,0,0,52,48,null,40,0,0,0,28,72,null,70,82,0,0,18,0]
[10005494,"NEW COLLEGE WORCESTER (ISP)","Other Public Funded","x","x","x","x","x","x",null,".",".",".",".",".",".",null,".",".",".",".",".","."]
[10004596,"NEWBURY COLLEGE","General FE College incl Tertiary",1770,5,28,19,1,46,null,1540,0,6,19,51,24,null,1340,0,22,33,9,37]
[10053962,"NEWCASTLE COLLEGE","General FE College incl Tertiary",".",".",".",".",".",".",null,".",".",".",".",".",".",null,5460,24,10,18,16,32]
[10053963,"NEWCASTLE SIXTH FORM COLLEGE","General FE College incl Tertiary",".",".",".",".",".",".",null,".",".",".",".",".",".",null,"x","x","x","x","x","x"]
[10004601,"NEWCASTLE UPON TYNE CITY COUNCIL","Other Public Funded",2940,30,2,44,18,7,null,2110,5,25,56,14,1,null,1990,5,10,66,2,18]
[10004603,"NEWCASTLE-UNDER-LYME COLLEGE (NULC)","General FE College incl Tertiary",3050,2,16,30,36,16,null,2820,7,16,20,12,45,null,2580,13,2,8,22,55]
[10004607,"NEWHAM COLLEGE OF FURTHER EDUCATION","General FE College incl Tertiary",11760,40,24,0,34,1,null,8920,20,33,3,39,5,null,7170,23,48,26,0,2]
[10003997,"NEWHAM LONDON BOROUGH COUNCIL","Other Public Funded",2940,93,3,0,0,3,null,2830,81,8,8,2,1,null,2670,61,38,0,0,1]
[10004608,"NEWHAM SIXTH FORM COLLEGE","Other",50,0,0,0,0,100,null,50,0,0,0,0,100,null,30,0,0,0,100,0]
[10004609,"NEWHAM TRAINING AND EDUCATION CENTRE","Private Sector Public Funded","x","x","x","x","x","x",null,20,0,0,0,100,0,null,"x","x","x","x","x","x"]
[10040519,"NEXT GROUP PLC","Private Sector Public Funded",".",".",".",".",".",".",null,390,0,96,0,0,4,null,480,11,0,0,86,3]
[10004632,"NHTA LIMITED","Private Sector Public Funded",90,52,0,0,0,48,null,70,52,0,0,0,48,null,70,33,0,27,0,39]
[10004645,"NLT TRAINING SERVICES LIMITED","Private Sector Public Funded",100,41,0,0,0,59,null,80,0,30,49,0,21,null,80,0,0,0,78,22]
[10004657,"NORFOLK COUNTY COUNCIL","Other Public Funded",3580,0,41,15,33,11,null,2350,11,52,19,6,12,null,1970,0,30,23,36,10]
[10004663,"NORFOLK TRAINING SERVICES LIMITED","Private Sector Public Funded",440,39,38,0,4,19,null,370,51,35,0,14,0,null,250,45,0,24,0,32]
[10004665,"NORMAN MACKIE & ASSOCIATES LIMITED","Private Sector Public Funded","x","x","x","x","x","x",null,"x","x","x","x","x","x",null,"x","x","x","x","x","x"]
[10004542,"NORTH EAST CHAMBER OF COMMERCE, TRADE AND INDUSTRY","Private Sector Public Funded",820,33,0,6,42,19,null,620,17,4,22,5,51,null,500,16,0,5,28,51]
[10004547,"NORTH EAST EMPLOYMENT & TRAINING AGENCY LTD","Private Sector Public Funded",230,100,0,0,0,0,null,180,78,11,0,0,10,null,160,92,8,0,0,0]
[10004684,"NORTH EAST LINCOLNSHIRE COUNCIL","Other Public Funded",790,70,2,0,13,15,null,650,64,21,9,2,5,null,470,55,32,5,0,8]
[10004686,"NORTH EAST SURREY COLLEGE OF TECHNOLOGY (NESCOT)","General FE College incl Tertiary",3500,4,16,68,6,6,null,3290,3,12,7,48,30,null,3010,20,15,51,5,9]
[10004690,"NORTH HERTFORDSHIRE COLLEGE","General FE College incl Tertiary",7740,15,6,3,33,43,null,5210,8,6,19,15,52,null,3630,17,25,13,23,22]
[10004721,"NORTH KENT COLLEGE","General FE College incl Tertiary",1070,20,23,9,38,10,null,810,18,5,21,49,8,null,950,17,10,23,3,48]
[10004692,"NORTH LANCS. TRAINING GROUP LIMITED(THE)","Private Sector Public Funded",1900,23,39,18,5,16,null,1880,29,34,9,27,1,null,1770,14,25,39,13,9]
[10004694,"NORTH LINCOLNSHIRE COUNCIL","Other Public Funded",900,2,0,28,39,31,null,1020,6,0,3,36,54,null,750,13,25,8,42,12]
[10004695,"NORTH LINDSEY COLLEGE","General FE College incl Tertiary",1790,20,24,20,21,15,null,1850,13,20,33,16,17,null,1410,6,26,12,4,52]
[10020981,"NORTH LIVERPOOL REGENERATION COMPANY LTD","Private Sector Public Funded",90,83,0,17,0,0,null,30,63,37,0,0,0,null,20,100,0,0,0,0]
[10004705,"NORTH NOTTINGHAMSHIRE COLLEGE","General FE College incl Tertiary",1710,12,27,10,21,30,null,1630,6,16,8,27,44,null,2380,7,40,5,12,36]
[10007299,"NORTH SHROPSHIRE COLLEGE","General FE College incl Tertiary",1810,7,4,25,21,43,null,1580,11,5,25,21,39,null,830,12,4,16,34,34]
[10004714,"NORTH TYNESIDE METROPOLITAN BOROUGH COUNCIL","Other Public Funded",1700,36,54,1,1,8,null,1330,33,54,2,2,9,null,1370,47,39,3,8,3]
[10004718,"NORTH WARWICKSHIRE AND HINCKLEY COLLEGE","General FE College incl Tertiary",6790,2,18,6,19,56,null,5240,1,6,6,14,73,null,4150,9,7,12,43,29]
[10004720,"NORTH WEST COMMUNITY SERVICES TRAINING LTD","Private Sector Public Funded",230,28,0,12,36,24,null,210,0,10,0,11,79,null,190,5,15,26,43,10]
[10004723,"NORTH WEST TRAINING COUNCIL","Private Sector Public Funded",380,3,11,45,0,41,null,170,0,0,57,33,10,null,90,0,13,87,0,0]
[10004727,"NORTH YORKSHIRE COUNTY COUNCIL","Other Public Funded",1830,18,18,0,45,19,null,1370,24,21,1,37,17,null,1060,19,9,19,37,15]
[10007011,"NORTHAMPTON COLLEGE","General FE College incl Tertiary",3660,7,4,31,18,41,null,3240,2,10,32,25,31,null,2640,1,6,50,19,24]
[10004733,"NORTHAMPTONSHIRE COUNTY COUNCIL","Other Public Funded",70,0,56,25,0,18,null,90,89,0,0,0,11,null,200,0,63,6,22,9]
[10004643,"NORTHAMPTONSHIRE INDUSTRIAL TRAINING ASSOCIATION LIMITED","Private Sector Public Funded",230,9,14,0,0,77,null,310,53,0,0,24,23,null,320,34,11,28,6,21]
[10004736,"NORTHBROOK COLLEGE SUSSEX","General FE College incl Tertiary",4660,17,32,16,18,18,null,3540,7,23,27,23,21,null,2700,41,8,9,4,39]
[10013515,"NORTHERN CARE TRAINING LIMITED","Private Sector Public Funded",480,62,32,0,6,0,null,500,14,40,20,7,19,null,610,76,3,4,2,15]
[10004739,"NORTHERN COLLEGE FOR RESIDENTIAL ADULT EDUCATION LIMITED(THE)","Special Colleges",1930,1,24,3,1,72,null,1490,24,2,58,6,10,null,1090,36,0,1,60,3]
[10032683,"NORTHERN CONSTRUCTION TRAINING AND REGENERATION COMMUNITY INTEREST COMPANY","Private Sector Public Funded",".",".",".",".",".",".",null,".",".",".",".",".",".",null,30,100,0,0,0,0]
[10009258,"NORTHERN COUNTIES COLLEGE","Private Sector Public Funded",10,100,0,0,0,0,null,"x","x","x","x","x","x",null,20,100,0,0,0,0]
[10004748,"NORTHERN RACING COLLEGE","Private Sector Public Funded",100,19,0,0,48,33,null,60,0,0,75,25,0,null,60,19,27,0,0,54]
[10008816,"NORTHERN SCHOOL OF CONTEMPORARY DANCE","Other Public Funded","x","x","x","x","x","x",null,"x","x","x","x","x","x",null,"x","x","x","x","x","x"]
[10004760,"NORTHUMBERLAND COLLEGE","General FE College incl Tertiary",2790,60,23,7,8,2,null,2910,55,15,12,14,4,null,2140,79,12,0,8,1]
[10004771,"NORTON RADSTOCK COLLEGE","General FE College incl Tertiary",2880,10,10,54,12,15,null,2200,1,1,0,55,43,null,".",".",".",".",".","."]
[10004785,"NOTRE DAME CATHOLIC SIXTH FORM COLLEGE","Other","x","x","x","x","x","x",null,"x","x","x","x","x","x",null,"x","x","x","x","x","x"]
[10034240,"NOTTINGHAM CITY TRANSPORT LIMITED","Private Sector Public Funded",".",".",".",".",".",".",null,".",".",".",".",".",".",null,"x","x","x","x","x","x"]
[10004797,"NOTTINGHAM TRENT UNIVERSITY","Other Public Funded",30,0,0,0,0,100,null,30,0,0,0,0,100,null,20,100,0,0,0,0]
[10004801,"NOTTINGHAMSHIRE COUNTY COUNCIL","Other Public Funded","x","x","x","x","x","x",null,10,0,100,0,0,0,null,30,100,0,0,0,0]
[10004807,"NOTTINGHAMSHIRE TRAINING NETWORK","Private Sector Public Funded",870,74,0,14,13,0,null,580,5,66,0,8,21,null,620,48,8,0,5,39]
[10004813,"NOVA RECRUITMENT SERVICES LIMITED","Private Sector Public Funded",20,0,0,0,0,100,null,20,100,0,0,0,0,null,".",".",".",".",".","."]
[10004835,"OAKLANDS COLLEGE","General FE College incl Tertiary",3670,10,7,32,34,17,null,2420,31,24,21,9,15,null,1680,7,33,24,17,19]
[10004840,"OAKMERE COMMUNITY COLLEGE","Private Sector Public Funded",20,100,0,0,0,0,null,"x","x","x","x","x","x",null,".",".",".",".",".","."]
[10004856,"OLDHAM ENGINEERING GROUP TRAINING ASSOCIATION LIMITED (THE)","Private Sector Public Funded",160,0,0,0,20,80,null,60,19,0,32,0,49,null,90,11,0,0,0,89]
[10004858,"OLDHAM METROPOLITAN BOROUGH COUNCIL","Other Public Funded",2020,2,37,36,20,5,null,1780,28,43,0,11,19,null,1340,24,16,1,17,42]
[10004861,"OLDHAM SIXTH FORM COLLEGE","Other","x","x","x","x","x","x",null,"x","x","x","x","x","x",null,".",".",".",".",".","."]
[10004866,"OMEGA TRAINING SERVICES LIMITED","Private Sector Public Funded",370,0,27,0,0,73,null,420,24,0,0,0,76,null,570,0,0,0,5,95]
[10030688,"OPEN DOOR ADULT LEARNING CENTRE","Private Sector Public Funded",780,4,22,58,2,15,null,600,2,14,65,4,15,null,480,8,55,0,17,20]
[10037916,"OPPORTUNITIES WORKSHOP LIMITED","Private Sector Public Funded",".",".",".",".",".",".",null,".",".",".",".",".",".",null,70,85,15,0,0,0]
[10010572,"OPTIONS 2 WORKPLACE LEARNING LTD","Private Sector Public Funded","x","x","x","x","x","x",null,"x","x","x","x","x","x",null,20,100,0,0,0,0]
[10004895,"ORACLE TRAINING CONSULTANTS LIMITED","Private Sector Public Funded",110,71,0,0,0,29,null,110,55,0,0,30,14,null,100,27,28,0,34,10]
[10022439,"OUTSOURCE VOCATIONAL LEARNING LIMITED","Private Sector Public Funded",1470,2,19,1,46,33,null,1090,0,0,0,28,72,null,870,20,13,15,42,10]
[10035095,"OUTWOOD ACADEMY RIPON","Other Public Funded","x","x","x","x","x","x",null,".",".",".",".",".",".",null,".",".",".",".",".","."]
[10004930,"OXFORD BROOKES UNIVERSITY","Other Public Funded",".",".",".",".",".",".",null,".",".",".",".",".",".",null,"x","x","x","x","x","x"]
[10004926,"OXFORDSHIRE COUNTY COUNCIL","Other Public Funded",1600,12,5,62,13,7,null,1330,6,7,44,33,11,null,".",".",".",".",".","."]
[10011880,"P.T.P. TRAINING LIMITED","Private Sector Public Funded",1350,11,4,16,40,30,null,1520,14,9,4,11,62,null,1150,19,12,14,38,17]
[10004969,"PALMER'S COLLEGE","Other","x","x","x","x","x","x",null,"x","x","x","x","x","x",null,"x","x","x","x","x","x"]
[10004977,"PARAGON EDUCATION & SKILLS LIMITED","Private Sector Public Funded",2960,6,25,32,21,16,null,2350,0,11,31,23,35,null,2440,0,15,24,31,31]
[10027893,"PARTNERSHIP DEVELOPMENT SOLUTIONS LTD","Private Sector Public Funded",".",".",".",".",".",".",null,".",".",".",".",".",".",null,"x","x","x","x","x","x"]
[10005001,"PASTON SIXTH FORM COLLEGE","Other",10,0,0,0,0,100,null,"x","x","x","x","x","x",null,"x","x","x","x","x","x"]
[10021793,"PATHWAY FIRST LIMITED","Private Sector Public Funded",20,100,0,0,0,0,null,90,61,14,0,0,25,null,370,92,0,8,0,0]
[10005017,"PDM TRAINING & CONSULTANCY LIMITED","Private Sector Public Funded",2570,16,36,14,1,33,null,1110,3,57,24,0,17,null,670,1,54,4,0,40]
[10011881,"PEARSON PLC","Private Sector Public Funded",10,100,0,0,0,0,null,10,0,0,0,0,100,null,30,0,100,0,0,0]
[10012806,"PENGWERN COLLEGE","Other Public Funded",".",".",".",".",".",".",null,"x","x","x","x","x","x",null,"x","x","x","x","x","x"]
[10005036,"PENNINE CAMPHILL COMMUNITY","Private Sector Public Funded","x","x","x","x","x","x",null,"x","x","x","x","x","x",null,"x","x","x","x","x","x"]
[10020395,"PEOPLE AND BUSINESS DEVELOPMENT LTD","Private Sector Public Funded",180,0,50,0,22,27,null,150,20,0,0,54,27,null,160,39,0,0,33,29]
[10036431,"PEOPLEPLUS GROUP LIMITED","Private Sector Public Funded",5330,26,0,24,49,1,null,5200,91,0,8,0,1,null,6200,21,27,45,1,6]
[10038913,"PERA TRAINING LIMITED","Private Sector Public Funded",2010,0,1,3,22,74,null,840,7,3,72,0,18,null,2510,0,0,1,81,18]
[10005064,"PETA LIMITED","Private Sector Public Funded",230,25,0,25,9,41,null,150,0,10,0,33,57,null,220,21,0,25,44,10]
[10005072,"PETER SYMONDS COLLEGE","Other",410,23,11,6,21,38,null,380,0,20,11,32,37,null,330,7,11,0,38,44]
[10005074,"PETERBOROUGH CITY COUNCIL","Other Public Funded",1580,5,21,7,0,68,null,1320,22,17,1,2,58,null,970,2,21,1,31,45]
[10005077,"PETERBOROUGH REGIONAL COLLEGE","General FE College incl Tertiary",3420,6,17,20,15,42,null,2380,17,8,3,20,52,null,1580,4,11,14,36,36]
[10004676,"PETROC","General FE College incl Tertiary",6450,2,2,42,29,25,null,5430,2,29,7,7,54,null,3430,30,3,5,40,21]
[10008426,"PGL TRAINING (PLUMBING) LIMITED","Private Sector Public Funded",100,15,23,0,13,49,null,80,52,0,13,0,35,null,90,22,0,0,33,46]
[10005089,"PHILIPS HAIR SALONS LIMITED","Private Sector Public Funded",70,0,22,0,0,78,null,70,0,100,0,0,0,null,50,0,0,0,67,33]
[10022288,"PHONES 4U LIMITED","Private Sector Public Funded",340,76,4,16,0,3,null,40,0,0,100,0,0,null,".",".",".",".",".","."]
[10005101,"PILOT IMS LIMITED","Private Sector Public Funded",380,0,0,11,3,86,null,290,51,0,0,0,49,null,300,5,0,21,13,62]
[10043575,"PIZZA HUT (U.K.) LIMITED","Private Sector Public Funded",".",".",".",".",".",".",null,".",".",".",".",".",".",null,"x","x","x","x","x","x"]
[10019311,"PLATINUM EMPLOYMENT ADVICE & TRAINING LIMITED","Private Sector Public Funded","x","x","x","x","x","x",null,"x","x","x","x","x","x",null,"x","x","x","x","x","x"]
[10005124,"PLUMPTON COLLEGE","Special Colleges",660,2,43,8,19,28,null,500,7,50,9,0,34,null,550,48,28,3,8,14]
[10005126,"PLYMOUTH CITY COUNCIL","Other Public Funded",950,19,2,38,35,6,null,850,3,34,16,35,11,null,640,24,16,2,25,33]
[10005127,"PLYMOUTH COLLEGE OF ART","Other Public Funded",60,75,0,25,0,0,null,30,0,0,100,0,0,null,50,53,0,0,47,0]
[10005151,"PORTLAND COLLEGE","Private Sector Public Funded",20,100,0,0,0,0,null,10,100,0,0,0,0,null,10,100,0,0,0,0]
[10034944,"PORTSLADE ALDRIDGE COMMUNITY ACADEMY","Other Public Funded",370,18,60,11,0,11,null,280,11,35,11,30,12,null,280,16,24,48,0,13]
[10005157,"PORTSMOUTH CITY COUNCIL","Other Public Funded",70,19,26,54,0,0,null,70,44,56,0,0,0,null,70,23,54,23,0,0]
[10005158,"PORTSMOUTH COLLEGE","Other",990,33,14,2,44,7,null,520,27,27,25,0,21,null,530,6,49,36,0,9]
[10005166,"POSITIVE OUTCOMES LTD","Private Sector Public Funded",1510,6,37,40,1,15,null,1110,2,44,0,29,24,null,1620,1,28,45,20,6]
[10005172,"POULTEC TRAINING LIMITED","Private Sector Public Funded",410,35,9,9,26,22,null,550,11,7,28,0,53,null,450,22,0,17,33,28]
[10000239,"PRE-SCHOOL LEARNING ALLIANCE","Private Sector Public Funded",590,63,0,33,0,4,null,550,27,29,0,25,19,null,190,60,0,20,14,7]
[10005200,"PRESTON COLLEGE","General FE College incl Tertiary",6510,4,21,37,1,37,null,4710,16,10,34,24,16,null,3880,11,32,2,42,13]
[10042197,"PRET A MANGER (EUROPE) LIMITED","Private Sector Public Funded",".",".",".",".",".",".",null,10,0,0,0,0,100,null,".",".",".",".",".","."]
[10005204,"PREVISTA LTD","Private Sector Public Funded",360,11,5,72,5,6,null,420,13,2,82,0,2,null,280,0,100,0,0,0]
[10005206,"PRIESTLEY COLLEGE","Other",120,41,10,0,0,49,null,110,0,14,63,0,23,null,120,13,45,20,0,23]
[10005220,"PRIOR PURSGLOVE COLLEGE","Other",380,96,0,0,0,4,null,280,100,0,0,0,0,null,260,100,0,0,0,0]
[10034058,"PRIORY CENTRAL SERVICES LIMITED","Private Sector Public Funded",20,0,0,0,100,0,null,60,100,0,0,0,0,null,170,0,54,0,35,11]
[10007929,"PRIORY COLLEGE SWINDON","Private Sector Public Funded","x","x","x","x","x","x",null,"x","x","x","x","x","x",null,"x","x","x","x","x","x"]
[10021842,"PROCO NW LIMITED","Private Sector Public Funded",170,0,24,8,13,55,null,140,26,8,0,9,57,null,120,50,0,0,17,33]
[10005237,"PROFESSIONAL BUSINESS & TRAINING SOLUTIONS LIMITED","Private Sector Public Funded",10,0,0,0,0,100,null,20,0,0,100,0,0,null,20,0,0,0,100,0]
[10022358,"PROFOUND SERVICES LIMITED","Private Sector Public Funded",1790,44,17,22,9,8,null,1720,32,3,43,4,17,null,1900,70,7,0,10,13]
[10004823,"PROGRESS TO EXCELLENCE LTD","Private Sector Public Funded",540,57,4,5,0,34,null,760,31,27,3,9,31,null,960,62,6,9,0,23]
[10005250,"PROJECT MANAGEMENT (STAFFORDSHIRE) LIMITED","Private Sector Public Funded",540,17,23,32,0,28,null,470,47,29,3,3,19,null,410,33,24,15,0,28]
[10005260,"PROSPECT TRAINING ORGANISATIONS LIMITED","Private Sector Public Funded","x","x","x","x","x","x",null,10,0,0,0,0,100,null,".",".",".",".",".","."]
[10005261,"PROSPECT TRAINING SERVICES (GLOUCESTER) LIMITED","Private Sector Public Funded",580,25,10,0,65,0,null,40,40,0,0,0,60,null,30,48,0,52,0,0]
[10046354,"PROSPECTS COLLEGE OF ADVANCED TECHNOLOGY","General FE College incl Tertiary",".",".",".",".",".",".",null,190,41,0,34,0,25,null,370,25,47,17,4,7]
[10005750,"PROSPECTS LEARNING FOUNDATION LIMITED","Private Sector Public Funded",150,46,0,0,0,54,null,"x","x","x","x","x","x",null,".",".",".",".",".","."]
[10005262,"PROSPECTS SERVICES","Private Sector Public Funded",120,18,9,0,73,0,null,".",".",".",".",".",".",null,".",".",".",".",".","."]
[10027935,"PROSPECTS TRAINING INTERNATIONAL LIMITED","Private Sector Public Funded",".",".",".",".",".",".",null,".",".",".",".",".",".",null,"x","x","x","x","x","x"]
[10019919,"PROVIDENT TRAINING LIMITED","Private Sector Public Funded",".",".",".",".",".",".",null,10,100,0,0,0,0,null,".",".",".",".",".","."]
[10022503,"PROVQ LIMITED","Private Sector Public Funded",40,0,0,50,0,50,null,90,0,0,0,0,100,null,140,0,0,0,0,100]
[10030340,"PURSUIT TRAINING LIMITED","Private Sector Public Funded",".",".",".",".",".",".",null,"x","x","x","x","x","x",null,"x","x","x","x","x","x"]
[10003375,"QA LIMITED","Private Sector Public Funded",490,0,14,78,0,8,null,890,0,0,94,0,6,null,1250,0,72,24,0,5]
[10021018,"QDOS TRAINING LIMITED","Private Sector Public Funded",600,25,0,54,21,0,null,450,13,7,0,43,37,null,260,51,7,14,16,12]
[10002264,"QINETIQ LIMITED","Private Sector Public Funded",10,0,0,0,0,100,null,40,0,0,0,100,0,null,20,0,0,0,0,100]
[10005319,"QUBE QUALIFICATIONS AND DEVELOPMENT LIMITED","Private Sector Public Funded",2380,17,11,1,37,33,null,2270,6,12,47,1,35,null,2250,2,43,0,12,43]
[10005320,"QUEEN ALEXANDRA COLLEGE","Private Sector Public Funded",30,100,0,0,0,0,null,30,0,100,0,0,0,null,80,0,0,100,0,0]
[10005325,"QUEEN ELIZABETH SIXTH FORM COLLEGE","Other",130,28,0,72,0,0,null,100,25,0,0,31,45,null,100,20,0,0,67,13]
[10005339,"QUEEN MARY'S COLLEGE","Other",300,36,0,13,48,4,null,370,81,0,4,0,15,null,240,48,0,0,23,29]
[10036345,"RATHBONE TRAINING","Private Sector Public Funded",630,24,29,11,0,36,null,680,34,18,0,22,26,null,660,30,33,23,0,15]
[10005389,"RAVENSBOURNE","Other Public Funded",40,0,0,0,100,0,null,70,0,0,0,0,100,null,70,0,0,0,0,100]
[10024704,"RAYTHEON SYSTEMS LIMITED","Private Sector Public Funded",190,0,13,0,0,87,null,150,21,8,33,0,38,null,90,0,0,0,15,85]
[10005398,"READING BOROUGH COUNCIL","Other Public Funded",770,9,18,42,18,13,null,580,40,2,47,0,11,null,520,12,19,48,20,0]
[10005404,"REASEHEATH COLLEGE","Special Colleges",460,31,0,29,0,40,null,460,47,6,6,27,13,null,370,7,21,11,26,34]
[10005410,"REDBRIDGE COLLEGE","General FE College incl Tertiary",1910,18,39,2,27,14,null,1810,45,8,9,30,9,null,1410,33,10,30,21,6]
[10005412,"REDBRIDGE LONDON BOROUGH COUNCIL","Other Public Funded",1470,35,29,25,0,11,null,1350,31,25,15,23,5,null,1110,50,17,3,27,3]
[10005414,"REDCAR & CLEVELAND COLLEGE","General FE College incl Tertiary",920,45,14,7,21,14,null,650,17,10,8,16,49,null,1070,17,1,3,27,51]
[10005413,"REDCAR AND CLEVELAND BOROUGH COUNCIL","Other Public Funded",980,80,16,1,3,0,null,780,51,29,1,9,9,null,320,56,0,30,0,15]
[10031984,"REDWOOD EDUCATION AND SKILLS LIMITED","Private Sector Public Funded",440,26,58,12,0,5,null,400,33,0,4,57,6,null,300,85,0,0,0,15]
[10008456,"REGENT COLLEGE","Private Sector Public Funded",10,100,0,0,0,0,null,10,100,0,0,0,0,null,"x","x","x","x","x","x"]
[10005429,"REGENT COLLEGE","Other",70,15,0,0,70,14,null,70,24,0,0,30,46,null,70,21,0,18,0,61]
[10005435,"REIGATE COLLEGE","Other","x","x","x","x","x","x",null,"x","x","x","x","x","x",null,".",".",".",".",".","."]
[10025330,"RELEASE POTENTIAL LTD","Private Sector Public Funded",470,71,17,0,0,13,null,510,55,4,20,0,22,null,710,15,0,18,5,62]
[10023047,"REMIT GROUP LIMITED","Private Sector Public Funded",3180,6,4,11,60,19,null,1620,27,0,35,13,26,null,2320,6,5,49,26,13]
[10024686,"RESOURCES (N E) LIMITED","Private Sector Public Funded",230,41,55,5,0,0,null,260,40,0,0,28,32,null,210,50,0,0,13,37]
[10005457,"REWARDS TRAINING RECRUITMENT CONSULTANCY LIMITED","Private Sector Public Funded",850,38,2,27,0,33,null,910,14,25,0,36,25,null,710,36,0,28,6,30]
[10005465,"RICHARD HUISH COLLEGE","Other",200,0,20,18,8,53,null,210,7,0,0,5,89,null,210,0,0,0,29,71]
[10009554,"RICHARD TAUNTON SIXTH FORM COLLEGE","Other",20,48,0,0,0,52,null,60,0,57,0,21,21,null,80,0,20,15,0,64]
[10005466,"RICHMOND ADULT COMMUNITY COLLEGE (RACC)","General FE College incl Tertiary",3940,16,15,28,30,11,null,1680,18,34,1,6,40,null,1970,21,39,4,30,7]
[10007362,"RICHMOND UPON THAMES BOROUGH COUNCIL","Other Public Funded",30,100,0,0,0,0,null,40,0,0,40,0,60,null,30,0,0,0,0,100]
[10005469,"RICHMOND UPON THAMES COLLEGE","General FE College incl Tertiary",1130,36,36,12,14,2,null,850,74,19,0,2,5,null,830,52,36,8,0,4]
[10005473,"RIDGEMOND TRAINING LTD.","Private Sector Public Funded","x","x","x","x","x","x",null,".",".",".",".",".",".",null,".",".",".",".",".","."]
[10002863,"RIVERSIDE COLLEGE","General FE College incl Tertiary",1960,53,6,17,6,17,null,1700,19,26,9,12,34,null,1260,6,26,37,22,9]
[10005488,"RIVERSIDE TRAINING LIMITED","Private Sector Public Funded",430,48,29,0,13,10,null,550,33,5,15,0,47,null,470,84,0,0,7,9]
[10027384,"RNIB COLLEGE LOUGHBOROUGH","Private Sector Public Funded","x","x","x","x","x","x",null,"x","x","x","x","x","x",null,"x","x","x","x","x","x"]
[10005534,"RNN GROUP","General FE College incl Tertiary",4920,8,11,8,2,71,null,4150,13,6,4,9,68,null,3460,6,6,11,52,24]
[10029005,"ROBERT OWEN COMMUNITIES","Private Sector Public Funded","x","x","x","x","x","x",null,".",".",".",".",".",".",null,".",".",".",".",".","."]
[10005509,"ROCHDALE TRAINING ASSOCIATION LIMITED","Private Sector Public Funded",1590,14,12,22,46,6,null,1230,61,4,19,3,12,null,1120,44,15,8,21,12]
[10005514,"ROCKET TRAINING LIMITED","Private Sector Public Funded",100,68,0,13,0,19,null,90,21,0,79,0,0,null,30,100,0,0,0,0]
[10005520,"ROLLS-ROYCE PLC","Private Sector Public Funded",120,15,85,0,0,0,null,170,0,0,0,92,8,null,180,0,0,0,0,100]
[10013082,"ROLLS-ROYCE POWER ENGINEERING PLC","Private Sector Public Funded",120,0,0,0,79,21,null,150,0,0,0,34,66,null,90,27,0,0,0,73]
[10005522,"ROOTS AND SHOOTS","Private Sector Public Funded","x","x","x","x","x","x",null,"x","x","x","x","x","x",null,"x","x","x","x","x","x"]
[10005535,"ROTHERHAM BOROUGH COUNCIL","Other Public Funded",110,58,27,0,0,15,null,150,65,35,0,0,0,null,100,56,33,0,11,0]
[10033441,"ROYAL AIR FORCE","Other Public Funded",1040,0,0,43,10,48,null,1100,0,0,32,11,57,null,1090,0,1,0,28,71]
[10003990,"ROYAL BOROUGH OF GREENWICH","Other Public Funded",".",".",".",".",".",".",null,130,15,39,0,0,46,null,140,45,55,0,0,0]
[10005548,"ROYAL BOROUGH OF KENSINGTON AND CHELSEA","Other Public Funded",500,94,6,0,0,0,null,490,85,2,11,0,2,null,450,100,0,0,0,0]
[10005549,"ROYAL BOROUGH OF KINGSTON UPON THAMES","Other Public Funded",1280,8,24,29,0,40,null,780,19,0,39,25,18,null,550,21,11,6,32,31]
[10024772,"ROYAL COLLEGE MANCHESTER (SEASHELL TRUST)","Private Sector Public Funded",10,100,0,0,0,0,null,20,100,0,0,0,0,null,20,100,0,0,0,0]
[10005558,"ROYAL NATIONAL COLLEGE FOR THE BLIND","Private Sector Public Funded","x","x","x","x","x","x",null,"x","x","x","x","x","x",null,"x","x","x","x","x","x"]
[10033438,"ROYAL NAVY","Other Public Funded",1400,16,0,0,35,48,null,2110,9,0,0,18,73,null,1900,12,0,0,25,64]
[10005575,"RUNSHAW COLLEGE","General FE College incl Tertiary",1510,26,18,11,17,27,null,1350,14,21,8,15,43,null,1000,8,13,9,10,61]
[10005583,"RUSKIN COLLEGE","Special Colleges",990,10,5,0,23,62,null,1870,4,0,0,12,84,null,1980,8,0,0,24,69]
[10009031,"RUSKIN MILL COLLEGE","Private Sector Public Funded",40,0,100,0,0,0,null,"x","x","x","x","x","x",null,"x","x","x","x","x","x"]
[10021574,"RUSKIN PRIVATE HIRE LIMITED","Private Sector Public Funded",240,10,0,30,17,43,null,".",".",".",".",".",".",null,".",".",".",".",".","."]
[10005586,"RUTLAND COUNTY COUNCIL","Other Public Funded",180,20,14,0,13,53,null,130,0,8,0,8,83,null,420,5,0,0,52,42]
[10005588,"RWP TRAINING LIMITED","Private Sector Public Funded",290,32,4,0,0,64,null,260,29,7,0,8,57,null,220,8,21,0,22,49]
[10005599,"S & B AUTOMOTIVE ACADEMY LIMITED","Private Sector Public Funded",210,45,0,0,0,55,null,180,0,25,0,0,75,null,250,0,0,37,0,63]
[10006005,"S.W. DURHAM TRAINING LIMITED","Private Sector Public Funded",470,0,3,17,0,80,null,150,11,46,0,34,9,null,130,0,0,0,0,100]
[10010846,"S.Y.T.G. LIMITED","Private Sector Public Funded","x","x","x","x","x","x",null,"x","x","x","x","x","x",null,"x","x","x","x","x","x"]
[10005615,"SAFE IN TEES VALLEY LIMITED","Private Sector Public Funded","x","x","x","x","x","x",null,"x","x","x","x","x","x",null,".",".",".",".",".","."]
[10022143,"SAFETY PROBLEM SOLUTIONS UK LIMITED","Private Sector Public Funded","x","x","x","x","x","x",null,".",".",".",".",".",".",null,".",".",".",".",".","."]
[10005642,"SAKS (EDUCATION) LIMITED","Private Sector Public Funded",350,20,39,0,0,41,null,410,13,0,56,28,3,null,390,53,35,6,0,5]
[10006317,"SALFORD AND TRAFFORD ENGINEERING GROUP TRAINING ASSOCIATION LIMITED","Private Sector Public Funded",40,0,0,100,0,0,null,60,0,65,0,35,0,null,60,25,0,75,0,0]
[10005032,"SALFORD CITY COLLEGE","General FE College incl Tertiary",4890,38,8,19,8,27,null,4230,31,5,17,35,11,null,2990,7,40,1,16,36]
[10035301,"SAMANTHA WARREN","Private Sector Public Funded",".",".",".",".",".",".",null,".",".",".",".",".",".",null,20,100,0,0,0,0]
[10005669,"SANDWELL COLLEGE","General FE College incl Tertiary",4070,31,40,1,19,9,null,3650,59,28,9,0,4,null,2770,67,7,9,12,5]
[10005671,"SANDWELL METROPOLITAN BOROUGH COUNCIL","Other Public Funded",520,90,3,0,0,7,null,240,36,6,0,4,55,null,220,94,6,0,0,0]
[10005673,"SANDWELL TRAINING ASSOCIATION LIMITED","Private Sector Public Funded",140,35,0,0,7,58,null,100,18,0,0,33,50,null,110,0,54,0,32,14]
[10033746,"SBC TRAINING LIMITED","Private Sector Public Funded",240,15,5,5,23,53,null,210,45,0,20,9,25,null,150,25,0,13,0,62]
[10005687,"SCARBOROUGH SIXTH FORM COLLEGE","Other","x","x","x","x","x","x",null,"x","x","x","x","x","x",null,"x","x","x","x","x","x"]
[10005735,"SEETEC BUSINESS TECHNOLOGY CENTRE LIMITED","Private Sector Public Funded",1370,30,0,2,66,2,null,1190,41,0,0,53,6,null,470,18,3,6,0,74]
[10005736,"SEEVIC COLLEGE","General FE College incl Tertiary",140,24,12,0,0,64,null,200,26,17,37,5,14,null,330,6,67,7,11,8]
[10005738,"SEFTON METROPOLITAN BOROUGH COUNCIL","Other Public Funded",190,7,0,21,61,10,null,230,75,0,0,18,7,null,80,54,0,14,0,33]
[10005741,"SELBY COLLEGE","General FE College incl Tertiary",1920,2,3,3,56,37,null,1650,8,27,14,8,43,null,1390,3,42,8,19,28]
[10030520,"SELECT SERVICE PARTNER UK LIMITED","Private Sector Public Funded",120,0,100,0,0,0,null,170,0,27,0,0,73,null,120,49,0,0,0,51]
[10005744,"SELETA TRAINING AND PERSONNEL SERVICES LIMITED","Private Sector Public Funded",440,0,0,0,0,100,null,500,0,12,0,0,88,null,220,0,26,0,0,74]
[10005748,"SENSE COLLEGE","Private Sector Public Funded","x","x","x","x","x","x",null,"x","x","x","x","x","x",null,20,0,100,0,0,0]
[10005752,"SERCO LIMITED","Private Sector Public Funded",370,0,48,11,3,38,null,470,41,0,3,0,56,null,770,5,5,49,31,10]
[10005782,"SHAW TRUST LIMITED(THE)","Private Sector Public Funded",200,62,38,0,0,0,null,"x","x","x","x","x","x",null,30,0,0,0,100,0]
[10002244,"SHEFFIELD CITY COUNCIL","Other Public Funded",1010,51,27,0,9,14,null,1020,46,19,18,10,8,null,1570,37,3,54,4,2]
[10005788,"SHEFFIELD COLLEGE, THE","General FE College incl Tertiary",8650,25,17,45,11,3,null,7740,17,22,18,31,11,null,6410,23,22,22,19,14]
[10013042,"SHEFFIELD INDEPENDENT FILM AND TELEVISION LIMITED","Private Sector Public Funded",".",".",".",".",".",".",null,"x","x","x","x","x","x",null,"x","x","x","x","x","x"]
[10038981,"SHEILING COLLEGE","Other Public Funded",".",".",".",".",".",".",null,".",".",".",".",".",".",null,"x","x","x","x","x","x"]
[10005601,"SHILDON AND DARLINGTON TRAINING LIMITED","Private Sector Public Funded","x","x","x","x","x","x",null,".",".",".",".",".",".",null,".",".",".",".",".","."]
[10005810,"SHIPLEY COLLEGE","General FE College incl Tertiary",2080,73,12,10,5,1,null,1610,34,33,9,23,2,null,920,45,14,6,6,29]
[10039420,"SHOOTERS HILL POST-16 CAMPUS","Other Public Funded",".",".",".",".",".",".",null,30,0,0,100,0,0,null,10,100,0,0,0,0]
[10005821,"SHREWSBURY COLLEGE OF ARTS & TECHNOLOGY","General FE College incl Tertiary",5190,3,8,47,11,31,null,3510,3,4,32,16,45,null,2180,6,16,6,46,26]
[10005822,"SHREWSBURY SIXTH FORM COLLEGE","Other",".",".",".",".",".",".",null,"x","x","x","x","x","x",null,"x","x","x","x","x","x"]
[10013362,"SIEMENS PUBLIC LIMITED COMPANY","Private Sector Public Funded",20,0,0,0,0,100,null,50,0,0,0,0,100,null,100,100,0,0,0,0]
[10028965,"SIMPLY ONE STOP LIMITED","Private Sector Public Funded",".",".",".",".",".",".",null,"x","x","x","x","x","x",null,"x","x","x","x","x","x"]
[10005859,"SIR GEORGE MONOUX COLLEGE","Other","x","x","x","x","x","x",null,"x","x","x","x","x","x",null,"x","x","x","x","x","x"]
[10005864,"SIR JOHN DEANE'S COLLEGE","Other",50,100,0,0,0,0,null,30,52,0,0,0,48,null,30,0,0,0,0,100]
[10005883,"SKEGNESS COLLEGE OF VOCATIONAL TRAINING LIMITED","Private Sector Public Funded","x","x","x","x","x","x",null,"x","x","x","x","x","x",null,"x","x","x","x","x","x"]
[10005891,"SKILLNET LIMITED","Private Sector Public Funded",1630,7,22,24,37,11,null,1280,3,18,0,62,16,null,1370,61,10,28,0,1]
[10038112,"SKILLS FOR HEALTH LIMITED","Private Sector Public Funded",630,33,37,6,0,24,null,280,78,0,0,0,22,null,480,53,42,0,0,5]
[10010523,"SKILLS FOR SECURITY LIMITED","Private Sector Public Funded",160,39,0,29,12,21,null,130,0,0,38,12,50,null,120,0,0,71,0,29]
[10012834,"SKILLS TEAM LTD","Private Sector Public Funded",460,35,53,8,5,0,null,700,59,21,0,0,20,null,540,18,29,53,0,0]
[10005277,"SKILLS TO GROUP LIMITED","Private Sector Public Funded",1160,8,3,10,0,79,null,1320,15,2,0,0,83,null,1360,3,15,0,7,75]
[10005897,"SKILLS TRAINING UK LIMITED","Private Sector Public Funded",130,0,26,0,37,38,null,320,39,0,0,20,42,null,1030,81,13,0,0,5]
[10020256,"SKILLS UK LTD","Private Sector Public Funded",320,7,0,0,93,0,null,210,100,0,0,0,0,null,180,100,0,0,0,0]
[10005916,"SLOUGH BOROUGH COUNCIL","Other Public Funded",660,30,31,7,31,0,null,600,54,28,5,4,10,null,460,39,54,0,3,4]
[10005113,"SLOUGH PIT STOP PROJECT LIMITED","Private Sector Public Funded",".",".",".",".",".",".",null,"x","x","x","x","x","x",null,"x","x","x","x","x","x"]
[10005927,"SMART TRAINING AND RECRUITMENT LIMITED","Private Sector Public Funded",1820,80,8,1,0,11,null,1090,24,58,1,5,12,null,830,18,0,29,8,45]
[10028742,"SOCIAL ENTERPRISE KENT CIC","Private Sector Public Funded",790,12,13,46,19,10,null,560,18,38,35,0,9,null,440,8,36,17,10,28]
[10022237,"SOFTMIST LIMITED","Private Sector Public Funded",830,10,0,50,14,26,null,680,55,8,9,24,4,null,560,10,57,14,0,19]
[10005946,"SOLIHULL COLLEGE","General FE College incl Tertiary",7350,2,14,5,48,30,null,3590,14,18,19,43,6,null,2390,40,13,3,30,15]
[10005956,"SOMERSET COLLEGE","General FE College incl Tertiary",3830,3,36,31,6,24,null,4040,3,40,16,5,36,null,3190,0,61,0,1,38]
[10005959,"SOMERSET COUNTY COUNCIL","Other Public Funded",1330,12,32,18,9,29,null,820,12,3,43,20,21,null,".",".",".",".",".","."]
[10042505,"SOMERSET SKILLS & LEARNING CIC","Private Sector Public Funded",".",".",".",".",".",".",null,".",".",".",".",".",".",null,720,15,34,9,18,24]
[10005967,"SOUTH & CITY COLLEGE BIRMINGHAM","General FE College incl Tertiary",10480,12,21,40,20,7,null,9560,22,4,49,14,10,null,8450,8,24,39,9,20]
[10005972,"SOUTH CHESHIRE COLLEGE","General FE College incl Tertiary",1800,6,3,11,51,30,null,1350,7,8,34,2,48,null,950,4,4,33,53,6]
[10005977,"SOUTH DEVON COLLEGE","General FE College incl Tertiary",4240,7,4,5,64,21,null,2360,11,5,19,25,40,null,2050,5,14,25,35,21]
[10005979,"SOUTH DOWNS COLLEGE","General FE College incl Tertiary",2250,2,2,25,41,29,null,2290,4,38,3,29,26,null,1350,19,50,11,14,7]
[10005981,"SOUTH ESSEX COLLEGE OF FURTHER AND HIGHER EDUCATION","General FE College incl Tertiary",5830,10,17,29,6,38,null,3950,7,11,13,42,27,null,3290,11,18,13,33,25]
[10036143,"SOUTH GLOUCESTERSHIRE AND STROUD COLLEGE","General FE College incl Tertiary",3380,5,22,14,29,30,null,3330,8,15,11,42,25,null,2650,15,38,16,13,18]
[10005989,"SOUTH LEICESTERSHIRE COLLEGE","General FE College incl Tertiary",3190,5,4,37,16,38,null,3140,5,18,36,3,39,null,2020,4,12,37,11,36]
[10023526,"SOUTH STAFFORDSHIRE COLLEGE","General FE College incl Tertiary",1470,12,1,17,47,23,null,1660,6,8,17,55,13,null,1940,2,14,42,6,35]
[10005997,"SOUTH THAMES COLLEGE","General FE College incl Tertiary",8510,21,5,47,9,18,null,6730,9,31,42,4,13,null,5970,7,27,59,4,4]
[10005999,"SOUTH TYNESIDE COLLEGE","General FE College incl Tertiary",2070,24,33,0,28,15,null,2020,24,19,6,20,31,null,2430,28,9,32,24,6]
[10006000,"SOUTH TYNESIDE COUNCIL","Other Public Funded",1500,38,16,3,43,0,null,990,48,0,12,39,1,null,980,46,13,31,10,0]
[10032119,"SOUTH WEST ASSOCIATION OF TRAINING PROVIDERS LIMITED","Private Sector Public Funded",490,64,10,16,2,8,null,420,55,13,5,0,27,null,420,51,11,3,17,18]
[10007872,"SOUTH WEST REGIONAL ASSESSMENT CENTRE LIMITED","Private Sector Public Funded",1190,41,0,59,0,0,null,1040,63,37,0,0,0,null,1110,75,5,17,1,2]
[10002356,"SOUTH WORCESTERSHIRE COLLEGE","General FE College incl Tertiary",770,9,10,38,5,38,null,750,3,16,3,56,22,null,700,3,27,24,20,25]
[10006020,"SOUTHAMPTON CITY COLLEGE","General FE College incl Tertiary",2750,7,1,18,44,29,null,2070,2,4,37,1,55,null,1900,6,8,11,40,36]
[10006021,"SOUTHAMPTON CITY COUNCIL","Other Public Funded",200,43,0,0,0,57,null,190,55,27,0,0,18,null,140,61,0,11,13,14]
[10005760,"SOUTHAMPTON ENGINEERING TRAINING ASSOCIATION LIMITED (THE)","Private Sector Public Funded",50,76,0,0,24,0,null,60,0,0,0,0,100,null,60,0,0,0,81,19]
[10006029,"SOUTHEND-ON-SEA BOROUGH COUNCIL","Other Public Funded",1360,33,22,7,27,11,null,2020,10,4,14,69,3,null,1090,36,14,26,22,2]
[10006038,"SOUTHPORT COLLEGE","General FE College incl Tertiary",1380,16,32,14,22,17,null,870,0,5,16,29,50,null,860,20,32,11,19,17]
[10006042,"SOUTHWARK LONDON BOROUGH COUNCIL","Other Public Funded",1430,84,2,1,3,10,null,1660,84,1,11,3,0,null,1040,53,45,2,0,0]
[10009091,"SPAN TRAINING & DEVELOPMENT LIMITED","Private Sector Public Funded",170,15,0,20,0,65,null,120,0,0,0,50,50,null,110,27,37,0,0,35]
[10006050,"SPARSHOLT COLLEGE","Special Colleges",1470,14,17,8,11,50,null,970,25,4,17,8,46,null,840,17,7,15,12,49]
[10032147,"SPECIALIST TRADE COURSES LIMITED","Private Sector Public Funded",".",".",".",".",".",".",null,".",".",".",".",".",".",null,50,100,0,0,0,0]
[10042132,"SPECSAVERS OPTICAL SUPERSTORES LIMITED","Private Sector Public Funded",".",".",".",".",".",".",null,".",".",".",".",".",".",null,110,0,0,0,0,100]
[10034192,"SPIRIT PUB COMPANY (SERVICES) LIMITED","Private Sector Public Funded",280,0,0,0,50,50,null,220,0,0,0,22,78,null,70,100,0,0,0,0]
[10006086,"SPRINGBOARD SUNDERLAND TRUST","Private Sector Public Funded",1760,45,55,0,0,1,null,590,78,11,4,0,7,null,610,64,8,2,4,23]
[10032390,"SPRINGFIELD EDUCATION AND TRAINING LIMITED","Private Sector Public Funded",".",".",".",".",".",".",null,"x","x","x","x","x","x",null,".",".",".",".",".","."]
[10010548,"SPRINGFIELDS FUELS LIMITED","Private Sector Public Funded",20,0,0,0,100,0,null,10,0,0,0,0,100,null,"x","x","x","x","x","x"]
[10023368,"SSE SERVICES PLC","Private Sector Public Funded",70,55,0,0,45,0,null,40,0,59,0,0,41,null,40,0,0,0,0,100]
[10006130,"ST BRENDAN'S SIXTH FORM COLLEGE","Other","x","x","x","x","x","x",null,"x","x","x","x","x","x",null,"x","x","x","x","x","x"]
[10006135,"ST CHARLES CATHOLIC SIXTH FORM COLLEGE","Other","x","x","x","x","x","x",null,"x","x","x","x","x","x",null,"x","x","x","x","x","x"]
[10006159,"ST ELIZABETH'S COLLEGE (THE CONGREGATION OF THE DAUGHTERS OF THE CROSS OF THE LIEGE)","Other Public Funded",10,0,0,0,100,0,null,".",".",".",".",".",".",null,30,0,0,0,0,100]
[10008007,"ST FRANCIS XAVIER SIXTH FORM COLLEGE","Other","x","x","x","x","x","x",null,"x","x","x","x","x","x",null,"x","x","x","x","x","x"]
[10006173,"ST HELENS CHAMBER LIMITED","Private Sector Public Funded",1780,74,5,0,14,7,null,1190,54,2,27,10,7,null,790,16,4,27,48,5]
[10006174,"ST HELENS COLLEGE","General FE College incl Tertiary",2750,37,17,13,22,10,null,2290,40,27,14,12,6,null,1760,10,30,29,6,25]
[10006175,"ST HELENS METROPOLITAN BOROUGH COUNCIL","Other Public Funded",220,15,0,0,71,15,null,100,0,17,0,0,83,null,50,37,0,0,0,63]
[10006195,"ST JOHN RIGBY RC SIXTH FORM COLLEGE","Other","x","x","x","x","x","x",null,"x","x","x","x","x","x",null,"x","x","x","x","x","x"]
[10006199,"ST JOHN'S SCHOOL AND COLLEGE","Private Sector Public Funded",20,100,0,0,0,0,null,20,100,0,0,0,0,null,20,0,0,100,0,0]
[10040374,"ST MARTINS CENTRE (ST ROSES SCHOOL)","Other Public Funded",".",".",".",".",".",".",null,"x","x","x","x","x","x",null,"x","x","x","x","x","x"]
[10006226,"ST MARY'S COLLEGE","Other",90,0,83,0,17,0,null,100,0,13,0,87,0,null,100,0,10,0,90,0]
[10006245,"ST PAUL'S","Private Sector Public Funded",20,0,0,50,50,0,null,"x","x","x","x","x","x",null,"x","x","x","x","x","x"]
[10006268,"ST VINCENT COLLEGE","Other",360,12,40,10,19,19,null,400,36,16,33,15,0,null,350,3,30,7,32,28]
[10027272,"STAFF SELECT LTD","Private Sector Public Funded",340,65,9,18,8,0,null,450,31,45,20,0,4,null,460,27,62,5,0,5]
[10032018,"STAFFLINE RECRUITMENT LIMITED","Private Sector Public Funded",160,87,0,0,0,13,null,150,0,0,90,0,10,null,"x","x","x","x","x","x"]
[10006293,"STAFFORD COLLEGE","General FE College incl Tertiary",1360,9,14,11,30,35,null,1280,8,15,6,15,56,null,1210,8,11,5,30,45]
[10006296,"STAFFORDSHIRE COUNTY COUNCIL","Other Public Funded",1730,74,22,1,2,1,null,960,58,9,22,2,8,null,960,28,53,13,3,3]
[10009439,"STANMORE COLLEGE","General FE College incl Tertiary",1670,9,48,8,33,2,null,1470,51,19,1,23,7,null,940,28,34,2,15,21]
[10019839,"START TRAINING LTD","Private Sector Public Funded",160,9,0,0,22,69,null,150,50,9,0,41,0,null,80,84,0,0,0,16]
[10027655,"STARTING OFF (NORTHAMPTON) LIMITED","Private Sector Public Funded",130,50,0,0,0,50,null,150,0,0,79,0,21,null,130,0,59,0,0,41]
[10018942,"STEADFAST TRAINING LTD","Private Sector Public Funded",1650,7,11,0,2,80,null,1600,17,0,0,19,64,null,830,10,50,4,20,16]
[10006322,"STEPHENSON COLLEGE","General FE College incl Tertiary",3900,0,3,8,4,84,null,3380,3,6,3,41,47,null,2890,2,2,8,10,79]
[10006325,"STEPS TO WORK (WALSALL) LTD","Private Sector Public Funded","x","x","x","x","x","x",null,"x","x","x","x","x","x",null,"x","x","x","x","x","x"]
[10008530,"STEVE WALKER ASSOCIATES (UK) LIMITED","Private Sector Public Funded","x","x","x","x","x","x",null,30,100,0,0,0,0,null,".",".",".",".",".","."]
[10006331,"STOCKPORT COLLEGE","General FE College incl Tertiary",3080,11,24,16,16,34,null,2050,19,25,38,6,12,null,2170,8,10,14,26,43]
[10006332,"STOCKPORT ENGINEERING TRAINING ASSOCIATION LIMITED(THE)","Private Sector Public Funded",20,0,0,0,0,100,null,40,0,0,0,100,0,null,100,0,0,0,0,100]
[10006335,"STOCKPORT METROPOLITAN BOROUGH COUNCIL","Other Public Funded",760,81,0,0,15,4,null,490,20,26,55,0,0,null,330,62,17,5,10,7]
[10006341,"STOCKTON RIVERSIDE COLLEGE","General FE College incl Tertiary",3500,55,17,9,8,10,null,3170,37,28,20,11,5,null,2810,12,9,38,8,33]
[10006342,"STOCKTON SIXTH FORM COLLEGE","Other","x","x","x","x","x","x",null,"x","x","x","x","x","x",null,"x","x","x","x","x","x"]
[10006337,"STOCKTON-ON-TEES BOROUGH COUNCIL","Other Public Funded",1040,88,0,0,9,4,null,840,71,15,5,0,9,null,810,26,68,2,2,1]
[10006349,"STOKE ON TRENT COLLEGE","General FE College incl Tertiary",7260,52,20,19,2,7,null,5560,7,32,23,20,17,null,4290,17,18,34,6,25]
[10001473,"STOKE-ON-TRENT UNITARY AUTHORITY","Other Public Funded",410,84,0,8,4,5,null,280,69,0,0,31,0,null,360,35,46,0,19,0]
[10006365,"STRAIGHT A TRAINING LIMITED","Private Sector Public Funded","x","x","x","x","x","x",null,90,42,0,38,20,0,null,170,87,0,0,0,13]
[10006367,"STRATEGIC TRAINING SOLUTIONS (MANSFIELD) LIMITED","Private Sector Public Funded","x","x","x","x","x","x",null,"x","x","x","x","x","x",null,"x","x","x","x","x","x"]
[10006002,"STRATFORD-UPON-AVON COLLEGE","General FE College incl Tertiary",1700,1,2,65,4,28,null,1550,0,0,0,58,42,null,1300,5,1,79,0,15]
[10006374,"STRATHMORE COLLEGE","Private Sector Public Funded","x","x","x","x","x","x",null,"x","x","x","x","x","x",null,10,100,0,0,0,0]
[10006378,"STRODE COLLEGE","General FE College incl Tertiary",1130,38,10,22,19,11,null,1060,10,46,5,14,26,null,750,2,26,36,20,16]
[10006379,"STRODE'S COLLEGE","Other",410,44,24,14,3,16,null,250,21,29,28,4,18,null,300,11,33,48,8,0]
[10006387,"STUBBING COURT TRAINING LIMITED","Private Sector Public Funded",90,23,38,0,0,39,null,100,51,0,0,0,49,null,90,51,0,0,49,0]
[10033478,"SUCCEED LIMITED","Private Sector Public Funded",20,100,0,0,0,0,null,70,28,21,0,0,51,null,40,100,0,0,0,0]
[10006399,"SUFFOLK COUNTY COUNCIL","Other Public Funded",2820,41,15,0,43,1,null,1830,47,1,25,17,10,null,1740,16,32,0,52,1]
[10006398,"SUFFOLK NEW COLLEGE","General FE College incl Tertiary",920,26,34,13,1,26,null,760,13,12,21,37,16,null,770,5,7,19,35,34]
[10043685,"SUMMERHOUSE EQUESTRIAN AND TRAINING CENTRE LLP","Private Sector Public Funded",590,9,0,64,22,6,null,600,67,11,15,3,3,null,940,48,28,15,4,4]
[10006407,"SUNDERLAND CITY METROPOLITAN BOROUGH COUNCIL","Other Public Funded",1520,86,0,3,11,1,null,970,79,0,0,21,0,null,880,68,0,6,0,27]
[10001475,"SUNDERLAND COLLEGE","General FE College incl Tertiary",7510,19,23,31,19,8,null,5820,6,17,31,36,11,null,4760,7,9,37,19,27]
[10006408,"SUNDERLAND ENGINEERING TRAINING ASSOCIATION LIMITED","Private Sector Public Funded",20,0,0,0,100,0,null,70,0,0,46,54,0,null,30,0,100,0,0,0]
[10020811,"SUPERDRUG STORES PLC","Private Sector Public Funded",90,25,0,0,0,75,null,140,0,0,87,13,0,null,170,0,0,14,86,0]
[10006426,"SURREY COUNTY COUNCIL","Other Public Funded",630,39,3,3,5,50,null,550,13,29,10,5,44,null,510,0,36,7,0,57]
[10002923,"SUSSEX COAST COLLEGE HASTINGS","General FE College incl Tertiary",2300,12,59,11,10,8,null,1920,43,20,24,11,3,null,2300,38,25,25,12,1]
[10006432,"SUSSEX DOWNS COLLEGE","General FE College incl Tertiary",4260,4,20,17,25,35,null,3320,5,19,33,16,27,null,2810,4,11,11,41,33]
[10006438,"SUTTON AND DISTRICT TRAINING LIMITED","Private Sector Public Funded","x","x","x","x","x","x",null,"x","x","x","x","x","x",null,"x","x","x","x","x","x"]
[10004000,"SUTTON LONDON BOROUGH COUNCIL","Other Public Funded","x","x","x","x","x","x",null,".",".",".",".",".",".",null,"x","x","x","x","x","x"]
[10006458,"SWARTHMORE EDUCATION CENTRE","Private Sector Public Funded","x","x","x","x","x","x",null,20,0,0,0,100,0,null,10,0,0,100,0,0]
[10006463,"SWINDON COLLEGE","General FE College incl Tertiary",5280,28,36,9,9,18,null,3520,8,17,31,17,27,null,2860,31,19,4,7,39]
[10006462,"SWINDON UNITARY AUTHORITY","Other Public Funded",340,13,0,0,17,70,null,100,78,0,0,0,22,null,50,100,0,0,0,0]
[10013122,"SYSCO BUSINESS SKILLS ACADEMY LIMITED","Private Sector Public Funded",1280,8,45,5,0,42,null,880,15,4,38,21,22,null,800,27,9,32,14,17]
[10006472,"SYSTEM GROUP LIMITED","Private Sector Public Funded",4910,10,0,2,19,68,null,3750,14,1,2,0,83,null,2850,11,0,1,83,4]
[10024071,"TALENT TRAINING (UK) LLP","Private Sector Public Funded",1250,7,0,5,11,78,null,1390,26,0,0,63,10,null,1030,14,4,28,2,52]
[10006494,"TAMESIDE COLLEGE","General FE College incl Tertiary",2610,8,17,8,18,48,null,2340,14,16,19,13,38,null,2160,10,20,21,21,28]
[10006495,"TAMESIDE METROPOLITAN BOROUGH COUNCIL","Other Public Funded",330,29,0,34,0,37,null,300,21,53,13,0,13,null,200,0,71,0,0,29]
[10006500,"TARGETED TRAINING PROJECTS LIMITED","Private Sector Public Funded","x","x","x","x","x","x",null,30,100,0,0,0,0,null,".",".",".",".",".","."]
[10006514,"TBG LEARNING LTD","Private Sector Public Funded",930,21,26,9,20,24,null,".",".",".",".",".",".",null,".",".",".",".",".","."]
[10008906,"TCV EMPLOYMENT AND TRAINING SERVICES LIMITED","Private Sector Public Funded","x","x","x","x","x","x",null,"x","x","x","x","x","x",null,".",".",".",".",".","."]
[10006517,"TDR TRAINING LIMITED","Private Sector Public Funded",330,22,4,46,19,9,null,440,12,43,0,7,37,null,260,31,22,0,35,12]
[10006519,"TEAM ENTERPRISES LIMITED","Private Sector Public Funded",460,14,3,6,8,69,null,330,51,37,0,0,12,null,260,60,15,14,0,12]
[10006521,"TEAM WEARSIDE LIMITED","Private Sector Public Funded",450,5,39,0,32,24,null,410,32,12,0,37,19,null,280,55,7,11,0,26]
[10006549,"TELFORD COLLEGE OF ARTS & TECHNOLOGY","General FE College incl Tertiary",12080,4,13,18,43,22,null,6780,6,14,21,23,36,null,6830,13,25,28,14,21]
[10006559,"TESCO STORES LIMITED","Private Sector Public Funded",1470,0,0,0,11,89,null,2350,0,0,15,0,85,null,".",".",".",".",".","."]
[10006574,"THE ACADEMY HAIR & BEAUTY LTD","Private Sector Public Funded",10,100,0,0,0,0,null,50,0,0,41,0,59,null,70,22,0,0,0,78]
[10028085,"THE ALTERNATIVE HOTEL GROUP LIMITED","Private Sector Public Funded","x","x","x","x","x","x",null,".",".",".",".",".",".",null,".",".",".",".",".","."]
[10036578,"THE APPRENTICE ACADEMY LIMITED","Private Sector Public Funded",10,0,0,0,0,100,null,100,40,0,0,0,60,null,100,0,0,0,32,68]
[10000931,"THE APPRENTICE SCHOOL CHARITABLE TRUST","Other Public Funded",140,69,0,0,17,14,null,130,14,51,0,0,35,null,90,0,0,61,24,15]
[10042149,"THE BEAUTY ACADEMY LIMITED","Private Sector Public Funded",".",".",".",".",".",".",null,".",".",".",".",".",".",null,30,0,0,100,0,0]
[10000756,"THE BLACKPOOL SIXTH FORM COLLEGE","Other","x","x","x","x","x","x",null,"x","x","x","x","x","x",null,".",".",".",".",".","."]
[10047306,"THE BOSCO CENTRE","Other",".",".",".",".",".",".",null,"x","x","x","x","x","x",null,".",".",".",".",".","."]
[10006813,"THE BROOKE HOUSE SIXTH FORM COLLEGE","Other",120,41,0,30,0,29,null,190,30,20,18,0,31,null,150,12,0,55,18,15]
[10001080,"THE CADCENTRE (UK) LIMITED","Private Sector Public Funded",820,18,9,0,0,72,null,590,44,13,19,0,25,null,70,0,0,0,44,56]
[10006622,"THE CARE LEARNING CENTRE (ISLE OF WIGHT) LIMITED","Private Sector Public Funded",570,70,0,0,24,6,null,520,32,0,3,59,5,null,510,6,0,0,29,65]
[10022788,"THE CHILD CARE COMPANY (OLD WINDSOR) LIMITED","Private Sector Public Funded",20,100,0,0,0,0,null,30,100,0,0,0,0,null,90,54,32,0,0,14]
[10001463,"THE CITY LITERARY INSTITUTE","Special Colleges",23740,1,0,9,87,3,null,21130,0,0,87,8,3,null,19790,0,1,8,88,2]
[10003955,"THE CITY OF LIVERPOOL COLLEGE","General FE College incl Tertiary",5860,29,25,8,31,8,null,5250,54,16,15,10,5,null,4800,43,30,11,15,1]
[10001539,"THE COLLEGE OF ANIMAL WELFARE LIMITED","Private Sector Public Funded",460,18,10,4,26,43,null,350,0,0,0,47,53,null,200,0,0,13,16,72]
[10001550,"THE COLLEGE OF RICHARD COLLYER IN HORSHAM","Other",140,0,0,50,0,50,null,150,19,0,0,20,61,null,140,8,0,0,31,61]
[10007916,"THE COLLEGE OF WEST ANGLIA","General FE College incl Tertiary",4540,4,4,10,9,73,null,3470,1,10,11,25,53,null,2060,0,1,26,25,47]
[10019581,"THE CONSULTANCY HOME COUNTIES LIMITED","Private Sector Public Funded",".",".",".",".",".",".",null,".",".",".",".",".",".",null,"x","x","x","x","x","x"]
[10001695,"THE CORNWALL COUNCIL","Other Public Funded",2750,10,6,59,2,23,null,1740,4,43,39,4,10,null,1560,10,37,17,28,8]
[10001867,"THE DAVID LEWIS CENTRE","Other Public Funded",".",".",".",".",".",".",null,20,100,0,0,0,0,null,20,100,0,0,0,0]
[10006651,"THE DERBYSHIRE NETWORK","Private Sector Public Funded",1210,46,8,22,9,16,null,720,26,22,18,17,18,null,790,6,3,46,8,36]
[10002527,"THE FOOTBALL ASSOCIATION PREMIER LEAGUE LIMITED","Private Sector Public Funded",180,100,0,0,0,0,null,170,0,100,0,0,0,null,170,0,100,0,0,0]
[10002546,"THE FORTUNE CENTRE OF RIDING THERAPY","Private Sector Public Funded","x","x","x","x","x","x",null,".",".",".",".",".",".",null,"x","x","x","x","x","x"]
[10009072,"THE HEADMASTERS PARTNERSHIP LIMITED","Private Sector Public Funded",140,36,32,0,0,33,null,120,31,0,0,25,44,null,120,0,0,29,0,71]
[10003011,"THE HENLEY COLLEGE","Other",220,7,11,14,0,68,null,200,27,0,0,19,53,null,260,37,0,0,13,50]
[10022763,"THE INTRAINING GROUP LIMITED","Private Sector Public Funded","x","x","x","x","x","x",null,320,0,3,0,0,97,null,250,4,0,0,0,96]
[10030656,"THE JCB ACADEMY","Other",".",".",".",".",".",".",null,".",".",".",".",".",".",null,30,0,0,0,56,44]
[10010125,"THE LEARNING CONSORTIUM","Private Sector Public Funded",90,40,0,0,60,0,null,".",".",".",".",".",".",null,".",".",".",".",".","."]
[10006734,"THE LEARNING CURVE (VOLUNTARY SECTOR DEVELOPMENT)","Private Sector Public Funded",1060,60,6,0,32,1,null,1070,36,1,31,32,0,null,710,47,0,52,0,2]
[10006735,"THE LEARNING PARTNERSHIP FOR CORNWALL AND THE ISLES OF SCILLY LIMITED","Private Sector Public Funded",540,11,8,5,6,71,null,440,24,0,17,0,59,null,410,17,11,0,41,31]
[10004013,"THE LONDON COLLEGE OF BEAUTY THERAPY LIMITED","Private Sector Public Funded",3150,25,34,11,8,22,null,1190,25,18,33,2,22,null,770,47,11,25,0,17]
[10006571,"THE MOTOR INSURANCE REPAIR RESEARCH CENTRE","Private Sector Public Funded",50,50,0,0,50,0,null,40,28,0,0,0,72,null,50,0,0,0,33,67]
[10004444,"THE MOUNT CAMPHILL COMMUNITY LIMITED","Private Sector Public Funded","x","x","x","x","x","x",null,".",".",".",".",".",".",null,".",".",".",".",".","."]
[10004502,"THE NATIONAL CENTRE FOR YOUNG PEOPLE WITH EPILEPSY CHARITABLE TRUST","Private Sector Public Funded",30,100,0,0,0,0,null,40,100,0,0,0,0,null,40,100,0,0,0,0]
[10004762,"THE NORTHUMBERLAND COUNCIL","Other Public Funded",1570,38,1,45,12,4,null,1350,19,57,17,5,2,null,1490,19,21,49,8,2]
[10006770,"THE OLDHAM COLLEGE","General FE College incl Tertiary",3840,33,5,14,29,19,null,2380,31,21,3,17,28,null,1900,25,19,9,13,35]
[10030670,"THE REAL APPRENTICESHIP COMPANY LIMITED","Private Sector Public Funded",20,100,0,0,0,0,null,170,0,66,0,6,28,null,190,0,0,95,5,0]
[10006797,"THE REYNOLDS GROUP LIMITED","Private Sector Public Funded",230,72,6,0,0,22,null,190,28,23,20,7,22,null,210,68,0,0,14,18]
[10023525,"THE ROCHDALE SIXTH FORM COLLEGE","Other",".",".",".",".",".",".",null,"x","x","x","x","x","x",null,".",".",".",".",".","."]
[10005825,"THE SHROPSHIRE COUNCIL","Other Public Funded",1730,16,58,7,9,10,null,800,31,41,21,7,0,null,320,24,26,0,39,11]
[10005881,"THE SIXTH FORM COLLEGE COLCHESTER","Other","x","x","x","x","x","x",null,"x","x","x","x","x","x",null,"x","x","x","x","x","x"]
[10006814,"THE SIXTH FORM COLLEGE FARNBOROUGH","Other","x","x","x","x","x","x",null,".",".",".",".",".",".",null,".",".",".",".",".","."]
[10006815,"THE SIXTH FORM COLLEGE, SOLIHULL","Other","x","x","x","x","x","x",null,"x","x","x","x","x","x",null,"x","x","x","x","x","x"]
[10005894,"THE SKILLS PARTNERSHIP LIMITED","Private Sector Public Funded",1730,47,41,6,0,6,null,1800,29,60,5,0,6,null,1430,28,13,48,8,3]
[10036255,"THE TERRI BROOKE SCHOOL OF NAILS AND BEAUTY LTD","Private Sector Public Funded",".",".",".",".",".",".",null,"x","x","x","x","x","x",null,"x","x","x","x","x","x"]
[10006986,"THE TRAINING & RECRUITMENT PARTNERSHIP LIMITED","Private Sector Public Funded",550,40,21,0,17,22,null,550,34,12,27,16,11,null,780,59,26,6,0,8]
[10007070,"THE TTE TECHNICAL TRAINING GROUP","Private Sector Public Funded",70,0,0,0,100,0,null,100,0,100,0,0,0,null,90,0,0,0,100,0]
[10007157,"THE UNIVERSITY OF SHEFFIELD","Other Public Funded",".",".",".",".",".",".",null,"x","x","x","x","x","x",null,30,0,0,0,0,100]
[10006566,"THE UNIVERSITY OF WEST LONDON","Other Public Funded",120,10,0,0,51,39,null,180,0,61,8,0,31,null,160,25,48,0,0,27]
[10020194,"THE VIA PARTNERSHIP LIMITED","Private Sector Public Funded",40,0,0,0,0,100,null,20,48,0,0,0,52,null,"x","x","x","x","x","x"]
[10006847,"THE VOCATIONAL COLLEGE LIMITED","Private Sector Public Funded",770,67,9,18,5,0,null,700,68,0,10,9,13,null,750,74,17,0,7,2]
[10004788,"THE VOLUNTARY AND COMMUNITY SECTOR LEARNING AND SKILLS CONSORTIUM","Private Sector Public Funded",150,47,37,0,0,16,null,190,14,0,31,35,20,null,260,66,8,0,26,0]
[10007528,"THE WILTSHIRE COUNCIL","Other Public Funded",170,64,0,0,21,14,null,100,23,77,0,0,0,null,"x","x","x","x","x","x"]
[10003919,"THELIGHTBULB LTD","Private Sector Public Funded",1750,7,13,39,32,8,null,1670,17,20,45,17,1,null,1340,14,6,64,16,1]
[10032145,"THOMAS COOK GROUP UK LIMITED","Private Sector Public Funded",240,0,0,0,44,56,null,230,0,0,0,0,100,null,250,0,0,0,0,100]
[10006892,"THOMAS ROTHERHAM COLLEGE","Other","x","x","x","x","x","x",null,"x","x","x","x","x","x",null,"x","x","x","x","x","x"]
[10009777,"THORNBECK COLLEGE - NORTH EAST AUTISM SOCIETY","Private Sector Public Funded",".",".",".",".",".",".",null,"x","x","x","x","x","x",null,"x","x","x","x","x","x"]
[10006907,"THURROCK UNITARY AUTHORITY","Other Public Funded",510,10,28,28,22,12,null,520,10,29,0,30,32,null,470,15,38,2,23,21]
[10020313,"TIR TRAINING SERVICES LTD","Private Sector Public Funded",750,50,12,23,0,15,null,420,54,0,9,34,3,null,300,55,4,6,23,13]
[10023415,"TONI & GUY UK TRAINING LIMITED","Private Sector Public Funded",290,0,95,0,0,5,null,260,0,66,0,0,34,null,260,0,33,0,47,21]
[10021755,"TOTAL PEOPLE LIMITED","Private Sector Public Funded",2250,30,11,34,10,15,null,2160,27,23,3,19,28,null,2030,17,17,17,30,18]
[10006958,"TOTTON COLLEGE","Other",1170,18,53,7,5,17,null,770,16,37,11,2,35,null,90,0,0,45,16,39]
[10006963,"TOWER HAMLETS COLLEGE","General FE College incl Tertiary",3480,16,7,20,38,19,null,3020,9,15,16,55,4,null,2650,3,17,20,28,31]
[10006964,"TOWER HAMLETS LONDON BOROUGH COUNCIL","Other Public Funded",360,12,75,0,3,10,null,620,59,37,0,3,2,null,330,0,96,0,0,4]
[10011165,"TOYOTA(G.B.) PLC","Private Sector Public Funded",40,0,26,0,0,74,null,60,40,0,60,0,0,null,70,27,0,0,0,73]
[10010939,"TQ WORKFORCE DEVELOPMENT LIMITED","Private Sector Public Funded",3050,0,60,14,4,22,null,1590,75,3,0,17,5,null,1690,53,10,31,4,2]
[10005998,"TRAFFORD COLLEGE","General FE College incl Tertiary",4360,7,17,15,14,46,null,3560,7,14,29,35,15,null,2160,7,26,24,12,31]
[10010672,"TRAIN'D UP RAILWAY RESOURCING LIMITED","Private Sector Public Funded",80,49,0,37,0,14,null,90,51,0,37,0,12,null,130,14,23,27,21,15]
[10006987,"TRAINING 2000 LIMITED","Private Sector Public Funded",1040,17,9,3,39,31,null,850,23,4,0,52,21,null,850,17,1,15,16,50]
[10025964,"TRAINING DAYS CONSULTANCY LIMITED","Private Sector Public Funded",".",".",".",".",".",".",null,".",".",".",".",".",".",null,"x","x","x","x","x","x"]
[10031093,"TRAINING EVENT SAFETY SOLUTIONS LTD","Private Sector Public Funded",".",".",".",".",".",".",null,".",".",".",".",".",".",null,"x","x","x","x","x","x"]
[10031408,"TRAINING FUTURES (UK) LIMITED","Private Sector Public Funded",150,23,0,0,0,77,null,250,25,0,0,0,75,null,180,36,0,0,0,64]
[10007013,"TRAINING PLUS (MERSEYSIDE) LIMITED","Private Sector Public Funded",230,34,0,0,19,47,null,200,6,18,0,13,63,null,250,41,0,0,10,49]
[10007015,"TRAINING SERVICES 2000 LTD","Private Sector Public Funded",100,0,0,15,47,38,null,160,0,8,0,0,92,null,180,0,0,14,27,59]
[10027873,"TRAINING STRATEGIES LTD.","Private Sector Public Funded",70,49,0,0,0,51,null,40,74,0,0,0,26,null,80,25,62,0,0,13]
[10035270,"TRAINING SYNERGY LIMITED","Private Sector Public Funded",".",".",".",".",".",".",null,40,0,26,0,0,74,null,40,45,0,55,0,0]
[10021850,"TRANS-PLANT TRAINING LIMITED","Private Sector Public Funded",".",".",".",".",".",".",null,20,0,0,0,100,0,null,10,0,0,0,0,100]
[10005268,"TRANSWORLD PUBLICATIONS SERVICES LIMITED","Private Sector Public Funded",160,35,0,35,0,30,null,70,18,48,0,15,18,null,120,0,35,37,0,29]
[10027498,"TRAVIS PERKINS PLC","Private Sector Public Funded","x","x","x","x","x","x",null,".",".",".",".",".",".",null,".",".",".",".",".","."]
[10007031,"TRELOAR COLLEGE","Private Sector Public Funded","x","x","x","x","x","x",null,"x","x","x","x","x","x",null,"x","x","x","x","x","x"]
[10007035,"TRESHAM COLLEGE OF FURTHER AND HIGHER EDUCATION","General FE College incl Tertiary",4320,15,16,11,6,53,null,3530,4,19,4,14,59,null,2780,7,5,11,20,58]
[10011327,"TRIBAL EDUCATION LIMITED","Private Sector Public Funded","x","x","x","x","x","x",null,".",".",".",".",".",".",null,".",".",".",".",".","."]
[10028629,"TRINITY TRAINING SERVICES","Private Sector Public Funded","x","x","x","x","x","x",null,".",".",".",".",".",".",null,".",".",".",".",".","."]
[10000082,"TRN (TRAIN) LTD.","Private Sector Public Funded",740,12,0,28,22,38,null,460,21,5,0,65,8,null,390,4,44,17,0,35]
[10007063,"TRURO AND PENWITH COLLEGE","General FE College incl Tertiary",2780,10,8,12,56,14,null,1380,20,4,21,27,28,null,1080,22,11,1,14,52]
[10004589,"TTE TRAINING LIMITED","Private Sector Public Funded",120,0,0,0,0,100,null,120,0,10,0,0,90,null,80,0,0,0,0,100]
[10004123,"TUI UK LIMITED","Private Sector Public Funded",80,0,0,0,52,48,null,60,0,0,0,0,100,null,30,0,43,0,0,57]
[10008569,"TYNE METROPOLITAN COLLEGE","General FE College incl Tertiary",1610,34,26,8,17,15,null,1600,50,19,6,14,10,null,1070,32,23,22,4,18]
[10007100,"TYNE NORTH TRAINING LIMITED","Private Sector Public Funded",340,0,0,62,13,25,null,210,85,10,0,0,5,null,220,15,0,0,32,54]
[10007111,"UCKFIELD COMMUNITY TECHNOLOGY COLLEGE","Other",140,0,49,0,24,26,null,130,21,0,24,29,26,null,110,49,0,34,0,17]
[10007123,"UK TRAINING & DEVELOPMENT LIMITED","Private Sector Public Funded",200,21,7,0,0,72,null,220,40,0,0,27,34,null,200,59,0,7,0,33]
[10033129,"UNIQUE TRAINING NORTH EAST LIMITED","Private Sector Public Funded",110,81,19,0,0,0,null,100,0,66,23,11,0,null,60,0,62,38,0,0]
[10037395,"UNITED LEARNING TRUST","Private Sector Public Funded","x","x","x","x","x","x",null,10,0,0,0,100,0,null,".",".",".",".",".","."]
[10000712,"UNIVERSITY COLLEGE BIRMINGHAM","Other Public Funded",70,69,31,0,0,0,null,90,0,0,0,0,100,null,60,0,70,0,0,30]
[10006427,"UNIVERSITY FOR THE CREATIVE ARTS","Other Public Funded",160,0,0,0,0,100,null,150,0,0,0,0,100,null,160,8,0,0,0,92]
[10007851,"UNIVERSITY OF DERBY","Other Public Funded",1900,7,18,15,9,51,null,1560,5,8,10,28,50,null,1200,6,2,15,43,33]
[10007143,"UNIVERSITY OF DURHAM","Other Public Funded","x","x","x","x","x","x",null,"x","x","x","x","x","x",null,"x","x","x","x","x","x"]
[10007151,"UNIVERSITY OF LINCOLN","Other Public Funded",310,0,0,0,0,100,null,330,0,0,0,0,100,null,180,15,10,0,9,67]
[10046704,"UPLANDS EDUCATIONAL TRUST","Private Sector Public Funded",".",".",".",".",".",".",null,".",".",".",".",".",".",null,40,0,0,0,100,0]
[10021021,"URBAN FUTURES LONDON LIMITED","Private Sector Public Funded","x","x","x","x","x","x",null,".",".",".",".",".",".",null,10,100,0,0,0,0]
[10007193,"UXBRIDGE COLLEGE","General FE College incl Tertiary",3940,22,2,16,54,6,null,2830,22,10,50,12,5,null,1500,22,32,31,5,10]
[10003841,"V LEARNING NET","Private Sector Public Funded",1400,38,0,9,49,3,null,1230,41,20,0,1,38,null,930,24,25,9,0,42]
[10019260,"VALLEY FORGE (UK) LIMITED","Private Sector Public Funded",60,0,0,0,56,44,null,".",".",".",".",".",".",null,".",".",".",".",".","."]
[10007212,"VARNDEAN COLLEGE","Other",300,0,18,9,30,44,null,270,13,53,0,6,28,null,310,28,31,17,0,25]
[10024426,"VECTOR AEROSPACE INTERNATIONAL LIMITED","Private Sector Public Funded","x","x","x","x","x","x",null,"x","x","x","x","x","x",null,"x","x","x","x","x","x"]
[10007218,"VENTURE LEARNING LIMITED","Private Sector Public Funded",110,0,0,0,0,100,null,140,71,9,0,0,20,null,".",".",".",".",".","."]
[10014199,"VEOLIA ENVIRONNEMENT DEVELOPMENT CENTRE LIMITED","Private Sector Public Funded",350,5,12,0,31,52,null,290,82,0,0,0,18,null,220,0,69,5,7,18]
[10023925,"VIRGIN MEDIA LIMITED","Private Sector Public Funded",40,0,0,0,100,0,null,80,16,0,0,84,0,null,110,0,72,0,0,28]
[10006845,"VIRTUAL COLLEGE LIMITED","Private Sector Public Funded",840,7,0,5,23,65,null,830,10,7,0,65,18,null,460,2,50,3,28,17]
[10007232,"VISAGE SCHOOL OF BEAUTY THERAPY LIMITED","Private Sector Public Funded",60,100,0,0,0,0,null,30,100,0,0,0,0,null,".",".",".",".",".","."]
[10042126,"VISION EXPRESS (UK) LIMITED","Private Sector Public Funded",".",".",".",".",".",".",null,20,0,0,0,0,100,null,50,0,100,0,0,0]
[10009450,"VOCATIONAL TRAINING SERVICES CARE SECTOR LIMITED","Private Sector Public Funded",".",".",".",".",".",".",null,30,0,0,0,0,100,null,10,0,0,0,100,0]
[10001787,"VOLUNTEERING MATTERS","Private Sector Public Funded","x","x","x","x","x","x",null,"x","x","x","x","x","x",null,"x","x","x","x","x","x"]
[10030462,"VOYAGE GROUP LIMITED","Private Sector Public Funded",200,0,0,0,0,100,null,130,0,0,0,0,100,null,190,0,0,0,28,72]
[10022405,"VQ SOLUTIONS LTD","Private Sector Public Funded","x","x","x","x","x","x",null,10,0,0,0,0,100,null,30,100,0,0,0,0]
[10007659,"W S TRAINING LTD.","Private Sector Public Funded",890,3,5,26,35,31,null,830,11,24,10,19,36,null,720,24,32,17,9,18]
[10007291,"WAKEFIELD CITY COUNCIL","Other Public Funded",2430,18,29,12,34,8,null,2000,7,55,15,14,9,null,1420,22,53,18,4,2]
[10007289,"WAKEFIELD COLLEGE","General FE College incl Tertiary",2880,18,17,12,39,13,null,2360,14,16,5,19,45,null,2110,16,23,7,39,16]
[10007315,"WALSALL COLLEGE","General FE College incl Tertiary",4350,8,43,16,26,8,null,3880,26,19,17,23,16,null,3210,39,18,25,12,6]
[10007318,"WALSALL METROPOLITAN BOROUGH COUNCIL","Other Public Funded",2240,28,40,12,20,0,null,1630,55,23,1,1,20,null,1200,50,17,3,24,7]
[10007320,"WALTHAM FOREST CHAMBER OF COMMERCE TRAINING TRUST LIMITED","Private Sector Public Funded",30,56,0,0,0,44,null,20,50,0,0,0,50,null,60,82,18,0,0,0]
[10007321,"WALTHAM FOREST COLLEGE","General FE College incl Tertiary",4380,17,58,4,15,6,null,3460,11,61,20,2,6,null,2830,28,16,25,15,16]
[10007322,"WALTHAM FOREST LONDON BOROUGH COUNCIL","Other Public Funded",2820,13,37,1,48,0,null,2330,64,20,3,0,13,null,2000,25,62,1,12,0]
[10004002,"WANDSWORTH LONDON BOROUGH COUNCIL","Other Public Funded",190,29,46,0,0,25,null,160,74,0,0,15,10,null,140,23,22,55,0,0]
[10007336,"WARRINGTON BOROUGH COUNCIL","Other Public Funded",10,0,0,100,0,0,null,20,0,0,0,100,0,null,".",".",".",".",".","."]
[10007339,"WARRINGTON COLLEGIATE","General FE College incl Tertiary",3630,7,7,13,5,67,null,3860,9,5,3,7,75,null,2930,5,4,22,3,65]
[10007859,"WARWICKSHIRE COLLEGE","General FE College incl Tertiary",3500,20,21,9,18,33,null,2190,1,6,12,24,57,null,1540,3,16,14,38,29]
[10007348,"WARWICKSHIRE COUNTY COUNCIL","Other Public Funded",980,14,22,14,3,47,null,830,0,79,0,0,21,null,620,0,29,37,20,14]
[10008986,"WAVERLEY BOROUGH COUNCIL","Other Public Funded",610,3,80,12,0,5,null,430,30,26,0,12,32,null,150,34,0,34,8,23]
[10007375,"WEBS TRAINING LIMITED","Private Sector Public Funded",120,28,0,0,60,11,null,90,35,65,0,0,0,null,50,0,0,0,0,100]
[10007377,"WEIR TRAINING LIMITED","Private Sector Public Funded",340,56,7,0,26,11,null,200,50,7,0,8,35,null,200,6,50,0,0,45]
[10012825,"WESC FOUNDATION COLLEGE","Other Public Funded","x","x","x","x","x","x",null,"x","x","x","x","x","x",null,"x","x","x","x","x","x"]
[10007396,"WEST ANGLIA TRAINING ASSOCIATION LIMITED","Private Sector Public Funded",40,0,0,0,49,51,null,100,41,32,27,0,0,null,30,0,0,0,57,43]
[10007398,"WEST BERKSHIRE COUNCIL","Other Public Funded",20,100,0,0,0,0,null,70,100,0,0,0,0,null,40,0,100,0,0,0]
[10007402,"WEST BERKSHIRE TRAINING CONSORTIUM","Private Sector Public Funded",820,66,3,14,13,5,null,510,49,39,0,0,12,null,650,73,0,2,12,13]
[10007407,"WEST CHESHIRE COLLEGE","General FE College incl Tertiary",3510,12,15,11,24,37,null,2780,17,4,30,33,16,null,2460,7,5,12,16,60]
[10007417,"WEST HERTS COLLEGE","General FE College incl Tertiary",2170,20,29,33,4,14,null,1660,9,19,14,42,17,null,1060,10,31,8,32,18]
[10007419,"WEST KENT AND ASHFORD COLLEGE","General FE College incl Tertiary",4200,17,36,24,10,14,null,2060,19,27,3,2,48,null,1560,16,6,12,50,15]
[10053961,"WEST LANCASHIRE COLLEGE","General FE College incl Tertiary",".",".",".",".",".",".",null,".",".",".",".",".",".",null,1010,21,20,6,37,17]
[10007423,"WEST LONDON TRAINING LIMITED","Private Sector Public Funded","x","x","x","x","x","x",null,".",".",".",".",".",".",null,".",".",".",".",".","."]
[10023130,"WEST LONDON VOCATIONAL TRAINING COLLEGE LTD","Private Sector Public Funded",".",".",".",".",".",".",null,50,100,0,0,0,0,null,"x","x","x","x","x","x"]
[10007427,"WEST NOTTINGHAMSHIRE COLLEGE","General FE College incl Tertiary",11580,18,25,18,34,5,null,8960,5,51,12,14,19,null,7010,16,33,20,18,14]
[10007431,"WEST SUFFOLK COLLEGE","General FE College incl Tertiary",3670,1,14,23,45,18,null,2640,5,6,13,27,48,null,2330,11,3,33,27,26]
[10007432,"WEST SUSSEX COUNTY COUNCIL","Other Public Funded",2140,37,40,7,10,6,null,1550,15,13,28,35,9,null,1570,0,71,18,2,10]
[10007434,"WEST THAMES COLLEGE","General FE College incl Tertiary",2960,13,16,19,20,31,null,3060,8,27,25,29,11,null,2090,9,3,20,24,45]
[10008591,"WEST YORKSHIRE LEARNING PROVIDERS LTD","Private Sector Public Funded",710,35,17,0,11,37,null,570,13,19,14,0,54,null,600,20,18,5,28,29]
[10019456,"WESTGATE COLLEGE","Other Public Funded",20,100,0,0,0,0,null,"x","x","x","x","x","x",null,".",".",".",".",".","."]
[10001464,"WESTMINSTER CITY COUNCIL","Other Public Funded",7220,46,4,7,41,2,null,6040,6,50,36,6,2,null,4570,22,48,1,28,2]
[10007455,"WESTMINSTER KINGSWAY COLLEGE","General FE College incl Tertiary",8940,4,34,28,24,10,null,6950,17,15,24,40,4,null,4500,24,41,12,11,12]
[10007459,"WESTON COLLEGE OF FURTHER AND HIGHER EDUCATION","General FE College incl Tertiary",5350,43,13,5,12,28,null,5800,43,12,5,34,6,null,4710,25,13,39,12,10]
[10003256,"WESTWARD PATHFINDER","Private Sector Public Funded",440,16,26,0,46,12,null,310,0,39,0,0,61,null,380,7,35,0,0,57]
[10007469,"WEYMOUTH COLLEGE","General FE College incl Tertiary",690,24,5,33,18,20,null,770,10,33,12,26,18,null,530,19,36,15,12,18]
[10008023,"WHITBREAD PLC","Private Sector Public Funded",".",".",".",".",".",".",null,"x","x","x","x","x","x",null,110,0,0,0,0,100]
[10007500,"WIGAN AND LEIGH COLLEGE","General FE College incl Tertiary",4130,12,19,33,12,24,null,3640,27,9,24,16,24,null,2660,7,17,31,23,21]
[10007502,"WIGAN METROPOLITAN BOROUGH COUNCIL","Other Public Funded",460,48,0,0,24,28,null,490,20,0,56,9,16,null,480,23,30,21,2,24]
[10007503,"WILBERFORCE COLLEGE","Other",20,100,0,0,0,0,null,"x","x","x","x","x","x",null,"x","x","x","x","x","x"]
[10007514,"WILLIAM MORRIS CAMPHILL COMMUNITY","Private Sector Public Funded","x","x","x","x","x","x",null,"x","x","x","x","x","x",null,"x","x","x","x","x","x"]
[10007527,"WILTSHIRE COLLEGE","General FE College incl Tertiary",4530,17,27,5,37,13,null,3070,33,2,18,30,17,null,3350,35,13,30,10,12]
[10008024,"WILTSHIRE TRANSPORT TRAINING & DEVELOPMENT LIMITED","Private Sector Public Funded",610,14,15,59,12,0,null,510,50,0,50,0,0,null,380,9,0,85,5,0]
[10019780,"WINCANTON GROUP LIMITED","Private Sector Public Funded",".",".",".",".",".",".",null,20,0,0,100,0,0,null,60,41,0,0,0,59]
[10007546,"WINSTANLEY COLLEGE","Other","x","x","x","x","x","x",null,"x","x","x","x","x","x",null,"x","x","x","x","x","x"]
[10007553,"WIRRAL METROPOLITAN COLLEGE","General FE College incl Tertiary",4610,25,3,26,3,43,null,3700,7,12,11,23,47,null,3150,10,12,13,29,36]
[10007566,"WOKING COLLEGE","Other",370,11,81,0,5,3,null,340,33,67,0,0,0,null,350,10,90,0,0,0]
[10007567,"WOKINGHAM COUNCIL","Other Public Funded",80,75,0,0,0,25,null,80,59,41,0,0,0,null,60,100,0,0,0,0]
[10007576,"WOLVERHAMPTON CITY COUNCIL","Other Public Funded",2340,31,4,50,14,0,null,2000,34,22,33,4,7,null,1850,30,43,11,16,1]
[10007594,"WOMEN'S TECHNOLOGY TRAINING LIMITED","Private Sector Public Funded",610,2,52,19,0,27,null,280,48,52,0,0,0,null,80,77,0,0,23,0]
[10007609,"WOODHOUSE COLLEGE","Other",".",".",".",".",".",".",null,"x","x","x","x","x","x",null,"x","x","x","x","x","x"]
[10000028,"WOODSPEEN TRAINING LIMITED","Private Sector Public Funded",1440,30,59,0,0,11,null,1390,25,31,5,32,8,null,1010,18,19,35,15,13]
[10007621,"WORCESTER COLLEGE OF TECHNOLOGY","General FE College incl Tertiary",3960,5,17,20,41,16,null,".",".",".",".",".",".",null,".",".",".",".",".","."]
[10008025,"WORCESTER SIXTH FORM COLLEGE","Other",50,0,34,0,0,66,null,80,33,15,0,0,52,null,40,69,0,0,0,31]
[10007623,"WORCESTERSHIRE COUNTY COUNCIL","Other Public Funded",550,33,44,0,0,23,null,230,33,52,0,0,15,null,230,0,68,0,19,12]
[10036871,"WORK SKILLS LIMITED","Private Sector Public Funded",440,62,9,0,0,28,null,".",".",".",".",".",".",null,".",".",".",".",".","."]
[10007364,"WORKERS' EDUCATIONAL ASSOCIATION","Special Colleges",40980,52,40,2,5,1,null,37740,56,37,3,3,1,null,31580,91,0,0,7,1]
[10007635,"WORKING LINKS (EMPLOYMENT) LIMITED","Private Sector Public Funded","x","x","x","x","x","x",null,".",".",".",".",".",".",null,".",".",".",".",".","."]
[10007636,"WORKING MEN'S COLLEGE CORPORATION","Special Colleges",4520,30,0,63,0,6,null,4460,3,42,49,0,6,null,4110,45,48,4,3,1]
[10038231,"WORKING RITE","Private Sector Public Funded","x","x","x","x","x","x",null,".",".",".",".",".",".",null,"x","x","x","x","x","x"]
[10007643,"WORTHING COLLEGE","General FE College incl Tertiary",60,16,0,18,0,66,null,60,0,0,51,0,49,null,50,0,0,0,0,100]
[10007657,"WRITTLE COLLEGE","Other Public Funded",290,17,7,0,45,32,null,340,0,10,23,31,35,null,300,17,4,0,8,71]
[10007671,"WYGGESTON AND QUEEN ELIZABETH I COLLEGE","Other","x","x","x","x","x","x",null,"x","x","x","x","x","x",null,"x","x","x","x","x","x"]
[10007673,"WYKE SIXTH FORM COLLEGE","Other","x","x","x","x","x","x",null,"x","x","x","x","x","x",null,"x","x","x","x","x","x"]
[10007682,"XAVERIAN COLLEGE","Other","x","x","x","x","x","x",null,10,100,0,0,0,0,null,10,100,0,0,0,0]
[10005150,"XTP INTERNATIONAL LIMITED","Private Sector Public Funded",190,41,0,0,44,15,null,110,83,0,0,0,17,null,190,94,0,0,0,6]
[10007696,"YEOVIL COLLEGE","General FE College incl Tertiary",1150,18,19,3,31,29,null,1420,38,10,2,22,28,null,770,4,4,9,22,61]
[10007697,"YH TRAINING SERVICES LIMITED","Private Sector Public Funded",1260,32,26,27,8,8,null,1200,18,20,28,0,34,null,960,18,5,15,24,38]
[10007698,"YMCA DERBYSHIRE.","Private Sector Public Funded","x","x","x","x","x","x",null,"x","x","x","x","x","x",null,"x","x","x","x","x","x"]
[10007405,"YMCA TRAINING","Private Sector Public Funded",1210,29,41,5,0,25,null,1180,5,4,36,19,36,null,1360,16,22,3,18,41]
[10007709,"YORK COLLEGE","General FE College incl Tertiary",2270,5,9,4,9,74,null,1840,3,7,20,3,67,null,1200,2,1,9,11,76]
[10008699,"YORKSHIRE COLLEGE OF BEAUTY LIMITED","Private Sector Public Funded",160,34,0,0,0,66,null,100,70,16,0,0,15,null,110,61,0,13,0,26]
[10007722,"YORKSHIRE TRAINING PARTNERSHIP LIMITED","Private Sector Public Funded",880,28,0,18,3,50,null,390,25,19,18,7,30,null,380,27,46,6,0,21]
[10004370,"YOUNGSAVE COMPANY LIMITED","Private Sector Public Funded",110,15,40,0,0,45,null,130,87,0,0,13,0,null,120,42,58,0,0,0]
[10021339,"YOUR CONSORTIUM LIMITED","Private Sector Public Funded",140,92,0,0,0,8,null,".",".",".",".",".",".",null,".",".",".",".",".","."]

{"sheet":"PR06","index":3,"n_rows":12897,"n_cols":26,"rows_kept":2250,"cut":true,"hidden":false,"merged":[[3,19,3,25],[4,19,4,21],[4,23,4,25],[3,11,3,17],[3,3,3,9],[4,3,4,5],[4,7,4,9],[4,11,4,13],[4,15,4,17]],"bounds":{"rows_first":1000,"rows_last":250,"rows_between":1000,"halvings":1}}
["PR06: Completion count, Sustained Positive Destination Rate and Quintile by Learner category"]
["Cohort includes all age Apprenticeships, all age Traineeships, and Adult (19+) FE and Skills learners that completed an ESFA funded aim in academic years 2013/14, 2014/15 and 2015/16"]
[]
[null,null,null,"2013/14",null,null,null,null,null,null,null,"2014/15",null,null,null,null,null,null,null,"2015/16"]
[null,null,null,"Benefit learners",null,null,null,"All (excl. benefit learners)",null,null,null,"Benefit learners",null,null,null,"All (excl. benefit learners)",null,null,null,"Benefit learners",null,null,null,"All (excl. benefit learners)"]
["UKPRN","Provider Name","Learner Category","Completions","Sustained Positive Destination Rate","Quintile",null,"Completions","Sustained Positive Destination Rate","Quintile",null,"Completions","Sustained Positive Destination Rate","Quintile",null,"Completions","Sustained Positive Destination Rate","Quintile",null,"Completions","Sustained Positive Destination Rate","Quintile",null,"Completions","Sustained Positive Destination Rate","Quintile"]
[10003876,"1LIFE MANAGEMENT SOLUTIONS LIMITED","LLDD learner","x","x","x",null,20,88,"top quintile",null,".",".",".",null,"x","x","x",null,".",".",".",null,".",".","."]
[10003876,"1LIFE MANAGEMENT SOLUTIONS LIMITED","Advanced and Higher Apprenticeships: Business, Administration and Law",".",".",".",null,20,100,"top quintile",null,".",".",".",null,".",".",".",null,".",".",".",null,".",".","."]
[10003876,"1LIFE MANAGEMENT SOLUTIONS LIMITED","Advanced and Higher Apprenticeships: Leisure, Travel and Tourism",".",".",".",null,30,89,"third quintile",null,".",".",".",null,"x","x","x",null,".",".",".",null,".",".","."]
[10003876,"1LIFE MANAGEMENT SOLUTIONS LIMITED","Intermediate Apprenticeships: Business, Administration and Law",".",".",".",null,30,96,"top quintile",null,".",".",".",null,"x","x","x",null,".",".",".",null,".",".","."]
[10003876,"1LIFE MANAGEMENT SOLUTIONS LIMITED","Intermediate Apprenticeships: Leisure, Travel and Tourism","x","x","x",null,50,94,"fourth quintile",null,".",".",".",null,"x","x","x",null,".",".",".",null,".",".","."]
[10000020,"5 E LTD.","LLDD learner",130,47,"fourth quintile",null,50,41,"bottom quintile",null,90,33,"bottom quintile",null,60,29,"bottom quintile",null,80,48,"fourth quintile",null,40,40,"bottom quintile"]
[10000020,"5 E LTD.","Advanced and Higher Apprenticeships: Information and Communication Technology","x","x","x",null,10,100,"top quintile",null,"x","x","x",null,"x","x","x",null,".",".",".",null,20,81,"bottom quintile"]
[10000020,"5 E LTD.","Full Level 3+: Business, Administration and Law",".",".",".",null,".",".",".",null,"x","x","x",null,20,81,"bottom quintile",null,"x","x","x",null,40,69,"second quintile"]
[10000020,"5 E LTD.","Full Level 3+: Information and Communication Technology",50,60,"second quintile",null,30,76,"second quintile",null,40,64,"second quintile",null,30,81,"third quintile",null,30,54,"bottom quintile",null,40,76,"second quintile"]
[10000020,"5 E LTD.","Other Level 3",10,70,"third quintile",null,"x","x","x",null,"x","x","x",null,"x","x","x",null,"x","x","x",null,"x","x","x"]
[10000020,"5 E LTD.","Full Level 2: Business, Administration and Law",10,46,"bottom quintile",null,"x","x","x",null,".",".",".",null,".",".",".",null,"x","x","x",null,".",".","."]
[10000020,"5 E LTD.","Full Level 2: Information and Communication Technology",130,58,"bottom quintile",null,20,50,"bottom quintile",null,50,52,"bottom quintile",null,20,44,"bottom quintile",null,30,30,"bottom quintile",null,20,63,"second quintile"]
[10000020,"5 E LTD.","Full Level 2: Retail and Commercial Enterprise",10,31,"bottom quintile",null,"x","x","x",null,"x","x","x",null,".",".",".",null,".",".",".",null,".",".","."]
[10000020,"5 E LTD.","Traineeships",20,72,"fourth quintile",null,"x","x","x",null,80,50,"bottom quintile",null,20,60,"bottom quintile",null,40,56,"third quintile",null,40,55,"second quintile"]
[10000020,"5 E LTD.","English & Maths","x","x","x",null,".",".",".",null,10,77,"top quintile",null,"x","x","x",null,".",".",".",null,".",".","."]
[10000020,"5 E LTD.","English for Speakers of Other Languages (ESOL)",50,49,"bottom quintile",null,10,40,"bottom quintile",null,80,58,"fourth quintile",null,30,32,"bottom quintile",null,"x","x","x",null,".",".","."]
[10000020,"5 E LTD.","Other provision below Full Level 2",250,53,"fourth quintile",null,20,42,"bottom quintile",null,140,50,"second quintile",null,30,39,"bottom quintile",null,380,51,"third quintile",null,70,31,"bottom quintile"]
[10000115,"A4E LTD","LLDD learner",1880,39,"bottom quintile",null,610,31,"bottom quintile",null,790,40,"bottom quintile",null,620,58,"second quintile",null,230,40,"second quintile",null,100,46,"bottom quintile"]
[10000115,"A4E LTD","Advanced and Higher Apprenticeships: Business, Administration and Law",".",".",".",null,50,98,"top quintile",null,".",".",".",null,30,94,"third quintile",null,".",".",".",null,30,100,"top quintile"]
[10000115,"A4E LTD","Advanced and Higher Apprenticeships: Health, Public Services and Care","x","x","x",null,40,90,"bottom quintile",null,".",".",".",null,70,95,"top quintile",null,".",".",".",null,20,93,"fourth quintile"]
[10000115,"A4E LTD","Intermediate Apprenticeships: Business, Administration and Law",".",".",".",null,50,91,"second quintile",null,".",".",".",null,70,88,"bottom quintile",null,"x","x","x",null,40,85,"bottom quintile"]
[10000115,"A4E LTD","Intermediate Apprenticeships: Engineering and Manufacturing Technologies",".",".",".",null,".",".",".",null,".",".",".",null,30,94,"third quintile",null,".",".",".",null,"x","x","x"]
[10000115,"A4E LTD","Intermediate Apprenticeships: Health, Public Services and Care","x","x","x",null,40,93,"fourth quintile",null,".",".",".",null,60,93,"fourth quintile",null,".",".",".",null,"x","x","x"]
[10000115,"A4E LTD","Full Level 2: Business, Administration and Law",190,54,"second quintile",null,20,53,"bottom quintile",null,150,58,"third quintile",null,90,81,"bottom quintile",null,40,67,"top quintile",null,30,84,"bottom quintile"]
[10000115,"A4E LTD","Full Level 2: Engineering and Manufacturing Technologies",".",".",".",null,".",".",".",null,".",".",".",null,10,92,"top quintile",null,".",".",".",null,"x","x","x"]
[10000115,"A4E LTD","Full Level 2: Health, Public Services and Care",330,60,"second quintile",null,50,73,"bottom quintile",null,170,68,"fourth quintile",null,1840,94,"top quintile",null,".",".",".",null,80,93,"fourth quintile"]
[10000115,"A4E LTD","Full Level 2: Preparation for Life and Work",".",".",".",null,".",".",".",null,".",".",".",null,150,94,"top quintile",null,".",".",".",null,"x","x","x"]
[10000115,"A4E LTD","Full Level 2: Retail and Commercial Enterprise",130,56,"third quintile",null,"x","x","x",null,120,54,"third quintile",null,10,69,"second quintile",null,40,56,"fourth quintile",null,"x","x","x"]
[10000115,"A4E LTD","English & Maths",280,37,"bottom quintile",null,30,52,"bottom quintile",null,170,38,"bottom quintile",null,40,48,"bottom quintile",null,40,57,"fourth quintile",null,"x","x","x"]
[10000115,"A4E LTD","Other provision below Full Level 2",3740,49,"second quintile",null,340,36,"bottom quintile",null,1290,51,"second quintile",null,790,82,"third quintile",null,480,49,"second quintile",null,100,69,"second quintile"]
[10000055,"ABINGDON AND WITNEY COLLEGE","LLDD learner",100,69,"top quintile",null,570,76,"top quintile",null,20,86,"top quintile",null,320,72,"fourth quintile",null,30,63,"top quintile",null,420,68,"third quintile"]
[10000055,"ABINGDON AND WITNEY COLLEGE","Advanced and Higher Apprenticeships: Business, Administration and Law",".",".",".",null,"x","x","x",null,".",".",".",null,".",".",".",null,".",".",".",null,20,67,"bottom quintile"]
[10000055,"ABINGDON AND WITNEY COLLEGE","Full Level 3+: Arts, Media and Publishing",".",".",".",null,30,88,"fourth quintile",null,".",".",".",null,20,87,"fourth quintile",null,".",".",".",null,20,100,"top quintile"]
[10000055,"ABINGDON AND WITNEY COLLEGE","Full Level 3+: Business, Administration and Law","x","x","x",null,60,95,"top quintile",null,"x","x","x",null,70,94,"top quintile",null,".",".",".",null,30,82,"second quintile"]
[10000055,"ABINGDON AND WITNEY COLLEGE","Full Level 3+: Health, Public Services and Care",".",".",".",null,10,90,"fourth quintile",null,".",".",".",null,10,90,"fourth quintile",null,".",".",".",null,"x","x","x"]
[10000055,"ABINGDON AND WITNEY COLLEGE","Full Level 3+: Retail and Commercial Enterprise","x","x","x",null,10,73,"second quintile",null,"x","x","x",null,10,79,"fourth quintile",null,"x","x","x",null,10,60,"bottom quintile"]
[10000055,"ABINGDON AND WITNEY COLLEGE","Access to HE","x","x","x",null,30,84,"bottom quintile",null,"x","x","x",null,40,89,"second quintile",null,"x","x","x",null,30,97,"top quintile"]
[10000055,"ABINGDON AND WITNEY COLLEGE","Other Level 3",".",".",".",null,60,91,"third quintile",null,".",".",".",null,"x","x","x",null,".",".",".",null,"x","x","x"]
[10000055,"ABINGDON AND WITNEY COLLEGE","Intermediate Apprenticeships: Business, Administration and Law",".",".",".",null,20,95,"top quintile",null,".",".",".",null,30,93,"third quintile",null,".",".",".",null,40,93,"fourth quintile"]
[10000055,"ABINGDON AND WITNEY COLLEGE","Intermediate Apprenticeships: Engineering and Manufacturing Technologies",".",".",".",null,"x","x","x",null,".",".",".",null,10,100,"top quintile",null,".",".",".",null,".",".","."]
[10000055,"ABINGDON AND WITNEY COLLEGE","Intermediate Apprenticeships: Health, Public Services and Care",".",".",".",null,"x","x","x",null,".",".",".",null,".",".",".",null,".",".",".",null,20,80,"bottom quintile"]
[10000055,"ABINGDON AND WITNEY COLLEGE","Full Level 2: Agriculture, Horticulture and Animal Care","x","x","x",null,40,85,"third quintile",null,"x","x","x",null,50,83,"third quintile",null,"x","x","x",null,70,90,"top quintile"]
[10000055,"ABINGDON AND WITNEY COLLEGE","Full Level 2: Business, Administration and Law",10,80,"top quintile",null,100,94,"top quintile",null,".",".",".",null,40,91,"fourth quintile",null,".",".",".",null,60,92,"fourth quintile"]
[10000055,"ABINGDON AND WITNEY COLLEGE","Full Level 2: Engineering and Manufacturing Technologies",".",".",".",null,50,100,"top quintile",null,".",".",".",null,30,64,"bottom quintile",null,".",".",".",null,10,92,"top quintile"]
[10000055,"ABINGDON AND WITNEY COLLEGE","Full Level 2: Health, Public Services and Care",".",".",".",null,20,76,"bottom quintile",null,".",".",".",null,10,86,"bottom quintile",null,"x","x","x",null,60,90,"third quintile"]
[10000055,"ABINGDON AND WITNEY COLLEGE","Full Level 2: Languages, Literature and Culture","x","x","x",null,10,100,"top quintile",null,"x","x","x",null,20,100,"top quintile",null,"x","x","x",null,70,87,"third quintile"]
[10000055,"ABINGDON AND WITNEY COLLEGE","Full Level 2: Leisure, Travel and Tourism",".",".",".",null,"x","x","x",null,"x","x","x",null,30,93,"top quintile",null,".",".",".",null,30,92,"top quintile"]
[10000055,"ABINGDON AND WITNEY COLLEGE","Full Level 2: Retail and Commercial Enterprise","x","x","x",null,60,90,"top quintile",null,"x","x","x",null,20,94,"top quintile",null,"x","x","x",null,20,87,"top quintile"]
[10000055,"ABINGDON AND WITNEY COLLEGE","Full Level 2: Science and Mathematics","x","x","x",null,30,92,"fourth quintile",null,".",".",".",null,50,94,"top quintile",null,"x","x","x",null,110,92,"fourth quintile"]
[10000055,"ABINGDON AND WITNEY COLLEGE","English & Maths",70,59,"fourth quintile",null,240,76,"third quintile",null,"x","x","x",null,80,93,"top quintile",null,10,60,"fourth quintile",null,490,71,"second quintile"]
[10000055,"ABINGDON AND WITNEY COLLEGE","English for Speakers of Other Languages (ESOL)","x","x","x",null,110,62,"second quintile",null,".",".",".",null,".",".",".",null,".",".",".",null,20,85,"top quintile"]
[10000055,"ABINGDON AND WITNEY COLLEGE","Other provision below Full Level 2",40,67,"top quintile",null,1030,79,"fourth quintile",null,"x","x","x",null,250,92,"top quintile",null,20,61,"top quintile",null,530,85,"top quintile"]
[10019646,"ABIS RESOURCES LIMITED","Full Level 3+: Health, Public Services and Care",".",".",".",null,".",".",".",null,".",".",".",null,"x","x","x",null,"x","x","x",null,50,66,"bottom quintile"]
[10000060,"ACACIA TRAINING AND DEVELOPMENT LTD","LLDD learner",560,47,"fourth quintile",null,330,52,"bottom quintile",null,330,48,"fourth quintile",null,300,51,"bottom quintile",null,240,43,"third quintile",null,240,59,"second quintile"]
[10000060,"ACACIA TRAINING AND DEVELOPMENT LTD","Advanced and Higher Apprenticeships: Business, Administration and Law",".",".",".",null,30,93,"second quintile",null,".",".",".",null,30,100,"top quintile",null,".",".",".",null,30,97,"top quintile"]
[10000060,"ACACIA TRAINING AND DEVELOPMENT LTD","Advanced and Higher Apprenticeships: Health, Public Services and Care",".",".",".",null,160,93,"third quintile",null,".",".",".",null,110,95,"top quintile",null,".",".",".",null,80,92,"fourth quintile"]
[10000060,"ACACIA TRAINING AND DEVELOPMENT LTD","Advanced and Higher Apprenticeships: Retail and Commercial Enterprise","x","x","x",null,"x","x","x",null,".",".",".",null,10,100,"top quintile",null,".",".",".",null,"x","x","x"]
[10000060,"ACACIA TRAINING AND DEVELOPMENT LTD","Full Level 3+: Health, Public Services and Care","x","x","x",null,90,94,"top quintile",null,".",".",".",null,40,95,"top quintile",null,".",".",".",null,10,90,"fourth quintile"]
[10000060,"ACACIA TRAINING AND DEVELOPMENT LTD","Other Level 3",".",".",".",null,50,98,"top quintile",null,".",".",".",null,"x","x","x",null,".",".",".",null,".",".","."]
[10000060,"ACACIA TRAINING AND DEVELOPMENT LTD","Intermediate Apprenticeships: Business, Administration and Law","x","x","x",null,30,89,"bottom quintile",null,".",".",".",null,30,96,"top quintile",null,".",".",".",null,20,95,"top quintile"]
[10000060,"ACACIA TRAINING AND DEVELOPMENT LTD","Intermediate Apprenticeships: Health, Public Services and Care",".",".",".",null,190,94,"fourth quintile",null,".",".",".",null,130,95,"top quintile",null,".",".",".",null,140,90,"second quintile"]
[10000060,"ACACIA TRAINING AND DEVELOPMENT LTD","Intermediate Apprenticeships: Retail and Commercial Enterprise",".",".",".",null,20,95,"top quintile",null,".",".",".",null,20,100,"top quintile",null,".",".",".",null,10,69,"bottom quintile"]
[10000060,"ACACIA TRAINING AND DEVELOPMENT LTD","Full Level 2: Business, Administration and Law",20,84,"top quintile",null,150,88,"fourth quintile",null,"x","x","x",null,40,89,"third quintile",null,"x","x","x",null,80,85,"second quintile"]
[10000060,"ACACIA TRAINING AND DEVELOPMENT LTD","Full Level 2: Health, Public Services and Care",".",".",".",null,290,93,"fourth quintile",null,10,71,"fourth quintile",null,270,89,"second quintile",null,".",".",".",null,200,91,"third quintile"]
[10000060,"ACACIA TRAINING AND DEVELOPMENT LTD","Full Level 2: Preparation for Life and Work",".",".",".",null,10,82,"bottom quintile",null,".",".",".",null,"x","x","x",null,".",".",".",null,".",".","."]
[10000060,"ACACIA TRAINING AND DEVELOPMENT LTD","Traineeships",".",".",".",null,"x","x","x",null,"x","x","x",null,"x","x","x",null,"x","x","x",null,10,82,"top quintile"]
[10000060,"ACACIA TRAINING AND DEVELOPMENT LTD","English & Maths",10,64,"top quintile",null,50,90,"top quintile",null,30,46,"second quintile",null,90,92,"top quintile",null,20,55,"fourth quintile",null,100,89,"top quintile"]
[10000060,"ACACIA TRAINING AND DEVELOPMENT LTD","Other provision below Full Level 2",1150,55,"fourth quintile",null,100,39,"bottom quintile",null,590,58,"top quintile",null,140,69,"second quintile",null,400,54,"third quintile",null,170,55,"bottom quintile"]
[10000061,"ACACIA TRAINING LIMITED","LLDD learner",".",".",".",null,"x","x","x",null,".",".",".",null,"x","x","x",null,".",".",".",null,30,93,"top quintile"]
[10000061,"ACACIA TRAINING LIMITED","Advanced and Higher Apprenticeships: Business, Administration and Law",".",".",".",null,20,80,"bottom quintile",null,".",".",".",null,20,94,"third quintile",null,".",".",".",null,10,50,"bottom quintile"]
[10000061,"ACACIA TRAINING LIMITED","Advanced and Higher Apprenticeships: Health, Public Services and Care",".",".",".",null,210,91,"bottom quintile",null,"x","x","x",null,250,89,"bottom quintile",null,"x","x","x",null,150,93,"fourth quintile"]
[10000061,"ACACIA TRAINING LIMITED","Full Level 3+: Business, Administration and Law",".",".",".",null,".",".",".",null,".",".",".",null,".",".",".",null,".",".",".",null,10,70,"second quintile"]
[10000061,"ACACIA TRAINING LIMITED","Full Level 3+: Retail and Commercial Enterprise",".",".",".",null,".",".",".",null,".",".",".",null,".",".",".",null,".",".",".",null,70,82,"top quintile"]
[10000061,"ACACIA TRAINING LIMITED","Intermediate Apprenticeships: Health, Public Services and Care","x","x","x",null,280,90,"bottom quintile",null,"x","x","x",null,440,90,"second quintile",null,"x","x","x",null,190,95,"top quintile"]
[10000061,"ACACIA TRAINING LIMITED","Full Level 2: Health, Public Services and Care","x","x","x",null,30,96,"top quintile",null,".",".",".",null,".",".",".",null,".",".",".",null,".",".","."]
[10000061,"ACACIA TRAINING LIMITED","English & Maths",".",".",".",null,10,70,"bottom quintile",null,".",".",".",null,"x","x","x",null,".",".",".",null,".",".","."]
[10000191,"ACADEMY EDUCATION LIMITED","Advanced and Higher Apprenticeships: Retail and Commercial Enterprise",".",".",".",null,30,90,"second quintile",null,".",".",".",null,30,85,"bottom quintile",null,".",".",".",null,40,85,"second quintile"]
[10000191,"ACADEMY EDUCATION LIMITED","Intermediate Apprenticeships: Retail and Commercial Enterprise",".",".",".",null,50,81,"bottom quintile",null,"x","x","x",null,50,89,"second quintile",null,".",".",".",null,50,78,"bottom quintile"]
[10024597,"ACADEMY TRAINING GROUP LIMITED","Full Level 3+: Construction, Planning and the Built Environment",".",".",".",null,".",".",".",null,".",".",".",null,50,80,"third quintile",null,"x","x","x",null,30,60,"bottom quintile"]
[10039859,"ACADEMY TRANSFORMATION TRUST","LLDD learner",80,36,"bottom quintile",null,350,49,"bottom quintile",null,50,37,"bottom quintile",null,240,60,"second quintile",null,30,41,"second quintile",null,180,71,"third quintile"]
[10039859,"ACADEMY TRANSFORMATION TRUST","Advanced and Higher Apprenticeships: Business, Administration and Law",".",".",".",null,"x","x","x",null,"x","x","x",null,"x","x","x",null,".",".",".",null,10,91,"bottom quintile"]
[10039859,"ACADEMY TRANSFORMATION TRUST","Full Level 3+: Education and Training",".",".",".",null,"x","x","x",null,"x","x","x",null,"x","x","x",null,"x","x","x",null,60,90,"fourth quintile"]
[10039859,"ACADEMY TRANSFORMATION TRUST","Full Level 3+: Health, Public Services and Care","x","x","x",null,40,83,"second quintile",null,"x","x","x",null,20,74,"bottom quintile",null,".",".",".",null,20,100,"top quintile"]
[10039859,"ACADEMY TRANSFORMATION TRUST","Access to HE",".",".",".",null,10,90,"third quintile",null,".",".",".",null,"x","x","x",null,".",".",".",null,".",".","."]
[10039859,"ACADEMY TRANSFORMATION TRUST","Other Level 3","x","x","x",null,30,78,"second quintile",null,"x","x","x",null,40,85,"fourth quintile",null,".",".",".",null,"x","x","x"]
[10039859,"ACADEMY TRANSFORMATION TRUST","Intermediate Apprenticeships: Health, Public Services and Care",".",".",".",null,"x","x","x",null,".",".",".",null,"x","x","x",null,".",".",".",null,10,91,"second quintile"]
[10039859,"ACADEMY TRANSFORMATION TRUST","Full Level 2: Education and Training",".",".",".",null,20,77,"second quintile",null,".",".",".",null,40,95,"top quintile",null,"x","x","x",null,20,90,"top quintile"]
[10039859,"ACADEMY TRANSFORMATION TRUST","Full Level 2: Health, Public Services and Care","x","x","x",null,"x","x","x",null,"x","x","x",null,20,86,"bottom quintile",null,".",".",".",null,"x","x","x"]
[10039859,"ACADEMY TRANSFORMATION TRUST","Full Level 2: Languages, Literature and Culture","x","x","x",null,10,77,"bottom quintile",null,"x","x","x",null,20,65,"bottom quintile",null,"x","x","x",null,30,92,"top quintile"]
[10039859,"ACADEMY TRANSFORMATION TRUST","Full Level 2: Science and Mathematics","x","x","x",null,40,93,"top quintile",null,"x","x","x",null,40,86,"second quintile",null,".",".",".",null,30,88,"third quintile"]
[10039859,"ACADEMY TRANSFORMATION TRUST","English & Maths",50,38,"bottom quintile",null,40,73,"second quintile",null,60,40,"bottom quintile",null,50,78,"third quintile",null,50,37,"bottom quintile",null,50,69,"bottom quintile"]
[10039859,"ACADEMY TRANSFORMATION TRUST","English for Speakers of Other Languages (ESOL)","x","x","x",null,10,64,"second quintile",null,".",".",".",null,".",".",".",null,".",".",".",null,".",".","."]
[10039859,"ACADEMY TRANSFORMATION TRUST","Other provision below Full Level 2",220,50,"second quintile",null,170,62,"bottom quintile",null,130,55,"fourth quintile",null,20,64,"bottom quintile",null,90,57,"fourth quintile",null,20,42,"bottom quintile"]
[10000080,"ACCESS TO MUSIC LIMITED","LLDD learner",90,44,"third quintile",null,80,56,"bottom quintile",null,"x","x","x",null,70,71,"fourth quintile",null,"x","x","x",null,50,56,"bottom quintile"]
[10000080,"ACCESS TO MUSIC LIMITED","Full Level 3+: Arts, Media and Publishing",40,73,"third quintile",null,150,75,"bottom quintile",null,30,58,"bottom quintile",null,180,75,"bottom quintile",null,10,64,"third quintile",null,150,61,"bottom quintile"]
[10000080,"ACCESS TO MUSIC LIMITED","Full Level 2: Arts, Media and Publishing","x","x","x",null,30,76,"second quintile",null,"x","x","x",null,20,62,"bottom quintile",null,"x","x","x",null,".",".","."]
[10000080,"ACCESS TO MUSIC LIMITED","Traineeships",".",".",".",null,20,87,"top quintile",null,"x","x","x",null,30,63,"second quintile",null,"x","x","x",null,40,36,"bottom quintile"]
[10000080,"ACCESS TO MUSIC LIMITED","English & Maths","x","x","x",null,30,91,"top quintile",null,"x","x","x",null,10,69,"bottom quintile",null,"x","x","x",null,20,88,"top quintile"]
[10000080,"ACCESS TO MUSIC LIMITED","Other provision below Full Level 2",240,58,"top quintile",null,"x","x","x",null,".",".",".",null,".",".",".",null,".",".",".",null,".",".","."]
[10010584,"ACCESS TRAINING (EAST MIDLANDS) LTD","LLDD learner",10,50,"fourth quintile",null,90,86,"top quintile",null,10,67,"top quintile",null,100,85,"top quintile",null,10,36,"bottom quintile",null,100,79,"top quintile"]
[10010584,"ACCESS TRAINING (EAST MIDLANDS) LTD","Advanced and Higher Apprenticeships: Business, Administration and Law",".",".",".",null,10,92,"second quintile",null,".",".",".",null,"x","x","x",null,".",".",".",null,20,95,"fourth quintile"]
[10010584,"ACCESS TRAINING (EAST MIDLANDS) LTD","Advanced and Higher Apprenticeships: Education and Training",".",".",".",null,20,100,"top quintile",null,".",".",".",null,10,92,"second quintile",null,".",".",".",null,10,100,"top quintile"]
[10010584,"ACCESS TRAINING (EAST MIDLANDS) LTD","Advanced and Higher Apprenticeships: Health, Public Services and Care",".",".",".",null,30,93,"third quintile",null,".",".",".",null,60,92,"third quintile",null,".",".",".",null,30,85,"bottom quintile"]
[10010584,"ACCESS TRAINING (EAST MIDLANDS) LTD","Full Level 3+: Education and Training",".",".",".",null,"x","x","x",null,"x","x","x",null,10,86,"second quintile",null,"x","x","x",null,"x","x","x"]
[10010584,"ACCESS TRAINING (EAST MIDLANDS) LTD","Full Level 3+: Health, Public Services and Care",".",".",".",null,20,93,"top quintile",null,"x","x","x",null,"x","x","x",null,".",".",".",null,"x","x","x"]
[10010584,"ACCESS TRAINING (EAST MIDLANDS) LTD","Intermediate Apprenticeships: Business, Administration and Law",".",".",".",null,10,79,"bottom quintile",null,"x","x","x",null,20,90,"second quintile",null,"x","x","x",null,40,98,"top quintile"]
[10010584,"ACCESS TRAINING (EAST MIDLANDS) LTD","Intermediate Apprenticeships: Education and Training",".",".",".",null,10,92,"second quintile",null,".",".",".",null,"x","x","x",null,".",".",".",null,10,85,"bottom quintile"]
[10010584,"ACCESS TRAINING (EAST MIDLANDS) LTD","Intermediate Apprenticeships: Engineering and Manufacturing Technologies","x","x","x",null,30,97,"fourth quintile",null,".",".",".",null,"x","x","x",null,".",".",".",null,".",".","."]
[10010584,"ACCESS TRAINING (EAST MIDLANDS) LTD","Intermediate Apprenticeships: Health, Public Services and Care","x","x","x",null,40,91,"second quintile",null,".",".",".",null,40,97,"top quintile",null,"x","x","x",null,60,96,"top quintile"]
[10010584,"ACCESS TRAINING (EAST MIDLANDS) LTD","English & Maths","x","x","x",null,40,95,"top quintile",null,"x","x","x",null,20,91,"top quintile",null,"x","x","x",null,10,100,"top quintile"]
[10010584,"ACCESS TRAINING (EAST MIDLANDS) LTD","Other provision below Full Level 2",".",".",".",null,".",".",".",null,"x","x","x",null,".",".",".",null,10,60,"top quintile",null,".",".","."]
[10009059,"ACCESS TRAINING LIMITED","LLDD learner",100,38,"bottom quintile",null,30,84,"top quintile",null,90,36,"bottom quintile",null,30,41,"bottom quintile",null,90,41,"second quintile",null,50,87,"top quintile"]
[10009059,"ACCESS TRAINING LIMITED","Advanced and Higher Apprenticeships: Business, Administration and Law","x","x","x",null,110,96,"top quintile",null,"x","x","x",null,70,93,"second quintile",null,"x","x","x",null,70,97,"top quintile"]
[10009059,"ACCESS TRAINING LIMITED","Advanced and Higher Apprenticeships: Education and Training",".",".",".",null,10,85,"bottom quintile",null,".",".",".",null,"x","x","x",null,".",".",".",null,"x","x","x"]
[10009059,"ACCESS TRAINING LIMITED","Advanced and Higher Apprenticeships: Health, Public Services and Care","x","x","x",null,70,93,"third quintile",null,"x","x","x",null,30,93,"third quintile",null,".",".",".",null,80,93,"fourth quintile"]
[10009059,"ACCESS TRAINING LIMITED","Advanced and Higher Apprenticeships: Leisure, Travel and Tourism",".",".",".",null,"x","x","x",null,".",".",".",null,"x","x","x",null,".",".",".",null,10,80,"second quintile"]
[10009059,"ACCESS TRAINING LIMITED","Advanced and Higher Apprenticeships: Retail and Commercial Enterprise",".",".",".",null,"x","x","x",null,"x","x","x",null,"x","x","x",null,".",".",".",null,10,91,"third quintile"]
[10009059,"ACCESS TRAINING LIMITED","Full Level 3+: Health, Public Services and Care",".",".",".",null,"x","x","x",null,".",".",".",null,20,94,"top quintile",null,"x","x","x",null,"x","x","x"]
[10009059,"ACCESS TRAINING LIMITED","Intermediate Apprenticeships: Business, Administration and Law","x","x","x",null,90,94,"third quintile",null,"x","x","x",null,60,97,"top quintile",null,"x","x","x",null,80,95,"top quintile"]
[10009059,"ACCESS TRAINING LIMITED","Intermediate Apprenticeships: Engineering and Manufacturing Technologies",".",".",".",null,10,100,"top quintile",null,"x","x","x",null,10,100,"top quintile",null,"x","x","x",null,20,80,"bottom quintile"]
[10009059,"ACCESS TRAINING LIMITED","Intermediate Apprenticeships: Health, Public Services and Care","x","x","x",null,40,95,"top quintile",null,".",".",".",null,"x","x","x",null,"x","x","x",null,40,95,"top quintile"]
[10009059,"ACCESS TRAINING LIMITED","Intermediate Apprenticeships: Retail and Commercial Enterprise","x","x","x",null,20,96,"top quintile",null,"x","x","x",null,20,88,"second quintile",null,"x","x","x",null,30,85,"second quintile"]
[10009059,"ACCESS TRAINING LIMITED","Full Level 2: Health, Public Services and Care","x","x","x",null,"x","x","x",null,"x","x","x",null,"x","x","x",null,".",".",".",null,30,84,"bottom quintile"]
[10009059,"ACCESS TRAINING LIMITED","Other provision below Full Level 2",180,49,"second quintile",null,"x","x","x",null,90,49,"second quintile",null,"x","x","x",null,50,54,"third quintile",null,10,92,"top quintile"]
[10000093,"ACCRINGTON AND ROSSENDALE COLLEGE","LLDD learner",400,46,"third quintile",null,790,54,"bottom quintile",null,280,43,"second quintile",null,630,51,"bottom quintile",null,280,41,"second quintile",null,600,55,"bottom quintile"]
[10000093,"ACCRINGTON AND ROSSENDALE COLLEGE","Advanced and Higher Apprenticeships: Business, Administration and Law",".",".",".",null,10,100,"top quintile",null,".",".",".",null,30,100,"top quintile",null,".",".",".",null,30,100,"top quintile"]
[10000093,"ACCRINGTON AND ROSSENDALE COLLEGE","Advanced and Higher Apprenticeships: Construction, Planning and the Built Environment",".",".",".",null,10,79,"bottom quintile",null,".",".",".",null,10,100,"top quintile",null,".",".",".",null,10,85,"bottom quintile"]
[10000093,"ACCRINGTON AND ROSSENDALE COLLEGE","Advanced and Higher Apprenticeships: Engineering and Manufacturing Technologies",".",".",".",null,10,100,"top quintile",null,".",".",".",null,10,75,"bottom quintile",null,"x","x","x",null,10,92,"third quintile"]
[10000093,"ACCRINGTON AND ROSSENDALE COLLEGE","Advanced and Higher Apprenticeships: Leisure, Travel and Tourism",".",".",".",null,20,95,"top quintile",null,".",".",".",null,"x","x","x",null,".",".",".",null,10,82,"second quintile"]
[10000093,"ACCRINGTON AND ROSSENDALE COLLEGE","Advanced and Higher Apprenticeships: Retail and Commercial Enterprise",".",".",".",null,20,96,"top quintile",null,".",".",".",null,20,90,"second quintile",null,".",".",".",null,20,87,"second quintile"]
[10000093,"ACCRINGTON AND ROSSENDALE COLLEGE","Full Level 3+: Arts, Media and Publishing",".",".",".",null,"x","x","x",null,".",".",".",null,10,70,"bottom quintile",null,".",".",".",null,"x","x","x"]
[10000093,"ACCRINGTON AND ROSSENDALE COLLEGE","Full Level 3+: Business, Administration and Law","x","x","x",null,30,96,"top quintile",null,"x","x","x",null,20,74,"bottom quintile",null,"x","x","x",null,20,89,"fourth quintile"]
[10000093,"ACCRINGTON AND ROSSENDALE COLLEGE","Full Level 3+: Education and Training",".",".",".",null,10,92,"third quintile",null,".",".",".",null,10,100,"top quintile",null,".",".",".",null,10,83,"second quintile"]
[10000093,"ACCRINGTON AND ROSSENDALE COLLEGE","Full Level 3+: Engineering and Manufacturing Technologies","x","x","x",null,20,81,"second quintile",null,".",".",".",null,"x","x","x",null,"x","x","x",null,"x","x","x"]
[10000093,"ACCRINGTON AND ROSSENDALE COLLEGE","Full Level 3+: Health, Public Services and Care","x","x","x",null,10,90,"fourth quintile",null,"x","x","x",null,20,76,"bottom quintile",null,"x","x","x",null,40,74,"bottom quintile"]
[10000093,"ACCRINGTON AND ROSSENDALE COLLEGE","Full Level 3+: Leisure, Travel and Tourism","x","x","x",null,40,91,"fourth quintile",null,10,73,"fourth quintile",null,230,85,"third quintile",null,10,60,"second quintile",null,150,84,"fourth quintile"]
[10000093,"ACCRINGTON AND ROSSENDALE COLLEGE","Full Level 3+: Retail and Commercial Enterprise","x","x","x",null,40,78,"fourth quintile",null,"x","x","x",null,20,62,"bottom quintile",null,"x","x","x",null,10,75,"fourth quintile"]
[10000093,"ACCRINGTON AND ROSSENDALE COLLEGE","Access to HE","x","x","x",null,40,93,"fourth quintile",null,"x","x","x",null,40,89,"second quintile",null,"x","x","x",null,30,93,"fourth quintile"]
[10000093,"ACCRINGTON AND ROSSENDALE COLLEGE","Other Level 3",20,59,"bottom quintile",null,300,90,"third quintile",null,"x","x","x",null,30,87,"fourth quintile",null,"x","x","x",null,"x","x","x"]
[10000093,"ACCRINGTON AND ROSSENDALE COLLEGE","Intermediate Apprenticeships: Business, Administration and Law","x","x","x",null,"x","x","x",null,".",".",".",null,"x","x","x",null,".",".",".",null,10,93,"fourth quintile"]
[10000093,"ACCRINGTON AND ROSSENDALE COLLEGE","Intermediate Apprenticeships: Construction, Planning and the Built Environment",".",".",".",null,40,83,"bottom quintile",null,"x","x","x",null,10,90,"second quintile",null,".",".",".",null,50,81,"second quintile"]
[10000093,"ACCRINGTON AND ROSSENDALE COLLEGE","Intermediate Apprenticeships: Engineering and Manufacturing Technologies","x","x","x",null,30,94,"third quintile",null,"x","x","x",null,10,92,"second quintile",null,".",".",".",null,30,100,"top quintile"]
[10000093,"ACCRINGTON AND ROSSENDALE COLLEGE","Intermediate Apprenticeships: Health, Public Services and Care",".",".",".",null,10,80,"bottom quintile",null,".",".",".",null,"x","x","x",null,".",".",".",null,"x","x","x"]
[10000093,"ACCRINGTON AND ROSSENDALE COLLEGE","Intermediate Apprenticeships: Leisure, Travel and Tourism",".",".",".",null,20,94,"top quintile",null,".",".",".",null,"x","x","x",null,".",".",".",null,20,94,"top quintile"]
[10000093,"ACCRINGTON AND ROSSENDALE COLLEGE","Intermediate Apprenticeships: Retail and Commercial Enterprise",".",".",".",null,50,93,"fourth quintile",null,".",".",".",null,"x","x","x",null,".",".",".",null,70,93,"top quintile"]
[10000093,"ACCRINGTON AND ROSSENDALE COLLEGE","Full Level 2: Arts, Media and Publishing","x","x","x",null,"x","x","x",null,"x","x","x",null,"x","x","x",null,"x","x","x",null,20,80,"third quintile"]
[10000093,"ACCRINGTON AND ROSSENDALE COLLEGE","Full Level 2: Business, Administration and Law",150,67,"fourth quintile",null,130,75,"bottom quintile",null,10,50,"bottom quintile",null,40,87,"third quintile",null,"x","x","x",null,30,81,"bottom quintile"]
[10000093,"ACCRINGTON AND ROSSENDALE COLLEGE","Full Level 2: Construction, Planning and the Built Environment","x","x","x",null,20,73,"bottom quintile",null,"x","x","x",null,10,77,"second quintile",null,"x","x","x",null,20,87,"top quintile"]
[10000093,"ACCRINGTON AND ROSSENDALE COLLEGE","Full Level 2: Education and Training","x","x","x",null,40,74,"bottom quintile",null,"x","x","x",null,30,79,"second quintile",null,".",".",".",null,20,88,"fourth quintile"]
[10000093,"ACCRINGTON AND ROSSENDALE COLLEGE","Full Level 2: Engineering and Manufacturing Technologies",20,76,"top quintile",null,90,78,"second quintile",null,".",".",".",null,20,85,"third quintile",null,"x","x","x",null,10,90,"top quintile"]
[10000093,"ACCRINGTON AND ROSSENDALE COLLEGE","Full Level 2: Health, Public Services and Care","x","x","x",null,90,89,"bottom quintile",null,10,73,"fourth quintile",null,30,86,"bottom quintile",null,30,60,"second quintile",null,100,62,"bottom quintile"]
[10000093,"ACCRINGTON AND ROSSENDALE COLLEGE","Full Level 2: Information and Communication Technology","x","x","x",null,20,81,"third quintile",null,"x","x","x",null,30,97,"top quintile",null,"x","x","x",null,20,85,"fourth quintile"]
[10000093,"ACCRINGTON AND ROSSENDALE COLLEGE","Full Level 2: Languages, Literature and Culture","x","x","x",null,20,73,"bottom quintile",null,".",".",".",null,"x","x","x",null,".",".",".",null,10,86,"third quintile"]
[10000093,"ACCRINGTON AND ROSSENDALE COLLEGE","Full Level 2: Leisure, Travel and Tourism",10,82,"fourth quintile",null,140,94,"top quintile",null,".",".",".",null,20,89,"third quintile",null,"x","x","x",null,40,81,"bottom quintile"]
[10000093,"ACCRINGTON AND ROSSENDALE COLLEGE","Full Level 2: Retail and Commercial Enterprise",80,47,"bottom quintile",null,130,81,"third quintile",null,120,34,"bottom quintile",null,110,73,"second quintile",null,70,48,"second quintile",null,70,76,"third quintile"]
[10000093,"ACCRINGTON AND ROSSENDALE COLLEGE","Full Level 2: Science and Mathematics","x","x","x",null,40,93,"top quintile",null,"x","x","x",null,30,94,"top quintile",null,"x","x","x",null,40,89,"fourth quintile"]
[10000093,"ACCRINGTON AND ROSSENDALE COLLEGE","English & Maths",30,37,"bottom quintile",null,220,77,"third quintile",null,10,64,"top quintile",null,120,74,"second quintile",null,10,45,"bottom quintile",null,140,79,"fourth quintile"]
[10000093,"ACCRINGTON AND ROSSENDALE COLLEGE","English for Speakers of Other Languages (ESOL)",".",".",".",null,".",".",".",null,".",".",".",null,10,86,"top quintile",null,".",".",".",null,".",".","."]
[10000093,"ACCRINGTON AND ROSSENDALE COLLEGE","Other provision below Full Level 2",910,51,"second quintile",null,840,62,"bottom quintile",null,490,50,"second quintile",null,560,54,"bottom quintile",null,330,55,"fourth quintile",null,350,53,"bottom quintile"]
[10019431,"ACHIEVE THROUGH LEARNING LIMITED","LLDD learner",10,21,"bottom quintile",null,20,54,"bottom quintile",null,20,41,"second quintile",null,20,95,"top quintile",null,"x","x","x",null,20,100,"top quintile"]
[10019431,"ACHIEVE THROUGH LEARNING LIMITED","Advanced and Higher Apprenticeships: Business, Administration and Law",".",".",".",null,".",".",".",null,".",".",".",null,".",".",".",null,"x","x","x",null,20,100,"top quintile"]
[10019431,"ACHIEVE THROUGH LEARNING LIMITED","Intermediate Apprenticeships: Engineering and Manufacturing Technologies",".",".",".",null,410,93,"second quintile",null,".",".",".",null,240,91,"bottom quintile",null,".",".",".",null,220,95,"fourth quintile"]
[10019431,"ACHIEVE THROUGH LEARNING LIMITED","Intermediate Apprenticeships: Retail and Commercial Enterprise",".",".",".",null,"x","x","x",null,".",".",".",null,170,93,"fourth quintile",null,".",".",".",null,160,97,"top quintile"]
[10019431,"ACHIEVE THROUGH LEARNING LIMITED","Full Level 2: Business, Administration and Law","x","x","x",null,"x","x","x",null,40,52,"second quintile",null,"x","x","x",null,".",".",".",null,".",".","."]
[10019431,"ACHIEVE THROUGH LEARNING LIMITED","Full Level 2: Construction, Planning and the Built Environment","x","x","x",null,110,95,"top quintile",null,".",".",".",null,60,97,"top quintile",null,".",".",".",null,".",".","."]
[10019431,"ACHIEVE THROUGH LEARNING LIMITED","Full Level 2: Engineering and Manufacturing Technologies",".",".",".",null,100,95,"top quintile",null,".",".",".",null,60,92,"top quintile",null,".",".",".",null,60,91,"top quintile"]
[10019431,"ACHIEVE THROUGH LEARNING LIMITED","Full Level 2: Information and Communication Technology","x","x","x",null,"x","x","x",null,10,42,"bottom quintile",null,"x","x","x",null,".",".",".",null,".",".","."]
[10019431,"ACHIEVE THROUGH LEARNING LIMITED","Full Level 2: Retail and Commercial Enterprise",".",".",".",null,".",".",".",null,".",".",".",null,".",".",".",null,40,46,"bottom quintile",null,30,81,"fourth quintile"]
[10019431,"ACHIEVE THROUGH LEARNING LIMITED","Other provision below Full Level 2",50,55,"fourth quintile",null,"x","x","x",null,70,54,"fourth quintile",null,20,40,"bottom quintile",null,100,24,"bottom quintile",null,"x","x","x"]
[10000099,"ACHIEVEMENT TRAINING LIMITED","LLDD learner",250,54,"top quintile",null,210,64,"third quintile",null,110,50,"fourth quintile",null,230,68,"third quintile",null,110,50,"fourth quintile",null,210,63,"second quintile"]
[10000099,"ACHIEVEMENT TRAINING LIMITED","Advanced and Higher Apprenticeships: Business, Administration and Law",".",".",".",null,20,94,"third quintile",null,".",".",".",null,10,91,"bottom quintile",null,"x","x","x",null,10,100,"top quintile"]
[10000099,"ACHIEVEMENT TRAINING LIMITED","Advanced and Higher Apprenticeships: Health, Public Services and Care",".",".",".",null,50,96,"top quintile",null,".",".",".",null,50,96,"top quintile",null,".",".",".",null,30,100,"top quintile"]
[10000099,"ACHIEVEMENT TRAINING LIMITED","Advanced and Higher Apprenticeships: Information and Communication Technology",".",".",".",null,20,100,"top quintile",null,".",".",".",null,10,91,"second quintile",null,"x","x","x",null,10,85,"bottom quintile"]
[10000099,"ACHIEVEMENT TRAINING LIMITED","Full Level 3+: Education and Training",".",".",".",null,10,86,"second quintile",null,".",".",".",null,20,87,"second quintile",null,"x","x","x",null,30,90,"fourth quintile"]
[10000099,"ACHIEVEMENT TRAINING LIMITED","Full Level 3+: Health, Public Services and Care",".",".",".",null,20,91,"fourth quintile",null,".",".",".",null,50,96,"top quintile",null,"x","x","x",null,60,89,"fourth quintile"]
[10000099,"ACHIEVEMENT TRAINING LIMITED","Full Level 3+: Retail and Commercial Enterprise","x","x","x",null,10,83,"top quintile",null,".",".",".",null,"x","x","x",null,"x","x","x",null,"x","x","x"]
[10000099,"ACHIEVEMENT TRAINING LIMITED","Intermediate Apprenticeships: Business, Administration and Law","x","x","x",null,"x","x","x",null,"x","x","x",null,20,88,"bottom quintile",null,"x","x","x",null,30,92,"fourth quintile"]
[10000099,"ACHIEVEMENT TRAINING LIMITED","Intermediate Apprenticeships: Health, Public Services and Care","x","x","x",null,40,88,"bottom quintile",null,"x","x","x",null,50,92,"second quintile",null,".",".",".",null,40,93,"fourth quintile"]
[10000099,"ACHIEVEMENT TRAINING LIMITED","Full Level 2: Agriculture, Horticulture and Animal Care","x","x","x",null,20,71,"bottom quintile",null,"x","x","x",null,"x","x","x",null,".",".",".",null,"x","x","x"]
[10000099,"ACHIEVEMENT TRAINING LIMITED","Full Level 2: Business, Administration and Law","x","x","x",null,".",".",".",null,".",".",".",null,"x","x","x",null,".",".",".",null,10,100,"top quintile"]
[10000099,"ACHIEVEMENT TRAINING LIMITED","Full Level 2: Education and Training","x","x","x",null,20,96,"top quintile",null,"x","x","x",null,20,75,"second quintile",null,"x","x","x",null,20,83,"third quintile"]
[10000099,"ACHIEVEMENT TRAINING LIMITED","Full Level 2: Health, Public Services and Care",20,83,"top quintile",null,30,81,"bottom quintile",null,"x","x","x",null,10,62,"bottom quintile",null,"x","x","x",null,10,60,"bottom quintile"]
[10000099,"ACHIEVEMENT TRAINING LIMITED","Full Level 2: Information and Communication Technology",20,76,"top quintile",null,"x","x","x",null,10,83,"top quintile",null,10,40,"bottom quintile",null,"x","x","x",null,"x","x","x"]
[10000099,"ACHIEVEMENT TRAINING LIMITED","Full Level 2: Retail and Commercial Enterprise",".",".",".",null,"x","x","x",null,"x","x","x",null,10,62,"bottom quintile",null,".",".",".",null,"x","x","x"]
[10000099,"ACHIEVEMENT TRAINING LIMITED","Full Level 2: Science and Mathematics",".",".",".",null,".",".",".",null,"x","x","x",null,10,90,"fourth quintile",null,".",".",".",null,"x","x","x"]
[10000099,"ACHIEVEMENT TRAINING LIMITED","English & Maths",20,76,"top quintile",null,40,78,"third quintile",null,"x","x","x",null,40,74,"second quintile",null,".",".",".",null,20,88,"top quintile"]
[10000099,"ACHIEVEMENT TRAINING LIMITED","Other provision below Full Level 2",480,62,"top quintile",null,50,60,"bottom quintile",null,80,57,"fourth quintile",null,20,20,"bottom quintile",null,30,34,"bottom quintile",null,"x","x","x"]
[10000108,"ACORN TRAINING CONSULTANTS LIMITED","Traineeships",".",".",".",null,".",".",".",null,"x","x","x",null,"x","x","x",null,".",".",".",null,10,80,"fourth quintile"]
[10019237,"ACTIVATE COMMUNITY AND EDUCATION SERVICES","LLDD learner","x","x","x",null,20,81,"top quintile",null,"x","x","x",null,20,32,"bottom quintile",null,"x","x","x",null,20,17,"bottom quintile"]
[10004927,"ACTIVATE LEARNING","LLDD learner",100,55,"top quintile",null,650,80,"top quintile",null,70,61,"top quintile",null,760,78,"top quintile",null,30,77,"top quintile",null,640,81,"top quintile"]
[10004927,"ACTIVATE LEARNING","Advanced and Higher Apprenticeships: Business, Administration and Law",".",".",".",null,70,97,"top quintile",null,".",".",".",null,200,92,"second quintile",null,".",".",".",null,20,89,"bottom quintile"]
[10004927,"ACTIVATE LEARNING","Advanced and Higher Apprenticeships: Construction, Planning and the Built Environment",".",".",".",null,20,95,"top quintile",null,".",".",".",null,10,83,"bottom quintile",null,".",".",".",null,"x","x","x"]
[10004927,"ACTIVATE LEARNING","Advanced and Higher Apprenticeships: Education and Training",".",".",".",null,20,100,"top quintile",null,".",".",".",null,10,100,"top quintile",null,".",".",".",null,"x","x","x"]
[10004927,"ACTIVATE LEARNING","Advanced and Higher Apprenticeships: Engineering and Manufacturing Technologies",".",".",".",null,50,92,"third quintile",null,"x","x","x",null,80,91,"second quintile",null,".",".",".",null,50,84,"bottom quintile"]
[10004927,"ACTIVATE LEARNING","Advanced and Higher Apprenticeships: Health, Public Services and Care",".",".",".",null,40,95,"fourth quintile",null,".",".",".",null,30,96,"top quintile",null,".",".",".",null,10,90,"second quintile"]
[10004927,"ACTIVATE LEARNING","Advanced and Higher Apprenticeships: Information and Communication Technology",".",".",".",null,20,91,"third quintile",null,".",".",".",null,40,100,"top quintile",null,".",".",".",null,20,84,"bottom quintile"]
[10004927,"ACTIVATE LEARNING","Advanced and Higher Apprenticeships: Leisure, Travel and Tourism","x","x","x",null,20,100,"top quintile",null,".",".",".",null,30,84,"second quintile",null,".",".",".",null,60,85,"second quintile"]
[10004927,"ACTIVATE LEARNING","Advanced and Higher Apprenticeships: Retail and Commercial Enterprise",".",".",".",null,30,93,"top quintile",null,".",".",".",null,20,96,"top quintile",null,".",".",".",null,30,88,"second quintile"]
[10004927,"ACTIVATE LEARNING","Full Level 3+: Arts, Media and Publishing","x","x","x",null,80,78,"second quintile",null,"x","x","x",null,80,91,"top quintile",null,".",".",".",null,50,86,"fourth quintile"]
[10004927,"ACTIVATE LEARNING","Full Level 3+: Business, Administration and Law","x","x","x",null,70,87,"second quintile",null,"x","x","x",null,50,94,"top quintile",null,"x","x","x",null,60,92,"fourth quintile"]
[10004927,"ACTIVATE LEARNING","Full Level 3+: Education and Training",".",".",".",null,"x","x","x",null,"x","x","x",null,30,92,"fourth quintile",null,"x","x","x",null,20,95,"top quintile"]
[10004927,"ACTIVATE LEARNING","Full Level 3+: Engineering and Manufacturing Technologies",".",".",".",null,30,91,"fourth quintile",null,"x","x","x",null,30,90,"fourth quintile",null,".",".",".",null,30,93,"top quintile"]
[10004927,"ACTIVATE LEARNING","Full Level 3+: Health, Public Services and Care",".",".",".",null,70,92,"fourth quintile",null,"x","x","x",null,80,94,"top quintile",null,".",".",".",null,30,75,"bottom quintile"]
[10004927,"ACTIVATE LEARNING","Full Level 3+: Information and Communication Technology",".",".",".",null,20,83,"third quintile",null,"x","x","x",null,40,83,"third quintile",null,".",".",".",null,30,85,"fourth quintile"]
[10004927,"ACTIVATE LEARNING","Full Level 3+: Leisure, Travel and Tourism","x","x","x",null,50,93,"top quintile",null,".",".",".",null,30,89,"top quintile",null,"x","x","x",null,20,88,"fourth quintile"]
[10004927,"ACTIVATE LEARNING","Full Level 3+: Retail and Commercial Enterprise","x","x","x",null,50,82,"top quintile",null,".",".",".",null,40,81,"top quintile",null,".",".",".",null,30,67,"second quintile"]
[10004927,"ACTIVATE LEARNING","Full Level 3+: Science and Mathematics",".",".",".",null,30,90,"third quintile",null,".",".",".",null,30,92,"fourth quintile",null,".",".",".",null,20,86,"third quintile"]
[10004927,"ACTIVATE LEARNING","Access to HE",20,100,"top quintile",null,370,91,"third quintile",null,"x","x","x",null,360,94,"fourth quintile",null,"x","x","x",null,340,90,"second quintile"]
[10004927,"ACTIVATE LEARNING","Other Level 3","x","x","x",null,110,95,"top quintile",null,".",".",".",null,"x","x","x",null,".",".",".",null,"x","x","x"]
[10004927,"ACTIVATE LEARNING","Intermediate Apprenticeships: Business, Administration and Law",".",".",".",null,70,97,"top quintile",null,".",".",".",null,40,98,"top quintile",null,".",".",".",null,40,95,"top quintile"]
[10004927,"ACTIVATE LEARNING","Intermediate Apprenticeships: Construction, Planning and the Built Environment",".",".",".",null,30,90,"third quintile",null,".",".",".",null,20,89,"second quintile",null,".",".",".",null,20,88,"third quintile"]
[10004927,"ACTIVATE LEARNING","Intermediate Apprenticeships: Engineering and Manufacturing Technologies",".",".",".",null,60,93,"second quintile",null,".",".",".",null,40,85,"bottom quintile",null,".",".",".",null,90,94,"third quintile"]
[10004927,"ACTIVATE LEARNING","Intermediate Apprenticeships: Health, Public Services and Care",".",".",".",null,30,88,"bottom quintile",null,".",".",".",null,"x","x","x",null,".",".",".",null,10,100,"top quintile"]
[10004927,"ACTIVATE LEARNING","Intermediate Apprenticeships: Leisure, Travel and Tourism",".",".",".",null,40,77,"bottom quintile",null,".",".",".",null,20,83,"bottom quintile",null,".",".",".",null,30,90,"third quintile"]
[10004927,"ACTIVATE LEARNING","Intermediate Apprenticeships: Retail and Commercial Enterprise","x","x","x",null,70,90,"second quintile",null,"x","x","x",null,80,96,"top quintile",null,".",".",".",null,60,90,"fourth quintile"]
[10004927,"ACTIVATE LEARNING","Full Level 2: Arts, Media and Publishing","x","x","x",null,10,70,"second quintile",null,".",".",".",null,"x","x","x",null,".",".",".",null,"x","x","x"]
[10004927,"ACTIVATE LEARNING","Full Level 2: Business, Administration and Law","x","x","x",null,110,87,"third quintile",null,"x","x","x",null,120,92,"fourth quintile",null,"x","x","x",null,80,89,"third quintile"]
[10004927,"ACTIVATE LEARNING","Full Level 2: Construction, Planning and the Built Environment","x","x","x",null,30,91,"top quintile",null,"x","x","x",null,20,75,"second quintile",null,"x","x","x",null,30,86,"top quintile"]
[10004927,"ACTIVATE LEARNING","Full Level 2: Engineering and Manufacturing Technologies","x","x","x",null,20,88,"fourth quintile",null,".",".",".",null,70,83,"third quintile",null,".",".",".",null,40,90,"top quintile"]
[10004927,"ACTIVATE LEARNING","Full Level 2: Health, Public Services and Care","x","x","x",null,190,92,"third quintile",null,"x","x","x",null,60,93,"fourth quintile",null,".",".",".",null,10,90,"second quintile"]
[10004927,"ACTIVATE LEARNING","Full Level 2: Information and Communication Technology","x","x","x",null,"x","x","x",null,"x","x","x",null,100,89,"top quintile",null,".",".",".",null,40,89,"top quintile"]
[10004927,"ACTIVATE LEARNING","Full Level 2: Languages, Literature and Culture","x","x","x",null,60,91,"top quintile",null,"x","x","x",null,30,87,"third quintile",null,".",".",".",null,30,91,"fourth quintile"]
[10004927,"ACTIVATE LEARNING","Full Level 2: Leisure, Travel and Tourism",".",".",".",null,20,73,"bottom quintile",null,".",".",".",null,20,81,"second quintile",null,".",".",".",null,"x","x","x"]
[10004927,"ACTIVATE LEARNING","Full Level 2: Preparation for Life and Work","x","x","x",null,20,64,"bottom quintile",null,"x","x","x",null,40,94,"top quintile",null,".",".",".",null,40,92,"third quintile"]
[10004927,"ACTIVATE LEARNING","Full Level 2: Retail and Commercial Enterprise","x","x","x",null,100,86,"top quintile",null,"x","x","x",null,40,91,"top quintile",null,"x","x","x",null,50,88,"top quintile"]
[10004927,"ACTIVATE LEARNING","Full Level 2: Science and Mathematics","x","x","x",null,90,86,"second quintile",null,"x","x","x",null,150,88,"third quintile",null,"x","x","x",null,170,91,"fourth quintile"]
[10004927,"ACTIVATE LEARNING","Traineeships","x","x","x",null,"x","x","x",null,".",".",".",null,30,61,"second quintile",null,"x","x","x",null,10,64,"third quintile"]
[10004927,"ACTIVATE LEARNING","English & Maths",80,58,"fourth quintile",null,1050,84,"fourth quintile",null,20,67,"top quintile",null,510,86,"top quintile",null,10,54,"third quintile",null,320,79,"fourth quintile"]
[10004927,"ACTIVATE LEARNING","English for Speakers of Other Languages (ESOL)",80,65,"top quintile",null,520,76,"fourth quintile",null,40,45,"bottom quintile",null,160,65,"third quintile",null,10,38,"bottom quintile",null,60,63,"third quintile"]
[10004927,"ACTIVATE LEARNING","Other provision below Full Level 2",140,59,"top quintile",null,260,88,"top quintile",null,70,68,"top quintile",null,610,77,"third quintile",null,30,57,"fourth quintile",null,580,76,"third quintile"]
[10000124,"ACTON TRAINING CENTRE LIMITED","Advanced and Higher Apprenticeships: Health, Public Services and Care","x","x","x",null,30,91,"bottom quintile",null,".",".",".",null,".",".",".",null,".",".",".",null,".",".","."]
[10000124,"ACTON TRAINING CENTRE LIMITED","Intermediate Apprenticeships: Health, Public Services and Care",".",".",".",null,10,71,"bottom quintile",null,".",".",".",null,".",".",".",null,".",".",".",null,".",".","."]
[10019155,"ADVANCED PERSONNEL MANAGEMENT GROUP (UK) LIMITED","LLDD learner",280,37,"bottom quintile",null,80,37,"bottom quintile",null,400,34,"bottom quintile",null,110,32,"bottom quintile",null,340,29,"bottom quintile",null,120,32,"bottom quintile"]
[10019155,"ADVANCED PERSONNEL MANAGEMENT GROUP (UK) LIMITED","Advanced and Higher Apprenticeships: Business, Administration and Law","x","x","x",null,30,75,"bottom quintile",null,".",".",".",null,20,91,"bottom quintile",null,".",".",".",null,20,87,"bottom quintile"]
[10019155,"ADVANCED PERSONNEL MANAGEMENT GROUP (UK) LIMITED","Advanced and Higher Apprenticeships: Health, Public Services and Care",".",".",".",null,20,91,"bottom quintile",null,".",".",".",null,"x","x","x",null,".",".",".",null,30,90,"second quintile"]
[10019155,"ADVANCED PERSONNEL MANAGEMENT GROUP (UK) LIMITED","Intermediate Apprenticeships: Business, Administration and Law","x","x","x",null,40,87,"bottom quintile",null,"x","x","x",null,20,87,"bottom quintile",null,".",".",".",null,10,73,"bottom quintile"]
[10019155,"ADVANCED PERSONNEL MANAGEMENT GROUP (UK) LIMITED","Intermediate Apprenticeships: Retail and Commercial Enterprise",".",".",".",null,".",".",".",null,".",".",".",null,".",".",".",null,".",".",".",null,40,81,"bottom quintile"]
[10019155,"ADVANCED PERSONNEL MANAGEMENT GROUP (UK) LIMITED","Full Level 2: Information and Communication Technology",130,50,"bottom quintile",null,"x","x","x",null,110,55,"bottom quintile",null,20,13,"bottom quintile",null,90,47,"bottom quintile",null,10,55,"bottom quintile"]
[10019155,"ADVANCED PERSONNEL MANAGEMENT GROUP (UK) LIMITED","Full Level 2: Retail and Commercial Enterprise",".",".",".",null,".",".",".",null,20,56,"fourth quintile",null,".",".",".",null,"x","x","x",null,"x","x","x"]
[10019155,"ADVANCED PERSONNEL MANAGEMENT GROUP (UK) LIMITED","Traineeships","x","x","x",null,".",".",".",null,80,53,"second quintile",null,"x","x","x",null,"x","x","x",null,".",".","."]
[10019155,"ADVANCED PERSONNEL MANAGEMENT GROUP (UK) LIMITED","English & Maths",170,35,"bottom quintile",null,"x","x","x",null,20,38,"bottom quintile",null,"x","x","x",null,30,46,"bottom quintile",null,40,86,"top quintile"]
[10019155,"ADVANCED PERSONNEL MANAGEMENT GROUP (UK) LIMITED","Other provision below Full Level 2",580,42,"bottom quintile",null,40,44,"bottom quintile",null,550,41,"bottom quintile",null,40,47,"bottom quintile",null,540,37,"bottom quintile",null,40,38,"bottom quintile"]
[10032745,"AGE UK TRADING CIC","LLDD learner",170,48,"fourth quintile",null,130,65,"third quintile",null,130,46,"third quintile",null,160,66,"third quintile",null,90,44,"third quintile",null,130,69,"third quintile"]
[10032745,"AGE UK TRADING CIC","Advanced and Higher Apprenticeships: Business, Administration and Law","x","x","x",null,50,94,"third quintile",null,".",".",".",null,50,94,"third quintile",null,".",".",".",null,60,91,"bottom quintile"]
[10032745,"AGE UK TRADING CIC","Advanced and Higher Apprenticeships: Education and Training","x","x","x",null,"x","x","x",null,".",".",".",null,10,100,"top quintile",null,".",".",".",null,"x","x","x"]
[10032745,"AGE UK TRADING CIC","Advanced and Higher Apprenticeships: Health, Public Services and Care",".",".",".",null,320,97,"top quintile",null,"x","x","x",null,270,93,"third quintile",null,"x","x","x",null,240,92,"fourth quintile"]
[10032745,"AGE UK TRADING CIC","Advanced and Higher Apprenticeships: Retail and Commercial Enterprise",".",".",".",null,"x","x","x",null,".",".",".",null,"x","x","x",null,".",".",".",null,20,87,"second quintile"]
[10032745,"AGE UK TRADING CIC","Full Level 3+: Health, Public Services and Care",".",".",".",null,10,92,"fourth quintile",null,"x","x","x",null,30,88,"third quintile",null,".",".",".",null,"x","x","x"]
[10032745,"AGE UK TRADING CIC","Intermediate Apprenticeships: Business, Administration and Law","x","x","x",null,80,95,"fourth quintile",null,"x","x","x",null,90,93,"fourth quintile",null,"x","x","x",null,50,86,"bottom quintile"]
[10032745,"AGE UK TRADING CIC","Intermediate Apprenticeships: Health, Public Services and Care",10,77,"second quintile",null,430,89,"bottom quintile",null,10,73,"bottom quintile",null,350,90,"second quintile",null,10,83,"third quintile",null,240,93,"fourth quintile"]
[10032745,"AGE UK TRADING CIC","Intermediate Apprenticeships: Information and Communication Technology","x","x","x",null,"x","x","x",null,".",".",".",null,10,90,"bottom quintile",null,".",".",".",null,"x","x","x"]
[10032745,"AGE UK TRADING CIC","Intermediate Apprenticeships: Retail and Commercial Enterprise","x","x","x",null,"x","x","x",null,"x","x","x",null,10,64,"bottom quintile",null,"x","x","x",null,40,86,"second quintile"]
[10032745,"AGE UK TRADING CIC","Full Level 2: Business, Administration and Law",90,60,"third quintile",null,10,64,"bottom quintile",null,"x","x","x",null,"x","x","x",null,"x","x","x",null,".",".","."]
[10032745,"AGE UK TRADING CIC","Full Level 2: Health, Public Services and Care",160,56,"bottom quintile",null,80,66,"bottom quintile",null,140,51,"bottom quintile",null,90,56,"bottom quintile",null,30,56,"bottom quintile",null,30,78,"bottom quintile"]
[10032745,"AGE UK TRADING CIC","Full Level 2: Retail and Commercial Enterprise",10,50,"second quintile",null,".",".",".",null,".",".",".",null,"x","x","x",null,".",".",".",null,"x","x","x"]
[10032745,"AGE UK TRADING CIC","Traineeships",10,85,"top quintile",null,70,80,"fourth quintile",null,20,88,"top quintile",null,60,80,"fourth quintile",null,20,71,"top quintile",null,50,70,"fourth quintile"]
[10032745,"AGE UK TRADING CIC","English & Maths",220,43,"bottom quintile",null,180,82,"fourth quintile",null,150,47,"second quintile",null,240,71,"bottom quintile",null,60,66,"top quintile",null,70,72,"second quintile"]
[10032745,"AGE UK TRADING CIC","English for Speakers of Other Languages (ESOL)",10,45,"bottom quintile",null,"x","x","x",null,".",".",".",null,".",".",".",null,".",".",".",null,".",".","."]
[10032745,"AGE UK TRADING CIC","Other provision below Full Level 2",510,58,"top quintile",null,90,56,"bottom quintile",null,210,48,"bottom quintile",null,70,55,"bottom quintile",null,100,58,"top quintile",null,20,40,"bottom quintile"]
[10036303,"AGILISYS LIMITED","Advanced and Higher Apprenticeships: Arts, Media and Publishing","x","x","x",null,30,88,"bottom quintile",null,".",".",".",null,"x","x","x",null,".",".",".",null,".",".","."]
[10036303,"AGILISYS LIMITED","Advanced and Higher Apprenticeships: Business, Administration and Law",".",".",".",null,"x","x","x",null,"x","x","x",null,40,92,"second quintile",null,".",".",".",null,".",".","."]
[10036303,"AGILISYS LIMITED","Advanced and Higher Apprenticeships: Information and Communication Technology","x","x","x",null,"x","x","x",null,"x","x","x",null,30,93,"fourth quintile",null,".",".",".",null,".",".","."]
[10036303,"AGILISYS LIMITED","Intermediate Apprenticeships: Business, Administration and Law",".",".",".",null,"x","x","x",null,".",".",".",null,10,82,"bottom quintile",null,".",".",".",null,".",".","."]
[10000201,"ALDER TRAINING LIMITED","LLDD learner","x","x","x",null,90,89,"top quintile",null,"x","x","x",null,80,88,"top quintile",null,".",".",".",null,60,82,"top quintile"]
[10000201,"ALDER TRAINING LIMITED","Advanced and Higher Apprenticeships: Business, Administration and Law",".",".",".",null,50,91,"second quintile",null,".",".",".",null,40,97,"top quintile",null,".",".",".",null,20,100,"top quintile"]
[10000201,"ALDER TRAINING LIMITED","Advanced and Higher Apprenticeships: Health, Public Services and Care",".",".",".",null,210,93,"third quintile",null,"x","x","x",null,150,95,"top quintile",null,".",".",".",null,140,93,"fourth quintile"]
[10000201,"ALDER TRAINING LIMITED","Intermediate Apprenticeships: Business, Administration and Law",".",".",".",null,50,94,"fourth quintile",null,".",".",".",null,50,100,"top quintile",null,".",".",".",null,30,91,"second quintile"]
[10000201,"ALDER TRAINING LIMITED","Intermediate Apprenticeships: Health, Public Services and Care","x","x","x",null,130,90,"bottom quintile",null,"x","x","x",null,100,92,"third quintile",null,"x","x","x",null,100,89,"second quintile"]
[10000201,"ALDER TRAINING LIMITED","Traineeships","x","x","x",null,30,82,"top quintile",null,".",".",".",null,40,82,"top quintile",null,".",".",".",null,40,90,"top quintile"]
[10027693,"ALL TRADES TRAINING LIMITED","Intermediate Apprenticeships: Health, Public Services and Care",".",".",".",null,".",".",".",null,".",".",".",null,10,92,"third quintile",null,".",".",".",null,".",".","."]
[10000238,"ALLIANCE LEARNING","Advanced and Higher Apprenticeships: Business, Administration and Law",".",".",".",null,"x","x","x",null,".",".",".",null,30,93,"third quintile",null,".",".",".",null,"x","x","x"]
[10000238,"ALLIANCE LEARNING","Advanced and Higher Apprenticeships: Engineering and Manufacturing Technologies",".",".",".",null,30,94,"fourth quintile",null,"x","x","x",null,50,91,"second quintile",null,"x","x","x",null,60,93,"third quintile"]
[10000238,"ALLIANCE LEARNING","Advanced and Higher Apprenticeships: Health, Public Services and Care",".",".",".",null,60,85,"bottom quintile",null,"x","x","x",null,50,94,"fourth quintile",null,".",".",".",null,40,93,"fourth quintile"]
[10000238,"ALLIANCE LEARNING","Intermediate Apprenticeships: Business, Administration and Law","x","x","x",null,50,91,"second quintile",null,"x","x","x",null,30,89,"bottom quintile",null,".",".",".",null,40,95,"top quintile"]
[10000238,"ALLIANCE LEARNING","Intermediate Apprenticeships: Engineering and Manufacturing Technologies",".",".",".",null,40,97,"fourth quintile",null,"x","x","x",null,30,97,"fourth quintile",null,"x","x","x",null,40,89,"second quintile"]
[10000238,"ALLIANCE LEARNING","Intermediate Apprenticeships: Health, Public Services and Care","x","x","x",null,40,98,"top quintile",null,"x","x","x",null,30,96,"top quintile",null,"x","x","x",null,20,91,"second quintile"]
[10000238,"ALLIANCE LEARNING","Full Level 2: Retail and Commercial Enterprise",".",".",".",null,30,100,"top quintile",null,".",".",".",null,40,92,"top quintile",null,".",".",".",null,".",".","."]
[10022311,"ALPHA BUILDING SERVICES ENGINEERING LTD","Full Level 3+: Construction, Planning and the Built Environment","x","x","x",null,20,65,"bottom quintile",null,"x","x","x",null,"x","x","x",null,".",".",".",null,".",".","."]
[10022311,"ALPHA BUILDING SERVICES ENGINEERING LTD","Intermediate Apprenticeships: Construction, Planning and the Built Environment",".",".",".",null,".",".",".",null,"x","x","x",null,20,53,"bottom quintile",null,".",".",".",null,".",".","."]
[10022311,"ALPHA BUILDING SERVICES ENGINEERING LTD","Intermediate Apprenticeships: Engineering and Manufacturing Technologies","x","x","x",null,20,88,"bottom quintile",null,"x","x","x",null,30,76,"bottom quintile",null,".",".",".",null,".",".","."]
[10022070,"ALPHA CARE AGENCY LIMITED","Full Level 3+: Health, Public Services and Care",".",".",".",null,".",".",".",null,".",".",".",null,".",".",".",null,"x","x","x",null,30,74,"bottom quintile"]
[10000256,"ALTON COLLEGE","LLDD learner","x","x","x",null,50,49,"bottom quintile",null,"x","x","x",null,30,74,"fourth quintile",null,"x","x","x",null,30,79,"top quintile"]
[10000256,"ALTON COLLEGE","Full Level 3+: Business, Administration and Law","x","x","x",null,"x","x","x",null,".",".",".",null,10,100,"top quintile",null,".",".",".",null,"x","x","x"]
[10000256,"ALTON COLLEGE","Full Level 3+: Health, Public Services and Care",".",".",".",null,40,90,"fourth quintile",null,".",".",".",null,30,83,"second quintile",null,".",".",".",null,10,82,"third quintile"]
[10000256,"ALTON COLLEGE","Access to HE",".",".",".",null,10,100,"top quintile",null,".",".",".",null,"x","x","x",null,".",".",".",null,"x","x","x"]
[10000256,"ALTON COLLEGE","Full Level 2: Business, Administration and Law",".",".",".",null,"x","x","x",null,"x","x","x",null,30,91,"fourth quintile",null,"x","x","x",null,20,75,"bottom quintile"]
[10000256,"ALTON COLLEGE","Full Level 2: Health, Public Services and Care","x","x","x",null,20,79,"bottom quintile",null,".",".",".",null,10,60,"bottom quintile",null,".",".",".",null,"x","x","x"]
[10000256,"ALTON COLLEGE","Full Level 2: Information and Communication Technology","x","x","x",null,10,60,"bottom quintile",null,".",".",".",null,".",".",".",null,".",".",".",null,".",".","."]
[10000256,"ALTON COLLEGE","Full Level 2: Languages, Literature and Culture",".",".",".",null,10,93,"top quintile",null,".",".",".",null,".",".",".",null,".",".",".",null,".",".","."]
[10000256,"ALTON COLLEGE","Full Level 2: Science and Mathematics","x","x","x",null,10,92,"fourth quintile",null,".",".",".",null,10,93,"top quintile",null,".",".",".",null,20,94,"top quintile"]
[10000256,"ALTON COLLEGE","English & Maths",".",".",".",null,10,100,"top quintile",null,".",".",".",null,10,82,"fourth quintile",null,".",".",".",null,20,80,"fourth quintile"]
[10000256,"ALTON COLLEGE","English for Speakers of Other Languages (ESOL)",".",".",".",null,20,94,"top quintile",null,".",".",".",null,20,69,"third quintile",null,".",".",".",null,"x","x","x"]
[10000256,"ALTON COLLEGE","Other provision below Full Level 2","x","x","x",null,30,60,"bottom quintile",null,".",".",".",null,"x","x","x",null,".",".",".",null,30,64,"second quintile"]
[10000275,"AMERSHAM & WYCOMBE COLLEGE","LLDD learner",60,67,"top quintile",null,140,74,"fourth quintile",null,60,63,"top quintile",null,160,65,"third quintile",null,50,45,"third quintile",null,120,72,"third quintile"]
[10000275,"AMERSHAM & WYCOMBE COLLEGE","Advanced and Higher Apprenticeships: Business, Administration and Law",".",".",".",null,20,94,"third quintile",null,".",".",".",null,10,92,"second quintile",null,".",".",".",null,"x","x","x"]
[10000275,"AMERSHAM & WYCOMBE COLLEGE","Advanced and Higher Apprenticeships: Engineering and Manufacturing Technologies",".",".",".",null,"x","x","x",null,".",".",".",null,"x","x","x",null,".",".",".",null,20,100,"top quintile"]
[10000275,"AMERSHAM & WYCOMBE COLLEGE","Advanced and Higher Apprenticeships: Health, Public Services and Care",".",".",".",null,20,92,"second quintile",null,".",".",".",null,20,88,"bottom quintile",null,".",".",".",null,20,100,"top quintile"]
[10000275,"AMERSHAM & WYCOMBE COLLEGE","Full Level 3+: Arts, Media and Publishing","x","x","x",null,40,92,"top quintile",null,"x","x","x",null,40,94,"top quintile",null,".",".",".",null,30,80,"third quintile"]
[10000275,"AMERSHAM & WYCOMBE COLLEGE","Full Level 3+: Business, Administration and Law","x","x","x",null,40,86,"second quintile",null,"x","x","x",null,20,95,"top quintile",null,".",".",".",null,20,83,"second quintile"]
[10000275,"AMERSHAM & WYCOMBE COLLEGE","Full Level 3+: Construction, Planning and the Built Environment",40,51,"bottom quintile",null,100,65,"bottom quintile",null,50,50,"bottom quintile",null,110,73,"bottom quintile",null,80,61,"third quintile",null,100,64,"bottom quintile"]
[10000275,"AMERSHAM & WYCOMBE COLLEGE","Full Level 3+: Health, Public Services and Care","x","x","x",null,30,82,"second quintile",null,".",".",".",null,20,87,"third quintile",null,"x","x","x",null,20,83,"third quintile"]
[10000275,"AMERSHAM & WYCOMBE COLLEGE","Full Level 3+: Retail and Commercial Enterprise",".",".",".",null,"x","x","x",null,".",".",".",null,20,75,"third quintile",null,".",".",".",null,"x","x","x"]
[10000275,"AMERSHAM & WYCOMBE COLLEGE","Access to HE","x","x","x",null,30,94,"top quintile",null,".",".",".",null,30,93,"fourth quintile",null,"x","x","x",null,30,75,"bottom quintile"]
[10000275,"AMERSHAM & WYCOMBE COLLEGE","Other Level 3","x","x","x",null,20,84,"second quintile",null,".",".",".",null,"x","x","x",null,".",".",".",null,"x","x","x"]
[10000275,"AMERSHAM & WYCOMBE COLLEGE","Intermediate Apprenticeships: Engineering and Manufacturing Technologies",".",".",".",null,"x","x","x",null,".",".",".",null,10,90,"bottom quintile",null,".",".",".",null,"x","x","x"]
[10000275,"AMERSHAM & WYCOMBE COLLEGE","Full Level 2: Arts, Media and Publishing",".",".",".",null,"x","x","x",null,"x","x","x",null,10,86,"top quintile",null,".",".",".",null,"x","x","x"]
[10000275,"AMERSHAM & WYCOMBE COLLEGE","Full Level 2: Business, Administration and Law",80,68,"fourth quintile",null,60,82,"bottom quintile",null,130,63,"third quintile",null,80,81,"bottom quintile",null,100,46,"bottom quintile",null,70,67,"bottom quintile"]
[10000275,"AMERSHAM & WYCOMBE COLLEGE","Full Level 2: Construction, Planning and the Built Environment","x","x","x",null,50,92,"top quintile",null,".",".",".",null,20,81,"third quintile",null,"x","x","x",null,40,84,"top quintile"]
[10000275,"AMERSHAM & WYCOMBE COLLEGE","Full Level 2: Health, Public Services and Care",120,63,"third quintile",null,40,70,"bottom quintile",null,"x","x","x",null,"x","x","x",null,"x","x","x",null,"x","x","x"]
[10000275,"AMERSHAM & WYCOMBE COLLEGE","Full Level 2: Languages, Literature and Culture","x","x","x",null,"x","x","x",null,".",".",".",null,10,90,"fourth quintile",null,".",".",".",null,10,79,"bottom quintile"]
[10000275,"AMERSHAM & WYCOMBE COLLEGE","Full Level 2: Leisure, Travel and Tourism",".",".",".",null,".",".",".",null,"x","x","x",null,20,94,"top quintile",null,".",".",".",null,"x","x","x"]
[10000275,"AMERSHAM & WYCOMBE COLLEGE","Full Level 2: Preparation for Life and Work",60,58,"third quintile",null,"x","x","x",null,".",".",".",null,"x","x","x",null,".",".",".",null,".",".","."]
[10000275,"AMERSHAM & WYCOMBE COLLEGE","Full Level 2: Retail and Commercial Enterprise",10,80,"top quintile",null,40,81,"third quintile",null,90,60,"fourth quintile",null,60,56,"bottom quintile",null,".",".",".",null,"x","x","x"]
[10000275,"AMERSHAM & WYCOMBE COLLEGE","Full Level 2: Science and Mathematics","x","x","x",null,20,94,"top quintile",null,".",".",".",null,10,75,"bottom quintile",null,".",".",".",null,20,95,"top quintile"]
[10000275,"AMERSHAM & WYCOMBE COLLEGE","English & Maths","x","x","x",null,"x","x","x",null,"x","x","x",null,10,100,"top quintile",null,".",".",".",null,20,88,"top quintile"]
[10000275,"AMERSHAM & WYCOMBE COLLEGE","English for Speakers of Other Languages (ESOL)","x","x","x",null,20,65,"second quintile",null,"x","x","x",null,30,91,"top quintile",null,".",".",".",null,".",".","."]
[10000275,"AMERSHAM & WYCOMBE COLLEGE","Other provision below Full Level 2",40,77,"top quintile",null,".",".",".",null,30,52,"third quintile",null,20,45,"bottom quintile",null,120,51,"third quintile",null,40,63,"second quintile"]
[10023918,"ANDERSON STOCKLEY ACCREDITED TRAINING LTD","LLDD learner",".",".",".",null,".",".",".",null,".",".",".",null,"x","x","x",null,".",".",".",null,20,82,"top quintile"]
[10023918,"ANDERSON STOCKLEY ACCREDITED TRAINING LTD","Advanced and Higher Apprenticeships: Health, Public Services and Care",".",".",".",null,".",".",".",null,".",".",".",null,10,100,"top quintile",null,".",".",".",null,30,96,"top quintile"]
[10000285,"ANDREW COLLINGE TRAINING LIMITED","LLDD learner",".",".",".",null,10,75,"fourth quintile",null,".",".",".",null,"x","x","x",null,".",".",".",null,"x","x","x"]
[10000285,"ANDREW COLLINGE TRAINING LIMITED","Advanced and Higher Apprenticeships: Retail and Commercial Enterprise","x","x","x",null,40,80,"bottom quintile",null,".",".",".",null,30,88,"second quintile",null,".",".",".",null,20,72,"bottom quintile"]
[10000285,"ANDREW COLLINGE TRAINING LIMITED","Intermediate Apprenticeships: Retail and Commercial Enterprise","x","x","x",null,70,85,"bottom quintile",null,".",".",".",null,60,86,"bottom quintile",null,".",".",".",null,40,89,"third quintile"]
[10022210,"ANNE CLARKE ASSOCIATES LIMITED","LLDD learner",340,59,"top quintile",null,140,58,"second quintile",null,350,51,"top quintile",null,170,44,"bottom quintile",null,190,52,"fourth quintile",null,140,52,"bottom quintile"]
[10022210,"ANNE CLARKE ASSOCIATES LIMITED","Advanced and Higher Apprenticeships: Business, Administration and Law",".",".",".",null,20,100,"top quintile",null,".",".",".",null,20,93,"third quintile",null,".",".",".",null,"x","x","x"]
[10022210,"ANNE CLARKE ASSOCIATES LIMITED","Advanced and Higher Apprenticeships: Health, Public Services and Care",".",".",".",null,10,100,"top quintile",null,".",".",".",null,20,100,"top quintile",null,".",".",".",null,20,95,"top quintile"]
[10022210,"ANNE CLARKE ASSOCIATES LIMITED","Full Level 3+: Health, Public Services and Care",".",".",".",null,20,91,"fourth quintile",null,".",".",".",null,20,95,"top quintile",null,".",".",".",null,20,87,"fourth quintile"]
[10022210,"ANNE CLARKE ASSOCIATES LIMITED","Intermediate Apprenticeships: Business, Administration and Law","x","x","x",null,30,97,"top quintile",null,".",".",".",null,20,96,"top quintile",null,".",".",".",null,20,90,"second quintile"]
[10022210,"ANNE CLARKE ASSOCIATES LIMITED","Intermediate Apprenticeships: Health, Public Services and Care","x","x","x",null,90,99,"top quintile",null,"x","x","x",null,120,93,"third quintile",null,"x","x","x",null,90,97,"top quintile"]
[10022210,"ANNE CLARKE ASSOCIATES LIMITED","Full Level 2: Business, Administration and Law",".",".",".",null,10,80,"bottom quintile",null,".",".",".",null,"x","x","x",null,".",".",".",null,"x","x","x"]
[10022210,"ANNE CLARKE ASSOCIATES LIMITED","Full Level 2: Health, Public Services and Care",".",".",".",null,160,90,"bottom quintile",null,"x","x","x",null,90,86,"bottom quintile",null,10,60,"second quintile",null,160,93,"top quintile"]
[10022210,"ANNE CLARKE ASSOCIATES LIMITED","Full Level 2: Retail and Commercial Enterprise",".",".",".",null,"x","x","x",null,100,70,"top quintile",null,50,68,"second quintile",null,220,63,"top quintile",null,30,53,"bottom quintile"]
[10022210,"ANNE CLARKE ASSOCIATES LIMITED","English & Maths","x","x","x",null,30,100,"top quintile",null,".",".",".",null,20,89,"top quintile",null,"x","x","x",null,40,87,"top quintile"]
[10022210,"ANNE CLARKE ASSOCIATES LIMITED","English for Speakers of Other Languages (ESOL)",20,82,"top quintile",null,"x","x","x",null,"x","x","x",null,".",".",".",null,".",".",".",null,".",".","."]
[10022210,"ANNE CLARKE ASSOCIATES LIMITED","Other provision below Full Level 2",1300,64,"top quintile",null,140,59,"bottom quintile",null,1000,61,"top quintile",null,170,47,"bottom quintile",null,380,55,"fourth quintile",null,80,60,"bottom quintile"]
[10030249,"APPRENTICE FUNDING ASSISTANT LIMITED","LLDD learner",".",".",".",null,"x","x","x",null,".",".",".",null,30,93,"top quintile",null,"x","x","x",null,20,76,"fourth quintile"]
[10030249,"APPRENTICE FUNDING ASSISTANT LIMITED","Advanced and Higher Apprenticeships: Retail and Commercial Enterprise",".",".",".",null,30,89,"second quintile",null,".",".",".",null,50,89,"second quintile",null,"x","x","x",null,50,91,"fourth quintile"]
[10030249,"APPRENTICE FUNDING ASSISTANT LIMITED","Intermediate Apprenticeships: Retail and Commercial Enterprise","x","x","x",null,40,86,"bottom quintile",null,".",".",".",null,130,83,"bottom quintile",null,".",".",".",null,90,84,"bottom quintile"]
[10032404,"APPRENTICESHIPS & TRAINING SERVICES CONSORTIUM LIMITED","Advanced and Higher Apprenticeships: Engineering and Manufacturing Technologies",".",".",".",null,10,91,"second quintile",null,".",".",".",null,"x","x","x",null,".",".",".",null,30,92,"third quintile"]
[10032404,"APPRENTICESHIPS & TRAINING SERVICES CONSORTIUM LIMITED","Advanced and Higher Apprenticeships: Health, Public Services and Care","x","x","x",null,90,85,"bottom quintile",null,"x","x","x",null,150,91,"second quintile",null,"x","x","x",null,250,91,"third quintile"]
[10032404,"APPRENTICESHIPS & TRAINING SERVICES CONSORTIUM LIMITED","Intermediate Apprenticeships: Engineering and Manufacturing Technologies",".",".",".",null,20,87,"bottom quintile",null,".",".",".",null,40,83,"bottom quintile",null,".",".",".",null,60,88,"bottom quintile"]
[10032404,"APPRENTICESHIPS & TRAINING SERVICES CONSORTIUM LIMITED","Full Level 2: Business, Administration and Law",".",".",".",null,10,100,"top quintile",null,".",".",".",null,".",".",".",null,".",".",".",null,".",".","."]
[10032404,"APPRENTICESHIPS & TRAINING SERVICES CONSORTIUM LIMITED","Traineeships",".",".",".",null,"x","x","x",null,".",".",".",null,20,69,"third quintile",null,".",".",".",null,20,75,"fourth quintile"]
[10032404,"APPRENTICESHIPS & TRAINING SERVICES CONSORTIUM LIMITED","English & Maths","x","x","x",null,30,86,"top quintile",null,"x","x","x",null,60,75,"second quintile",null,"x","x","x",null,10,90,"top quintile"]
[10000848,"APPRIS CHARITY LIMITED","Advanced and Higher Apprenticeships: Engineering and Manufacturing Technologies","x","x","x",null,40,91,"second quintile",null,".",".",".",null,70,93,"third quintile",null,"x","x","x",null,50,73,"bottom quintile"]
[10000848,"APPRIS CHARITY LIMITED","Intermediate Apprenticeships: Engineering and Manufacturing Technologies","x","x","x",null,10,91,"second quintile",null,".",".",".",null,10,91,"second quintile",null,".",".",".",null,20,100,"top quintile"]
[10000848,"APPRIS CHARITY LIMITED","English & Maths","x","x","x",null,".",".",".",null,10,70,"top quintile",null,"x","x","x",null,".",".",".",null,".",".","."]
[10000848,"APPRIS CHARITY LIMITED","English for Speakers of Other Languages (ESOL)",10,64,"fourth quintile",null,"x","x","x",null,".",".",".",null,".",".",".",null,".",".",".",null,".",".","."]
[10000330,"AQUINAS COLLEGE","Access to HE","x","x","x",null,20,93,"fourth quintile",null,".",".",".",null,20,94,"top quintile",null,".",".",".",null,30,93,"fourth quintile"]
[10000330,"AQUINAS COLLEGE","Full Level 2: Business, Administration and Law",".",".",".",null,10,85,"second quintile",null,"x","x","x",null,"x","x","x",null,".",".",".",null,".",".","."]
[10000330,"AQUINAS COLLEGE","Full Level 2: Languages, Literature and Culture",".",".",".",null,"x","x","x",null,".",".",".",null,"x","x","x",null,".",".",".",null,20,86,"third quintile"]
[10000330,"AQUINAS COLLEGE","Full Level 2: Science and Mathematics","x","x","x",null,30,92,"fourth quintile",null,".",".",".",null,40,94,"top quintile",null,".",".",".",null,50,78,"bottom quintile"]
[10000330,"AQUINAS COLLEGE","Other provision below Full Level 2","x","x","x",null,10,64,"bottom quintile",null,".",".",".",null,".",".",".",null,"x","x","x",null,"x","x","x"]
[10000385,"ARTS UNIVERSITY BOURNEMOUTH, THE","LLDD learner",".",".",".",null,10,83,"top quintile",null,".",".",".",null,"x","x","x",null,"x","x","x",null,10,100,"top quintile"]
[10000385,"ARTS UNIVERSITY BOURNEMOUTH, THE","Full Level 3+: Arts, Media and Publishing",".",".",".",null,50,83,"third quintile",null,".",".",".",null,40,89,"top quintile",null,".",".",".",null,30,93,"top quintile"]
[10000385,"ARTS UNIVERSITY BOURNEMOUTH, THE","Full Level 2: Arts, Media and Publishing",".",".",".",null,20,56,"bottom quintile",null,".",".",".",null,".",".",".",null,".",".",".",null,".",".","."]
[10000409,"ASHTON SIXTH FORM COLLEGE","LLDD learner","x","x","x",null,40,80,"top quintile",null,"x","x","x",null,30,85,"top quintile",null,"x","x","x",null,30,71,"third quintile"]
[10000409,"ASHTON SIXTH FORM COLLEGE","Full Level 3+: Education and Training","x","x","x",null,10,86,"second quintile",null,"x","x","x",null,30,92,"fourth quintile",null,"x","x","x",null,10,79,"second quintile"]
[10000409,"ASHTON SIXTH FORM COLLEGE","Full Level 3+: Health, Public Services and Care","x","x","x",null,10,100,"top quintile",null,".",".",".",null,"x","x","x",null,".",".",".",null,"x","x","x"]
[10000409,"ASHTON SIXTH FORM COLLEGE","Full Level 2: Languages, Literature and Culture",".",".",".",null,10,100,"top quintile",null,".",".",".",null,".",".",".",null,".",".",".",null,".",".","."]
[10000409,"ASHTON SIXTH FORM COLLEGE","Full Level 2: Science and Mathematics","x","x","x",null,30,79,"bottom quintile",null,"x","x","x",null,80,99,"top quintile",null,".",".",".",null,60,96,"top quintile"]
[10000409,"ASHTON SIXTH FORM COLLEGE","English & Maths","x","x","x",null,70,72,"second quintile",null,10,45,"second quintile",null,70,80,"fourth quintile",null,".",".",".",null,40,87,"top quintile"]
[10000409,"ASHTON SIXTH FORM COLLEGE","Other provision below Full Level 2","x","x","x",null,"x","x","x",null,".",".",".",null,"x","x","x",null,"x","x","x",null,20,88,"top quintile"]
[10000415,"ASKHAM BRYAN COLLEGE","LLDD learner",60,52,"top quintile",null,210,63,"second quintile",null,70,41,"second quintile",null,210,61,"second quintile",null,30,36,"bottom quintile",null,240,65,"second quintile"]
[10000415,"ASKHAM BRYAN COLLEGE","Advanced and Higher Apprenticeships: Agriculture, Horticulture and Animal Care",".",".",".",null,30,89,"second quintile",null,".",".",".",null,40,89,"third quintile",null,".",".",".",null,30,90,"fourth quintile"]
[10000415,"ASKHAM BRYAN COLLEGE","Advanced and Higher Apprenticeships: Engineering and Manufacturing Technologies",".",".",".",null,20,100,"top quintile",null,".",".",".",null,".",".",".",null,".",".",".",null,".",".","."]
[10000415,"ASKHAM BRYAN COLLEGE","Full Level 3+: Agriculture, Horticulture and Animal Care","x","x","x",null,70,88,"fourth quintile",null,"x","x","x",null,120,86,"fourth quintile",null,"x","x","x",null,120,79,"second quintile"]
[10000415,"ASKHAM BRYAN COLLEGE","Full Level 3+: Health, Public Services and Care",".",".",".",null,20,80,"bottom quintile",null,".",".",".",null,"x","x","x",null,".",".",".",null,"x","x","x"]
[10000415,"ASKHAM BRYAN COLLEGE","Other Level 3",".",".",".",null,10,92,"fourth quintile",null,".",".",".",null,"x","x","x",null,".",".",".",null,"x","x","x"]
[10000415,"ASKHAM BRYAN COLLEGE","Intermediate Apprenticeships: Agriculture, Horticulture and Animal Care",".",".",".",null,130,90,"fourth quintile",null,".",".",".",null,80,95,"top quintile",null,".",".",".",null,200,82,"second quintile"]
[10000415,"ASKHAM BRYAN COLLEGE","Full Level 2: Agriculture, Horticulture and Animal Care","x","x","x",null,80,80,"second quintile",null,"x","x","x",null,80,79,"second quintile",null,"x","x","x",null,70,79,"second quintile"]
[10000415,"ASKHAM BRYAN COLLEGE","Full Level 2: Retail and Commercial Enterprise",30,57,"third quintile",null,"x","x","x",null,10,77,"top quintile",null,"x","x","x",null,".",".",".",null,"x","x","x"]
[10000415,"ASKHAM BRYAN COLLEGE","Other provision below Full Level 2",70,55,"fourth quintile",null,90,76,"third quintile",null,60,39,"bottom quintile",null,30,50,"bottom quintile",null,20,57,"fourth quintile",null,10,79,"fourth quintile"]
[10000421,"ASPIRATION TRAINING LIMITED","LLDD learner",70,31,"bottom quintile",null,20,87,"top quintile",null,30,52,"top quintile",null,80,88,"top quintile",null,"x","x","x",null,180,93,"top quintile"]
[10000421,"ASPIRATION TRAINING LIMITED","Advanced and Higher Apprenticeships: Health, Public Services and Care","x","x","x",null,190,93,"third quintile",null,"x","x","x",null,150,91,"second quintile",null,"x","x","x",null,200,94,"top quintile"]
[10000421,"ASPIRATION TRAINING LIMITED","Intermediate Apprenticeships: Health, Public Services and Care","x","x","x",null,140,92,"second quintile",null,"x","x","x",null,190,91,"second quintile",null,"x","x","x",null,260,94,"fourth quintile"]
[10000421,"ASPIRATION TRAINING LIMITED","Full Level 2: Business, Administration and Law",".",".",".",null,".",".",".",null,".",".",".",null,20,90,"fourth quintile",null,".",".",".",null,130,93,"fourth quintile"]
[10000421,"ASPIRATION TRAINING LIMITED","Full Level 2: Health, Public Services and Care","x","x","x",null,"x","x","x",null,"x","x","x",null,570,91,"third quintile",null,"x","x","x",null,1670,94,"top quintile"]
[10000421,"ASPIRATION TRAINING LIMITED","Full Level 2: Preparation for Life and Work",".",".",".",null,".",".",".",null,110,69,"top quintile",null,60,70,"bottom quintile",null,20,60,"third quintile",null,110,90,"second quintile"]
[10000421,"ASPIRATION TRAINING LIMITED","English & Maths",300,49,"second quintile",null,30,70,"bottom quintile",null,20,62,"fourth quintile",null,90,88,"top quintile",null,"x","x","x",null,20,91,"top quintile"]
[10000421,"ASPIRATION TRAINING LIMITED","English for Speakers of Other Languages (ESOL)",10,73,"top quintile",null,".",".",".",null,".",".",".",null,".",".",".",null,".",".",".",null,".",".","."]
[10000421,"ASPIRATION TRAINING LIMITED","Other provision below Full Level 2",240,44,"bottom quintile",null,30,33,"bottom quintile",null,120,56,"fourth quintile",null,250,88,"top quintile",null,20,50,"third quintile",null,70,94,"top quintile"]
[10031241,"ASPIRE ACHIEVE ADVANCE LIMITED","LLDD learner","x","x","x",null,"x","x","x",null,"x","x","x",null,50,89,"top quintile",null,"x","x","x",null,120,86,"top quintile"]
[10031241,"ASPIRE ACHIEVE ADVANCE LIMITED","Advanced and Higher Apprenticeships: Business, Administration and Law",".",".",".",null,".",".",".",null,"x","x","x",null,100,95,"fourth quintile",null,20,86,"fourth quintile",null,510,95,"fourth quintile"]
[10031241,"ASPIRE ACHIEVE ADVANCE LIMITED","Advanced and Higher Apprenticeships: Information and Communication Technology","x","x","x",null,40,86,"bottom quintile",null,10,86,"fourth quintile",null,280,89,"bottom quintile",null,30,91,"fourth quintile",null,590,91,"third quintile"]
[10031241,"ASPIRE ACHIEVE ADVANCE LIMITED","Traineeships",".",".",".",null,".",".",".",null,"x","x","x",null,40,88,"top quintile",null,"x","x","x",null,90,90,"top quintile"]
[10006942,"ASPIRE TRAINING TEAM LIMITED","Advanced and Higher Apprenticeships: Health, Public Services and Care",".",".",".",null,50,96,"top quintile",null,"x","x","x",null,40,83,"bottom quintile",null,".",".",".",null,30,91,"third quintile"]
[10006942,"ASPIRE TRAINING TEAM LIMITED","Full Level 3+: Health, Public Services and Care",".",".",".",null,".",".",".",null,".",".",".",null,20,95,"top quintile",null,".",".",".",null,10,90,"fourth quintile"]
[10006942,"ASPIRE TRAINING TEAM LIMITED","Intermediate Apprenticeships: Business, Administration and Law","x","x","x",null,"x","x","x",null,".",".",".",null,10,83,"bottom quintile",null,".",".",".",null,10,86,"bottom quintile"]
[10006942,"ASPIRE TRAINING TEAM LIMITED","Intermediate Apprenticeships: Health, Public Services and Care","x","x","x",null,50,88,"bottom quintile",null,".",".",".",null,50,88,"bottom quintile",null,"x","x","x",null,50,96,"top quintile"]
[10003248,"ASPIRE-IGEN LTD","LLDD learner",".",".",".",null,".",".",".",null,".",".",".",null,"x","x","x",null,"x","x","x",null,10,40,"bottom quintile"]
[10000427,"ASSET TRAINING & CONSULTANCY LIMITED","LLDD learner",70,46,"third quintile",null,60,66,"third quintile",null,60,42,"second quintile",null,100,60,"second quintile",null,110,43,"third quintile",null,80,65,"second quintile"]
[10000427,"ASSET TRAINING & CONSULTANCY LIMITED","Advanced and Higher Apprenticeships: Business, Administration and Law",".",".",".",null,40,95,"fourth quintile",null,"x","x","x",null,20,89,"bottom quintile",null,".",".",".",null,30,100,"top quintile"]
[10000427,"ASSET TRAINING & CONSULTANCY LIMITED","Advanced and Higher Apprenticeships: Education and Training",".",".",".",null,"x","x","x",null,".",".",".",null,10,100,"top quintile",null,".",".",".",null,"x","x","x"]
[10000427,"ASSET TRAINING & CONSULTANCY LIMITED","Advanced and Higher Apprenticeships: Health, Public Services and Care","x","x","x",null,200,91,"bottom quintile",null,"x","x","x",null,120,90,"bottom quintile",null,"x","x","x",null,190,86,"bottom quintile"]
[10000427,"ASSET TRAINING & CONSULTANCY LIMITED","Advanced and Higher Apprenticeships: Leisure, Travel and Tourism",".",".",".",null,30,87,"third quintile",null,"x","x","x",null,10,71,"bottom quintile",null,".",".",".",null,30,88,"third quintile"]
[10000427,"ASSET TRAINING & CONSULTANCY LIMITED","Advanced and Higher Apprenticeships: Retail and Commercial Enterprise","x","x","x",null,70,78,"bottom quintile",null,".",".",".",null,30,68,"bottom quintile",null,".",".",".",null,30,84,"second quintile"]
[10000427,"ASSET TRAINING & CONSULTANCY LIMITED","Full Level 3+: Education and Training",10,80,"fourth quintile",null,"x","x","x",null,"x","x","x",null,30,93,"fourth quintile",null,".",".",".",null,"x","x","x"]
[10000427,"ASSET TRAINING & CONSULTANCY LIMITED","Full Level 3+: Health, Public Services and Care","x","x","x",null,"x","x","x",null,"x","x","x",null,10,69,"bottom quintile",null,".",".",".",null,"x","x","x"]
[10000427,"ASSET TRAINING & CONSULTANCY LIMITED","Full Level 3+: Retail and Commercial Enterprise",".",".",".",null,".",".",".",null,"x","x","x",null,10,64,"bottom quintile",null,".",".",".",null,"x","x","x"]
[10000427,"ASSET TRAINING & CONSULTANCY LIMITED","Intermediate Apprenticeships: Business, Administration and Law","x","x","x",null,70,92,"second quintile",null,".",".",".",null,110,76,"bottom quintile",null,"x","x","x",null,110,85,"bottom quintile"]
[10000427,"ASSET TRAINING & CONSULTANCY LIMITED","Intermediate Apprenticeships: Construction, Planning and the Built Environment",".",".",".",null,"x","x","x",null,".",".",".",null,"x","x","x",null,".",".",".",null,10,90,"top quintile"]
[10000427,"ASSET TRAINING & CONSULTANCY LIMITED","Intermediate Apprenticeships: Engineering and Manufacturing Technologies","x","x","x",null,90,96,"fourth quintile",null,".",".",".",null,"x","x","x",null,".",".",".",null,"x","x","x"]
[10000427,"ASSET TRAINING & CONSULTANCY LIMITED","Intermediate Apprenticeships: Health, Public Services and Care","x","x","x",null,230,93,"fourth quintile",null,"x","x","x",null,210,91,"second quintile",null,"x","x","x",null,190,91,"second quintile"]
[10000427,"ASSET TRAINING & CONSULTANCY LIMITED","Intermediate Apprenticeships: Leisure, Travel and Tourism",".",".",".",null,10,73,"bottom quintile",null,".",".",".",null,20,89,"third quintile",null,".",".",".",null,"x","x","x"]
[10000427,"ASSET TRAINING & CONSULTANCY LIMITED","Intermediate Apprenticeships: Retail and Commercial Enterprise","x","x","x",null,120,87,"bottom quintile",null,".",".",".",null,120,77,"bottom quintile",null,"x","x","x",null,70,71,"bottom quintile"]
[10000427,"ASSET TRAINING & CONSULTANCY LIMITED","Full Level 2: Construction, Planning and the Built Environment",".",".",".",null,".",".",".",null,".",".",".",null,".",".",".",null,"x","x","x",null,140,65,"second quintile"]
[10000427,"ASSET TRAINING & CONSULTANCY LIMITED","Full Level 2: Retail and Commercial Enterprise",310,65,"top quintile",null,10,86,"fourth quintile",null,250,61,"fourth quintile",null,20,67,"second quintile",null,100,56,"fourth quintile",null,"x","x","x"]
[10000427,"ASSET TRAINING & CONSULTANCY LIMITED","Traineeships",10,64,"second quintile",null,20,93,"top quintile",null,60,41,"bottom quintile",null,130,54,"bottom quintile",null,90,42,"bottom quintile",null,170,69,"third quintile"]
[10000427,"ASSET TRAINING & CONSULTANCY LIMITED","English & Maths",20,20,"bottom quintile",null,".",".",".",null,"x","x","x",null,".",".",".",null,".",".",".",null,".",".","."]
[10000427,"ASSET TRAINING & CONSULTANCY LIMITED","Other provision below Full Level 2",200,48,"second quintile",null,30,41,"bottom quintile",null,310,63,"top quintile",null,200,50,"bottom quintile",null,370,48,"second quintile",null,80,40,"bottom quintile"]
[10020307,"ASTUTE MINDS LTD","LLDD learner",".",".",".",null,".",".",".",null,"x","x","x",null,30,92,"top quintile",null,"x","x","x",null,50,75,"fourth quintile"]
[10020307,"ASTUTE MINDS LTD","Advanced and Higher Apprenticeships: Business, Administration and Law","x","x","x",null,"x","x","x",null,".",".",".",null,20,89,"bottom quintile",null,".",".",".",null,20,93,"third quintile"]
[10020307,"ASTUTE MINDS LTD","Advanced and Higher Apprenticeships: Health, Public Services and Care",".",".",".",null,".",".",".",null,".",".",".",null,".",".",".",null,".",".",".",null,10,90,"second quintile"]
[10020307,"ASTUTE MINDS LTD","Intermediate Apprenticeships: Business, Administration and Law","x","x","x",null,10,90,"bottom quintile",null,"x","x","x",null,130,89,"bottom quintile",null,"x","x","x",null,150,90,"second quintile"]
[10020307,"ASTUTE MINDS LTD","Intermediate Apprenticeships: Engineering and Manufacturing Technologies",".",".",".",null,".",".",".",null,".",".",".",null,30,88,"bottom quintile",null,".",".",".",null,".",".","."]
[10020307,"ASTUTE MINDS LTD","Intermediate Apprenticeships: Retail and Commercial Enterprise",".",".",".",null,".",".",".",null,".",".",".",null,"x","x","x",null,".",".",".",null,10,90,"fourth quintile"]
[10020307,"ASTUTE MINDS LTD","Traineeships",".",".",".",null,".",".",".",null,"x","x","x",null,"x","x","x",null,10,58,"fourth quintile",null,170,77,"fourth quintile"]
[10000476,"ATG TRAINING","LLDD learner",30,30,"bottom quintile",null,40,76,"top quintile",null,"x","x","x",null,90,80,"top quintile",null,40,46,"fourth quintile",null,80,85,"top quintile"]
[10000476,"ATG TRAINING","Advanced and Higher Apprenticeships: Business, Administration and Law",".",".",".",null,10,100,"top quintile",null,".",".",".",null,"x","x","x",null,".",".",".",null,10,100,"top quintile"]
[10000476,"ATG TRAINING","Advanced and Higher Apprenticeships: Engineering and Manufacturing Technologies",".",".",".",null,20,100,"top quintile",null,".",".",".",null,50,89,"second quintile",null,".",".",".",null,30,97,"top quintile"]
[10000476,"ATG TRAINING","Advanced and Higher Apprenticeships: Health, Public Services and Care",".",".",".",null,60,98,"top quintile",null,".",".",".",null,40,92,"third quintile",null,".",".",".",null,100,93,"fourth quintile"]
[10000476,"ATG TRAINING","Intermediate Apprenticeships: Business, Administration and Law",".",".",".",null,30,94,"fourth quintile",null,".",".",".",null,30,90,"second quintile",null,".",".",".",null,40,92,"fourth quintile"]
[10000476,"ATG TRAINING","Intermediate Apprenticeships: Engineering and Manufacturing Technologies",".",".",".",null,20,92,"second quintile",null,".",".",".",null,80,91,"second quintile",null,".",".",".",null,30,91,"second quintile"]
[10000476,"ATG TRAINING","Intermediate Apprenticeships: Health, Public Services and Care","x","x","x",null,20,100,"top quintile",null,".",".",".",null,80,91,"second quintile",null,".",".",".",null,60,91,"second quintile"]
[10000476,"ATG TRAINING","Intermediate Apprenticeships: Retail and Commercial Enterprise",".",".",".",null,"x","x","x",null,".",".",".",null,10,100,"top quintile",null,".",".",".",null,20,93,"top quintile"]
[10000476,"ATG TRAINING","Full Level 2: Business, Administration and Law",20,38,"bottom quintile",null,"x","x","x",null,".",".",".",null,".",".",".",null,"x","x","x",null,"x","x","x"]
[10000476,"ATG TRAINING","Full Level 2: Engineering and Manufacturing Technologies","x","x","x",null,40,95,"top quintile",null,"x","x","x",null,110,91,"top quintile",null,40,71,"top quintile",null,60,92,"top quintile"]
[10000476,"ATG TRAINING","Full Level 2: Health, Public Services and Care",".",".",".",null,"x","x","x",null,"x","x","x",null,20,33,"bottom quintile",null,".",".",".",null,"x","x","x"]
[10000476,"ATG TRAINING","Full Level 2: Retail and Commercial Enterprise",40,49,"second quintile",null,"x","x","x",null,10,36,"bottom quintile",null,"x","x","x",null,90,57,"fourth quintile",null,10,75,"third quintile"]
[10000476,"ATG TRAINING","English & Maths","x","x","x",null,10,83,"fourth quintile",null,"x","x","x",null,40,95,"top quintile",null,".",".",".",null,"x","x","x"]
[10000476,"ATG TRAINING","Other provision below Full Level 2",60,40,"bottom quintile",null,10,67,"second quintile",null,20,58,"top quintile",null,20,26,"bottom quintile",null,".",".",".",null,".",".","."]
[10000452,"AURELIA TRAINING LIMITED","LLDD learner",".",".",".",null,30,93,"top quintile",null,".",".",".",null,20,88,"top quintile",null,"x","x","x",null,30,100,"top quintile"]
[10000452,"AURELIA TRAINING LIMITED","Advanced and Higher Apprenticeships: Business, Administration and Law",".",".",".",null,10,100,"top quintile",null,".",".",".",null,"x","x","x",null,".",".",".",null,".",".","."]
[10000452,"AURELIA TRAINING LIMITED","Advanced and Higher Apprenticeships: Education and Training",".",".",".",null,"x","x","x",null,".",".",".",null,20,79,"bottom quintile",null,".",".",".",null,20,94,"fourth quintile"]
[10000452,"AURELIA TRAINING LIMITED","Advanced and Higher Apprenticeships: Health, Public Services and Care","x","x","x",null,50,96,"top quintile",null,"x","x","x",null,40,94,"top quintile",null,"x","x","x",null,60,93,"fourth quintile"]
[10000452,"AURELIA TRAINING LIMITED","Full Level 3+: Education and Training","x","x","x",null,30,100,"top quintile",null,"x","x","x",null,30,67,"bottom quintile",null,"x","x","x",null,20,81,"second quintile"]
[10000452,"AURELIA TRAINING LIMITED","Full Level 3+: Health, Public Services and Care",".",".",".",null,20,85,"second quintile",null,".",".",".",null,"x","x","x",null,".",".",".",null,"x","x","x"]
[10000452,"AURELIA TRAINING LIMITED","Other Level 3",".",".",".",null,10,85,"second quintile",null,".",".",".",null,".",".",".",null,".",".",".",null,".",".","."]
[10000452,"AURELIA TRAINING LIMITED","Intermediate Apprenticeships: Health, Public Services and Care",".",".",".",null,30,97,"top quintile",null,".",".",".",null,20,100,"top quintile",null,"x","x","x",null,50,94,"top quintile"]
[10000452,"AURELIA TRAINING LIMITED","Full Level 2: Health, Public Services and Care",".",".",".",null,20,94,"top quintile",null,"x","x","x",null,40,87,"bottom quintile",null,".",".",".",null,"x","x","x"]
[10000452,"AURELIA TRAINING LIMITED","Full Level 2: Information and Communication Technology",".",".",".",null,20,94,"top quintile",null,".",".",".",null,"x","x","x",null,".",".",".",null,"x","x","x"]
[10000452,"AURELIA TRAINING LIMITED","Full Level 2: Retail and Commercial Enterprise",".",".",".",null,30,90,"top quintile",null,".",".",".",null,".",".",".",null,".",".",".",null,".",".","."]
[10000452,"AURELIA TRAINING LIMITED","English & Maths",".",".",".",null,40,97,"top quintile",null,".",".",".",null,20,100,"top quintile",null,".",".",".",null,"x","x","x"]
[10022513,"AVANT PARTNERSHIP LIMITED","LLDD learner",50,33,"bottom quintile",null,70,70,"fourth quintile",null,10,29,"bottom quintile",null,50,70,"fourth quintile",null,10,60,"top quintile",null,50,66,"second quintile"]
[10022513,"AVANT PARTNERSHIP LIMITED","Advanced and Higher Apprenticeships: Business, Administration and Law",".",".",".",null,10,100,"top quintile",null,".",".",".",null,"x","x","x",null,".",".",".",null,20,100,"top quintile"]
[10022513,"AVANT PARTNERSHIP LIMITED","Advanced and Higher Apprenticeships: Health, Public Services and Care",".",".",".",null,50,98,"top quintile",null,"x","x","x",null,20,83,"bottom quintile",null,".",".",".",null,40,95,"top quintile"]
[10022513,"AVANT PARTNERSHIP LIMITED","Advanced and Higher Apprenticeships: Leisure, Travel and Tourism","x","x","x",null,".",".",".",null,".",".",".",null,"x","x","x",null,"x","x","x",null,10,91,"top quintile"]
[10022513,"AVANT PARTNERSHIP LIMITED","Full Level 3+: Health, Public Services and Care",".",".",".",null,10,69,"bottom quintile",null,".",".",".",null,20,95,"top quintile",null,".",".",".",null,10,92,"top quintile"]
[10022513,"AVANT PARTNERSHIP LIMITED","Other Level 3",20,88,"top quintile",null,"x","x","x",null,"x","x","x",null,".",".",".",null,".",".",".",null,"x","x","x"]
[10022513,"AVANT PARTNERSHIP LIMITED","Intermediate Apprenticeships: Business, Administration and Law","x","x","x",null,30,100,"top quintile",null,"x","x","x",null,50,88,"bottom quintile",null,"x","x","x",null,40,95,"top quintile"]
[10022513,"AVANT PARTNERSHIP LIMITED","Intermediate Apprenticeships: Construction, Planning and the Built Environment",".",".",".",null,".",".",".",null,"x","x","x",null,10,70,"bottom quintile",null,"x","x","x",null,20,73,"bottom quintile"]
[10022513,"AVANT PARTNERSHIP LIMITED","Intermediate Apprenticeships: Health, Public Services and Care","x","x","x",null,20,83,"bottom quintile",null,"x","x","x",null,20,91,"second quintile",null,"x","x","x",null,40,93,"fourth quintile"]
[10022513,"AVANT PARTNERSHIP LIMITED","Intermediate Apprenticeships: Retail and Commercial Enterprise","x","x","x",null,"x","x","x",null,".",".",".",null,10,91,"second quintile",null,".",".",".",null,"x","x","x"]
[10022513,"AVANT PARTNERSHIP LIMITED","Full Level 2: Health, Public Services and Care","x","x","x",null,60,84,"bottom quintile",null,"x","x","x",null,40,76,"bottom quintile",null,".",".",".",null,40,78,"bottom quintile"]
[10022513,"AVANT PARTNERSHIP LIMITED","Full Level 2: Preparation for Life and Work",50,73,"top quintile",null,30,82,"bottom quintile",null,"x","x","x",null,"x","x","x",null,".",".",".",null,".",".","."]
[10022513,"AVANT PARTNERSHIP LIMITED","Traineeships","x","x","x",null,"x","x","x",null,"x","x","x",null,60,55,"bottom quintile",null,"x","x","x",null,40,63,"second quintile"]
[10022513,"AVANT PARTNERSHIP LIMITED","English & Maths","x","x","x",null,60,80,"fourth quintile",null,"x","x","x",null,20,81,"fourth quintile",null,"x","x","x",null,10,91,"top quintile"]
[10022513,"AVANT PARTNERSHIP LIMITED","Other provision below Full Level 2",50,57,"top quintile",null,20,58,"bottom quintile",null,60,53,"third quintile",null,20,67,"second quintile",null,"x","x","x",null,"x","x","x"]
[10008081,"AWE PLC","LLDD learner",".",".",".",null,"x","x","x",null,".",".",".",null,10,92,"top quintile",null,".",".",".",null,".",".","."]
[10008081,"AWE PLC","Advanced and Higher Apprenticeships: Engineering and Manufacturing Technologies",".",".",".",null,"x","x","x",null,".",".",".",null,20,80,"bottom quintile",null,".",".",".",null,"x","x","x"]
[10008081,"AWE PLC","Intermediate Apprenticeships: Engineering and Manufacturing Technologies","x","x","x",null,20,93,"third quintile",null,"x","x","x",null,40,100,"top quintile",null,".",".",".",null,"x","x","x"]
[10000470,"AXIA SOLUTIONS LIMITED","Advanced and Higher Apprenticeships: Engineering and Manufacturing Technologies",".",".",".",null,10,91,"second quintile",null,".",".",".",null,20,100,"top quintile",null,"x","x","x",null,10,82,"bottom quintile"]
[10000470,"AXIA SOLUTIONS LIMITED","Intermediate Apprenticeships: Business, Administration and Law",".",".",".",null,10,82,"bottom quintile",null,".",".",".",null,20,94,"fourth quintile",null,".",".",".",null,30,92,"fourth quintile"]
[10000470,"AXIA SOLUTIONS LIMITED","Intermediate Apprenticeships: Engineering and Manufacturing Technologies","x","x","x",null,120,93,"second quintile",null,"x","x","x",null,90,97,"fourth quintile",null,".",".",".",null,170,93,"third quintile"]
[10000470,"AXIA SOLUTIONS LIMITED","Full Level 2: Engineering and Manufacturing Technologies",".",".",".",null,90,94,"top quintile",null,".",".",".",null,20,100,"top quintile",null,".",".",".",null,50,94,"top quintile"]
[10000470,"AXIA SOLUTIONS LIMITED","English & Maths",".",".",".",null,50,94,"top quintile",null,"x","x","x",null,70,94,"top quintile",null,".",".",".",null,80,93,"top quintile"]
[10000470,"AXIA SOLUTIONS LIMITED","Other provision below Full Level 2",".",".",".",null,90,97,"top quintile",null,".",".",".",null,"x","x","x",null,".",".",".",null,"x","x","x"]
[10000473,"AYLESBURY COLLEGE","LLDD learner",20,67,"top quintile",null,100,76,"top quintile",null,70,49,"fourth quintile",null,100,79,"top quintile",null,20,56,"top quintile",null,120,83,"top quintile"]
[10000473,"AYLESBURY COLLEGE","Advanced and Higher Apprenticeships: Business, Administration and Law",".",".",".",null,10,90,"bottom quintile",null,".",".",".",null,"x","x","x",null,".",".",".",null,"x","x","x"]
[10000473,"AYLESBURY COLLEGE","Advanced and Higher Apprenticeships: Engineering and Manufacturing Technologies",".",".",".",null,30,92,"third quintile",null,".",".",".",null,10,91,"second quintile",null,".",".",".",null,20,76,"bottom quintile"]
[10000473,"AYLESBURY COLLEGE","Advanced and Higher Apprenticeships: Health, Public Services and Care","x","x","x",null,30,91,"bottom quintile",null,".",".",".",null,40,95,"top quintile",null,".",".",".",null,10,92,"third quintile"]
[10000473,"AYLESBURY COLLEGE","Advanced and Higher Apprenticeships: Information and Communication Technology",".",".",".",null,"x","x","x",null,".",".",".",null,10,100,"top quintile",null,".",".",".",null,10,79,"bottom quintile"]
[10000473,"AYLESBURY COLLEGE","Advanced and Higher Apprenticeships: Retail and Commercial Enterprise",".",".",".",null,"x","x","x",null,".",".",".",null,10,36,"bottom quintile",null,".",".",".",null,"x","x","x"]
[10000473,"AYLESBURY COLLEGE","Full Level 3+: Arts, Media and Publishing","x","x","x",null,20,87,"fourth quintile",null,".",".",".",null,20,100,"top quintile",null,".",".",".",null,10,100,"top quintile"]
[10000473,"AYLESBURY COLLEGE","Full Level 3+: Business, Administration and Law",".",".",".",null,20,85,"second quintile",null,".",".",".",null,20,86,"second quintile",null,".",".",".",null,10,64,"bottom quintile"]
[10000473,"AYLESBURY COLLEGE","Full Level 3+: Education and Training",".",".",".",null,10,91,"second quintile",null,".",".",".",null,"x","x","x",null,".",".",".",null,"x","x","x"]
[10000473,"AYLESBURY COLLEGE","Full Level 3+: Health, Public Services and Care",".",".",".",null,30,91,"fourth quintile",null,".",".",".",null,20,88,"third quintile",null,"x","x","x",null,60,87,"fourth quintile"]
[10000473,"AYLESBURY COLLEGE","Full Level 3+: Information and Communication Technology",".",".",".",null,20,73,"bottom quintile",null,".",".",".",null,"x","x","x",null,".",".",".",null,10,80,"third quintile"]
[10000473,"AYLESBURY COLLEGE","Full Level 3+: Retail and Commercial Enterprise","x","x","x",null,20,76,"third quintile",null,".",".",".",null,10,92,"top quintile",null,".",".",".",null,"x","x","x"]
[10000473,"AYLESBURY COLLEGE","Access to HE","x","x","x",null,30,97,"top quintile",null,".",".",".",null,30,89,"second quintile",null,".",".",".",null,20,100,"top quintile"]
[10000473,"AYLESBURY COLLEGE","Other Level 3","x","x","x",null,90,96,"top quintile",null,"x","x","x",null,30,89,"top quintile",null,".",".",".",null,"x","x","x"]
[10000473,"AYLESBURY COLLEGE","Intermediate Apprenticeships: Business, Administration and Law",".",".",".",null,30,97,"top quintile",null,".",".",".",null,10,90,"second quintile",null,".",".",".",null,"x","x","x"]
[10000473,"AYLESBURY COLLEGE","Intermediate Apprenticeships: Construction, Planning and the Built Environment","x","x","x",null,30,85,"second quintile",null,".",".",".",null,"x","x","x",null,".",".",".",null,"x","x","x"]
[10000473,"AYLESBURY COLLEGE","Intermediate Apprenticeships: Engineering and Manufacturing Technologies",".",".",".",null,20,83,"bottom quintile",null,".",".",".",null,40,98,"top quintile",null,".",".",".",null,20,100,"top quintile"]
[10000473,"AYLESBURY COLLEGE","Intermediate Apprenticeships: Health, Public Services and Care",".",".",".",null,20,80,"bottom quintile",null,".",".",".",null,30,94,"fourth quintile",null,".",".",".",null,10,91,"second quintile"]
[10000473,"AYLESBURY COLLEGE","Intermediate Apprenticeships: Retail and Commercial Enterprise",".",".",".",null,20,87,"bottom quintile",null,".",".",".",null,30,97,"top quintile",null,".",".",".",null,20,83,"bottom quintile"]
[10000473,"AYLESBURY COLLEGE","Full Level 2: Agriculture, Horticulture and Animal Care",40,51,"bottom quintile",null,70,96,"top quintile",null,".",".",".",null,10,90,"top quintile",null,".",".",".",null,"x","x","x"]
[10000473,"AYLESBURY COLLEGE","Full Level 2: Business, Administration and Law",".",".",".",null,30,97,"top quintile",null,"x","x","x",null,40,92,"fourth quintile",null,"x","x","x",null,40,95,"top quintile"]
[10000473,"AYLESBURY COLLEGE","Full Level 2: Construction, Planning and the Built Environment","x","x","x",null,10,80,"second quintile",null,"x","x","x",null,"x","x","x",null,".",".",".",null,"x","x","x"]
[10000473,"AYLESBURY COLLEGE","Full Level 2: Health, Public Services and Care","x","x","x",null,90,92,"third quintile",null,20,29,"bottom quintile",null,90,92,"fourth quintile",null,"x","x","x",null,180,92,"third quintile"]
[10000473,"AYLESBURY COLLEGE","Full Level 2: Languages, Literature and Culture",".",".",".",null,10,93,"top quintile",null,"x","x","x",null,20,87,"third quintile",null,"x","x","x",null,40,83,"second quintile"]
[10000473,"AYLESBURY COLLEGE","Full Level 2: Leisure, Travel and Tourism",".",".",".",null,"x","x","x",null,"x","x","x",null,20,76,"bottom quintile",null,".",".",".",null,"x","x","x"]
[10000473,"AYLESBURY COLLEGE","Full Level 2: Preparation for Life and Work",40,46,"bottom quintile",null,"x","x","x",null,".",".",".",null,10,73,"bottom quintile",null,".",".",".",null,10,80,"bottom quintile"]
[10000473,"AYLESBURY COLLEGE","Full Level 2: Retail and Commercial Enterprise",110,39,"bottom quintile",null,70,72,"second quintile",null,"x","x","x",null,40,84,"fourth quintile",null,"x","x","x",null,30,88,"top quintile"]
[10000473,"AYLESBURY COLLEGE","Full Level 2: Science and Mathematics","x","x","x",null,30,93,"top quintile",null,"x","x","x",null,30,93,"top quintile",null,".",".",".",null,50,93,"top quintile"]
[10000473,"AYLESBURY COLLEGE","Traineeships",".",".",".",null,"x","x","x",null,".",".",".",null,20,100,"top quintile",null,".",".",".",null,10,62,"second quintile"]
[10000473,"AYLESBURY COLLEGE","English & Maths","x","x","x",null,40,83,"fourth quintile",null,".",".",".",null,60,90,"top quintile",null,".",".",".",null,30,93,"top quintile"]
[10000473,"AYLESBURY COLLEGE","English for Speakers of Other Languages (ESOL)",".",".",".",null,80,82,"top quintile",null,".",".",".",null,140,77,"top quintile",null,".",".",".",null,10,70,"fourth quintile"]
[10000473,"AYLESBURY COLLEGE","Other provision below Full Level 2",240,60,"top quintile",null,240,82,"fourth quintile",null,460,48,"bottom quintile",null,270,79,"third quintile",null,110,45,"bottom quintile",null,330,59,"bottom quintile"]
[10000486,"B L TRAINING LIMITED","LLDD learner",".",".",".",null,30,88,"top quintile",null,".",".",".",null,20,79,"top quintile",null,"x","x","x",null,20,75,"fourth quintile"]
[10000486,"B L TRAINING LIMITED","Advanced and Higher Apprenticeships: Business, Administration and Law",".",".",".",null,20,87,"bottom quintile",null,".",".",".",null,10,92,"second quintile",null,".",".",".",null,10,92,"second quintile"]
[10000486,"B L TRAINING LIMITED","Advanced and Higher Apprenticeships: Retail and Commercial Enterprise","x","x","x",null,80,85,"second quintile",null,"x","x","x",null,60,87,"second quintile",null,".",".",".",null,70,90,"third quintile"]
[10000486,"B L TRAINING LIMITED","Intermediate Apprenticeships: Retail and Commercial Enterprise","x","x","x",null,160,87,"bottom quintile",null,"x","x","x",null,140,91,"third quintile",null,"x","x","x",null,140,89,"third quintile"]
[10000486,"B L TRAINING LIMITED","Full Level 2: Business, Administration and Law",".",".",".",null,40,87,"third quintile",null,".",".",".",null,".",".",".",null,".",".",".",null,".",".","."]
[10000486,"B L TRAINING LIMITED","Traineeships",".",".",".",null,"x","x","x",null,"x","x","x",null,"x","x","x",null,".",".",".",null,10,69,"third quintile"]
[10029186,"B2B ENGAGE LIMITED","LLDD learner",50,65,"top quintile",null,40,81,"top quintile",null,70,49,"fourth quintile",null,70,49,"bottom quintile",null,50,44,"third quintile",null,50,53,"bottom quintile"]
[10029186,"B2B ENGAGE LIMITED","Advanced and Higher Apprenticeships: Business, Administration and Law","x","x","x",null,70,90,"bottom quintile",null,"x","x","x",null,130,88,"bottom quintile",null,"x","x","x",null,70,91,"bottom quintile"]
[10029186,"B2B ENGAGE LIMITED","Advanced and Higher Apprenticeships: Education and Training",".",".",".",null,"x","x","x",null,"x","x","x",null,"x","x","x",null,"x","x","x",null,20,100,"top quintile"]
[10029186,"B2B ENGAGE LIMITED","Advanced and Higher Apprenticeships: Health, Public Services and Care",".",".",".",null,10,90,"bottom quintile",null,"x","x","x",null,"x","x","x",null,".",".",".",null,10,100,"top quintile"]
[10029186,"B2B ENGAGE LIMITED","Advanced and Higher Apprenticeships: Retail and Commercial Enterprise",".",".",".",null,10,60,"bottom quintile",null,".",".",".",null,"x","x","x",null,".",".",".",null,"x","x","x"]
[10029186,"B2B ENGAGE LIMITED","Full Level 3+: Health, Public Services and Care","x","x","x",null,".",".",".",null,"x","x","x",null,20,88,"third quintile",null,".",".",".",null,".",".","."]
[10029186,"B2B ENGAGE LIMITED","Other Level 3",60,65,"third quintile",null,10,75,"bottom quintile",null,".",".",".",null,".",".",".",null,".",".",".",null,".",".","."]
[10029186,"B2B ENGAGE LIMITED","Intermediate Apprenticeships: Business, Administration and Law","x","x","x",null,60,86,"bottom quintile",null,"x","x","x",null,70,88,"bottom quintile",null,"x","x","x",null,30,90,"second quintile"]
[10029186,"B2B ENGAGE LIMITED","Intermediate Apprenticeships: Education and Training","x","x","x",null,"x","x","x",null,"x","x","x",null,30,89,"second quintile",null,"x","x","x",null,20,86,"second quintile"]
[10029186,"B2B ENGAGE LIMITED","Intermediate Apprenticeships: Health, Public Services and Care","x","x","x",null,30,75,"bottom quintile",null,".",".",".",null,30,84,"bottom quintile",null,"x","x","x",null,10,92,"third quintile"]
[10029186,"B2B ENGAGE LIMITED","Intermediate Apprenticeships: Retail and Commercial Enterprise",".",".",".",null,30,69,"bottom quintile",null,".",".",".",null,"x","x","x",null,".",".",".",null,".",".","."]
[10029186,"B2B ENGAGE LIMITED","Full Level 2: Health, Public Services and Care","x","x","x",null,30,53,"bottom quintile",null,".",".",".",null,"x","x","x",null,".",".",".",null,"x","x","x"]
[10029186,"B2B ENGAGE LIMITED","Full Level 2: Leisure, Travel and Tourism",".",".",".",null,20,100,"top quintile",null,".",".",".",null,".",".",".",null,".",".",".",null,".",".","."]
[10029186,"B2B ENGAGE LIMITED","Traineeships",30,68,"third quintile",null,90,76,"third quintile",null,10,79,"top quintile",null,100,75,"fourth quintile",null,"x","x","x",null,60,65,"third quintile"]
[10029186,"B2B ENGAGE LIMITED","Other provision below Full Level 2",150,58,"top quintile",null,50,57,"bottom quintile",null,200,59,"top quintile",null,90,54,"bottom quintile",null,70,56,"fourth quintile",null,30,43,"bottom quintile"]
[10037348,"BABCOCK SKILLS DEVELOPMENT AND TRAINING LIMITED","LLDD learner",".",".",".",null,20,90,"top quintile",null,".",".",".",null,"x","x","x",null,".",".",".",null,20,100,"top quintile"]
[10037348,"BABCOCK SKILLS DEVELOPMENT AND TRAINING LIMITED","Advanced and Higher Apprenticeships: Engineering and Manufacturing Technologies","x","x","x",null,180,94,"fourth quintile",null,".",".",".",null,90,97,"top quintile",null,".",".",".",null,100,92,"third quintile"]
[10037348,"BABCOCK SKILLS DEVELOPMENT AND TRAINING LIMITED","Intermediate Apprenticeships: Business, Administration and Law",".",".",".",null,".",".",".",null,".",".",".",null,".",".",".",null,".",".",".",null,20,100,"top quintile"]
[10037348,"BABCOCK SKILLS DEVELOPMENT AND TRAINING LIMITED","Intermediate Apprenticeships: Engineering and Manufacturing Technologies",".",".",".",null,90,97,"fourth quintile",null,".",".",".",null,60,97,"fourth quintile",null,".",".",".",null,110,94,"fourth quintile"]
[10003161,"BABCOCK TRAINING LIMITED","LLDD learner",20,86,"top quintile",null,570,91,"top quintile",null,10,60,"top quintile",null,580,88,"top quintile",null,"x","x","x",null,560,90,"top quintile"]
[10003161,"BABCOCK TRAINING LIMITED","Advanced and Higher Apprenticeships: Agriculture, Horticulture and Animal Care",".",".",".",null,10,75,"bottom quintile",null,".",".",".",null,20,96,"top quintile",null,".",".",".",null,".",".","."]
[10003161,"BABCOCK TRAINING LIMITED","Advanced and Higher Apprenticeships: Business, Administration and Law",".",".",".",null,280,90,"bottom quintile",null,".",".",".",null,190,91,"bottom quintile",null,".",".",".",null,210,91,"second quintile"]
[10003161,"BABCOCK TRAINING LIMITED","Advanced and Higher Apprenticeships: Engineering and Manufacturing Technologies","x","x","x",null,270,92,"second quintile",null,".",".",".",null,430,93,"third quintile",null,"x","x","x",null,290,96,"top quintile"]
[10003161,"BABCOCK TRAINING LIMITED","Advanced and Higher Apprenticeships: Health, Public Services and Care","x","x","x",null,1120,94,"fourth quintile",null,"x","x","x",null,900,93,"third quintile",null,".",".",".",null,920,92,"fourth quintile"]
[10003161,"BABCOCK TRAINING LIMITED","Advanced and Higher Apprenticeships: Leisure, Travel and Tourism","x","x","x",null,250,93,"fourth quintile",null,"x","x","x",null,220,95,"top quintile",null,".",".",".",null,200,91,"fourth quintile"]
[10003161,"BABCOCK TRAINING LIMITED","Advanced and Higher Apprenticeships: Retail and Commercial Enterprise","x","x","x",null,1600,93,"fourth quintile",null,"x","x","x",null,1130,93,"fourth quintile",null,".",".",".",null,1790,93,"fourth quintile"]
[10003161,"BABCOCK TRAINING LIMITED","Full Level 3+: Health, Public Services and Care",".",".",".",null,"x","x","x",null,".",".",".",null,70,96,"top quintile",null,".",".",".",null,20,81,"second quintile"]
[10003161,"BABCOCK TRAINING LIMITED","Full Level 3+: Retail and Commercial Enterprise",".",".",".",null,"x","x","x",null,".",".",".",null,10,93,"top quintile",null,".",".",".",null,"x","x","x"]
[10003161,"BABCOCK TRAINING LIMITED","Intermediate Apprenticeships: Agriculture, Horticulture and Animal Care",".",".",".",null,20,93,"top quintile",null,".",".",".",null,30,100,"top quintile",null,".",".",".",null,".",".","."]
[10003161,"BABCOCK TRAINING LIMITED","Intermediate Apprenticeships: Business, Administration and Law","x","x","x",null,1300,94,"fourth quintile",null,"x","x","x",null,1140,93,"fourth quintile",null,"x","x","x",null,790,93,"fourth quintile"]
[10003161,"BABCOCK TRAINING LIMITED","Intermediate Apprenticeships: Engineering and Manufacturing Technologies",".",".",".",null,250,94,"third quintile",null,".",".",".",null,270,96,"fourth quintile",null,"x","x","x",null,240,96,"fourth quintile"]
[10003161,"BABCOCK TRAINING LIMITED","Intermediate Apprenticeships: Health, Public Services and Care","x","x","x",null,730,94,"fourth quintile",null,"x","x","x",null,1020,94,"fourth quintile",null,"x","x","x",null,1000,93,"fourth quintile"]
[10003161,"BABCOCK TRAINING LIMITED","Intermediate Apprenticeships: Leisure, Travel and Tourism","x","x","x",null,420,87,"bottom quintile",null,"x","x","x",null,440,84,"bottom quintile",null,10,58,"bottom quintile",null,410,84,"bottom quintile"]
[10003161,"BABCOCK TRAINING LIMITED","Intermediate Apprenticeships: Retail and Commercial Enterprise",20,89,"third quintile",null,2710,92,"third quintile",null,10,70,"bottom quintile",null,3210,92,"fourth quintile",null,10,86,"third quintile",null,2850,90,"fourth quintile"]
[10003161,"BABCOCK TRAINING LIMITED","Full Level 2: Health, Public Services and Care",".",".",".",null,20,81,"bottom quintile",null,".",".",".",null,10,100,"top quintile",null,"x","x","x",null,40,95,"top quintile"]
[10003161,"BABCOCK TRAINING LIMITED","Full Level 2: Retail and Commercial Enterprise",".",".",".",null,30,90,"top quintile",null,".",".",".",null,20,100,"top quintile",null,"x","x","x",null,20,80,"fourth quintile"]
[10003161,"BABCOCK TRAINING LIMITED","Traineeships",".",".",".",null,".",".",".",null,"x","x","x",null,".",".",".",null,20,59,"fourth quintile",null,20,74,"fourth quintile"]
[10003161,"BABCOCK TRAINING LIMITED","English & Maths",".",".",".",null,40,91,"top quintile",null,".",".",".",null,60,93,"top quintile",null,"x","x","x",null,70,93,"top quintile"]
[10003161,"BABCOCK TRAINING LIMITED","Other provision below Full Level 2",100,63,"top quintile",null,20,52,"bottom quintile",null,60,56,"fourth quintile",null,"x","x","x",null,"x","x","x",null,"x","x","x"]
[10000494,"BABINGTON BUSINESS COLLEGE LIMITED","LLDD learner",50,40,"bottom quintile",null,80,70,"fourth quintile",null,30,48,"fourth quintile",null,70,64,"third quintile",null,80,49,"fourth quintile",null,90,70,"third quintile"]
[10000494,"BABINGTON BUSINESS COLLEGE LIMITED","Advanced and Higher Apprenticeships: Business, Administration and Law","x","x","x",null,370,95,"third quintile",null,"x","x","x",null,320,94,"third quintile",null,"x","x","x",null,430,95,"fourth quintile"]
[10000494,"BABINGTON BUSINESS COLLEGE LIMITED","Advanced and Higher Apprenticeships: Health, Public Services and Care",".",".",".",null,40,97,"top quintile",null,"x","x","x",null,30,90,"bottom quintile",null,".",".",".",null,70,93,"fourth quintile"]
[10000494,"BABINGTON BUSINESS COLLEGE LIMITED","Advanced and Higher Apprenticeships: Retail and Commercial Enterprise",".",".",".",null,"x","x","x",null,".",".",".",null,".",".",".",null,".",".",".",null,40,92,"fourth quintile"]
[10000494,"BABINGTON BUSINESS COLLEGE LIMITED","Full Level 3+: Business, Administration and Law","x","x","x",null,".",".",".",null,".",".",".",null,"x","x","x",null,"x","x","x",null,10,92,"fourth quintile"]
[10000494,"BABINGTON BUSINESS COLLEGE LIMITED","Full Level 3+: Health, Public Services and Care",".",".",".",null,"x","x","x",null,".",".",".",null,10,100,"top quintile",null,".",".",".",null,".",".","."]
[10000494,"BABINGTON BUSINESS COLLEGE LIMITED","Intermediate Apprenticeships: Business, Administration and Law",20,95,"top quintile",null,430,93,"third quintile",null,10,73,"bottom quintile",null,540,94,"fourth quintile",null,10,100,"top quintile",null,620,92,"fourth quintile"]
[10000494,"BABINGTON BUSINESS COLLEGE LIMITED","Intermediate Apprenticeships: Health, Public Services and Care",".",".",".",null,20,95,"top quintile",null,"x","x","x",null,40,98,"top quintile",null,".",".",".",null,110,91,"second quintile"]
[10000494,"BABINGTON BUSINESS COLLEGE LIMITED","Intermediate Apprenticeships: Retail and Commercial Enterprise",".",".",".",null,"x","x","x",null,".",".",".",null,"x","x","x",null,"x","x","x",null,70,91,"fourth quintile"]
[10000494,"BABINGTON BUSINESS COLLEGE LIMITED","Full Level 2: Business, Administration and Law",60,58,"third quintile",null,30,48,"bottom quintile",null,"x","x","x",null,"x","x","x",null,20,69,"top quintile",null,"x","x","x"]
[10000494,"BABINGTON BUSINESS COLLEGE LIMITED","Full Level 2: Health, Public Services and Care",".",".",".",null,"x","x","x",null,".",".",".",null,".",".",".",null,80,58,"second quintile",null,10,57,"bottom quintile"]
[10000494,"BABINGTON BUSINESS COLLEGE LIMITED","Full Level 2: Preparation for Life and Work",".",".",".",null,".",".",".",null,".",".",".",null,".",".",".",null,10,55,"second quintile",null,"x","x","x"]
[10000494,"BABINGTON BUSINESS COLLEGE LIMITED","Traineeships","x","x","x",null,20,76,"fourth quintile",null,40,57,"second quintile",null,50,50,"bottom quintile",null,100,45,"second quintile",null,120,56,"second quintile"]
[10000494,"BABINGTON BUSINESS COLLEGE LIMITED","English & Maths","x","x","x",null,180,90,"top quintile",null,".",".",".",null,150,90,"top quintile",null,".",".",".",null,200,89,"top quintile"]
[10000494,"BABINGTON BUSINESS COLLEGE LIMITED","Other provision below Full Level 2",160,62,"top quintile",null,230,78,"third quintile",null,40,36,"bottom quintile",null,"x","x","x",null,60,49,"second quintile",null,20,44,"bottom quintile"]
[10000501,"BAE SYSTEMS PLC","LLDD learner","x","x","x",null,20,94,"top quintile",null,".",".",".",null,30,100,"top quintile",null,".",".",".",null,30,96,"top quintile"]
[10000501,"BAE SYSTEMS PLC","Advanced and Higher Apprenticeships: Business, Administration and Law",".",".",".",null,10,100,"top quintile",null,".",".",".",null,20,95,"fourth quintile",null,".",".",".",null,70,99,"top quintile"]
[10000501,"BAE SYSTEMS PLC","Advanced and Higher Apprenticeships: Engineering and Manufacturing Technologies",".",".",".",null,130,99,"top quintile",null,"x","x","x",null,150,99,"top quintile",null,".",".",".",null,160,98,"top quintile"]
[10000501,"BAE SYSTEMS PLC","Intermediate Apprenticeships: Engineering and Manufacturing Technologies","x","x","x",null,"x","x","x",null,"x","x","x",null,10,100,"top quintile",null,".",".",".",null,10,82,"bottom quintile"]
[10013530,"BALDWIN TRAINING LIMITED","LLDD learner",10,8,"bottom quintile",null,10,62,"second quintile",null,".",".",".",null,".",".",".",null,".",".",".",null,".",".","."]
[10013530,"BALDWIN TRAINING LIMITED","Advanced and Higher Apprenticeships: Engineering and Manufacturing Technologies",".",".",".",null,30,87,"bottom quintile",null,".",".",".",null,".",".",".",null,".",".",".",null,".",".","."]
[10013530,"BALDWIN TRAINING LIMITED","Advanced and Higher Apprenticeships: Health, Public Services and Care",".",".",".",null,20,69,"bottom quintile",null,".",".",".",null,".",".",".",null,".",".",".",null,".",".","."]
[10013530,"BALDWIN TRAINING LIMITED","Full Level 3+: Health, Public Services and Care",".",".",".",null,20,95,"top quintile",null,".",".",".",null,".",".",".",null,".",".",".",null,".",".","."]
[10013530,"BALDWIN TRAINING LIMITED","Full Level 2: Business, Administration and Law",10,60,"third quintile",null,"x","x","x",null,".",".",".",null,".",".",".",null,".",".",".",null,".",".","."]
[10013530,"BALDWIN TRAINING LIMITED","Full Level 2: Preparation for Life and Work",30,32,"bottom quintile",null,"x","x","x",null,".",".",".",null,".",".",".",null,".",".",".",null,".",".","."]
[10013530,"BALDWIN TRAINING LIMITED","Full Level 2: Retail and Commercial Enterprise",30,50,"second quintile",null,"x","x","x",null,".",".",".",null,".",".",".",null,".",".",".",null,".",".","."]
[10013530,"BALDWIN TRAINING LIMITED","Other provision below Full Level 2",80,36,"bottom quintile",null,10,0,"bottom quintile",null,".",".",".",null,".",".",".",null,".",".",".",null,".",".","."]
[10019026,"BALTIC TRAINING SERVICES LIMITED","LLDD learner",90,69,"top quintile",null,40,80,"top quintile",null,120,62,"top quintile",null,130,77,"top quintile",null,80,49,"fourth quintile",null,50,72,"third quintile"]
[10019026,"BALTIC TRAINING SERVICES LIMITED","Advanced and Higher Apprenticeships: Business, Administration and Law",".",".",".",null,"x","x","x",null,".",".",".",null,40,85,"bottom quintile",null,".",".",".",null,90,96,"top quintile"]
[10019026,"BALTIC TRAINING SERVICES LIMITED","Advanced and Higher Apprenticeships: Information and Communication Technology","x","x","x",null,150,94,"fourth quintile",null,".",".",".",null,240,93,"fourth quintile",null,"x","x","x",null,310,92,"third quintile"]
[10019026,"BALTIC TRAINING SERVICES LIMITED","Full Level 3+: Health, Public Services and Care","x","x","x",null,70,85,"second quintile",null,"x","x","x",null,50,77,"bottom quintile",null,".",".",".",null,30,93,"top quintile"]
[10019026,"BALTIC TRAINING SERVICES LIMITED","Intermediate Apprenticeships: Business, Administration and Law",".",".",".",null,30,92,"second quintile",null,".",".",".",null,20,88,"bottom quintile",null,".",".",".",null,20,91,"second quintile"]
[10019026,"BALTIC TRAINING SERVICES LIMITED","Intermediate Apprenticeships: Engineering and Manufacturing Technologies","x","x","x",null,"x","x","x",null,"x","x","x",null,20,96,"fourth quintile",null,"x","x","x",null,40,83,"bottom quintile"]
[10019026,"BALTIC TRAINING SERVICES LIMITED","Intermediate Apprenticeships: Information and Communication Technology",".",".",".",null,"x","x","x",null,".",".",".",null,100,100,"top quintile",null,".",".",".",null,10,86,"bottom quintile"]
[10019026,"BALTIC TRAINING SERVICES LIMITED","Full Level 2: Business, Administration and Law",450,69,"top quintile",null,80,66,"bottom quintile",null,".",".",".",null,".",".",".",null,".",".",".",null,".",".","."]
[10019026,"BALTIC TRAINING SERVICES LIMITED","Full Level 2: Engineering and Manufacturing Technologies",10,69,"fourth quintile",null,"x","x","x",null,480,67,"fourth quintile",null,370,84,"third quintile",null,310,64,"fourth quintile",null,90,66,"bottom quintile"]
[10019026,"BALTIC TRAINING SERVICES LIMITED","Full Level 2: Health, Public Services and Care",50,78,"top quintile",null,20,65,"bottom quintile",null,30,58,"second quintile",null,60,83,"bottom quintile",null,".",".",".",null,100,79,"bottom quintile"]
[10019026,"BALTIC TRAINING SERVICES LIMITED","Full Level 2: Information and Communication Technology",".",".",".",null,".",".",".",null,"x","x","x",null,100,87,"top quintile",null,".",".",".",null,".",".","."]
[10019026,"BALTIC TRAINING SERVICES LIMITED","Full Level 2: Preparation for Life and Work",".",".",".",null,".",".",".",null,".",".",".",null,20,64,"bottom quintile",null,".",".",".",null,".",".","."]
[10019026,"BALTIC TRAINING SERVICES LIMITED","Traineeships","x","x","x",null,10,62,"bottom quintile",null,"x","x","x",null,90,70,"third quintile",null,"x","x","x",null,40,68,"third quintile"]
[10019026,"BALTIC TRAINING SERVICES LIMITED","English & Maths","x","x","x",null,".",".",".",null,"x","x","x",null,10,69,"bottom quintile",null,".",".",".",null,".",".","."]
[10019026,"BALTIC TRAINING SERVICES LIMITED","Other provision below Full Level 2",260,68,"top quintile",null,30,58,"bottom quintile",null,110,61,"top quintile",null,10,62,"bottom quintile",null,110,68,"top quintile",null,20,73,"third quintile"]
[10000524,"BARCHESTER HEALTHCARE LIMITED","LLDD learner",".",".",".",null,50,92,"top quintile",null,"x","x","x",null,40,81,"top quintile",null,".",".",".",null,10,92,"top quintile"]
[10000524,"BARCHESTER HEALTHCARE LIMITED","Advanced and Higher Apprenticeships: Health, Public Services and Care","x","x","x",null,90,93,"third quintile",null,".",".",".",null,60,90,"bottom quintile",null,".",".",".",null,10,100,"top quintile"]
[10000524,"BARCHESTER HEALTHCARE LIMITED","Intermediate Apprenticeships: Business, Administration and Law",".",".",".",null,"x","x","x",null,".",".",".",null,10,100,"top quintile",null,".",".",".",null,"x","x","x"]
[10000524,"BARCHESTER HEALTHCARE LIMITED","Intermediate Apprenticeships: Health, Public Services and Care","x","x","x",null,180,95,"top quintile",null,"x","x","x",null,170,95,"top quintile",null,".",".",".",null,100,94,"top quintile"]
[10000524,"BARCHESTER HEALTHCARE LIMITED","Intermediate Apprenticeships: Retail and Commercial Enterprise",".",".",".",null,20,100,"top quintile",null,".",".",".",null,20,86,"bottom quintile",null,".",".",".",null,"x","x","x"]
[10000524,"BARCHESTER HEALTHCARE LIMITED","English & Maths",".",".",".",null,70,93,"top quintile",null,".",".",".",null,140,94,"top quintile",null,".",".",".",null,70,100,"top quintile"]
[10000525,"BARFORD EDUCATION AND TRAINING (NORTH EAST) LIMITED","Advanced and Higher Apprenticeships: Engineering and Manufacturing Technologies",".",".",".",null,".",".",".",null,".",".",".",null,20,79,"bottom quintile",null,".",".",".",null,".",".","."]
[10000525,"BARFORD EDUCATION AND TRAINING (NORTH EAST) LIMITED","Intermediate Apprenticeships: Business, Administration and Law",".",".",".",null,40,86,"bottom quintile",null,".",".",".",null,40,86,"bottom quintile",null,".",".",".",null,".",".","."]
[10000525,"BARFORD EDUCATION AND TRAINING (NORTH EAST) LIMITED","Intermediate Apprenticeships: Engineering and Manufacturing Technologies",".",".",".",null,50,100,"top quintile",null,".",".",".",null,30,100,"top quintile",null,".",".",".",null,".",".","."]
[10000525,"BARFORD EDUCATION AND TRAINING (NORTH EAST) LIMITED","Intermediate Apprenticeships: Retail and Commercial Enterprise",".",".",".",null,".",".",".",null,".",".",".",null,30,93,"fourth quintile",null,".",".",".",null,".",".","."]
[10000525,"BARFORD EDUCATION AND TRAINING (NORTH EAST) LIMITED","Full Level 2: Engineering and Manufacturing Technologies",100,56,"bottom quintile",null,"x","x","x",null,20,60,"third quintile",null,"x","x","x",null,".",".",".",null,".",".","."]
[10000525,"BARFORD EDUCATION AND TRAINING (NORTH EAST) LIMITED","Full Level 2: Health, Public Services and Care",".",".",".",null,"x","x","x",null,".",".",".",null,10,92,"third quintile",null,".",".",".",null,".",".","."]
[10000525,"BARFORD EDUCATION AND TRAINING (NORTH EAST) LIMITED","English & Maths",10,64,"top quintile",null,".",".",".",null,40,62,"fourth quintile",null,"x","x","x",null,".",".",".",null,".",".","."]
[10000143,"BARKING & DAGENHAM LONDON BOROUGH COUNCIL","LLDD learner",50,51,"fourth quintile",null,330,65,"third quintile",null,30,56,"top quintile",null,250,64,"third quintile",null,10,67,"top quintile",null,200,71,"third quintile"]
[10000143,"BARKING & DAGENHAM LONDON BOROUGH COUNCIL","Advanced and Higher Apprenticeships: Health, Public Services and Care",".",".",".",null,".",".",".",null,".",".",".",null,10,69,"bottom quintile",null,".",".",".",null,".",".","."]
[10000143,"BARKING & DAGENHAM LONDON BOROUGH COUNCIL","Intermediate Apprenticeships: Business, Administration and Law","x","x","x",null,20,84,"bottom quintile",null,"x","x","x",null,20,81,"bottom quintile",null,"x","x","x",null,20,94,"fourth quintile"]
[10000143,"BARKING & DAGENHAM LONDON BOROUGH COUNCIL","Intermediate Apprenticeships: Health, Public Services and Care",10,70,"bottom quintile",null,10,83,"bottom quintile",null,".",".",".",null,"x","x","x",null,"x","x","x",null,"x","x","x"]
[10000143,"BARKING & DAGENHAM LONDON BOROUGH COUNCIL","Full Level 2: Business, Administration and Law","x","x","x",null,"x","x","x",null,".",".",".",null,10,100,"top quintile",null,"x","x","x",null,"x","x","x"]
[10000143,"BARKING & DAGENHAM LONDON BOROUGH COUNCIL","Full Level 2: Education and Training",".",".",".",null,10,42,"bottom quintile",null,"x","x","x",null,20,60,"bottom quintile",null,"x","x","x",null,20,88,"fourth quintile"]
[10000143,"BARKING & DAGENHAM LONDON BOROUGH COUNCIL","Full Level 2: Health, Public Services and Care","x","x","x",null,40,74,"bottom quintile",null,"x","x","x",null,40,72,"bottom quintile",null,"x","x","x",null,20,67,"bottom quintile"]
[10000143,"BARKING & DAGENHAM LONDON BOROUGH COUNCIL","Full Level 2: Information and Communication Technology","x","x","x",null,20,68,"bottom quintile",null,"x","x","x",null,20,79,"third quintile",null,".",".",".",null,"x","x","x"]
[10000143,"BARKING & DAGENHAM LONDON BOROUGH COUNCIL","Full Level 2: Retail and Commercial Enterprise","x","x","x",null,10,45,"bottom quintile",null,"x","x","x",null,10,45,"bottom quintile",null,"x","x","x",null,"x","x","x"]
[10000143,"BARKING & DAGENHAM LONDON BOROUGH COUNCIL","Full Level 2: Science and Mathematics","x","x","x",null,20,83,"bottom quintile",null,"x","x","x",null,20,100,"top quintile",null,".",".",".",null,10,83,"bottom quintile"]
[10000143,"BARKING & DAGENHAM LONDON BOROUGH COUNCIL","English & Maths",30,48,"second quintile",null,210,70,"bottom quintile",null,30,55,"third quintile",null,230,79,"third quintile",null,20,69,"top quintile",null,160,77,"third quintile"]
[10000143,"BARKING & DAGENHAM LONDON BOROUGH COUNCIL","English for Speakers of Other Languages (ESOL)",20,44,"bottom quintile",null,270,67,"third quintile",null,30,56,"third quintile",null,430,70,"fourth quintile",null,"x","x","x",null,80,56,"second quintile"]
[10000143,"BARKING & DAGENHAM LONDON BOROUGH COUNCIL","Other provision below Full Level 2",60,58,"top quintile",null,350,64,"bottom quintile",null,20,64,"top quintile",null,120,65,"bottom quintile",null,"x","x","x",null,190,69,"second quintile"]
[10000528,"BARKING AND DAGENHAM COLLEGE","LLDD learner",230,44,"third quintile",null,390,64,"third quintile",null,180,48,"fourth quintile",null,390,62,"second quintile",null,190,35,"bottom quintile",null,360,61,"second quintile"]
[10000528,"BARKING AND DAGENHAM COLLEGE","Advanced and Higher Apprenticeships: Business, Administration and Law",".",".",".",null,10,71,"bottom quintile",null,"x","x","x",null,40,95,"fourth quintile",null,"x","x","x",null,20,100,"top quintile"]
[10000528,"BARKING AND DAGENHAM COLLEGE","Advanced and Higher Apprenticeships: Construction, Planning and the Built Environment",".",".",".",null,"x","x","x",null,".",".",".",null,10,80,"bottom quintile",null,".",".",".",null,10,100,"top quintile"]
[10000528,"BARKING AND DAGENHAM COLLEGE","Advanced and Higher Apprenticeships: Engineering and Manufacturing Technologies","x","x","x",null,20,100,"top quintile",null,".",".",".",null,"x","x","x",null,".",".",".",null,30,88,"second quintile"]
[10000528,"BARKING AND DAGENHAM COLLEGE","Advanced and Higher Apprenticeships: Health, Public Services and Care",".",".",".",null,".",".",".",null,".",".",".",null,"x","x","x",null,".",".",".",null,10,80,"bottom quintile"]
[10000528,"BARKING AND DAGENHAM COLLEGE","Full Level 3+: Arts, Media and Publishing","x","x","x",null,50,78,"second quintile",null,"x","x","x",null,40,80,"second quintile",null,"x","x","x",null,30,74,"bottom quintile"]
[10000528,"BARKING AND DAGENHAM COLLEGE","Full Level 3+: Business, Administration and Law",10,64,"second quintile",null,60,81,"bottom quintile",null,"x","x","x",null,50,80,"bottom quintile",null,"x","x","x",null,60,73,"second quintile"]
[10000528,"BARKING AND DAGENHAM COLLEGE","Full Level 3+: Construction, Planning and the Built Environment","x","x","x",null,40,94,"top quintile",null,"x","x","x",null,60,91,"top quintile",null,"x","x","x",null,30,87,"top quintile"]
[10000528,"BARKING AND DAGENHAM COLLEGE","Full Level 3+: Education and Training",".",".",".",null,"x","x","x",null,"x","x","x",null,10,90,"third quintile",null,20,78,"top quintile",null,70,49,"bottom quintile"]
[10000528,"BARKING AND DAGENHAM COLLEGE","Full Level 3+: Engineering and Manufacturing Technologies",".",".",".",null,40,65,"bottom quintile",null,"x","x","x",null,30,69,"bottom quintile",null,"x","x","x",null,30,70,"bottom quintile"]
[10000528,"BARKING AND DAGENHAM COLLEGE","Full Level 3+: Health, Public Services and Care","x","x","x",null,60,77,"bottom quintile",null,"x","x","x",null,40,97,"top quintile",null,"x","x","x",null,50,76,"bottom quintile"]
[10000528,"BARKING AND DAGENHAM COLLEGE","Full Level 3+: Information and Communication Technology","x","x","x",null,40,66,"bottom quintile",null,"x","x","x",null,20,87,"fourth quintile",null,".",".",".",null,10,71,"bottom quintile"]
[10000528,"BARKING AND DAGENHAM COLLEGE","Full Level 3+: Leisure, Travel and Tourism","x","x","x",null,30,92,"fourth quintile",null,".",".",".",null,10,92,"top quintile",null,"x","x","x",null,10,91,"top quintile"]
[10000528,"BARKING AND DAGENHAM COLLEGE","Full Level 3+: Retail and Commercial Enterprise","x","x","x",null,30,71,"second quintile",null,"x","x","x",null,40,61,"bottom quintile",null,"x","x","x",null,60,63,"bottom quintile"]
[10000528,"BARKING AND DAGENHAM COLLEGE","Access to HE",30,97,"top quintile",null,210,85,"bottom quintile",null,20,88,"third quintile",null,220,89,"second quintile",null,20,86,"fourth quintile",null,210,88,"second quintile"]
[10000528,"BARKING AND DAGENHAM COLLEGE","Other Level 3","x","x","x",null,180,91,"third quintile",null,"x","x","x",null,"x","x","x",null,"x","x","x",null,20,79,"fourth quintile"]
[10000528,"BARKING AND DAGENHAM COLLEGE","Intermediate Apprenticeships: Business, Administration and Law","x","x","x",null,20,94,"third quintile",null,"x","x","x",null,30,85,"bottom quintile",null,"x","x","x",null,30,96,"top quintile"]
[10000528,"BARKING AND DAGENHAM COLLEGE","Intermediate Apprenticeships: Construction, Planning and the Built Environment",".",".",".",null,20,80,"bottom quintile",null,".",".",".",null,30,96,"top quintile",null,".",".",".",null,30,81,"second quintile"]
[10000528,"BARKING AND DAGENHAM COLLEGE","Intermediate Apprenticeships: Engineering and Manufacturing Technologies","x","x","x",null,60,89,"bottom quintile",null,".",".",".",null,60,95,"third quintile",null,".",".",".",null,70,88,"second quintile"]
[10000528,"BARKING AND DAGENHAM COLLEGE","Intermediate Apprenticeships: Health, Public Services and Care","x","x","x",null,10,67,"bottom quintile",null,"x","x","x",null,20,83,"bottom quintile",null,".",".",".",null,10,90,"second quintile"]
[10000528,"BARKING AND DAGENHAM COLLEGE","Intermediate Apprenticeships: Retail and Commercial Enterprise",".",".",".",null,20,85,"bottom quintile",null,"x","x","x",null,20,90,"second quintile",null,".",".",".",null,"x","x","x"]
[10000528,"BARKING AND DAGENHAM COLLEGE","Full Level 2: Business, Administration and Law",30,85,"top quintile",null,210,88,"third quintile",null,"x","x","x",null,140,84,"bottom quintile",null,"x","x","x",null,70,80,"bottom quintile"]
[10000528,"BARKING AND DAGENHAM COLLEGE","Full Level 2: Construction, Planning and the Built Environment","x","x","x",null,40,91,"top quintile",null,20,63,"fourth quintile",null,170,82,"third quintile",null,"x","x","x",null,30,76,"third quintile"]
[10000528,"BARKING AND DAGENHAM COLLEGE","Full Level 2: Education and Training",60,73,"third quintile",null,50,59,"bottom quintile",null,50,67,"fourth quintile",null,60,50,"bottom quintile",null,30,41,"bottom quintile",null,90,53,"bottom quintile"]
[10000528,"BARKING AND DAGENHAM COLLEGE","Full Level 2: Engineering and Manufacturing Technologies",20,60,"second quintile",null,40,71,"bottom quintile",null,20,48,"bottom quintile",null,20,65,"bottom quintile",null,"x","x","x",null,20,76,"second quintile"]
[10000528,"BARKING AND DAGENHAM COLLEGE","Full Level 2: Health, Public Services and Care",70,82,"top quintile",null,1780,89,"bottom quintile",null,20,79,"top quintile",null,380,88,"second quintile",null,"x","x","x",null,400,90,"second quintile"]
[10000528,"BARKING AND DAGENHAM COLLEGE","Full Level 2: Information and Communication Technology",20,53,"bottom quintile",null,40,74,"bottom quintile",null,"x","x","x",null,20,86,"top quintile",null,"x","x","x",null,20,73,"second quintile"]
[10000528,"BARKING AND DAGENHAM COLLEGE","Full Level 2: Languages, Literature and Culture","x","x","x",null,"x","x","x",null,"x","x","x",null,60,89,"fourth quintile",null,".",".",".",null,40,84,"second quintile"]
[10000528,"BARKING AND DAGENHAM COLLEGE","Full Level 2: Preparation for Life and Work","x","x","x",null,120,87,"bottom quintile",null,"x","x","x",null,90,83,"bottom quintile",null,"x","x","x",null,10,90,"second quintile"]
[10000528,"BARKING AND DAGENHAM COLLEGE","Full Level 2: Retail and Commercial Enterprise",20,67,"top quintile",null,130,71,"second quintile",null,30,55,"fourth quintile",null,80,75,"third quintile",null,"x","x","x",null,30,91,"top quintile"]
[10000528,"BARKING AND DAGENHAM COLLEGE","Full Level 2: Science and Mathematics","x","x","x",null,30,85,"second quintile",null,"x","x","x",null,40,83,"bottom quintile",null,"x","x","x",null,50,83,"bottom quintile"]
[10000528,"BARKING AND DAGENHAM COLLEGE","Traineeships","x","x","x",null,"x","x","x",null,"x","x","x",null,"x","x","x",null,20,53,"third quintile",null,60,57,"second quintile"]
[10000528,"BARKING AND DAGENHAM COLLEGE","English & Maths",90,57,"fourth quintile",null,420,77,"third quintile",null,100,51,"third quintile",null,560,75,"second quintile",null,100,51,"third quintile",null,620,79,"fourth quintile"]
[10000528,"BARKING AND DAGENHAM COLLEGE","English for Speakers of Other Languages (ESOL)",210,56,"third quintile",null,460,53,"bottom quintile",null,220,60,"fourth quintile",null,420,58,"bottom quintile",null,60,56,"third quintile",null,140,63,"third quintile"]
[10000528,"BARKING AND DAGENHAM COLLEGE","Other provision below Full Level 2",1340,51,"third quintile",null,420,67,"second quintile",null,960,47,"bottom quintile",null,360,68,"second quintile",null,710,45,"bottom quintile",null,520,61,"bottom quintile"]
[10000532,"BARNARDO'S","LLDD learner",20,29,"bottom quintile",null,20,62,"second quintile",null,20,30,"bottom quintile",null,20,60,"second quintile",null,"x","x","x",null,"x","x","x"]
[10000532,"BARNARDO'S","Intermediate Apprenticeships: Business, Administration and Law","x","x","x",null,20,95,"top quintile",null,"x","x","x",null,10,75,"bottom quintile",null,"x","x","x",null,10,100,"top quintile"]
[10000532,"BARNARDO'S","Intermediate Apprenticeships: Leisure, Travel and Tourism",".",".",".",null,".",".",".",null,"x","x","x",null,20,40,"bottom quintile",null,".",".",".",null,".",".","."]
[10000532,"BARNARDO'S","Intermediate Apprenticeships: Retail and Commercial Enterprise","x","x","x",null,10,57,"bottom quintile",null,"x","x","x",null,"x","x","x",null,"x","x","x",null,"x","x","x"]
[10000532,"BARNARDO'S","Full Level 2: Engineering and Manufacturing Technologies",".",".",".",null,"x","x","x",null,".",".",".",null,".",".",".",null,10,73,"top quintile",null,"x","x","x"]
[10000532,"BARNARDO'S","English & Maths",40,37,"bottom quintile",null,20,100,"top quintile",null,20,29,"bottom quintile",null,"x","x","x",null,"x","x","x",null,"x","x","x"]
[10000532,"BARNARDO'S","Other provision below Full Level 2",40,29,"bottom quintile",null,20,85,"top quintile",null,20,37,"bottom quintile",null,"x","x","x",null,10,38,"bottom quintile",null,"x","x","x"]
[10000533,"BARNET & SOUTHGATE COLLEGE","LLDD learner",470,43,"second quintile",null,670,55,"bottom quintile",null,320,40,"bottom quintile",null,460,60,"second quintile",null,70,39,"bottom quintile",null,90,59,"second quintile"]
[10000533,"BARNET & SOUTHGATE COLLEGE","Advanced and Higher Apprenticeships: Business, Administration and Law","x","x","x",null,".",".",".",null,"x","x","x",null,"x","x","x",null,".",".",".",null,20,78,"bottom quintile"]
[10000533,"BARNET & SOUTHGATE COLLEGE","Advanced and Higher Apprenticeships: Information and Communication Technology",".",".",".",null,"x","x","x",null,"x","x","x",null,10,90,"second quintile",null,"x","x","x",null,10,92,"fourth quintile"]
[10000533,"BARNET & SOUTHGATE COLLEGE","Full Level 3+: Arts, Media and Publishing","x","x","x",null,70,81,"second quintile",null,"x","x","x",null,40,72,"bottom quintile",null,"x","x","x",null,30,89,"top quintile"]
[10000533,"BARNET & SOUTHGATE COLLEGE","Full Level 3+: Business, Administration and Law",20,73,"third quintile",null,130,81,"bottom quintile",null,10,83,"top quintile",null,160,85,"second quintile",null,"x","x","x",null,80,82,"second quintile"]
[10000533,"BARNET & SOUTHGATE COLLEGE","Full Level 3+: Construction, Planning and the Built Environment","x","x","x",null,30,78,"second quintile",null,"x","x","x",null,20,70,"bottom quintile",null,"x","x","x",null,70,72,"second quintile"]
[10000533,"BARNET & SOUTHGATE COLLEGE","Full Level 3+: Engineering and Manufacturing Technologies","x","x","x",null,60,83,"second quintile",null,"x","x","x",null,60,84,"third quintile",null,"x","x","x",null,10,83,"third quintile"]
[10000533,"BARNET & SOUTHGATE COLLEGE","Full Level 3+: Health, Public Services and Care",".",".",".",null,30,93,"top quintile",null,"x","x","x",null,50,78,"bottom quintile",null,"x","x","x",null,20,83,"third quintile"]
[10000533,"BARNET & SOUTHGATE COLLEGE","Full Level 3+: Information and Communication Technology",10,67,"third quintile",null,60,73,"second quintile",null,"x","x","x",null,60,87,"fourth quintile",null,"x","x","x",null,40,74,"second quintile"]
[10000533,"BARNET & SOUTHGATE COLLEGE","Full Level 3+: Leisure, Travel and Tourism","x","x","x",null,20,90,"fourth quintile",null,"x","x","x",null,40,91,"top quintile",null,"x","x","x",null,30,93,"top quintile"]
[10000533,"BARNET & SOUTHGATE COLLEGE","Full Level 3+: Retail and Commercial Enterprise","x","x","x",null,40,68,"second quintile",null,"x","x","x",null,60,59,"bottom quintile",null,"x","x","x",null,40,54,"bottom quintile"]
[10000533,"BARNET & SOUTHGATE COLLEGE","Full Level 3+: Science and Mathematics","x","x","x",null,20,100,"top quintile",null,".",".",".",null,20,76,"bottom quintile",null,".",".",".",null,20,86,"third quintile"]
[10000533,"BARNET & SOUTHGATE COLLEGE","Access to HE","x","x","x",null,80,89,"second quintile",null,10,90,"fourth quintile",null,60,89,"second quintile",null,"x","x","x",null,70,89,"second quintile"]
[10000533,"BARNET & SOUTHGATE COLLEGE","Intermediate Apprenticeships: Business, Administration and Law","x","x","x",null,40,88,"bottom quintile",null,"x","x","x",null,30,79,"bottom quintile",null,"x","x","x",null,110,90,"second quintile"]
[10000533,"BARNET & SOUTHGATE COLLEGE","Intermediate Apprenticeships: Engineering and Manufacturing Technologies",".",".",".",null,"x","x","x",null,".",".",".",null,"x","x","x",null,".",".",".",null,70,95,"fourth quintile"]
[10000533,"BARNET & SOUTHGATE COLLEGE","Intermediate Apprenticeships: Health, Public Services and Care","x","x","x",null,30,89,"bottom quintile",null,"x","x","x",null,40,85,"bottom quintile",null,"x","x","x",null,80,93,"fourth quintile"]
[10000533,"BARNET & SOUTHGATE COLLEGE","Intermediate Apprenticeships: Leisure, Travel and Tourism",".",".",".",null,".",".",".",null,"x","x","x",null,10,82,"bottom quintile",null,".",".",".",null,".",".","."]
[10000533,"BARNET & SOUTHGATE COLLEGE","Intermediate Apprenticeships: Retail and Commercial Enterprise","x","x","x",null,340,91,"second quintile",null,"x","x","x",null,"x","x","x",null,"x","x","x",null,20,88,"second quintile"]
[10000533,"BARNET & SOUTHGATE COLLEGE","Full Level 2: Arts, Media and Publishing","x","x","x",null,30,84,"fourth quintile",null,"x","x","x",null,"x","x","x",null,"x","x","x",null,"x","x","x"]
[10000533,"BARNET & SOUTHGATE COLLEGE","Full Level 2: Business, Administration and Law",70,81,"top quintile",null,170,88,"fourth quintile",null,140,36,"bottom quintile",null,180,84,"bottom quintile",null,500,48,"bottom quintile",null,190,63,"bottom quintile"]
[10000533,"BARNET & SOUTHGATE COLLEGE","Full Level 2: Construction, Planning and the Built Environment","x","x","x",null,60,89,"fourth quintile",null,20,72,"top quintile",null,130,87,"fourth quintile",null,20,79,"top quintile",null,320,78,"fourth quintile"]
[10000533,"BARNET & SOUTHGATE COLLEGE","Full Level 2: Education and Training","x","x","x",null,50,75,"bottom quintile",null,"x","x","x",null,50,78,"second quintile",null,"x","x","x",null,60,73,"second quintile"]
[10000533,"BARNET & SOUTHGATE COLLEGE","Full Level 2: Engineering and Manufacturing Technologies",40,82,"top quintile",null,340,89,"fourth quintile",null,"x","x","x",null,20,69,"bottom quintile",null,"x","x","x",null,20,81,"third quintile"]
[10000533,"BARNET & SOUTHGATE COLLEGE","Full Level 2: Health, Public Services and Care",140,46,"bottom quintile",null,100,63,"bottom quintile",null,80,45,"bottom quintile",null,60,65,"bottom quintile",null,50,46,"bottom quintile",null,80,65,"bottom quintile"]
[10000533,"BARNET & SOUTHGATE COLLEGE","Full Level 2: Information and Communication Technology",70,55,"bottom quintile",null,30,84,"fourth quintile",null,90,54,"bottom quintile",null,40,46,"bottom quintile",null,30,48,"bottom quintile",null,10,50,"bottom quintile"]
[10000533,"BARNET & SOUTHGATE COLLEGE","Full Level 2: Languages, Literature and Culture","x","x","x",null,50,81,"bottom quintile",null,"x","x","x",null,70,78,"bottom quintile",null,"x","x","x",null,90,85,"third quintile"]
[10000533,"BARNET & SOUTHGATE COLLEGE","Full Level 2: Leisure, Travel and Tourism","x","x","x",null,20,89,"fourth quintile",null,"x","x","x",null,140,77,"bottom quintile",null,".",".",".",null,"x","x","x"]
[10000533,"BARNET & SOUTHGATE COLLEGE","Full Level 2: Preparation for Life and Work",40,58,"second quintile",null,30,74,"bottom quintile",null,"x","x","x",null,10,92,"fourth quintile",null,"x","x","x",null,10,71,"bottom quintile"]
[10000533,"BARNET & SOUTHGATE COLLEGE","Full Level 2: Retail and Commercial Enterprise",30,63,"fourth quintile",null,160,72,"second quintile",null,30,63,"top quintile",null,260,77,"third quintile",null,20,78,"top quintile",null,110,68,"second quintile"]
[10000533,"BARNET & SOUTHGATE COLLEGE","Full Level 2: Science and Mathematics",10,100,"top quintile",null,40,70,"bottom quintile",null,20,94,"top quintile",null,110,82,"bottom quintile",null,"x","x","x",null,150,88,"third quintile"]
[10000533,"BARNET & SOUTHGATE COLLEGE","Traineeships",".",".",".",null,"x","x","x",null,50,69,"top quintile",null,90,66,"second quintile",null,20,64,"top quintile",null,20,43,"bottom quintile"]
[10000533,"BARNET & SOUTHGATE COLLEGE","English & Maths",60,77,"top quintile",null,580,84,"fourth quintile",null,40,57,"fourth quintile",null,390,80,"fourth quintile",null,60,58,"fourth quintile",null,470,75,"second quintile"]
[10000533,"BARNET & SOUTHGATE COLLEGE","English for Speakers of Other Languages (ESOL)",1150,56,"third quintile",null,1930,64,"second quintile",null,890,51,"second quintile",null,1830,60,"second quintile",null,280,38,"bottom quintile",null,350,46,"bottom quintile"]
[10000533,"BARNET & SOUTHGATE COLLEGE","Other provision below Full Level 2",4120,50,"second quintile",null,800,58,"bottom quintile",null,3350,48,"bottom quintile",null,830,47,"bottom quintile",null,860,54,"third quintile",null,1690,61,"second quintile"]
[10000534,"BARNFIELD COLLEGE","LLDD learner",520,47,"third quintile",null,490,73,"fourth quintile",null,450,39,"bottom quintile",null,370,54,"bottom quintile",null,40,53,"top quintile",null,170,65,"second quintile"]
[10000534,"BARNFIELD COLLEGE","Advanced and Higher Apprenticeships: Engineering and Manufacturing Technologies",".",".",".",null,10,86,"bottom quintile",null,".",".",".",null,"x","x","x",null,".",".",".",null,10,83,"bottom quintile"]
[10000534,"BARNFIELD COLLEGE","Advanced and Higher Apprenticeships: Health, Public Services and Care",".",".",".",null,30,92,"second quintile",null,".",".",".",null,"x","x","x",null,".",".",".",null,"x","x","x"]
[10000534,"BARNFIELD COLLEGE","Full Level 3+: Arts, Media and Publishing",".",".",".",null,20,87,"fourth quintile",null,"x","x","x",null,10,91,"top quintile",null,"x","x","x",null,20,78,"second quintile"]
[10000534,"BARNFIELD COLLEGE","Full Level 3+: Business, Administration and Law","x","x","x",null,50,98,"top quintile",null,"x","x","x",null,50,90,"third quintile",null,".",".",".",null,40,92,"fourth quintile"]
[10000534,"BARNFIELD COLLEGE","Full Level 3+: Construction, Planning and the Built Environment","x","x","x",null,10,100,"top quintile",null,"x","x","x",null,10,83,"fourth quintile",null,"x","x","x",null,20,65,"bottom quintile"]
[10000534,"BARNFIELD COLLEGE","Full Level 3+: Engineering and Manufacturing Technologies","x","x","x",null,10,100,"top quintile",null,".",".",".",null,10,86,"third quintile",null,".",".",".",null,"x","x","x"]
[10000534,"BARNFIELD COLLEGE","Full Level 3+: Health, Public Services and Care","x","x","x",null,20,85,"second quintile",null,"x","x","x",null,30,96,"top quintile",null,"x","x","x",null,50,73,"bottom quintile"]
[10000534,"BARNFIELD COLLEGE","Full Level 3+: Information and Communication Technology","x","x","x",null,10,64,"bottom quintile",null,".",".",".",null,"x","x","x",null,".",".",".",null,30,73,"second quintile"]
[10000534,"BARNFIELD COLLEGE","Full Level 3+: Leisure, Travel and Tourism",".",".",".",null,"x","x","x",null,".",".",".",null,20,100,"top quintile",null,".",".",".",null,10,46,"bottom quintile"]
[10000534,"BARNFIELD COLLEGE","Full Level 3+: Retail and Commercial Enterprise","x","x","x",null,20,63,"bottom quintile",null,"x","x","x",null,20,78,"fourth quintile",null,".",".",".",null,".",".","."]
[10000534,"BARNFIELD COLLEGE","Access to HE","x","x","x",null,60,90,"third quintile",null,"x","x","x",null,60,93,"fourth quintile",null,"x","x","x",null,50,94,"top quintile"]
[10000534,"BARNFIELD COLLEGE","Other Level 3","x","x","x",null,260,93,"fourth quintile",null,".",".",".",null,"x","x","x",null,".",".",".",null,".",".","."]
[10000534,"BARNFIELD COLLEGE","Intermediate Apprenticeships: Business, Administration and Law","x","x","x",null,20,100,"top quintile",null,".",".",".",null,"x","x","x",null,".",".",".",null,"x","x","x"]
[10000534,"BARNFIELD COLLEGE","Intermediate Apprenticeships: Engineering and Manufacturing Technologies",".",".",".",null,".",".",".",null,".",".",".",null,"x","x","x",null,".",".",".",null,20,82,"bottom quintile"]
[10000534,"BARNFIELD COLLEGE","Full Level 2: Business, Administration and Law",160,66,"fourth quintile",null,370,93,"top quintile",null,130,64,"fourth quintile",null,70,85,"second quintile",null,190,53,"third quintile",null,120,90,"third quintile"]
[10000534,"BARNFIELD COLLEGE","Full Level 2: Construction, Planning and the Built Environment","x","x","x",null,120,91,"top quintile",null,"x","x","x",null,40,86,"fourth quintile",null,"x","x","x",null,150,51,"bottom quintile"]
[10000534,"BARNFIELD COLLEGE","Full Level 2: Engineering and Manufacturing Technologies","x","x","x",null,20,100,"top quintile",null,"x","x","x",null,20,89,"fourth quintile",null,".",".",".",null,"x","x","x"]
[10000534,"BARNFIELD COLLEGE","Full Level 2: Health, Public Services and Care",170,57,"second quintile",null,1500,93,"fourth quintile",null,130,73,"top quintile",null,40,74,"bottom quintile",null,"x","x","x",null,20,95,"top quintile"]
[10000534,"BARNFIELD COLLEGE","Full Level 2: Languages, Literature and Culture",".",".",".",null,".",".",".",null,"x","x","x",null,20,86,"third quintile",null,".",".",".",null,"x","x","x"]
[10000534,"BARNFIELD COLLEGE","Full Level 2: Leisure, Travel and Tourism",20,62,"second quintile",null,260,88,"third quintile",null,60,79,"top quintile",null,260,87,"third quintile",null,70,68,"top quintile",null,460,86,"second quintile"]
[10000534,"BARNFIELD COLLEGE","Full Level 2: Preparation for Life and Work",".",".",".",null,140,88,"second quintile",null,".",".",".",null,10,100,"top quintile",null,".",".",".",null,".",".","."]
[10000534,"BARNFIELD COLLEGE","Full Level 2: Retail and Commercial Enterprise",10,36,"bottom quintile",null,30,87,"top quintile",null,80,57,"fourth quintile",null,50,71,"second quintile",null,".",".",".",null,10,67,"bottom quintile"]
[10000534,"BARNFIELD COLLEGE","Full Level 2: Science and Mathematics",".",".",".",null,".",".",".",null,".",".",".",null,20,94,"top quintile",null,".",".",".",null,"x","x","x"]
[10000534,"BARNFIELD COLLEGE","English & Maths",110,36,"bottom quintile",null,230,75,"second quintile",null,200,55,"third quintile",null,240,82,"fourth quintile",null,150,61,"fourth quintile",null,170,74,"second quintile"]
[10000534,"BARNFIELD COLLEGE","English for Speakers of Other Languages (ESOL)",150,65,"top quintile",null,190,69,"third quintile",null,20,59,"fourth quintile",null,10,50,"bottom quintile",null,".",".",".",null,".",".","."]
[10000534,"BARNFIELD COLLEGE","Other provision below Full Level 2",2170,53,"fourth quintile",null,360,56,"bottom quintile",null,1280,54,"fourth quintile",null,420,52,"bottom quintile",null,50,68,"top quintile",null,230,61,"second quintile"]
[10000536,"BARNSLEY COLLEGE","LLDD learner",50,72,"top quintile",null,380,76,"top quintile",null,60,65,"top quintile",null,320,68,"third quintile",null,170,40,"second quintile",null,300,68,"third quintile"]
[10000536,"BARNSLEY COLLEGE","Advanced and Higher Apprenticeships: Arts, Media and Publishing","x","x","x",null,20,100,"top quintile",null,"x","x","x",null,10,91,"second quintile",null,".",".",".",null,10,100,"top quintile"]
[10000536,"BARNSLEY COLLEGE","Advanced and Higher Apprenticeships: Business, Administration and Law",".",".",".",null,80,92,"second quintile",null,"x","x","x",null,70,93,"second quintile",null,".",".",".",null,60,93,"third quintile"]
[10000536,"BARNSLEY COLLEGE","Advanced and Higher Apprenticeships: Construction, Planning and the Built Environment",".",".",".",null,10,67,"bottom quintile",null,".",".",".",null,20,86,"bottom quintile",null,".",".",".",null,30,63,"bottom quintile"]
[10000536,"BARNSLEY COLLEGE","Advanced and Higher Apprenticeships: Education and Training",".",".",".",null,20,88,"bottom quintile",null,".",".",".",null,"x","x","x",null,"x","x","x",null,10,71,"bottom quintile"]
[10000536,"BARNSLEY COLLEGE","Advanced and Higher Apprenticeships: Engineering and Manufacturing Technologies","x","x","x",null,30,91,"second quintile",null,"x","x","x",null,40,94,"fourth quintile",null,".",".",".",null,50,91,"third quintile"]
[10000536,"BARNSLEY COLLEGE","Advanced and Higher Apprenticeships: Health, Public Services and Care",".",".",".",null,30,88,"bottom quintile",null,".",".",".",null,20,86,"bottom quintile",null,".",".",".",null,10,100,"top quintile"]
[10000536,"BARNSLEY COLLEGE","Advanced and Higher Apprenticeships: Retail and Commercial Enterprise",".",".",".",null,20,81,"bottom quintile",null,"x","x","x",null,20,82,"bottom quintile",null,".",".",".",null,20,85,"second quintile"]
[10000536,"BARNSLEY COLLEGE","Full Level 3+: Agriculture, Horticulture and Animal Care","x","x","x",null,"x","x","x",null,".",".",".",null,10,82,"second quintile",null,".",".",".",null,20,72,"bottom quintile"]
[10000536,"BARNSLEY COLLEGE","Full Level 3+: Arts, Media and Publishing","x","x","x",null,30,90,"top quintile",null,".",".",".",null,10,100,"top quintile",null,".",".",".",null,20,73,"bottom quintile"]
[10000536,"BARNSLEY COLLEGE","Full Level 3+: Business, Administration and Law","x","x","x",null,40,95,"top quintile",null,"x","x","x",null,20,100,"top quintile",null,"x","x","x",null,40,94,"top quintile"]
[10000536,"BARNSLEY COLLEGE","Full Level 3+: Education and Training",".",".",".",null,"x","x","x",null,".",".",".",null,10,82,"bottom quintile",null,"x","x","x",null,"x","x","x"]
[10000536,"BARNSLEY COLLEGE","Full Level 3+: Engineering and Manufacturing Technologies","x","x","x",null,10,70,"bottom quintile",null,"x","x","x",null,10,60,"bottom quintile",null,"x","x","x",null,10,58,"bottom quintile"]
[10000536,"BARNSLEY COLLEGE","Full Level 3+: Health, Public Services and Care",".",".",".",null,10,80,"bottom quintile",null,"x","x","x",null,30,68,"bottom quintile",null,"x","x","x",null,40,78,"second quintile"]
[10000536,"BARNSLEY COLLEGE","Full Level 3+: Retail and Commercial Enterprise","x","x","x",null,40,78,"fourth quintile",null,"x","x","x",null,50,75,"fourth quintile",null,"x","x","x",null,30,58,"bottom quintile"]
[10000536,"BARNSLEY COLLEGE","Access to HE","x","x","x",null,70,91,"third quintile",null,"x","x","x",null,110,89,"second quintile",null,"x","x","x",null,60,88,"second quintile"]
[10000536,"BARNSLEY COLLEGE","Other Level 3","x","x","x",null,20,90,"third quintile",null,"x","x","x",null,".",".",".",null,".",".",".",null,"x","x","x"]
[10000536,"BARNSLEY COLLEGE","Intermediate Apprenticeships: Agriculture, Horticulture and Animal Care","x","x","x",null,10,83,"second quintile",null,"x","x","x",null,10,85,"second quintile",null,".",".",".",null,"x","x","x"]
[10000536,"BARNSLEY COLLEGE","Intermediate Apprenticeships: Business, Administration and Law","x","x","x",null,80,99,"top quintile",null,10,85,"third quintile",null,110,91,"second quintile",null,"x","x","x",null,100,92,"third quintile"]
[10000536,"BARNSLEY COLLEGE","Intermediate Apprenticeships: Construction, Planning and the Built Environment","x","x","x",null,40,93,"top quintile",null,10,73,"bottom quintile",null,50,73,"bottom quintile",null,"x","x","x",null,40,63,"bottom quintile"]
[10000536,"BARNSLEY COLLEGE","Intermediate Apprenticeships: Education and Training","x","x","x",null,"x","x","x",null,"x","x","x",null,10,100,"fourth quintile",null,".",".",".",null,10,83,"bottom quintile"]
[10000536,"BARNSLEY COLLEGE","Intermediate Apprenticeships: Engineering and Manufacturing Technologies","x","x","x",null,50,92,"second quintile",null,"x","x","x",null,60,91,"second quintile",null,".",".",".",null,40,95,"fourth quintile"]
[10000536,"BARNSLEY COLLEGE","Intermediate Apprenticeships: Health, Public Services and Care","x","x","x",null,60,98,"top quintile",null,"x","x","x",null,50,98,"top quintile",null,"x","x","x",null,80,94,"top quintile"]
[10000536,"BARNSLEY COLLEGE","Intermediate Apprenticeships: Information and Communication Technology","x","x","x",null,"x","x","x",null,".",".",".",null,"x","x","x",null,"x","x","x",null,10,90,"bottom quintile"]
[10000536,"BARNSLEY COLLEGE","Intermediate Apprenticeships: Retail and Commercial Enterprise","x","x","x",null,70,91,"third quintile",null,"x","x","x",null,50,80,"bottom quintile",null,"x","x","x",null,50,91,"fourth quintile"]
[10000536,"BARNSLEY COLLEGE","Full Level 2: Business, Administration and Law",10,60,"third quintile",null,60,87,"third quintile",null,"x","x","x",null,30,93,"top quintile",null,".",".",".",null,"x","x","x"]
[10000536,"BARNSLEY COLLEGE","Full Level 2: Languages, Literature and Culture","x","x","x",null,30,89,"fourth quintile",null,"x","x","x",null,20,74,"bottom quintile",null,"x","x","x",null,40,92,"top quintile"]
[10000536,"BARNSLEY COLLEGE","Full Level 2: Preparation for Life and Work","x","x","x",null,50,82,"bottom quintile",null,"x","x","x",null,40,80,"bottom quintile",null,".",".",".",null,".",".","."]
[10000536,"BARNSLEY COLLEGE","Full Level 2: Retail and Commercial Enterprise",10,91,"top quintile",null,80,75,"second quintile",null,"x","x","x",null,70,80,"fourth quintile",null,"x","x","x",null,60,75,"third quintile"]
[10000536,"BARNSLEY COLLEGE","Full Level 2: Science and Mathematics","x","x","x",null,40,95,"top quintile",null,"x","x","x",null,50,86,"second quintile",null,"x","x","x",null,100,83,"bottom quintile"]
[10000536,"BARNSLEY COLLEGE","Traineeships",".",".",".",null,".",".",".",null,10,82,"top quintile",null,"x","x","x",null,20,47,"second quintile",null,10,92,"top quintile"]
[10000536,"BARNSLEY COLLEGE","English & Maths",20,88,"top quintile",null,160,83,"fourth quintile",null,20,87,"top quintile",null,220,80,"fourth quintile",null,20,47,"bottom quintile",null,160,79,"fourth quintile"]
[10000536,"BARNSLEY COLLEGE","English for Speakers of Other Languages (ESOL)",50,50,"second quintile",null,100,67,"third quintile",null,"x","x","x",null,"x","x","x",null,".",".",".",null,".",".","."]
[10000536,"BARNSLEY COLLEGE","Other provision below Full Level 2",40,50,"second quintile",null,130,77,"third quintile",null,20,45,"bottom quintile",null,80,76,"third quintile",null,510,54,"third quintile",null,100,67,"second quintile"]
[10000538,"BARNSLEY METROPOLITAN BOROUGH COUNCIL","LLDD learner",120,43,"second quintile",null,160,61,"second quintile",null,190,44,"second quintile",null,230,62,"second quintile",null,190,39,"bottom quintile",null,180,62,"second quintile"]
[10000538,"BARNSLEY METROPOLITAN BOROUGH COUNCIL","Full Level 3+: Education and Training",".",".",".",null,20,100,"top quintile",null,"x","x","x",null,40,94,"fourth quintile",null,"x","x","x",null,20,84,"second quintile"]
[10000538,"BARNSLEY METROPOLITAN BOROUGH COUNCIL","Full Level 3+: Health, Public Services and Care","x","x","x",null,20,86,"second quintile",null,".",".",".",null,20,68,"bottom quintile",null,"x","x","x",null,"x","x","x"]
[10000538,"BARNSLEY METROPOLITAN BOROUGH COUNCIL","Other Level 3","x","x","x",null,20,91,"third quintile",null,".",".",".",null,"x","x","x",null,".",".",".",null,"x","x","x"]
[10000538,"BARNSLEY METROPOLITAN BOROUGH COUNCIL","Full Level 2: Business, Administration and Law","x","x","x",null,30,100,"top quintile",null,".",".",".",null,10,85,"bottom quintile",null,".",".",".",null,"x","x","x"]
[10000538,"BARNSLEY METROPOLITAN BOROUGH COUNCIL","Full Level 2: Education and Training","x","x","x",null,50,94,"top quintile",null,"x","x","x",null,30,93,"top quintile",null,"x","x","x",null,40,83,"third quintile"]
[10000538,"BARNSLEY METROPOLITAN BOROUGH COUNCIL","Full Level 2: Health, Public Services and Care","x","x","x",null,"x","x","x",null,"x","x","x",null,20,100,"top quintile",null,"x","x","x",null,10,50,"bottom quintile"]
[10000538,"BARNSLEY METROPOLITAN BOROUGH COUNCIL","Full Level 2: Information and Communication Technology","x","x","x",null,20,91,"top quintile",null,"x","x","x",null,10,91,"top quintile",null,10,64,"top quintile",null,20,100,"top quintile"]
[10000538,"BARNSLEY METROPOLITAN BOROUGH COUNCIL","Full Level 2: Languages, Literature and Culture",".",".",".",null,"x","x","x",null,".",".",".",null,10,92,"top quintile",null,".",".",".",null,10,80,"bottom quintile"]
[10000538,"BARNSLEY METROPOLITAN BOROUGH COUNCIL","Full Level 2: Science and Mathematics","x","x","x",null,"x","x","x",null,".",".",".",null,20,88,"third quintile",null,".",".",".",null,30,92,"top quintile"]
[10000538,"BARNSLEY METROPOLITAN BOROUGH COUNCIL","English & Maths",220,50,"second quintile",null,250,75,"second quintile",null,190,50,"second quintile",null,190,83,"fourth quintile",null,70,60,"fourth quintile",null,140,79,"fourth quintile"]
[10000538,"BARNSLEY METROPOLITAN BOROUGH COUNCIL","English for Speakers of Other Languages (ESOL)",50,58,"fourth quintile",null,50,73,"fourth quintile",null,30,63,"top quintile",null,60,77,"top quintile",null,"x","x","x",null,"x","x","x"]
[10000538,"BARNSLEY METROPOLITAN BOROUGH COUNCIL","Other provision below Full Level 2",130,57,"top quintile",null,300,82,"fourth quintile",null,180,49,"second quintile",null,210,68,"second quintile",null,200,50,"second quintile",null,220,77,"third quintile"]
[10000546,"BARROW-IN-FURNESS SIXTH FORM COLLEGE","LLDD learner","x","x","x",null,10,93,"top quintile",null,".",".",".",null,"x","x","x",null,"x","x","x",null,"x","x","x"]
[10000546,"BARROW-IN-FURNESS SIXTH FORM COLLEGE","Full Level 3+: Science and Mathematics","x","x","x",null,10,55,"bottom quintile",null,"x","x","x",null,"x","x","x",null,"x","x","x",null,"x","x","x"]
[10000546,"BARROW-IN-FURNESS SIXTH FORM COLLEGE","Other Level 3",".",".",".",null,30,97,"top quintile",null,".",".",".",null,".",".",".",null,".",".",".",null,".",".","."]
[10000546,"BARROW-IN-FURNESS SIXTH FORM COLLEGE","Full Level 2: Business, Administration and Law",".",".",".",null,"x","x","x",null,".",".",".",null,20,87,"second quintile",null,".",".",".",null,".",".","."]
[10000546,"BARROW-IN-FURNESS SIXTH FORM COLLEGE","Full Level 2: Health, Public Services and Care",".",".",".",null,90,97,"top quintile",null,".",".",".",null,130,98,"top quintile",null,".",".",".",null,10,100,"top quintile"]
[10000546,"BARROW-IN-FURNESS SIXTH FORM COLLEGE","Other provision below Full Level 2",".",".",".",null,".",".",".",null,".",".",".",null,20,96,"top quintile",null,".",".",".",null,".",".","."]
[10000552,"BARTON PEVERIL SIXTH FORM COLLEGE","LLDD learner","x","x","x",null,"x","x","x",null,"x","x","x",null,40,91,"top quintile",null,"x","x","x",null,40,86,"top quintile"]
[10000552,"BARTON PEVERIL SIXTH FORM COLLEGE","Full Level 3+: Education and Training",".",".",".",null,10,100,"top quintile",null,"x","x","x",null,"x","x","x",null,".",".",".",null,".",".","."]
[10000552,"BARTON PEVERIL SIXTH FORM COLLEGE","Full Level 3+: Health, Public Services and Care","x","x","x",null,20,89,"third quintile",null,"x","x","x",null,10,100,"top quintile",null,".",".",".",null,"x","x","x"]
[10000552,"BARTON PEVERIL SIXTH FORM COLLEGE","Full Level 3+: Science and Mathematics","x","x","x",null,30,84,"second quintile",null,"x","x","x",null,20,94,"fourth quintile",null,"x","x","x",null,10,91,"fourth quintile"]
[10000552,"BARTON PEVERIL SIXTH FORM COLLEGE","Access to HE","x","x","x",null,20,95,"top quintile",null,".",".",".",null,40,94,"top quintile",null,".",".",".",null,30,93,"fourth quintile"]
[10000552,"BARTON PEVERIL SIXTH FORM COLLEGE","Full Level 2: Business, Administration and Law",20,76,"top quintile",null,140,84,"second quintile",null,10,85,"top quintile",null,110,88,"third quintile",null,"x","x","x",null,80,85,"second quintile"]
[10000552,"BARTON PEVERIL SIXTH FORM COLLEGE","Full Level 2: Engineering and Manufacturing Technologies",".",".",".",null,".",".",".",null,"x","x","x",null,40,93,"top quintile",null,"x","x","x",null,80,84,"third quintile"]
[10000552,"BARTON PEVERIL SIXTH FORM COLLEGE","Full Level 2: Health, Public Services and Care","x","x","x",null,20,68,"bottom quintile",null,".",".",".",null,"x","x","x",null,"x","x","x",null,20,65,"bottom quintile"]
[10000552,"BARTON PEVERIL SIXTH FORM COLLEGE","Full Level 2: Languages, Literature and Culture","x","x","x",null,50,89,"fourth quintile",null,".",".",".",null,30,90,"fourth quintile",null,".",".",".",null,"x","x","x"]
[10000552,"BARTON PEVERIL SIXTH FORM COLLEGE","Full Level 2: Science and Mathematics","x","x","x",null,30,87,"second quintile",null,"x","x","x",null,40,95,"top quintile",null,".",".",".",null,10,93,"top quintile"]
[10000552,"BARTON PEVERIL SIXTH FORM COLLEGE","English & Maths","x","x","x",null,20,70,"bottom quintile",null,"x","x","x",null,"x","x","x",null,".",".",".",null,".",".","."]
[10000552,"BARTON PEVERIL SIXTH FORM COLLEGE","Other provision below Full Level 2","x","x","x",null,20,38,"bottom quintile",null,"x","x","x",null,10,45,"bottom quintile",null,".",".",".",null,".",".","."]
[10000560,"BASINGSTOKE COLLEGE OF TECHNOLOGY","LLDD learner",190,53,"top quintile",null,240,68,"third quintile",null,70,52,"top quintile",null,190,77,"top quintile",null,70,55,"top quintile",null,170,74,"fourth quintile"]
[10000560,"BASINGSTOKE COLLEGE OF TECHNOLOGY","Advanced and Higher Apprenticeships: Business, Administration and Law",".",".",".",null,50,100,"top quintile",null,".",".",".",null,20,92,"second quintile",null,".",".",".",null,30,80,"bottom quintile"]
[10000560,"BASINGSTOKE COLLEGE OF TECHNOLOGY","Advanced and Higher Apprenticeships: Engineering and Manufacturing Technologies",".",".",".",null,30,96,"top quintile",null,".",".",".",null,30,87,"bottom quintile",null,".",".",".",null,60,87,"second quintile"]
[10000560,"BASINGSTOKE COLLEGE OF TECHNOLOGY","Advanced and Higher Apprenticeships: Retail and Commercial Enterprise",".",".",".",null,20,94,"top quintile",null,".",".",".",null,"x","x","x",null,".",".",".",null,"x","x","x"]
[10000560,"BASINGSTOKE COLLEGE OF TECHNOLOGY","Full Level 3+: Arts, Media and Publishing",".",".",".",null,30,83,"third quintile",null,".",".",".",null,20,83,"third quintile",null,".",".",".",null,30,93,"top quintile"]
[10000560,"BASINGSTOKE COLLEGE OF TECHNOLOGY","Full Level 3+: Business, Administration and Law","x","x","x",null,50,90,"third quintile",null,"x","x","x",null,30,94,"top quintile",null,"x","x","x",null,30,96,"top quintile"]
[10000560,"BASINGSTOKE COLLEGE OF TECHNOLOGY","Full Level 3+: Construction, Planning and the Built Environment",".",".",".",null,10,100,"top quintile",null,".",".",".",null,"x","x","x",null,".",".",".",null,".",".","."]
[10000560,"BASINGSTOKE COLLEGE OF TECHNOLOGY","Full Level 3+: Engineering and Manufacturing Technologies",".",".",".",null,30,87,"third quintile",null,".",".",".",null,10,86,"third quintile",null,".",".",".",null,10,86,"fourth quintile"]
[10000560,"BASINGSTOKE COLLEGE OF TECHNOLOGY","Full Level 3+: Health, Public Services and Care",".",".",".",null,60,93,"top quintile",null,".",".",".",null,30,91,"fourth quintile",null,".",".",".",null,40,83,"third quintile"]
[10000560,"BASINGSTOKE COLLEGE OF TECHNOLOGY","Full Level 3+: Retail and Commercial Enterprise",".",".",".",null,30,73,"second quintile",null,".",".",".",null,30,80,"top quintile",null,"x","x","x",null,20,85,"top quintile"]
[10000560,"BASINGSTOKE COLLEGE OF TECHNOLOGY","Full Level 3+: Science and Mathematics",".",".",".",null,"x","x","x",null,".",".",".",null,10,100,"top quintile",null,".",".",".",null,"x","x","x"]
[10000560,"BASINGSTOKE COLLEGE OF TECHNOLOGY","Access to HE","x","x","x",null,20,95,"top quintile",null,"x","x","x",null,20,95,"top quintile",null,".",".",".",null,30,92,"fourth quintile"]
[10000560,"BASINGSTOKE COLLEGE OF TECHNOLOGY","Other Level 3","x","x","x",null,40,91,"third quintile",null,".",".",".",null,20,90,"top quintile",null,".",".",".",null,"x","x","x"]
[10000560,"BASINGSTOKE COLLEGE OF TECHNOLOGY","Intermediate Apprenticeships: Business, Administration and Law","x","x","x",null,40,86,"bottom quintile",null,"x","x","x",null,50,96,"top quintile",null,".",".",".",null,70,91,"third quintile"]
[10000560,"BASINGSTOKE COLLEGE OF TECHNOLOGY","Intermediate Apprenticeships: Construction, Planning and the Built Environment",".",".",".",null,"x","x","x",null,".",".",".",null,10,100,"top quintile",null,".",".",".",null,10,55,"bottom quintile"]
[10000560,"BASINGSTOKE COLLEGE OF TECHNOLOGY","Intermediate Apprenticeships: Engineering and Manufacturing Technologies",".",".",".",null,80,96,"fourth quintile",null,".",".",".",null,500,94,"third quintile",null,"x","x","x",null,200,96,"top quintile"]
[10000560,"BASINGSTOKE COLLEGE OF TECHNOLOGY","Intermediate Apprenticeships: Health, Public Services and Care",".",".",".",null,10,90,"bottom quintile",null,".",".",".",null,"x","x","x",null,".",".",".",null,"x","x","x"]
[10000560,"BASINGSTOKE COLLEGE OF TECHNOLOGY","Intermediate Apprenticeships: Retail and Commercial Enterprise",".",".",".",null,40,85,"bottom quintile",null,".",".",".",null,30,94,"fourth quintile",null,".",".",".",null,40,93,"top quintile"]
[10000560,"BASINGSTOKE COLLEGE OF TECHNOLOGY","Full Level 2: Business, Administration and Law",".",".",".",null,50,96,"top quintile",null,"x","x","x",null,30,97,"top quintile",null,"x","x","x",null,40,95,"top quintile"]
[10000560,"BASINGSTOKE COLLEGE OF TECHNOLOGY","Full Level 2: Construction, Planning and the Built Environment",".",".",".",null,100,76,"bottom quintile",null,"x","x","x",null,240,74,"bottom quintile",null,".",".",".",null,230,51,"bottom quintile"]
[10000560,"BASINGSTOKE COLLEGE OF TECHNOLOGY","Full Level 2: Engineering and Manufacturing Technologies",".",".",".",null,30,91,"fourth quintile",null,".",".",".",null,120,95,"top quintile",null,"x","x","x",null,50,93,"top quintile"]
[10000560,"BASINGSTOKE COLLEGE OF TECHNOLOGY","Full Level 2: Health, Public Services and Care","x","x","x",null,140,93,"third quintile",null,"x","x","x",null,70,95,"top quintile",null,"x","x","x",null,160,92,"fourth quintile"]
[10000560,"BASINGSTOKE COLLEGE OF TECHNOLOGY","Full Level 2: Languages, Literature and Culture","x","x","x",null,20,75,"bottom quintile",null,".",".",".",null,20,94,"top quintile",null,".",".",".",null,10,86,"third quintile"]
[10000560,"BASINGSTOKE COLLEGE OF TECHNOLOGY","Full Level 2: Leisure, Travel and Tourism","x","x","x",null,10,92,"top quintile",null,".",".",".",null,"x","x","x",null,".",".",".",null,"x","x","x"]
[10000560,"BASINGSTOKE COLLEGE OF TECHNOLOGY","Full Level 2: Retail and Commercial Enterprise","x","x","x",null,30,70,"second quintile",null,"x","x","x",null,30,87,"top quintile",null,".",".",".",null,10,58,"bottom quintile"]
[10000560,"BASINGSTOKE COLLEGE OF TECHNOLOGY","Full Level 2: Science and Mathematics","x","x","x",null,80,92,"fourth quintile",null,"x","x","x",null,50,91,"fourth quintile",null,".",".",".",null,80,88,"third quintile"]
[10000560,"BASINGSTOKE COLLEGE OF TECHNOLOGY","English & Maths",10,64,"top quintile",null,110,84,"fourth quintile",null,10,67,"top quintile",null,110,88,"top quintile",null,"x","x","x",null,120,85,"top quintile"]
[10000560,"BASINGSTOKE COLLEGE OF TECHNOLOGY","English for Speakers of Other Languages (ESOL)",20,69,"top quintile",null,200,68,"third quintile",null,"x","x","x",null,140,83,"top quintile",null,"x","x","x",null,30,62,"second quintile"]
[10000560,"BASINGSTOKE COLLEGE OF TECHNOLOGY","Other provision below Full Level 2",390,51,"third quintile",null,40,68,"second quintile",null,110,63,"top quintile",null,120,76,"third quintile",null,120,66,"top quintile",null,180,77,"third quintile"]
[10000561,"BASINGSTOKE YOUTH ACTION TRUST LIMITED","Advanced and Higher Apprenticeships: Agriculture, Horticulture and Animal Care",".",".",".",null,30,96,"top quintile",null,".",".",".",null,20,95,"top quintile",null,".",".",".",null,20,94,"top quintile"]
[10000561,"BASINGSTOKE YOUTH ACTION TRUST LIMITED","Advanced and Higher Apprenticeships: Business, Administration and Law",".",".",".",null,"x","x","x",null,".",".",".",null,10,86,"bottom quintile",null,".",".",".",null,10,92,"second quintile"]
[10000561,"BASINGSTOKE YOUTH ACTION TRUST LIMITED","Advanced and Higher Apprenticeships: Health, Public Services and Care",".",".",".",null,10,90,"bottom quintile",null,".",".",".",null,"x","x","x",null,".",".",".",null,".",".","."]
[10000561,"BASINGSTOKE YOUTH ACTION TRUST LIMITED","Advanced and Higher Apprenticeships: Information and Communication Technology",".",".",".",null,30,96,"top quintile",null,"x","x","x",null,30,88,"bottom quintile",null,".",".",".",null,30,85,"bottom quintile"]
[10000561,"BASINGSTOKE YOUTH ACTION TRUST LIMITED","Traineeships",".",".",".",null,".",".",".",null,".",".",".",null,10,92,"top quintile",null,".",".",".",null,"x","x","x"]
[10001465,"BATH COLLEGE","LLDD learner",20,72,"top quintile",null,220,81,"top quintile",null,60,56,"top quintile",null,180,74,"fourth quintile",null,20,69,"top quintile",null,310,86,"top quintile"]
[10001465,"BATH COLLEGE","Advanced and Higher Apprenticeships: Engineering and Manufacturing Technologies",".",".",".",null,"x","x","x",null,".",".",".",null,"x","x","x",null,".",".",".",null,20,89,"second quintile"]
[10001465,"BATH COLLEGE","Advanced and Higher Apprenticeships: Retail and Commercial Enterprise",".",".",".",null,"x","x","x",null,".",".",".",null,"x","x","x",null,".",".",".",null,10,82,"bottom quintile"]
[10001465,"BATH COLLEGE","Full Level 3+: Arts, Media and Publishing",".",".",".",null,50,91,"top quintile",null,"x","x","x",null,50,80,"second quintile",null,"x","x","x",null,30,86,"fourth quintile"]
[10001465,"BATH COLLEGE","Full Level 3+: Business, Administration and Law","x","x","x",null,40,97,"top quintile",null,".",".",".",null,20,100,"top quintile",null,"x","x","x",null,30,100,"top quintile"]
[10001465,"BATH COLLEGE","Full Level 3+: Construction, Planning and the Built Environment",".",".",".",null,"x","x","x",null,".",".",".",null,10,91,"top quintile",null,".",".",".",null,30,96,"top quintile"]
[10001465,"BATH COLLEGE","Full Level 3+: Education and Training",".",".",".",null,".",".",".",null,"x","x","x",null,10,82,"bottom quintile",null,".",".",".",null,10,100,"top quintile"]
[10001465,"BATH COLLEGE","Full Level 3+: Health, Public Services and Care",".",".",".",null,10,90,"fourth quintile",null,".",".",".",null,20,96,"top quintile",null,".",".",".",null,20,91,"top quintile"]
[10001465,"BATH COLLEGE","Full Level 3+: Leisure, Travel and Tourism",".",".",".",null,30,93,"top quintile",null,".",".",".",null,"x","x","x",null,".",".",".",null,"x","x","x"]
[10001465,"BATH COLLEGE","Full Level 3+: Retail and Commercial Enterprise",".",".",".",null,10,79,"fourth quintile",null,"x","x","x",null,10,79,"fourth quintile",null,"x","x","x",null,10,79,"top quintile"]
[10001465,"BATH COLLEGE","Access to HE","x","x","x",null,60,95,"top quintile",null,"x","x","x",null,50,98,"top quintile",null,"x","x","x",null,60,96,"top quintile"]
[10001465,"BATH COLLEGE","Other Level 3","x","x","x",null,80,91,"third quintile",null,".",".",".",null,"x","x","x",null,".",".",".",null,".",".","."]
[10001465,"BATH COLLEGE","Intermediate Apprenticeships: Business, Administration and Law",".",".",".",null,20,100,"top quintile",null,"x","x","x",null,30,97,"top quintile",null,".",".",".",null,30,88,"second quintile"]
[10001465,"BATH COLLEGE","Intermediate Apprenticeships: Engineering and Manufacturing Technologies",".",".",".",null,10,86,"bottom quintile",null,".",".",".",null,10,100,"top quintile",null,".",".",".",null,30,92,"third quintile"]
[10001465,"BATH COLLEGE","Intermediate Apprenticeships: Information and Communication Technology",".",".",".",null,"x","x","x",null,".",".",".",null,10,100,"top quintile",null,".",".",".",null,"x","x","x"]
[10001465,"BATH COLLEGE","Intermediate Apprenticeships: Retail and Commercial Enterprise","x","x","x",null,30,81,"bottom quintile",null,".",".",".",null,10,77,"bottom quintile",null,".",".",".",null,20,89,"third quintile"]
[10001465,"BATH COLLEGE","Full Level 2: Agriculture, Horticulture and Animal Care","x","x","x",null,10,71,"bottom quintile",null,".",".",".",null,10,85,"fourth quintile",null,".",".",".",null,30,85,"fourth quintile"]
[10001465,"BATH COLLEGE","Full Level 2: Business, Administration and Law","x","x","x",null,60,95,"top quintile",null,".",".",".",null,60,93,"fourth quintile",null,"x","x","x",null,120,95,"top quintile"]
[10001465,"BATH COLLEGE","Full Level 2: Construction, Planning and the Built Environment","x","x","x",null,20,96,"top quintile",null,"x","x","x",null,20,91,"top quintile",null,"x","x","x",null,10,92,"top quintile"]
[10001465,"BATH COLLEGE","Full Level 2: Education and Training",".",".",".",null,".",".",".",null,".",".",".",null,".",".",".",null,"x","x","x",null,40,83,"third quintile"]
[10001465,"BATH COLLEGE","Full Level 2: Engineering and Manufacturing Technologies",".",".",".",null,"x","x","x",null,"x","x","x",null,"x","x","x",null,".",".",".",null,20,88,"fourth quintile"]
[10001465,"BATH COLLEGE","Full Level 2: Health, Public Services and Care","x","x","x",null,370,95,"top quintile",null,"x","x","x",null,50,85,"bottom quintile",null,"x","x","x",null,1530,92,"third quintile"]
[10001465,"BATH COLLEGE","Full Level 2: Languages, Literature and Culture",".",".",".",null,"x","x","x",null,".",".",".",null,"x","x","x",null,"x","x","x",null,30,88,"fourth quintile"]
[10001465,"BATH COLLEGE","Full Level 2: Leisure, Travel and Tourism","x","x","x",null,100,82,"second quintile",null,".",".",".",null,"x","x","x",null,".",".",".",null,110,83,"bottom quintile"]
[10001465,"BATH COLLEGE","Full Level 2: Preparation for Life and Work",".",".",".",null,40,95,"top quintile",null,".",".",".",null,"x","x","x",null,"x","x","x",null,40,98,"top quintile"]
[10001465,"BATH COLLEGE","Full Level 2: Retail and Commercial Enterprise",".",".",".",null,30,88,"top quintile",null,50,63,"top quintile",null,30,84,"fourth quintile",null,".",".",".",null,40,86,"top quintile"]
[10001465,"BATH COLLEGE","Full Level 2: Science and Mathematics","x","x","x",null,50,92,"fourth quintile",null,".",".",".",null,40,78,"bottom quintile",null,"x","x","x",null,70,87,"third quintile"]
[10001465,"BATH COLLEGE","Traineeships",".",".",".",null,".",".",".",null,".",".",".",null,10,80,"fourth quintile",null,".",".",".",null,"x","x","x"]
[10001465,"BATH COLLEGE","English & Maths",20,80,"top quintile",null,40,84,"fourth quintile",null,80,70,"top quintile",null,90,65,"bottom quintile",null,"x","x","x",null,50,83,"fourth quintile"]
[10001465,"BATH COLLEGE","English for Speakers of Other Languages (ESOL)","x","x","x",null,260,64,"second quintile",null,"x","x","x",null,140,57,"bottom quintile",null,".",".",".",null,".",".","."]
[10001465,"BATH COLLEGE","Other provision below Full Level 2","x","x","x",null,"x","x","x",null,110,47,"bottom quintile",null,130,67,"second quintile",null,"x","x","x",null,70,80,"fourth quintile"]
[10046797,"BC ARCH LIMITED","LLDD learner",".",".",".",null,".",".",".",null,".",".",".",null,".",".",".",null,".",".",".",null,20,88,"top quintile"]
[10046797,"BC ARCH LIMITED","Advanced and Higher Apprenticeships: Arts, Media and Publishing",".",".",".",null,".",".",".",null,".",".",".",null,".",".",".",null,".",".",".",null,20,75,"bottom quintile"]
[10046797,"BC ARCH LIMITED","Advanced and Higher Apprenticeships: Business, Administration and Law",".",".",".",null,".",".",".",null,".",".",".",null,".",".",".",null,".",".",".",null,100,86,"bottom quintile"]
[10046797,"BC ARCH LIMITED","Advanced and Higher Apprenticeships: Information and Communication Technology",".",".",".",null,".",".",".",null,".",".",".",null,".",".",".",null,".",".",".",null,70,89,"second quintile"]
[10006600,"BCTG LIMITED","LLDD learner",200,51,"fourth quintile",null,140,71,"fourth quintile",null,200,46,"third quintile",null,190,73,"fourth quintile",null,160,49,"fourth quintile",null,220,77,"top quintile"]
[10006600,"BCTG LIMITED","Advanced and Higher Apprenticeships: Arts, Media and Publishing",".",".",".",null,".",".",".",null,"x","x","x",null,10,100,"top quintile",null,10,50,"bottom quintile",null,"x","x","x"]
[10006600,"BCTG LIMITED","Advanced and Higher Apprenticeships: Business, Administration and Law","x","x","x",null,410,94,"third quintile",null,"x","x","x",null,350,94,"third quintile",null,"x","x","x",null,450,94,"fourth quintile"]
[10006600,"BCTG LIMITED","Advanced and Higher Apprenticeships: Education and Training",".",".",".",null,20,100,"top quintile",null,".",".",".",null,40,93,"second quintile",null,".",".",".",null,40,92,"second quintile"]
[10006600,"BCTG LIMITED","Advanced and Higher Apprenticeships: Engineering and Manufacturing Technologies",".",".",".",null,20,91,"second quintile",null,".",".",".",null,40,95,"fourth quintile",null,".",".",".",null,60,96,"top quintile"]
[10006600,"BCTG LIMITED","Advanced and Higher Apprenticeships: Health, Public Services and Care","x","x","x",null,240,90,"bottom quintile",null,"x","x","x",null,250,95,"top quintile",null,"x","x","x",null,410,90,"second quintile"]
[10006600,"BCTG LIMITED","Advanced and Higher Apprenticeships: Information and Communication Technology",".",".",".",null,"x","x","x",null,"x","x","x",null,"x","x","x",null,"x","x","x",null,40,86,"bottom quintile"]
[10006600,"BCTG LIMITED","Advanced and Higher Apprenticeships: Retail and Commercial Enterprise","x","x","x",null,10,83,"bottom quintile",null,".",".",".",null,40,97,"top quintile",null,".",".",".",null,30,93,"top quintile"]
[10006600,"BCTG LIMITED","Full Level 3+: Construction, Planning and the Built Environment","x","x","x",null,"x","x","x",null,"x","x","x",null,30,85,"fourth quintile",null,"x","x","x",null,30,74,"third quintile"]
[10006600,"BCTG LIMITED","Full Level 3+: Education and Training",".",".",".",null,"x","x","x",null,"x","x","x",null,20,87,"second quintile",null,30,60,"second quintile",null,20,86,"third quintile"]
[10006600,"BCTG LIMITED","Full Level 3+: Health, Public Services and Care",".",".",".",null,"x","x","x",null,".",".",".",null,10,90,"fourth quintile",null,".",".",".",null,".",".","."]
[10006600,"BCTG LIMITED","Full Level 3+: Leisure, Travel and Tourism",".",".",".",null,".",".",".",null,".",".",".",null,".",".",".",null,"x","x","x",null,20,55,"bottom quintile"]
[10006600,"BCTG LIMITED","Other Level 3",100,71,"third quintile",null,20,91,"third quintile",null,50,68,"third quintile",null,30,72,"bottom quintile",null,".",".",".",null,"x","x","x"]
[10006600,"BCTG LIMITED","Intermediate Apprenticeships: Business, Administration and Law","x","x","x",null,140,86,"bottom quintile",null,"x","x","x",null,130,90,"second quintile",null,".",".",".",null,140,86,"bottom quintile"]
[10006600,"BCTG LIMITED","Intermediate Apprenticeships: Construction, Planning and the Built Environment","x","x","x",null,10,100,"top quintile",null,"x","x","x",null,20,86,"second quintile",null,"x","x","x",null,40,71,"bottom quintile"]
[10006600,"BCTG LIMITED","Intermediate Apprenticeships: Engineering and Manufacturing Technologies","x","x","x",null,130,92,"second quintile",null,".",".",".",null,40,95,"fourth quintile",null,".",".",".",null,50,82,"bottom quintile"]
[10006600,"BCTG LIMITED","Intermediate Apprenticeships: Health, Public Services and Care","x","x","x",null,100,88,"bottom quintile",null,"x","x","x",null,120,90,"second quintile",null,"x","x","x",null,160,89,"bottom quintile"]
[10006600,"BCTG LIMITED","Intermediate Apprenticeships: Retail and Commercial Enterprise","x","x","x",null,140,85,"bottom quintile",null,"x","x","x",null,350,94,"fourth quintile",null,".",".",".",null,160,90,"fourth quintile"]
[10006600,"BCTG LIMITED","Full Level 2: Business, Administration and Law",70,77,"top quintile",null,"x","x","x",null,30,52,"bottom quintile",null,"x","x","x",null,40,59,"fourth quintile",null,10,82,"bottom quintile"]
[10006600,"BCTG LIMITED","Full Level 2: Construction, Planning and the Built Environment",220,54,"second quintile",null,60,88,"fourth quintile",null,260,50,"second quintile",null,150,77,"second quintile",null,60,51,"second quintile",null,80,70,"third quintile"]
[10006600,"BCTG LIMITED","Full Level 2: Engineering and Manufacturing Technologies",".",".",".",null,"x","x","x",null,".",".",".",null,10,100,"top quintile",null,"x","x","x",null,".",".","."]
[10006600,"BCTG LIMITED","Full Level 2: Health, Public Services and Care",60,64,"third quintile",null,20,71,"bottom quintile",null,50,69,"fourth quintile",null,20,60,"bottom quintile",null,".",".",".",null,"x","x","x"]
[10006600,"BCTG LIMITED","Full Level 2: Leisure, Travel and Tourism",".",".",".",null,".",".",".",null,10,38,"bottom quintile",null,"x","x","x",null,".",".",".",null,".",".","."]
[10006600,"BCTG LIMITED","Full Level 2: Preparation for Life and Work",80,62,"third quintile",null,"x","x","x",null,".",".",".",null,".",".",".",null,50,73,"top quintile",null,"x","x","x"]
[10006600,"BCTG LIMITED","Full Level 2: Retail and Commercial Enterprise",".",".",".",null,"x","x","x",null,".",".",".",null,".",".",".",null,10,55,"third quintile",null,"x","x","x"]
[10006600,"BCTG LIMITED","Traineeships",".",".",".",null,10,90,"top quintile",null,"x","x","x",null,30,62,"second quintile",null,50,57,"fourth quintile",null,60,62,"second quintile"]
[10006600,"BCTG LIMITED","English & Maths",20,60,"fourth quintile",null,".",".",".",null,20,78,"top quintile",null,"x","x","x",null,"x","x","x",null,"x","x","x"]
[10006600,"BCTG LIMITED","Other provision below Full Level 2",430,54,"fourth quintile",null,20,55,"bottom quintile",null,290,63,"top quintile",null,60,55,"bottom quintile",null,330,56,"fourth quintile",null,20,52,"bottom quintile"]
[10019227,"BE TOTALLY YOU","LLDD learner","x","x","x",null,"x","x","x",null,20,58,"top quintile",null,"x","x","x",null,20,62,"top quintile",null,"x","x","x"]
[10019227,"BE TOTALLY YOU","Intermediate Apprenticeships: Business, Administration and Law",20,74,"bottom quintile",null,"x","x","x",null,40,53,"bottom quintile",null,60,65,"bottom quintile",null,40,51,"bottom quintile",null,10,58,"bottom quintile"]
[10019227,"BE TOTALLY YOU","Intermediate Apprenticeships: Health, Public Services and Care","x","x","x",null,"x","x","x",null,"x","x","x",null,10,33,"bottom quintile",null,"x","x","x",null,"x","x","x"]
[10019227,"BE TOTALLY YOU","Traineeships",".",".",".",null,".",".",".",null,".",".",".",null,".",".",".",null,"x","x","x",null,20,93,"top quintile"]
[10019227,"BE TOTALLY YOU","Other provision below Full Level 2",20,69,"top quintile",null,"x","x","x",null,80,65,"top quintile",null,10,67,"second quintile",null,30,52,"third quintile",null,20,68,"second quintile"]
[10045359,"BE WISER INSURANCE SERVICES LTD","Advanced and Higher Apprenticeships: Business, Administration and Law",".",".",".",null,".",".",".",null,".",".",".",null,".",".",".",null,".",".",".",null,50,92,"third quintile"]
[10033608,"BEACON EDUCATION PARTNERSHIP LIMITED","Full Level 3+: Health, Public Services and Care",".",".",".",null,".",".",".",null,".",".",".",null,"x","x","x",null,"x","x","x",null,150,79,"second quintile"]
[10000599,"BEAUMONT COLLEGE - A SCOPE COLLEGE","LLDD learner",".",".",".",null,90,71,"fourth quintile",null,".",".",".",null,100,71,"fourth quintile",null,"x","x","x",null,110,64,"second quintile"]
[10020123,"BECKETT CORPORATION LIMITED","Other provision below Full Level 2",120,53,"fourth quintile",null,140,68,"second quintile",null,90,55,"fourth quintile",null,110,75,"second quintile",null,50,52,"third quintile",null,50,62,"second quintile"]
[10000610,"BEDFORD COLLEGE","LLDD learner",330,54,"top quintile",null,510,69,"third quintile",null,170,53,"top quintile",null,590,69,"third quintile",null,40,51,"fourth quintile",null,350,71,"third quintile"]
[10000610,"BEDFORD COLLEGE","Advanced and Higher Apprenticeships: Business, Administration and Law",".",".",".",null,40,100,"top quintile",null,".",".",".",null,70,94,"third quintile",null,"x","x","x",null,70,93,"third quintile"]
[10000610,"BEDFORD COLLEGE","Advanced and Higher Apprenticeships: Engineering and Manufacturing Technologies","x","x","x",null,20,88,"bottom quintile",null,".",".",".",null,60,93,"third quintile",null,".",".",".",null,130,88,"second quintile"]
[10000610,"BEDFORD COLLEGE","Advanced and Higher Apprenticeships: Information and Communication Technology",".",".",".",null,40,84,"bottom quintile",null,"x","x","x",null,90,90,"second quintile",null,"x","x","x",null,80,97,"top quintile"]
[10000610,"BEDFORD COLLEGE","Full Level 3+: Agriculture, Horticulture and Animal Care","x","x","x",null,30,81,"second quintile",null,".",".",".",null,40,83,"second quintile",null,".",".",".",null,30,87,"third quintile"]
[10000610,"BEDFORD COLLEGE","Full Level 3+: Arts, Media and Publishing","x","x","x",null,30,97,"top quintile",null,"x","x","x",null,40,92,"top quintile",null,"x","x","x",null,30,83,"third quintile"]
[10000610,"BEDFORD COLLEGE","Full Level 3+: Business, Administration and Law","x","x","x",null,70,96,"top quintile",null,"x","x","x",null,80,89,"third quintile",null,".",".",".",null,50,90,"fourth quintile"]
[10000610,"BEDFORD COLLEGE","Full Level 3+: Construction, Planning and the Built Environment","x","x","x",null,30,88,"fourth quintile",null,"x","x","x",null,30,83,"fourth quintile",null,"x","x","x",null,40,80,"fourth quintile"]
[10000610,"BEDFORD COLLEGE","Full Level 3+: Education and Training",".",".",".",null,"x","x","x",null,".",".",".",null,"x","x","x",null,".",".",".",null,10,92,"fourth quintile"]
[10000610,"BEDFORD COLLEGE","Full Level 3+: Engineering and Manufacturing Technologies","x","x","x",null,120,79,"bottom quintile",null,"x","x","x",null,40,92,"fourth quintile",null,".",".",".",null,20,92,"fourth quintile"]
[10000610,"BEDFORD COLLEGE","Full Level 3+: Health, Public Services and Care","x","x","x",null,40,79,"bottom quintile",null,".",".",".",null,60,95,"top quintile",null,"x","x","x",null,60,91,"top quintile"]
[10000610,"BEDFORD COLLEGE","Full Level 3+: Information and Communication Technology","x","x","x",null,10,79,"second quintile",null,".",".",".",null,10,90,"top quintile",null,".",".",".",null,10,86,"fourth quintile"]
[10000610,"BEDFORD COLLEGE","Full Level 3+: Leisure, Travel and Tourism","x","x","x",null,20,96,"top quintile",null,"x","x","x",null,30,79,"second quintile",null,".",".",".",null,30,84,"fourth quintile"]
[10000610,"BEDFORD COLLEGE","Full Level 3+: Retail and Commercial Enterprise","x","x","x",null,20,70,"second quintile",null,".",".",".",null,20,88,"top quintile",null,".",".",".",null,20,82,"top quintile"]
[10000610,"BEDFORD COLLEGE","Full Level 3+: Science and Mathematics",".",".",".",null,10,92,"third quintile",null,".",".",".",null,"x","x","x",null,".",".",".",null,"x","x","x"]
[10000610,"BEDFORD COLLEGE","Access to HE",10,80,"bottom quintile",null,90,97,"top quintile",null,"x","x","x",null,100,95,"top quintile",null,"x","x","x",null,80,99,"top quintile"]
[10000610,"BEDFORD COLLEGE","Other Level 3",10,77,"fourth quintile",null,90,96,"top quintile",null,"x","x","x",null,80,89,"top quintile",null,"x","x","x",null,40,94,"top quintile"]
[10000610,"BEDFORD COLLEGE","Intermediate Apprenticeships: Agriculture, Horticulture and Animal Care",".",".",".",null,"x","x","x",null,".",".",".",null,10,77,"bottom quintile",null,".",".",".",null,10,92,"top quintile"]
[10000610,"BEDFORD COLLEGE","Intermediate Apprenticeships: Business, Administration and Law",".",".",".",null,20,96,"top quintile",null,".",".",".",null,30,93,"fourth quintile",null,".",".",".",null,20,100,"top quintile"]
[10000610,"BEDFORD COLLEGE","Intermediate Apprenticeships: Engineering and Manufacturing Technologies",".",".",".",null,40,98,"top quintile",null,"x","x","x",null,90,85,"bottom quintile",null,"x","x","x",null,180,96,"fourth quintile"]
[10000610,"BEDFORD COLLEGE","Intermediate Apprenticeships: Retail and Commercial Enterprise",".",".",".",null,20,94,"fourth quintile",null,".",".",".",null,20,95,"top quintile",null,".",".",".",null,20,100,"top quintile"]
[10000610,"BEDFORD COLLEGE","Full Level 2: Agriculture, Horticulture and Animal Care","x","x","x",null,20,75,"bottom quintile",null,".",".",".",null,50,89,"top quintile",null,"x","x","x",null,60,86,"fourth quintile"]
[10000610,"BEDFORD COLLEGE","Full Level 2: Business, Administration and Law",30,75,"top quintile",null,130,90,"fourth quintile",null,"x","x","x",null,100,91,"fourth quintile",null,"x","x","x",null,90,89,"third quintile"]
[10000610,"BEDFORD COLLEGE","Full Level 2: Construction, Planning and the Built Environment","x","x","x",null,60,85,"third quintile",null,"x","x","x",null,290,64,"bottom quintile",null,"x","x","x",null,160,79,"fourth quintile"]
[10000610,"BEDFORD COLLEGE","Full Level 2: Education and Training",".",".",".",null,50,85,"third quintile",null,"x","x","x",null,80,90,"fourth quintile",null,"x","x","x",null,40,92,"top quintile"]
[10000610,"BEDFORD COLLEGE","Full Level 2: Engineering and Manufacturing Technologies","x","x","x",null,20,90,"fourth quintile",null,"x","x","x",null,40,88,"third quintile",null,"x","x","x",null,20,93,"top quintile"]
[10000610,"BEDFORD COLLEGE","Full Level 2: Health, Public Services and Care",200,66,"fourth quintile",null,100,87,"bottom quintile",null,"x","x","x",null,70,92,"third quintile",null,"x","x","x",null,210,89,"second quintile"]
[10000610,"BEDFORD COLLEGE","Full Level 2: Information and Communication Technology",180,72,"top quintile",null,400,83,"fourth quintile",null,130,77,"top quintile",null,470,79,"third quintile",null,20,73,"top quintile",null,110,76,"third quintile"]
[10000610,"BEDFORD COLLEGE","Full Level 2: Languages, Literature and Culture","x","x","x",null,"x","x","x",null,"x","x","x",null,20,86,"third quintile",null,"x","x","x",null,30,91,"fourth quintile"]
[10000610,"BEDFORD COLLEGE","Full Level 2: Leisure, Travel and Tourism",10,91,"top quintile",null,40,93,"top quintile",null,10,100,"top quintile",null,80,95,"top quintile",null,"x","x","x",null,20,83,"second quintile"]
[10000610,"BEDFORD COLLEGE","Full Level 2: Retail and Commercial Enterprise","x","x","x",null,70,86,"fourth quintile",null,"x","x","x",null,70,77,"third quintile",null,"x","x","x",null,40,71,"second quintile"]
[10000610,"BEDFORD COLLEGE","Full Level 2: Science and Mathematics",".",".",".",null,20,94,"top quintile",null,"x","x","x",null,20,100,"top quintile",null,"x","x","x",null,40,78,"bottom quintile"]
[10000610,"BEDFORD COLLEGE","English & Maths",20,53,"third quintile",null,240,87,"top quintile",null,10,79,"top quintile",null,190,88,"top quintile",null,20,89,"top quintile",null,230,89,"top quintile"]
[10000610,"BEDFORD COLLEGE","English for Speakers of Other Languages (ESOL)",70,69,"top quintile",null,240,84,"top quintile",null,50,60,"fourth quintile",null,240,75,"top quintile",null,10,46,"bottom quintile",null,230,74,"top quintile"]
[10000610,"BEDFORD COLLEGE","Other provision below Full Level 2",610,59,"top quintile",null,540,76,"third quintile",null,200,61,"top quintile",null,700,76,"third quintile",null,30,61,"top quintile",null,180,87,"top quintile"]
[10000612,"BEDFORDSHIRE & LUTON EDUCATION BUSINESS PARTNERSHIP","LLDD learner",".",".",".",null,30,77,"top quintile",null,".",".",".",null,40,66,"third quintile",null,".",".",".",null,40,53,"bottom quintile"]
[10000631,"BELLIS TRAINING LIMITED","Traineeships","x","x","x",null,"x","x","x",null,"x","x","x",null,10,92,"top quintile",null,".",".",".",null,"x","x","x"]
[10000654,"BERKSHIRE COLLEGE OF AGRICULTURE, THE (BCA)","LLDD learner","x","x","x",null,140,77,"top quintile",null,"x","x","x",null,130,67,"third quintile",null,".",".",".",null,100,58,"second quintile"]
[10000654,"BERKSHIRE COLLEGE OF AGRICULTURE, THE (BCA)","Full Level 3+: Agriculture, Horticulture and Animal Care",".",".",".",null,20,80,"bottom quintile",null,".",".",".",null,20,90,"top quintile",null,".",".",".",null,30,77,"second quintile"]
[10000654,"BERKSHIRE COLLEGE OF AGRICULTURE, THE (BCA)","Intermediate Apprenticeships: Agriculture, Horticulture and Animal Care",".",".",".",null,"x","x","x",null,"x","x","x",null,20,91,"fourth quintile",null,".",".",".",null,30,88,"fourth quintile"]
[10000654,"BERKSHIRE COLLEGE OF AGRICULTURE, THE (BCA)","Intermediate Apprenticeships: Engineering and Manufacturing Technologies",".",".",".",null,".",".",".",null,".",".",".",null,"x","x","x",null,".",".",".",null,10,85,"bottom quintile"]
[10000654,"BERKSHIRE COLLEGE OF AGRICULTURE, THE (BCA)","Full Level 2: Agriculture, Horticulture and Animal Care","x","x","x",null,40,82,"second quintile",null,"x","x","x",null,20,79,"second quintile",null,".",".",".",null,"x","x","x"]
[10000654,"BERKSHIRE COLLEGE OF AGRICULTURE, THE (BCA)","Full Level 2: Science and Mathematics",".",".",".",null,".",".",".",null,".",".",".",null,"x","x","x",null,".",".",".",null,10,91,"fourth quintile"]
[10000654,"BERKSHIRE COLLEGE OF AGRICULTURE, THE (BCA)","Other provision below Full Level 2","x","x","x",null,"x","x","x",null,"x","x","x",null,"x","x","x",null,".",".",".",null,10,21,"bottom quintile"]
[10018344,"BESTLAND SOLUTIONS LIMITED","LLDD learner",".",".",".",null,".",".",".",null,".",".",".",null,"x","x","x",null,".",".",".",null,30,90,"top quintile"]
[10018344,"BESTLAND SOLUTIONS LIMITED","Advanced and Higher Apprenticeships: Business, Administration and Law",".",".",".",null,10,90,"bottom quintile",null,"x","x","x",null,30,91,"bottom quintile",null,"x","x","x",null,10,91,"bottom quintile"]
[10018344,"BESTLAND SOLUTIONS LIMITED","Advanced and Higher Apprenticeships: Education and Training",".",".",".",null,".",".",".",null,".",".",".",null,30,90,"bottom quintile",null,".",".",".",null,30,93,"third quintile"]
[10018344,"BESTLAND SOLUTIONS LIMITED","Advanced and Higher Apprenticeships: Health, Public Services and Care",".",".",".",null,".",".",".",null,"x","x","x",null,20,83,"bottom quintile",null,"x","x","x",null,40,89,"bottom quintile"]
[10018344,"BESTLAND SOLUTIONS LIMITED","Intermediate Apprenticeships: Business, Administration and Law",".",".",".",null,".",".",".",null,".",".",".",null,30,80,"bottom quintile",null,"x","x","x",null,"x","x","x"]
[10018344,"BESTLAND SOLUTIONS LIMITED","Intermediate Apprenticeships: Education and Training",".",".",".",null,".",".",".",null,".",".",".",null,20,100,"fourth quintile",null,".",".",".",null,"x","x","x"]
[10018344,"BESTLAND SOLUTIONS LIMITED","Intermediate Apprenticeships: Health, Public Services and Care",".",".",".",null,".",".",".",null,".",".",".",null,"x","x","x",null,".",".",".",null,40,88,"bottom quintile"]
[10000670,"BEXHILL COLLEGE","LLDD learner","x","x","x",null,100,74,"fourth quintile",null,"x","x","x",null,110,83,"top quintile",null,".",".",".",null,110,76,"fourth quintile"]
[10000670,"BEXHILL COLLEGE","Full Level 3+: Health, Public Services and Care",".",".",".",null,"x","x","x",null,"x","x","x",null,20,76,"bottom quintile",null,".",".",".",null,10,73,"bottom quintile"]
[10000670,"BEXHILL COLLEGE","Full Level 2: Health, Public Services and Care","x","x","x",null,20,71,"bottom quintile",null,"x","x","x",null,20,95,"top quintile",null,"x","x","x",null,10,75,"bottom quintile"]
[10000670,"BEXHILL COLLEGE","Full Level 2: Science and Mathematics","x","x","x",null,"x","x","x",null,".",".",".",null,10,85,"bottom quintile",null,".",".",".",null,20,80,"bottom quintile"]
[10000670,"BEXHILL COLLEGE","English for Speakers of Other Languages (ESOL)",".",".",".",null,".",".",".",null,".",".",".",null,10,50,"bottom quintile",null,".",".",".",null,".",".","."]
[10000671,"BEXLEY COLLEGE","LLDD learner",40,75,"top quintile",null,160,76,"top quintile",null,30,50,"fourth quintile",null,130,70,"fourth quintile",null,10,80,"top quintile",null,120,75,"fourth quintile"]
[10000671,"BEXLEY COLLEGE","Advanced and Higher Apprenticeships: Engineering and Manufacturing Technologies",".",".",".",null,20,85,"bottom quintile",null,".",".",".",null,"x","x","x",null,"x","x","x",null,10,92,"third quintile"]
[10000671,"BEXLEY COLLEGE","Advanced and Higher Apprenticeships: Health, Public Services and Care",".",".",".",null,20,91,"bottom quintile",null,".",".",".",null,30,96,"top quintile",null,".",".",".",null,20,83,"bottom quintile"]
[10000671,"BEXLEY COLLEGE","Full Level 3+: Arts, Media and Publishing","x","x","x",null,20,86,"fourth quintile",null,"x","x","x",null,20,63,"bottom quintile",null,"x","x","x",null,10,75,"second quintile"]
[10000671,"BEXLEY COLLEGE","Full Level 3+: Construction, Planning and the Built Environment",".",".",".",null,10,80,"third quintile",null,".",".",".",null,"x","x","x",null,".",".",".",null,".",".","."]
[10000671,"BEXLEY COLLEGE","Full Level 3+: Education and Training","x","x","x",null,20,83,"bottom quintile",null,"x","x","x",null,20,75,"bottom quintile",null,"x","x","x",null,10,70,"bottom quintile"]
[10000671,"BEXLEY COLLEGE","Full Level 3+: Health, Public Services and Care","x","x","x",null,10,91,"fourth quintile",null,".",".",".",null,10,75,"bottom quintile",null,".",".",".",null,"x","x","x"]
[10000671,"BEXLEY COLLEGE","Full Level 3+: Information and Communication Technology",".",".",".",null,"x","x","x",null,".",".",".",null,"x","x","x",null,".",".",".",null,10,70,"bottom quintile"]
[10000671,"BEXLEY COLLEGE","Full Level 3+: Retail and Commercial Enterprise","x","x","x",null,10,69,"second quintile",null,"x","x","x",null,10,67,"second quintile",null,"x","x","x",null,10,50,"bottom quintile"]
[10000671,"BEXLEY COLLEGE","Access to HE",20,82,"bottom quintile",null,150,89,"second quintile",null,10,92,"fourth quintile",null,140,89,"second quintile",null,10,90,"fourth quintile",null,140,91,"third quintile"]
[10000671,"BEXLEY COLLEGE","Intermediate Apprenticeships: Business, Administration and Law","x","x","x",null,30,96,"top quintile",null,".",".",".",null,"x","x","x",null,".",".",".",null,"x","x","x"]
[10000671,"BEXLEY COLLEGE","Intermediate Apprenticeships: Engineering and Manufacturing Technologies",".",".",".",null,40,81,"bottom quintile",null,".",".",".",null,10,77,"bottom quintile",null,".",".",".",null,30,80,"bottom quintile"]
[10000671,"BEXLEY COLLEGE","Intermediate Apprenticeships: Health, Public Services and Care",".",".",".",null,30,96,"top quintile",null,".",".",".",null,"x","x","x",null,".",".",".",null,"x","x","x"]
[10000671,"BEXLEY COLLEGE","Full Level 2: Business, Administration and Law",".",".",".",null,10,92,"fourth quintile",null,".",".",".",null,20,100,"top quintile",null,".",".",".",null,"x","x","x"]
[10000671,"BEXLEY COLLEGE","Full Level 2: Construction, Planning and the Built Environment","x","x","x",null,20,75,"bottom quintile",null,"x","x","x",null,20,79,"third quintile",null,"x","x","x",null,20,82,"fourth quintile"]
[10000671,"BEXLEY COLLEGE","Full Level 2: Education and Training","x","x","x",null,10,83,"second quintile",null,"x","x","x",null,10,92,"top quintile",null,"x","x","x",null,20,67,"bottom quintile"]
[10000671,"BEXLEY COLLEGE","Full Level 2: Health, Public Services and Care",30,73,"top quintile",null,470,97,"top quintile",null,"x","x","x",null,250,90,"second quintile",null,"x","x","x",null,200,92,"fourth quintile"]
[10000671,"BEXLEY COLLEGE","Full Level 2: Leisure, Travel and Tourism","x","x","x",null,10,82,"second quintile",null,".",".",".",null,"x","x","x",null,".",".",".",null,".",".","."]
[10000671,"BEXLEY COLLEGE","Full Level 2: Preparation for Life and Work",30,70,"top quintile",null,50,94,"top quintile",null,"x","x","x",null,50,98,"top quintile",null,".",".",".",null,"x","x","x"]
[10000671,"BEXLEY COLLEGE","Full Level 2: Retail and Commercial Enterprise","x","x","x",null,50,69,"bottom quintile",null,".",".",".",null,30,70,"second quintile",null,"x","x","x",null,20,69,"second quintile"]
[10000671,"BEXLEY COLLEGE","Full Level 2: Science and Mathematics",".",".",".",null,"x","x","x",null,".",".",".",null,10,75,"bottom quintile",null,"x","x","x",null,"x","x","x"]
[10000671,"BEXLEY COLLEGE","English & Maths",10,71,"top quintile",null,80,89,"top quintile",null,"x","x","x",null,80,89,"top quintile",null,"x","x","x",null,60,77,"third quintile"]
[10000671,"BEXLEY COLLEGE","English for Speakers of Other Languages (ESOL)",10,73,"top quintile",null,30,97,"top quintile",null,"x","x","x",null,40,70,"fourth quintile",null,".",".",".",null,".",".","."]
[10000671,"BEXLEY COLLEGE","Other provision below Full Level 2",80,58,"top quintile",null,20,57,"bottom quintile",null,20,70,"top quintile",null,110,91,"top quintile",null,20,33,"bottom quintile",null,60,79,"fourth quintile"]
[10000146,"BEXLEY LONDON BOROUGH COUNCIL","LLDD learner",90,53,"top quintile",null,200,68,"third quintile",null,80,47,"fourth quintile",null,240,68,"third quintile",null,30,61,"top quintile",null,190,70,"third quintile"]
[10000146,"BEXLEY LONDON BOROUGH COUNCIL","Full Level 3+: Health, Public Services and Care",".",".",".",null,".",".",".",null,".",".",".",null,".",".",".",null,".",".",".",null,20,71,"bottom quintile"]
[10000146,"BEXLEY LONDON BOROUGH COUNCIL","Other Level 3","x","x","x",null,10,90,"third quintile",null,".",".",".",null,10,92,"top quintile",null,".",".",".",null,".",".","."]
[10000146,"BEXLEY LONDON BOROUGH COUNCIL","Full Level 2: Agriculture, Horticulture and Animal Care","x","x","x",null,20,88,"fourth quintile",null,".",".",".",null,20,87,"fourth quintile",null,".",".",".",null,10,67,"bottom quintile"]
[10000146,"BEXLEY LONDON BOROUGH COUNCIL","Full Level 2: Arts, Media and Publishing","x","x","x",null,"x","x","x",null,".",".",".",null,".",".",".",null,".",".",".",null,10,75,"third quintile"]
[10000146,"BEXLEY LONDON BOROUGH COUNCIL","Full Level 2: Business, Administration and Law","x","x","x",null,30,81,"bottom quintile",null,"x","x","x",null,20,92,"fourth quintile",null,"x","x","x",null,20,77,"bottom quintile"]
[10000146,"BEXLEY LONDON BOROUGH COUNCIL","Full Level 2: Education and Training","x","x","x",null,50,95,"top quintile",null,"x","x","x",null,30,88,"fourth quintile",null,"x","x","x",null,60,72,"second quintile"]
[10000146,"BEXLEY LONDON BOROUGH COUNCIL","Full Level 2: Health, Public Services and Care","x","x","x",null,30,89,"bottom quintile",null,"x","x","x",null,30,84,"bottom quintile",null,10,71,"fourth quintile",null,30,73,"bottom quintile"]
[10000146,"BEXLEY LONDON BOROUGH COUNCIL","Full Level 2: Information and Communication Technology",".",".",".",null,"x","x","x",null,"x","x","x",null,10,92,"top quintile",null,".",".",".",null,"x","x","x"]
[10000146,"BEXLEY LONDON BOROUGH COUNCIL","Full Level 2: Languages, Literature and Culture","x","x","x",null,30,97,"top quintile",null,"x","x","x",null,20,94,"top quintile",null,"x","x","x",null,50,88,"fourth quintile"]
[10000146,"BEXLEY LONDON BOROUGH COUNCIL","Full Level 2: Preparation for Life and Work",".",".",".",null,".",".",".",null,"x","x","x",null,"x","x","x",null,".",".",".",null,10,67,"bottom quintile"]
[10000146,"BEXLEY LONDON BOROUGH COUNCIL","Full Level 2: Retail and Commercial Enterprise",".",".",".",null,20,50,"bottom quintile",null,".",".",".",null,10,55,"bottom quintile",null,"x","x","x",null,20,80,"fourth quintile"]
[10000146,"BEXLEY LONDON BOROUGH COUNCIL","Full Level 2: Science and Mathematics","x","x","x",null,50,85,"second quintile",null,"x","x","x",null,50,83,"bottom quintile",null,"x","x","x",null,70,89,"third quintile"]
[10000146,"BEXLEY LONDON BOROUGH COUNCIL","English & Maths",30,71,"top quintile",null,180,79,"third quintile",null,20,67,"top quintile",null,150,84,"fourth quintile",null,10,67,"top quintile",null,130,81,"fourth quintile"]
[10000146,"BEXLEY LONDON BOROUGH COUNCIL","English for Speakers of Other Languages (ESOL)",130,48,"bottom quintile",null,240,70,"third quintile",null,70,59,"fourth quintile",null,110,70,"fourth quintile",null,20,37,"bottom quintile",null,40,68,"fourth quintile"]
[10000146,"BEXLEY LONDON BOROUGH COUNCIL","Other provision below Full Level 2",150,63,"top quintile",null,120,80,"fourth quintile",null,160,56,"fourth quintile",null,260,75,"second quintile",null,50,58,"top quintile",null,270,75,"third quintile"]
[10000673,"BEXLEY YOUTH TRAINING GROUP","LLDD learner",".",".",".",null,"x","x","x",null,".",".",".",null,20,64,"third quintile",null,"x","x","x",null,40,71,"third quintile"]
[10000673,"BEXLEY YOUTH TRAINING GROUP","Advanced and Higher Apprenticeships: Arts, Media and Publishing",".",".",".",null,20,74,"bottom quintile",null,"x","x","x",null,40,86,"bottom quintile",null,"x","x","x",null,40,77,"bottom quintile"]
[10000673,"BEXLEY YOUTH TRAINING GROUP","Advanced and Higher Apprenticeships: Business, Administration and Law",".",".",".",null,20,100,"top quintile",null,"x","x","x",null,20,95,"fourth quintile",null,".",".",".",null,20,87,"bottom quintile"]
[10000673,"BEXLEY YOUTH TRAINING GROUP","Advanced and Higher Apprenticeships: Health, Public Services and Care",".",".",".",null,20,94,"fourth quintile",null,".",".",".",null,10,100,"top quintile",null,".",".",".",null,10,85,"bottom quintile"]
[10000673,"BEXLEY YOUTH TRAINING GROUP","Advanced and Higher Apprenticeships: Retail and Commercial Enterprise",".",".",".",null,20,94,"top quintile",null,".",".",".",null,"x","x","x",null,".",".",".",null,10,92,"fourth quintile"]
[10000673,"BEXLEY YOUTH TRAINING GROUP","Intermediate Apprenticeships: Business, Administration and Law","x","x","x",null,50,88,"bottom quintile",null,"x","x","x",null,40,83,"bottom quintile",null,"x","x","x",null,60,93,"fourth quintile"]
[10000673,"BEXLEY YOUTH TRAINING GROUP","Intermediate Apprenticeships: Health, Public Services and Care","x","x","x",null,20,91,"second quintile",null,"x","x","x",null,30,72,"bottom quintile",null,"x","x","x",null,40,81,"bottom quintile"]
[10000673,"BEXLEY YOUTH TRAINING GROUP","Intermediate Apprenticeships: Retail and Commercial Enterprise","x","x","x",null,30,72,"bottom quintile",null,"x","x","x",null,30,90,"second quintile",null,".",".",".",null,30,64,"bottom quintile"]
[10000673,"BEXLEY YOUTH TRAINING GROUP","Traineeships","x","x","x",null,20,84,"top quintile",null,"x","x","x",null,80,58,"bottom quintile",null,"x","x","x",null,160,65,"third quintile"]
[10019980,"BHS LIMITED","LLDD learner",".",".",".",null,20,96,"top quintile",null,".",".",".",null,20,100,"top quintile",null,".",".",".",null,20,73,"fourth quintile"]
[10019980,"BHS LIMITED","Advanced and Higher Apprenticeships: Retail and Commercial Enterprise",".",".",".",null,80,99,"top quintile",null,".",".",".",null,80,99,"top quintile",null,".",".",".",null,10,86,"second quintile"]
[10019980,"BHS LIMITED","Intermediate Apprenticeships: Business, Administration and Law",".",".",".",null,"x","x","x",null,".",".",".",null,10,93,"third quintile",null,".",".",".",null,10,100,"top quintile"]
[10000683,"BICTON COLLEGE","Full Level 3+: Agriculture, Horticulture and Animal Care","x","x","x",null,50,86,"third quintile",null,"x","x","x",null,20,79,"bottom quintile",null,".",".",".",null,".",".","."]
[10000703,"BIRMINGHAM CITY COUNCIL","Other Level 3","x","x","x",null,20,47,"bottom quintile",null,"x","x","x",null,40,81,"fourth quintile",null,"x","x","x",null,"x","x","x"]
[10000703,"BIRMINGHAM CITY COUNCIL","Other provision below Full Level 2",520,58,"top quintile",null,2900,76,"third quintile",null,330,59,"top quintile",null,1970,75,"third quintile",null,170,52,"third quintile",null,1180,76,"third quintile"]
[10006442,"BIRMINGHAM METROPOLITAN COLLEGE","Full Level 3+: Construction, Planning and the Built Environment","x","x","x",null,30,85,"fourth quintile",null,"x","x","x",null,60,78,"second quintile",null,"x","x","x",null,30,74,"third quintile"]
[10006442,"BIRMINGHAM METROPOLITAN COLLEGE","Access to HE",90,84,"second quintile",null,540,90,"second quintile",null,60,84,"second quintile",null,420,89,"second quintile",null,40,77,"bottom quintile",null,460,88,"second quintile"]
[10006442,"BIRMINGHAM METROPOLITAN COLLEGE","Full Level 2: Information and Communication Technology",30,70,"top quintile",null,40,88,"top quintile",null,30,77,"top quintile",null,20,86,"fourth quintile",null,10,75,"top quintile",null,"x","x","x"]
[10006442,"BIRMINGHAM METROPOLITAN COLLEGE","Traineeships",".",".",".",null,".",".",".",null,"x","x","x",null,30,61,"second quintile",null,".",".",".",null,".",".","."]
[10000720,"BISHOP AUCKLAND COLLEGE","Full Level 3+: Education and Training",".",".",".",null,30,88,"second quintile",null,"x","x","x",null,10,100,"top quintile",null,"x","x","x",null,40,83,"second quintile"]
[10000720,"BISHOP AUCKLAND COLLEGE","Full Level 2: Business, Administration and Law",10,27,"bottom quintile",null,90,96,"top quintile",null,".",".",".",null,90,91,"fourth quintile",null,"x","x","x",null,80,90,"third quintile"]
[10000721,"BISHOP BURTON COLLEGE","Other provision below Full Level 2",20,50,"second quintile",null,"x","x","x",null,"x","x","x",null,"x","x","x",null,"x","x","x",null,"x","x","x"]
[10000747,"BLACKBURN COLLEGE","Full Level 3+: Arts, Media and Publishing","x","x","x",null,40,79,"second quintile",null,"x","x","x",null,40,86,"fourth quintile",null,"x","x","x",null,30,88,"top quintile"]
[10000747,"BLACKBURN COLLEGE","Full Level 3+: Information and Communication Technology",".",".",".",null,"x","x","x",null,".",".",".",null,20,67,"bottom quintile",null,".",".",".",null,"x","x","x"]
[10000747,"BLACKBURN COLLEGE","Full Level 2: Information and Communication Technology","x","x","x",null,20,69,"bottom quintile",null,".",".",".",null,".",".",".",null,20,52,"bottom quintile",null,"x","x","x"]
[10000748,"BLACKBURN WITH DARWEN UNITARY AUTHORITY","English & Maths","x","x","x",null,30,77,"third quintile",null,".",".",".",null,".",".",".",null,".",".",".",null,".",".","."]
[10000754,"BLACKPOOL AND THE FYLDE COLLEGE","Full Level 3+: Education and Training","x","x","x",null,20,93,"third quintile",null,"x","x","x",null,20,87,"second quintile",null,"x","x","x",null,80,90,"fourth quintile"]
[10000754,"BLACKPOOL AND THE FYLDE COLLEGE","Intermediate Apprenticeships: Construction, Planning and the Built Environment",".",".",".",null,"x","x","x",null,".",".",".",null,30,89,"second quintile",null,".",".",".",null,20,91,"top quintile"]
[10000755,"BLACKPOOL UNITARY AUTHORITY","LLDD learner",20,45,"third quintile",null,90,34,"bottom quintile",null,"x","x","x",null,30,67,"third quintile",null,"x","x","x",null,40,64,"second quintile"]
[10000952,"BMC (BROOKSBY MELTON COLLEGE)","Intermediate Apprenticeships: Agriculture, Horticulture and Animal Care",".",".",".",null,30,92,"fourth quintile",null,"x","x","x",null,30,94,"fourth quintile",null,".",".",".",null,30,85,"third quintile"]
[10000952,"BMC (BROOKSBY MELTON COLLEGE)","English & Maths",".",".",".",null,20,75,"second quintile",null,"x","x","x",null,10,79,"third quintile",null,".",".",".",null,"x","x","x"]
[10000794,"BOLTON COLLEGE","Full Level 3+: Construction, Planning and the Built Environment","x","x","x",null,40,74,"bottom quintile",null,"x","x","x",null,40,79,"third quintile",null,".",".",".",null,10,100,"top quintile"]
[10000794,"BOLTON COLLEGE","Intermediate Apprenticeships: Construction, Planning and the Built Environment",".",".",".",null,20,80,"bottom quintile",null,".",".",".",null,30,81,"bottom quintile",null,".",".",".",null,20,71,"bottom quintile"]
[10000794,"BOLTON COLLEGE","Full Level 2: Preparation for Life and Work","x","x","x",null,"x","x","x",null,"x","x","x",null,20,94,"top quintile",null,".",".",".",null,".",".","."]
[10005143,"BOROUGH OF POOLE","Other Level 3","x","x","x",null,20,88,"second quintile",null,".",".",".",null,10,83,"fourth quintile",null,".",".",".",null,".",".","."]
[10005143,"BOROUGH OF POOLE","Full Level 2: Health, Public Services and Care",10,79,"top quintile",null,80,81,"bottom quintile",null,"x","x","x",null,60,77,"bottom quintile",null,"x","x","x",null,40,71,"bottom quintile"]
[10042884,"BOSCH AUTOMOTIVE SERVICE SOLUTIONS LTD","LLDD learner",".",".",".",null,"x","x","x",null,".",".",".",null,10,100,"top quintile",null,".",".",".",null,20,94,"top quintile"]
[10000812,"BOSTON COLLEGE","Other Level 3",20,50,"bottom quintile",null,80,77,"second quintile",null,".",".",".",null,"x","x","x",null,".",".",".",null,"x","x","x"]
[10000812,"BOSTON COLLEGE","Full Level 2: Leisure, Travel and Tourism",".",".",".",null,"x","x","x",null,".",".",".",null,10,92,"fourth quintile",null,".",".",".",null,"x","x","x"]
[10000820,"BOURNEMOUTH AND POOLE COLLEGE, THE","Full Level 3+: Arts, Media and Publishing",".",".",".",null,60,78,"second quintile",null,"x","x","x",null,40,87,"fourth quintile",null,"x","x","x",null,40,86,"fourth quintile"]
[10000820,"BOURNEMOUTH AND POOLE COLLEGE, THE","Access to HE",20,88,"third quintile",null,290,91,"third quintile",null,"x","x","x",null,240,90,"second quintile",null,"x","x","x",null,200,96,"top quintile"]
[10000820,"BOURNEMOUTH AND POOLE COLLEGE, THE","Full Level 2: Engineering and Manufacturing Technologies",20,63,"third quintile",null,30,84,"third quintile",null,10,73,"top quintile",null,30,75,"bottom quintile",null,"x","x","x",null,20,80,"third quintile"]
[10000820,"BOURNEMOUTH AND POOLE COLLEGE, THE","English & Maths","x","x","x",null,240,83,"fourth quintile",null,"x","x","x",null,200,82,"fourth quintile",null,"x","x","x",null,150,81,"fourth quintile"]
[10000825,"BOURNVILLE COLLEGE","Full Level 3+: Retail and Commercial Enterprise","x","x","x",null,40,61,"bottom quintile",null,"x","x","x",null,50,76,"fourth quintile",null,"x","x","x",null,50,57,"bottom quintile"]
[10000825,"BOURNVILLE COLLEGE","Intermediate Apprenticeships: Engineering and Manufacturing Technologies","x","x","x",null,60,89,"bottom quintile",null,"x","x","x",null,20,93,"second quintile",null,30,74,"second quintile",null,70,84,"bottom quintile"]
[10000825,"BOURNVILLE COLLEGE","Full Level 2: Languages, Literature and Culture","x","x","x",null,10,67,"bottom quintile",null,"x","x","x",null,20,89,"fourth quintile",null,"x","x","x",null,40,95,"top quintile"]
[10000831,"BPP HOLDINGS LIMITED","Intermediate Apprenticeships: Business, Administration and Law",".",".",".",null,130,96,"top quintile",null,".",".",".",null,200,95,"top quintile",null,"x","x","x",null,220,97,"top quintile"]
[10000833,"BRACKNELL AND WOKINGHAM COLLEGE","Intermediate Apprenticeships: Health, Public Services and Care",".",".",".",null,10,100,"top quintile",null,".",".",".",null,20,87,"bottom quintile",null,".",".",".",null,20,94,"top quintile"]
[10000833,"BRACKNELL AND WOKINGHAM COLLEGE","Full Level 2: Health, Public Services and Care","x","x","x",null,40,84,"bottom quintile",null,"x","x","x",null,50,100,"top quintile",null,".",".",".",null,40,100,"top quintile"]
[10000850,"BRADFORD CITY COUNCIL","English & Maths",20,50,"second quintile",null,60,72,"second quintile",null,30,46,"second quintile",null,100,72,"second quintile",null,10,70,"top quintile",null,110,68,"bottom quintile"]
[10000840,"BRADFORD COLLEGE","Full Level 3+: Business, Administration and Law",20,67,"third quintile",null,60,72,"bottom quintile",null,"x","x","x",null,50,83,"bottom quintile",null,"x","x","x",null,60,78,"second quintile"]
[10000840,"BRADFORD COLLEGE","Full Level 3+: Social Sciences","x","x","x",null,"x","x","x",null,"x","x","x",null,10,85,"third quintile",null,".",".",".",null,"x","x","x"]
[10000840,"BRADFORD COLLEGE","Full Level 2: Education and Training","x","x","x",null,10,85,"third quintile",null,"x","x","x",null,30,72,"bottom quintile",null,"x","x","x",null,20,55,"bottom quintile"]
[10000863,"BRENT LONDON BOROUGH COUNCIL","English & Maths",70,60,"fourth quintile",null,320,72,"second quintile",null,40,53,"third quintile",null,280,76,"third quintile",null,30,56,"fourth quintile",null,210,73,"second quintile"]
[10000878,"BRIDGWATER COLLEGE","Advanced and Higher Apprenticeships: Agriculture, Horticulture and Animal Care",".",".",".",null,20,90,"fourth quintile",null,".",".",".",null,20,84,"bottom quintile",null,".",".",".",null,30,84,"second quintile"]
[10000878,"BRIDGWATER COLLEGE","Intermediate Apprenticeships: Agriculture, Horticulture and Animal Care",".",".",".",null,20,82,"second quintile",null,"x","x","x",null,30,88,"third quintile",null,".",".",".",null,40,75,"bottom quintile"]
[10000878,"BRIDGWATER COLLEGE","Full Level 2: Construction, Planning and the Built Environment",20,94,"top quintile",null,120,90,"fourth quintile",null,"x","x","x",null,110,90,"fourth quintile",null,"x","x","x",null,130,80,"fourth quintile"]
[10000878,"BRIDGWATER COLLEGE","Other provision below Full Level 2",510,65,"top quintile",null,650,85,"top quintile",null,210,63,"top quintile",null,800,87,"top quintile",null,70,49,"second quintile",null,640,86,"top quintile"]
[10000896,"BRISTOL CITY COUNCIL","Advanced and Higher Apprenticeships: Construction, Planning and the Built Environment",".",".",".",null,"x","x","x",null,".",".",".",null,"x","x","x",null,".",".",".",null,10,60,"bottom quintile"]
[10033440,"BRITISH ARMY","Advanced and Higher Apprenticeships: Business, Administration and Law",".",".",".",null,30,81,"bottom quintile",null,".",".",".",null,20,100,"top quintile",null,".",".",".",null,20,76,"bottom quintile"]
[10000915,"BRITISH GAS SERVICES LIMITED","Advanced and Higher Apprenticeships: Engineering and Manufacturing Technologies","x","x","x",null,20,100,"top quintile",null,".",".",".",null,10,100,"top quintile",null,"x","x","x",null,100,33,"bottom quintile"]
[10000941,"BROADLAND DISTRICT COUNCIL","Intermediate Apprenticeships: Retail and Commercial Enterprise",".",".",".",null,40,89,"second quintile",null,".",".",".",null,30,76,"bottom quintile",null,".",".",".",null,30,88,"third quintile"]
[10000944,"BROCKENHURST COLLEGE","Full Level 3+: Retail and Commercial Enterprise","x","x","x",null,"x","x","x",null,".",".",".",null,"x","x","x",null,".",".",".",null,10,70,"third quintile"]
[10000944,"BROCKENHURST COLLEGE","Full Level 2: Education and Training","x","x","x",null,40,88,"fourth quintile",null,"x","x","x",null,30,96,"top quintile",null,".",".",".",null,20,93,"top quintile"]
[10000944,"BROCKENHURST COLLEGE","English & Maths","x","x","x",null,80,93,"top quintile",null,"x","x","x",null,90,92,"top quintile",null,"x","x","x",null,30,82,"fourth quintile"]
[10000948,"BROMLEY COLLEGE OF FURTHER AND HIGHER EDUCATION","Full Level 3+: Science and Mathematics","x","x","x",null,30,84,"second quintile",null,"x","x","x",null,20,86,"second quintile",null,"x","x","x",null,10,90,"fourth quintile"]
[10000948,"BROMLEY COLLEGE OF FURTHER AND HIGHER EDUCATION","Intermediate Apprenticeships: Health, Public Services and Care",".",".",".",null,20,88,"bottom quintile",null,".",".",".",null,10,100,"top quintile",null,".",".",".",null,20,76,"bottom quintile"]
[10000948,"BROMLEY COLLEGE OF FURTHER AND HIGHER EDUCATION","Full Level 2: Science and Mathematics","x","x","x",null,70,89,"third quintile",null,"x","x","x",null,110,91,"fourth quintile",null,"x","x","x",null,110,89,"fourth quintile"]
[10000950,"BROOKLANDS COLLEGE","LLDD learner",70,50,"fourth quintile",null,240,71,"fourth quintile",null,30,38,"bottom quintile",null,210,73,"fourth quintile",null,20,56,"top quintile",null,240,71,"third quintile"]
[10000950,"BROOKLANDS COLLEGE","Full Level 3+: Retail and Commercial Enterprise",".",".",".",null,10,86,"top quintile",null,".",".",".",null,"x","x","x",null,".",".",".",null,"x","x","x"]
[10000950,"BROOKLANDS COLLEGE","Full Level 2: Languages, Literature and Culture",".",".",".",null,20,89,"fourth quintile",null,"x","x","x",null,20,100,"top quintile",null,".",".",".",null,"x","x","x"]
[10039535,"BROOKS & KIRK LIMITED","Other Level 3",".",".",".",null,".",".",".",null,"x","x","x",null,20,94,"top quintile",null,".",".",".",null,".",".","."]
[10000488,"B-SKILL LIMITED","Full Level 3+: Health, Public Services and Care",".",".",".",null,".",".",".",null,".",".",".",null,".",".",".",null,"x","x","x",null,50,65,"bottom quintile"]
[10000976,"BUCKINGHAMSHIRE COUNTY COUNCIL","Full Level 3+: Health, Public Services and Care",".",".",".",null,10,93,"top quintile",null,".",".",".",null,10,86,"third quintile",null,".",".",".",null,"x","x","x"]
[10009063,"BUILDING CRAFTS COLLEGE","Intermediate Apprenticeships: Construction, Planning and the Built Environment","x","x","x",null,20,94,"top quintile",null,".",".",".",null,"x","x","x",null,".",".",".",null,20,100,"top quintile"]
[10000984,"BUILDING ENGINEERING SERVICES TRAINING LIMITED","Intermediate Apprenticeships: Construction, Planning and the Built Environment",".",".",".",null,10,93,"top quintile",null,".",".",".",null,"x","x","x",null,".",".",".",null,".",".","."]
[10001000,"BURNLEY COLLEGE","Advanced and Higher Apprenticeships: Engineering and Manufacturing Technologies","x","x","x",null,40,93,"third quintile",null,".",".",".",null,20,85,"bottom quintile",null,"x","x","x",null,110,90,"third quintile"]
[10001000,"BURNLEY COLLEGE","Full Level 2: Education and Training","x","x","x",null,60,77,"second quintile",null,10,69,"top quintile",null,80,70,"bottom quintile",null,"x","x","x",null,50,69,"bottom quintile"]
[10001004,"BURTON AND SOUTH DERBYSHIRE COLLEGE","Advanced and Higher Apprenticeships: Health, Public Services and Care",".",".",".",null,30,93,"third quintile",null,"x","x","x",null,10,92,"third quintile",null,".",".",".",null,"x","x","x"]
[10001004,"BURTON AND SOUTH DERBYSHIRE COLLEGE","Full Level 3+: Health, Public Services and Care",".",".",".",null,40,85,"second quintile",null,"x","x","x",null,20,70,"bottom quintile",null,".",".",".",null,20,75,"bottom quintile"]
[10001004,"BURTON AND SOUTH DERBYSHIRE COLLEGE","Full Level 2: Health, Public Services and Care",20,76,"top quintile",null,670,91,"second quintile",null,"x","x","x",null,240,85,"bottom quintile",null,"x","x","x",null,380,91,"third quintile"]
[10001005,"BURY COLLEGE","Advanced and Higher Apprenticeships: Engineering and Manufacturing Technologies",".",".",".",null,10,100,"top quintile",null,"x","x","x",null,"x","x","x",null,".",".",".",null,"x","x","x"]
[10001005,"BURY COLLEGE","Full Level 3+: Retail and Commercial Enterprise","x","x","x",null,40,79,"fourth quintile",null,"x","x","x",null,40,72,"third quintile",null,"x","x","x",null,20,71,"third quintile"]
[10001005,"BURY COLLEGE","Full Level 2: Health, Public Services and Care","x","x","x",null,110,90,"second quintile",null,"x","x","x",null,30,89,"second quintile",null,"x","x","x",null,30,67,"bottom quintile"]
[10001008,"BURY METROPOLITAN BOROUGH COUNCIL","LLDD learner",190,42,"second quintile",null,260,48,"bottom quintile",null,150,47,"fourth quintile",null,250,57,"second quintile",null,110,48,"fourth quintile",null,140,66,"second quintile"]
[10023403,"BUSINESS IMPACT UK LIMITED","Full Level 2: Engineering and Manufacturing Technologies",130,70,"fourth quintile",null,40,78,"second quintile",null,30,81,"top quintile",null,10,90,"fourth quintile",null,".",".",".",null,".",".","."]
[10001078,"CABLECOM TRAINING LIMITED","Full Level 2: Engineering and Manufacturing Technologies",".",".",".",null,".",".",".",null,".",".",".",null,90,94,"top quintile",null,"x","x","x",null,20,67,"bottom quintile"]
[10001093,"CALDERDALE COLLEGE","Advanced and Higher Apprenticeships: Construction, Planning and the Built Environment",".",".",".",null,"x","x","x",null,".",".",".",null,10,100,"top quintile",null,".",".",".",null,10,82,"bottom quintile"]
[10001093,"CALDERDALE COLLEGE","Intermediate Apprenticeships: Business, Administration and Law","x","x","x",null,30,91,"second quintile",null,"x","x","x",null,60,95,"top quintile",null,".",".",".",null,60,97,"top quintile"]
[10001093,"CALDERDALE COLLEGE","Full Level 2: Languages, Literature and Culture","x","x","x",null,30,85,"third quintile",null,"x","x","x",null,70,94,"top quintile",null,".",".",".",null,40,91,"fourth quintile"]
[10001094,"CALDERDALE METROPOLITAN BOROUGH COUNCIL","Other Level 3","x","x","x",null,50,91,"fourth quintile",null,".",".",".",null,".",".",".",null,".",".",".",null,".",".","."]
[10001116,"CAMBRIDGE REGIONAL COLLEGE","Full Level 3+: Arts, Media and Publishing","x","x","x",null,40,92,"top quintile",null,"x","x","x",null,30,80,"second quintile",null,".",".",".",null,40,72,"bottom quintile"]
[10001116,"CAMBRIDGE REGIONAL COLLEGE","Full Level 3+: Health, Public Services and Care",".",".",".",null,50,91,"fourth quintile",null,".",".",".",null,20,94,"top quintile",null,".",".",".",null,20,81,"second quintile"]
[10001116,"CAMBRIDGE REGIONAL COLLEGE","Full Level 2: Preparation for Life and Work",".",".",".",null,50,93,"fourth quintile",null,"x","x","x",null,300,93,"fourth quintile",null,".",".",".",null,40,97,"top quintile"]
[10001123,"CAMBRIDGESHIRE COUNTY COUNCIL","Full Level 2: Languages, Literature and Culture","x","x","x",null,"x","x","x",null,".",".",".",null,"x","x","x",null,".",".",".",null,10,100,"top quintile"]
[10001144,"CANTERBURY COLLEGE","Advanced and Higher Apprenticeships: Engineering and Manufacturing Technologies",".",".",".",null,10,92,"third quintile",null,".",".",".",null,30,86,"bottom quintile",null,".",".",".",null,20,80,"bottom quintile"]
[10001144,"CANTERBURY COLLEGE","Full Level 3+: Construction, Planning and the Built Environment","x","x","x",null,30,86,"fourth quintile",null,"x","x","x",null,30,57,"bottom quintile",null,"x","x","x",null,30,63,"bottom quintile"]
[10001144,"CANTERBURY COLLEGE","Full Level 2: Business, Administration and Law","x","x","x",null,70,91,"fourth quintile",null,"x","x","x",null,20,100,"top quintile",null,"x","x","x",null,30,88,"third quintile"]
[10001144,"CANTERBURY COLLEGE","Full Level 2: Science and Mathematics","x","x","x",null,50,85,"second quintile",null,"x","x","x",null,60,89,"third quintile",null,"x","x","x",null,40,88,"third quintile"]
[10001148,"CAPEL MANOR COLLEGE","Full Level 2: Agriculture, Horticulture and Animal Care",50,67,"fourth quintile",null,440,80,"second quintile",null,30,62,"third quintile",null,350,81,"second quintile",null,20,73,"top quintile",null,290,84,"third quintile"]
[10022461,"CAPITAL ENGINEERING GROUP HOLDINGS LTD","Advanced and Higher Apprenticeships: Health, Public Services and Care","x","x","x",null,20,95,"fourth quintile",null,".",".",".",null,".",".",".",null,".",".",".",null,"x","x","x"]
[10001193,"CARILLION CONSTRUCTION LIMITED","Intermediate Apprenticeships: Construction, Planning and the Built Environment","x","x","x",null,500,85,"second quintile",null,"x","x","x",null,450,83,"bottom quintile",null,"x","x","x",null,410,74,"bottom quintile"]
[10001196,"CARLISLE COLLEGE","LLDD learner",20,52,"top quintile",null,130,80,"top quintile",null,20,60,"top quintile",null,150,76,"top quintile",null,"x","x","x",null,100,80,"top quintile"]
[10001196,"CARLISLE COLLEGE","Intermediate Apprenticeships: Retail and Commercial Enterprise",".",".",".",null,"x","x","x",null,".",".",".",null,"x","x","x",null,".",".",".",null,10,85,"bottom quintile"]
[10001207,"CARSHALTON COLLEGE","Advanced and Higher Apprenticeships: Education and Training",".",".",".",null,20,89,"second quintile",null,".",".",".",null,10,100,"top quintile",null,".",".",".",null,".",".","."]
[10001207,"CARSHALTON COLLEGE","Full Level 3+: Arts, Media and Publishing",".",".",".",null,20,89,"fourth quintile",null,"x","x","x",null,"x","x","x",null,".",".",".",null,10,64,"bottom quintile"]
[10001207,"CARSHALTON COLLEGE","Full Level 2: Engineering and Manufacturing Technologies","x","x","x",null,"x","x","x",null,"x","x","x",null,40,94,"top quintile",null,"x","x","x",null,50,96,"top quintile"]
[10025727,"CATCH 22 CHARITY LIMITED","Advanced and Higher Apprenticeships: Leisure, Travel and Tourism",".",".",".",null,10,85,"second quintile",null,".",".",".",null,20,82,"second quintile",null,".",".",".",null,50,87,"third quintile"]
[10002061,"CENTRAL BEDFORDSHIRE COLLEGE","Full Level 3+: Business, Administration and Law","x","x","x",null,90,95,"fourth quintile",null,"x","x","x",null,"x","x","x",null,"x","x","x",null,"x","x","x"]
[10002061,"CENTRAL BEDFORDSHIRE COLLEGE","Full Level 2: Construction, Planning and the Built Environment",10,73,"top quintile",null,40,95,"top quintile",null,"x","x","x",null,30,96,"top quintile",null,"x","x","x",null,60,88,"top quintile"]
[10005991,"CENTRAL COLLEGE NOTTINGHAM","LLDD learner",640,42,"second quintile",null,1540,63,"second quintile",null,400,45,"second quintile",null,1790,61,"second quintile",null,200,48,"fourth quintile",null,1690,66,"second quintile"]
[10005991,"CENTRAL COLLEGE NOTTINGHAM","Advanced and Higher Apprenticeships: Business, Administration and Law","x","x","x",null,120,93,"second quintile",null,".",".",".",null,60,91,"bottom quintile",null,"x","x","x",null,90,84,"bottom quintile"]
[10005991,"CENTRAL COLLEGE NOTTINGHAM","Intermediate Apprenticeships: Construction, Planning and the Built Environment","x","x","x",null,30,79,"bottom quintile",null,".",".",".",null,"x","x","x",null,"x","x","x",null,"x","x","x"]
[10005991,"CENTRAL COLLEGE NOTTINGHAM","Full Level 2: Construction, Planning and the Built Environment",10,82,"top quintile",null,90,87,"fourth quintile",null,"x","x","x",null,20,80,"third quintile",null,"x","x","x",null,60,66,"second quintile"]
[10005991,"CENTRAL COLLEGE NOTTINGHAM","Full Level 2: Retail and Commercial Enterprise",40,83,"top quintile",null,310,84,"fourth quintile",null,30,75,"top quintile",null,260,83,"fourth quintile",null,20,53,"third quintile",null,130,78,"fourth quintile"]
[10001744,"CENTRAL SUSSEX COLLEGE","Full Level 3+: Engineering and Manufacturing Technologies","x","x","x",null,50,98,"top quintile",null,"x","x","x",null,30,92,"fourth quintile",null,"x","x","x",null,20,89,"fourth quintile"]
[10001744,"CENTRAL SUSSEX COLLEGE","Full Level 2: Health, Public Services and Care","x","x","x",null,340,92,"third quintile",null,".",".",".",null,200,90,"second quintile",null,"x","x","x",null,200,90,"third quintile"]
[10001744,"CENTRAL SUSSEX COLLEGE","English for Speakers of Other Languages (ESOL)",50,64,"fourth quintile",null,350,72,"fourth quintile",null,20,74,"top quintile",null,210,68,"third quintile",null,".",".",".",null,".",".","."]
[10024603,"CHAPMAN BENNETT ASSOCIATES LIMITED","Advanced and Higher Apprenticeships: Business, Administration and Law",".",".",".",null,100,88,"bottom quintile",null,".",".",".",null,130,89,"bottom quintile",null,".",".",".",null,80,91,"second quintile"]
[10001326,"CHARNWOOD TRAINING GROUP LIMITED","Full Level 3+: Education and Training","x","x","x",null,20,87,"second quintile",null,".",".",".",null,"x","x","x",null,".",".",".",null,".",".","."]
[10001346,"CHEADLE AND MARPLE SIXTH FORM COLLEGE","Access to HE",10,67,"bottom quintile",null,90,91,"third quintile",null,"x","x","x",null,120,90,"second quintile",null,".",".",".",null,40,86,"bottom quintile"]
[10001346,"CHEADLE AND MARPLE SIXTH FORM COLLEGE","Other provision below Full Level 2","x","x","x",null,30,67,"second quintile",null,"x","x","x",null,"x","x","x",null,60,65,"top quintile",null,20,56,"bottom quintile"]
[10001353,"CHELMSFORD COLLEGE","Full Level 2: Business, Administration and Law","x","x","x",null,30,94,"top quintile",null,"x","x","x",null,20,100,"top quintile",null,"x","x","x",null,20,100,"top quintile"]
[10001353,"CHELMSFORD COLLEGE","English & Maths",".",".",".",null,20,74,"second quintile",null,".",".",".",null,20,79,"third quintile",null,"x","x","x",null,20,76,"third quintile"]
[10024294,"CHESHIRE WEST AND CHESTER COUNCIL","Other provision below Full Level 2",450,58,"top quintile",null,70,56,"bottom quintile",null,320,57,"fourth quintile",null,120,58,"bottom quintile",null,330,56,"fourth quintile",null,90,62,"second quintile"]
[10001378,"CHESTERFIELD COLLEGE","Intermediate Apprenticeships: Business, Administration and Law","x","x","x",null,240,94,"fourth quintile",null,20,94,"fourth quintile",null,340,93,"third quintile",null,"x","x","x",null,260,90,"second quintile"]
[10001378,"CHESTERFIELD COLLEGE","Full Level 2: Languages, Literature and Culture",".",".",".",null,"x","x","x",null,".",".",".",null,20,91,"top quintile",null,"x","x","x",null,40,89,"fourth quintile"]
[10008159,"CHEYNE'S (MANAGEMENT) LIMITED","Advanced and Higher Apprenticeships: Retail and Commercial Enterprise",".",".",".",null,40,90,"second quintile",null,".",".",".",null,70,90,"second quintile",null,"x","x","x",null,110,86,"second quintile"]
[10007817,"CHICHESTER COLLEGE","Full Level 3+: Construction, Planning and the Built Environment","x","x","x",null,10,69,"bottom quintile",null,".",".",".",null,10,85,"fourth quintile",null,".",".",".",null,10,100,"top quintile"]
[10007817,"CHICHESTER COLLEGE","Full Level 3+: Science and Mathematics",".",".",".",null,20,100,"top quintile",null,".",".",".",null,"x","x","x",null,".",".",".",null,"x","x","x"]
[10007817,"CHICHESTER COLLEGE","Full Level 2: Agriculture, Horticulture and Animal Care","x","x","x",null,40,86,"third quintile",null,"x","x","x",null,40,84,"third quintile",null,".",".",".",null,40,86,"fourth quintile"]
[10007817,"CHICHESTER COLLEGE","Other provision below Full Level 2",1170,54,"fourth quintile",null,1050,88,"top quintile",null,390,59,"top quintile",null,270,85,"top quintile",null,30,40,"bottom quintile",null,80,86,"top quintile"]
[10001394,"CHILTERN TRAINING LIMITED","Full Level 3+: Education and Training",".",".",".",null,".",".",".",null,".",".",".",null,"x","x","x",null,".",".",".",null,20,100,"top quintile"]
[10001446,"CIRENCESTER COLLEGE","English & Maths",".",".",".",null,"x","x","x",null,"x","x","x",null,10,80,"fourth quintile",null,".",".",".",null,"x","x","x"]
[10001452,"CITY AND ISLINGTON COLLEGE","Advanced and Higher Apprenticeships: Health, Public Services and Care",".",".",".",null,"x","x","x",null,".",".",".",null,"x","x","x",null,".",".",".",null,20,85,"bottom quintile"]
[10001452,"CITY AND ISLINGTON COLLEGE","Access to HE",40,83,"bottom quintile",null,210,88,"second quintile",null,40,95,"top quintile",null,200,87,"bottom quintile",null,30,79,"second quintile",null,210,86,"bottom quintile"]
[10001452,"CITY AND ISLINGTON COLLEGE","Full Level 2: Engineering and Manufacturing Technologies",100,47,"bottom quintile",null,170,80,"second quintile",null,90,48,"bottom quintile",null,30,54,"bottom quintile",null,50,56,"second quintile",null,"x","x","x"]
[10001457,"CITY COLLEGE BRIGHTON AND HOVE","Advanced and Higher Apprenticeships: Business, Administration and Law",".",".",".",null,30,88,"bottom quintile",null,".",".",".",null,20,100,"top quintile",null,".",".",".",null,20,95,"fourth quintile"]
[10001457,"CITY COLLEGE BRIGHTON AND HOVE","Access to HE",20,94,"top quintile",null,120,90,"third quintile",null,20,87,"third quintile",null,140,92,"fourth quintile",null,"x","x","x",null,130,93,"fourth quintile"]
[10001457,"CITY COLLEGE BRIGHTON AND HOVE","Full Level 2: Business, Administration and Law",10,100,"top quintile",null,110,85,"second quintile",null,10,100,"top quintile",null,100,89,"third quintile",null,"x","x","x",null,20,86,"second quintile"]
[10001457,"CITY COLLEGE BRIGHTON AND HOVE","English & Maths",20,93,"top quintile",null,100,80,"fourth quintile",null,"x","x","x",null,60,85,"fourth quintile",null,"x","x","x",null,50,81,"fourth quintile"]
[10001458,"CITY COLLEGE COVENTRY","Full Level 3+: Retail and Commercial Enterprise","x","x","x",null,20,68,"second quintile",null,".",".",".",null,20,67,"second quintile",null,".",".",".",null,"x","x","x"]
[10001458,"CITY COLLEGE COVENTRY","Full Level 2: Retail and Commercial Enterprise",10,50,"second quintile",null,50,67,"bottom quintile",null,".",".",".",null,50,63,"bottom quintile",null,"x","x","x",null,20,75,"third quintile"]
[10004772,"CITY COLLEGE NORWICH","Advanced and Higher Apprenticeships: Engineering and Manufacturing Technologies",".",".",".",null,20,94,"fourth quintile",null,".",".",".",null,40,94,"fourth quintile",null,".",".",".",null,50,92,"third quintile"]
[10004772,"CITY COLLEGE NORWICH","Full Level 2: Health, Public Services and Care","x","x","x",null,20,90,"second quintile",null,".",".",".",null,"x","x","x",null,".",".",".",null,"x","x","x"]
[10009263,"CITY COLLEGE NOTTINGHAM","Full Level 3+: Health, Public Services and Care",".",".",".",null,".",".",".",null,".",".",".",null,".",".",".",null,"x","x","x",null,10,50,"bottom quintile"]
[10005128,"CITY COLLEGE PLYMOUTH","Full Level 3+: Science and Mathematics","x","x","x",null,10,85,"second quintile",null,".",".",".",null,10,100,"top quintile",null,".",".",".",null,10,92,"top quintile"]
[10005128,"CITY COLLEGE PLYMOUTH","Full Level 2: Retail and Commercial Enterprise",20,79,"top quintile",null,180,76,"second quintile",null,50,51,"second quintile",null,120,82,"fourth quintile",null,"x","x","x",null,190,88,"top quintile"]
[10005128,"CITY COLLEGE PLYMOUTH","English & Maths",30,48,"second quintile",null,130,84,"fourth quintile",null,10,83,"top quintile",null,90,82,"fourth quintile",null,10,67,"top quintile",null,120,75,"second quintile"]
[10019383,"CITY GATEWAY","English for Speakers of Other Languages (ESOL)","x","x","x",null,20,53,"bottom quintile",null,".",".",".",null,"x","x","x",null,".",".",".",null,".",".","."]
[10001467,"CITY OF BRISTOL COLLEGE","Full Level 3+: Science and Mathematics","x","x","x",null,30,90,"third quintile",null,"x","x","x",null,50,96,"fourth quintile",null,".",".",".",null,40,94,"top quintile"]
[10001467,"CITY OF BRISTOL COLLEGE","Other Level 3",30,76,"fourth quintile",null,150,88,"third quintile",null,"x","x","x",null,30,96,"top quintile",null,".",".",".",null,20,100,"top quintile"]
[10001467,"CITY OF BRISTOL COLLEGE","Other provision below Full Level 2",1020,52,"fourth quintile",null,1130,73,"third quintile",null,610,54,"fourth quintile",null,490,58,"bottom quintile",null,440,55,"fourth quintile",null,660,69,"second quintile"]
[10001476,"CITY OF WESTMINSTER COLLEGE","Full Level 3+: Leisure, Travel and Tourism",".",".",".",null,20,59,"bottom quintile",null,".",".",".",null,20,65,"bottom quintile",null,".",".",".",null,"x","x","x"]
[10001476,"CITY OF WESTMINSTER COLLEGE","Full Level 2: Health, Public Services and Care",210,59,"second quintile",null,40,64,"bottom quintile",null,"x","x","x",null,20,80,"bottom quintile",null,".",".",".",null,"x","x","x"]
[10007578,"CITY OF WOLVERHAMPTON COLLEGE","LLDD learner",90,49,"fourth quintile",null,290,55,"bottom quintile",null,40,63,"top quintile",null,280,75,"fourth quintile",null,20,59,"top quintile",null,190,71,"third quintile"]
[10007578,"CITY OF WOLVERHAMPTON COLLEGE","Full Level 3+: Health, Public Services and Care","x","x","x",null,80,88,"third quintile",null,"x","x","x",null,70,82,"second quintile",null,"x","x","x",null,60,88,"fourth quintile"]
[10007578,"CITY OF WOLVERHAMPTON COLLEGE","Full Level 2: Arts, Media and Publishing","x","x","x",null,10,90,"top quintile",null,"x","x","x",null,20,86,"top quintile",null,"x","x","x",null,"x","x","x"]
[10001477,"CITY OF YORK COUNCIL","Intermediate Apprenticeships: Health, Public Services and Care","x","x","x",null,10,90,"bottom quintile",null,".",".",".",null,20,94,"fourth quintile",null,".",".",".",null,10,100,"top quintile"]
[10001477,"CITY OF YORK COUNCIL","Full Level 2: Languages, Literature and Culture",".",".",".",null,"x","x","x",null,".",".",".",null,20,81,"second quintile",null,".",".",".",null,20,88,"fourth quintile"]
[10001535,"COLCHESTER INSTITUTE","Advanced and Higher Apprenticeships: Health, Public Services and Care",".",".",".",null,50,96,"top quintile",null,"x","x","x",null,30,97,"top quintile",null,"x","x","x",null,30,100,"top quintile"]
[10001535,"COLCHESTER INSTITUTE","Full Level 3+: Health, Public Services and Care","x","x","x",null,50,92,"fourth quintile",null,"x","x","x",null,30,96,"top quintile",null,".",".",".",null,30,87,"fourth quintile"]
[10001535,"COLCHESTER INSTITUTE","Intermediate Apprenticeships: Engineering and Manufacturing Technologies","x","x","x",null,180,90,"bottom quintile",null,"x","x","x",null,220,90,"bottom quintile",null,"x","x","x",null,180,89,"second quintile"]
[10001535,"COLCHESTER INSTITUTE","English & Maths",60,66,"top quintile",null,140,81,"fourth quintile",null,60,53,"third quintile",null,220,80,"fourth quintile",null,50,45,"bottom quintile",null,180,79,"fourth quintile"]
[10001548,"COLLEGE OF HARINGEY, ENFIELD AND NORTH-EAST LONDON, THE","Full Level 3+: Leisure, Travel and Tourism","x","x","x",null,20,82,"second quintile",null,"x","x","x",null,20,71,"bottom quintile",null,"x","x","x",null,20,79,"third quintile"]
[10001548,"COLLEGE OF HARINGEY, ENFIELD AND NORTH-EAST LONDON, THE","Intermediate Apprenticeships: Business, Administration and Law","x","x","x",null,50,96,"top quintile",null,".",".",".",null,30,91,"second quintile",null,"x","x","x",null,40,95,"top quintile"]
[10001549,"COLLEGE OF NORTH WEST LONDON, THE","Advanced and Higher Apprenticeships: Construction, Planning and the Built Environment",".",".",".",null,"x","x","x",null,".",".",".",null,20,100,"top quintile",null,".",".",".",null,10,86,"fourth quintile"]
[10001549,"COLLEGE OF NORTH WEST LONDON, THE","Full Level 3+: Health, Public Services and Care","x","x","x",null,20,61,"bottom quintile",null,"x","x","x",null,"x","x","x",null,"x","x","x",null,"x","x","x"]
[10001549,"COLLEGE OF NORTH WEST LONDON, THE","Full Level 2: Health, Public Services and Care",10,43,"bottom quintile",null,40,77,"bottom quintile",null,30,57,"second quintile",null,340,88,"second quintile",null,50,55,"bottom quintile",null,1430,89,"second quintile"]
[10001549,"COLLEGE OF NORTH WEST LONDON, THE","Other provision below Full Level 2",300,48,"second quintile",null,440,81,"fourth quintile",null,610,54,"fourth quintile",null,930,73,"second quintile",null,500,55,"fourth quintile",null,1530,75,"third quintile"]
[10001602,"COMMUNITY TRAINING SERVICES LIMITED","Intermediate Apprenticeships: Health, Public Services and Care","x","x","x",null,200,95,"top quintile",null,"x","x","x",null,130,92,"second quintile",null,"x","x","x",null,190,93,"fourth quintile"]
[10024317,"COMPASS GROUP, UK AND IRELAND LIMITED","Intermediate Apprenticeships: Business, Administration and Law",".",".",".",null,60,93,"third quintile",null,".",".",".",null,70,96,"top quintile",null,".",".",".",null,30,97,"top quintile"]
[10032547,"CORDANT GROUP PLC","Advanced and Higher Apprenticeships: Business, Administration and Law","x","x","x",null,10,92,"second quintile",null,".",".",".",null,".",".",".",null,".",".",".",null,".",".","."]
[10001696,"CORNWALL COLLEGE","Full Level 3+: Arts, Media and Publishing",10,62,"second quintile",null,40,69,"bottom quintile",null,"x","x","x",null,60,70,"bottom quintile",null,"x","x","x",null,40,74,"second quintile"]
[10001696,"CORNWALL COLLEGE","Intermediate Apprenticeships: Health, Public Services and Care",".",".",".",null,90,95,"fourth quintile",null,"x","x","x",null,90,96,"top quintile",null,"x","x","x",null,70,99,"top quintile"]
[10001696,"CORNWALL COLLEGE","Intermediate Apprenticeships: Retail and Commercial Enterprise","x","x","x",null,110,88,"second quintile",null,"x","x","x",null,70,86,"bottom quintile",null,"x","x","x",null,70,88,"second quintile"]
[10002064,"COUNTY DURHAM COUNCIL","Advanced and Higher Apprenticeships: Business, Administration and Law",".",".",".",null,"x","x","x",null,"x","x","x",null,20,94,"third quintile",null,".",".",".",null,30,96,"top quintile"]
[10001309,"COVENTRY AND WARWICKSHIRE CHAMBERS OF COMMERCE TRAINING LIMITED","Advanced and Higher Apprenticeships: Business, Administration and Law",".",".",".",null,70,92,"second quintile",null,".",".",".",null,130,97,"top quintile",null,".",".",".",null,70,89,"bottom quintile"]
[10001309,"COVENTRY AND WARWICKSHIRE CHAMBERS OF COMMERCE TRAINING LIMITED","Intermediate Apprenticeships: Information and Communication Technology",".",".",".",null,10,92,"bottom quintile",null,".",".",".",null,10,100,"top quintile",null,".",".",".",null,20,86,"bottom quintile"]
[10001723,"COVENTRY CITY COUNCIL","Full Level 2: Languages, Literature and Culture","x","x","x",null,30,96,"top quintile",null,"x","x","x",null,20,78,"bottom quintile",null,"x","x","x",null,40,77,"bottom quintile"]
[10001736,"CRACKERJACK TRAINING LIMITED","Full Level 3+: Health, Public Services and Care","x","x","x",null,"x","x","x",null,"x","x","x",null,30,87,"third quintile",null,".",".",".",null,"x","x","x"]
[10001743,"CRAVEN COLLEGE","Advanced and Higher Apprenticeships: Health, Public Services and Care",".",".",".",null,30,87,"bottom quintile",null,".",".",".",null,40,90,"bottom quintile",null,".",".",".",null,30,100,"top quintile"]
[10001743,"CRAVEN COLLEGE","Full Level 2: Education and Training","x","x","x",null,20,87,"third quintile",null,".",".",".",null,"x","x","x",null,"x","x","x",null,20,70,"bottom quintile"]
[10001743,"CRAVEN COLLEGE","Full Level 2: Health, Public Services and Care",40,57,"second quintile",null,180,91,"second quintile",null,"x","x","x",null,170,92,"third quintile",null,"x","x","x",null,330,91,"third quintile"]
[10001778,"CROYDON COLLEGE","Advanced and Higher Apprenticeships: Health, Public Services and Care",".",".",".",null,"x","x","x",null,".",".",".",null,10,91,"second quintile",null,".",".",".",null,"x","x","x"]
[10001778,"CROYDON COLLEGE","Full Level 2: Construction, Planning and the Built Environment","x","x","x",null,30,88,"fourth quintile",null,"x","x","x",null,20,85,"third quintile",null,"x","x","x",null,20,100,"top quintile"]
[10001778,"CROYDON COLLEGE","Other provision below Full Level 2",50,67,"top quintile",null,50,76,"third quintile",null,110,49,"second quintile",null,300,85,"top quintile",null,20,59,"top quintile",null,230,85,"top quintile"]
[10003989,"CROYDON LONDON BOROUGH COUNCIL","Full Level 2: Arts, Media and Publishing","x","x","x",null,20,82,"fourth quintile",null,".",".",".",null,".",".",".",null,".",".",".",null,".",".","."]
[10001786,"CSM CONSULTING LIMITED","Advanced and Higher Apprenticeships: Education and Training","x","x","x",null,70,97,"fourth quintile",null,".",".",".",null,90,93,"third quintile",null,"x","x","x",null,40,97,"fourth quintile"]
[10001174,"CT SKILLS LIMITED","Advanced and Higher Apprenticeships: Health, Public Services and Care",".",".",".",null,10,92,"second quintile",null,".",".",".",null,30,96,"top quintile",null,".",".",".",null,20,84,"bottom quintile"]
[10001174,"CT SKILLS LIMITED","Full Level 2: Retail and Commercial Enterprise",120,59,"fourth quintile",null,"x","x","x",null,50,65,"top quintile",null,40,77,"third quintile",null,10,64,"top quintile",null,".",".","."]
[10001800,"CUMBRIA COUNTY COUNCIL","Full Level 3+: Health, Public Services and Care",".",".",".",null,10,85,"second quintile",null,".",".",".",null,".",".",".",null,".",".",".",null,"x","x","x"]
[10031146,"D MANTLE LIMITED","Advanced and Higher Apprenticeships: Leisure, Travel and Tourism",".",".",".",null,".",".",".",null,".",".",".",null,".",".",".",null,".",".",".",null,30,100,"top quintile"]
[10001831,"DAMAR LIMITED","Traineeships","x","x","x",null,"x","x","x",null,"x","x","x",null,10,67,"second quintile",null,".",".",".",null,"x","x","x"]
[10001850,"DARLINGTON COLLEGE","Advanced and Higher Apprenticeships: Education and Training",".",".",".",null,".",".",".",null,".",".",".",null,"x","x","x",null,".",".",".",null,20,96,"fourth quintile"]
[10001850,"DARLINGTON COLLEGE","Full Level 3+: Health, Public Services and Care","x","x","x",null,50,84,"second quintile",null,".",".",".",null,20,86,"third quintile",null,"x","x","x",null,20,94,"top quintile"]
[10001850,"DARLINGTON COLLEGE","Full Level 2: Engineering and Manufacturing Technologies","x","x","x",null,"x","x","x",null,110,71,"top quintile",null,20,88,"third quintile",null,50,60,"second quintile",null,30,78,"second quintile"]
[10001850,"DARLINGTON COLLEGE","Other provision below Full Level 2",1810,49,"second quintile",null,240,66,"second quintile",null,1040,50,"second quintile",null,150,48,"bottom quintile",null,970,44,"bottom quintile",null,130,63,"second quintile"]
[10022117,"DAWN HODGE ASSOCIATES LIMITED","Full Level 2: Health, Public Services and Care",".",".",".",null,".",".",".",null,".",".",".",null,20,90,"second quintile",null,".",".",".",null,40,95,"top quintile"]
[10001883,"DE MONTFORT UNIVERSITY","LLDD learner",".",".",".",null,"x","x","x",null,".",".",".",null,"x","x","x",null,"x","x","x",null,10,80,"top quintile"]
[10001897,"DEARNE VALLEY COLLEGE","English for Speakers of Other Languages (ESOL)","x","x","x",null,10,40,"bottom quintile",null,10,64,"top quintile",null,"x","x","x",null,".",".",".",null,".",".","."]
[10001918,"DERBY CITY COUNCIL","Other provision below Full Level 2",130,68,"top quintile",null,180,76,"third quintile",null,140,61,"top quintile",null,150,68,"second quintile",null,140,68,"top quintile",null,280,73,"third quintile"]
[10001919,"DERBY COLLEGE","Advanced and Higher Apprenticeships: Retail and Commercial Enterprise","x","x","x",null,60,95,"top quintile",null,".",".",".",null,30,91,"second quintile",null,".",".",".",null,50,89,"second quintile"]
[10001919,"DERBY COLLEGE","Full Level 3+: Leisure, Travel and Tourism",".",".",".",null,20,82,"second quintile",null,"x","x","x",null,10,86,"fourth quintile",null,".",".",".",null,20,100,"top quintile"]
[10001919,"DERBY COLLEGE","Full Level 2: Languages, Literature and Culture","x","x","x",null,40,95,"top quintile",null,"x","x","x",null,70,88,"fourth quintile",null,"x","x","x",null,70,84,"second quintile"]
[10001919,"DERBY COLLEGE","Full Level 2: Retail and Commercial Enterprise",840,52,"second quintile",null,470,54,"bottom quintile",null,710,52,"third quintile",null,490,55,"bottom quintile",null,330,47,"bottom quintile",null,310,58,"bottom quintile"]
[10001928,"DERBYSHIRE COUNTY COUNCIL","Advanced and Higher Apprenticeships: Business, Administration and Law",".",".",".",null,10,100,"top quintile",null,".",".",".",null,10,100,"top quintile",null,".",".",".",null,"x","x","x"]
[10001934,"DERWENTSIDE COLLEGE","Advanced and Higher Apprenticeships: Retail and Commercial Enterprise",".",".",".",null,90,85,"second quintile",null,".",".",".",null,50,98,"top quintile",null,".",".",".",null,120,91,"third quintile"]
[10001934,"DERWENTSIDE COLLEGE","Intermediate Apprenticeships: Engineering and Manufacturing Technologies","x","x","x",null,50,96,"fourth quintile",null,".",".",".",null,100,94,"third quintile",null,"x","x","x",null,140,88,"second quintile"]
[10001934,"DERWENTSIDE COLLEGE","English & Maths",40,32,"bottom quintile",null,20,78,"third quintile",null,100,45,"bottom quintile",null,100,75,"third quintile",null,20,53,"third quintile",null,60,87,"top quintile"]
[10001951,"DEVON COUNTY COUNCIL","Other provision below Full Level 2",500,56,"fourth quintile",null,870,66,"second quintile",null,300,55,"fourth quintile",null,460,63,"bottom quintile",null,280,57,"fourth quintile",null,120,61,"bottom quintile"]
[10001971,"DIMENSIONS TRAINING SOLUTIONS LIMITED","Advanced and Higher Apprenticeships: Retail and Commercial Enterprise",".",".",".",null,30,77,"bottom quintile",null,".",".",".",null,20,87,"second quintile",null,".",".",".",null,20,76,"bottom quintile"]
[10002005,"DONCASTER COLLEGE","Advanced and Higher Apprenticeships: Engineering and Manufacturing Technologies",".",".",".",null,20,100,"top quintile",null,"x","x","x",null,50,96,"fourth quintile",null,".",".",".",null,30,86,"bottom quintile"]
[10002005,"DONCASTER COLLEGE","Intermediate Apprenticeships: Retail and Commercial Enterprise",".",".",".",null,40,92,"third quintile",null,"x","x","x",null,60,91,"second quintile",null,"x","x","x",null,70,89,"third quintile"]
[10002005,"DONCASTER COLLEGE","Full Level 2: Construction, Planning and the Built Environment",10,60,"third quintile",null,20,89,"fourth quintile",null,"x","x","x",null,20,73,"bottom quintile",null,"x","x","x",null,20,94,"top quintile"]
[10002008,"DONCASTER METROPOLITAN BOROUGH COUNCIL","LLDD learner","x","x","x",null,10,100,"top quintile",null,".",".",".",null,".",".",".",null,".",".",".",null,10,71,"third quintile"]
[10007924,"DUDLEY COLLEGE","Full Level 3+: Agriculture, Horticulture and Animal Care",".",".",".",null,10,90,"top quintile",null,".",".",".",null,10,75,"bottom quintile",null,".",".",".",null,"x","x","x"]
[10007924,"DUDLEY COLLEGE","Intermediate Apprenticeships: Construction, Planning and the Built Environment","x","x","x",null,"x","x","x",null,".",".",".",null,"x","x","x",null,".",".",".",null,10,77,"second quintile"]
[10007924,"DUDLEY COLLEGE","Full Level 2: Agriculture, Horticulture and Animal Care","x","x","x",null,160,69,"bottom quintile",null,"x","x","x",null,60,45,"bottom quintile",null,".",".",".",null,"x","x","x"]
[10002054,"DUDLEY METROPOLITAN BOROUGH COUNCIL","LLDD learner",20,59,"top quintile",null,50,47,"bottom quintile",null,10,27,"bottom quintile",null,30,74,"fourth quintile",null,"x","x","x",null,20,68,"third quintile"]
[10009206,"EALING LONDON BOROUGH COUNCIL","Full Level 3+: Education and Training",".",".",".",null,20,83,"bottom quintile",null,".",".",".",null,".",".",".",null,".",".",".",null,"x","x","x"]
[10002094,"EALING, HAMMERSMITH & WEST LONDON COLLEGE","Full Level 3+: Education and Training","x","x","x",null,40,67,"bottom quintile",null,".",".",".",null,".",".",".",null,".",".",".",null,30,64,"bottom quintile"]
[10002094,"EALING, HAMMERSMITH & WEST LONDON COLLEGE","Intermediate Apprenticeships: Business, Administration and Law",".",".",".",null,10,85,"bottom quintile",null,".",".",".",null,20,95,"top quintile",null,".",".",".",null,20,88,"bottom quintile"]
[10002094,"EALING, HAMMERSMITH & WEST LONDON COLLEGE","Full Level 2: Engineering and Manufacturing Technologies",20,75,"top quintile",null,70,73,"bottom quintile",null,10,36,"bottom quintile",null,60,65,"bottom quintile",null,"x","x","x",null,30,83,"third quintile"]
[10002107,"EAST BERKSHIRE COLLEGE","Full Level 3+: Business, Administration and Law",".",".",".",null,40,94,"fourth quintile",null,".",".",".",null,20,95,"top quintile",null,"x","x","x",null,20,82,"second quintile"]
[10002107,"EAST BERKSHIRE COLLEGE","Full Level 2: Education and Training",10,77,"fourth quintile",null,50,76,"bottom quintile",null,"x","x","x",null,50,73,"bottom quintile",null,"x","x","x",null,40,77,"second quintile"]
[10002107,"EAST BERKSHIRE COLLEGE","English for Speakers of Other Languages (ESOL)",120,70,"top quintile",null,1100,79,"top quintile",null,100,65,"top quintile",null,970,72,"fourth quintile",null,30,54,"third quintile",null,140,65,"third quintile"]
[10002111,"EAST DURHAM COLLEGE","Full Level 2: Agriculture, Horticulture and Animal Care",10,73,"top quintile",null,30,67,"bottom quintile",null,"x","x","x",null,30,81,"second quintile",null,"x","x","x",null,20,79,"second quintile"]
[10002111,"EAST DURHAM COLLEGE","Full Level 2: Preparation for Life and Work","x","x","x",null,70,93,"fourth quintile",null,"x","x","x",null,10,83,"bottom quintile",null,"x","x","x",null,50,92,"third quintile"]
[10006570,"EAST KENT COLLEGE","Full Level 3+: Business, Administration and Law",".",".",".",null,40,92,"third quintile",null,"x","x","x",null,30,93,"fourth quintile",null,"x","x","x",null,10,90,"fourth quintile"]
[10006570,"EAST KENT COLLEGE","Full Level 2: Languages, Literature and Culture","x","x","x",null,30,79,"bottom quintile",null,"x","x","x",null,50,89,"fourth quintile",null,"x","x","x",null,30,77,"bottom quintile"]
[10006570,"EAST KENT COLLEGE","Full Level 2: Science and Mathematics","x","x","x",null,70,85,"second quintile",null,"x","x","x",null,50,91,"fourth quintile",null,"x","x","x",null,80,91,"fourth quintile"]
[10002118,"EAST LONDON ADVANCED TECHNOLOGY TRAINING","Full Level 3+: Health, Public Services and Care",".",".",".",null,".",".",".",null,"x","x","x",null,40,56,"bottom quintile",null,".",".",".",null,".",".","."]
[10002126,"EAST RIDING COLLEGE","Full Level 3+: Retail and Commercial Enterprise","x","x","x",null,20,80,"fourth quintile",null,".",".",".",null,10,64,"bottom quintile",null,"x","x","x",null,10,67,"second quintile"]
[10002126,"EAST RIDING COLLEGE","Full Level 2: Languages, Literature and Culture","x","x","x",null,30,85,"third quintile",null,"x","x","x",null,10,100,"top quintile",null,".",".",".",null,"x","x","x"]
[10002126,"EAST RIDING COLLEGE","Other provision below Full Level 2",400,42,"bottom quintile",null,290,88,"top quintile",null,260,49,"second quintile",null,320,92,"top quintile",null,120,43,"bottom quintile",null,260,87,"top quintile"]
[10008919,"EAST RIDING OF YORKSHIRE COUNCIL","English for Speakers of Other Languages (ESOL)","x","x","x",null,70,89,"top quintile",null,".",".",".",null,"x","x","x",null,".",".",".",null,".",".","."]
[10002130,"EAST SURREY COLLEGE","Full Level 3+: Retail and Commercial Enterprise",".",".",".",null,20,65,"bottom quintile",null,".",".",".",null,"x","x","x",null,".",".",".",null,10,86,"top quintile"]
[10002130,"EAST SURREY COLLEGE","Full Level 2: Retail and Commercial Enterprise","x","x","x",null,50,82,"fourth quintile",null,"x","x","x",null,50,81,"fourth quintile",null,"x","x","x",null,40,78,"fourth quintile"]
[10002143,"EASTLEIGH COLLEGE","Advanced and Higher Apprenticeships: Health, Public Services and Care","x","x","x",null,430,94,"fourth quintile",null,".",".",".",null,660,94,"fourth quintile",null,"x","x","x",null,950,91,"third quintile"]
[10002143,"EASTLEIGH COLLEGE","Intermediate Apprenticeships: Retail and Commercial Enterprise",".",".",".",null,60,88,"second quintile",null,".",".",".",null,60,85,"bottom quintile",null,"x","x","x",null,90,93,"top quintile"]
[10002143,"EASTLEIGH COLLEGE","Full Level 2: Science and Mathematics","x","x","x",null,50,92,"fourth quintile",null,"x","x","x",null,50,88,"third quintile",null,".",".",".",null,60,88,"third quintile"]
[10037344,"EASTON AND OTLEY COLLEGE","Intermediate Apprenticeships: Retail and Commercial Enterprise",".",".",".",null,10,93,"fourth quintile",null,".",".",".",null,20,100,"top quintile",null,".",".",".",null,20,100,"top quintile"]
[10004177,"ECONOMIC SOLUTIONS LIMITED","Advanced and Higher Apprenticeships: Health, Public Services and Care","x","x","x",null,160,93,"third quintile",null,"x","x","x",null,160,89,"bottom quintile",null,"x","x","x",null,200,92,"fourth quintile"]
[10004177,"ECONOMIC SOLUTIONS LIMITED","Intermediate Apprenticeships: Construction, Planning and the Built Environment","x","x","x",null,70,88,"second quintile",null,"x","x","x",null,80,85,"second quintile",null,"x","x","x",null,80,73,"bottom quintile"]
[10004177,"ECONOMIC SOLUTIONS LIMITED","Full Level 2: Health, Public Services and Care","x","x","x",null,50,92,"third quintile",null,"x","x","x",null,50,96,"top quintile",null,".",".",".",null,20,83,"bottom quintile"]
[10027766,"EDEN TRAINING SOLUTIONS LIMITED","Intermediate Apprenticeships: Health, Public Services and Care",".",".",".",null,10,80,"bottom quintile",null,".",".",".",null,20,93,"fourth quintile",null,"x","x","x",null,50,92,"third quintile"]
[10002186,"EDUCATION & YOUTH SERVICES LIMITED","Intermediate Apprenticeships: Business, Administration and Law","x","x","x",null,10,92,"second quintile",null,".",".",".",null,20,83,"bottom quintile",null,".",".",".",null,"x","x","x"]
[10002187,"EDUCATION AND TRAINING SKILLS LTD","LLDD learner","x","x","x",null,80,91,"top quintile",null,20,61,"top quintile",null,80,88,"top quintile",null,".",".",".",null,90,95,"top quintile"]
[10002260,"ENFIELD LONDON BOROUGH COUNCIL","LLDD learner","x","x","x",null,20,68,"third quintile",null,"x","x","x",null,30,82,"top quintile",null,"x","x","x",null,30,58,"second quintile"]
[10032393,"ENLIGHTENMENT PARTNERSHIP LIMITED","Advanced and Higher Apprenticeships: Education and Training",".",".",".",null,10,100,"top quintile",null,".",".",".",null,".",".",".",null,".",".",".",null,".",".","."]
[10002297,"EPPING FOREST COLLEGE","Full Level 3+: Business, Administration and Law","x","x","x",null,60,87,"second quintile",null,".",".",".",null,40,88,"third quintile",null,"x","x","x",null,20,79,"second quintile"]
[10002297,"EPPING FOREST COLLEGE","Full Level 2: Construction, Planning and the Built Environment",".",".",".",null,"x","x","x",null,"x","x","x",null,"x","x","x",null,"x","x","x",null,10,75,"third quintile"]
[10044028,"EQL SOLUTIONS LIMITED","LLDD learner",210,45,"third quintile",null,80,61,"second quintile",null,270,32,"bottom quintile",null,140,50,"bottom quintile",null,220,36,"bottom quintile",null,90,42,"bottom quintile"]
[10044028,"EQL SOLUTIONS LIMITED","Intermediate Apprenticeships: Business, Administration and Law","x","x","x",null,380,94,"fourth quintile",null,"x","x","x",null,130,93,"third quintile",null,"x","x","x",null,100,93,"fourth quintile"]
[10034309,"ESG (SKILLS) LIMITED","Intermediate Apprenticeships: Business, Administration and Law","x","x","x",null,820,93,"third quintile",null,10,83,"second quintile",null,1000,93,"third quintile",null,20,100,"top quintile",null,770,93,"fourth quintile"]
[10034309,"ESG (SKILLS) LIMITED","Intermediate Apprenticeships: Retail and Commercial Enterprise","x","x","x",null,880,89,"second quintile",null,10,50,"bottom quintile",null,880,88,"second quintile",null,10,91,"fourth quintile",null,820,86,"second quintile"]
[10002327,"ESSEX COUNTY COUNCIL","Full Level 2: Health, Public Services and Care","x","x","x",null,10,83,"bottom quintile",null,"x","x","x",null,"x","x","x",null,"x","x","x",null,"x","x","x"]
[10002078,"E-TRAINING LIMITED","LLDD learner",20,67,"top quintile",null,60,73,"fourth quintile",null,"x","x","x",null,20,100,"top quintile",null,"x","x","x",null,40,77,"top quintile"]
[10019037,"EVENTS STEWARDING, TRAINING AND CONSULTANCY LTD","Intermediate Apprenticeships: Business, Administration and Law",".",".",".",null,40,95,"top quintile",null,".",".",".",null,".",".",".",null,".",".",".",null,".",".","."]
[10002368,"EXEMPLAS HOLDINGS LIMITED","Intermediate Apprenticeships: Engineering and Manufacturing Technologies",".",".",".",null,"x","x","x",null,"x","x","x",null,20,63,"bottom quintile",null,".",".",".",null,"x","x","x"]
[10002370,"EXETER COLLEGE","Advanced and Higher Apprenticeships: Education and Training",".",".",".",null,"x","x","x",null,".",".",".",null,20,88,"bottom quintile",null,".",".",".",null,"x","x","x"]
[10002370,"EXETER COLLEGE","Intermediate Apprenticeships: Health, Public Services and Care",".",".",".",null,20,92,"second quintile",null,".",".",".",null,30,100,"top quintile",null,".",".",".",null,30,100,"top quintile"]
[10002370,"EXETER COLLEGE","Full Level 2: Preparation for Life and Work","x","x","x",null,10,77,"bottom quintile",null,"x","x","x",null,"x","x","x",null,".",".",".",null,".",".","."]
[10003231,"EXG LIMITED","English & Maths",200,65,"top quintile",null,380,76,"second quintile",null,130,38,"bottom quintile",null,"x","x","x",null,110,37,"bottom quintile",null,30,42,"bottom quintile"]
[10007928,"FAREHAM COLLEGE","Access to HE",".",".",".",null,20,100,"top quintile",null,".",".",".",null,20,96,"top quintile",null,".",".",".",null,20,91,"third quintile"]
[10007928,"FAREHAM COLLEGE","Full Level 2: Education and Training","x","x","x",null,10,100,"top quintile",null,".",".",".",null,10,92,"top quintile",null,".",".",".",null,".",".","."]
[10002407,"FAREPORT TRAINING ORGANISATION LIMITED","Intermediate Apprenticeships: Health, Public Services and Care","x","x","x",null,50,91,"second quintile",null,".",".",".",null,30,94,"fourth quintile",null,".",".",".",null,50,91,"second quintile"]
[10002412,"FARNBOROUGH COLLEGE OF TECHNOLOGY","Full Level 3+: Business, Administration and Law",".",".",".",null,100,99,"top quintile",null,".",".",".",null,50,92,"fourth quintile",null,".",".",".",null,40,86,"third quintile"]
[10002412,"FARNBOROUGH COLLEGE OF TECHNOLOGY","Full Level 2: Health, Public Services and Care","x","x","x",null,80,96,"top quintile",null,"x","x","x",null,30,91,"second quintile",null,".",".",".",null,50,91,"third quintile"]
[10009213,"FASHION RETAIL ACADEMY","Full Level 3+: Business, Administration and Law",".",".",".",null,"x","x","x",null,".",".",".",null,10,79,"bottom quintile",null,".",".",".",null,"x","x","x"]
[10008641,"FIRCROFT COLLEGE OF ADULT EDUCATION","Other provision below Full Level 2",80,52,"third quintile",null,220,59,"bottom quintile",null,80,48,"bottom quintile",null,270,54,"bottom quintile",null,90,52,"third quintile",null,220,51,"bottom quintile"]
[10038911,"FIRST4SKILLS LIMITED","Intermediate Apprenticeships: Retail and Commercial Enterprise",20,90,"fourth quintile",null,1450,91,"second quintile",null,50,86,"third quintile",null,1060,91,"third quintile",null,30,68,"second quintile",null,1090,86,"second quintile"]
[10009687,"FOCUS TRAINING & DEVELOPMENT LTD","Intermediate Apprenticeships: Health, Public Services and Care","x","x","x",null,20,55,"bottom quintile",null,".",".",".",null,".",".",".",null,"x","x","x",null,"x","x","x"]
[10026590,"FOCUS TRAINING (SW) LIMITED","Advanced and Higher Apprenticeships: Retail and Commercial Enterprise",".",".",".",null,10,100,"top quintile",null,"x","x","x",null,"x","x","x",null,".",".",".",null,"x","x","x"]
[10026590,"FOCUS TRAINING (SW) LIMITED","Traineeships",".",".",".",null,".",".",".",null,"x","x","x",null,"x","x","x",null,".",".",".",null,10,100,"top quintile"]
[10001230,"FORSTER COMMUNITY COLLEGE LIMITED","Other provision below Full Level 2",100,42,"bottom quintile",null,100,67,"second quintile",null,70,48,"bottom quintile",null,150,58,"bottom quintile",null,30,38,"bottom quintile",null,90,64,"second quintile"]
[10002560,"FOXES ACADEMY","LLDD learner","x","x","x",null,20,44,"bottom quintile",null,".",".",".",null,10,30,"bottom quintile",null,".",".",".",null,".",".","."]
[10025915,"FREEMAN COLLEGE","LLDD learner",".",".",".",null,20,67,"third quintile",null,".",".",".",null,"x","x","x",null,".",".",".",null,"x","x","x"]
[10002578,"FRIENDS CENTRE","Other provision below Full Level 2",10,90,"top quintile",null,50,82,"fourth quintile",null,"x","x","x",null,40,59,"bottom quintile",null,10,71,"top quintile",null,60,65,"second quintile"]
[10002599,"FURNESS COLLEGE","Intermediate Apprenticeships: Construction, Planning and the Built Environment",".",".",".",null,"x","x","x",null,".",".",".",null,10,93,"top quintile",null,".",".",".",null,"x","x","x"]
[10002613,"FUTURE-WIZE LIMITED","Intermediate Apprenticeships: Health, Public Services and Care","x","x","x",null,30,94,"fourth quintile",null,".",".",".",null,20,90,"bottom quintile",null,".",".",".",null,"x","x","x"]
[10002638,"GATESHEAD COLLEGE","Advanced and Higher Apprenticeships: Leisure, Travel and Tourism",".",".",".",null,"x","x","x",null,".",".",".",null,".",".",".",null,"x","x","x",null,40,89,"fourth quintile"]
[10002638,"GATESHEAD COLLEGE","Access to HE","x","x","x",null,50,92,"fourth quintile",null,".",".",".",null,20,89,"second quintile",null,"x","x","x",null,80,87,"bottom quintile"]
[10002638,"GATESHEAD COLLEGE","Intermediate Apprenticeships: Health, Public Services and Care","x","x","x",null,40,97,"top quintile",null,".",".",".",null,30,96,"top quintile",null,".",".",".",null,"x","x","x"]
[10002638,"GATESHEAD COLLEGE","Full Level 2: Retail and Commercial Enterprise",140,65,"top quintile",null,70,80,"third quintile",null,60,54,"third quintile",null,60,77,"third quintile",null,200,51,"third quintile",null,30,77,"third quintile"]
[10002639,"GATESHEAD COUNCIL","Intermediate Apprenticeships: Health, Public Services and Care","x","x","x",null,20,95,"top quintile",null,"x","x","x",null,20,100,"top quintile",null,".",".",".",null,20,100,"top quintile"]
[10002639,"GATESHEAD COUNCIL","Full Level 2: Health, Public Services and Care","x","x","x",null,30,87,"bottom quintile",null,"x","x","x",null,50,89,"second quintile",null,"x","x","x",null,70,84,"bottom quintile"]
[10002642,"GATEWAY SIXTH FORM COLLEGE","LLDD learner",".",".",".",null,60,75,"top quintile",null,"x","x","x",null,60,83,"top quintile",null,"x","x","x",null,80,81,"top quintile"]
[10012171,"GHQ TRAINING LIMITED","Full Level 3+: Retail and Commercial Enterprise",".",".",".",null,"x","x","x",null,".",".",".",null,"x","x","x",null,"x","x","x",null,60,69,"third quintile"]
[10002696,"GLOUCESTERSHIRE COLLEGE","Advanced and Higher Apprenticeships: Engineering and Manufacturing Technologies",".",".",".",null,30,94,"fourth quintile",null,".",".",".",null,60,92,"third quintile",null,".",".",".",null,90,92,"third quintile"]
[10002696,"GLOUCESTERSHIRE COLLEGE","Full Level 3+: Health, Public Services and Care","x","x","x",null,70,92,"fourth quintile",null,"x","x","x",null,30,79,"second quintile",null,"x","x","x",null,40,86,"fourth quintile"]
[10002696,"GLOUCESTERSHIRE COLLEGE","Full Level 2: Education and Training","x","x","x",null,50,87,"third quintile",null,"x","x","x",null,60,95,"top quintile",null,"x","x","x",null,60,87,"fourth quintile"]
[10002696,"GLOUCESTERSHIRE COLLEGE","Full Level 2: Retail and Commercial Enterprise",40,70,"top quintile",null,170,86,"top quintile",null,140,45,"bottom quintile",null,160,73,"second quintile",null,30,53,"third quintile",null,80,77,"third quintile"]
[10002697,"GLOUCESTERSHIRE COUNTY COUNCIL","Full Level 3+: Health, Public Services and Care",".",".",".",null,".",".",".",null,".",".",".",null,30,92,"fourth quintile",null,".",".",".",null,"x","x","x"]
[10019262,"GORDON FRANKS","Advanced and Higher Apprenticeships: Business, Administration and Law",".",".",".",null,20,94,"third quintile",null,".",".",".",null,".",".",".",null,".",".",".",null,".",".","."]
[10036952,"GP STRATEGIES TRAINING LIMITED","Advanced and Higher Apprenticeships: Business, Administration and Law","x","x","x",null,710,91,"bottom quintile",null,"x","x","x",null,940,92,"second quintile",null,"x","x","x",null,1180,92,"second quintile"]
[10002743,"GRANTHAM COLLEGE","Full Level 3+: Business, Administration and Law",".",".",".",null,20,94,"fourth quintile",null,".",".",".",null,20,94,"top quintile",null,"x","x","x",null,10,77,"second quintile"]
[10002743,"GRANTHAM COLLEGE","Intermediate Apprenticeships: Business, Administration and Law","x","x","x",null,30,90,"bottom quintile",null,"x","x","x",null,20,88,"bottom quintile",null,".",".",".",null,30,100,"top quintile"]
[10002755,"GREAT YARMOUTH COLLEGE","Advanced and Higher Apprenticeships: Education and Training",".",".",".",null,10,100,"top quintile",null,".",".",".",null,"x","x","x",null,".",".",".",null,"x","x","x"]
[10002755,"GREAT YARMOUTH COLLEGE","Intermediate Apprenticeships: Engineering and Manufacturing Technologies",".",".",".",null,20,89,"bottom quintile",null,".",".",".",null,20,100,"top quintile",null,".",".",".",null,30,93,"third quintile"]
[10002755,"GREAT YARMOUTH COLLEGE","Full Level 2: Science and Mathematics","x","x","x",null,20,84,"bottom quintile",null,".",".",".",null,"x","x","x",null,".",".",".",null,".",".","."]
[10002767,"GREENBANK PROJECT (THE)","Full Level 2: Information and Communication Technology","x","x","x",null,10,80,"third quintile",null,"x","x","x",null,"x","x","x",null,"x","x","x",null,"x","x","x"]
[10002780,"GREENWICH COMMUNITY COLLEGE","Full Level 2: Business, Administration and Law",120,50,"bottom quintile",null,140,81,"bottom quintile",null,"x","x","x",null,50,78,"bottom quintile",null,"x","x","x",null,20,88,"second quintile"]
[10002780,"GREENWICH COMMUNITY COLLEGE","Full Level 2: Languages, Literature and Culture","x","x","x",null,40,86,"third quintile",null,"x","x","x",null,50,89,"fourth quintile",null,".",".",".",null,30,85,"third quintile"]
[10007938,"GRIMSBY INSTITUTE OF FURTHER AND HIGHER EDUCATION","Full Level 3+: Retail and Commercial Enterprise","x","x","x",null,70,73,"third quintile",null,"x","x","x",null,50,69,"second quintile",null,".",".",".",null,30,73,"fourth quintile"]
[10007938,"GRIMSBY INSTITUTE OF FURTHER AND HIGHER EDUCATION","Full Level 2: Construction, Planning and the Built Environment","x","x","x",null,30,90,"fourth quintile",null,30,71,"top quintile",null,40,83,"third quintile",null,"x","x","x",null,20,72,"third quintile"]
[10007938,"GRIMSBY INSTITUTE OF FURTHER AND HIGHER EDUCATION","English for Speakers of Other Languages (ESOL)","x","x","x",null,50,67,"third quintile",null,".",".",".",null,".",".",".",null,".",".",".",null,".",".","."]
[10033155,"GTA ENGLAND LIMITED","Full Level 2: Retail and Commercial Enterprise",10,67,"top quintile",null,".",".",".",null,".",".",".",null,".",".",".",null,".",".",".",null,".",".","."]
[10002815,"GUILDFORD COLLEGE","Full Level 3+: Information and Communication Technology",".",".",".",null,20,88,"fourth quintile",null,".",".",".",null,10,75,"second quintile",null,".",".",".",null,"x","x","x"]
[10002815,"GUILDFORD COLLEGE","Other Level 3",".",".",".",null,10,80,"second quintile",null,".",".",".",null,".",".",".",null,".",".",".",null,"x","x","x"]
[10002815,"GUILDFORD COLLEGE","Full Level 2: Leisure, Travel and Tourism",10,27,"bottom quintile",null,10,38,"bottom quintile",null,".",".",".",null,"x","x","x",null,".",".",".",null,".",".","."]
[10002835,"HACKNEY COMMUNITY COLLEGE","Full Level 3+: Information and Communication Technology","x","x","x",null,20,61,"bottom quintile",null,"x","x","x",null,20,86,"fourth quintile",null,".",".",".",null,30,88,"fourth quintile"]
[10002835,"HACKNEY COMMUNITY COLLEGE","Full Level 2: Engineering and Manufacturing Technologies",10,73,"top quintile",null,10,73,"bottom quintile",null,"x","x","x",null,20,87,"third quintile",null,"x","x","x",null,20,74,"second quintile"]
[10010792,"HACKNEY LONDON BOROUGH COUNCIL","Other Level 3",".",".",".",null,".",".",".",null,".",".",".",null,10,64,"bottom quintile",null,".",".",".",null,".",".","."]
[10002841,"HADDON TRAINING LIMITED","Intermediate Apprenticeships: Agriculture, Horticulture and Animal Care","x","x","x",null,100,82,"bottom quintile",null,"x","x","x",null,100,79,"bottom quintile",null,"x","x","x",null,100,80,"bottom quintile"]
[10002850,"HAIR ACADEMY SOUTH WEST LIMITED","Intermediate Apprenticeships: Retail and Commercial Enterprise","x","x","x",null,110,86,"bottom quintile",null,"x","x","x",null,70,88,"second quintile",null,".",".",".",null,50,91,"fourth quintile"]
[10002852,"HALESOWEN COLLEGE","LLDD learner","x","x","x",null,80,64,"third quintile",null,20,65,"top quintile",null,130,66,"third quintile",null,"x","x","x",null,70,74,"fourth quintile"]
[10002852,"HALESOWEN COLLEGE","Full Level 2: Business, Administration and Law","x","x","x",null,20,91,"fourth quintile",null,"x","x","x",null,20,93,"top quintile",null,".",".",".",null,10,100,"top quintile"]
[10002861,"HALTON BOROUGH COUNCIL","Other provision below Full Level 2",190,48,"second quintile",null,60,67,"second quintile",null,110,54,"fourth quintile",null,90,54,"bottom quintile",null,70,47,"bottom quintile",null,40,55,"bottom quintile"]
[10002868,"HAMMERSMITH AND FULHAM LONDON BOROUGH COUNCIL","Other provision below Full Level 2",80,62,"top quintile",null,430,72,"third quintile",null,30,57,"fourth quintile",null,340,72,"second quintile",null,40,47,"bottom quintile",null,330,67,"second quintile"]
[10002859,"HARINGEY LONDON BOROUGH COUNCIL","Full Level 2: Information and Communication Technology",".",".",".",null,".",".",".",null,10,55,"bottom quintile",null,"x","x","x",null,10,70,"top quintile",null,"x","x","x"]
[10002899,"HARLOW COLLEGE","Intermediate Apprenticeships: Information and Communication Technology","x","x","x",null,20,88,"bottom quintile",null,".",".",".",null,"x","x","x",null,".",".",".",null,"x","x","x"]
[10002899,"HARLOW COLLEGE","Full Level 2: Information and Communication Technology",20,50,"bottom quintile",null,"x","x","x",null,"x","x","x",null,".",".",".",null,".",".",".",null,".",".","."]
[10002907,"HARROW COLLEGE","Intermediate Apprenticeships: Construction, Planning and the Built Environment",10,62,"bottom quintile",null,20,53,"bottom quintile",null,".",".",".",null,"x","x","x",null,".",".",".",null,".",".","."]
[10002907,"HARROW COLLEGE","Full Level 2: Leisure, Travel and Tourism",30,88,"top quintile",null,90,84,"second quintile",null,20,80,"top quintile",null,150,83,"second quintile",null,100,77,"top quintile",null,440,90,"fourth quintile"]
[10002910,"HARROW LONDON BOROUGH COUNCIL","LLDD learner","x","x","x",null,10,31,"bottom quintile",null,"x","x","x",null,50,38,"bottom quintile",null,"x","x","x",null,20,16,"bottom quintile"]
[10002916,"HARTLEPOOL BOROUGH COUNCIL","English for Speakers of Other Languages (ESOL)","x","x","x",null,10,80,"top quintile",null,".",".",".",null,".",".",".",null,".",".",".",null,".",".","."]
[10002917,"HARTLEPOOL COLLEGE OF FURTHER EDUCATION","Full Level 3+: Business, Administration and Law","x","x","x",null,"x","x","x",null,"x","x","x",null,10,100,"top quintile",null,".",".",".",null,10,80,"second quintile"]
[10002917,"HARTLEPOOL COLLEGE OF FURTHER EDUCATION","Full Level 2: Preparation for Life and Work",".",".",".",null,"x","x","x",null,".",".",".",null,40,97,"top quintile",null,".",".",".",null,".",".","."]
[10002919,"HARTPURY COLLEGE","Other provision below Full Level 2",10,70,"top quintile",null,920,89,"top quintile",null,"x","x","x",null,690,92,"top quintile",null,"x","x","x",null,420,90,"top quintile"]
[10002929,"HAVANT COLLEGE","English & Maths","x","x","x",null,20,81,"fourth quintile",null,"x","x","x",null,20,78,"third quintile",null,"x","x","x",null,40,81,"fourth quintile"]
[10002935,"HAVERING COLLEGE OF FURTHER AND HIGHER EDUCATION","Full Level 3+: Health, Public Services and Care","x","x","x",null,70,86,"second quintile",null,"x","x","x",null,40,85,"third quintile",null,"x","x","x",null,30,75,"bottom quintile"]
[10002935,"HAVERING COLLEGE OF FURTHER AND HIGHER EDUCATION","Full Level 2: Education and Training","x","x","x",null,80,90,"fourth quintile",null,"x","x","x",null,90,88,"fourth quintile",null,"x","x","x",null,40,79,"second quintile"]
[10003993,"HAVERING LONDON BOROUGH COUNCIL","Full Level 3+: Education and Training","x","x","x",null,20,89,"second quintile",null,".",".",".",null,20,89,"third quintile",null,".",".",".",null,10,100,"top quintile"]
[10003993,"HAVERING LONDON BOROUGH COUNCIL","Full Level 2: Retail and Commercial Enterprise","x","x","x",null,"x","x","x",null,"x","x","x",null,"x","x","x",null,"x","x","x",null,10,27,"bottom quintile"]
[10009600,"HAWK MANAGEMENT (UK) LIMITED","Intermediate Apprenticeships: Business, Administration and Law",10,92,"fourth quintile",null,200,95,"top quintile",null,20,83,"second quintile",null,320,89,"bottom quintile",null,"x","x","x",null,330,90,"second quintile"]
[10022133,"HEALTH AND FITNESS EDUCATION LIMITED","Full Level 3+: Leisure, Travel and Tourism",".",".",".",null,".",".",".",null,".",".",".",null,".",".",".",null,"x","x","x",null,70,88,"fourth quintile"]
[10002976,"HEART OF ENGLAND TRAINING LIMITED","Other provision below Full Level 2","x","x","x",null,"x","x","x",null,"x","x","x",null,10,62,"bottom quintile",null,"x","x","x",null,"x","x","x"]
[10007977,"HEART OF WORCESTERSHIRE COLLEGE","Full Level 3+: Arts, Media and Publishing",".",".",".",null,20,91,"top quintile",null,".",".",".",null,30,84,"third quintile",null,".",".",".",null,10,85,"fourth quintile"]
[10007977,"HEART OF WORCESTERSHIRE COLLEGE","Full Level 3+: Engineering and Manufacturing Technologies","x","x","x",null,20,81,"second quintile",null,"x","x","x",null,40,89,"third quintile",null,"x","x","x",null,20,89,"fourth quintile"]
[10007977,"HEART OF WORCESTERSHIRE COLLEGE","Full Level 2: Education and Training","x","x","x",null,10,73,"bottom quintile",null,"x","x","x",null,"x","x","x",null,".",".",".",null,"x","x","x"]
[10002979,"HEATHERCROFT TRAINING SERVICES LIMITED","LLDD learner",".",".",".",null,20,89,"top quintile",null,".",".",".",null,30,93,"top quintile",null,"x","x","x",null,30,80,"top quintile"]
[10002979,"HEATHERCROFT TRAINING SERVICES LIMITED","Intermediate Apprenticeships: Information and Communication Technology",".",".",".",null,10,100,"top quintile",null,".",".",".",null,"x","x","x",null,".",".",".",null,"x","x","x"]
[10003010,"HENLEY COLLEGE COVENTRY","Access to HE",10,69,"bottom quintile",null,100,91,"third quintile",null,"x","x","x",null,70,87,"bottom quintile",null,"x","x","x",null,120,85,"bottom quintile"]
[10003010,"HENLEY COLLEGE COVENTRY","Full Level 2: Science and Mathematics",".",".",".",null,"x","x","x",null,".",".",".",null,10,67,"bottom quintile",null,"x","x","x",null,20,100,"top quintile"]
[10003022,"HEREFORD COLLEGE OF ARTS","Full Level 3+: Arts, Media and Publishing",".",".",".",null,20,95,"top quintile",null,".",".",".",null,20,86,"fourth quintile",null,".",".",".",null,20,75,"second quintile"]
[10003023,"HEREFORDSHIRE AND LUDLOW COLLEGE","Other Level 3",".",".",".",null,140,94,"top quintile",null,".",".",".",null,"x","x","x",null,".",".",".",null,"x","x","x"]
[10003023,"HEREFORDSHIRE AND LUDLOW COLLEGE","Full Level 2: Languages, Literature and Culture",".",".",".",null,"x","x","x",null,".",".",".",null,".",".",".",null,"x","x","x",null,10,100,"top quintile"]
[10003023,"HEREFORDSHIRE AND LUDLOW COLLEGE","Full Level 2: Retail and Commercial Enterprise","x","x","x",null,30,75,"second quintile",null,".",".",".",null,30,75,"third quintile",null,"x","x","x",null,30,89,"top quintile"]
[10003035,"HERTFORD REGIONAL COLLEGE","LLDD learner",20,50,"fourth quintile",null,190,73,"fourth quintile",null,20,50,"fourth quintile",null,210,79,"top quintile",null,40,43,"third quintile",null,200,73,"fourth quintile"]
[10003035,"HERTFORD REGIONAL COLLEGE","Full Level 3+: Health, Public Services and Care","x","x","x",null,60,91,"fourth quintile",null,"x","x","x",null,60,95,"top quintile",null,".",".",".",null,"x","x","x"]
[10003035,"HERTFORD REGIONAL COLLEGE","Intermediate Apprenticeships: Engineering and Manufacturing Technologies",".",".",".",null,10,83,"bottom quintile",null,".",".",".",null,20,93,"second quintile",null,".",".",".",null,20,94,"third quintile"]
[10003035,"HERTFORD REGIONAL COLLEGE","English & Maths","x","x","x",null,40,86,"top quintile",null,"x","x","x",null,50,93,"top quintile",null,"x","x","x",null,50,77,"third quintile"]
[10007945,"HIGHBURY COLLEGE PORTSMOUTH","Full Level 3+: Arts, Media and Publishing","x","x","x",null,40,88,"fourth quintile",null,"x","x","x",null,40,91,"top quintile",null,".",".",".",null,30,79,"second quintile"]
[10007945,"HIGHBURY COLLEGE PORTSMOUTH","Full Level 3+: Information and Communication Technology","x","x","x",null,20,91,"top quintile",null,"x","x","x",null,"x","x","x",null,"x","x","x",null,"x","x","x"]
[10007945,"HIGHBURY COLLEGE PORTSMOUTH","Full Level 2: Science and Mathematics","x","x","x",null,20,91,"fourth quintile",null,".",".",".",null,20,87,"second quintile",null,".",".",".",null,"x","x","x"]
[10003089,"HILLINGDON LONDON BOROUGH COUNCIL","LLDD learner","x","x","x",null,150,72,"fourth quintile",null,"x","x","x",null,160,71,"fourth quintile",null,"x","x","x",null,160,65,"second quintile"]
[10003093,"HILLINGDON TRAINING LIMITED","Advanced and Higher Apprenticeships: Business, Administration and Law",".",".",".",null,30,92,"second quintile",null,".",".",".",null,20,93,"third quintile",null,"x","x","x",null,20,92,"second quintile"]
[10003103,"HINWICK HALL COLLEGE","LLDD learner",".",".",".",null,10,27,"bottom quintile",null,".",".",".",null,".",".",".",null,".",".",".",null,".",".","."]
[10012467,"HIT TRAINING LTD","Full Level 2: Leisure, Travel and Tourism",".",".",".",null,".",".",".",null,".",".",".",null,".",".",".",null,10,46,"second quintile",null,10,90,"top quintile"]
[10011941,"HONDA MOTOR EUROPE LIMITED","Advanced and Higher Apprenticeships: Engineering and Manufacturing Technologies",".",".",".",null,30,91,"second quintile",null,".",".",".",null,30,100,"top quintile",null,".",".",".",null,30,100,"top quintile"]
[10003146,"HOPWOOD HALL COLLEGE","Full Level 3+: Health, Public Services and Care","x","x","x",null,60,82,"bottom quintile",null,"x","x","x",null,50,80,"second quintile",null,"x","x","x",null,30,82,"third quintile"]
[10003146,"HOPWOOD HALL COLLEGE","Full Level 2: Agriculture, Horticulture and Animal Care",".",".",".",null,"x","x","x",null,"x","x","x",null,10,42,"bottom quintile",null,"x","x","x",null,10,86,"fourth quintile"]
[10003146,"HOPWOOD HALL COLLEGE","English for Speakers of Other Languages (ESOL)",70,75,"top quintile",null,220,78,"top quintile",null,60,61,"top quintile",null,310,65,"third quintile",null,40,63,"fourth quintile",null,50,59,"second quintile"]
[10003162,"HOSPITALITY TRAINING PARTNERSHIP (IOW) LIMITED","Intermediate Apprenticeships: Retail and Commercial Enterprise","x","x","x",null,110,89,"second quintile",null,"x","x","x",null,90,90,"second quintile",null,"x","x","x",null,80,78,"bottom quintile"]
[10003165,"HOUNSLOW LONDON BOROUGH COUNCIL","Other provision below Full Level 2",90,77,"top quintile",null,370,71,"second quintile",null,40,53,"third quintile",null,240,60,"bottom quintile",null,30,65,"top quintile",null,510,65,"second quintile"]
[10029358,"HOUSING & CARE 21","Advanced and Higher Apprenticeships: Health, Public Services and Care",".",".",".",null,20,100,"top quintile",null,".",".",".",null,10,100,"top quintile",null,".",".",".",null,".",".","."]
[10003193,"HUGH BAIRD COLLEGE","Advanced and Higher Apprenticeships: Engineering and Manufacturing Technologies",".",".",".",null,"x","x","x",null,".",".",".",null,20,88,"bottom quintile",null,".",".",".",null,10,73,"bottom quintile"]
[10003193,"HUGH BAIRD COLLEGE","Full Level 3+: Business, Administration and Law","x","x","x",null,40,84,"bottom quintile",null,"x","x","x",null,40,83,"bottom quintile",null,"x","x","x",null,30,88,"third quintile"]
[10003193,"HUGH BAIRD COLLEGE","English & Maths",20,70,"top quintile",null,60,70,"bottom quintile",null,10,92,"top quintile",null,20,91,"top quintile",null,"x","x","x",null,30,91,"top quintile"]
[10003197,"HULL BUSINESS TRAINING CENTRE LIMITED","Advanced and Higher Apprenticeships: Business, Administration and Law","x","x","x",null,40,98,"top quintile",null,".",".",".",null,30,94,"third quintile",null,".",".",".",null,20,100,"top quintile"]
[10003200,"HULL COLLEGE","Full Level 3+: Construction, Planning and the Built Environment","x","x","x",null,30,76,"second quintile",null,"x","x","x",null,40,77,"second quintile",null,"x","x","x",null,30,72,"second quintile"]
[10003200,"HULL COLLEGE","Other Level 3","x","x","x",null,80,89,"third quintile",null,"x","x","x",null,40,97,"top quintile",null,"x","x","x",null,20,88,"fourth quintile"]
[10003200,"HULL COLLEGE","Full Level 2: Arts, Media and Publishing",10,58,"second quintile",null,30,61,"bottom quintile",null,"x","x","x",null,"x","x","x",null,"x","x","x",null,"x","x","x"]
[10003200,"HULL COLLEGE","Traineeships","x","x","x",null,20,56,"bottom quintile",null,"x","x","x",null,10,80,"fourth quintile",null,40,55,"third quintile",null,30,63,"second quintile"]
[10003206,"HUMBERSIDE ENGINEERING TRAINING ASSOCIATION LIMITED","LLDD learner","x","x","x",null,20,100,"top quintile",null,"x","x","x",null,20,94,"top quintile",null,".",".",".",null,20,88,"top quintile"]
[10007949,"HUNTINGDONSHIRE REGIONAL COLLEGE","Full Level 3+: Education and Training",".",".",".",null,20,93,"third quintile",null,".",".",".",null,10,100,"top quintile",null,".",".",".",null,"x","x","x"]
[10007949,"HUNTINGDONSHIRE REGIONAL COLLEGE","Full Level 2: Retail and Commercial Enterprise","x","x","x",null,100,74,"second quintile",null,"x","x","x",null,70,74,"third quintile",null,".",".",".",null,60,82,"fourth quintile"]
[10007949,"HUNTINGDONSHIRE REGIONAL COLLEGE","Full Level 2: Science and Mathematics","x","x","x",null,40,86,"second quintile",null,"x","x","x",null,60,95,"top quintile",null,".",".",".",null,40,90,"fourth quintile"]
[10022627,"IMPACT LEARNING & DATA SOLUTIONS LIMITED","Intermediate Apprenticeships: Business, Administration and Law",".",".",".",null,70,97,"top quintile",null,"x","x","x",null,150,89,"bottom quintile",null,"x","x","x",null,250,91,"third quintile"]
[10003281,"IN-COMM TRAINING SERVICES LIMITED","Intermediate Apprenticeships: Engineering and Manufacturing Technologies","x","x","x",null,40,98,"top quintile",null,"x","x","x",null,40,94,"third quintile",null,".",".",".",null,".",".","."]
[10007755,"INGEUS TRAINING LIMITED","Advanced and Higher Apprenticeships: Health, Public Services and Care","x","x","x",null,180,94,"fourth quintile",null,".",".",".",null,120,97,"top quintile",null,".",".",".",null,110,95,"top quintile"]
[10007755,"INGEUS TRAINING LIMITED","Full Level 2: Business, Administration and Law",70,38,"bottom quintile",null,80,93,"top quintile",null,"x","x","x",null,70,93,"top quintile",null,"x","x","x",null,"x","x","x"]
[10010940,"INSPIRE 2 INDEPENDENCE (I2I) LTD","Intermediate Apprenticeships: Business, Administration and Law",".",".",".",null,40,85,"bottom quintile",null,".",".",".",null,30,88,"bottom quintile",null,"x","x","x",null,40,95,"top quintile"]
[10003347,"INTEC BUSINESS COLLEGES LIMITED","Intermediate Apprenticeships: Retail and Commercial Enterprise","x","x","x",null,80,93,"fourth quintile",null,"x","x","x",null,100,94,"fourth quintile",null,"x","x","x",null,100,91,"fourth quintile"]
[10013539,"INTERACTIVE DEVELOPMENT EDUCATION LIMITED","Other provision below Full Level 2",100,54,"fourth quintile",null,50,73,"third quintile",null,60,60,"top quintile",null,40,75,"second quintile",null,40,51,"third quintile",null,40,81,"fourth quintile"]
[10034022,"INTROTRAIN (ACE) LIMITED","LLDD learner","x","x","x",null,20,83,"top quintile",null,"x","x","x",null,30,78,"top quintile",null,"x","x","x",null,50,78,"top quintile"]
[10003385,"IPS INTERNATIONAL LIMITED","Full Level 2: Business, Administration and Law",".",".",".",null,30,87,"third quintile",null,".",".",".",null,"x","x","x",null,".",".",".",null,"x","x","x"]
[10003406,"ISLE OF WIGHT COLLEGE","Full Level 3+: Construction, Planning and the Built Environment","x","x","x",null,10,60,"bottom quintile",null,"x","x","x",null,10,77,"second quintile",null,".",".",".",null,10,100,"top quintile"]
[10003406,"ISLE OF WIGHT COLLEGE","Intermediate Apprenticeships: Retail and Commercial Enterprise",".",".",".",null,10,91,"second quintile",null,".",".",".",null,10,100,"top quintile",null,".",".",".",null,"x","x","x"]
[10003407,"ISLE OF WIGHT COUNCIL","LLDD learner",20,33,"bottom quintile",null,60,52,"bottom quintile",null,"x","x","x",null,20,60,"second quintile",null,10,60,"top quintile",null,30,71,"third quintile"]
[10027719,"ISS UK LIMITED","Intermediate Apprenticeships: Business, Administration and Law",".",".",".",null,20,89,"bottom quintile",null,".",".",".",null,"x","x","x",null,".",".",".",null,".",".","."]
[10003427,"ITCHEN COLLEGE","Full Level 2: Science and Mathematics","x","x","x",null,70,87,"second quintile",null,".",".",".",null,40,87,"second quintile",null,".",".",".",null,40,83,"bottom quintile"]
[10036282,"ITS TRAINING LTD","Intermediate Apprenticeships: Business, Administration and Law",".",".",".",null,20,88,"bottom quintile",null,".",".",".",null,10,100,"top quintile",null,".",".",".",null,"x","x","x"]
[10033758,"IXION HOLDINGS (CONTRACTS) LIMITED","LLDD learner",80,52,"top quintile",null,60,64,"second quintile",null,60,59,"top quintile",null,40,52,"bottom quintile",null,90,48,"fourth quintile",null,50,45,"bottom quintile"]
[10027031,"J D WETHERSPOON PLC","Advanced and Higher Apprenticeships: Retail and Commercial Enterprise",".",".",".",null,20,94,"top quintile",null,".",".",".",null,"x","x","x",null,".",".",".",null,".",".","."]
[10009671,"JAGUAR LAND ROVER HOLDINGS LIMITED","Intermediate Apprenticeships: Business, Administration and Law",".",".",".",null,"x","x","x",null,".",".",".",null,".",".",".",null,".",".",".",null,20,87,"bottom quintile"]
[10003456,"JARVIS TRAINING MANAGEMENT LIMITED","Advanced and Higher Apprenticeships: Education and Training","x","x","x",null,110,97,"fourth quintile",null,".",".",".",null,30,100,"top quintile",null,".",".",".",null,10,92,"second quintile"]
[10003456,"JARVIS TRAINING MANAGEMENT LIMITED","Intermediate Apprenticeships: Retail and Commercial Enterprise",".",".",".",null,"x","x","x",null,".",".",".",null,30,90,"second quintile",null,".",".",".",null,10,85,"bottom quintile"]
[10021254,"JFC  TRAINING COLLEGE LTD","Full Level 3+: Health, Public Services and Care",".",".",".",null,".",".",".",null,"x","x","x",null,90,83,"second quintile",null,10,64,"fourth quintile",null,130,79,"second quintile"]
[10003478,"JOBWISE TRAINING LIMITED","Advanced and Higher Apprenticeships: Business, Administration and Law",".",".",".",null,100,92,"second quintile",null,".",".",".",null,90,96,"fourth quintile",null,".",".",".",null,30,87,"bottom quintile"]
[10003490,"JOHN LAING TRAINING LIMITED","Advanced and Higher Apprenticeships: Business, Administration and Law",".",".",".",null,"x","x","x",null,"x","x","x",null,"x","x","x",null,".",".",".",null,20,82,"bottom quintile"]
[10003500,"JOHN RUSKIN COLLEGE","Full Level 3+: Health, Public Services and Care",".",".",".",null,"x","x","x",null,"x","x","x",null,20,73,"bottom quintile",null,"x","x","x",null,30,79,"second quintile"]
[10003508,"JOINT LEARNING PARTNERSHIP LIMITED","Full Level 2: Construction, Planning and the Built Environment",".",".",".",null,40,75,"bottom quintile",null,".",".",".",null,110,67,"bottom quintile",null,"x","x","x",null,50,35,"bottom quintile"]
[10003511,"JOSEPH CHAMBERLAIN SIXTH FORM COLLEGE","English for Speakers of Other Languages (ESOL)",".",".",".",null,".",".",".",null,".",".",".",null,".",".",".",null,"x","x","x",null,10,50,"bottom quintile"]
[10033723,"K & G HAIR LLP","Advanced and Higher Apprenticeships: Retail and Commercial Enterprise",".",".",".",null,10,100,"top quintile",null,".",".",".",null,"x","x","x",null,".",".",".",null,"x","x","x"]
[10000446,"KAPLAN FINANCIAL LIMITED","Full Level 2: Retail and Commercial Enterprise",".",".",".",null,".",".",".",null,".",".",".",null,".",".",".",null,120,31,"bottom quintile",null,"x","x","x"]
[10003571,"KEITS TRAINING SERVICES LTD","Other Level 3",".",".",".",null,20,95,"top quintile",null,".",".",".",null,"x","x","x",null,".",".",".",null,".",".","."]
[10003571,"KEITS TRAINING SERVICES LTD","Full Level 2: Agriculture, Horticulture and Animal Care","x","x","x",null,10,100,"top quintile",null,"x","x","x",null,"x","x","x",null,".",".",".",null,"x","x","x"]
[10003558,"KENDAL COLLEGE","Advanced and Higher Apprenticeships: Retail and Commercial Enterprise",".",".",".",null,50,91,"third quintile",null,".",".",".",null,20,100,"top quintile",null,".",".",".",null,40,97,"top quintile"]
[10003558,"KENDAL COLLEGE","Intermediate Apprenticeships: Retail and Commercial Enterprise",".",".",".",null,70,95,"top quintile",null,".",".",".",null,70,85,"bottom quintile",null,".",".",".",null,70,92,"fourth quintile"]
[10003564,"KENSINGTON AND CHELSEA COLLEGE","Full Level 3+: Arts, Media and Publishing",10,55,"bottom quintile",null,80,80,"second quintile",null,"x","x","x",null,60,70,"bottom quintile",null,"x","x","x",null,60,72,"bottom quintile"]
[10003564,"KENSINGTON AND CHELSEA COLLEGE","Full Level 2: Preparation for Life and Work","x","x","x",null,10,73,"bottom quintile",null,".",".",".",null,10,75,"bottom quintile",null,".",".",".",null,".",".","."]
[10003570,"KENT COUNTY COUNCIL","Full Level 3+: Business, Administration and Law",".",".",".",null,"x","x","x",null,".",".",".",null,"x","x","x",null,".",".",".",null,10,91,"fourth quintile"]
[10003570,"KENT COUNTY COUNCIL","Full Level 2: Business, Administration and Law","x","x","x",null,20,95,"top quintile",null,".",".",".",null,"x","x","x",null,".",".",".",null,"x","x","x"]
[10003593,"KEY TRAINING LIMITED","Advanced and Higher Apprenticeships: Business, Administration and Law","x","x","x",null,270,96,"top quintile",null,".",".",".",null,240,98,"top quintile",null,"x","x","x",null,260,95,"fourth quintile"]
[10003602,"KIDDERMINSTER COLLEGE","Full Level 3+: Arts, Media and Publishing",10,67,"third quintile",null,220,87,"fourth quintile",null,".",".",".",null,".",".",".",null,".",".",".",null,".",".","."]
[10003602,"KIDDERMINSTER COLLEGE","Full Level 2: Business, Administration and Law",".",".",".",null,20,94,"top quintile",null,".",".",".",null,".",".",".",null,".",".",".",null,".",".","."]
[10053960,"KIDDERMINSTER COLLEGE","LLDD learner",".",".",".",null,".",".",".",null,".",".",".",null,".",".",".",null,20,59,"top quintile",null,120,70,"third quintile"]
[10003674,"KINGSTON COLLEGE","Full Level 3+: Business, Administration and Law","x","x","x",null,40,79,"bottom quintile",null,".",".",".",null,40,80,"bottom quintile",null,"x","x","x",null,40,84,"third quintile"]
[10003674,"KINGSTON COLLEGE","Full Level 2: Business, Administration and Law","x","x","x",null,10,100,"top quintile",null,".",".",".",null,"x","x","x",null,".",".",".",null,".",".","."]
[10003674,"KINGSTON COLLEGE","Full Level 2: Engineering and Manufacturing Technologies","x","x","x",null,50,88,"fourth quintile",null,"x","x","x",null,30,97,"top quintile",null,"x","x","x",null,20,81,"third quintile"]
[10003676,"KINGSTON MAURWARD COLLEGE","Full Level 3+: Agriculture, Horticulture and Animal Care","x","x","x",null,50,89,"fourth quintile",null,"x","x","x",null,50,90,"top quintile",null,"x","x","x",null,30,79,"second quintile"]
[10003198,"KINGSTON UPON HULL CITY COUNCIL","LLDD learner",110,51,"fourth quintile",null,230,78,"top quintile",null,70,58,"top quintile",null,210,70,"fourth quintile",null,70,53,"top quintile",null,220,77,"fourth quintile"]
[10003198,"KINGSTON UPON HULL CITY COUNCIL","Full Level 3+: Health, Public Services and Care","x","x","x",null,40,90,"fourth quintile",null,"x","x","x",null,20,95,"top quintile",null,".",".",".",null,"x","x","x"]
[10003198,"KINGSTON UPON HULL CITY COUNCIL","English & Maths",140,60,"fourth quintile",null,400,77,"third quintile",null,100,67,"top quintile",null,610,72,"second quintile",null,50,62,"fourth quintile",null,450,77,"third quintile"]
[10003189,"KIRKLEES COLLEGE","Advanced and Higher Apprenticeships: Engineering and Manufacturing Technologies",".",".",".",null,80,92,"third quintile",null,"x","x","x",null,100,97,"top quintile",null,"x","x","x",null,130,90,"second quintile"]
[10003189,"KIRKLEES COLLEGE","Full Level 3+: Retail and Commercial Enterprise","x","x","x",null,30,63,"bottom quintile",null,"x","x","x",null,40,77,"fourth quintile",null,"x","x","x",null,40,73,"fourth quintile"]
[10003189,"KIRKLEES COLLEGE","Other provision below Full Level 2",310,46,"bottom quintile",null,110,75,"third quintile",null,310,51,"second quintile",null,300,76,"third quintile",null,100,65,"top quintile",null,460,65,"second quintile"]
[10003708,"KNOWSLEY COMMUNITY COLLEGE","Full Level 3+: Arts, Media and Publishing","x","x","x",null,40,82,"third quintile",null,"x","x","x",null,40,69,"bottom quintile",null,"x","x","x",null,"x","x","x"]
[10003708,"KNOWSLEY COMMUNITY COLLEGE","Intermediate Apprenticeships: Business, Administration and Law","x","x","x",null,70,93,"third quintile",null,"x","x","x",null,40,98,"top quintile",null,"x","x","x",null,40,98,"top quintile"]
[10003708,"KNOWSLEY COMMUNITY COLLEGE","Full Level 2: Retail and Commercial Enterprise",10,55,"third quintile",null,70,75,"second quintile",null,"x","x","x",null,50,63,"second quintile",null,"x","x","x",null,40,69,"second quintile"]
[10003709,"KNOWSLEY METROPOLITAN BOROUGH COUNCIL","Full Level 2: Information and Communication Technology","x","x","x",null,20,95,"top quintile",null,"x","x","x",null,20,93,"top quintile",null,"x","x","x",null,10,67,"second quintile"]
[10003744,"LAGAT LIMITED","Intermediate Apprenticeships: Health, Public Services and Care",".",".",".",null,10,92,"second quintile",null,".",".",".",null,10,82,"bottom quintile",null,".",".",".",null,10,100,"top quintile"]
[10003753,"LAKES COLLEGE WEST CUMBRIA","Advanced and Higher Apprenticeships: Business, Administration and Law",".",".",".",null,50,94,"third quintile",null,".",".",".",null,50,98,"top quintile",null,"x","x","x",null,60,93,"third quintile"]
[10003753,"LAKES COLLEGE WEST CUMBRIA","Full Level 2: Business, Administration and Law",120,66,"fourth quintile",null,380,84,"second quintile",null,50,56,"second quintile",null,240,85,"second quintile",null,30,63,"fourth quintile",null,190,88,"second quintile"]
[10003755,"LAMBETH COLLEGE","Full Level 3+: Retail and Commercial Enterprise",20,38,"bottom quintile",null,40,71,"second quintile",null,"x","x","x",null,40,72,"third quintile",null,"x","x","x",null,50,70,"third quintile"]
[10003755,"LAMBETH COLLEGE","Full Level 2: Business, Administration and Law",30,65,"fourth quintile",null,220,83,"second quintile",null,10,71,"top quintile",null,180,85,"second quintile",null,"x","x","x",null,110,87,"second quintile"]
[10003755,"LAMBETH COLLEGE","Other provision below Full Level 2",760,50,"second quintile",null,290,70,"second quintile",null,580,50,"second quintile",null,1060,84,"fourth quintile",null,360,49,"second quintile",null,1090,73,"third quintile"]
[10003765,"LANCASHIRE COUNTY COUNCIL","Advanced and Higher Apprenticeships: Education and Training",".",".",".",null,20,88,"bottom quintile",null,".",".",".",null,"x","x","x",null,".",".",".",null,".",".","."]
[10003765,"LANCASHIRE COUNTY COUNCIL","Full Level 2: Education and Training","x","x","x",null,30,82,"second quintile",null,"x","x","x",null,50,74,"second quintile",null,".",".",".",null,".",".","."]
[10003768,"LANCASTER AND MORECAMBE COLLEGE","Full Level 3+: Education and Training",".",".",".",null,30,89,"second quintile",null,"x","x","x",null,20,91,"fourth quintile",null,"x","x","x",null,30,88,"third quintile"]
[10003768,"LANCASTER AND MORECAMBE COLLEGE","Full Level 3+: Leisure, Travel and Tourism","x","x","x",null,"x","x","x",null,"x","x","x",null,10,100,"top quintile",null,".",".",".",null,"x","x","x"]
[10003768,"LANCASTER AND MORECAMBE COLLEGE","Full Level 2: Health, Public Services and Care","x","x","x",null,470,93,"fourth quintile",null,"x","x","x",null,240,91,"second quintile",null,"x","x","x",null,270,91,"third quintile"]
[10027803,"LD TRAINING SERVICES LIMITED","Full Level 3+: Health, Public Services and Care",".",".",".",null,".",".",".",null,".",".",".",null,"x","x","x",null,"x","x","x",null,20,60,"bottom quintile"]
[10003816,"LEARNDIRECT LIMITED","Full Level 3+: Health, Public Services and Care","x","x","x",null,20,95,"top quintile",null,"x","x","x",null,80,88,"third quintile",null,"x","x","x",null,50,83,"third quintile"]
[10003816,"LEARNDIRECT LIMITED","Full Level 2: Information and Communication Technology",7630,63,"second quintile",null,3290,74,"bottom quintile",null,5040,64,"second quintile",null,1940,67,"bottom quintile",null,3300,63,"second quintile",null,860,58,"bottom quintile"]
[10008935,"LEARNING CURVE (JAA) LIMITED","Intermediate Apprenticeships: Business, Administration and Law",".",".",".",null,10,83,"bottom quintile",null,".",".",".",null,20,100,"top quintile",null,".",".",".",null,40,89,"second quintile"]
[10008935,"LEARNING CURVE (JAA) LIMITED","Full Level 2: Business, Administration and Law",".",".",".",null,70,96,"top quintile",null,"x","x","x",null,"x","x","x",null,40,49,"second quintile",null,30,91,"fourth quintile"]
[10024962,"LEEDS CITY COLLEGE","Advanced and Higher Apprenticeships: Engineering and Manufacturing Technologies",".",".",".",null,100,95,"fourth quintile",null,"x","x","x",null,110,94,"fourth quintile",null,".",".",".",null,160,94,"fourth quintile"]
[10024962,"LEEDS CITY COLLEGE","Intermediate Apprenticeships: Business, Administration and Law","x","x","x",null,330,94,"fourth quintile",null,"x","x","x",null,300,93,"third quintile",null,"x","x","x",null,110,88,"bottom quintile"]
[10024962,"LEEDS CITY COLLEGE","Intermediate Apprenticeships: Health, Public Services and Care",20,94,"top quintile",null,180,92,"second quintile",null,40,75,"second quintile",null,400,85,"bottom quintile",null,"x","x","x",null,250,91,"second quintile"]
[10024962,"LEEDS CITY COLLEGE","Full Level 2: Science and Mathematics",40,79,"second quintile",null,240,92,"fourth quintile",null,30,79,"second quintile",null,300,87,"second quintile",null,20,88,"top quintile",null,300,89,"fourth quintile"]
[10003855,"LEEDS COLLEGE OF BUILDING","Full Level 3+: Education and Training",".",".",".",null,20,100,"top quintile",null,".",".",".",null,10,100,"top quintile",null,".",".",".",null,".",".","."]
[10003866,"LEICESTER CITY COUNCIL","Full Level 3+: Health, Public Services and Care","x","x","x",null,40,75,"bottom quintile",null,"x","x","x",null,30,72,"bottom quintile",null,"x","x","x",null,30,72,"bottom quintile"]
[10003866,"LEICESTER CITY COUNCIL","Traineeships",".",".",".",null,".",".",".",null,20,56,"second quintile",null,"x","x","x",null,"x","x","x",null,"x","x","x"]
[10003867,"LEICESTER COLLEGE","Advanced and Higher Apprenticeships: Information and Communication Technology",".",".",".",null,"x","x","x",null,".",".",".",null,20,88,"bottom quintile",null,".",".",".",null,"x","x","x"]
[10003867,"LEICESTER COLLEGE","Access to HE",40,92,"fourth quintile",null,180,91,"third quintile",null,20,90,"fourth quintile",null,190,92,"third quintile",null,10,92,"top quintile",null,180,92,"fourth quintile"]
[10003867,"LEICESTER COLLEGE","Full Level 2: Engineering and Manufacturing Technologies","x","x","x",null,100,85,"third quintile",null,20,84,"top quintile",null,230,89,"fourth quintile",null,".",".",".",null,60,88,"fourth quintile"]
[10003867,"LEICESTER COLLEGE","English & Maths",280,56,"fourth quintile",null,1180,77,"third quintile",null,150,59,"fourth quintile",null,1030,76,"third quintile",null,60,71,"top quintile",null,620,83,"fourth quintile"]
[10003895,"LEWISHAM LONDON BOROUGH COUNCIL","Full Level 2: Education and Training","x","x","x",null,30,69,"bottom quintile",null,"x","x","x",null,20,76,"second quintile",null,"x","x","x",null,10,85,"fourth quintile"]
[10003895,"LEWISHAM LONDON BOROUGH COUNCIL","English for Speakers of Other Languages (ESOL)",30,44,"bottom quintile",null,200,69,"third quintile",null,70,43,"bottom quintile",null,210,64,"third quintile",null,"x","x","x",null,40,72,"top quintile"]
[10003894,"LEWISHAM SOUTHWARK COLLEGE","Full Level 3+: Leisure, Travel and Tourism","x","x","x",null,20,63,"bottom quintile",null,"x","x","x",null,10,85,"third quintile",null,".",".",".",null,"x","x","x"]
[10003894,"LEWISHAM SOUTHWARK COLLEGE","Intermediate Apprenticeships: Leisure, Travel and Tourism","x","x","x",null,20,88,"second quintile",null,".",".",".",null,"x","x","x",null,".",".",".",null,".",".","."]
[10003894,"LEWISHAM SOUTHWARK COLLEGE","English & Maths",310,56,"fourth quintile",null,1970,81,"fourth quintile",null,190,51,"third quintile",null,1680,79,"third quintile",null,90,57,"fourth quintile",null,1250,78,"third quintile"]
[10003909,"LIFESKILLS SOLUTIONS LIMITED","Advanced and Higher Apprenticeships: Leisure, Travel and Tourism",".",".",".",null,10,75,"bottom quintile",null,".",".",".",null,".",".",".",null,".",".",".",null,".",".","."]
[10003915,"LIFETIME TRAINING GROUP LIMITED","Advanced and Higher Apprenticeships: Leisure, Travel and Tourism",20,76,"second quintile",null,730,91,"third quintile",null,"x","x","x",null,770,91,"fourth quintile",null,"x","x","x",null,780,89,"third quintile"]
[10003928,"LINCOLN COLLEGE","Advanced and Higher Apprenticeships: Construction, Planning and the Built Environment",".",".",".",null,".",".",".",null,".",".",".",null,"x","x","x",null,".",".",".",null,10,90,"top quintile"]
[10003928,"LINCOLN COLLEGE","Full Level 3+: Science and Mathematics",".",".",".",null,20,95,"fourth quintile",null,".",".",".",null,20,76,"bottom quintile",null,"x","x","x",null,20,79,"bottom quintile"]
[10003928,"LINCOLN COLLEGE","Full Level 2: Education and Training","x","x","x",null,20,87,"third quintile",null,"x","x","x",null,20,79,"second quintile",null,"x","x","x",null,20,95,"top quintile"]
[10003928,"LINCOLN COLLEGE","Other provision below Full Level 2",480,41,"bottom quintile",null,100,76,"third quintile",null,340,47,"bottom quintile",null,150,70,"second quintile",null,80,69,"top quintile",null,270,79,"fourth quintile"]
[10032250,"LIONHEART IN THE COMMUNITY LIMITED","Full Level 3+: Health, Public Services and Care",".",".",".",null,".",".",".",null,".",".",".",null,".",".",".",null,50,64,"fourth quintile",null,360,82,"third quintile"]
[10030252,"LIVERPOOL CHAMBER TRAINING LTD","Intermediate Apprenticeships: Retail and Commercial Enterprise","x","x","x",null,20,91,"second quintile",null,"x","x","x",null,20,95,"top quintile",null,".",".",".",null,10,91,"fourth quintile"]
[10003976,"LOCOMOTIVATION LTD.","LLDD learner",20,69,"top quintile",null,20,83,"top quintile",null,"x","x","x",null,30,71,"fourth quintile",null,"x","x","x",null,30,88,"top quintile"]
[10003976,"LOCOMOTIVATION LTD.","Other provision below Full Level 2",50,55,"fourth quintile",null,"x","x","x",null,".",".",".",null,".",".",".",null,".",".",".",null,"x","x","x"]
[10006444,"LONDON BOROUGH OF SUTTON (SCOLA)","Full Level 2: Languages, Literature and Culture","x","x","x",null,40,78,"bottom quintile",null,"x","x","x",null,50,82,"second quintile",null,"x","x","x",null,60,82,"second quintile"]
[10021684,"LONDON LEARNING CONSORTIUM COMMUNITY INTEREST COMPANY","Intermediate Apprenticeships: Health, Public Services and Care","x","x","x",null,"x","x","x",null,".",".",".",null,20,96,"top quintile",null,".",".",".",null,50,85,"bottom quintile"]
[10021684,"LONDON LEARNING CONSORTIUM COMMUNITY INTEREST COMPANY","English & Maths",40,66,"top quintile",null,60,68,"bottom quintile",null,30,62,"fourth quintile",null,290,81,"fourth quintile",null,30,57,"fourth quintile",null,90,80,"fourth quintile"]
[10022507,"LONDON SKILLS & DEVELOPMENT NETWORK LIMITED","Intermediate Apprenticeships: Information and Communication Technology",".",".",".",null,100,95,"fourth quintile",null,".",".",".",null,40,93,"second quintile",null,".",".",".",null,30,92,"second quintile"]
[10012477,"LOOKFANTASTIC TRAINING LIMITED","Full Level 2: Business, Administration and Law",10,36,"bottom quintile",null,"x","x","x",null,".",".",".",null,".",".",".",null,".",".",".",null,"x","x","x"]
[10004112,"LOUGHBOROUGH COLLEGE","Full Level 3+: Arts, Media and Publishing",".",".",".",null,10,100,"top quintile",null,".",".",".",null,20,78,"second quintile",null,".",".",".",null,10,75,"second quintile"]
[10004112,"LOUGHBOROUGH COLLEGE","Full Level 3+: Science and Mathematics","x","x","x",null,10,100,"top quintile",null,".",".",".",null,10,85,"bottom quintile",null,".",".",".",null,20,87,"third quintile"]
[10004112,"LOUGHBOROUGH COLLEGE","Full Level 2: Health, Public Services and Care","x","x","x",null,790,95,"top quintile",null,"x","x","x",null,420,93,"fourth quintile",null,".",".",".",null,270,90,"second quintile"]
[10004116,"LOWESTOFT COLLEGE","Advanced and Higher Apprenticeships: Health, Public Services and Care",".",".",".",null,"x","x","x",null,".",".",".",null,10,91,"second quintile",null,".",".",".",null,"x","x","x"]
[10004116,"LOWESTOFT COLLEGE","Intermediate Apprenticeships: Retail and Commercial Enterprise","x","x","x",null,10,100,"top quintile",null,".",".",".",null,10,77,"bottom quintile",null,".",".",".",null,"x","x","x"]
[10004124,"LUTON BOROUGH COUNCIL","Full Level 2: Health, Public Services and Care","x","x","x",null,10,69,"bottom quintile",null,"x","x","x",null,20,81,"bottom quintile",null,".",".",".",null,10,55,"bottom quintile"]
[10004440,"M I T SKILLS LIMITED","Advanced and Higher Apprenticeships: Business, Administration and Law","x","x","x",null,"x","x","x",null,".",".",".",null,"x","x","x",null,".",".",".",null,20,100,"top quintile"]
[10004440,"M I T SKILLS LIMITED","Traineeships",".",".",".",null,".",".",".",null,"x","x","x",null,"x","x","x",null,"x","x","x",null,70,72,"fourth quintile"]
[10004144,"MACCLESFIELD COLLEGE","Intermediate Apprenticeships: Business, Administration and Law",".",".",".",null,10,100,"top quintile",null,".",".",".",null,20,100,"top quintile",null,".",".",".",null,20,100,"top quintile"]
[10004144,"MACCLESFIELD COLLEGE","English & Maths","x","x","x",null,30,79,"third quintile",null,"x","x","x",null,30,79,"third quintile",null,"x","x","x",null,20,87,"top quintile"]
[10009491,"MAINSTREAM TRAINING LIMITED","Intermediate Apprenticeships: Retail and Commercial Enterprise",".",".",".",null,10,91,"second quintile",null,".",".",".",null,"x","x","x",null,".",".",".",null,10,100,"top quintile"]
[10004175,"MANCHESTER CITY COUNCIL","Other provision below Full Level 2",80,59,"top quintile",null,270,60,"bottom quintile",null,30,69,"top quintile",null,100,79,"third quintile",null,90,70,"top quintile",null,130,63,"second quintile"]
[10023139,"MANCHESTER COLLEGE, THE","Full Level 3+: Languages, Literature and Culture","x","x","x",null,30,88,"third quintile",null,"x","x","x",null,40,84,"third quintile",null,".",".",".",null,"x","x","x"]
[10023139,"MANCHESTER COLLEGE, THE","Full Level 2: Business, Administration and Law",140,59,"third quintile",null,250,79,"bottom quintile",null,20,70,"fourth quintile",null,220,84,"bottom quintile",null,10,64,"fourth quintile",null,120,86,"second quintile"]
[10023139,"MANCHESTER COLLEGE, THE","Full Level 2: Retail and Commercial Enterprise",40,66,"top quintile",null,300,64,"bottom quintile",null,40,58,"fourth quintile",null,320,60,"bottom quintile",null,20,74,"top quintile",null,210,60,"bottom quintile"]
[10004181,"MANTRA LEARNING LIMITED","Intermediate Apprenticeships: Business, Administration and Law",".",".",".",null,10,93,"third quintile",null,".",".",".",null,10,82,"bottom quintile",null,".",".",".",null,20,83,"bottom quintile"]
[10005926,"MARDELL ASSOCIATES LIMITED","Full Level 3+: Agriculture, Horticulture and Animal Care",10,92,"top quintile",null,"x","x","x",null,"x","x","x",null,"x","x","x",null,".",".",".",null,".",".","."]
[10005926,"MARDELL ASSOCIATES LIMITED","English & Maths","x","x","x",null,80,88,"top quintile",null,"x","x","x",null,50,91,"top quintile",null,"x","x","x",null,50,76,"third quintile"]
[10024124,"MARR CORPORATION LIMITED","Traineeships","x","x","x",null,10,80,"fourth quintile",null,20,75,"top quintile",null,40,92,"top quintile",null,"x","x","x",null,30,96,"top quintile"]
[10007875,"MARY WARD SETTLEMENT","Full Level 3+: Arts, Media and Publishing",".",".",".",null,".",".",".",null,"x","x","x",null,"x","x","x",null,".",".",".",null,10,92,"top quintile"]
[10013073,"MCDONALD'S RESTAURANTS LIMITED","LLDD learner","x","x","x",null,40,97,"top quintile",null,".",".",".",null,40,95,"top quintile",null,".",".",".",null,20,94,"top quintile"]
[10010905,"MEADOWHALL TRAINING LIMITED","Advanced and Higher Apprenticeships: Business, Administration and Law",".",".",".",null,".",".",".",null,"x","x","x",null,70,91,"bottom quintile",null,".",".",".",null,80,95,"fourth quintile"]
[10004285,"MEDWAY COUNCIL","Full Level 3+: Health, Public Services and Care",".",".",".",null,".",".",".",null,".",".",".",null,"x","x","x",null,"x","x","x",null,10,93,"top quintile"]
[10004285,"MEDWAY COUNCIL","Full Level 2: Languages, Literature and Culture","x","x","x",null,40,80,"bottom quintile",null,"x","x","x",null,30,96,"top quintile",null,".",".",".",null,20,95,"top quintile"]
[10004303,"MERCIA PARTNERSHIP (UK) LTD","English & Maths","x","x","x",null,20,86,"top quintile",null,".",".",".",null,40,74,"second quintile",null,".",".",".",null,10,91,"top quintile"]
[10003996,"MERTON BOROUGH COUNCIL","Full Level 2: Languages, Literature and Culture","x","x","x",null,30,73,"bottom quintile",null,"x","x","x",null,40,90,"fourth quintile",null,".",".",".",null,20,64,"bottom quintile"]
[10004319,"METSKILL LIMITED","Traineeships",".",".",".",null,".",".",".",null,"x","x","x",null,40,67,"second quintile",null,".",".",".",null,".",".","."]
[10018328,"MI COMPUTSOLUTIONS INCORPORATED","Full Level 2: Health, Public Services and Care",40,74,"top quintile",null,70,67,"bottom quintile",null,10,38,"bottom quintile",null,10,31,"bottom quintile",null,10,64,"fourth quintile",null,20,37,"bottom quintile"]
[10007002,"MICHAEL JOHN TRAINING LIMITED","Advanced and Higher Apprenticeships: Retail and Commercial Enterprise","x","x","x",null,30,81,"bottom quintile",null,"x","x","x",null,30,79,"bottom quintile",null,".",".",".",null,50,80,"bottom quintile"]
[10007002,"MICHAEL JOHN TRAINING LIMITED","English & Maths",".",".",".",null,60,89,"top quintile",null,".",".",".",null,80,90,"top quintile",null,"x","x","x",null,60,87,"top quintile"]
[10004339,"MID-CHESHIRE COLLEGE","Full Level 3+: Leisure, Travel and Tourism",".",".",".",null,10,90,"fourth quintile",null,".",".",".",null,"x","x","x",null,".",".",".",null,".",".","."]
[10004339,"MID-CHESHIRE COLLEGE","Full Level 2: Construction, Planning and the Built Environment","x","x","x",null,80,67,"bottom quintile",null,"x","x","x",null,10,90,"top quintile",null,"x","x","x",null,10,77,"fourth quintile"]
[10004344,"MIDDLESBROUGH COLLEGE","LLDD learner",240,39,"bottom quintile",null,260,66,"third quintile",null,70,52,"top quintile",null,360,76,"top quintile",null,120,53,"top quintile",null,360,63,"second quintile"]
[10004344,"MIDDLESBROUGH COLLEGE","Full Level 3+: Information and Communication Technology","x","x","x",null,"x","x","x",null,"x","x","x",null,"x","x","x",null,".",".",".",null,20,88,"fourth quintile"]
[10004344,"MIDDLESBROUGH COLLEGE","Full Level 2: Education and Training","x","x","x",null,40,77,"second quintile",null,"x","x","x",null,20,71,"bottom quintile",null,"x","x","x",null,20,83,"third quintile"]
[10004344,"MIDDLESBROUGH COLLEGE","Other provision below Full Level 2",1050,41,"bottom quintile",null,180,45,"bottom quintile",null,230,47,"bottom quintile",null,520,85,"top quintile",null,820,62,"top quintile",null,690,79,"fourth quintile"]
[10004340,"MID-KENT COLLEGE","Full Level 3+: Agriculture, Horticulture and Animal Care","x","x","x",null,20,94,"top quintile",null,".",".",".",null,20,89,"top quintile",null,".",".",".",null,10,62,"bottom quintile"]
[10004340,"MID-KENT COLLEGE","Intermediate Apprenticeships: Business, Administration and Law",".",".",".",null,40,95,"top quintile",null,".",".",".",null,30,93,"third quintile",null,".",".",".",null,40,83,"bottom quintile"]
[10004340,"MID-KENT COLLEGE","Intermediate Apprenticeships: Retail and Commercial Enterprise",".",".",".",null,"x","x","x",null,".",".",".",null,10,79,"bottom quintile",null,".",".",".",null,10,80,"bottom quintile"]
[10004355,"MIDLAND GROUP TRAINING SERVICES LIMITED","Advanced and Higher Apprenticeships: Engineering and Manufacturing Technologies","x","x","x",null,60,95,"fourth quintile",null,"x","x","x",null,100,95,"fourth quintile",null,".",".",".",null,100,93,"fourth quintile"]
[10004375,"MILTON KEYNES COLLEGE","LLDD learner",240,55,"top quintile",null,540,66,"third quintile",null,180,50,"top quintile",null,530,58,"second quintile",null,100,52,"top quintile",null,450,65,"second quintile"]
[10004375,"MILTON KEYNES COLLEGE","Advanced and Higher Apprenticeships: Retail and Commercial Enterprise",".",".",".",null,10,100,"top quintile",null,".",".",".",null,20,82,"bottom quintile",null,".",".",".",null,"x","x","x"]
[10004375,"MILTON KEYNES COLLEGE","Intermediate Apprenticeships: Health, Public Services and Care",".",".",".",null,20,96,"top quintile",null,"x","x","x",null,10,100,"top quintile",null,".",".",".",null,"x","x","x"]
[10004376,"MILTON KEYNES COUNCIL","Full Level 2: Business, Administration and Law",".",".",".",null,".",".",".",null,".",".",".",null,10,90,"third quintile",null,"x","x","x",null,"x","x","x"]
[10023999,"MITIE GROUP PLC","Advanced and Higher Apprenticeships: Retail and Commercial Enterprise",".",".",".",null,"x","x","x",null,".",".",".",null,30,93,"fourth quintile",null,".",".",".",null,30,83,"bottom quintile"]
[10044729,"MOMENTUM TRAINING AND CONSULTANCY LTD","Intermediate Apprenticeships: Retail and Commercial Enterprise",".",".",".",null,".",".",".",null,".",".",".",null,30,81,"bottom quintile",null,".",".",".",null,10,69,"bottom quintile"]
[10004432,"MORLEY COLLEGE LIMITED","Other provision below Full Level 2",210,69,"top quintile",null,6400,85,"top quintile",null,120,72,"top quintile",null,6700,84,"fourth quintile",null,80,63,"top quintile",null,6300,84,"top quintile"]
[10004442,"MOULTON COLLEGE","Full Level 3+: Health, Public Services and Care",".",".",".",null,"x","x","x",null,"x","x","x",null,10,90,"fourth quintile",null,".",".",".",null,"x","x","x"]
[10004442,"MOULTON COLLEGE","Full Level 2: Construction, Planning and the Built Environment","x","x","x",null,60,91,"top quintile",null,"x","x","x",null,50,98,"top quintile",null,".",".",".",null,40,82,"fourth quintile"]
[10004478,"MYERSCOUGH COLLEGE","Full Level 3+: Agriculture, Horticulture and Animal Care","x","x","x",null,110,91,"top quintile",null,"x","x","x",null,100,84,"third quintile",null,"x","x","x",null,120,87,"third quintile"]
[10004478,"MYERSCOUGH COLLEGE","English & Maths","x","x","x",null,"x","x","x",null,"x","x","x",null,10,50,"bottom quintile",null,"x","x","x",null,"x","x","x"]
[10004486,"NACRO","LLDD learner",160,32,"bottom quintile",null,60,50,"bottom quintile",null,150,34,"bottom quintile",null,90,36,"bottom quintile",null,120,46,"fourth quintile",null,100,52,"bottom quintile"]
[10004486,"NACRO","English & Maths",30,52,"second quintile",null,40,49,"bottom quintile",null,20,61,"fourth quintile",null,80,69,"bottom quintile",null,30,59,"fourth quintile",null,60,75,"third quintile"]
[10004599,"NCG","Full Level 3+: Business, Administration and Law","x","x","x",null,90,91,"third quintile",null,"x","x","x",null,100,87,"second quintile",null,".",".",".",null,".",".","."]
[10004599,"NCG","Access to HE",40,86,"second quintile",null,320,92,"fourth quintile",null,40,92,"fourth quintile",null,310,92,"third quintile",null,".",".",".",null,".",".","."]
[10004599,"NCG","Intermediate Apprenticeships: Engineering and Manufacturing Technologies",".",".",".",null,20,100,"top quintile",null,".",".",".",null,30,94,"third quintile",null,".",".",".",null,40,84,"bottom quintile"]
[10004599,"NCG","Full Level 2: Retail and Commercial Enterprise",50,56,"third quintile",null,300,81,"third quintile",null,20,67,"top quintile",null,290,76,"third quintile",null,".",".",".",null,"x","x","x"]
[10004552,"NELSON AND COLNE COLLEGE","Advanced and Higher Apprenticeships: Engineering and Manufacturing Technologies",".",".",".",null,10,100,"top quintile",null,".",".",".",null,"x","x","x",null,".",".",".",null,"x","x","x"]
[10004552,"NELSON AND COLNE COLLEGE","Intermediate Apprenticeships: Health, Public Services and Care",".",".",".",null,20,94,"fourth quintile",null,".",".",".",null,20,100,"top quintile",null,".",".",".",null,"x","x","x"]
[10004552,"NELSON AND COLNE COLLEGE","English for Speakers of Other Languages (ESOL)",30,37,"bottom quintile",null,180,75,"fourth quintile",null,20,61,"top quintile",null,200,69,"fourth quintile",null,20,25,"bottom quintile",null,40,59,"second quintile"]
[10004576,"NEW COLLEGE DURHAM","Full Level 3+: Construction, Planning and the Built Environment",".",".",".",null,10,42,"bottom quintile",null,"x","x","x",null,20,65,"bottom quintile",null,".",".",".",null,20,59,"bottom quintile"]
[10004576,"NEW COLLEGE DURHAM","Full Level 2: Construction, Planning and the Built Environment","x","x","x",null,70,93,"top quintile",null,"x","x","x",null,30,85,"third quintile",null,"x","x","x",null,60,82,"fourth quintile"]
[10004576,"NEW COLLEGE DURHAM","Other provision below Full Level 2",500,48,"second quintile",null,170,67,"second quintile",null,90,37,"bottom quintile",null,180,55,"bottom quintile",null,150,43,"bottom quintile",null,90,57,"bottom quintile"]
[10004577,"NEW COLLEGE NOTTINGHAM (NCN)","Full Level 3+: Education and Training","x","x","x",null,20,76,"bottom quintile",null,".",".",".",null,"x","x","x",null,"x","x","x",null,60,87,"third quintile"]
[10004577,"NEW COLLEGE NOTTINGHAM (NCN)","Intermediate Apprenticeships: Business, Administration and Law","x","x","x",null,90,98,"top quintile",null,"x","x","x",null,70,88,"bottom quintile",null,".",".",".",null,70,87,"bottom quintile"]
[10004577,"NEW COLLEGE NOTTINGHAM (NCN)","Full Level 2: Education and Training","x","x","x",null,10,86,"third quintile",null,"x","x","x",null,20,100,"top quintile",null,"x","x","x",null,30,72,"second quintile"]
[10006303,"NEW COLLEGE STAMFORD","Full Level 3+: Retail and Commercial Enterprise","x","x","x",null,20,93,"top quintile",null,".",".",".",null,10,91,"top quintile",null,"x","x","x",null,"x","x","x"]
[10006303,"NEW COLLEGE STAMFORD","Intermediate Apprenticeships: Retail and Commercial Enterprise",".",".",".",null,30,88,"second quintile",null,".",".",".",null,20,91,"third quintile",null,".",".",".",null,10,83,"bottom quintile"]
[10004579,"NEW COLLEGE SWINDON","Advanced and Higher Apprenticeships: Business, Administration and Law",".",".",".",null,40,93,"second quintile",null,".",".",".",null,20,85,"bottom quintile",null,".",".",".",null,40,95,"fourth quintile"]
[10004579,"NEW COLLEGE SWINDON","Intermediate Apprenticeships: Health, Public Services and Care",".",".",".",null,30,88,"bottom quintile",null,"x","x","x",null,40,93,"third quintile",null,".",".",".",null,120,87,"bottom quintile"]
[10004579,"NEW COLLEGE SWINDON","Full Level 2: Science and Mathematics","x","x","x",null,130,87,"second quintile",null,"x","x","x",null,120,87,"second quintile",null,"x","x","x",null,100,88,"third quintile"]
[10004596,"NEWBURY COLLEGE","Advanced and Higher Apprenticeships: Engineering and Manufacturing Technologies",".",".",".",null,30,96,"fourth quintile",null,".",".",".",null,10,100,"top quintile",null,".",".",".",null,30,100,"top quintile"]
[10004596,"NEWBURY COLLEGE","Full Level 2: Engineering and Manufacturing Technologies",".",".",".",null,"x","x","x",null,20,87,"top quintile",null,210,88,"fourth quintile",null,10,91,"top quintile",null,130,85,"third quintile"]
[10053962,"NEWCASTLE COLLEGE","Advanced and Higher Apprenticeships: Construction, Planning and the Built Environment",".",".",".",null,".",".",".",null,".",".",".",null,".",".",".",null,".",".",".",null,20,95,"top quintile"]
[10053962,"NEWCASTLE COLLEGE","Full Level 3+: Arts, Media and Publishing",".",".",".",null,".",".",".",null,".",".",".",null,".",".",".",null,"x","x","x",null,70,85,"fourth quintile"]
[10053962,"NEWCASTLE COLLEGE","Intermediate Apprenticeships: Business, Administration and Law",".",".",".",null,".",".",".",null,".",".",".",null,".",".",".",null,"x","x","x",null,120,91,"second quintile"]
[10053962,"NEWCASTLE COLLEGE","Full Level 2: Leisure, Travel and Tourism",".",".",".",null,".",".",".",null,".",".",".",null,".",".",".",null,"x","x","x",null,30,63,"bottom quintile"]
[10004601,"NEWCASTLE UPON TYNE CITY COUNCIL","Full Level 3+: Retail and Commercial Enterprise","x","x","x",null,10,64,"bottom quintile",null,".",".",".",null,"x","x","x",null,".",".",".",null,"x","x","x"]
[10004601,"NEWCASTLE UPON TYNE CITY COUNCIL","Other provision below Full Level 2",290,54,"fourth quintile",null,940,78,"third quintile",null,130,50,"second quintile",null,700,78,"third quintile",null,150,63,"top quintile",null,880,76,"third quintile"]
[10004603,"NEWCASTLE-UNDER-LYME COLLEGE (NULC)","Access to HE","x","x","x",null,50,96,"top quintile",null,"x","x","x",null,50,88,"bottom quintile",null,"x","x","x",null,60,98,"top quintile"]
[10004603,"NEWCASTLE-UNDER-LYME COLLEGE (NULC)","Intermediate Apprenticeships: Engineering and Manufacturing Technologies","x","x","x",null,20,82,"bottom quintile",null,".",".",".",null,30,88,"bottom quintile",null,".",".",".",null,40,93,"third quintile"]
[10004607,"NEWHAM COLLEGE OF FURTHER EDUCATION","LLDD learner",370,40,"bottom quintile",null,720,61,"second quintile",null,140,51,"top quintile",null,550,62,"second quintile",null,90,57,"top quintile",null,460,67,"third quintile"]
[10004607,"NEWHAM COLLEGE OF FURTHER EDUCATION","Full Level 3+: Health, Public Services and Care",30,80,"fourth quintile",null,110,77,"bottom quintile",null,30,79,"fourth quintile",null,160,69,"bottom quintile",null,"x","x","x",null,40,69,"bottom quintile"]
[10004607,"NEWHAM COLLEGE OF FURTHER EDUCATION","Intermediate Apprenticeships: Health, Public Services and Care","x","x","x",null,40,93,"third quintile",null,"x","x","x",null,210,92,"third quintile",null,10,45,"bottom quintile",null,220,87,"bottom quintile"]
[10004607,"NEWHAM COLLEGE OF FURTHER EDUCATION","Full Level 2: Science and Mathematics","x","x","x",null,"x","x","x",null,".",".",".",null,"x","x","x",null,"x","x","x",null,40,84,"bottom quintile"]
[10040519,"NEXT GROUP PLC","Intermediate Apprenticeships: Business, Administration and Law",".",".",".",null,".",".",".",null,".",".",".",null,"x","x","x",null,"x","x","x",null,50,86,"bottom quintile"]
[10004632,"NHTA LIMITED","LLDD learner",".",".",".",null,40,85,"top quintile",null,".",".",".",null,30,79,"top quintile",null,".",".",".",null,30,85,"top quintile"]
[10004657,"NORFOLK COUNTY COUNCIL","Other Level 3","x","x","x",null,70,82,"second quintile",null,"x","x","x",null,"x","x","x",null,".",".",".",null,".",".","."]
[10004657,"NORFOLK COUNTY COUNCIL","Full Level 2: Leisure, Travel and Tourism",10,69,"third quintile",null,120,91,"fourth quintile",null,"x","x","x",null,40,83,"second quintile",null,".",".",".",null,"x","x","x"]
[10004663,"NORFOLK TRAINING SERVICES LIMITED","Full Level 2: Information and Communication Technology","x","x","x",null,".",".",".",null,20,38,"bottom quintile",null,"x","x","x",null,"x","x","x",null,".",".","."]
[10004542,"NORTH EAST CHAMBER OF COMMERCE, TRADE AND INDUSTRY","Intermediate Apprenticeships: Engineering and Manufacturing Technologies",".",".",".",null,90,96,"fourth quintile",null,".",".",".",null,30,93,"second quintile",null,"x","x","x",null,60,88,"bottom quintile"]
[10004684,"NORTH EAST LINCOLNSHIRE COUNCIL","LLDD learner",40,57,"top quintile",null,80,41,"bottom quintile",null,30,38,"bottom quintile",null,50,50,"bottom quintile",null,40,30,"bottom quintile",null,60,50,"bottom quintile"]
[10004684,"NORTH EAST LINCOLNSHIRE COUNCIL","Full Level 2: Information and Communication Technology","x","x","x",null,"x","x","x",null,".",".",".",null,10,70,"second quintile",null,"x","x","x",null,".",".","."]
[10004686,"NORTH EAST SURREY COLLEGE OF TECHNOLOGY (NESCOT)","Intermediate Apprenticeships: Construction, Planning and the Built Environment",".",".",".",null,20,84,"bottom quintile",null,".",".",".",null,"x","x","x",null,".",".",".",null,20,71,"bottom quintile"]
[10004686,"NORTH EAST SURREY COLLEGE OF TECHNOLOGY (NESCOT)","Full Level 2: Preparation for Life and Work",20,73,"top quintile",null,190,91,"third quintile",null,"x","x","x",null,60,86,"second quintile",null,"x","x","x",null,70,91,"third quintile"]
[10004690,"NORTH HERTFORDSHIRE COLLEGE","Advanced and Higher Apprenticeships: Engineering and Manufacturing Technologies",".",".",".",null,"x","x","x",null,".",".",".",null,10,91,"second quintile",null,".",".",".",null,"x","x","x"]
[10004690,"NORTH HERTFORDSHIRE COLLEGE","Full Level 3+: Information and Communication Technology",".",".",".",null,20,82,"third quintile",null,"x","x","x",null,10,85,"third quintile",null,".",".",".",null,"x","x","x"]
[10004690,"NORTH HERTFORDSHIRE COLLEGE","Full Level 2: Engineering and Manufacturing Technologies",20,68,"fourth quintile",null,340,89,"fourth quintile",null,"x","x","x",null,110,87,"third quintile",null,".",".",".",null,"x","x","x"]
[10004690,"NORTH HERTFORDSHIRE COLLEGE","Full Level 2: Preparation for Life and Work","x","x","x",null,20,78,"bottom quintile",null,"x","x","x",null,20,88,"second quintile",null,".",".",".",null,20,92,"third quintile"]
[10004721,"NORTH KENT COLLEGE","Advanced and Higher Apprenticeships: Education and Training",".",".",".",null,10,100,"top quintile",null,".",".",".",null,"x","x","x",null,".",".",".",null,20,100,"top quintile"]
[10004721,"NORTH KENT COLLEGE","Full Level 2: Construction, Planning and the Built Environment","x","x","x",null,10,64,"bottom quintile",null,"x","x","x",null,10,91,"top quintile",null,"x","x","x",null,"x","x","x"]
[10004692,"NORTH LANCS. TRAINING GROUP LIMITED(THE)","Intermediate Apprenticeships: Business, Administration and Law","x","x","x",null,340,94,"third quintile",null,"x","x","x",null,340,94,"fourth quintile",null,"x","x","x",null,280,91,"third quintile"]
[10004692,"NORTH LANCS. TRAINING GROUP LIMITED(THE)","Intermediate Apprenticeships: Construction, Planning and the Built Environment",".",".",".",null,20,83,"bottom quintile",null,"x","x","x",null,20,87,"second quintile",null,".",".",".",null,20,81,"second quintile"]
[10004695,"NORTH LINDSEY COLLEGE","Full Level 3+: Arts, Media and Publishing",".",".",".",null,10,90,"top quintile",null,".",".",".",null,20,83,"third quintile",null,".",".",".",null,"x","x","x"]
[10004695,"NORTH LINDSEY COLLEGE","Intermediate Apprenticeships: Business, Administration and Law","x","x","x",null,20,100,"top quintile",null,"x","x","x",null,40,100,"top quintile",null,"x","x","x",null,50,91,"third quintile"]
[10004695,"NORTH LINDSEY COLLEGE","Full Level 2: Science and Mathematics","x","x","x",null,40,85,"second quintile",null,"x","x","x",null,80,93,"top quintile",null,"x","x","x",null,60,86,"second quintile"]
[10004705,"NORTH NOTTINGHAMSHIRE COLLEGE","Full Level 3+: Business, Administration and Law",".",".",".",null,60,98,"top quintile",null,"x","x","x",null,10,100,"top quintile",null,"x","x","x",null,20,74,"second quintile"]
[10004705,"NORTH NOTTINGHAMSHIRE COLLEGE","Access to HE","x","x","x",null,90,88,"bottom quintile",null,"x","x","x",null,90,92,"third quintile",null,"x","x","x",null,50,94,"top quintile"]
[10004705,"NORTH NOTTINGHAMSHIRE COLLEGE","Full Level 2: Languages, Literature and Culture",".",".",".",null,40,92,"top quintile",null,"x","x","x",null,20,83,"second quintile",null,"x","x","x",null,30,85,"third quintile"]
[10007299,"NORTH SHROPSHIRE COLLEGE","Intermediate Apprenticeships: Health, Public Services and Care",".",".",".",null,10,100,"top quintile",null,"x","x","x",null,20,85,"bottom quintile",null,".",".",".",null,30,96,"top quintile"]
[10007299,"NORTH SHROPSHIRE COLLEGE","Intermediate Apprenticeships: Leisure, Travel and Tourism",".",".",".",null,10,100,"top quintile",null,".",".",".",null,"x","x","x",null,".",".",".",null,".",".","."]
[10004714,"NORTH TYNESIDE METROPOLITAN BOROUGH COUNCIL","Full Level 3+: Education and Training",".",".",".",null,50,80,"bottom quintile",null,".",".",".",null,"x","x","x",null,"x","x","x",null,10,60,"bottom quintile"]
[10004718,"NORTH WARWICKSHIRE AND HINCKLEY COLLEGE","Advanced and Higher Apprenticeships: Engineering and Manufacturing Technologies",".",".",".",null,20,92,"third quintile",null,".",".",".",null,30,96,"top quintile",null,".",".",".",null,20,100,"top quintile"]
[10004718,"NORTH WARWICKSHIRE AND HINCKLEY COLLEGE","Intermediate Apprenticeships: Retail and Commercial Enterprise",".",".",".",null,20,92,"third quintile",null,".",".",".",null,20,91,"third quintile",null,".",".",".",null,40,89,"third quintile"]
[10004718,"NORTH WARWICKSHIRE AND HINCKLEY COLLEGE","Full Level 2: Leisure, Travel and Tourism",90,60,"second quintile",null,10,57,"bottom quintile",null,190,60,"second quintile",null,20,59,"bottom quintile",null,270,58,"second quintile",null,30,67,"bottom quintile"]
[10004720,"NORTH WEST COMMUNITY SERVICES TRAINING LTD","Intermediate Apprenticeships: Health, Public Services and Care","x","x","x",null,60,84,"bottom quintile",null,"x","x","x",null,60,95,"top quintile",null,"x","x","x",null,70,93,"fourth quintile"]
[10004723,"NORTH WEST TRAINING COUNCIL","Intermediate Apprenticeships: Engineering and Manufacturing Technologies",".",".",".",null,30,100,"top quintile",null,".",".",".",null,"x","x","x",null,".",".",".",null,10,92,"second quintile"]
[10004727,"NORTH YORKSHIRE COUNTY COUNCIL","Full Level 2: Health, Public Services and Care","x","x","x",null,30,78,"bottom quintile",null,".",".",".",null,20,100,"top quintile",null,"x","x","x",null,30,76,"bottom quintile"]
[10004727,"NORTH YORKSHIRE COUNTY COUNCIL","Other provision below Full Level 2",210,53,"fourth quintile",null,230,70,"second quintile",null,150,55,"fourth quintile",null,200,71,"second quintile",null,50,65,"top quintile",null,190,72,"third quintile"]
[10007011,"NORTHAMPTON COLLEGE","Full Level 2: Engineering and Manufacturing Technologies",".",".",".",null,40,89,"fourth quintile",null,".",".",".",null,20,83,"third quintile",null,"x","x","x",null,10,92,"top quintile"]
[10007011,"NORTHAMPTON COLLEGE","English & Maths",180,59,"fourth quintile",null,340,77,"third quintile",null,120,60,"fourth quintile",null,520,75,"third quintile",null,30,62,"fourth quintile",null,310,79,"fourth quintile"]
[10004643,"NORTHAMPTONSHIRE INDUSTRIAL TRAINING ASSOCIATION LIMITED","Intermediate Apprenticeships: Engineering and Manufacturing Technologies",".",".",".",null,20,86,"bottom quintile",null,"x","x","x",null,70,78,"bottom quintile",null,"x","x","x",null,60,81,"bottom quintile"]
[10004736,"NORTHBROOK COLLEGE SUSSEX","Advanced and Higher Apprenticeships: Health, Public Services and Care",".",".",".",null,70,85,"bottom quintile",null,".",".",".",null,50,94,"fourth quintile",null,".",".",".",null,50,86,"bottom quintile"]
[10004736,"NORTHBROOK COLLEGE SUSSEX","Intermediate Apprenticeships: Health, Public Services and Care",".",".",".",null,70,99,"top quintile",null,"x","x","x",null,40,93,"third quintile",null,"x","x","x",null,60,88,"bottom quintile"]
[10004736,"NORTHBROOK COLLEGE SUSSEX","Full Level 2: Construction, Planning and the Built Environment",10,80,"top quintile",null,380,70,"bottom quintile",null,"x","x","x",null,170,66,"bottom quintile",null,".",".",".",null,40,53,"bottom quintile"]
[10013515,"NORTHERN CARE TRAINING LIMITED","Traineeships",".",".",".",null,".",".",".",null,".",".",".",null,40,53,"bottom quintile",null,10,60,"fourth quintile",null,140,49,"bottom quintile"]
[10013515,"NORTHERN CARE TRAINING LIMITED","Other provision below Full Level 2","x","x","x",null,".",".",".",null,".",".",".",null,20,95,"top quintile",null,".",".",".",null,".",".","."]
[10004760,"NORTHUMBERLAND COLLEGE","Advanced and Higher Apprenticeships: Retail and Commercial Enterprise","x","x","x",null,30,88,"second quintile",null,".",".",".",null,20,86,"bottom quintile",null,".",".",".",null,"x","x","x"]
[10004760,"NORTHUMBERLAND COLLEGE","Full Level 3+: Leisure, Travel and Tourism","x","x","x",null,"x","x","x",null,".",".",".",null,10,77,"second quintile",null,"x","x","x",null,10,92,"top quintile"]
[10004760,"NORTHUMBERLAND COLLEGE","Full Level 2: Leisure, Travel and Tourism","x","x","x",null,"x","x","x",null,"x","x","x",null,"x","x","x",null,".",".",".",null,10,82,"bottom quintile"]
[10004771,"NORTON RADSTOCK COLLEGE","Access to HE","x","x","x",null,10,91,"third quintile",null,"x","x","x",null,"x","x","x",null,".",".",".",null,".",".","."]
[10004771,"NORTON RADSTOCK COLLEGE","Full Level 2: Retail and Commercial Enterprise",70,57,"third quintile",null,"x","x","x",null,10,82,"top quintile",null,20,81,"fourth quintile",null,".",".",".",null,".",".","."]
[10004807,"NOTTINGHAMSHIRE TRAINING NETWORK","Intermediate Apprenticeships: Retail and Commercial Enterprise",".",".",".",null,"x","x","x",null,".",".",".",null,"x","x","x",null,"x","x","x",null,70,95,"top quintile"]
[10004835,"OAKLANDS COLLEGE","Full Level 3+: Health, Public Services and Care",".",".",".",null,50,90,"fourth quintile",null,"x","x","x",null,40,95,"top quintile",null,".",".",".",null,30,90,"top quintile"]
[10004835,"OAKLANDS COLLEGE","Full Level 3+: Science and Mathematics","x","x","x",null,20,89,"third quintile",null,"x","x","x",null,20,81,"bottom quintile",null,".",".",".",null,20,81,"second quintile"]
[10004835,"OAKLANDS COLLEGE","English & Maths",20,55,"third quintile",null,80,84,"fourth quintile",null,20,81,"top quintile",null,110,83,"fourth quintile",null,40,54,"third quintile",null,70,85,"top quintile"]
[10004858,"OLDHAM METROPOLITAN BOROUGH COUNCIL","Full Level 2: Education and Training","x","x","x",null,40,77,"second quintile",null,"x","x","x",null,40,81,"second quintile",null,"x","x","x",null,30,92,"top quintile"]
[10004858,"OLDHAM METROPOLITAN BOROUGH COUNCIL","English & Maths",70,65,"top quintile",null,390,75,"second quintile",null,50,72,"top quintile",null,410,74,"second quintile",null,20,73,"top quintile",null,220,80,"fourth quintile"]
[10030688,"OPEN DOOR ADULT LEARNING CENTRE","Full Level 2: Information and Communication Technology","x","x","x",null,20,87,"fourth quintile",null,"x","x","x",null,20,73,"third quintile",null,"x","x","x",null,10,100,"top quintile"]
[10022439,"OUTSOURCE VOCATIONAL LEARNING LIMITED","Advanced and Higher Apprenticeships: Business, Administration and Law","x","x","x",null,200,96,"fourth quintile",null,"x","x","x",null,170,96,"top quintile",null,"x","x","x",null,110,87,"bottom quintile"]
[10022439,"OUTSOURCE VOCATIONAL LEARNING LIMITED","Intermediate Apprenticeships: Retail and Commercial Enterprise",".",".",".",null,60,95,"top quintile",null,".",".",".",null,40,95,"top quintile",null,"x","x","x",null,30,90,"fourth quintile"]
[10011880,"P.T.P. TRAINING LIMITED","Advanced and Higher Apprenticeships: Health, Public Services and Care","x","x","x",null,100,93,"third quintile",null,"x","x","x",null,120,95,"top quintile",null,"x","x","x",null,120,89,"bottom quintile"]
[10011880,"P.T.P. TRAINING LIMITED","Full Level 2: Health, Public Services and Care","x","x","x",null,20,89,"bottom quintile",null,"x","x","x",null,"x","x","x",null,".",".",".",null,".",".","."]
[10004977,"PARAGON EDUCATION & SKILLS LIMITED","Intermediate Apprenticeships: Business, Administration and Law","x","x","x",null,360,91,"second quintile",null,"x","x","x",null,390,94,"fourth quintile",null,".",".",".",null,280,95,"top quintile"]
[10021793,"PATHWAY FIRST LIMITED","Full Level 3+: Health, Public Services and Care",".",".",".",null,".",".",".",null,".",".",".",null,".",".",".",null,"x","x","x",null,30,82,"third quintile"]
[10005017,"PDM TRAINING & CONSULTANCY LIMITED","Intermediate Apprenticeships: Retail and Commercial Enterprise",".",".",".",null,10,100,"top quintile",null,".",".",".",null,"x","x","x",null,".",".",".",null,"x","x","x"]
[10020395,"PEOPLE AND BUSINESS DEVELOPMENT LTD","LLDD learner","x","x","x",null,30,92,"top quintile",null,"x","x","x",null,20,91,"top quintile",null,".",".",".",null,20,78,"top quintile"]
[10036431,"PEOPLEPLUS GROUP LIMITED","Intermediate Apprenticeships: Engineering and Manufacturing Technologies",".",".",".",null,20,95,"third quintile",null,".",".",".",null,"x","x","x",null,".",".",".",null,100,94,"third quintile"]
[10038913,"PERA TRAINING LIMITED","Advanced and Higher Apprenticeships: Retail and Commercial Enterprise",".",".",".",null,60,92,"third quintile",null,".",".",".",null,20,95,"top quintile",null,".",".",".",null,"x","x","x"]
[10005064,"PETA LIMITED","LLDD learner","x","x","x",null,30,96,"top quintile",null,"x","x","x",null,10,100,"top quintile",null,"x","x","x",null,20,100,"top quintile"]
[10005072,"PETER SYMONDS COLLEGE","Full Level 3+: Education and Training",".",".",".",null,20,92,"third quintile",null,".",".",".",null,"x","x","x",null,".",".",".",null,10,92,"fourth quintile"]
[10005074,"PETERBOROUGH CITY COUNCIL","Full Level 2: Health, Public Services and Care","x","x","x",null,60,81,"bottom quintile",null,"x","x","x",null,30,79,"bottom quintile",null,"x","x","x",null,20,79,"bottom quintile"]
[10005077,"PETERBOROUGH REGIONAL COLLEGE","Full Level 3+: Education and Training","x","x","x",null,20,100,"top quintile",null,".",".",".",null,20,100,"top quintile",null,".",".",".",null,10,93,"top quintile"]
[10005077,"PETERBOROUGH REGIONAL COLLEGE","Intermediate Apprenticeships: Business, Administration and Law","x","x","x",null,80,95,"fourth quintile",null,"x","x","x",null,50,87,"bottom quintile",null,".",".",".",null,50,90,"second quintile"]
[10005077,"PETERBOROUGH REGIONAL COLLEGE","Full Level 2: Leisure, Travel and Tourism","x","x","x",null,"x","x","x",null,"x","x","x",null,30,79,"bottom quintile",null,20,80,"top quintile",null,"x","x","x"]
[10004676,"PETROC","Advanced and Higher Apprenticeships: Construction, Planning and the Built Environment",".",".",".",null,"x","x","x",null,".",".",".",null,"x","x","x",null,".",".",".",null,10,82,"bottom quintile"]
[10004676,"PETROC","Full Level 3+: Health, Public Services and Care",".",".",".",null,20,100,"top quintile",null,"x","x","x",null,50,91,"fourth quintile",null,".",".",".",null,30,88,"fourth quintile"]
[10004676,"PETROC","Intermediate Apprenticeships: Retail and Commercial Enterprise",".",".",".",null,30,94,"fourth quintile",null,"x","x","x",null,30,88,"second quintile",null,".",".",".",null,50,90,"fourth quintile"]
[10004676,"PETROC","Traineeships",".",".",".",null,10,77,"fourth quintile",null,".",".",".",null,20,70,"third quintile",null,"x","x","x",null,20,80,"fourth quintile"]
[10022288,"PHONES 4U LIMITED","LLDD learner","x","x","x",null,10,91,"top quintile",null,".",".",".",null,"x","x","x",null,".",".",".",null,".",".","."]
[10005124,"PLUMPTON COLLEGE","Full Level 2: Arts, Media and Publishing",".",".",".",null,"x","x","x",null,".",".",".",null,"x","x","x",null,".",".",".",null,10,79,"third quintile"]
[10005126,"PLYMOUTH CITY COUNCIL","Full Level 2: Business, Administration and Law",".",".",".",null,"x","x","x",null,".",".",".",null,20,95,"top quintile",null,"x","x","x",null,20,100,"top quintile"]
[10005127,"PLYMOUTH COLLEGE OF ART","Advanced and Higher Apprenticeships: Arts, Media and Publishing",".",".",".",null,10,82,"bottom quintile",null,".",".",".",null,"x","x","x",null,".",".",".",null,20,88,"bottom quintile"]
[10034944,"PORTSLADE ALDRIDGE COMMUNITY ACADEMY","Other provision below Full Level 2",40,65,"top quintile",null,130,67,"second quintile",null,20,50,"second quintile",null,80,69,"second quintile",null,30,50,"third quintile",null,80,78,"third quintile"]
[10005158,"PORTSMOUTH COLLEGE","Other Level 3","x","x","x",null,10,83,"second quintile",null,".",".",".",null,"x","x","x",null,"x","x","x",null,".",".","."]
[10005166,"POSITIVE OUTCOMES LTD","Full Level 3+: Business, Administration and Law","x","x","x",null,10,100,"top quintile",null,"x","x","x",null,"x","x","x",null,".",".",".",null,".",".","."]
[10005172,"POULTEC TRAINING LIMITED","LLDD learner",10,73,"top quintile",null,30,70,"fourth quintile",null,30,69,"top quintile",null,70,80,"top quintile",null,20,57,"top quintile",null,50,73,"fourth quintile"]
[10005200,"PRESTON COLLEGE","Advanced and Higher Apprenticeships: Business, Administration and Law",".",".",".",null,50,91,"second quintile",null,".",".",".",null,30,93,"second quintile",null,"x","x","x",null,30,91,"bottom quintile"]
[10005200,"PRESTON COLLEGE","Full Level 3+: Business, Administration and Law","x","x","x",null,80,89,"third quintile",null,".",".",".",null,40,92,"fourth quintile",null,".",".",".",null,30,94,"top quintile"]
[10005200,"PRESTON COLLEGE","Intermediate Apprenticeships: Health, Public Services and Care",".",".",".",null,50,93,"fourth quintile",null,".",".",".",null,40,95,"top quintile",null,".",".",".",null,40,92,"third quintile"]
[10005200,"PRESTON COLLEGE","Full Level 2: Retail and Commercial Enterprise","x","x","x",null,60,79,"third quintile",null,10,73,"top quintile",null,60,68,"second quintile",null,"x","x","x",null,70,72,"second quintile"]
[10005204,"PREVISTA LTD","Intermediate Apprenticeships: Business, Administration and Law",".",".",".",null,20,82,"bottom quintile",null,".",".",".",null,"x","x","x",null,".",".",".",null,"x","x","x"]
[10005206,"PRIESTLEY COLLEGE","Other provision below Full Level 2","x","x","x",null,10,67,"second quintile",null,".",".",".",null,20,73,"second quintile",null,"x","x","x",null,20,53,"bottom quintile"]
[10021842,"PROCO NW LIMITED","Advanced and Higher Apprenticeships: Business, Administration and Law",".",".",".",null,10,92,"second quintile",null,".",".",".",null,"x","x","x",null,".",".",".",null,"x","x","x"]
[10022358,"PROFOUND SERVICES LIMITED","Intermediate Apprenticeships: Engineering and Manufacturing Technologies",".",".",".",null,".",".",".",null,".",".",".",null,10,90,"bottom quintile",null,".",".",".",null,10,100,"top quintile"]
[10004823,"PROGRESS TO EXCELLENCE LTD","Intermediate Apprenticeships: Business, Administration and Law",".",".",".",null,20,90,"second quintile",null,".",".",".",null,10,100,"top quintile",null,"x","x","x",null,30,100,"top quintile"]
[10005250,"PROJECT MANAGEMENT (STAFFORDSHIRE) LIMITED","Intermediate Apprenticeships: Construction, Planning and the Built Environment",".",".",".",null,30,96,"top quintile",null,".",".",".",null,20,83,"bottom quintile",null,"x","x","x",null,40,89,"top quintile"]
[10005260,"PROSPECT TRAINING ORGANISATIONS LIMITED","Traineeships",".",".",".",null,"x","x","x",null,".",".",".",null,10,100,"top quintile",null,".",".",".",null,".",".","."]
[10005750,"PROSPECTS LEARNING FOUNDATION LIMITED","LLDD learner","x","x","x",null,20,94,"top quintile",null,".",".",".",null,"x","x","x",null,".",".",".",null,".",".","."]
[10003375,"QA LIMITED","Advanced and Higher Apprenticeships: Business, Administration and Law","x","x","x",null,70,91,"second quintile",null,"x","x","x",null,100,93,"third quintile",null,"x","x","x",null,240,92,"third quintile"]
[10021018,"QDOS TRAINING LIMITED","LLDD learner",90,48,"fourth quintile",null,20,41,"bottom quintile",null,70,52,"top quintile",null,40,35,"bottom quintile",null,40,50,"fourth quintile",null,20,29,"bottom quintile"]
[10005319,"QUBE QUALIFICATIONS AND DEVELOPMENT LIMITED","Full Level 3+: Business, Administration and Law",".",".",".",null,"x","x","x",null,".",".",".",null,"x","x","x",null,"x","x","x",null,20,71,"second quintile"]
[10005339,"QUEEN MARY'S COLLEGE","Access to HE","x","x","x",null,10,90,"third quintile",null,".",".",".",null,10,86,"bottom quintile",null,".",".",".",null,".",".","."]
[10005339,"QUEEN MARY'S COLLEGE","Full Level 2: Health, Public Services and Care",10,82,"top quintile",null,100,84,"bottom quintile",null,20,67,"third quintile",null,160,81,"bottom quintile",null,"x","x","x",null,50,88,"bottom quintile"]
[10036345,"RATHBONE TRAINING","Full Level 2: Health, Public Services and Care",".",".",".",null,"x","x","x",null,".",".",".",null,20,95,"top quintile",null,".",".",".",null,"x","x","x"]
[10005398,"READING BOROUGH COUNCIL","Full Level 3+: Education and Training",".",".",".",null,20,85,"second quintile",null,".",".",".",null,"x","x","x",null,".",".",".",null,".",".","."]
[10005404,"REASEHEATH COLLEGE","LLDD learner",10,80,"top quintile",null,140,77,"top quintile",null,"x","x","x",null,110,70,"fourth quintile",null,"x","x","x",null,130,82,"top quintile"]
[10005404,"REASEHEATH COLLEGE","Full Level 2: Agriculture, Horticulture and Animal Care","x","x","x",null,10,82,"third quintile",null,".",".",".",null,10,91,"top quintile",null,"x","x","x",null,"x","x","x"]
[10005410,"REDBRIDGE COLLEGE","Other Level 3",".",".",".",null,"x","x","x",null,".",".",".",null,20,89,"top quintile",null,".",".",".",null,"x","x","x"]
[10005410,"REDBRIDGE COLLEGE","Intermediate Apprenticeships: Leisure, Travel and Tourism",10,90,"third quintile",null,60,88,"second quintile",null,".",".",".",null,".",".",".",null,".",".",".",null,".",".","."]
[10005410,"REDBRIDGE COLLEGE","English for Speakers of Other Languages (ESOL)",60,74,"top quintile",null,460,72,"fourth quintile",null,50,49,"second quintile",null,370,71,"fourth quintile",null,"x","x","x",null,200,68,"fourth quintile"]
[10005414,"REDCAR & CLEVELAND COLLEGE","LLDD learner",60,52,"top quintile",null,90,61,"second quintile",null,30,67,"top quintile",null,80,76,"top quintile",null,20,65,"top quintile",null,80,75,"fourth quintile"]
[10005414,"REDCAR & CLEVELAND COLLEGE","Full Level 2: Languages, Literature and Culture","x","x","x",null,"x","x","x",null,"x","x","x",null,10,91,"top quintile",null,".",".",".",null,10,85,"third quintile"]
[10005413,"REDCAR AND CLEVELAND BOROUGH COUNCIL","LLDD learner",130,30,"bottom quintile",null,80,51,"bottom quintile",null,70,47,"fourth quintile",null,110,54,"bottom quintile",null,30,36,"bottom quintile",null,70,56,"bottom quintile"]
[10031984,"REDWOOD EDUCATION AND SKILLS LIMITED","Advanced and Higher Apprenticeships: Engineering and Manufacturing Technologies",".",".",".",null,40,91,"second quintile",null,".",".",".",null,10,100,"top quintile",null,".",".",".",null,10,100,"top quintile"]
[10005429,"REGENT COLLEGE","Intermediate Apprenticeships: Business, Administration and Law","x","x","x",null,"x","x","x",null,"x","x","x",null,"x","x","x",null,"x","x","x",null,20,80,"bottom quintile"]
[10023047,"REMIT GROUP LIMITED","Advanced and Higher Apprenticeships: Health, Public Services and Care",".",".",".",null,50,96,"top quintile",null,".",".",".",null,10,100,"top quintile",null,"x","x","x",null,120,93,"fourth quintile"]
[10023047,"REMIT GROUP LIMITED","Intermediate Apprenticeships: Agriculture, Horticulture and Animal Care",".",".",".",null,10,82,"bottom quintile",null,".",".",".",null,".",".",".",null,".",".",".",null,".",".","."]
[10023047,"REMIT GROUP LIMITED","Full Level 2: Health, Public Services and Care",120,58,"second quintile",null,10,55,"bottom quintile",null,160,67,"third quintile",null,20,50,"bottom quintile",null,".",".",".",null,".",".","."]
[10005457,"REWARDS TRAINING RECRUITMENT CONSULTANCY LIMITED","Advanced and Higher Apprenticeships: Retail and Commercial Enterprise",".",".",".",null,10,82,"bottom quintile",null,".",".",".",null,10,100,"top quintile",null,".",".",".",null,"x","x","x"]
[10005465,"RICHARD HUISH COLLEGE","LLDD learner","x","x","x",null,10,60,"second quintile",null,"x","x","x",null,20,82,"top quintile",null,"x","x","x",null,20,82,"top quintile"]
[10005465,"RICHARD HUISH COLLEGE","Other provision below Full Level 2",50,74,"top quintile",null,"x","x","x",null,"x","x","x",null,"x","x","x",null,"x","x","x",null,"x","x","x"]
[10005466,"RICHMOND ADULT COMMUNITY COLLEGE (RACC)","Full Level 2: Business, Administration and Law",40,76,"top quintile",null,340,85,"second quintile",null,20,71,"top quintile",null,330,85,"second quintile",null,30,78,"top quintile",null,160,85,"second quintile"]
[10005466,"RICHMOND ADULT COMMUNITY COLLEGE (RACC)","Other provision below Full Level 2",150,63,"top quintile",null,1070,76,"third quintile",null,30,81,"top quintile",null,210,74,"second quintile",null,40,61,"top quintile",null,490,64,"second quintile"]
[10005469,"RICHMOND UPON THAMES COLLEGE","Full Level 2: Construction, Planning and the Built Environment",".",".",".",null,"x","x","x",null,"x","x","x",null,".",".",".",null,"x","x","x",null,10,100,"top quintile"]
[10002863,"RIVERSIDE COLLEGE","Full Level 3+: Education and Training",".",".",".",null,10,75,"bottom quintile",null,"x","x","x",null,30,76,"bottom quintile",null,"x","x","x",null,20,61,"bottom quintile"]
[10002863,"RIVERSIDE COLLEGE","Full Level 3+: Retail and Commercial Enterprise","x","x","x",null,30,62,"bottom quintile",null,"x","x","x",null,30,70,"second quintile",null,"x","x","x",null,20,87,"top quintile"]
[10002863,"RIVERSIDE COLLEGE","Full Level 2: Languages, Literature and Culture",".",".",".",null,10,83,"second quintile",null,".",".",".",null,10,83,"second quintile",null,"x","x","x",null,20,96,"top quintile"]
[10005534,"RNN GROUP","Advanced and Higher Apprenticeships: Business, Administration and Law",".",".",".",null,"x","x","x",null,".",".",".",null,30,100,"top quintile",null,".",".",".",null,"x","x","x"]
[10005534,"RNN GROUP","Full Level 3+: Retail and Commercial Enterprise",10,100,"top quintile",null,100,75,"third quintile",null,"x","x","x",null,100,78,"fourth quintile",null,"x","x","x",null,20,65,"second quintile"]
[10005534,"RNN GROUP","Full Level 2: Business, Administration and Law","x","x","x",null,90,87,"third quintile",null,"x","x","x",null,140,93,"top quintile",null,"x","x","x",null,90,88,"third quintile"]
[10005509,"ROCHDALE TRAINING ASSOCIATION LIMITED","Advanced and Higher Apprenticeships: Business, Administration and Law",".",".",".",null,110,93,"second quintile",null,"x","x","x",null,150,93,"third quintile",null,".",".",".",null,90,96,"fourth quintile"]
[10005509,"ROCHDALE TRAINING ASSOCIATION LIMITED","Full Level 2: Preparation for Life and Work",10,55,"second quintile",null,"x","x","x",null,".",".",".",null,"x","x","x",null,".",".",".",null,".",".","."]
[10005514,"ROCKET TRAINING LIMITED","Intermediate Apprenticeships: Business, Administration and Law","x","x","x",null,40,89,"bottom quintile",null,"x","x","x",null,30,93,"third quintile",null,"x","x","x",null,30,85,"bottom quintile"]
[10013082,"ROLLS-ROYCE POWER ENGINEERING PLC","Other provision below Full Level 2",30,69,"top quintile",null,"x","x","x",null,".",".",".",null,".",".",".",null,".",".",".",null,".",".","."]
[10033441,"ROYAL AIR FORCE","Intermediate Apprenticeships: Retail and Commercial Enterprise",".",".",".",null,70,97,"top quintile",null,".",".",".",null,60,100,"top quintile",null,".",".",".",null,130,96,"top quintile"]
[10005549,"ROYAL BOROUGH OF KINGSTON UPON THAMES","Full Level 2: Agriculture, Horticulture and Animal Care","x","x","x",null,30,79,"second quintile",null,"x","x","x",null,20,83,"third quintile",null,".",".",".",null,".",".","."]
[10005575,"RUNSHAW COLLEGE","Advanced and Higher Apprenticeships: Business, Administration and Law",".",".",".",null,90,93,"second quintile",null,".",".",".",null,60,92,"second quintile",null,".",".",".",null,40,93,"third quintile"]
[10005575,"RUNSHAW COLLEGE","Full Level 3+: Retail and Commercial Enterprise","x","x","x",null,40,76,"third quintile",null,"x","x","x",null,30,68,"second quintile",null,"x","x","x",null,30,72,"third quintile"]
[10005575,"RUNSHAW COLLEGE","Intermediate Apprenticeships: Health, Public Services and Care","x","x","x",null,60,89,"bottom quintile",null,".",".",".",null,50,94,"fourth quintile",null,".",".",".",null,50,93,"fourth quintile"]
[10005583,"RUSKIN COLLEGE","Full Level 3+: Business, Administration and Law",".",".",".",null,20,100,"top quintile",null,".",".",".",null,30,96,"top quintile",null,".",".",".",null,50,93,"top quintile"]
[10009031,"RUSKIN MILL COLLEGE","LLDD learner","x","x","x",null,40,60,"second quintile",null,".",".",".",null,"x","x","x",null,".",".",".",null,"x","x","x"]
[10005586,"RUTLAND COUNTY COUNCIL","Full Level 2: Leisure, Travel and Tourism",".",".",".",null,".",".",".",null,".",".",".",null,".",".",".",null,40,70,"top quintile",null,"x","x","x"]
[10005588,"RWP TRAINING LIMITED","Intermediate Apprenticeships: Education and Training","x","x","x",null,30,100,"top quintile",null,"x","x","x",null,60,87,"bottom quintile",null,".",".",".",null,30,85,"second quintile"]
[10006317,"SALFORD AND TRAFFORD ENGINEERING GROUP TRAINING ASSOCIATION LIMITED","Intermediate Apprenticeships: Engineering and Manufacturing Technologies","x","x","x",null,20,93,"third quintile",null,".",".",".",null,20,95,"fourth quintile",null,".",".",".",null,10,79,"bottom quintile"]
[10005032,"SALFORD CITY COLLEGE","Full Level 3+: Arts, Media and Publishing","x","x","x",null,40,84,"third quintile",null,".",".",".",null,30,79,"second quintile",null,".",".",".",null,10,92,"top quintile"]
[10005032,"SALFORD CITY COLLEGE","Intermediate Apprenticeships: Retail and Commercial Enterprise",".",".",".",null,20,93,"fourth quintile",null,"x","x","x",null,30,88,"second quintile",null,".",".",".",null,20,95,"top quintile"]
[10005032,"SALFORD CITY COLLEGE","Traineeships",".",".",".",null,".",".",".",null,"x","x","x",null,10,92,"top quintile",null,"x","x","x",null,100,60,"second quintile"]
[10005669,"SANDWELL COLLEGE","Full Level 3+: Arts, Media and Publishing","x","x","x",null,10,77,"bottom quintile",null,"x","x","x",null,20,82,"third quintile",null,"x","x","x",null,20,88,"top quintile"]
[10005669,"SANDWELL COLLEGE","Other Level 3",20,61,"bottom quintile",null,20,83,"second quintile",null,"x","x","x",null,70,73,"bottom quintile",null,".",".",".",null,"x","x","x"]
[10005669,"SANDWELL COLLEGE","Other provision below Full Level 2",550,53,"fourth quintile",null,110,62,"bottom quintile",null,730,50,"second quintile",null,320,59,"bottom quintile",null,640,45,"bottom quintile",null,440,58,"bottom quintile"]
[10005671,"SANDWELL METROPOLITAN BOROUGH COUNCIL","Intermediate Apprenticeships: Business, Administration and Law","x","x","x",null,70,83,"bottom quintile",null,10,90,"third quintile",null,50,96,"top quintile",null,".",".",".",null,".",".","."]
[10033746,"SBC TRAINING LIMITED","Traineeships",".",".",".",null,"x","x","x",null,"x","x","x",null,20,87,"top quintile",null,".",".",".",null,20,100,"top quintile"]
[10005735,"SEETEC BUSINESS TECHNOLOGY CENTRE LIMITED","LLDD learner",260,40,"bottom quintile",null,50,42,"bottom quintile",null,280,38,"bottom quintile",null,140,37,"bottom quintile",null,70,53,"top quintile",null,30,43,"bottom quintile"]
[10005738,"SEFTON METROPOLITAN BOROUGH COUNCIL","Other provision below Full Level 2","x","x","x",null,30,82,"fourth quintile",null,60,37,"bottom quintile",null,50,58,"bottom quintile",null,"x","x","x",null,".",".","."]
[10005741,"SELBY COLLEGE","Intermediate Apprenticeships: Engineering and Manufacturing Technologies","x","x","x",null,20,95,"third quintile",null,".",".",".",null,20,94,"third quintile",null,".",".",".",null,70,97,"top quintile"]
[10005741,"SELBY COLLEGE","Full Level 2: Information and Communication Technology",10,77,"top quintile",null,40,93,"top quintile",null,20,76,"top quintile",null,40,82,"fourth quintile",null,"x","x","x",null,70,88,"fourth quintile"]
[10005744,"SELETA TRAINING AND PERSONNEL SERVICES LIMITED","Full Level 2: Construction, Planning and the Built Environment",".",".",".",null,70,97,"top quintile",null,".",".",".",null,20,100,"top quintile",null,".",".",".",null,"x","x","x"]
[10005752,"SERCO LIMITED","Intermediate Apprenticeships: Retail and Commercial Enterprise",".",".",".",null,30,92,"third quintile",null,".",".",".",null,10,100,"top quintile",null,".",".",".",null,30,96,"top quintile"]
[10002244,"SHEFFIELD CITY COUNCIL","Full Level 3+: Education and Training",".",".",".",null,".",".",".",null,".",".",".",null,20,79,"bottom quintile",null,".",".",".",null,10,92,"fourth quintile"]
[10005788,"SHEFFIELD COLLEGE, THE","Advanced and Higher Apprenticeships: Retail and Commercial Enterprise",".",".",".",null,20,80,"bottom quintile",null,".",".",".",null,20,80,"bottom quintile",null,".",".",".",null,"x","x","x"]
[10005788,"SHEFFIELD COLLEGE, THE","Other Level 3","x","x","x",null,60,74,"bottom quintile",null,"x","x","x",null,70,80,"fourth quintile",null,"x","x","x",null,40,88,"fourth quintile"]
[10005788,"SHEFFIELD COLLEGE, THE","Intermediate Apprenticeships: Agriculture, Horticulture and Animal Care",".",".",".",null,"x","x","x",null,".",".",".",null,"x","x","x",null,".",".",".",null,10,73,"bottom quintile"]
[10005788,"SHEFFIELD COLLEGE, THE","Full Level 2: Preparation for Life and Work",40,72,"top quintile",null,30,74,"bottom quintile",null,"x","x","x",null,60,92,"fourth quintile",null,"x","x","x",null,110,92,"third quintile"]
[10005810,"SHIPLEY COLLEGE","Access to HE","x","x","x",null,30,93,"fourth quintile",null,"x","x","x",null,30,93,"fourth quintile",null,"x","x","x",null,30,89,"second quintile"]
[10005810,"SHIPLEY COLLEGE","Full Level 2: Leisure, Travel and Tourism","x","x","x",null,10,50,"bottom quintile",null,".",".",".",null,"x","x","x",null,".",".",".",null,"x","x","x"]
[10005821,"SHREWSBURY COLLEGE OF ARTS & TECHNOLOGY","Full Level 3+: Arts, Media and Publishing",".",".",".",null,20,89,"fourth quintile",null,".",".",".",null,10,77,"second quintile",null,".",".",".",null,20,80,"third quintile"]
[10005821,"SHREWSBURY COLLEGE OF ARTS & TECHNOLOGY","Intermediate Apprenticeships: Retail and Commercial Enterprise",".",".",".",null,10,100,"top quintile",null,".",".",".",null,10,92,"third quintile",null,".",".",".",null,"x","x","x"]
[10005821,"SHREWSBURY COLLEGE OF ARTS & TECHNOLOGY","Other provision below Full Level 2",400,53,"fourth quintile",null,270,85,"top quintile",null,200,59,"top quintile",null,830,93,"top quintile",null,190,54,"fourth quintile",null,400,84,"top quintile"]
[10005891,"SKILLNET LIMITED","Intermediate Apprenticeships: Engineering and Manufacturing Technologies","x","x","x",null,360,93,"second quintile",null,"x","x","x",null,380,96,"fourth quintile",null,"x","x","x",null,330,94,"third quintile"]
[10038112,"SKILLS FOR HEALTH LIMITED","Advanced and Higher Apprenticeships: Business, Administration and Law","x","x","x",null,50,85,"bottom quintile",null,".",".",".",null,20,78,"bottom quintile",null,".",".",".",null,30,90,"bottom quintile"]
[10010523,"SKILLS FOR SECURITY LIMITED","Other provision below Full Level 2","x","x","x",null,".",".",".",null,20,52,"third quintile",null,".",".",".",null,20,58,"top quintile",null,"x","x","x"]
[10005277,"SKILLS TO GROUP LIMITED","LLDD learner",10,92,"top quintile",null,510,91,"top quintile",null,"x","x","x",null,730,91,"top quintile",null,"x","x","x",null,730,87,"top quintile"]
[10005277,"SKILLS TO GROUP LIMITED","Intermediate Apprenticeships: Health, Public Services and Care",".",".",".",null,70,93,"third quintile",null,".",".",".",null,110,87,"bottom quintile",null,"x","x","x",null,100,93,"fourth quintile"]
[10005897,"SKILLS TRAINING UK LIMITED","Intermediate Apprenticeships: Retail and Commercial Enterprise",".",".",".",null,".",".",".",null,".",".",".",null,20,93,"fourth quintile",null,".",".",".",null,10,86,"second quintile"]
[10005916,"SLOUGH BOROUGH COUNCIL","Other provision below Full Level 2",180,53,"fourth quintile",null,120,64,"bottom quintile",null,60,67,"top quintile",null,140,72,"second quintile",null,10,46,"bottom quintile",null,100,58,"bottom quintile"]
[10028742,"SOCIAL ENTERPRISE KENT CIC","Advanced and Higher Apprenticeships: Engineering and Manufacturing Technologies","x","x","x",null,50,100,"top quintile",null,".",".",".",null,40,90,"second quintile",null,".",".",".",null,40,88,"second quintile"]
[10022237,"SOFTMIST LIMITED","Full Level 2: Agriculture, Horticulture and Animal Care",10,50,"bottom quintile",null,".",".",".",null,".",".",".",null,".",".",".",null,".",".",".",null,".",".","."]
[10005946,"SOLIHULL COLLEGE","LLDD learner",170,50,"fourth quintile",null,550,81,"top quintile",null,80,47,"fourth quintile",null,360,73,"fourth quintile",null,30,64,"top quintile",null,330,77,"fourth quintile"]
[10005946,"SOLIHULL COLLEGE","Full Level 3+: Engineering and Manufacturing Technologies","x","x","x",null,20,85,"third quintile",null,"x","x","x",null,30,72,"bottom quintile",null,"x","x","x",null,10,64,"bottom quintile"]
[10005946,"SOLIHULL COLLEGE","Intermediate Apprenticeships: Agriculture, Horticulture and Animal Care",".",".",".",null,30,88,"third quintile",null,".",".",".",null,"x","x","x",null,".",".",".",null,"x","x","x"]
[10005946,"SOLIHULL COLLEGE","English & Maths",80,58,"fourth quintile",null,500,75,"second quintile",null,100,50,"second quintile",null,440,71,"second quintile",null,70,38,"bottom quintile",null,480,68,"bottom quintile"]
[10005956,"SOMERSET COLLEGE","Advanced and Higher Apprenticeships: Health, Public Services and Care",".",".",".",null,20,100,"top quintile",null,".",".",".",null,30,96,"top quintile",null,".",".",".",null,40,97,"top quintile"]
[10005956,"SOMERSET COLLEGE","Full Level 2: Construction, Planning and the Built Environment",".",".",".",null,10,92,"top quintile",null,".",".",".",null,20,94,"top quintile",null,".",".",".",null,"x","x","x"]
[10005959,"SOMERSET COUNTY COUNCIL","Intermediate Apprenticeships: Engineering and Manufacturing Technologies",".",".",".",null,20,100,"top quintile",null,".",".",".",null,"x","x","x",null,".",".",".",null,".",".","."]
[10005959,"SOMERSET COUNTY COUNCIL","English & Maths",30,52,"third quintile",null,110,81,"fourth quintile",null,"x","x","x",null,90,80,"fourth quintile",null,".",".",".",null,".",".","."]
[10042505,"SOMERSET SKILLS & LEARNING CIC","Full Level 2: Business, Administration and Law",".",".",".",null,".",".",".",null,".",".",".",null,".",".",".",null,".",".",".",null,10,73,"bottom quintile"]
[10042505,"SOMERSET SKILLS & LEARNING CIC","Traineeships",".",".",".",null,".",".",".",null,".",".",".",null,".",".",".",null,".",".",".",null,40,78,"fourth quintile"]
[10005967,"SOUTH & CITY COLLEGE BIRMINGHAM","Full Level 3+: Leisure, Travel and Tourism",10,69,"third quintile",null,40,69,"bottom quintile",null,10,38,"bottom quintile",null,40,70,"bottom quintile",null,"x","x","x",null,40,72,"second quintile"]
[10005967,"SOUTH & CITY COLLEGE BIRMINGHAM","Intermediate Apprenticeships: Health, Public Services and Care","x","x","x",null,"x","x","x",null,"x","x","x",null,10,100,"top quintile",null,"x","x","x",null,"x","x","x"]
[10005967,"SOUTH & CITY COLLEGE BIRMINGHAM","Full Level 2: Science and Mathematics",10,70,"bottom quintile",null,20,68,"bottom quintile",null,"x","x","x",null,30,82,"bottom quintile",null,"x","x","x",null,30,84,"second quintile"]
[10005972,"SOUTH CHESHIRE COLLEGE","Full Level 3+: Arts, Media and Publishing",".",".",".",null,20,100,"top quintile",null,".",".",".",null,"x","x","x",null,"x","x","x",null,"x","x","x"]
[10005972,"SOUTH CHESHIRE COLLEGE","Full Level 2: Languages, Literature and Culture",".",".",".",null,40,94,"top quintile",null,"x","x","x",null,30,81,"second quintile",null,".",".",".",null,30,88,"fourth quintile"]
[10005977,"SOUTH DEVON COLLEGE","Advanced and Higher Apprenticeships: Information and Communication Technology",".",".",".",null,"x","x","x",null,".",".",".",null,".",".",".",null,"x","x","x",null,20,94,"top quintile"]
[10005977,"SOUTH DEVON COLLEGE","Intermediate Apprenticeships: Construction, Planning and the Built Environment","x","x","x",null,30,69,"bottom quintile",null,".",".",".",null,20,94,"top quintile",null,"x","x","x",null,30,77,"second quintile"]
[10005977,"SOUTH DEVON COLLEGE","Full Level 2: Preparation for Life and Work","x","x","x",null,30,84,"bottom quintile",null,".",".",".",null,50,93,"top quintile",null,".",".",".",null,20,94,"fourth quintile"]
[10005979,"SOUTH DOWNS COLLEGE","LLDD learner",110,50,"fourth quintile",null,620,71,"fourth quintile",null,70,48,"fourth quintile",null,530,71,"fourth quintile",null,30,42,"second quintile",null,300,62,"second quintile"]
[10005979,"SOUTH DOWNS COLLEGE","Other Level 3",".",".",".",null,30,96,"top quintile",null,".",".",".",null,"x","x","x",null,".",".",".",null,"x","x","x"]
[10005981,"SOUTH ESSEX COLLEGE OF FURTHER AND HIGHER EDUCATION","Advanced and Higher Apprenticeships: Agriculture, Horticulture and Animal Care",".",".",".",null,10,100,"top quintile",null,".",".",".",null,10,91,"fourth quintile",null,".",".",".",null,"x","x","x"]
[10005981,"SOUTH ESSEX COLLEGE OF FURTHER AND HIGHER EDUCATION","Advanced and Higher Apprenticeships: Engineering and Manufacturing Technologies","x","x","x",null,20,96,"fourth quintile",null,"x","x","x",null,20,95,"fourth quintile",null,".",".",".",null,50,83,"bottom quintile"]
[10005981,"SOUTH ESSEX COLLEGE OF FURTHER AND HIGHER EDUCATION","Full Level 3+: Leisure, Travel and Tourism",".",".",".",null,10,54,"bottom quintile",null,".",".",".",null,"x","x","x",null,"x","x","x",null,20,82,"third quintile"]
[10005981,"SOUTH ESSEX COLLEGE OF FURTHER AND HIGHER EDUCATION","Full Level 2: Engineering and Manufacturing Technologies","x","x","x",null,20,87,"third quintile",null,"x","x","x",null,20,94,"top quintile",null,"x","x","x",null,10,80,"third quintile"]
[10036143,"SOUTH GLOUCESTERSHIRE AND STROUD COLLEGE","Advanced and Higher Apprenticeships: Business, Administration and Law",".",".",".",null,"x","x","x",null,".",".",".",null,10,92,"second quintile",null,".",".",".",null,10,92,"third quintile"]
[10036143,"SOUTH GLOUCESTERSHIRE AND STROUD COLLEGE","Full Level 3+: Leisure, Travel and Tourism",".",".",".",null,10,82,"second quintile",null,"x","x","x",null,"x","x","x",null,".",".",".",null,10,70,"bottom quintile"]
[10036143,"SOUTH GLOUCESTERSHIRE AND STROUD COLLEGE","Full Level 2: Construction, Planning and the Built Environment",20,78,"top quintile",null,80,85,"third quintile",null,"x","x","x",null,70,83,"third quintile",null,"x","x","x",null,50,81,"fourth quintile"]
[10036143,"SOUTH GLOUCESTERSHIRE AND STROUD COLLEGE","Other provision below Full Level 2",370,50,"second quintile",null,150,63,"bottom quintile",null,210,57,"fourth quintile",null,540,85,"top quintile",null,60,57,"fourth quintile",null,250,71,"third quintile"]
[10005989,"SOUTH LEICESTERSHIRE COLLEGE","Full Level 3+: Health, Public Services and Care","x","x","x",null,40,89,"third quintile",null,"x","x","x",null,60,84,"second quintile",null,"x","x","x",null,30,75,"bottom quintile"]
[10005989,"SOUTH LEICESTERSHIRE COLLEGE","Full Level 2: Languages, Literature and Culture",".",".",".",null,10,100,"top quintile",null,".",".",".",null,20,78,"bottom quintile",null,"x","x","x",null,30,88,"fourth quintile"]
[10005989,"SOUTH LEICESTERSHIRE COLLEGE","English for Speakers of Other Languages (ESOL)","x","x","x",null,120,79,"top quintile",null,"x","x","x",null,100,74,"top quintile",null,".",".",".",null,".",".","."]
[10023526,"SOUTH STAFFORDSHIRE COLLEGE","Intermediate Apprenticeships: Engineering and Manufacturing Technologies",".",".",".",null,"x","x","x",null,".",".",".",null,10,100,"top quintile",null,".",".",".",null,10,86,"bottom quintile"]
[10023526,"SOUTH STAFFORDSHIRE COLLEGE","Full Level 2: Languages, Literature and Culture","x","x","x",null,10,92,"top quintile",null,"x","x","x",null,30,94,"top quintile",null,".",".",".",null,40,90,"fourth quintile"]
[10005997,"SOUTH THAMES COLLEGE","Full Level 3+: Arts, Media and Publishing","x","x","x",null,40,82,"third quintile",null,"x","x","x",null,50,72,"bottom quintile",null,"x","x","x",null,60,77,"second quintile"]
[10005997,"SOUTH THAMES COLLEGE","Access to HE",40,89,"third quintile",null,280,89,"second quintile",null,10,86,"third quintile",null,160,84,"bottom quintile",null,10,75,"bottom quintile",null,150,95,"top quintile"]
[10005997,"SOUTH THAMES COLLEGE","Full Level 2: Construction, Planning and the Built Environment",30,48,"bottom quintile",null,40,81,"second quintile",null,20,52,"second quintile",null,170,54,"bottom quintile",null,"x","x","x",null,140,51,"bottom quintile"]
[10005999,"SOUTH TYNESIDE COLLEGE","Advanced and Higher Apprenticeships: Business, Administration and Law",".",".",".",null,"x","x","x",null,".",".",".",null,"x","x","x",null,"x","x","x",null,20,83,"bottom quintile"]
[10005999,"SOUTH TYNESIDE COLLEGE","Other Level 3","x","x","x",null,230,92,"fourth quintile",null,"x","x","x",null,40,74,"bottom quintile",null,".",".",".",null,"x","x","x"]
[10005999,"SOUTH TYNESIDE COLLEGE","Full Level 2: Preparation for Life and Work",20,44,"bottom quintile",null,"x","x","x",null,"x","x","x",null,50,96,"top quintile",null,10,83,"top quintile",null,120,88,"second quintile"]
[10032119,"SOUTH WEST ASSOCIATION OF TRAINING PROVIDERS LIMITED","Full Level 3+: Health, Public Services and Care",".",".",".",null,".",".",".",null,".",".",".",null,20,85,"third quintile",null,".",".",".",null,20,96,"top quintile"]
[10032119,"SOUTH WEST ASSOCIATION OF TRAINING PROVIDERS LIMITED","Intermediate Apprenticeships: Leisure, Travel and Tourism",".",".",".",null,".",".",".",null,".",".",".",null,".",".",".",null,".",".",".",null,20,95,"top quintile"]
[10002356,"SOUTH WORCESTERSHIRE COLLEGE","Access to HE","x","x","x",null,30,93,"fourth quintile",null,"x","x","x",null,50,93,"fourth quintile",null,".",".",".",null,30,94,"fourth quintile"]
[10002356,"SOUTH WORCESTERSHIRE COLLEGE","Full Level 2: Engineering and Manufacturing Technologies",".",".",".",null,"x","x","x",null,"x","x","x",null,10,93,"top quintile",null,".",".",".",null,"x","x","x"]
[10006020,"SOUTHAMPTON CITY COLLEGE","Advanced and Higher Apprenticeships: Engineering and Manufacturing Technologies",".",".",".",null,40,95,"fourth quintile",null,".",".",".",null,30,97,"top quintile",null,".",".",".",null,40,88,"second quintile"]
[10006020,"SOUTHAMPTON CITY COLLEGE","Full Level 3+: Retail and Commercial Enterprise",".",".",".",null,30,76,"third quintile",null,"x","x","x",null,40,67,"second quintile",null,"x","x","x",null,20,64,"bottom quintile"]
[10006020,"SOUTHAMPTON CITY COLLEGE","Full Level 2: Education and Training","x","x","x",null,10,92,"top quintile",null,"x","x","x",null,10,82,"third quintile",null,".",".",".",null,"x","x","x"]
[10005760,"SOUTHAMPTON ENGINEERING TRAINING ASSOCIATION LIMITED (THE)","Full Level 2: Engineering and Manufacturing Technologies",".",".",".",null,10,91,"fourth quintile",null,".",".",".",null,".",".",".",null,".",".",".",null,".",".","."]
[10006038,"SOUTHPORT COLLEGE","LLDD learner",40,63,"top quintile",null,180,69,"third quintile",null,10,79,"top quintile",null,130,70,"fourth quintile",null,"x","x","x",null,120,63,"second quintile"]
[10006038,"SOUTHPORT COLLEGE","Advanced and Higher Apprenticeships: Business, Administration and Law",".",".",".",null,10,100,"top quintile",null,".",".",".",null,20,100,"top quintile",null,"x","x","x",null,"x","x","x"]
[10006038,"SOUTHPORT COLLEGE","Full Level 2: Education and Training","x","x","x",null,30,74,"bottom quintile",null,"x","x","x",null,30,93,"top quintile",null,"x","x","x",null,30,87,"fourth quintile"]
[10006042,"SOUTHWARK LONDON BOROUGH COUNCIL","Full Level 2: Agriculture, Horticulture and Animal Care","x","x","x",null,"x","x","x",null,"x","x","x",null,20,50,"bottom quintile",null,10,36,"bottom quintile",null,"x","x","x"]
[10006050,"SPARSHOLT COLLEGE","Advanced and Higher Apprenticeships: Business, Administration and Law",".",".",".",null,30,86,"bottom quintile",null,".",".",".",null,10,100,"top quintile",null,".",".",".",null,"x","x","x"]
[10006050,"SPARSHOLT COLLEGE","Access to HE","x","x","x",null,20,83,"bottom quintile",null,"x","x","x",null,50,87,"bottom quintile",null,".",".",".",null,30,87,"bottom quintile"]
[10006050,"SPARSHOLT COLLEGE","Intermediate Apprenticeships: Retail and Commercial Enterprise","x","x","x",null,50,85,"bottom quintile",null,".",".",".",null,30,93,"fourth quintile",null,"x","x","x",null,20,91,"fourth quintile"]
[10032147,"SPECIALIST TRADE COURSES LIMITED","Full Level 3+: Retail and Commercial Enterprise",".",".",".",null,".",".",".",null,".",".",".",null,".",".",".",null,"x","x","x",null,20,33,"bottom quintile"]
[10010548,"SPRINGFIELDS FUELS LIMITED","Advanced and Higher Apprenticeships: Engineering and Manufacturing Technologies",".",".",".",null,20,94,"fourth quintile",null,".",".",".",null,10,100,"top quintile",null,".",".",".",null,"x","x","x"]
[10023368,"SSE SERVICES PLC","Advanced and Higher Apprenticeships: Engineering and Manufacturing Technologies",".",".",".",null,30,94,"fourth quintile",null,".",".",".",null,20,100,"top quintile",null,".",".",".",null,20,100,"top quintile"]
[10006173,"ST HELENS CHAMBER LIMITED","Intermediate Apprenticeships: Retail and Commercial Enterprise","x","x","x",null,10,80,"bottom quintile",null,"x","x","x",null,10,82,"bottom quintile",null,"x","x","x",null,"x","x","x"]
[10006174,"ST HELENS COLLEGE","Full Level 3+: Engineering and Manufacturing Technologies","x","x","x",null,10,100,"top quintile",null,"x","x","x",null,10,64,"bottom quintile",null,"x","x","x",null,"x","x","x"]
[10006174,"ST HELENS COLLEGE","Full Level 2: Construction, Planning and the Built Environment",".",".",".",null,"x","x","x",null,"x","x","x",null,20,76,"second quintile",null,".",".",".",null,"x","x","x"]
[10006174,"ST HELENS COLLEGE","Full Level 2: Preparation for Life and Work","x","x","x",null,40,78,"bottom quintile",null,"x","x","x",null,20,76,"bottom quintile",null,".",".",".",null,"x","x","x"]
[10006226,"ST MARY'S COLLEGE","LLDD learner",".",".",".",null,20,75,"fourth quintile",null,".",".",".",null,10,62,"second quintile",null,"x","x","x",null,10,60,"second quintile"]
[10027272,"STAFF SELECT LTD","LLDD learner",30,50,"fourth quintile",null,30,50,"bottom quintile",null,10,60,"top quintile",null,90,68,"third quintile",null,"x","x","x",null,100,63,"second quintile"]
[10027272,"STAFF SELECT LTD","Other provision below Full Level 2",20,25,"bottom quintile",null,"x","x","x",null,".",".",".",null,"x","x","x",null,"x","x","x",null,"x","x","x"]
[10006293,"STAFFORD COLLEGE","Full Level 3+: Business, Administration and Law","x","x","x",null,50,92,"third quintile",null,".",".",".",null,30,100,"top quintile",null,".",".",".",null,20,86,"third quintile"]
[10006293,"STAFFORD COLLEGE","English & Maths",30,45,"second quintile",null,50,79,"third quintile",null,10,46,"second quintile",null,50,84,"fourth quintile",null,10,50,"second quintile",null,40,80,"fourth quintile"]
[10006296,"STAFFORDSHIRE COUNTY COUNCIL","LLDD learner",120,43,"second quintile",null,320,51,"bottom quintile",null,100,29,"bottom quintile",null,150,52,"bottom quintile",null,50,39,"bottom quintile",null,190,48,"bottom quintile"]
[10009439,"STANMORE COLLEGE","Full Level 3+: Science and Mathematics",".",".",".",null,30,76,"bottom quintile",null,"x","x","x",null,20,85,"second quintile",null,".",".",".",null,10,77,"bottom quintile"]
[10009439,"STANMORE COLLEGE","Full Level 2: Science and Mathematics","x","x","x",null,30,93,"top quintile",null,"x","x","x",null,30,81,"bottom quintile",null,"x","x","x",null,40,93,"top quintile"]
[10027655,"STARTING OFF (NORTHAMPTON) LIMITED","Advanced and Higher Apprenticeships: Business, Administration and Law",".",".",".",null,50,98,"top quintile",null,"x","x","x",null,60,93,"third quintile",null,".",".",".",null,30,97,"top quintile"]
[10018942,"STEADFAST TRAINING LTD","Full Level 2: Retail and Commercial Enterprise",180,70,"top quintile",null,"x","x","x",null,40,69,"top quintile",null,20,40,"bottom quintile",null,40,51,"third quintile",null,"x","x","x"]
[10006322,"STEPHENSON COLLEGE","Full Level 3+: Retail and Commercial Enterprise",".",".",".",null,20,74,"third quintile",null,".",".",".",null,10,62,"bottom quintile",null,".",".",".",null,"x","x","x"]
[10006322,"STEPHENSON COLLEGE","Intermediate Apprenticeships: Health, Public Services and Care",".",".",".",null,40,92,"second quintile",null,".",".",".",null,30,88,"bottom quintile",null,".",".",".",null,10,100,"top quintile"]
[10006331,"STOCKPORT COLLEGE","Full Level 3+: Business, Administration and Law","x","x","x",null,50,84,"bottom quintile",null,"x","x","x",null,20,95,"top quintile",null,"x","x","x",null,50,92,"fourth quintile"]
[10006331,"STOCKPORT COLLEGE","Full Level 3+: Science and Mathematics","x","x","x",null,20,93,"fourth quintile",null,"x","x","x",null,10,80,"bottom quintile",null,".",".",".",null,10,75,"bottom quintile"]
[10006331,"STOCKPORT COLLEGE","Full Level 2: Languages, Literature and Culture","x","x","x",null,40,81,"second quintile",null,"x","x","x",null,40,93,"top quintile",null,"x","x","x",null,80,87,"third quintile"]
[10006335,"STOCKPORT METROPOLITAN BOROUGH COUNCIL","LLDD learner",60,50,"fourth quintile",null,190,55,"bottom quintile",null,40,43,"second quintile",null,110,67,"third quintile",null,"x","x","x",null,50,50,"bottom quintile"]
[10006341,"STOCKTON RIVERSIDE COLLEGE","Access to HE",10,92,"top quintile",null,100,90,"second quintile",null,10,60,"bottom quintile",null,110,92,"third quintile",null,"x","x","x",null,130,91,"third quintile"]
[10006341,"STOCKTON RIVERSIDE COLLEGE","Intermediate Apprenticeships: Education and Training","x","x","x",null,"x","x","x",null,".",".",".",null,"x","x","x",null,".",".",".",null,30,100,"fourth quintile"]
[10006337,"STOCKTON-ON-TEES BOROUGH COUNCIL","Full Level 2: Construction, Planning and the Built Environment",40,46,"bottom quintile",null,"x","x","x",null,"x","x","x",null,".",".",".",null,".",".",".",null,".",".","."]
[10006349,"STOKE ON TRENT COLLEGE","Advanced and Higher Apprenticeships: Business, Administration and Law","x","x","x",null,60,98,"top quintile",null,".",".",".",null,30,93,"third quintile",null,".",".",".",null,60,92,"second quintile"]
[10006349,"STOKE ON TRENT COLLEGE","Full Level 3+: Information and Communication Technology","x","x","x",null,"x","x","x",null,"x","x","x",null,"x","x","x",null,".",".",".",null,10,73,"bottom quintile"]
[10006349,"STOKE ON TRENT COLLEGE","Full Level 2: Engineering and Manufacturing Technologies",50,66,"fourth quintile",null,750,74,"bottom quintile",null,30,66,"fourth quintile",null,170,71,"bottom quintile",null,20,44,"bottom quintile",null,200,68,"bottom quintile"]
[10001473,"STOKE-ON-TRENT UNITARY AUTHORITY","LLDD learner",70,32,"bottom quintile",null,50,56,"bottom quintile",null,40,37,"bottom quintile",null,60,49,"bottom quintile",null,20,11,"bottom quintile",null,70,53,"bottom quintile"]
[10006365,"STRAIGHT A TRAINING LIMITED","Advanced and Higher Apprenticeships: Retail and Commercial Enterprise",".",".",".",null,"x","x","x",null,".",".",".",null,10,82,"bottom quintile",null,".",".",".",null,50,83,"bottom quintile"]
[10006002,"STRATFORD-UPON-AVON COLLEGE","Full Level 2: Health, Public Services and Care","x","x","x",null,1040,92,"third quintile",null,"x","x","x",null,770,93,"fourth quintile",null,"x","x","x",null,870,91,"third quintile"]
[10006378,"STRODE COLLEGE","Intermediate Apprenticeships: Business, Administration and Law",".",".",".",null,10,92,"second quintile",null,"x","x","x",null,10,91,"second quintile",null,".",".",".",null,"x","x","x"]
[10006378,"STRODE COLLEGE","Other provision below Full Level 2",350,47,"bottom quintile",null,40,67,"second quintile",null,390,51,"second quintile",null,90,59,"bottom quintile",null,200,49,"second quintile",null,70,76,"third quintile"]
[10006379,"STRODE'S COLLEGE","Full Level 2: Health, Public Services and Care",".",".",".",null,"x","x","x",null,".",".",".",null,"x","x","x",null,".",".",".",null,10,92,"fourth quintile"]
[10006399,"SUFFOLK COUNTY COUNCIL","Other provision below Full Level 2",630,56,"fourth quintile",null,490,61,"bottom quintile",null,460,53,"third quintile",null,270,61,"bottom quintile",null,590,56,"fourth quintile",null,330,64,"second quintile"]
[10006398,"SUFFOLK NEW COLLEGE","Full Level 3+: Retail and Commercial Enterprise","x","x","x",null,30,61,"bottom quintile",null,".",".",".",null,20,75,"third quintile",null,".",".",".",null,30,73,"fourth quintile"]
[10006398,"SUFFOLK NEW COLLEGE","Intermediate Apprenticeships: Engineering and Manufacturing Technologies","x","x","x",null,20,90,"second quintile",null,"x","x","x",null,40,94,"third quintile",null,".",".",".",null,20,92,"second quintile"]
[10043685,"SUMMERHOUSE EQUESTRIAN AND TRAINING CENTRE LLP","Advanced and Higher Apprenticeships: Arts, Media and Publishing",".",".",".",null,10,85,"bottom quintile",null,"x","x","x",null,20,95,"fourth quintile",null,"x","x","x",null,30,94,"fourth quintile"]
[10006407,"SUNDERLAND CITY METROPOLITAN BOROUGH COUNCIL","LLDD learner",190,38,"bottom quintile",null,120,33,"bottom quintile",null,100,37,"bottom quintile",null,120,41,"bottom quintile",null,120,31,"bottom quintile",null,110,41,"bottom quintile"]
[10006407,"SUNDERLAND CITY METROPOLITAN BOROUGH COUNCIL","English & Maths","x","x","x",null,30,67,"bottom quintile",null,"x","x","x",null,20,60,"bottom quintile",null,20,33,"bottom quintile",null,"x","x","x"]
[10001475,"SUNDERLAND COLLEGE","Intermediate Apprenticeships: Construction, Planning and the Built Environment",".",".",".",null,".",".",".",null,"x","x","x",null,20,88,"second quintile",null,".",".",".",null,20,80,"second quintile"]
[10001475,"SUNDERLAND COLLEGE","Intermediate Apprenticeships: Engineering and Manufacturing Technologies","x","x","x",null,50,96,"fourth quintile",null,".",".",".",null,"x","x","x",null,".",".",".",null,50,92,"third quintile"]
[10001475,"SUNDERLAND COLLEGE","Traineeships",".",".",".",null,".",".",".",null,".",".",".",null,".",".",".",null,"x","x","x",null,10,50,"bottom quintile"]
[10002923,"SUSSEX COAST COLLEGE HASTINGS","Advanced and Higher Apprenticeships: Business, Administration and Law",".",".",".",null,"x","x","x",null,".",".",".",null,20,95,"fourth quintile",null,"x","x","x",null,80,91,"second quintile"]
[10002923,"SUSSEX COAST COLLEGE HASTINGS","Full Level 3+: Health, Public Services and Care",".",".",".",null,10,93,"top quintile",null,"x","x","x",null,30,79,"second quintile",null,"x","x","x",null,40,88,"fourth quintile"]
[10002923,"SUSSEX COAST COLLEGE HASTINGS","Intermediate Apprenticeships: Information and Communication Technology",".",".",".",null,".",".",".",null,"x","x","x",null,20,74,"bottom quintile",null,"x","x","x",null,20,82,"bottom quintile"]
[10002923,"SUSSEX COAST COLLEGE HASTINGS","English for Speakers of Other Languages (ESOL)",40,62,"fourth quintile",null,80,72,"fourth quintile",null,20,56,"third quintile",null,50,67,"third quintile",null,".",".",".",null,".",".","."]
[10006432,"SUSSEX DOWNS COLLEGE","Full Level 3+: Arts, Media and Publishing","x","x","x",null,40,89,"fourth quintile",null,".",".",".",null,30,74,"bottom quintile",null,".",".",".",null,30,88,"top quintile"]
[10006432,"SUSSEX DOWNS COLLEGE","Full Level 2: Education and Training","x","x","x",null,30,81,"second quintile",null,"x","x","x",null,60,93,"top quintile",null,"x","x","x",null,20,89,"top quintile"]
[10006432,"SUSSEX DOWNS COLLEGE","Full Level 2: Languages, Literature and Culture","x","x","x",null,30,88,"third quintile",null,".",".",".",null,"x","x","x",null,".",".",".",null,".",".","."]
[10006463,"SWINDON COLLEGE","Full Level 3+: Retail and Commercial Enterprise","x","x","x",null,20,80,"fourth quintile",null,".",".",".",null,20,74,"third quintile",null,".",".",".",null,10,64,"second quintile"]
[10006463,"SWINDON COLLEGE","Full Level 2: Languages, Literature and Culture","x","x","x",null,10,82,"second quintile",null,".",".",".",null,30,92,"top quintile",null,".",".",".",null,20,95,"top quintile"]
[10013122,"SYSCO BUSINESS SKILLS ACADEMY LIMITED","LLDD learner",60,46,"third quintile",null,70,86,"top quintile",null,40,55,"top quintile",null,90,74,"fourth quintile",null,"x","x","x",null,80,77,"fourth quintile"]
[10013122,"SYSCO BUSINESS SKILLS ACADEMY LIMITED","Other provision below Full Level 2",290,62,"top quintile",null,40,58,"bottom quintile",null,120,62,"top quintile",null,40,72,"second quintile",null,40,57,"fourth quintile",null,20,60,"bottom quintile"]
[10006472,"SYSTEM GROUP LIMITED","Full Level 2: Engineering and Manufacturing Technologies",".",".",".",null,".",".",".",null,".",".",".",null,".",".",".",null,20,63,"third quintile",null,40,61,"bottom quintile"]
[10024071,"TALENT TRAINING (UK) LLP","Intermediate Apprenticeships: Business, Administration and Law",".",".",".",null,550,98,"top quintile",null,".",".",".",null,360,94,"fourth quintile",null,"x","x","x",null,440,96,"top quintile"]
[10006494,"TAMESIDE COLLEGE","Advanced and Higher Apprenticeships: Retail and Commercial Enterprise",".",".",".",null,"x","x","x",null,".",".",".",null,10,79,"bottom quintile",null,".",".",".",null,10,77,"bottom quintile"]
[10006494,"TAMESIDE COLLEGE","Other Level 3","x","x","x",null,70,95,"top quintile",null,"x","x","x",null,20,93,"top quintile",null,"x","x","x",null,20,93,"top quintile"]
[10006495,"TAMESIDE METROPOLITAN BOROUGH COUNCIL","English for Speakers of Other Languages (ESOL)",20,33,"bottom quintile",null,10,60,"bottom quintile",null,"x","x","x",null,10,38,"bottom quintile",null,".",".",".",null,".",".","."]
[10006514,"TBG LEARNING LTD","Advanced and Higher Apprenticeships: Business, Administration and Law",".",".",".",null,90,96,"fourth quintile",null,".",".",".",null,".",".",".",null,".",".",".",null,".",".","."]
[10006517,"TDR TRAINING LIMITED","Intermediate Apprenticeships: Health, Public Services and Care",".",".",".",null,".",".",".",null,"x","x","x",null,140,96,"top quintile",null,".",".",".",null,80,82,"bottom quintile"]
[10006519,"TEAM ENTERPRISES LIMITED","Advanced and Higher Apprenticeships: Health, Public Services and Care",".",".",".",null,20,100,"top quintile",null,"x","x","x",null,20,91,"second quintile",null,"x","x","x",null,30,94,"top quintile"]
[10006519,"TEAM ENTERPRISES LIMITED","Full Level 2: Business, Administration and Law","x","x","x",null,30,78,"bottom quintile",null,".",".",".",null,30,76,"bottom quintile",null,"x","x","x",null,"x","x","x"]
[10006549,"TELFORD COLLEGE OF ARTS & TECHNOLOGY","LLDD learner",890,53,"top quintile",null,1270,73,"fourth quintile",null,390,51,"top quintile",null,890,64,"third quintile",null,210,46,"fourth quintile",null,830,60,"second quintile"]
[10006549,"TELFORD COLLEGE OF ARTS & TECHNOLOGY","Full Level 3+: Leisure, Travel and Tourism",".",".",".",null,10,80,"second quintile",null,".",".",".",null,"x","x","x",null,".",".",".",null,"x","x","x"]
[10006549,"TELFORD COLLEGE OF ARTS & TECHNOLOGY","Intermediate Apprenticeships: Leisure, Travel and Tourism",".",".",".",null,10,91,"second quintile",null,".",".",".",null,".",".",".",null,".",".",".",null,"x","x","x"]
[10006574,"THE ACADEMY HAIR & BEAUTY LTD","Advanced and Higher Apprenticeships: Retail and Commercial Enterprise",".",".",".",null,"x","x","x",null,".",".",".",null,"x","x","x",null,".",".",".",null,20,80,"bottom quintile"]
[10000931,"THE APPRENTICE SCHOOL CHARITABLE TRUST","Full Level 2: Agriculture, Horticulture and Animal Care","x","x","x",null,20,87,"fourth quintile",null,".",".",".",null,".",".",".",null,".",".",".",null,".",".","."]
[10001080,"THE CADCENTRE (UK) LIMITED","Advanced and Higher Apprenticeships: Information and Communication Technology",".",".",".",null,40,100,"top quintile",null,".",".",".",null,20,100,"top quintile",null,".",".",".",null,"x","x","x"]
[10006622,"THE CARE LEARNING CENTRE (ISLE OF WIGHT) LIMITED","Traineeships",".",".",".",null,"x","x","x",null,".",".",".",null,20,72,"third quintile",null,"x","x","x",null,"x","x","x"]
[10001463,"THE CITY LITERARY INSTITUTE","Full Level 3+: Languages, Literature and Culture",".",".",".",null,".",".",".",null,".",".",".",null,".",".",".",null,"x","x","x",null,10,80,"third quintile"]
[10001463,"THE CITY LITERARY INSTITUTE","Full Level 2: Languages, Literature and Culture",10,79,"top quintile",null,130,88,"third quintile",null,"x","x","x",null,90,85,"third quintile",null,"x","x","x",null,70,86,"third quintile"]
[10003955,"THE CITY OF LIVERPOOL COLLEGE","Advanced and Higher Apprenticeships: Retail and Commercial Enterprise","x","x","x",null,10,70,"bottom quintile",null,"x","x","x",null,10,75,"bottom quintile",null,".",".",".",null,"x","x","x"]
[10003955,"THE CITY OF LIVERPOOL COLLEGE","Intermediate Apprenticeships: Business, Administration and Law","x","x","x",null,40,90,"bottom quintile",null,"x","x","x",null,40,95,"top quintile",null,".",".",".",null,40,86,"bottom quintile"]
[10003955,"THE CITY OF LIVERPOOL COLLEGE","Full Level 2: Languages, Literature and Culture",20,88,"top quintile",null,100,76,"bottom quintile",null,"x","x","x",null,"x","x","x",null,"x","x","x",null,10,70,"bottom quintile"]
[10001539,"THE COLLEGE OF ANIMAL WELFARE LIMITED","Intermediate Apprenticeships: Agriculture, Horticulture and Animal Care",".",".",".",null,10,85,"second quintile",null,"x","x","x",null,20,94,"top quintile",null,"x","x","x",null,30,84,"third quintile"]
[10001550,"THE COLLEGE OF RICHARD COLLYER IN HORSHAM","Full Level 2: Business, Administration and Law",".",".",".",null,20,100,"top quintile",null,".",".",".",null,20,93,"top quintile",null,".",".",".",null,10,83,"bottom quintile"]
[10007916,"THE COLLEGE OF WEST ANGLIA","Full Level 3+: Arts, Media and Publishing","x","x","x",null,20,83,"third quintile",null,".",".",".",null,40,78,"second quintile",null,"x","x","x",null,30,84,"third quintile"]
[10007916,"THE COLLEGE OF WEST ANGLIA","Other Level 3",".",".",".",null,140,92,"fourth quintile",null,"x","x","x",null,10,77,"fourth quintile",null,".",".",".",null,10,100,"top quintile"]
[10007916,"THE COLLEGE OF WEST ANGLIA","Full Level 2: Health, Public Services and Care","x","x","x",null,240,95,"top quintile",null,"x","x","x",null,140,92,"third quintile",null,".",".",".",null,100,95,"top quintile"]
[10007916,"THE COLLEGE OF WEST ANGLIA","Other provision below Full Level 2",40,62,"top quintile",null,230,87,"top quintile",null,50,66,"top quintile",null,410,87,"top quintile",null,40,54,"fourth quintile",null,240,83,"top quintile"]
[10001695,"THE CORNWALL COUNCIL","Full Level 2: Education and Training","x","x","x",null,10,100,"top quintile",null,"x","x","x",null,20,96,"top quintile",null,"x","x","x",null,"x","x","x"]
[10006651,"THE DERBYSHIRE NETWORK","Intermediate Apprenticeships: Engineering and Manufacturing Technologies",".",".",".",null,10,100,"top quintile",null,"x","x","x",null,20,100,"top quintile",null,".",".",".",null,10,92,"second quintile"]
[10002527,"THE FOOTBALL ASSOCIATION PREMIER LEAGUE LIMITED","Advanced and Higher Apprenticeships: Leisure, Travel and Tourism",".",".",".",null,180,79,"bottom quintile",null,".",".",".",null,170,83,"second quintile",null,".",".",".",null,170,82,"second quintile"]
[10009072,"THE HEADMASTERS PARTNERSHIP LIMITED","Advanced and Higher Apprenticeships: Retail and Commercial Enterprise","x","x","x",null,40,91,"second quintile",null,".",".",".",null,30,93,"fourth quintile",null,".",".",".",null,40,94,"top quintile"]
[10030656,"THE JCB ACADEMY","Advanced and Higher Apprenticeships: Engineering and Manufacturing Technologies",".",".",".",null,".",".",".",null,".",".",".",null,".",".",".",null,".",".",".",null,10,93,"fourth quintile"]
[10006734,"THE LEARNING CURVE (VOLUNTARY SECTOR DEVELOPMENT)","Other provision below Full Level 2",340,54,"fourth quintile",null,140,45,"bottom quintile",null,320,54,"fourth quintile",null,130,45,"bottom quintile",null,200,51,"third quintile",null,170,45,"bottom quintile"]
[10006735,"THE LEARNING PARTNERSHIP FOR CORNWALL AND THE ISLES OF SCILLY LIMITED","Full Level 2: Construction, Planning and the Built Environment",".",".",".",null,10,60,"bottom quintile",null,".",".",".",null,".",".",".",null,".",".",".",null,".",".","."]
[10004013,"THE LONDON COLLEGE OF BEAUTY THERAPY LIMITED","Intermediate Apprenticeships: Health, Public Services and Care",".",".",".",null,20,95,"top quintile",null,".",".",".",null,20,100,"top quintile",null,".",".",".",null,10,92,"third quintile"]
[10004013,"THE LONDON COLLEGE OF BEAUTY THERAPY LIMITED","English & Maths","x","x","x",null,50,88,"top quintile",null,".",".",".",null,"x","x","x",null,"x","x","x",null,"x","x","x"]
[10004762,"THE NORTHUMBERLAND COUNCIL","Full Level 2: Arts, Media and Publishing",".",".",".",null,10,77,"third quintile",null,".",".",".",null,30,62,"bottom quintile",null,".",".",".",null,40,72,"second quintile"]
[10006770,"THE OLDHAM COLLEGE","Advanced and Higher Apprenticeships: Leisure, Travel and Tourism",".",".",".",null,10,86,"third quintile",null,".",".",".",null,"x","x","x",null,".",".",".",null,".",".","."]
[10006770,"THE OLDHAM COLLEGE","Full Level 3+: Leisure, Travel and Tourism","x","x","x",null,10,92,"fourth quintile",null,".",".",".",null,10,82,"third quintile",null,"x","x","x",null,"x","x","x"]
[10006770,"THE OLDHAM COLLEGE","Intermediate Apprenticeships: Leisure, Travel and Tourism","x","x","x",null,10,83,"bottom quintile",null,".",".",".",null,"x","x","x",null,".",".",".",null,"x","x","x"]
[10006770,"THE OLDHAM COLLEGE","Traineeships","x","x","x",null,20,71,"third quintile",null,"x","x","x",null,20,67,"second quintile",null,"x","x","x",null,20,88,"top quintile"]
[10006797,"THE REYNOLDS GROUP LIMITED","Advanced and Higher Apprenticeships: Leisure, Travel and Tourism","x","x","x",null,30,96,"top quintile",null,".",".",".",null,40,89,"third quintile",null,".",".",".",null,"x","x","x"]
[10005825,"THE SHROPSHIRE COUNCIL","English & Maths",30,42,"bottom quintile",null,160,82,"fourth quintile",null,"x","x","x",null,120,79,"third quintile",null,"x","x","x",null,70,80,"fourth quintile"]
[10005894,"THE SKILLS PARTNERSHIP LIMITED","Intermediate Apprenticeships: Leisure, Travel and Tourism",".",".",".",null,20,100,"top quintile",null,"x","x","x",null,"x","x","x",null,".",".",".",null,10,90,"third quintile"]
[10006986,"THE TRAINING & RECRUITMENT PARTNERSHIP LIMITED","Full Level 3+: Health, Public Services and Care",".",".",".",null,".",".",".",null,"x","x","x",null,50,65,"bottom quintile",null,20,73,"top quintile",null,30,77,"bottom quintile"]
[10006566,"THE UNIVERSITY OF WEST LONDON","Advanced and Higher Apprenticeships: Retail and Commercial Enterprise",".",".",".",null,".",".",".",null,".",".",".",null,30,89,"second quintile",null,".",".",".",null,20,84,"second quintile"]
[10006847,"THE VOCATIONAL COLLEGE LIMITED","Full Level 2: Construction, Planning and the Built Environment",".",".",".",null,50,84,"third quintile",null,"x","x","x",null,70,88,"fourth quintile",null,".",".",".",null,".",".","."]
[10003919,"THELIGHTBULB LTD","Advanced and Higher Apprenticeships: Business, Administration and Law",".",".",".",null,30,93,"second quintile",null,".",".",".",null,20,87,"bottom quintile",null,".",".",".",null,20,80,"bottom quintile"]
[10003919,"THELIGHTBULB LTD","Intermediate Apprenticeships: Retail and Commercial Enterprise",".",".",".",null,"x","x","x",null,"x","x","x",null,10,73,"bottom quintile",null,".",".",".",null,"x","x","x"]
[10006907,"THURROCK UNITARY AUTHORITY","Full Level 3+: Health, Public Services and Care","x","x","x",null,"x","x","x",null,"x","x","x",null,10,93,"top quintile",null,".",".",".",null,"x","x","x"]
[10020313,"TIR TRAINING SERVICES LTD","Full Level 2: Retail and Commercial Enterprise",".",".",".",null,60,98,"top quintile",null,".",".",".",null,"x","x","x",null,"x","x","x",null,".",".","."]
[10020313,"TIR TRAINING SERVICES LTD","Other provision below Full Level 2",270,46,"bottom quintile",null,30,56,"bottom quintile",null,120,46,"bottom quintile",null,30,56,"bottom quintile",null,120,43,"bottom quintile",null,10,64,"second quintile"]
[10021755,"TOTAL PEOPLE LIMITED","Advanced and Higher Apprenticeships: Retail and Commercial Enterprise",".",".",".",null,60,92,"third quintile",null,".",".",".",null,60,93,"fourth quintile",null,".",".",".",null,50,88,"second quintile"]
[10006958,"TOTTON COLLEGE","Full Level 3+: Education and Training",".",".",".",null,10,91,"second quintile",null,"x","x","x",null,20,93,"fourth quintile",null,".",".",".",null,".",".","."]
[10006958,"TOTTON COLLEGE","Full Level 2: Health, Public Services and Care",".",".",".",null,30,76,"bottom quintile",null,".",".",".",null,70,91,"second quintile",null,".",".",".",null,"x","x","x"]
[10006963,"TOWER HAMLETS COLLEGE","Access to HE",20,78,"bottom quintile",null,110,85,"bottom quintile",null,10,91,"fourth quintile",null,80,84,"bottom quintile",null,"x","x","x",null,30,79,"bottom quintile"]
[10006963,"TOWER HAMLETS COLLEGE","Full Level 2: Science and Mathematics",20,86,"fourth quintile",null,160,82,"bottom quintile",null,20,79,"second quintile",null,270,86,"second quintile",null,"x","x","x",null,220,87,"second quintile"]
[10006964,"TOWER HAMLETS LONDON BOROUGH COUNCIL","Full Level 2: Information and Communication Technology","x","x","x",null,10,82,"fourth quintile",null,".",".",".",null,30,65,"bottom quintile",null,".",".",".",null,20,70,"second quintile"]
[10010939,"TQ WORKFORCE DEVELOPMENT LIMITED","Intermediate Apprenticeships: Business, Administration and Law","x","x","x",null,270,91,"second quintile",null,".",".",".",null,190,95,"fourth quintile",null,"x","x","x",null,210,91,"third quintile"]
[10005998,"TRAFFORD COLLEGE","Full Level 3+: Construction, Planning and the Built Environment","x","x","x",null,30,82,"third quintile",null,"x","x","x",null,"x","x","x",null,"x","x","x",null,30,81,"fourth quintile"]
[10005998,"TRAFFORD COLLEGE","Full Level 3+: Health, Public Services and Care","x","x","x",null,30,92,"fourth quintile",null,"x","x","x",null,30,80,"second quintile",null,".",".",".",null,20,79,"second quintile"]
[10005998,"TRAFFORD COLLEGE","Full Level 2: Retail and Commercial Enterprise",30,48,"second quintile",null,70,81,"third quintile",null,10,50,"bottom quintile",null,60,73,"second quintile",null,"x","x","x",null,30,75,"third quintile"]
[10005998,"TRAFFORD COLLEGE","Other provision below Full Level 2",290,57,"top quintile",null,360,67,"second quintile",null,270,63,"top quintile",null,770,80,"third quintile",null,290,65,"top quintile",null,230,75,"third quintile"]
[10006987,"TRAINING 2000 LIMITED","Full Level 2: Engineering and Manufacturing Technologies",".",".",".",null,10,92,"top quintile",null,".",".",".",null,".",".",".",null,".",".",".",null,".",".","."]
[10031408,"TRAINING FUTURES (UK) LIMITED","Intermediate Apprenticeships: Health, Public Services and Care","x","x","x",null,80,96,"top quintile",null,".",".",".",null,120,96,"top quintile",null,".",".",".",null,70,94,"top quintile"]
[10007015,"TRAINING SERVICES 2000 LTD","Traineeships",".",".",".",null,".",".",".",null,".",".",".",null,"x","x","x",null,"x","x","x",null,10,67,"third quintile"]
[10035270,"TRAINING SYNERGY LIMITED","Advanced and Higher Apprenticeships: Information and Communication Technology",".",".",".",null,".",".",".",null,".",".",".",null,20,100,"top quintile",null,"x","x","x",null,20,90,"third quintile"]
[10007035,"TRESHAM COLLEGE OF FURTHER AND HIGHER EDUCATION","LLDD learner",300,38,"bottom quintile",null,250,67,"third quintile",null,170,45,"second quintile",null,300,70,"fourth quintile",null,130,48,"fourth quintile",null,280,69,"third quintile"]
[10007035,"TRESHAM COLLEGE OF FURTHER AND HIGHER EDUCATION","Full Level 3+: Information and Communication Technology",".",".",".",null,20,73,"bottom quintile",null,".",".",".",null,"x","x","x",null,".",".",".",null,"x","x","x"]
[10007035,"TRESHAM COLLEGE OF FURTHER AND HIGHER EDUCATION","Full Level 2: Retail and Commercial Enterprise","x","x","x",null,50,83,"fourth quintile",null,"x","x","x",null,40,63,"bottom quintile",null,"x","x","x",null,30,72,"second quintile"]
[10000082,"TRN (TRAIN) LTD.","Intermediate Apprenticeships: Health, Public Services and Care",".",".",".",null,80,93,"fourth quintile",null,".",".",".",null,50,94,"fourth quintile",null,".",".",".",null,60,96,"top quintile"]
[10007063,"TRURO AND PENWITH COLLEGE","Full Level 3+: Construction, Planning and the Built Environment",".",".",".",null,"x","x","x",null,".",".",".",null,10,67,"bottom quintile",null,".",".",".",null,"x","x","x"]
[10007063,"TRURO AND PENWITH COLLEGE","Other Level 3","x","x","x",null,190,93,"fourth quintile",null,"x","x","x",null,"x","x","x",null,".",".",".",null,"x","x","x"]
[10007063,"TRURO AND PENWITH COLLEGE","Full Level 2: Retail and Commercial Enterprise","x","x","x",null,60,70,"second quintile",null,"x","x","x",null,50,75,"third quintile",null,"x","x","x",null,40,69,"second quintile"]
[10004589,"TTE TRAINING LIMITED","Advanced and Higher Apprenticeships: Engineering and Manufacturing Technologies",".",".",".",null,60,98,"top quintile",null,".",".",".",null,90,98,"top quintile",null,".",".",".",null,70,97,"top quintile"]
[10008569,"TYNE METROPOLITAN COLLEGE","Advanced and Higher Apprenticeships: Information and Communication Technology",".",".",".",null,10,91,"third quintile",null,".",".",".",null,"x","x","x",null,".",".",".",null,".",".","."]
[10008569,"TYNE METROPOLITAN COLLEGE","Full Level 2: Education and Training","x","x","x",null,30,80,"second quintile",null,"x","x","x",null,30,66,"bottom quintile",null,"x","x","x",null,40,80,"second quintile"]
[10007100,"TYNE NORTH TRAINING LIMITED","Other provision below Full Level 2",50,60,"top quintile",null,"x","x","x",null,".",".",".",null,".",".",".",null,".",".",".",null,".",".","."]
[10033129,"UNIQUE TRAINING NORTH EAST LIMITED","LLDD learner","x","x","x",null,"x","x","x",null,"x","x","x",null,10,73,"fourth quintile",null,".",".",".",null,"x","x","x"]
[10000712,"UNIVERSITY COLLEGE BIRMINGHAM","Intermediate Apprenticeships: Engineering and Manufacturing Technologies",".",".",".",null,30,90,"bottom quintile",null,".",".",".",null,40,98,"top quintile",null,".",".",".",null,"x","x","x"]
[10007851,"UNIVERSITY OF DERBY","Full Level 3+: Arts, Media and Publishing","x","x","x",null,".",".",".",null,"x","x","x",null,20,81,"second quintile",null,".",".",".",null,"x","x","x"]
[10007851,"UNIVERSITY OF DERBY","Intermediate Apprenticeships: Business, Administration and Law",".",".",".",null,20,95,"top quintile",null,".",".",".",null,10,90,"second quintile",null,".",".",".",null,70,86,"bottom quintile"]
[10007151,"UNIVERSITY OF LINCOLN","Advanced and Higher Apprenticeships: Engineering and Manufacturing Technologies",".",".",".",null,20,100,"top quintile",null,"x","x","x",null,20,100,"top quintile",null,".",".",".",null,30,85,"bottom quintile"]
[10007193,"UXBRIDGE COLLEGE","Full Level 3+: Arts, Media and Publishing","x","x","x",null,40,78,"second quintile",null,".",".",".",null,50,80,"second quintile",null,".",".",".",null,30,69,"bottom quintile"]
[10007193,"UXBRIDGE COLLEGE","Access to HE","x","x","x",null,20,90,"third quintile",null,"x","x","x",null,50,96,"top quintile",null,"x","x","x",null,60,85,"bottom quintile"]
[10003841,"V LEARNING NET","Full Level 2: Health, Public Services and Care",".",".",".",null,20,94,"fourth quintile",null,"x","x","x",null,40,89,"second quintile",null,"x","x","x",null,40,77,"bottom quintile"]
[10007212,"VARNDEAN COLLEGE","Full Level 2: Science and Mathematics","x","x","x",null,40,87,"second quintile",null,"x","x","x",null,30,87,"second quintile",null,".",".",".",null,50,85,"second quintile"]
[10007212,"VARNDEAN COLLEGE","Other provision below Full Level 2","x","x","x",null,90,81,"fourth quintile",null,"x","x","x",null,40,75,"second quintile",null,"x","x","x",null,60,82,"top quintile"]
[10023925,"VIRGIN MEDIA LIMITED","Intermediate Apprenticeships: Information and Communication Technology","x","x","x",null,40,98,"fourth quintile",null,"x","x","x",null,70,95,"fourth quintile",null,"x","x","x",null,80,91,"second quintile"]
[10007232,"VISAGE SCHOOL OF BEAUTY THERAPY LIMITED","Advanced and Higher Apprenticeships: Retail and Commercial Enterprise",".",".",".",null,"x","x","x",null,".",".",".",null,10,60,"bottom quintile",null,".",".",".",null,".",".","."]
[10030462,"VOYAGE GROUP LIMITED","Advanced and Higher Apprenticeships: Health, Public Services and Care",".",".",".",null,70,96,"top quintile",null,".",".",".",null,30,96,"top quintile",null,".",".",".",null,50,92,"fourth quintile"]
[10007659,"W S TRAINING LTD.","Intermediate Apprenticeships: Health, Public Services and Care",".",".",".",null,"x","x","x",null,".",".",".",null,30,90,"second quintile",null,".",".",".",null,30,86,"bottom quintile"]
[10007659,"W S TRAINING LTD.","Traineeships",".",".",".",null,20,67,"second quintile",null,"x","x","x",null,20,67,"second quintile",null,"x","x","x",null,20,65,"third quintile"]
[10007291,"WAKEFIELD CITY COUNCIL","Full Level 2: Education and Training","x","x","x",null,50,89,"fourth quintile",null,"x","x","x",null,50,87,"fourth quintile",null,"x","x","x",null,40,81,"third quintile"]
[10007289,"WAKEFIELD COLLEGE","Access to HE",10,83,"second quintile",null,80,88,"bottom quintile",null,"x","x","x",null,80,98,"top quintile",null,"x","x","x",null,80,92,"fourth quintile"]
[10007289,"WAKEFIELD COLLEGE","Full Level 2: Information and Communication Technology",30,85,"top quintile",null,20,82,"fourth quintile",null,20,93,"top quintile",null,20,94,"top quintile",null,"x","x","x",null,20,94,"top quintile"]
[10007289,"WAKEFIELD COLLEGE","English & Maths",200,48,"second quintile",null,170,85,"fourth quintile",null,80,49,"second quintile",null,200,89,"top quintile",null,30,42,"bottom quintile",null,140,83,"fourth quintile"]
[10007315,"WALSALL COLLEGE","Full Level 3+: Health, Public Services and Care","x","x","x",null,40,90,"fourth quintile",null,"x","x","x",null,40,82,"second quintile",null,"x","x","x",null,30,87,"fourth quintile"]
[10007315,"WALSALL COLLEGE","Intermediate Apprenticeships: Retail and Commercial Enterprise","x","x","x",null,40,92,"third quintile",null,"x","x","x",null,30,100,"top quintile",null,"x","x","x",null,70,88,"second quintile"]
[10007315,"WALSALL COLLEGE","Full Level 2: Science and Mathematics",10,92,"top quintile",null,110,92,"fourth quintile",null,10,85,"fourth quintile",null,110,87,"second quintile",null,"x","x","x",null,100,87,"third quintile"]
[10007318,"WALSALL METROPOLITAN BOROUGH COUNCIL","Intermediate Apprenticeships: Business, Administration and Law",".",".",".",null,".",".",".",null,".",".",".",null,"x","x","x",null,"x","x","x",null,20,94,"fourth quintile"]
[10007320,"WALTHAM FOREST CHAMBER OF COMMERCE TRAINING TRUST LIMITED","Advanced and Higher Apprenticeships: Health, Public Services and Care","x","x","x",null,"x","x","x",null,".",".",".",null,10,100,"top quintile",null,".",".",".",null,"x","x","x"]
[10007321,"WALTHAM FOREST COLLEGE","Access to HE","x","x","x",null,60,88,"second quintile",null,30,71,"bottom quintile",null,190,84,"bottom quintile",null,20,84,"third quintile",null,220,90,"third quintile"]
[10007321,"WALTHAM FOREST COLLEGE","Full Level 2: Education and Training","x","x","x",null,10,83,"second quintile",null,"x","x","x",null,"x","x","x",null,"x","x","x",null,10,55,"bottom quintile"]
[10007322,"WALTHAM FOREST LONDON BOROUGH COUNCIL","Intermediate Apprenticeships: Business, Administration and Law","x","x","x",null,20,88,"bottom quintile",null,"x","x","x",null,10,100,"top quintile",null,".",".",".",null,10,100,"top quintile"]
[10007322,"WALTHAM FOREST LONDON BOROUGH COUNCIL","Full Level 2: Preparation for Life and Work",".",".",".",null,".",".",".",null,"x","x","x",null,20,88,"second quintile",null,".",".",".",null,10,62,"bottom quintile"]
[10004002,"WANDSWORTH LONDON BOROUGH COUNCIL","Advanced and Higher Apprenticeships: Education and Training",".",".",".",null,"x","x","x",null,".",".",".",null,20,100,"top quintile",null,".",".",".",null,20,94,"third quintile"]
[10007339,"WARRINGTON COLLEGIATE","Full Level 3+: Construction, Planning and the Built Environment","x","x","x",null,30,78,"second quintile",null,"x","x","x",null,40,81,"third quintile",null,"x","x","x",null,20,84,"fourth quintile"]
[10007339,"WARRINGTON COLLEGIATE","Full Level 3+: Engineering and Manufacturing Technologies",".",".",".",null,20,100,"top quintile",null,".",".",".",null,20,68,"bottom quintile",null,".",".",".",null,20,88,"fourth quintile"]
[10007339,"WARRINGTON COLLEGIATE","Full Level 2: Retail and Commercial Enterprise","x","x","x",null,50,73,"second quintile",null,"x","x","x",null,40,92,"top quintile",null,"x","x","x",null,30,77,"third quintile"]
[10007859,"WARWICKSHIRE COLLEGE","Advanced and Higher Apprenticeships: Retail and Commercial Enterprise",".",".",".",null,"x","x","x",null,".",".",".",null,"x","x","x",null,".",".",".",null,10,93,"top quintile"]
[10007859,"WARWICKSHIRE COLLEGE","Full Level 3+: Retail and Commercial Enterprise","x","x","x",null,30,85,"top quintile",null,"x","x","x",null,30,69,"second quintile",null,"x","x","x",null,40,81,"top quintile"]
[10007859,"WARWICKSHIRE COLLEGE","Full Level 2: Education and Training","x","x","x",null,50,91,"top quintile",null,"x","x","x",null,50,92,"top quintile",null,"x","x","x",null,40,95,"top quintile"]
[10007348,"WARWICKSHIRE COUNTY COUNCIL","Full Level 2: Preparation for Life and Work","x","x","x",null,150,97,"top quintile",null,"x","x","x",null,"x","x","x",null,".",".",".",null,"x","x","x"]
[10008986,"WAVERLEY BOROUGH COUNCIL","LLDD learner",20,59,"top quintile",null,10,69,"third quintile",null,10,77,"top quintile",null,20,80,"top quintile",null,"x","x","x",null,10,75,"fourth quintile"]
[10007377,"WEIR TRAINING LIMITED","LLDD learner","x","x","x",null,40,94,"top quintile",null,".",".",".",null,10,86,"top quintile",null,".",".",".",null,30,80,"top quintile"]
[10007396,"WEST ANGLIA TRAINING ASSOCIATION LIMITED","Traineeships",".",".",".",null,".",".",".",null,30,61,"second quintile",null,40,53,"bottom quintile",null,"x","x","x",null,"x","x","x"]
[10007402,"WEST BERKSHIRE TRAINING CONSORTIUM","Full Level 2: Health, Public Services and Care","x","x","x",null,10,90,"second quintile",null,".",".",".",null,".",".",".",null,"x","x","x",null,"x","x","x"]
[10007407,"WEST CHESHIRE COLLEGE","Full Level 3+: Leisure, Travel and Tourism","x","x","x",null,10,100,"top quintile",null,".",".",".",null,20,100,"top quintile",null,".",".",".",null,20,88,"fourth quintile"]
[10007407,"WEST CHESHIRE COLLEGE","Full Level 2: Information and Communication Technology","x","x","x",null,20,88,"top quintile",null,20,73,"top quintile",null,"x","x","x",null,10,67,"top quintile",null,"x","x","x"]
[10007417,"WEST HERTS COLLEGE","Advanced and Higher Apprenticeships: Engineering and Manufacturing Technologies",".",".",".",null,"x","x","x",null,".",".",".",null,10,100,"top quintile",null,".",".",".",null,40,88,"second quintile"]
[10007417,"WEST HERTS COLLEGE","Full Level 3+: Health, Public Services and Care","x","x","x",null,50,90,"fourth quintile",null,"x","x","x",null,50,85,"third quintile",null,"x","x","x",null,50,77,"bottom quintile"]
[10007417,"WEST HERTS COLLEGE","Intermediate Apprenticeships: Health, Public Services and Care","x","x","x",null,30,88,"bottom quintile",null,".",".",".",null,20,87,"bottom quintile",null,".",".",".",null,"x","x","x"]
[10007419,"WEST KENT AND ASHFORD COLLEGE","Advanced and Higher Apprenticeships: Engineering and Manufacturing Technologies","x","x","x",null,50,96,"fourth quintile",null,".",".",".",null,30,92,"third quintile",null,".",".",".",null,"x","x","x"]
[10007419,"WEST KENT AND ASHFORD COLLEGE","Full Level 3+: Retail and Commercial Enterprise","x","x","x",null,40,72,"second quintile",null,".",".",".",null,30,70,"third quintile",null,".",".",".",null,20,82,"top quintile"]
[10007419,"WEST KENT AND ASHFORD COLLEGE","Full Level 2: Business, Administration and Law","x","x","x",null,40,83,"second quintile",null,"x","x","x",null,60,95,"top quintile",null,".",".",".",null,40,88,"second quintile"]
[10053961,"WEST LANCASHIRE COLLEGE","Intermediate Apprenticeships: Business, Administration and Law",".",".",".",null,".",".",".",null,".",".",".",null,".",".",".",null,"x","x","x",null,40,86,"bottom quintile"]
[10053961,"WEST LANCASHIRE COLLEGE","Full Level 2: Information and Communication Technology",".",".",".",null,".",".",".",null,".",".",".",null,".",".",".",null,".",".",".",null,10,57,"bottom quintile"]
[10007427,"WEST NOTTINGHAMSHIRE COLLEGE","Advanced and Higher Apprenticeships: Leisure, Travel and Tourism","x","x","x",null,60,96,"top quintile",null,"x","x","x",null,80,91,"third quintile",null,"x","x","x",null,70,84,"second quintile"]
[10007427,"WEST NOTTINGHAMSHIRE COLLEGE","Full Level 3+: Leisure, Travel and Tourism","x","x","x",null,20,91,"fourth quintile",null,"x","x","x",null,20,83,"third quintile",null,"x","x","x",null,20,80,"third quintile"]
[10007427,"WEST NOTTINGHAMSHIRE COLLEGE","Intermediate Apprenticeships: Retail and Commercial Enterprise",30,64,"bottom quintile",null,290,83,"bottom quintile",null,10,36,"bottom quintile",null,700,88,"second quintile",null,"x","x","x",null,610,88,"second quintile"]
[10007427,"WEST NOTTINGHAMSHIRE COLLEGE","Full Level 2: Science and Mathematics","x","x","x",null,70,89,"third quintile",null,"x","x","x",null,70,90,"fourth quintile",null,"x","x","x",null,30,81,"bottom quintile"]
[10007431,"WEST SUFFOLK COLLEGE","Full Level 3+: Information and Communication Technology",".",".",".",null,"x","x","x",null,".",".",".",null,10,92,"top quintile",null,".",".",".",null,10,100,"top quintile"]
[10007431,"WEST SUFFOLK COLLEGE","Intermediate Apprenticeships: Business, Administration and Law",".",".",".",null,40,97,"top quintile",null,".",".",".",null,30,88,"bottom quintile",null,"x","x","x",null,40,95,"top quintile"]
[10007432,"WEST SUSSEX COUNTY COUNCIL","Full Level 2: Information and Communication Technology",80,45,"bottom quintile",null,40,79,"third quintile",null,".",".",".",null,10,82,"fourth quintile",null,"x","x","x",null,20,71,"second quintile"]
[10007434,"WEST THAMES COLLEGE","Advanced and Higher Apprenticeships: Health, Public Services and Care","x","x","x",null,40,94,"fourth quintile",null,".",".",".",null,60,96,"top quintile",null,".",".",".",null,"x","x","x"]
[10007434,"WEST THAMES COLLEGE","Intermediate Apprenticeships: Business, Administration and Law",".",".",".",null,".",".",".",null,".",".",".",null,60,86,"bottom quintile",null,".",".",".",null,40,88,"bottom quintile"]
[10007434,"WEST THAMES COLLEGE","Full Level 2: Leisure, Travel and Tourism",120,78,"fourth quintile",null,110,85,"second quintile",null,40,86,"top quintile",null,80,84,"second quintile",null,10,21,"bottom quintile",null,"x","x","x"]
[10008591,"WEST YORKSHIRE LEARNING PROVIDERS LTD","Advanced and Higher Apprenticeships: Business, Administration and Law",".",".",".",null,80,97,"top quintile",null,"x","x","x",null,80,94,"third quintile",null,"x","x","x",null,70,91,"second quintile"]
[10008591,"WEST YORKSHIRE LEARNING PROVIDERS LTD","English for Speakers of Other Languages (ESOL)",20,32,"bottom quintile",null,"x","x","x",null,".",".",".",null,".",".",".",null,".",".",".",null,".",".","."]
[10001464,"WESTMINSTER CITY COUNCIL","Full Level 3+: Health, Public Services and Care",10,85,"top quintile",null,40,61,"bottom quintile",null,"x","x","x",null,10,50,"bottom quintile",null,".",".",".",null,".",".","."]
[10001464,"WESTMINSTER CITY COUNCIL","Full Level 2: Leisure, Travel and Tourism","x","x","x",null,20,63,"bottom quintile",null,".",".",".",null,".",".",".",null,".",".",".",null,".",".","."]
[10007455,"WESTMINSTER KINGSWAY COLLEGE","Full Level 3+: Science and Mathematics",".",".",".",null,20,95,"fourth quintile",null,"x","x","x",null,30,80,"bottom quintile",null,"x","x","x",null,30,80,"bottom quintile"]
[10007455,"WESTMINSTER KINGSWAY COLLEGE","Full Level 2: Agriculture, Horticulture and Animal Care",".",".",".",null,30,87,"fourth quintile",null,".",".",".",null,".",".",".",null,".",".",".",null,".",".","."]
[10007455,"WESTMINSTER KINGSWAY COLLEGE","Full Level 2: Languages, Literature and Culture",".",".",".",null,"x","x","x",null,".",".",".",null,"x","x","x",null,"x","x","x",null,20,72,"bottom quintile"]
[10007459,"WESTON COLLEGE OF FURTHER AND HIGHER EDUCATION","Advanced and Higher Apprenticeships: Science and Mathematics",".",".",".",null,10,90,"second quintile",null,".",".",".",null,".",".",".",null,".",".",".",null,"x","x","x"]
[10007459,"WESTON COLLEGE OF FURTHER AND HIGHER EDUCATION","Intermediate Apprenticeships: Construction, Planning and the Built Environment","x","x","x",null,10,64,"bottom quintile",null,"x","x","x",null,20,67,"bottom quintile",null,"x","x","x",null,40,52,"bottom quintile"]
[10007459,"WESTON COLLEGE OF FURTHER AND HIGHER EDUCATION","Full Level 2: Business, Administration and Law",50,61,"third quintile",null,620,37,"bottom quintile",null,"x","x","x",null,200,54,"bottom quintile",null,"x","x","x",null,100,97,"top quintile"]
[10007459,"WESTON COLLEGE OF FURTHER AND HIGHER EDUCATION","Full Level 2: Science and Mathematics","x","x","x",null,10,92,"fourth quintile",null,".",".",".",null,20,79,"bottom quintile",null,"x","x","x",null,50,89,"third quintile"]
[10007469,"WEYMOUTH COLLEGE","Full Level 3+: Health, Public Services and Care",".",".",".",null,20,81,"bottom quintile",null,".",".",".",null,20,93,"top quintile",null,".",".",".",null,"x","x","x"]
[10007469,"WEYMOUTH COLLEGE","Full Level 2: Science and Mathematics","x","x","x",null,20,94,"top quintile",null,"x","x","x",null,70,88,"third quintile",null,"x","x","x",null,50,83,"bottom quintile"]
[10007469,"WEYMOUTH COLLEGE","English & Maths",10,54,"third quintile",null,100,70,"bottom quintile",null,"x","x","x",null,110,71,"second quintile",null,"x","x","x",null,80,70,"second quintile"]
[10007500,"WIGAN AND LEIGH COLLEGE","Full Level 3+: Information and Communication Technology",".",".",".",null,"x","x","x",null,".",".",".",null,10,100,"top quintile",null,"x","x","x",null,"x","x","x"]
[10007500,"WIGAN AND LEIGH COLLEGE","Intermediate Apprenticeships: Retail and Commercial Enterprise","x","x","x",null,50,89,"second quintile",null,"x","x","x",null,40,98,"top quintile",null,"x","x","x",null,70,85,"second quintile"]
[10007500,"WIGAN AND LEIGH COLLEGE","Full Level 2: Science and Mathematics","x","x","x",null,100,95,"top quintile",null,"x","x","x",null,130,91,"fourth quintile",null,"x","x","x",null,80,91,"fourth quintile"]
[10007502,"WIGAN METROPOLITAN BOROUGH COUNCIL","Intermediate Apprenticeships: Business, Administration and Law","x","x","x",null,70,88,"bottom quintile",null,"x","x","x",null,50,81,"bottom quintile",null,".",".",".",null,50,82,"bottom quintile"]
[10007502,"WIGAN METROPOLITAN BOROUGH COUNCIL","English & Maths",20,60,"fourth quintile",null,100,71,"bottom quintile",null,20,54,"third quintile",null,110,77,"third quintile",null,30,50,"second quintile",null,90,70,"second quintile"]
[10007527,"WILTSHIRE COLLEGE","Full Level 3+: Health, Public Services and Care",".",".",".",null,60,93,"top quintile",null,"x","x","x",null,40,79,"bottom quintile",null,".",".",".",null,20,89,"fourth quintile"]
[10007527,"WILTSHIRE COLLEGE","Full Level 2: Languages, Literature and Culture","x","x","x",null,40,88,"fourth quintile",null,"x","x","x",null,50,90,"fourth quintile",null,"x","x","x",null,80,86,"third quintile"]
[10007527,"WILTSHIRE COLLEGE","Full Level 2: Science and Mathematics","x","x","x",null,90,92,"fourth quintile",null,"x","x","x",null,140,90,"fourth quintile",null,"x","x","x",null,150,88,"third quintile"]
[10007553,"WIRRAL METROPOLITAN COLLEGE","Full Level 3+: Business, Administration and Law","x","x","x",null,40,86,"second quintile",null,"x","x","x",null,80,92,"fourth quintile",null,"x","x","x",null,50,82,"second quintile"]
[10007553,"WIRRAL METROPOLITAN COLLEGE","Intermediate Apprenticeships: Education and Training",".",".",".",null,"x","x","x",null,".",".",".",null,20,88,"second quintile",null,"x","x","x",null,30,86,"second quintile"]
[10007553,"WIRRAL METROPOLITAN COLLEGE","Full Level 2: Leisure, Travel and Tourism","x","x","x",null,30,77,"bottom quintile",null,"x","x","x",null,10,80,"bottom quintile",null,".",".",".",null,"x","x","x"]
[10007566,"WOKING COLLEGE","Full Level 3+: Science and Mathematics",".",".",".",null,10,100,"top quintile",null,"x","x","x",null,"x","x","x",null,".",".",".",null,"x","x","x"]
[10007567,"WOKINGHAM COUNCIL","Other provision below Full Level 2","x","x","x",null,20,95,"top quintile",null,"x","x","x",null,30,72,"second quintile",null,".",".",".",null,".",".","."]
[10007576,"WOLVERHAMPTON CITY COUNCIL","LLDD learner",110,50,"fourth quintile",null,450,64,"third quintile",null,100,45,"second quintile",null,380,67,"third quintile",null,90,45,"third quintile",null,400,59,"second quintile"]
[10007576,"WOLVERHAMPTON CITY COUNCIL","Full Level 3+: Education and Training","x","x","x",null,20,88,"second quintile",null,"x","x","x",null,30,84,"second quintile",null,"x","x","x",null,20,83,"second quintile"]
[10007576,"WOLVERHAMPTON CITY COUNCIL","Access to HE","x","x","x",null,10,92,"fourth quintile",null,"x","x","x",null,30,81,"bottom quintile",null,"x","x","x",null,"x","x","x"]
[10007576,"WOLVERHAMPTON CITY COUNCIL","Other Level 3",".",".",".",null,10,79,"second quintile",null,"x","x","x",null,"x","x","x",null,".",".",".",null,"x","x","x"]
[10007576,"WOLVERHAMPTON CITY COUNCIL","Full Level 2: Business, Administration and Law","x","x","x",null,"x","x","x",null,"x","x","x",null,10,38,"bottom quintile",null,"x","x","x",null,20,79,"bottom quintile"]
[10007576,"WOLVERHAMPTON CITY COUNCIL","Full Level 2: Education and Training",".",".",".",null,10,80,"second quintile",null,"x","x","x",null,10,85,"third quintile",null,"x","x","x",null,10,83,"third quintile"]
[10007576,"WOLVERHAMPTON CITY COUNCIL","Full Level 2: Health, Public Services and Care","x","x","x",null,70,92,"third quintile",null,"x","x","x",null,70,97,"top quintile",null,".",".",".",null,20,95,"top quintile"]
[10007576,"WOLVERHAMPTON CITY COUNCIL","Full Level 2: Information and Communication Technology","x","x","x",null,"x","x","x",null,"x","x","x",null,"x","x","x",null,"x","x","x",null,10,64,"second quintile"]
[10007576,"WOLVERHAMPTON CITY COUNCIL","Full Level 2: Languages, Literature and Culture",".",".",".",null,10,91,"fourth quintile",null,"x","x","x",null,10,91,"top quintile",null,"x","x","x",null,30,81,"second quintile"]
[10007576,"WOLVERHAMPTON CITY COUNCIL","Full Level 2: Preparation for Life and Work",".",".",".",null,".",".",".",null,20,81,"top quintile",null,10,60,"bottom quintile",null,".",".",".",null,".",".","."]
[10007576,"WOLVERHAMPTON CITY COUNCIL","Full Level 2: Science and Mathematics","x","x","x",null,10,75,"bottom quintile",null,".",".",".",null,"x","x","x",null,".",".",".",null,20,90,"fourth quintile"]
[10007576,"WOLVERHAMPTON CITY COUNCIL","English & Maths",60,52,"second quintile",null,210,81,"fourth quintile",null,40,66,"top quintile",null,210,68,"bottom quintile",null,100,53,"third quintile",null,520,60,"bottom quintile"]
[10007576,"WOLVERHAMPTON CITY COUNCIL","English for Speakers of Other Languages (ESOL)",370,42,"bottom quintile",null,340,56,"bottom quintile",null,310,50,"second quintile",null,430,60,"bottom quintile",null,10,42,"bottom quintile",null,30,58,"second quintile"]
[10007576,"WOLVERHAMPTON CITY COUNCIL","Other provision below Full Level 2",210,51,"third quintile",null,450,78,"third quintile",null,80,56,"fourth quintile",null,260,80,"third quintile",null,270,55,"fourth quintile",null,310,68,"second quintile"]
[10007594,"WOMEN'S TECHNOLOGY TRAINING LIMITED","LLDD learner",10,57,"top quintile",null,80,65,"third quintile",null,"x","x","x",null,60,45,"bottom quintile",null,"x","x","x",null,20,74,"fourth quintile"]
[10007594,"WOMEN'S TECHNOLOGY TRAINING LIMITED","Full Level 2: Health, Public Services and Care","x","x","x",null,20,79,"bottom quintile",null,"x","x","x",null,"x","x","x",null,"x","x","x",null,"x","x","x"]
[10007594,"WOMEN'S TECHNOLOGY TRAINING LIMITED","Full Level 2: Preparation for Life and Work",".",".",".",null,"x","x","x",null,"x","x","x",null,20,31,"bottom quintile",null,".",".",".",null,".",".","."]
[10007594,"WOMEN'S TECHNOLOGY TRAINING LIMITED","Full Level 2: Retail and Commercial Enterprise","x","x","x",null,"x","x","x",null,"x","x","x",null,20,55,"bottom quintile",null,"x","x","x",null,10,30,"bottom quintile"]
[10007594,"WOMEN'S TECHNOLOGY TRAINING LIMITED","English & Maths","x","x","x",null,"x","x","x",null,"x","x","x",null,20,64,"bottom quintile",null,"x","x","x",null,20,47,"bottom quintile"]
[10007594,"WOMEN'S TECHNOLOGY TRAINING LIMITED","English for Speakers of Other Languages (ESOL)",10,54,"second quintile",null,40,70,"third quintile",null,"x","x","x",null,20,53,"bottom quintile",null,".",".",".",null,".",".","."]
[10007594,"WOMEN'S TECHNOLOGY TRAINING LIMITED","Other provision below Full Level 2",150,56,"top quintile",null,300,69,"second quintile",null,30,50,"second quintile",null,110,73,"second quintile",null,"x","x","x",null,30,59,"bottom quintile"]
[10000028,"WOODSPEEN TRAINING LIMITED","LLDD learner",180,42,"second quintile",null,200,58,"second quintile",null,170,47,"fourth quintile",null,250,45,"bottom quintile",null,150,39,"bottom quintile",null,130,70,"third quintile"]
[10000028,"WOODSPEEN TRAINING LIMITED","Advanced and Higher Apprenticeships: Business, Administration and Law",".",".",".",null,30,96,"top quintile",null,".",".",".",null,30,91,"bottom quintile",null,".",".",".",null,30,91,"second quintile"]
[10000028,"WOODSPEEN TRAINING LIMITED","Advanced and Higher Apprenticeships: Health, Public Services and Care","x","x","x",null,110,95,"top quintile",null,"x","x","x",null,60,95,"top quintile",null,".",".",".",null,150,93,"fourth quintile"]
[10000028,"WOODSPEEN TRAINING LIMITED","Advanced and Higher Apprenticeships: Retail and Commercial Enterprise","x","x","x",null,30,78,"bottom quintile",null,".",".",".",null,20,70,"bottom quintile",null,".",".",".",null,30,93,"top quintile"]
[10000028,"WOODSPEEN TRAINING LIMITED","Full Level 3+: Health, Public Services and Care",".",".",".",null,"x","x","x",null,"x","x","x",null,40,89,"third quintile",null,".",".",".",null,"x","x","x"]
[10000028,"WOODSPEEN TRAINING LIMITED","Intermediate Apprenticeships: Business, Administration and Law","x","x","x",null,50,80,"bottom quintile",null,"x","x","x",null,40,92,"second quintile",null,"x","x","x",null,40,98,"top quintile"]
[10000028,"WOODSPEEN TRAINING LIMITED","Intermediate Apprenticeships: Engineering and Manufacturing Technologies","x","x","x",null,"x","x","x",null,"x","x","x",null,"x","x","x",null,"x","x","x",null,10,100,"top quintile"]
[10000028,"WOODSPEEN TRAINING LIMITED","Intermediate Apprenticeships: Health, Public Services and Care","x","x","x",null,80,88,"bottom quintile",null,"x","x","x",null,70,93,"fourth quintile",null,"x","x","x",null,90,91,"second quintile"]
[10000028,"WOODSPEEN TRAINING LIMITED","Intermediate Apprenticeships: Information and Communication Technology","x","x","x",null,20,80,"bottom quintile",null,"x","x","x",null,"x","x","x",null,".",".",".",null,"x","x","x"]
[10000028,"WOODSPEEN TRAINING LIMITED","Intermediate Apprenticeships: Retail and Commercial Enterprise","x","x","x",null,50,80,"bottom quintile",null,"x","x","x",null,40,76,"bottom quintile",null,"x","x","x",null,30,66,"bottom quintile"]
[10000028,"WOODSPEEN TRAINING LIMITED","Full Level 2: Engineering and Manufacturing Technologies",".",".",".",null,".",".",".",null,".",".",".",null,".",".",".",null,10,70,"top quintile",null,20,80,"third quintile"]
[10000028,"WOODSPEEN TRAINING LIMITED","Full Level 2: Health, Public Services and Care",".",".",".",null,20,95,"top quintile",null,".",".",".",null,20,96,"top quintile",null,".",".",".",null,"x","x","x"]
[10000028,"WOODSPEEN TRAINING LIMITED","Full Level 2: Information and Communication Technology",110,61,"bottom quintile",null,50,53,"bottom quintile",null,40,64,"second quintile",null,30,73,"third quintile",null,10,73,"top quintile",null,"x","x","x"]
[10000028,"WOODSPEEN TRAINING LIMITED","English & Maths",40,51,"second quintile",null,70,75,"second quintile",null,20,70,"top quintile",null,70,72,"second quintile",null,"x","x","x",null,30,94,"top quintile"]
[10000028,"WOODSPEEN TRAINING LIMITED","Other provision below Full Level 2",360,48,"second quintile",null,40,61,"bottom quintile",null,210,56,"fourth quintile",null,270,74,"second quintile",null,210,51,"third quintile",null,70,69,"second quintile"]
[10007621,"WORCESTER COLLEGE OF TECHNOLOGY","LLDD learner",170,48,"fourth quintile",null,360,73,"fourth quintile",null,".",".",".",null,".",".",".",null,".",".",".",null,".",".","."]
[10007621,"WORCESTER COLLEGE OF TECHNOLOGY","Advanced and Higher Apprenticeships: Business, Administration and Law",".",".",".",null,110,94,"third quintile",null,".",".",".",null,".",".",".",null,".",".",".",null,".",".","."]
[10007621,"WORCESTER COLLEGE OF TECHNOLOGY","Advanced and Higher Apprenticeships: Education and Training",".",".",".",null,60,97,"fourth quintile",null,".",".",".",null,".",".",".",null,".",".",".",null,".",".","."]
[10007621,"WORCESTER COLLEGE OF TECHNOLOGY","Advanced and Higher Apprenticeships: Engineering and Manufacturing Technologies",".",".",".",null,20,90,"bottom quintile",null,".",".",".",null,".",".",".",null,".",".",".",null,".",".","."]
[10007621,"WORCESTER COLLEGE OF TECHNOLOGY","Advanced and Higher Apprenticeships: Health, Public Services and Care","x","x","x",null,90,93,"third quintile",null,".",".",".",null,".",".",".",null,".",".",".",null,".",".","."]
[10007621,"WORCESTER COLLEGE OF TECHNOLOGY","Advanced and Higher Apprenticeships: Leisure, Travel and Tourism",".",".",".",null,30,97,"top quintile",null,".",".",".",null,".",".",".",null,".",".",".",null,".",".","."]
[10007621,"WORCESTER COLLEGE OF TECHNOLOGY","Advanced and Higher Apprenticeships: Retail and Commercial Enterprise",".",".",".",null,50,88,"second quintile",null,".",".",".",null,".",".",".",null,".",".",".",null,".",".","."]
[10007621,"WORCESTER COLLEGE OF TECHNOLOGY","Full Level 3+: Arts, Media and Publishing",".",".",".",null,10,86,"fourth quintile",null,".",".",".",null,".",".",".",null,".",".",".",null,".",".","."]
[10007621,"WORCESTER COLLEGE OF TECHNOLOGY","Full Level 3+: Business, Administration and Law","x","x","x",null,50,93,"fourth quintile",null,".",".",".",null,".",".",".",null,".",".",".",null,".",".","."]
[10007621,"WORCESTER COLLEGE OF TECHNOLOGY","Full Level 3+: Engineering and Manufacturing Technologies","x","x","x",null,30,93,"fourth quintile",null,".",".",".",null,".",".",".",null,".",".",".",null,".",".","."]
[10007621,"WORCESTER COLLEGE OF TECHNOLOGY","Full Level 3+: Retail and Commercial Enterprise",".",".",".",null,30,85,"top quintile",null,".",".",".",null,".",".",".",null,".",".",".",null,".",".","."]
[10007621,"WORCESTER COLLEGE OF TECHNOLOGY","Access to HE","x","x","x",null,80,90,"second quintile",null,".",".",".",null,".",".",".",null,".",".",".",null,".",".","."]
[10007621,"WORCESTER COLLEGE OF TECHNOLOGY","Other Level 3","x","x","x",null,40,95,"top quintile",null,".",".",".",null,".",".",".",null,".",".",".",null,".",".","."]
[10007621,"WORCESTER COLLEGE OF TECHNOLOGY","Intermediate Apprenticeships: Business, Administration and Law","x","x","x",null,230,92,"second quintile",null,".",".",".",null,".",".",".",null,".",".",".",null,".",".","."]
[10007621,"WORCESTER COLLEGE OF TECHNOLOGY","Intermediate Apprenticeships: Engineering and Manufacturing Technologies","x","x","x",null,140,96,"fourth quintile",null,".",".",".",null,".",".",".",null,".",".",".",null,".",".","."]
[10007621,"WORCESTER COLLEGE OF TECHNOLOGY","Intermediate Apprenticeships: Health, Public Services and Care","x","x","x",null,80,96,"top quintile",null,".",".",".",null,".",".",".",null,".",".",".",null,".",".","."]
[10007621,"WORCESTER COLLEGE OF TECHNOLOGY","Intermediate Apprenticeships: Retail and Commercial Enterprise","x","x","x",null,310,91,"second quintile",null,".",".",".",null,".",".",".",null,".",".",".",null,".",".","."]
[10007621,"WORCESTER COLLEGE OF TECHNOLOGY","Full Level 2: Business, Administration and Law",120,62,"third quintile",null,130,87,"third quintile",null,".",".",".",null,".",".",".",null,".",".",".",null,".",".","."]
[10007621,"WORCESTER COLLEGE OF TECHNOLOGY","Full Level 2: Construction, Planning and the Built Environment","x","x","x",null,50,93,"top quintile",null,".",".",".",null,".",".",".",null,".",".",".",null,".",".","."]
[10007621,"WORCESTER COLLEGE OF TECHNOLOGY","Full Level 2: Engineering and Manufacturing Technologies",".",".",".",null,90,96,"top quintile",null,".",".",".",null,".",".",".",null,".",".",".",null,".",".","."]
[10007621,"WORCESTER COLLEGE OF TECHNOLOGY","Full Level 2: Health, Public Services and Care",10,60,"second quintile",null,110,94,"fourth quintile",null,".",".",".",null,".",".",".",null,".",".",".",null,".",".","."]
[10007621,"WORCESTER COLLEGE OF TECHNOLOGY","Full Level 2: Information and Communication Technology","x","x","x",null,20,87,"fourth quintile",null,".",".",".",null,".",".",".",null,".",".",".",null,".",".","."]
[10007621,"WORCESTER COLLEGE OF TECHNOLOGY","Full Level 2: Leisure, Travel and Tourism",60,67,"second quintile",null,190,77,"bottom quintile",null,".",".",".",null,".",".",".",null,".",".",".",null,".",".","."]
[10007621,"WORCESTER COLLEGE OF TECHNOLOGY","Full Level 2: Preparation for Life and Work",".",".",".",null,20,94,"fourth quintile",null,".",".",".",null,".",".",".",null,".",".",".",null,".",".","."]
[10007621,"WORCESTER COLLEGE OF TECHNOLOGY","Full Level 2: Retail and Commercial Enterprise",10,69,"top quintile",null,60,88,"top quintile",null,".",".",".",null,".",".",".",null,".",".",".",null,".",".","."]
[10007621,"WORCESTER COLLEGE OF TECHNOLOGY","Full Level 2: Science and Mathematics","x","x","x",null,20,95,"top quintile",null,".",".",".",null,".",".",".",null,".",".",".",null,".",".","."]
[10007621,"WORCESTER COLLEGE OF TECHNOLOGY","English & Maths",10,64,"top quintile",null,80,92,"top quintile",null,".",".",".",null,".",".",".",null,".",".",".",null,".",".","."]
[10007621,"WORCESTER COLLEGE OF TECHNOLOGY","English for Speakers of Other Languages (ESOL)",30,80,"top quintile",null,130,79,"top quintile",null,".",".",".",null,".",".",".",null,".",".",".",null,".",".","."]
[10007621,"WORCESTER COLLEGE OF TECHNOLOGY","Other provision below Full Level 2",670,54,"fourth quintile",null,280,75,"third quintile",null,".",".",".",null,".",".",".",null,".",".",".",null,".",".","."]
[10008025,"WORCESTER SIXTH FORM COLLEGE","LLDD learner","x","x","x",null,10,80,"top quintile",null,"x","x","x",null,10,92,"top quintile",null,".",".",".",null,"x","x","x"]
[10008025,"WORCESTER SIXTH FORM COLLEGE","Access to HE","x","x","x",null,20,89,"second quintile",null,"x","x","x",null,30,80,"bottom quintile",null,"x","x","x",null,10,100,"top quintile"]
[10008025,"WORCESTER SIXTH FORM COLLEGE","Full Level 2: Languages, Literature and Culture","x","x","x",null,"x","x","x",null,".",".",".",null,10,82,"second quintile",null,".",".",".",null,"x","x","x"]
[10008025,"WORCESTER SIXTH FORM COLLEGE","Full Level 2: Science and Mathematics","x","x","x",null,30,100,"top quintile",null,".",".",".",null,30,92,"top quintile",null,"x","x","x",null,30,84,"bottom quintile"]
[10007623,"WORCESTERSHIRE COUNTY COUNCIL","LLDD learner",40,42,"second quintile",null,90,50,"bottom quintile",null,20,67,"top quintile",null,60,56,"bottom quintile",null,10,73,"top quintile",null,80,64,"second quintile"]
[10007623,"WORCESTERSHIRE COUNTY COUNCIL","Full Level 2: Science and Mathematics",".",".",".",null,"x","x","x",null,".",".",".",null,10,100,"top quintile",null,".",".",".",null,20,100,"top quintile"]
[10007623,"WORCESTERSHIRE COUNTY COUNCIL","Traineeships",".",".",".",null,"x","x","x",null,".",".",".",null,20,47,"bottom quintile",null,".",".",".",null,".",".","."]
[10007623,"WORCESTERSHIRE COUNTY COUNCIL","English & Maths","x","x","x",null,100,71,"bottom quintile",null,"x","x","x",null,60,74,"second quintile",null,"x","x","x",null,40,79,"fourth quintile"]
[10007623,"WORCESTERSHIRE COUNTY COUNCIL","Other provision below Full Level 2",120,56,"top quintile",null,200,69,"second quintile",null,10,80,"top quintile",null,60,68,"second quintile",null,"x","x","x",null,80,69,"second quintile"]
[10036871,"WORK SKILLS LIMITED","Advanced and Higher Apprenticeships: Business, Administration and Law",".",".",".",null,40,93,"second quintile",null,".",".",".",null,".",".",".",null,".",".",".",null,".",".","."]
[10036871,"WORK SKILLS LIMITED","Advanced and Higher Apprenticeships: Health, Public Services and Care",".",".",".",null,40,89,"bottom quintile",null,".",".",".",null,".",".",".",null,".",".",".",null,".",".","."]
[10036871,"WORK SKILLS LIMITED","Full Level 3+: Health, Public Services and Care",".",".",".",null,20,100,"top quintile",null,".",".",".",null,".",".",".",null,".",".",".",null,".",".","."]
[10036871,"WORK SKILLS LIMITED","Intermediate Apprenticeships: Business, Administration and Law","x","x","x",null,110,87,"bottom quintile",null,".",".",".",null,".",".",".",null,".",".",".",null,".",".","."]
[10036871,"WORK SKILLS LIMITED","Intermediate Apprenticeships: Engineering and Manufacturing Technologies","x","x","x",null,110,69,"bottom quintile",null,".",".",".",null,".",".",".",null,".",".",".",null,".",".","."]
[10036871,"WORK SKILLS LIMITED","Intermediate Apprenticeships: Health, Public Services and Care",".",".",".",null,20,95,"top quintile",null,".",".",".",null,".",".",".",null,".",".",".",null,".",".","."]
[10036871,"WORK SKILLS LIMITED","Intermediate Apprenticeships: Information and Communication Technology",".",".",".",null,20,100,"top quintile",null,".",".",".",null,".",".",".",null,".",".",".",null,".",".","."]
[10036871,"WORK SKILLS LIMITED","Intermediate Apprenticeships: Retail and Commercial Enterprise",".",".",".",null,70,96,"top quintile",null,".",".",".",null,".",".",".",null,".",".",".",null,".",".","."]
[10036871,"WORK SKILLS LIMITED","Full Level 2: Engineering and Manufacturing Technologies","x","x","x",null,20,63,"bottom quintile",null,".",".",".",null,".",".",".",null,".",".",".",null,".",".","."]
[10007364,"WORKERS' EDUCATIONAL ASSOCIATION","LLDD learner",790,51,"fourth quintile",null,11610,57,"bottom quintile",null,640,46,"third quintile",null,10850,56,"bottom quintile",null,660,49,"fourth quintile",null,9490,50,"bottom quintile"]
[10007364,"WORKERS' EDUCATIONAL ASSOCIATION","Full Level 3+: Business, Administration and Law",".",".",".",null,40,95,"fourth quintile",null,".",".",".",null,30,97,"top quintile",null,"x","x","x",null,40,95,"top quintile"]
[10007364,"WORKERS' EDUCATIONAL ASSOCIATION","Other Level 3",30,50,"bottom quintile",null,4060,76,"bottom quintile",null,20,48,"bottom quintile",null,5350,75,"bottom quintile",null,"x","x","x",null,2050,70,"bottom quintile"]
[10007364,"WORKERS' EDUCATIONAL ASSOCIATION","Full Level 2: Business, Administration and Law",".",".",".",null,240,97,"top quintile",null,".",".",".",null,190,95,"top quintile",null,".",".",".",null,160,96,"top quintile"]
[10007364,"WORKERS' EDUCATIONAL ASSOCIATION","Full Level 2: Education and Training",".",".",".",null,".",".",".",null,"x","x","x",null,40,70,"bottom quintile",null,"x","x","x",null,"x","x","x"]
[10007364,"WORKERS' EDUCATIONAL ASSOCIATION","Full Level 2: Science and Mathematics","x","x","x",null,20,88,"third quintile",null,"x","x","x",null,"x","x","x",null,".",".",".",null,".",".","."]
[10007364,"WORKERS' EDUCATIONAL ASSOCIATION","English & Maths",200,67,"top quintile",null,2220,67,"bottom quintile",null,240,60,"fourth quintile",null,2540,67,"bottom quintile",null,190,64,"top quintile",null,2500,66,"bottom quintile"]
[10007364,"WORKERS' EDUCATIONAL ASSOCIATION","English for Speakers of Other Languages (ESOL)",690,55,"second quintile",null,3540,56,"bottom quintile",null,650,54,"third quintile",null,2390,53,"bottom quintile",null,370,56,"fourth quintile",null,1090,54,"bottom quintile"]
[10007364,"WORKERS' EDUCATIONAL ASSOCIATION","Other provision below Full Level 2",1340,55,"fourth quintile",null,16210,68,"second quintile",null,980,56,"fourth quintile",null,13810,68,"second quintile",null,1300,54,"fourth quintile",null,13750,61,"bottom quintile"]
[10007636,"WORKING MEN'S COLLEGE CORPORATION","LLDD learner",130,63,"top quintile",null,720,65,"third quintile",null,90,56,"top quintile",null,710,62,"second quintile",null,80,50,"fourth quintile",null,710,51,"bottom quintile"]
[10007636,"WORKING MEN'S COLLEGE CORPORATION","Full Level 3+: Arts, Media and Publishing","x","x","x",null,10,83,"third quintile",null,"x","x","x",null,10,92,"top quintile",null,".",".",".",null,"x","x","x"]
[10007636,"WORKING MEN'S COLLEGE CORPORATION","Full Level 2: Arts, Media and Publishing","x","x","x",null,20,67,"bottom quintile",null,"x","x","x",null,20,68,"second quintile",null,".",".",".",null,".",".","."]
[10007636,"WORKING MEN'S COLLEGE CORPORATION","Full Level 2: Business, Administration and Law","x","x","x",null,30,68,"bottom quintile",null,"x","x","x",null,20,60,"bottom quintile",null,"x","x","x",null,10,17,"bottom quintile"]
[10007636,"WORKING MEN'S COLLEGE CORPORATION","Full Level 2: Education and Training",10,73,"third quintile",null,20,75,"bottom quintile",null,"x","x","x",null,20,53,"bottom quintile",null,"x","x","x",null,10,54,"bottom quintile"]
[10007636,"WORKING MEN'S COLLEGE CORPORATION","Full Level 2: Health, Public Services and Care","x","x","x",null,20,74,"bottom quintile",null,"x","x","x",null,30,50,"bottom quintile",null,"x","x","x",null,30,48,"bottom quintile"]
[10007636,"WORKING MEN'S COLLEGE CORPORATION","Full Level 2: Information and Communication Technology","x","x","x",null,"x","x","x",null,"x","x","x",null,10,64,"bottom quintile",null,"x","x","x",null,10,86,"fourth quintile"]
[10007636,"WORKING MEN'S COLLEGE CORPORATION","Full Level 2: Languages, Literature and Culture",".",".",".",null,".",".",".",null,"x","x","x",null,10,86,"third quintile",null,"x","x","x",null,20,90,"fourth quintile"]
[10007636,"WORKING MEN'S COLLEGE CORPORATION","Full Level 2: Preparation for Life and Work",".",".",".",null,".",".",".",null,"x","x","x",null,20,73,"bottom quintile",null,".",".",".",null,".",".","."]
[10007636,"WORKING MEN'S COLLEGE CORPORATION","Full Level 2: Retail and Commercial Enterprise",".",".",".",null,20,23,"bottom quintile",null,"x","x","x",null,50,44,"bottom quintile",null,"x","x","x",null,80,31,"bottom quintile"]
[10007636,"WORKING MEN'S COLLEGE CORPORATION","Full Level 2: Science and Mathematics",".",".",".",null,".",".",".",null,"x","x","x",null,10,90,"fourth quintile",null,"x","x","x",null,30,63,"bottom quintile"]
[10007636,"WORKING MEN'S COLLEGE CORPORATION","English & Maths",20,56,"fourth quintile",null,180,77,"third quintile",null,20,82,"top quintile",null,170,72,"second quintile",null,30,65,"top quintile",null,230,73,"second quintile"]
[10007636,"WORKING MEN'S COLLEGE CORPORATION","English for Speakers of Other Languages (ESOL)",110,57,"third quintile",null,1230,61,"bottom quintile",null,90,48,"second quintile",null,890,61,"second quintile",null,100,45,"bottom quintile",null,880,50,"bottom quintile"]
[10007636,"WORKING MEN'S COLLEGE CORPORATION","Other provision below Full Level 2",170,65,"top quintile",null,1840,75,"third quintile",null,130,58,"top quintile",null,2160,76,"third quintile",null,160,52,"third quintile",null,1730,68,"second quintile"]
[10007643,"WORTHING COLLEGE","LLDD learner","x","x","x",null,30,84,"top quintile",null,".",".",".",null,10,80,"top quintile",null,"x","x","x",null,20,83,"top quintile"]
[10007643,"WORTHING COLLEGE","Full Level 3+: Science and Mathematics",".",".",".",null,10,91,"third quintile",null,".",".",".",null,"x","x","x",null,".",".",".",null,"x","x","x"]
[10007643,"WORTHING COLLEGE","Intermediate Apprenticeships: Leisure, Travel and Tourism",".",".",".",null,"x","x","x",null,".",".",".",null,10,92,"third quintile",null,".",".",".",null,30,96,"top quintile"]
[10007643,"WORTHING COLLEGE","Full Level 2: Business, Administration and Law",10,50,"bottom quintile",null,"x","x","x",null,".",".",".",null,".",".",".",null,".",".",".",null,".",".","."]
[10007643,"WORTHING COLLEGE","Full Level 2: Science and Mathematics",".",".",".",null,20,93,"top quintile",null,".",".",".",null,20,100,"top quintile",null,".",".",".",null,"x","x","x"]
[10007643,"WORTHING COLLEGE","Other provision below Full Level 2",".",".",".",null,".",".",".",null,".",".",".",null,20,81,"third quintile",null,".",".",".",null,10,82,"top quintile"]
[10007657,"WRITTLE COLLEGE","LLDD learner","x","x","x",null,50,80,"top quintile",null,"x","x","x",null,60,76,"top quintile",null,"x","x","x",null,60,83,"top quintile"]
[10007657,"WRITTLE COLLEGE","Advanced and Higher Apprenticeships: Agriculture, Horticulture and Animal Care",".",".",".",null,"x","x","x",null,".",".",".",null,20,87,"second quintile",null,".",".",".",null,10,92,"top quintile"]
[10007657,"WRITTLE COLLEGE","Full Level 3+: Agriculture, Horticulture and Animal Care",".",".",".",null,40,92,"top quintile",null,".",".",".",null,60,89,"top quintile",null,"x","x","x",null,40,89,"top quintile"]
[10007657,"WRITTLE COLLEGE","Full Level 3+: Arts, Media and Publishing",".",".",".",null,"x","x","x",null,".",".",".",null,"x","x","x",null,".",".",".",null,10,75,"second quintile"]
[10007657,"WRITTLE COLLEGE","Other Level 3","x","x","x",null,30,71,"bottom quintile",null,"x","x","x",null,20,81,"fourth quintile",null,"x","x","x",null,20,83,"fourth quintile"]
[10007657,"WRITTLE COLLEGE","Intermediate Apprenticeships: Agriculture, Horticulture and Animal Care",".",".",".",null,20,91,"fourth quintile",null,"x","x","x",null,30,88,"third quintile",null,".",".",".",null,40,78,"bottom quintile"]
[10007657,"WRITTLE COLLEGE","Full Level 2: Agriculture, Horticulture and Animal Care","x","x","x",null,90,88,"fourth quintile",null,"x","x","x",null,90,85,"fourth quintile",null,"x","x","x",null,80,88,"top quintile"]
[10007657,"WRITTLE COLLEGE","Full Level 2: Arts, Media and Publishing",".",".",".",null,20,70,"second quintile",null,".",".",".",null,20,76,"second quintile",null,".",".",".",null,10,58,"bottom quintile"]
[10007657,"WRITTLE COLLEGE","Other provision below Full Level 2",20,47,"bottom quintile",null,20,82,"fourth quintile",null,"x","x","x",null,50,78,"third quintile",null,"x","x","x",null,20,91,"top quintile"]
[10007682,"XAVERIAN COLLEGE","Intermediate Apprenticeships: Health, Public Services and Care",".",".",".",null,"x","x","x",null,".",".",".",null,10,71,"bottom quintile",null,".",".",".",null,10,60,"bottom quintile"]
[10005150,"XTP INTERNATIONAL LIMITED","LLDD learner",".",".",".",null,"x","x","x",null,".",".",".",null,"x","x","x",null,".",".",".",null,10,92,"top quintile"]
[10005150,"XTP INTERNATIONAL LIMITED","Advanced and Higher Apprenticeships: Business, Administration and Law","x","x","x",null,70,95,"fourth quintile",null,"x","x","x",null,90,90,"bottom quintile",null,"x","x","x",null,140,90,"bottom quintile"]
[10005150,"XTP INTERNATIONAL LIMITED","Intermediate Apprenticeships: Business, Administration and Law",10,90,"third quintile",null,80,86,"bottom quintile",null,".",".",".",null,20,95,"top quintile",null,"x","x","x",null,40,78,"bottom quintile"]
[10005150,"XTP INTERNATIONAL LIMITED","Intermediate Apprenticeships: Health, Public Services and Care","x","x","x",null,30,100,"top quintile",null,"x","x","x",null,"x","x","x",null,".",".",".",null,".",".","."]
[10007696,"YEOVIL COLLEGE","LLDD learner",30,45,"third quintile",null,200,70,"fourth quintile",null,10,71,"top quintile",null,240,71,"fourth quintile",null,10,58,"top quintile",null,150,76,"fourth quintile"]
[10007696,"YEOVIL COLLEGE","Advanced and Higher Apprenticeships: Business, Administration and Law",".",".",".",null,30,100,"top quintile",null,".",".",".",null,30,100,"top quintile",null,".",".",".",null,10,100,"top quintile"]
[10007696,"YEOVIL COLLEGE","Advanced and Higher Apprenticeships: Engineering and Manufacturing Technologies",".",".",".",null,40,90,"bottom quintile",null,".",".",".",null,40,97,"top quintile",null,"x","x","x",null,60,91,"third quintile"]
[10007696,"YEOVIL COLLEGE","Advanced and Higher Apprenticeships: Health, Public Services and Care",".",".",".",null,20,86,"bottom quintile",null,".",".",".",null,50,94,"fourth quintile",null,".",".",".",null,20,94,"top quintile"]
[10007696,"YEOVIL COLLEGE","Advanced and Higher Apprenticeships: Information and Communication Technology",".",".",".",null,30,88,"bottom quintile",null,".",".",".",null,40,91,"third quintile",null,"x","x","x",null,30,97,"top quintile"]
[10007696,"YEOVIL COLLEGE","Advanced and Higher Apprenticeships: Retail and Commercial Enterprise",".",".",".",null,20,100,"top quintile",null,".",".",".",null,10,77,"bottom quintile",null,".",".",".",null,"x","x","x"]
[10007696,"YEOVIL COLLEGE","Full Level 3+: Business, Administration and Law",".",".",".",null,40,93,"fourth quintile",null,"x","x","x",null,30,100,"top quintile",null,".",".",".",null,10,92,"fourth quintile"]
[10007696,"YEOVIL COLLEGE","Full Level 3+: Education and Training",".",".",".",null,40,90,"second quintile",null,".",".",".",null,"x","x","x",null,"x","x","x",null,10,64,"bottom quintile"]
[10007696,"YEOVIL COLLEGE","Full Level 3+: Health, Public Services and Care","x","x","x",null,30,91,"fourth quintile",null,"x","x","x",null,30,79,"bottom quintile",null,".",".",".",null,"x","x","x"]
[10007696,"YEOVIL COLLEGE","Full Level 3+: Retail and Commercial Enterprise",".",".",".",null,20,86,"top quintile",null,".",".",".",null,10,64,"bottom quintile",null,"x","x","x",null,30,78,"top quintile"]
[10007696,"YEOVIL COLLEGE","Access to HE","x","x","x",null,20,100,"top quintile",null,"x","x","x",null,30,89,"second quintile",null,"x","x","x",null,30,90,"second quintile"]
[10007696,"YEOVIL COLLEGE","Other Level 3",".",".",".",null,10,93,"fourth quintile",null,".",".",".",null,"x","x","x",null,".",".",".",null,"x","x","x"]
[10007696,"YEOVIL COLLEGE","Intermediate Apprenticeships: Business, Administration and Law","x","x","x",null,90,91,"second quintile",null,".",".",".",null,40,89,"bottom quintile",null,".",".",".",null,20,83,"bottom quintile"]
[10007696,"YEOVIL COLLEGE","Intermediate Apprenticeships: Construction, Planning and the Built Environment",".",".",".",null,"x","x","x",null,".",".",".",null,20,94,"top quintile",null,".",".",".",null,20,95,"top quintile"]
[10007696,"YEOVIL COLLEGE","Intermediate Apprenticeships: Engineering and Manufacturing Technologies",".",".",".",null,70,98,"top quintile",null,".",".",".",null,80,91,"second quintile",null,".",".",".",null,60,97,"top quintile"]
[10007696,"YEOVIL COLLEGE","Intermediate Apprenticeships: Health, Public Services and Care",".",".",".",null,20,95,"fourth quintile",null,".",".",".",null,20,96,"top quintile",null,".",".",".",null,30,100,"top quintile"]
[10007696,"YEOVIL COLLEGE","Intermediate Apprenticeships: Retail and Commercial Enterprise",".",".",".",null,20,91,"second quintile",null,".",".",".",null,40,95,"top quintile",null,".",".",".",null,30,96,"top quintile"]
[10007696,"YEOVIL COLLEGE","Full Level 2: Business, Administration and Law",".",".",".",null,50,98,"top quintile",null,"x","x","x",null,30,86,"second quintile",null,".",".",".",null,"x","x","x"]
[10007696,"YEOVIL COLLEGE","Full Level 2: Construction, Planning and the Built Environment",".",".",".",null,"x","x","x",null,".",".",".",null,50,98,"top quintile",null,".",".",".",null,10,73,"third quintile"]
[10007696,"YEOVIL COLLEGE","Full Level 2: Health, Public Services and Care","x","x","x",null,20,96,"top quintile",null,".",".",".",null,10,93,"fourth quintile",null,".",".",".",null,".",".","."]
[10007696,"YEOVIL COLLEGE","Full Level 2: Leisure, Travel and Tourism",".",".",".",null,20,35,"bottom quintile",null,"x","x","x",null,70,75,"bottom quintile",null,"x","x","x",null,40,97,"top quintile"]
[10007696,"YEOVIL COLLEGE","Full Level 2: Retail and Commercial Enterprise","x","x","x",null,50,86,"fourth quintile",null,"x","x","x",null,40,87,"top quintile",null,".",".",".",null,30,87,"top quintile"]
[10007696,"YEOVIL COLLEGE","Full Level 2: Science and Mathematics","x","x","x",null,20,95,"top quintile",null,".",".",".",null,20,83,"bottom quintile",null,".",".",".",null,30,93,"top quintile"]
[10007696,"YEOVIL COLLEGE","English & Maths","x","x","x",null,100,89,"top quintile",null,"x","x","x",null,80,91,"top quintile",null,"x","x","x",null,140,88,"top quintile"]
[10007696,"YEOVIL COLLEGE","Other provision below Full Level 2",70,51,"second quintile",null,100,20,"bottom quintile",null,40,78,"top quintile",null,370,66,"bottom quintile",null,"x","x","x",null,".",".","."]
[10007697,"YH TRAINING SERVICES LIMITED","LLDD learner",90,43,"second quintile",null,60,73,"fourth quintile",null,190,44,"second quintile",null,80,76,"top quintile",null,140,44,"third quintile",null,100,78,"top quintile"]
[10007697,"YH TRAINING SERVICES LIMITED","Advanced and Higher Apprenticeships: Business, Administration and Law","x","x","x",null,40,100,"top quintile",null,"x","x","x",null,60,97,"top quintile",null,"x","x","x",null,50,98,"top quintile"]
[10007697,"YH TRAINING SERVICES LIMITED","Advanced and Higher Apprenticeships: Health, Public Services and Care",".",".",".",null,20,80,"bottom quintile",null,".",".",".",null,40,95,"top quintile",null,".",".",".",null,20,94,"top quintile"]
[10007697,"YH TRAINING SERVICES LIMITED","Advanced and Higher Apprenticeships: Retail and Commercial Enterprise",".",".",".",null,20,100,"top quintile",null,".",".",".",null,"x","x","x",null,".",".",".",null,"x","x","x"]
[10007697,"YH TRAINING SERVICES LIMITED","Full Level 3+: Business, Administration and Law",".",".",".",null,"x","x","x",null,"x","x","x",null,10,100,"top quintile",null,"x","x","x",null,"x","x","x"]
[10007697,"YH TRAINING SERVICES LIMITED","Intermediate Apprenticeships: Business, Administration and Law","x","x","x",null,120,93,"third quintile",null,"x","x","x",null,100,99,"top quintile",null,"x","x","x",null,100,95,"top quintile"]
[10007697,"YH TRAINING SERVICES LIMITED","Intermediate Apprenticeships: Engineering and Manufacturing Technologies","x","x","x",null,20,71,"bottom quintile",null,"x","x","x",null,20,53,"bottom quintile",null,"x","x","x",null,20,79,"bottom quintile"]
[10007697,"YH TRAINING SERVICES LIMITED","Intermediate Apprenticeships: Health, Public Services and Care","x","x","x",null,50,98,"top quintile",null,"x","x","x",null,50,88,"bottom quintile",null,"x","x","x",null,60,88,"bottom quintile"]
[10007697,"YH TRAINING SERVICES LIMITED","Intermediate Apprenticeships: Retail and Commercial Enterprise","x","x","x",null,30,86,"bottom quintile",null,"x","x","x",null,40,88,"second quintile",null,"x","x","x",null,50,92,"top quintile"]
[10007697,"YH TRAINING SERVICES LIMITED","Full Level 2: Business, Administration and Law",50,48,"bottom quintile",null,30,63,"bottom quintile",null,20,61,"third quintile",null,"x","x","x",null,"x","x","x",null,"x","x","x"]
[10007697,"YH TRAINING SERVICES LIMITED","Full Level 2: Construction, Planning and the Built Environment",40,63,"fourth quintile",null,30,75,"bottom quintile",null,20,75,"top quintile",null,20,60,"bottom quintile",null,20,80,"top quintile",null,30,80,"fourth quintile"]
[10007697,"YH TRAINING SERVICES LIMITED","Full Level 2: Information and Communication Technology","x","x","x",null,"x","x","x",null,50,66,"top quintile",null,"x","x","x",null,30,64,"top quintile",null,"x","x","x"]
[10007697,"YH TRAINING SERVICES LIMITED","Full Level 2: Retail and Commercial Enterprise",130,40,"bottom quintile",null,20,67,"bottom quintile",null,40,52,"third quintile",null,"x","x","x",null,30,50,"second quintile",null,"x","x","x"]
[10007697,"YH TRAINING SERVICES LIMITED","Traineeships","x","x","x",null,30,75,"third quintile",null,"x","x","x",null,40,69,"third quintile",null,20,46,"second quintile",null,50,76,"fourth quintile"]
[10007697,"YH TRAINING SERVICES LIMITED","English & Maths",190,53,"third quintile",null,40,70,"bottom quintile",null,110,45,"bottom quintile",null,40,86,"top quintile",null,80,41,"bottom quintile",null,40,81,"fourth quintile"]
[10007697,"YH TRAINING SERVICES LIMITED","Other provision below Full Level 2",240,50,"second quintile",null,40,61,"bottom quintile",null,230,53,"third quintile",null,30,56,"bottom quintile",null,120,57,"fourth quintile",null,20,39,"bottom quintile"]
[10007405,"YMCA TRAINING","LLDD learner",20,83,"top quintile",null,140,78,"top quintile",null,"x","x","x",null,100,80,"top quintile",null,10,67,"top quintile",null,120,77,"top quintile"]
[10007405,"YMCA TRAINING","Advanced and Higher Apprenticeships: Agriculture, Horticulture and Animal Care",".",".",".",null,30,88,"second quintile",null,".",".",".",null,"x","x","x",null,".",".",".",null,"x","x","x"]
[10007405,"YMCA TRAINING","Advanced and Higher Apprenticeships: Business, Administration and Law","x","x","x",null,50,98,"top quintile",null,".",".",".",null,50,94,"third quintile",null,"x","x","x",null,40,100,"top quintile"]
[10007405,"YMCA TRAINING","Advanced and Higher Apprenticeships: Education and Training",".",".",".",null,20,89,"bottom quintile",null,".",".",".",null,10,92,"second quintile",null,".",".",".",null,20,100,"top quintile"]
[10007405,"YMCA TRAINING","Advanced and Higher Apprenticeships: Engineering and Manufacturing Technologies",".",".",".",null,"x","x","x",null,".",".",".",null,"x","x","x",null,"x","x","x",null,20,76,"bottom quintile"]
[10007405,"YMCA TRAINING","Advanced and Higher Apprenticeships: Health, Public Services and Care","x","x","x",null,350,92,"second quintile",null,"x","x","x",null,260,95,"top quintile",null,"x","x","x",null,210,93,"fourth quintile"]
[10007405,"YMCA TRAINING","Advanced and Higher Apprenticeships: Leisure, Travel and Tourism","x","x","x",null,30,84,"second quintile",null,".",".",".",null,30,85,"third quintile",null,".",".",".",null,40,93,"top quintile"]
[10007405,"YMCA TRAINING","Advanced and Higher Apprenticeships: Retail and Commercial Enterprise",".",".",".",null,10,92,"third quintile",null,".",".",".",null,"x","x","x",null,".",".",".",null,"x","x","x"]
[10007405,"YMCA TRAINING","Full Level 3+: Health, Public Services and Care","x","x","x",null,30,97,"top quintile",null,"x","x","x",null,40,92,"fourth quintile",null,".",".",".",null,10,91,"top quintile"]
[10007405,"YMCA TRAINING","Full Level 3+: Leisure, Travel and Tourism","x","x","x",null,10,100,"top quintile",null,10,71,"fourth quintile",null,180,86,"fourth quintile",null,10,86,"top quintile",null,250,90,"top quintile"]
[10007405,"YMCA TRAINING","Intermediate Apprenticeships: Agriculture, Horticulture and Animal Care",".",".",".",null,30,97,"top quintile",null,".",".",".",null,10,80,"bottom quintile",null,"x","x","x",null,40,86,"fourth quintile"]
[10007405,"YMCA TRAINING","Intermediate Apprenticeships: Business, Administration and Law","x","x","x",null,30,100,"top quintile",null,"x","x","x",null,40,95,"top quintile",null,"x","x","x",null,60,89,"second quintile"]
[10007405,"YMCA TRAINING","Intermediate Apprenticeships: Engineering and Manufacturing Technologies","x","x","x",null,10,90,"bottom quintile",null,"x","x","x",null,"x","x","x",null,"x","x","x",null,"x","x","x"]
[10007405,"YMCA TRAINING","Intermediate Apprenticeships: Health, Public Services and Care","x","x","x",null,280,90,"bottom quintile",null,"x","x","x",null,290,93,"third quintile",null,"x","x","x",null,250,90,"second quintile"]
[10007405,"YMCA TRAINING","Intermediate Apprenticeships: Leisure, Travel and Tourism","x","x","x",null,40,91,"second quintile",null,"x","x","x",null,60,91,"third quintile",null,"x","x","x",null,50,91,"third quintile"]
[10007405,"YMCA TRAINING","Intermediate Apprenticeships: Retail and Commercial Enterprise","x","x","x",null,50,90,"second quintile",null,"x","x","x",null,20,95,"top quintile",null,".",".",".",null,30,92,"top quintile"]
[10007405,"YMCA TRAINING","Full Level 2: Education and Training",".",".",".",null,"x","x","x",null,"x","x","x",null,10,70,"bottom quintile",null,".",".",".",null,"x","x","x"]
[10007405,"YMCA TRAINING","Full Level 2: Health, Public Services and Care","x","x","x",null,30,89,"bottom quintile",null,"x","x","x",null,40,87,"bottom quintile",null,".",".",".",null,10,79,"bottom quintile"]
[10007405,"YMCA TRAINING","Traineeships","x","x","x",null,50,70,"third quintile",null,"x","x","x",null,20,67,"second quintile",null,20,67,"top quintile",null,180,54,"bottom quintile"]
[10007405,"YMCA TRAINING","English & Maths","x","x","x",null,"x","x","x",null,".",".",".",null,10,73,"second quintile",null,".",".",".",null,"x","x","x"]
[10007405,"YMCA TRAINING","Other provision below Full Level 2",10,25,"bottom quintile",null,"x","x","x",null,".",".",".",null,".",".",".",null,"x","x","x",null,"x","x","x"]
[10007709,"YORK COLLEGE","LLDD learner",50,73,"top quintile",null,390,81,"top quintile",null,20,67,"top quintile",null,340,81,"top quintile",null,10,69,"top quintile",null,230,79,"top quintile"]
[10007709,"YORK COLLEGE","Advanced and Higher Apprenticeships: Business, Administration and Law",".",".",".",null,50,92,"second quintile",null,".",".",".",null,30,89,"bottom quintile",null,".",".",".",null,40,97,"top quintile"]
[10007709,"YORK COLLEGE","Advanced and Higher Apprenticeships: Construction, Planning and the Built Environment",".",".",".",null,70,94,"fourth quintile",null,".",".",".",null,20,87,"bottom quintile",null,".",".",".",null,40,86,"fourth quintile"]
[10007709,"YORK COLLEGE","Advanced and Higher Apprenticeships: Engineering and Manufacturing Technologies",".",".",".",null,30,97,"top quintile",null,".",".",".",null,50,89,"second quintile",null,".",".",".",null,50,93,"third quintile"]
[10007709,"YORK COLLEGE","Advanced and Higher Apprenticeships: Health, Public Services and Care",".",".",".",null,10,100,"top quintile",null,".",".",".",null,"x","x","x",null,".",".",".",null,"x","x","x"]
[10007709,"YORK COLLEGE","Full Level 3+: Arts, Media and Publishing","x","x","x",null,30,91,"top quintile",null,".",".",".",null,10,82,"second quintile",null,".",".",".",null,20,91,"top quintile"]
[10007709,"YORK COLLEGE","Full Level 3+: Business, Administration and Law","x","x","x",null,50,94,"fourth quintile",null,".",".",".",null,50,91,"fourth quintile",null,".",".",".",null,30,91,"fourth quintile"]
[10007709,"YORK COLLEGE","Full Level 3+: Construction, Planning and the Built Environment","x","x","x",null,10,100,"top quintile",null,"x","x","x",null,20,80,"third quintile",null,".",".",".",null,"x","x","x"]
[10007709,"YORK COLLEGE","Full Level 3+: Education and Training","x","x","x",null,40,97,"top quintile",null,".",".",".",null,30,97,"top quintile",null,".",".",".",null,30,100,"top quintile"]
[10007709,"YORK COLLEGE","Full Level 3+: Health, Public Services and Care",".",".",".",null,20,79,"bottom quintile",null,"x","x","x",null,30,100,"top quintile",null,".",".",".",null,30,87,"fourth quintile"]
[10007709,"YORK COLLEGE","Full Level 3+: Information and Communication Technology",".",".",".",null,10,93,"top quintile",null,".",".",".",null,"x","x","x",null,".",".",".",null,"x","x","x"]
[10007709,"YORK COLLEGE","Full Level 3+: Retail and Commercial Enterprise","x","x","x",null,30,100,"top quintile",null,".",".",".",null,20,83,"top quintile",null,".",".",".",null,30,85,"top quintile"]
[10007709,"YORK COLLEGE","Full Level 3+: Science and Mathematics",".",".",".",null,"x","x","x",null,".",".",".",null,"x","x","x",null,".",".",".",null,10,83,"second quintile"]
[10007709,"YORK COLLEGE","Access to HE","x","x","x",null,80,92,"fourth quintile",null,"x","x","x",null,110,95,"top quintile",null,"x","x","x",null,90,98,"top quintile"]
[10007709,"YORK COLLEGE","Other Level 3","x","x","x",null,120,94,"top quintile",null,".",".",".",null,".",".",".",null,".",".",".",null,"x","x","x"]
[10007709,"YORK COLLEGE","Intermediate Apprenticeships: Business, Administration and Law","x","x","x",null,30,96,"top quintile",null,"x","x","x",null,20,95,"top quintile",null,".",".",".",null,20,100,"top quintile"]
[10007709,"YORK COLLEGE","Intermediate Apprenticeships: Construction, Planning and the Built Environment",".",".",".",null,40,95,"top quintile",null,"x","x","x",null,50,94,"top quintile",null,".",".",".",null,40,98,"top quintile"]
[10007709,"YORK COLLEGE","Intermediate Apprenticeships: Engineering and Manufacturing Technologies","x","x","x",null,60,85,"bottom quintile",null,".",".",".",null,20,100,"top quintile",null,".",".",".",null,40,93,"third quintile"]
[10007709,"YORK COLLEGE","Intermediate Apprenticeships: Retail and Commercial Enterprise",".",".",".",null,30,79,"bottom quintile",null,".",".",".",null,40,95,"top quintile",null,".",".",".",null,30,80,"bottom quintile"]
[10007709,"YORK COLLEGE","Full Level 2: Business, Administration and Law",".",".",".",null,40,97,"top quintile",null,"x","x","x",null,70,97,"top quintile",null,"x","x","x",null,20,100,"top quintile"]
[10007709,"YORK COLLEGE","Full Level 2: Construction, Planning and the Built Environment","x","x","x",null,30,96,"top quintile",null,"x","x","x",null,20,94,"top quintile",null,".",".",".",null,30,92,"top quintile"]
[10007709,"YORK COLLEGE","Full Level 2: Education and Training","x","x","x",null,20,100,"top quintile",null,"x","x","x",null,20,82,"third quintile",null,"x","x","x",null,20,83,"third quintile"]
[10007709,"YORK COLLEGE","Full Level 2: Engineering and Manufacturing Technologies","x","x","x",null,40,92,"top quintile",null,"x","x","x",null,"x","x","x",null,"x","x","x",null,"x","x","x"]
[10007709,"YORK COLLEGE","Full Level 2: Health, Public Services and Care","x","x","x",null,480,95,"top quintile",null,"x","x","x",null,300,91,"third quintile",null,".",".",".",null,"x","x","x"]
[10007709,"YORK COLLEGE","Full Level 2: Languages, Literature and Culture","x","x","x",null,40,84,"second quintile",null,"x","x","x",null,50,92,"top quintile",null,".",".",".",null,40,95,"top quintile"]
[10007709,"YORK COLLEGE","Full Level 2: Leisure, Travel and Tourism",20,74,"third quintile",null,40,85,"second quintile",null,"x","x","x",null,10,100,"top quintile",null,".",".",".",null,20,90,"top quintile"]
[10007709,"YORK COLLEGE","Full Level 2: Preparation for Life and Work",".",".",".",null,10,92,"third quintile",null,".",".",".",null,20,80,"bottom quintile",null,".",".",".",null,".",".","."]
[10007709,"YORK COLLEGE","Full Level 2: Retail and Commercial Enterprise","x","x","x",null,50,87,"top quintile",null,"x","x","x",null,40,78,"third quintile",null,"x","x","x",null,30,78,"fourth quintile"]
[10007709,"YORK COLLEGE","Full Level 2: Science and Mathematics","x","x","x",null,70,88,"second quintile",null,"x","x","x",null,80,87,"second quintile",null,"x","x","x",null,70,94,"top quintile"]
[10007709,"YORK COLLEGE","English & Maths",10,70,"top quintile",null,140,92,"top quintile",null,"x","x","x",null,110,92,"top quintile",null,"x","x","x",null,150,93,"top quintile"]
[10007709,"YORK COLLEGE","English for Speakers of Other Languages (ESOL)","x","x","x",null,70,83,"top quintile",null,"x","x","x",null,60,79,"top quintile",null,".",".",".",null,".",".","."]
[10007709,"YORK COLLEGE","Other provision below Full Level 2",30,68,"top quintile",null,50,78,"third quintile",null,20,73,"top quintile",null,230,92,"top quintile",null,"x","x","x",null,80,82,"top quintile"]
[10008699,"YORKSHIRE COLLEGE OF BEAUTY LIMITED","LLDD learner","x","x","x",null,40,76,"top quintile",null,".",".",".",null,20,56,"second quintile",null,".",".",".",null,"x","x","x"]
[10008699,"YORKSHIRE COLLEGE OF BEAUTY LIMITED","Advanced and Higher Apprenticeships: Retail and Commercial Enterprise","x","x","x",null,50,83,"bottom quintile",null,"x","x","x",null,50,78,"bottom quintile",null,"x","x","x",null,30,93,"top quintile"]
[10008699,"YORKSHIRE COLLEGE OF BEAUTY LIMITED","Intermediate Apprenticeships: Retail and Commercial Enterprise","x","x","x",null,50,94,"top quintile",null,"x","x","x",null,20,75,"bottom quintile",null,"x","x","x",null,70,81,"bottom quintile"]
[10008699,"YORKSHIRE COLLEGE OF BEAUTY LIMITED","Traineeships",".",".",".",null,10,92,"top quintile",null,"x","x","x",null,20,87,"top quintile",null,".",".",".",null,20,67,"third quintile"]
[10007722,"YORKSHIRE TRAINING PARTNERSHIP LIMITED","LLDD learner",40,37,"bottom quintile",null,20,75,"fourth quintile",null,10,38,"bottom quintile",null,20,82,"top quintile",null,"x","x","x",null,"x","x","x"]
[10007722,"YORKSHIRE TRAINING PARTNERSHIP LIMITED","Advanced and Higher Apprenticeships: Business, Administration and Law",".",".",".",null,40,98,"top quintile",null,".",".",".",null,10,100,"top quintile",null,".",".",".",null,30,96,"top quintile"]
[10007722,"YORKSHIRE TRAINING PARTNERSHIP LIMITED","Advanced and Higher Apprenticeships: Education and Training",".",".",".",null,20,82,"bottom quintile",null,".",".",".",null,20,82,"bottom quintile",null,".",".",".",null,"x","x","x"]
[10007722,"YORKSHIRE TRAINING PARTNERSHIP LIMITED","Advanced and Higher Apprenticeships: Health, Public Services and Care",".",".",".",null,110,95,"top quintile",null,".",".",".",null,50,93,"third quintile",null,"x","x","x",null,70,88,"bottom quintile"]
[10007722,"YORKSHIRE TRAINING PARTNERSHIP LIMITED","Full Level 3+: Business, Administration and Law",".",".",".",null,"x","x","x",null,".",".",".",null,20,52,"bottom quintile",null,".",".",".",null,"x","x","x"]
[10007722,"YORKSHIRE TRAINING PARTNERSHIP LIMITED","Full Level 3+: Education and Training",".",".",".",null,10,100,"top quintile",null,".",".",".",null,"x","x","x",null,".",".",".",null,"x","x","x"]
[10007722,"YORKSHIRE TRAINING PARTNERSHIP LIMITED","Full Level 3+: Health, Public Services and Care",".",".",".",null,10,90,"fourth quintile",null,".",".",".",null,"x","x","x",null,".",".",".",null,10,100,"top quintile"]
[10007722,"YORKSHIRE TRAINING PARTNERSHIP LIMITED","Intermediate Apprenticeships: Business, Administration and Law",".",".",".",null,30,90,"bottom quintile",null,".",".",".",null,20,94,"fourth quintile",null,"x","x","x",null,20,89,"second quintile"]
[10007722,"YORKSHIRE TRAINING PARTNERSHIP LIMITED","Intermediate Apprenticeships: Health, Public Services and Care",".",".",".",null,110,92,"third quintile",null,"x","x","x",null,80,92,"second quintile",null,"x","x","x",null,80,91,"second quintile"]
[10007722,"YORKSHIRE TRAINING PARTNERSHIP LIMITED","Intermediate Apprenticeships: Retail and Commercial Enterprise",".",".",".",null,20,95,"top quintile",null,".",".",".",null,"x","x","x",null,".",".",".",null,"x","x","x"]
[10007722,"YORKSHIRE TRAINING PARTNERSHIP LIMITED","Full Level 2: Business, Administration and Law",".",".",".",null,".",".",".",null,10,38,"bottom quintile",null,"x","x","x",null,20,31,"bottom quintile",null,80,87,"second quintile"]
[10007722,"YORKSHIRE TRAINING PARTNERSHIP LIMITED","Full Level 2: Engineering and Manufacturing Technologies",".",".",".",null,40,85,"third quintile",null,".",".",".",null,".",".",".",null,".",".",".",null,".",".","."]
[10007722,"YORKSHIRE TRAINING PARTNERSHIP LIMITED","Full Level 2: Health, Public Services and Care",".",".",".",null,".",".",".",null,".",".",".",null,30,100,"top quintile",null,"x","x","x",null,"x","x","x"]
[10007722,"YORKSHIRE TRAINING PARTNERSHIP LIMITED","Full Level 2: Leisure, Travel and Tourism",".",".",".",null,".",".",".",null,"x","x","x",null,20,88,"third quintile",null,".",".",".",null,10,92,"top quintile"]
[10007722,"YORKSHIRE TRAINING PARTNERSHIP LIMITED","Full Level 2: Retail and Commercial Enterprise",150,46,"bottom quintile",null,10,60,"bottom quintile",null,10,55,"fourth quintile",null,10,100,"top quintile",null,20,55,"third quintile",null,"x","x","x"]
[10007722,"YORKSHIRE TRAINING PARTNERSHIP LIMITED","English & Maths",60,80,"top quintile",null,40,88,"top quintile",null,"x","x","x",null,50,100,"top quintile",null,"x","x","x",null,30,86,"top quintile"]
[10007722,"YORKSHIRE TRAINING PARTNERSHIP LIMITED","Other provision below Full Level 2",160,70,"top quintile",null,20,71,"third quintile",null,40,43,"bottom quintile",null,"x","x","x",null,20,10,"bottom quintile",null,"x","x","x"]
[10004370,"YOUNGSAVE COMPANY LIMITED","Advanced and Higher Apprenticeships: Business, Administration and Law",".",".",".",null,50,91,"second quintile",null,"x","x","x",null,60,90,"bottom quintile",null,".",".",".",null,30,88,"bottom quintile"]
[10004370,"YOUNGSAVE COMPANY LIMITED","Advanced and Higher Apprenticeships: Engineering and Manufacturing Technologies",".",".",".",null,"x","x","x",null,".",".",".",null,20,94,"fourth quintile",null,".",".",".",null,"x","x","x"]
[10004370,"YOUNGSAVE COMPANY LIMITED","Intermediate Apprenticeships: Business, Administration and Law","x","x","x",null,50,98,"top quintile",null,"x","x","x",null,50,83,"bottom quintile",null,"x","x","x",null,70,91,"second quintile"]
[10004370,"YOUNGSAVE COMPANY LIMITED","Intermediate Apprenticeships: Engineering and Manufacturing Technologies",".",".",".",null,20,71,"bottom quintile",null,"x","x","x",null,"x","x","x",null,".",".",".",null,20,80,"bottom quintile"]
[10021339,"YOUR CONSORTIUM LIMITED","LLDD learner",20,32,"bottom quintile",null,70,54,"bottom quintile",null,".",".",".",null,".",".",".",null,".",".",".",null,".",".","."]
[10021339,"YOUR CONSORTIUM LIMITED","Advanced and Higher Apprenticeships: Business, Administration and Law",".",".",".",null,20,86,"bottom quintile",null,".",".",".",null,".",".",".",null,".",".",".",null,".",".","."]
[10021339,"YOUR CONSORTIUM LIMITED","Intermediate Apprenticeships: Business, Administration and Law",".",".",".",null,10,85,"bottom quintile",null,".",".",".",null,".",".",".",null,".",".",".",null,".",".","."]
[10021339,"YOUR CONSORTIUM LIMITED","Other provision below Full Level 2",10,73,"top quintile",null,"x","x","x",null,".",".",".",null,".",".",".",null,".",".",".",null,".",".","."]

{"sheet":"RF03","index":4,"n_rows":113,"n_cols":16,"rows_kept":113,"cut":false,"hidden":false,"merged":[[2,7,2,10],[2,12,2,15],[2,2,2,5]]}
["RF03: Sustained Positive Destination Rate distributions by learner category"]
[]
[null,null,"Sustained Positive Destination rate distribution 2013/14",null,null,null,null,"Sustained Positive Destination rate distribution 2014/15",null,null,null,null,"Sustained Positive Destination rate distribution 2015/16"]
["Learner Category","Learner type","20th Percentile","40th Percentile","60th Percentile","80th Percentile"," ","20th Percentile","40th Percentile","60th Percentile","80th Percentile"," ","20th Percentile","40th Percentile","60th Percentile","80th Percentile"]
["LLDD learner","All (excl. benefit learners)",57,64,69,75,null,56,63,69,75,null,57,66,72,77]
["Advanced and Higher Apprenticeships","All (excl. benefit learners)",90,92,94,95,null,90,92,93,95,null,88,91,92,94]
["Full Level 3+","All (excl. benefit learners)",77,84,88,93,null,76,83,87,91,null,71,79,84,90]
["Access to HE","All (excl. benefit learners)",88,90,91,93,null,88,90,92,94,null,88,90,92,94]
["Other Level 3","All (excl. benefit learners)",76,88,91,93,null,75,75,75,89,null,70,70,77,88]
["Intermediate Apprenticeships","All (excl. benefit learners)",89,92,93,95,null,89,91,93,95,null,87,90,92,94]
["Full Level 2","All (excl. benefit learners)",80,87,91,93,null,79,86,90,93,null,78,86,90,92]
["Traineeships","All (excl. benefit learners)",64,69,76,82,null,60,67,74,81,null,54,63,70,81]
["English & Maths","All (excl. benefit learners)",71,76,80,85,null,71,75,79,85,null,69,75,78,84]
["ESOL","All (excl. benefit learners)",61,67,71,76,null,60,64,69,73,null,54,62,66,72]
["Other provision below Full Level 2","All (excl. benefit learners)",66,71,78,85,null,66,75,82,84,null,61,70,78,81]
["LLDD learner","Benefit learners",41,44,47,52,null,40,45,46,50,null,40,42,46,52]
["Advanced and Higher Apprenticeships","Benefit learners",70,82,86,95,null,71,75,82,86,null,56,77,83,91]
["Full Level 3+","Benefit learners",56,66,73,81,null,58,64,70,79,null,54,60,64,71]
["Access to HE","Benefit learners",83,86,89,92,null,81,85,88,92,null,77,81,86,91]
["Other Level 3","Benefit learners",62,65,71,80,null,68,68,68,82,null,55,58,83,93]
["Intermediate Apprenticeships","Benefit learners",70,79,90,94,null,73,82,89,93,null,67,74,86,93]
["Full Level 2","Benefit learners",53,59,63,68,null,51,59,64,68,null,50,56,63,65]
["Traineeships","Benefit learners",52,64,70,74,null,50,62,67,67,null,43,51,56,61]
["English & Maths","Benefit learners",44,52,55,62,null,45,50,56,62,null,50,50,54,62]
["ESOL","Benefit learners",50,55,58,65,null,47,52,56,60,null,47,51,56,63]
["Other provision below Full Level 2","Benefit learners",47,51,52,56,null,49,52,53,57,null,48,50,54,58]
["Advanced and Higher Apprenticeships: Agriculture, Horticulture and Animal Care","All (excl. benefit learners)",84,89,90,92,null,85,88,91,93,null,78,85,89,90]
["Advanced and Higher Apprenticeships: Arts, Media and Publishing","All (excl. benefit learners)",80,85,88,92,null,74,86,95,95,null,77,83,88,94]
["Advanced and Higher Apprenticeships: Business, Administration and Law","All (excl. benefit learners)",91,94,95,96,null,92,93,95,96,null,91,92,94,96]
["Advanced and Higher Apprenticeships: Construction, Planning and the Built Environment","All (excl. benefit learners)",87,93,93,94,null,89,91,91,92,null,85,85,85,88]
["Advanced and Higher Apprenticeships: Education and Training","All (excl. benefit learners)",89,94,96,98,null,90,93,95,97,null,90,93,94,98]
["Advanced and Higher Apprenticeships: Engineering and Manufacturing Technologies","All (excl. benefit learners)",91,92,94,96,null,88,91,94,96,null,87,90,93,95]
["Advanced and Higher Apprenticeships: Health, Public Services and Care","All (excl. benefit learners)",91,92,93,95,null,91,92,93,94,null,89,91,92,93]
["Advanced and Higher Apprenticeships: Information and Communication Technology","All (excl. benefit learners)",88,90,92,94,null,89,91,92,94,null,87,89,92,94]
["Advanced and Higher Apprenticeships: Leisure, Travel and Tourism","All (excl. benefit learners)",79,85,91,93,null,79,85,91,91,null,78,85,89,91]
["Advanced and Higher Apprenticeships: Retail and Commercial Enterprise","All (excl. benefit learners)",85,91,93,93,null,87,91,93,94,null,83,90,91,93]
["Advanced and Higher Apprenticeships: Science and Mathematics","All (excl. benefit learners)",90,90,90,100,null,94,94,94,100,null,89,89,100,100]
["Full Level 3+: Agriculture, Horticulture and Animal Care","All (excl. benefit learners)",80,83,87,90,null,81,83,86,89,null,76,82,87,88]
["Full Level 3+: Arts, Media and Publishing","All (excl. benefit learners)",77,82,85,89,null,76,82,85,88,null,74,79,84,88]
["Full Level 3+: Business, Administration and Law","All (excl. benefit learners)",85,88,92,95,null,85,87,90,93,null,68,83,89,93]
["Full Level 3+: Construction, Planning and the Built Environment","All (excl. benefit learners)",74,79,84,91,null,76,79,83,89,null,69,73,79,84]
["Full Level 3+: Education and Training","All (excl. benefit learners)",83,91,94,96,null,82,87,91,95,null,78,85,90,93]
["Full Level 3+: Engineering and Manufacturing Technologies","All (excl. benefit learners)",79,83,90,94,null,75,83,90,93,null,75,81,85,93]
["Full Level 3+: Health, Public Services and Care","All (excl. benefit learners)",82,86,90,93,null,79,84,89,92,null,77,82,85,90]
["Full Level 3+: History, Philosophy and Theology","All (excl. benefit learners)",80,80,80,80,null,"x","x","x","x",null,"x","x","x","x"]
["Full Level 3+: Information and Communication Technology","All (excl. benefit learners)",73,81,83,89,null,70,79,85,89,null,73,76,83,89]
["Full Level 3+: Languages, Literature and Culture","All (excl. benefit learners)",76,88,88,94,null,84,84,91,94,null,73,73,80,83]
["Full Level 3+: Leisure, Travel and Tourism","All (excl. benefit learners)",75,82,87,92,null,74,80,85,88,null,71,75,84,88]
["Full Level 3+: Preparation for Life and Work","All (excl. benefit learners)",80,80,80,80,null,"x","x","x","x",null,"x","x","x","x"]
["Full Level 3+: Retail and Commercial Enterprise","All (excl. benefit learners)",68,73,77,81,null,64,70,75,79,null,64,69,72,77]
["Full Level 3+: Science and Mathematics","All (excl. benefit learners)",83,88,92,95,null,85,86,90,96,null,80,83,90,91]
["Full Level 3+: Social Sciences","All (excl. benefit learners)",60,67,67,83,null,71,85,85,85,null,91,91,91,91]
["Intermediate Apprenticeships: Agriculture, Horticulture and Animal Care","All (excl. benefit learners)",82,88,90,92,null,83,85,89,94,null,81,83,85,90]
["Intermediate Apprenticeships: Arts, Media and Publishing","All (excl. benefit learners)",92,92,92,100,null,83,83,100,100,null,78,89,89,89]
["Intermediate Apprenticeships: Business, Administration and Law","All (excl. benefit learners)",90,92,94,95,null,90,92,93,95,null,88,91,92,94]
["Intermediate Apprenticeships: Construction, Planning and the Built Environment","All (excl. benefit learners)",85,88,91,91,null,83,90,91,91,null,74,85,89,89]
["Intermediate Apprenticeships: Education and Training","All (excl. benefit learners)",87,93,95,100,null,88,89,94,100,null,85,92,93,100]
["Intermediate Apprenticeships: Engineering and Manufacturing Technologies","All (excl. benefit learners)",90,93,95,98,null,91,93,95,97,null,88,92,94,96]
["Intermediate Apprenticeships: Health, Public Services and Care","All (excl. benefit learners)",91,92,93,95,null,90,92,93,94,null,89,92,92,94]
["Intermediate Apprenticeships: Information and Communication Technology","All (excl. benefit learners)",93,94,95,98,null,90,93,95,96,null,90,92,95,97]
["Intermediate Apprenticeships: Leisure, Travel and Tourism","All (excl. benefit learners)",87,92,92,94,null,84,88,93,93,null,84,89,91,93]
["Intermediate Apprenticeships: Retail and Commercial Enterprise","All (excl. benefit learners)",87,91,92,94,null,87,91,92,95,null,85,88,90,92]
["Full Level 2: Agriculture, Horticulture and Animal Care","All (excl. benefit learners)",78,82,86,89,null,75,81,84,87,null,78,80,84,87]
["Full Level 2: Arts, Media and Publishing","All (excl. benefit learners)",68,77,79,88,null,66,79,81,85,null,64,73,81,83]
["Full Level 2: Business, Administration and Law","All (excl. benefit learners)",82,86,88,92,null,85,87,90,93,null,84,88,90,93]
["Full Level 2: Construction, Planning and the Built Environment","All (excl. benefit learners)",78,82,86,90,null,74,78,86,90,null,59,69,76,83]
["Full Level 2: Education and Training","All (excl. benefit learners)",77,83,87,91,null,73,81,86,90,null,71,80,84,89]
["Full Level 2: Engineering and Manufacturing Technologies","All (excl. benefit learners)",75,81,87,91,null,76,82,88,90,null,70,80,85,89]
["Full Level 2: Health, Public Services and Care","All (excl. benefit learners)",90,92,93,94,null,88,91,92,94,null,88,90,92,93]
["Full Level 2: Information and Communication Technology","All (excl. benefit learners)",74,74,81,87,null,67,73,80,86,null,58,73,82,88]
["Full Level 2: Languages, Literature and Culture","All (excl. benefit learners)",81,84,88,91,null,81,84,87,91,null,81,84,87,91]
["Full Level 2: Leisure, Travel and Tourism","All (excl. benefit learners)",80,86,88,92,null,81,84,90,93,null,83,88,89,90]
["Full Level 2: Preparation for Life and Work","All (excl. benefit learners)",87,89,92,94,null,84,89,92,93,null,87,91,94,96]
["Full Level 2: Retail and Commercial Enterprise","All (excl. benefit learners)",70,77,81,86,null,63,73,78,84,null,67,73,77,83]
["Full Level 2: Science and Mathematics","All (excl. benefit learners)",84,88,90,93,null,85,87,90,92,null,84,87,89,92]
["Full Level 2: Social Sciences","All (excl. benefit learners)",72,72,72,72,null,69,69,69,69,null,80,80,80,80]
["Advanced and Higher Apprenticeships: Arts, Media and Publishing","Benefit learners","x","x","x","x",null,"x","x","x","x",null,50,50,50,50]
["Advanced and Higher Apprenticeships: Business, Administration and Law","Benefit learners",86,86,86,86,null,71,71,71,71,null,83,86,86,86]
["Advanced and Higher Apprenticeships: Engineering and Manufacturing Technologies","Benefit learners",100,100,100,100,null,"x","x","x","x",null,77,77,77,77]
["Advanced and Higher Apprenticeships: Health, Public Services and Care","Benefit learners",69,82,82,82,null,60,64,82,90,null,56,77,77,77]
["Advanced and Higher Apprenticeships: Information and Communication Technology","Benefit learners",50,70,95,95,null,75,75,80,86,null,81,90,91,91]
["Advanced and Higher Apprenticeships: Leisure, Travel and Tourism","Benefit learners",76,76,76,76,null,"x","x","x","x",null,"x","x","x","x"]
["Full Level 3+: Agriculture, Horticulture and Animal Care","Benefit learners",69,75,85,92,null,73,73,73,73,null,"x","x","x","x"]
["Full Level 3+: Arts, Media and Publishing","Benefit learners",67,79,79,81,null,58,63,78,78,null,67,67,67,93]
["Full Level 3+: Business, Administration and Law","Benefit learners",65,67,73,78,null,79,79,83,91,null,52,54,56,67]
["Full Level 3+: Construction, Planning and the Built Environment","Benefit learners",50,51,57,66,null,50,55,61,69,null,42,57,61,61]
["Full Level 3+: Education and Training","Benefit learners",64,80,80,85,null,80,80,91,91,null,60,60,78,78]
["Full Level 3+: Engineering and Manufacturing Technologies","Benefit learners",50,73,74,74,null,42,67,67,70,null,"x","x","x","x"]
["Full Level 3+: Health, Public Services and Care","Benefit learners",68,72,77,82,null,67,73,79,80,null,63,64,64,71]
["Full Level 3+: Information and Communication Technology","Benefit learners",60,67,81,83,null,64,64,64,64,null,54,54,54,54]
["Full Level 3+: Leisure, Travel and Tourism","Benefit learners",61,67,69,82,null,58,67,68,71,null,55,55,60,75]
["Full Level 3+: Retail and Commercial Enterprise","Benefit learners",50,56,59,71,null,50,50,62,67,null,50,67,71,71]
["Full Level 3+: Science and Mathematics","Benefit learners",85,85,85,85,null,77,77,92,92,null,"x","x","x","x"]
["Intermediate Apprenticeships: Agriculture, Horticulture and Animal Care","Benefit learners",54,54,54,54,null,"x","x","x","x",null,"x","x","x","x"]
["Intermediate Apprenticeships: Business, Administration and Law","Benefit learners",75,84,90,95,null,73,83,90,94,null,51,72,84,95]
["Intermediate Apprenticeships: Construction, Planning and the Built Environment","Benefit learners",65,65,67,83,null,73,80,93,93,null,76,76,76,76]
["Intermediate Apprenticeships: Engineering and Manufacturing Technologies","Benefit learners",78,78,91,98,null,76,76,91,96,null,67,67,74,94]
["Intermediate Apprenticeships: Health, Public Services and Care","Benefit learners",67,77,87,95,null,75,75,86,89,null,75,83,88,91]
["Intermediate Apprenticeships: Leisure, Travel and Tourism","Benefit learners",56,72,72,90,null,65,65,65,70,null,58,58,93,93]
["Intermediate Apprenticeships: Retail and Commercial Enterprise","Benefit learners",70,82,90,91,null,68,73,86,90,null,75,76,88,91]
["Full Level 2: Agriculture, Horticulture and Animal Care","Benefit learners",50,51,51,53,null,47,47,48,48,null,42,42,64,64]
["Full Level 2: Arts, Media and Publishing","Benefit learners",58,65,68,76,null,58,73,77,85,null,48,60,72,79]
["Full Level 2: Business, Administration and Law","Benefit learners",52,55,63,68,null,52,58,63,71,null,48,53,55,66]
["Full Level 2: Construction, Planning and the Built Environment","Benefit learners",54,55,60,70,null,47,52,59,65,null,51,57,62,77]
["Full Level 2: Education and Training","Benefit learners",55,67,73,85,null,58,58,69,76,null,50,53,53,54]
["Full Level 2: Engineering and Manufacturing Technologies","Benefit learners",57,63,66,70,null,58,59,64,67,null,52,60,63,64]
["Full Level 2: Health, Public Services and Care","Benefit learners",57,61,64,70,null,56,64,68,73,null,56,60,63,71]
["Full Level 2: Information and Communication Technology","Benefit learners",61,63,63,63,null,60,64,64,64,null,61,63,63,63]
["Full Level 2: Languages, Literature and Culture","Benefit learners",67,73,82,88,null,75,78,83,86,null,67,67,73,90]
["Full Level 2: Leisure, Travel and Tourism","Benefit learners",57,67,74,82,null,50,60,70,74,null,40,58,62,68]
["Full Level 2: Preparation for Life and Work","Benefit learners",50,58,62,66,null,50,59,60,68,null,55,57,62,73]
["Full Level 2: Retail and Commercial Enterprise","Benefit learners",48,53,58,64,null,50,51,54,61,null,47,50,55,60]
["Full Level 2: Science and Mathematics","Benefit learners",76,81,83,86,null,77,81,83,90,null,64,79,83,91]

{"sheet":"LookUp","index":5,"n_rows":1024,"n_cols":6,"rows_kept":1024,"cut":false,"hidden":true,"merged":[]}
["UKPRN","Provider Name",{"$f":"A1&\" - \"&B1","v":"UKPRN - Provider Name"}]
[10003876,"1LIFE MANAGEMENT SOLUTIONS LIMITED",{"$f":"A2&\" - \"&B2","v":"10003876 - 1LIFE MANAGEMENT SOLUTIONS LIMITED"},{"$f":"--ISNUMBER(IFERROR(SEARCH(ProviderTable!$B$3,C2,1),\"\"))","v":1},{"$f":"IF(D2=1,COUNTIF($D$2:D2,1),\"\")","v":1},{"$f":"IFERROR(INDEX($C$2:$C$1024,MATCH(ROWS($E$2:E2),$E$2:$E$1024,0)),\"\")","v":"10003876 - 1LIFE MANAGEMENT SOLUTIONS LIMITED"}]
[10000020,"5 E LTD.",{"$f":"A3&\" - \"&B3","v":"10000020 - 5 E LTD."},{"$f":"--ISNUMBER(IFERROR(SEARCH(ProviderTable!$B$3,C3,1),\"\"))","v":1},{"$f":"IF(D3=1,COUNTIF($D$2:D3,1),\"\")","v":2},{"$f":"IFERROR(INDEX($C$2:$C$1024,MATCH(ROWS($E$2:E3),$E$2:$E$1024,0)),\"\")","v":"10000020 - 5 E LTD."}]
[10000115,"A4E LTD","10000115 - A4E LTD",{"$f":"--ISNUMBER(IFERROR(SEARCH(ProviderTable!$B$3,C4,1),\"\"))","v":1},{"$f":"IF(D4=1,COUNTIF($D$2:D4,1),\"\")","v":3},{"$f":"IFERROR(INDEX($C$2:$C$1024,MATCH(ROWS($E$2:E4),$E$2:$E$1024,0)),\"\")","v":"10000115 - A4E LTD"}]
[10000055,"ABINGDON AND WITNEY COLLEGE","10000055 - ABINGDON AND WITNEY COLLEGE",{"$f":"--ISNUMBER(IFERROR(SEARCH(ProviderTable!$B$3,C5,1),\"\"))","v":1},{"$f":"IF(D5=1,COUNTIF($D$2:D5,1),\"\")","v":4},{"$f":"IFERROR(INDEX($C$2:$C$1024,MATCH(ROWS($E$2:E5),$E$2:$E$1024,0)),\"\")","v":"10000055 - ABINGDON AND WITNEY COLLEGE"}]
[10019646,"ABIS RESOURCES LIMITED","10019646 - ABIS RESOURCES LIMITED",{"$f":"--ISNUMBER(IFERROR(SEARCH(ProviderTable!$B$3,C6,1),\"\"))","v":1},{"$f":"IF(D6=1,COUNTIF($D$2:D6,1),\"\")","v":5},{"$f":"IFERROR(INDEX($C$2:$C$1024,MATCH(ROWS($E$2:E6),$E$2:$E$1024,0)),\"\")","v":"10019646 - ABIS RESOURCES LIMITED"}]
[10000060,"ACACIA TRAINING AND DEVELOPMENT LTD","10000060 - ACACIA TRAINING AND DEVELOPMENT LTD",{"$f":"--ISNUMBER(IFERROR(SEARCH(ProviderTable!$B$3,C7,1),\"\"))","v":1},{"$f":"IF(D7=1,COUNTIF($D$2:D7,1),\"\")","v":6},{"$f":"IFERROR(INDEX($C$2:$C$1024,MATCH(ROWS($E$2:E7),$E$2:$E$1024,0)),\"\")","v":"10000060 - ACACIA TRAINING AND DEVELOPMENT LTD"}]
[10000061,"ACACIA TRAINING LIMITED","10000061 - ACACIA TRAINING LIMITED",{"$f":"--ISNUMBER(IFERROR(SEARCH(ProviderTable!$B$3,C8,1),\"\"))","v":1},{"$f":"IF(D8=1,COUNTIF($D$2:D8,1),\"\")","v":7},{"$f":"IFERROR(INDEX($C$2:$C$1024,MATCH(ROWS($E$2:E8),$E$2:$E$1024,0)),\"\")","v":"10000061 - ACACIA TRAINING LIMITED"}]
[10000191,"ACADEMY EDUCATION LIMITED","10000191 - ACADEMY EDUCATION LIMITED",{"$f":"--ISNUMBER(IFERROR(SEARCH(ProviderTable!$B$3,C9,1),\"\"))","v":1},{"$f":"IF(D9=1,COUNTIF($D$2:D9,1),\"\")","v":8},{"$f":"IFERROR(INDEX($C$2:$C$1024,MATCH(ROWS($E$2:E9),$E$2:$E$1024,0)),\"\")","v":"10000191 - ACADEMY EDUCATION LIMITED"}]
[10024597,"ACADEMY TRAINING GROUP LIMITED","10024597 - ACADEMY TRAINING GROUP LIMITED",{"$f":"--ISNUMBER(IFERROR(SEARCH(ProviderTable!$B$3,C10,1),\"\"))","v":1},{"$f":"IF(D10=1,COUNTIF($D$2:D10,1),\"\")","v":9},{"$f":"IFERROR(INDEX($C$2:$C$1024,MATCH(ROWS($E$2:E10),$E$2:$E$1024,0)),\"\")","v":"10024597 - ACADEMY TRAINING GROUP LIMITED"}]
[10039859,"ACADEMY TRANSFORMATION TRUST","10039859 - ACADEMY TRANSFORMATION TRUST",{"$f":"--ISNUMBER(IFERROR(SEARCH(ProviderTable!$B$3,C11,1),\"\"))","v":1},{"$f":"IF(D11=1,COUNTIF($D$2:D11,1),\"\")","v":10},{"$f":"IFERROR(INDEX($C$2:$C$1024,MATCH(ROWS($E$2:E11),$E$2:$E$1024,0)),\"\")","v":"10039859 - ACADEMY TRANSFORMATION TRUST"}]
[10000080,"ACCESS TO MUSIC LIMITED","10000080 - ACCESS TO MUSIC LIMITED",{"$f":"--ISNUMBER(IFERROR(SEARCH(ProviderTable!$B$3,C12,1),\"\"))","v":1},{"$f":"IF(D12=1,COUNTIF($D$2:D12,1),\"\")","v":11},{"$f":"IFERROR(INDEX($C$2:$C$1024,MATCH(ROWS($E$2:E12),$E$2:$E$1024,0)),\"\")","v":"10000080 - ACCESS TO MUSIC LIMITED"}]
[10010584,"ACCESS TRAINING (EAST MIDLANDS) LTD","10010584 - ACCESS TRAINING (EAST MIDLANDS) LTD",{"$f":"--ISNUMBER(IFERROR(SEARCH(ProviderTable!$B$3,C13,1),\"\"))","v":1},{"$f":"IF(D13=1,COUNTIF($D$2:D13,1),\"\")","v":12},{"$f":"IFERROR(INDEX($C$2:$C$1024,MATCH(ROWS($E$2:E13),$E$2:$E$1024,0)),\"\")","v":"10010584 - ACCESS TRAINING (EAST MIDLANDS) LTD"}]
[10009059,"ACCESS TRAINING LIMITED","10009059 - ACCESS TRAINING LIMITED",{"$f":"--ISNUMBER(IFERROR(SEARCH(ProviderTable!$B$3,C14,1),\"\"))","v":1},{"$f":"IF(D14=1,COUNTIF($D$2:D14,1),\"\")","v":13},{"$f":"IFERROR(INDEX($C$2:$C$1024,MATCH(ROWS($E$2:E14),$E$2:$E$1024,0)),\"\")","v":"10009059 - ACCESS TRAINING LIMITED"}]
[10000093,"ACCRINGTON AND ROSSENDALE COLLEGE","10000093 - ACCRINGTON AND ROSSENDALE COLLEGE",{"$f":"--ISNUMBER(IFERROR(SEARCH(ProviderTable!$B$3,C15,1),\"\"))","v":1},{"$f":"IF(D15=1,COUNTIF($D$2:D15,1),\"\")","v":14},{"$f":"IFERROR(INDEX($C$2:$C$1024,MATCH(ROWS($E$2:E15),$E$2:$E$1024,0)),\"\")","v":"10000093 - ACCRINGTON AND ROSSENDALE COLLEGE"}]
[10019431,"ACHIEVE THROUGH LEARNING LIMITED","10019431 - ACHIEVE THROUGH LEARNING LIMITED",{"$f":"--ISNUMBER(IFERROR(SEARCH(ProviderTable!$B$3,C16,1),\"\"))","v":1},{"$f":"IF(D16=1,COUNTIF($D$2:D16,1),\"\")","v":15},{"$f":"IFERROR(INDEX($C$2:$C$1024,MATCH(ROWS($E$2:E16),$E$2:$E$1024,0)),\"\")","v":"10019431 - ACHIEVE THROUGH LEARNING LIMITED"}]
[10000099,"ACHIEVEMENT TRAINING LIMITED","10000099 - ACHIEVEMENT TRAINING LIMITED",{"$f":"--ISNUMBER(IFERROR(SEARCH(ProviderTable!$B$3,C17,1),\"\"))","v":1},{"$f":"IF(D17=1,COUNTIF($D$2:D17,1),\"\")","v":16},{"$f":"IFERROR(INDEX($C$2:$C$1024,MATCH(ROWS($E$2:E17),$E$2:$E$1024,0)),\"\")","v":"10000099 - ACHIEVEMENT TRAINING LIMITED"}]
[10000108,"ACORN TRAINING CONSULTANTS LIMITED","10000108 - ACORN TRAINING CONSULTANTS LIMITED",{"$f":"--ISNUMBER(IFERROR(SEARCH(ProviderTable!$B$3,C18,1),\"\"))","v":1},{"$f":"IF(D18=1,COUNTIF($D$2:D18,1),\"\")","v":17},{"$f":"IFERROR(INDEX($C$2:$C$1024,MATCH(ROWS($E$2:E18),$E$2:$E$1024,0)),\"\")","v":"10000108 - ACORN TRAINING CONSULTANTS LIMITED"}]
[10019237,"ACTIVATE COMMUNITY AND EDUCATION SERVICES","10019237 - ACTIVATE COMMUNITY AND EDUCATION SERVICES",{"$f":"--ISNUMBER(IFERROR(SEARCH(ProviderTable!$B$3,C19,1),\"\"))","v":1},{"$f":"IF(D19=1,COUNTIF($D$2:D19,1),\"\")","v":18},{"$f":"IFERROR(INDEX($C$2:$C$1024,MATCH(ROWS($E$2:E19),$E$2:$E$1024,0)),\"\")","v":"10019237 - ACTIVATE COMMUNITY AND EDUCATION SERVICES"}]
[10004927,"ACTIVATE LEARNING","10004927 - ACTIVATE LEARNING",{"$f":"--ISNUMBER(IFERROR(SEARCH(ProviderTable!$B$3,C20,1),\"\"))","v":1},{"$f":"IF(D20=1,COUNTIF($D$2:D20,1),\"\")","v":19},{"$f":"IFERROR(INDEX($C$2:$C$1024,MATCH(ROWS($E$2:E20),$E$2:$E$1024,0)),\"\")","v":"10004927 - ACTIVATE LEARNING"}]
[10000124,"ACTON TRAINING CENTRE LIMITED","10000124 - ACTON TRAINING CENTRE LIMITED",{"$f":"--ISNUMBER(IFERROR(SEARCH(ProviderTable!$B$3,C21,1),\"\"))","v":1},{"$f":"IF(D21=1,COUNTIF($D$2:D21,1),\"\")","v":20},{"$f":"IFERROR(INDEX($C$2:$C$1024,MATCH(ROWS($E$2:E21),$E$2:$E$1024,0)),\"\")","v":"10000124 - ACTON TRAINING CENTRE LIMITED"}]
[10019155,"ADVANCED PERSONNEL MANAGEMENT GROUP (UK) LIMITED","10019155 - ADVANCED PERSONNEL MANAGEMENT GROUP (UK) LIMITED",{"$f":"--ISNUMBER(IFERROR(SEARCH(ProviderTable!$B$3,C22,1),\"\"))","v":1},{"$f":"IF(D22=1,COUNTIF($D$2:D22,1),\"\")","v":21},{"$f":"IFERROR(INDEX($C$2:$C$1024,MATCH(ROWS($E$2:E22),$E$2:$E$1024,0)),\"\")","v":"10019155 - ADVANCED PERSONNEL MANAGEMENT GROUP (UK) LIMITED"}]
[10032745,"AGE UK TRADING CIC","10032745 - AGE UK TRADING CIC",{"$f":"--ISNUMBER(IFERROR(SEARCH(ProviderTable!$B$3,C23,1),\"\"))","v":1},{"$f":"IF(D23=1,COUNTIF($D$2:D23,1),\"\")","v":22},{"$f":"IFERROR(INDEX($C$2:$C$1024,MATCH(ROWS($E$2:E23),$E$2:$E$1024,0)),\"\")","v":"10032745 - AGE UK TRADING CIC"}]
[10036303,"AGILISYS LIMITED","10036303 - AGILISYS LIMITED",{"$f":"--ISNUMBER(IFERROR(SEARCH(ProviderTable!$B$3,C24,1),\"\"))","v":1},{"$f":"IF(D24=1,COUNTIF($D$2:D24,1),\"\")","v":23},{"$f":"IFERROR(INDEX($C$2:$C$1024,MATCH(ROWS($E$2:E24),$E$2:$E$1024,0)),\"\")","v":"10036303 - AGILISYS LIMITED"}]
[10000201,"ALDER TRAINING LIMITED","10000201 - ALDER TRAINING LIMITED",{"$f":"--ISNUMBER(IFERROR(SEARCH(ProviderTable!$B$3,C25,1),\"\"))","v":1},{"$f":"IF(D25=1,COUNTIF($D$2:D25,1),\"\")","v":24},{"$f":"IFERROR(INDEX($C$2:$C$1024,MATCH(ROWS($E$2:E25),$E$2:$E$1024,0)),\"\")","v":"10000201 - ALDER TRAINING LIMITED"}]
[10027693,"ALL TRADES TRAINING LIMITED","10027693 - ALL TRADES TRAINING LIMITED",{"$f":"--ISNUMBER(IFERROR(SEARCH(ProviderTable!$B$3,C26,1),\"\"))","v":1},{"$f":"IF(D26=1,COUNTIF($D$2:D26,1),\"\")","v":25},{"$f":"IFERROR(INDEX($C$2:$C$1024,MATCH(ROWS($E$2:E26),$E$2:$E$1024,0)),\"\")","v":"10027693 - ALL TRADES TRAINING LIMITED"}]
[10000238,"ALLIANCE LEARNING","10000238 - ALLIANCE LEARNING",{"$f":"--ISNUMBER(IFERROR(SEARCH(ProviderTable!$B$3,C27,1),\"\"))","v":1},{"$f":"IF(D27=1,COUNTIF($D$2:D27,1),\"\")","v":26},{"$f":"IFERROR(INDEX($C$2:$C$1024,MATCH(ROWS($E$2:E27),$E$2:$E$1024,0)),\"\")","v":"10000238 - ALLIANCE LEARNING"}]
[10022311,"ALPHA BUILDING SERVICES ENGINEERING LTD","10022311 - ALPHA BUILDING SERVICES ENGINEERING LTD",{"$f":"--ISNUMBER(IFERROR(SEARCH(ProviderTable!$B$3,C28,1),\"\"))","v":1},{"$f":"IF(D28=1,COUNTIF($D$2:D28,1),\"\")","v":27},{"$f":"IFERROR(INDEX($C$2:$C$1024,MATCH(ROWS($E$2:E28),$E$2:$E$1024,0)),\"\")","v":"10022311 - ALPHA BUILDING SERVICES ENGINEERING LTD"}]
[10022070,"ALPHA CARE AGENCY LIMITED","10022070 - ALPHA CARE AGENCY LIMITED",{"$f":"--ISNUMBER(IFERROR(SEARCH(ProviderTable!$B$3,C29,1),\"\"))","v":1},{"$f":"IF(D29=1,COUNTIF($D$2:D29,1),\"\")","v":28},{"$f":"IFERROR(INDEX($C$2:$C$1024,MATCH(ROWS($E$2:E29),$E$2:$E$1024,0)),\"\")","v":"10022070 - ALPHA CARE AGENCY LIMITED"}]
[10000256,"ALTON COLLEGE","10000256 - ALTON COLLEGE",{"$f":"--ISNUMBER(IFERROR(SEARCH(ProviderTable!$B$3,C30,1),\"\"))","v":1},{"$f":"IF(D30=1,COUNTIF($D$2:D30,1),\"\")","v":29},{"$f":"IFERROR(INDEX($C$2:$C$1024,MATCH(ROWS($E$2:E30),$E$2:$E$1024,0)),\"\")","v":"10000256 - ALTON COLLEGE"}]
[10000275,"AMERSHAM & WYCOMBE COLLEGE","10000275 - AMERSHAM & WYCOMBE COLLEGE",{"$f":"--ISNUMBER(IFERROR(SEARCH(ProviderTable!$B$3,C31,1),\"\"))","v":1},{"$f":"IF(D31=1,COUNTIF($D$2:D31,1),\"\")","v":30},{"$f":"IFERROR(INDEX($C$2:$C$1024,MATCH(ROWS($E$2:E31),$E$2:$E$1024,0)),\"\")","v":"10000275 - AMERSHAM & WYCOMBE COLLEGE"}]
[10023918,"ANDERSON STOCKLEY ACCREDITED TRAINING LTD","10023918 - ANDERSON STOCKLEY ACCREDITED TRAINING LTD",{"$f":"--ISNUMBER(IFERROR(SEARCH(ProviderTable!$B$3,C32,1),\"\"))","v":1},{"$f":"IF(D32=1,COUNTIF($D$2:D32,1),\"\")","v":31},{"$f":"IFERROR(INDEX($C$2:$C$1024,MATCH(ROWS($E$2:E32),$E$2:$E$1024,0)),\"\")","v":"10023918 - ANDERSON STOCKLEY ACCREDITED TRAINING LTD"}]
[10000285,"ANDREW COLLINGE TRAINING LIMITED","10000285 - ANDREW COLLINGE TRAINING LIMITED",{"$f":"--ISNUMBER(IFERROR(SEARCH(ProviderTable!$B$3,C33,1),\"\"))","v":1},{"$f":"IF(D33=1,COUNTIF($D$2:D33,1),\"\")","v":32},{"$f":"IFERROR(INDEX($C$2:$C$1024,MATCH(ROWS($E$2:E33),$E$2:$E$1024,0)),\"\")","v":"10000285 - ANDREW COLLINGE TRAINING LIMITED"}]
[10022210,"ANNE CLARKE ASSOCIATES LIMITED","10022210 - ANNE CLARKE ASSOCIATES LIMITED",{"$f":"--ISNUMBER(IFERROR(SEARCH(ProviderTable!$B$3,C34,1),\"\"))","v":1},{"$f":"IF(D34=1,COUNTIF($D$2:D34,1),\"\")","v":33},{"$f":"IFERROR(INDEX($C$2:$C$1024,MATCH(ROWS($E$2:E34),$E$2:$E$1024,0)),\"\")","v":"10022210 - ANNE CLARKE ASSOCIATES LIMITED"}]
[10030249,"APPRENTICE FUNDING ASSISTANT LIMITED","10030249 - APPRENTICE FUNDING ASSISTANT LIMITED",{"$f":"--ISNUMBER(IFERROR(SEARCH(ProviderTable!$B$3,C35,1),\"\"))","v":1},{"$f":"IF(D35=1,COUNTIF($D$2:D35,1),\"\")","v":34},{"$f":"IFERROR(INDEX($C$2:$C$1024,MATCH(ROWS($E$2:E35),$E$2:$E$1024,0)),\"\")","v":"10030249 - APPRENTICE FUNDING ASSISTANT LIMITED"}]
[10032404,"APPRENTICESHIPS & TRAINING SERVICES CONSORTIUM LIMITED","10032404 - APPRENTICESHIPS & TRAINING SERVICES CONSORTIUM LIMITED",{"$f":"--ISNUMBER(IFERROR(SEARCH(ProviderTable!$B$3,C36,1),\"\"))","v":1},{"$f":"IF(D36=1,COUNTIF($D$2:D36,1),\"\")","v":35},{"$f":"IFERROR(INDEX($C$2:$C$1024,MATCH(ROWS($E$2:E36),$E$2:$E$1024,0)),\"\")","v":"10032404 - APPRENTICESHIPS & TRAINING SERVICES CONSORTIUM LIMITED"}]
[10000848,"APPRIS CHARITY LIMITED","10000848 - APPRIS CHARITY LIMITED",{"$f":"--ISNUMBER(IFERROR(SEARCH(ProviderTable!$B$3,C37,1),\"\"))","v":1},{"$f":"IF(D37=1,COUNTIF($D$2:D37,1),\"\")","v":36},{"$f":"IFERROR(INDEX($C$2:$C$1024,MATCH(ROWS($E$2:E37),$E$2:$E$1024,0)),\"\")","v":"10000848 - APPRIS CHARITY LIMITED"}]
[10000330,"AQUINAS COLLEGE","10000330 - AQUINAS COLLEGE",{"$f":"--ISNUMBER(IFERROR(SEARCH(ProviderTable!$B$3,C38,1),\"\"))","v":1},{"$f":"IF(D38=1,COUNTIF($D$2:D38,1),\"\")","v":37},{"$f":"IFERROR(INDEX($C$2:$C$1024,MATCH(ROWS($E$2:E38),$E$2:$E$1024,0)),\"\")","v":"10000330 - AQUINAS COLLEGE"}]
[10000385,"ARTS UNIVERSITY BOURNEMOUTH, THE","10000385 - ARTS UNIVERSITY BOURNEMOUTH, THE",{"$f":"--ISNUMBER(IFERROR(SEARCH(ProviderTable!$B$3,C39,1),\"\"))","v":1},{"$f":"IF(D39=1,COUNTIF($D$2:D39,1),\"\")","v":38},{"$f":"IFERROR(INDEX($C$2:$C$1024,MATCH(ROWS($E$2:E39),$E$2:$E$1024,0)),\"\")","v":"10000385 - ARTS UNIVERSITY BOURNEMOUTH, THE"}]
[10000409,"ASHTON SIXTH FORM COLLEGE","10000409 - ASHTON SIXTH FORM COLLEGE",{"$f":"--ISNUMBER(IFERROR(SEARCH(ProviderTable!$B$3,C40,1),\"\"))","v":1},{"$f":"IF(D40=1,COUNTIF($D$2:D40,1),\"\")","v":39},{"$f":"IFERROR(INDEX($C$2:$C$1024,MATCH(ROWS($E$2:E40),$E$2:$E$1024,0)),\"\")","v":"10000409 - ASHTON SIXTH FORM COLLEGE"}]
[10000415,"ASKHAM BRYAN COLLEGE","10000415 - ASKHAM BRYAN COLLEGE",{"$f":"--ISNUMBER(IFERROR(SEARCH(ProviderTable!$B$3,C41,1),\"\"))","v":1},{"$f":"IF(D41=1,COUNTIF($D$2:D41,1),\"\")","v":40},{"$f":"IFERROR(INDEX($C$2:$C$1024,MATCH(ROWS($E$2:E41),$E$2:$E$1024,0)),\"\")","v":"10000415 - ASKHAM BRYAN COLLEGE"}]
[10000421,"ASPIRATION TRAINING LIMITED","10000421 - ASPIRATION TRAINING LIMITED",{"$f":"--ISNUMBER(IFERROR(SEARCH(ProviderTable!$B$3,C42,1),\"\"))","v":1},{"$f":"IF(D42=1,COUNTIF($D$2:D42,1),\"\")","v":41},{"$f":"IFERROR(INDEX($C$2:$C$1024,MATCH(ROWS($E$2:E42),$E$2:$E$1024,0)),\"\")","v":"10000421 - ASPIRATION TRAINING LIMITED"}]
[10031241,"ASPIRE ACHIEVE ADVANCE LIMITED","10031241 - ASPIRE ACHIEVE ADVANCE LIMITED",{"$f":"--ISNUMBER(IFERROR(SEARCH(ProviderTable!$B$3,C43,1),\"\"))","v":1},{"$f":"IF(D43=1,COUNTIF($D$2:D43,1),\"\")","v":42},{"$f":"IFERROR(INDEX($C$2:$C$1024,MATCH(ROWS($E$2:E43),$E$2:$E$1024,0)),\"\")","v":"10031241 - ASPIRE ACHIEVE ADVANCE LIMITED"}]
[10006942,"ASPIRE TRAINING TEAM LIMITED","10006942 - ASPIRE TRAINING TEAM LIMITED",{"$f":"--ISNUMBER(IFERROR(SEARCH(ProviderTable!$B$3,C44,1),\"\"))","v":1},{"$f":"IF(D44=1,COUNTIF($D$2:D44,1),\"\")","v":43},{"$f":"IFERROR(INDEX($C$2:$C$1024,MATCH(ROWS($E$2:E44),$E$2:$E$1024,0)),\"\")","v":"10006942 - ASPIRE TRAINING TEAM LIMITED"}]
[10003248,"ASPIRE-IGEN LTD","10003248 - ASPIRE-IGEN LTD",{"$f":"--ISNUMBER(IFERROR(SEARCH(ProviderTable!$B$3,C45,1),\"\"))","v":1},{"$f":"IF(D45=1,COUNTIF($D$2:D45,1),\"\")","v":44},{"$f":"IFERROR(INDEX($C$2:$C$1024,MATCH(ROWS($E$2:E45),$E$2:$E$1024,0)),\"\")","v":"10003248 - ASPIRE-IGEN LTD"}]
[10000427,"ASSET TRAINING & CONSULTANCY LIMITED","10000427 - ASSET TRAINING & CONSULTANCY LIMITED",{"$f":"--ISNUMBER(IFERROR(SEARCH(ProviderTable!$B$3,C46,1),\"\"))","v":1},{"$f":"IF(D46=1,COUNTIF($D$2:D46,1),\"\")","v":45},{"$f":"IFERROR(INDEX($C$2:$C$1024,MATCH(ROWS($E$2:E46),$E$2:$E$1024,0)),\"\")","v":"10000427 - ASSET TRAINING & CONSULTANCY LIMITED"}]
[10020307,"ASTUTE MINDS LTD","10020307 - ASTUTE MINDS LTD",{"$f":"--ISNUMBER(IFERROR(SEARCH(ProviderTable!$B$3,C47,1),\"\"))","v":1},{"$f":"IF(D47=1,COUNTIF($D$2:D47,1),\"\")","v":46},{"$f":"IFERROR(INDEX($C$2:$C$1024,MATCH(ROWS($E$2:E47),$E$2:$E$1024,0)),\"\")","v":"10020307 - ASTUTE MINDS LTD"}]
[10000476,"ATG TRAINING","10000476 - ATG TRAINING",{"$f":"--ISNUMBER(IFERROR(SEARCH(ProviderTable!$B$3,C48,1),\"\"))","v":1},{"$f":"IF(D48=1,COUNTIF($D$2:D48,1),\"\")","v":47},{"$f":"IFERROR(INDEX($C$2:$C$1024,MATCH(ROWS($E$2:E48),$E$2:$E$1024,0)),\"\")","v":"10000476 - ATG TRAINING"}]
[10000452,"AURELIA TRAINING LIMITED","10000452 - AURELIA TRAINING LIMITED",{"$f":"--ISNUMBER(IFERROR(SEARCH(ProviderTable!$B$3,C49,1),\"\"))","v":1},{"$f":"IF(D49=1,COUNTIF($D$2:D49,1),\"\")","v":48},{"$f":"IFERROR(INDEX($C$2:$C$1024,MATCH(ROWS($E$2:E49),$E$2:$E$1024,0)),\"\")","v":"10000452 - AURELIA TRAINING LIMITED"}]
[10022513,"AVANT PARTNERSHIP LIMITED","10022513 - AVANT PARTNERSHIP LIMITED",{"$f":"--ISNUMBER(IFERROR(SEARCH(ProviderTable!$B$3,C50,1),\"\"))","v":1},{"$f":"IF(D50=1,COUNTIF($D$2:D50,1),\"\")","v":49},{"$f":"IFERROR(INDEX($C$2:$C$1024,MATCH(ROWS($E$2:E50),$E$2:$E$1024,0)),\"\")","v":"10022513 - AVANT PARTNERSHIP LIMITED"}]
[10008081,"AWE PLC","10008081 - AWE PLC",{"$f":"--ISNUMBER(IFERROR(SEARCH(ProviderTable!$B$3,C51,1),\"\"))","v":1},{"$f":"IF(D51=1,COUNTIF($D$2:D51,1),\"\")","v":50},{"$f":"IFERROR(INDEX($C$2:$C$1024,MATCH(ROWS($E$2:E51),$E$2:$E$1024,0)),\"\")","v":"10008081 - AWE PLC"}]
[10000470,"AXIA SOLUTIONS LIMITED","10000470 - AXIA SOLUTIONS LIMITED",{"$f":"--ISNUMBER(IFERROR(SEARCH(ProviderTable!$B$3,C52,1),\"\"))","v":1},{"$f":"IF(D52=1,COUNTIF($D$2:D52,1),\"\")","v":51},{"$f":"IFERROR(INDEX($C$2:$C$1024,MATCH(ROWS($E$2:E52),$E$2:$E$1024,0)),\"\")","v":"10000470 - AXIA SOLUTIONS LIMITED"}]
[10000473,"AYLESBURY COLLEGE","10000473 - AYLESBURY COLLEGE",{"$f":"--ISNUMBER(IFERROR(SEARCH(ProviderTable!$B$3,C53,1),\"\"))","v":1},{"$f":"IF(D53=1,COUNTIF($D$2:D53,1),\"\")","v":52},{"$f":"IFERROR(INDEX($C$2:$C$1024,MATCH(ROWS($E$2:E53),$E$2:$E$1024,0)),\"\")","v":"10000473 - AYLESBURY COLLEGE"}]
[10000486,"B L TRAINING LIMITED","10000486 - B L TRAINING LIMITED",{"$f":"--ISNUMBER(IFERROR(SEARCH(ProviderTable!$B$3,C54,1),\"\"))","v":1},{"$f":"IF(D54=1,COUNTIF($D$2:D54,1),\"\")","v":53},{"$f":"IFERROR(INDEX($C$2:$C$1024,MATCH(ROWS($E$2:E54),$E$2:$E$1024,0)),\"\")","v":"10000486 - B L TRAINING LIMITED"}]
[10029186,"B2B ENGAGE LIMITED","10029186 - B2B ENGAGE LIMITED",{"$f":"--ISNUMBER(IFERROR(SEARCH(ProviderTable!$B$3,C55,1),\"\"))","v":1},{"$f":"IF(D55=1,COUNTIF($D$2:D55,1),\"\")","v":54},{"$f":"IFERROR(INDEX($C$2:$C$1024,MATCH(ROWS($E$2:E55),$E$2:$E$1024,0)),\"\")","v":"10029186 - B2B ENGAGE LIMITED"}]
[10037348,"BABCOCK SKILLS DEVELOPMENT AND TRAINING LIMITED","10037348 - BABCOCK SKILLS DEVELOPMENT AND TRAINING LIMITED",{"$f":"--ISNUMBER(IFERROR(SEARCH(ProviderTable!$B$3,C56,1),\"\"))","v":1},{"$f":"IF(D56=1,COUNTIF($D$2:D56,1),\"\")","v":55},{"$f":"IFERROR(INDEX($C$2:$C$1024,MATCH(ROWS($E$2:E56),$E$2:$E$1024,0)),\"\")","v":"10037348 - BABCOCK SKILLS DEVELOPMENT AND TRAINING LIMITED"}]
[10003161,"BABCOCK TRAINING LIMITED","10003161 - BABCOCK TRAINING LIMITED",{"$f":"--ISNUMBER(IFERROR(SEARCH(ProviderTable!$B$3,C57,1),\"\"))","v":1},{"$f":"IF(D57=1,COUNTIF($D$2:D57,1),\"\")","v":56},{"$f":"IFERROR(INDEX($C$2:$C$1024,MATCH(ROWS($E$2:E57),$E$2:$E$1024,0)),\"\")","v":"10003161 - BABCOCK TRAINING LIMITED"}]
[10000494,"BABINGTON BUSINESS COLLEGE LIMITED","10000494 - BABINGTON BUSINESS COLLEGE LIMITED",{"$f":"--ISNUMBER(IFERROR(SEARCH(ProviderTable!$B$3,C58,1),\"\"))","v":1},{"$f":"IF(D58=1,COUNTIF($D$2:D58,1),\"\")","v":57},{"$f":"IFERROR(INDEX($C$2:$C$1024,MATCH(ROWS($E$2:E58),$E$2:$E$1024,0)),\"\")","v":"10000494 - BABINGTON BUSINESS COLLEGE LIMITED"}]
[10000501,"BAE SYSTEMS PLC","10000501 - BAE SYSTEMS PLC",{"$f":"--ISNUMBER(IFERROR(SEARCH(ProviderTable!$B$3,C59,1),\"\"))","v":1},{"$f":"IF(D59=1,COUNTIF($D$2:D59,1),\"\")","v":58},{"$f":"IFERROR(INDEX($C$2:$C$1024,MATCH(ROWS($E$2:E59),$E$2:$E$1024,0)),\"\")","v":"10000501 - BAE SYSTEMS PLC"}]
[10013530,"BALDWIN TRAINING LIMITED","10013530 - BALDWIN TRAINING LIMITED",{"$f":"--ISNUMBER(IFERROR(SEARCH(ProviderTable!$B$3,C60,1),\"\"))","v":1},{"$f":"IF(D60=1,COUNTIF($D$2:D60,1),\"\")","v":59},{"$f":"IFERROR(INDEX($C$2:$C$1024,MATCH(ROWS($E$2:E60),$E$2:$E$1024,0)),\"\")","v":"10013530 - BALDWIN TRAINING LIMITED"}]
[10019026,"BALTIC TRAINING SERVICES LIMITED","10019026 - BALTIC TRAINING SERVICES LIMITED",{"$f":"--ISNUMBER(IFERROR(SEARCH(ProviderTable!$B$3,C61,1),\"\"))","v":1},{"$f":"IF(D61=1,COUNTIF($D$2:D61,1),\"\")","v":60},{"$f":"IFERROR(INDEX($C$2:$C$1024,MATCH(ROWS($E$2:E61),$E$2:$E$1024,0)),\"\")","v":"10019026 - BALTIC TRAINING SERVICES LIMITED"}]
[10000524,"BARCHESTER HEALTHCARE LIMITED","10000524 - BARCHESTER HEALTHCARE LIMITED",{"$f":"--ISNUMBER(IFERROR(SEARCH(ProviderTable!$B$3,C62,1),\"\"))","v":1},{"$f":"IF(D62=1,COUNTIF($D$2:D62,1),\"\")","v":61},{"$f":"IFERROR(INDEX($C$2:$C$1024,MATCH(ROWS($E$2:E62),$E$2:$E$1024,0)),\"\")","v":"10000524 - BARCHESTER HEALTHCARE LIMITED"}]
[10000525,"BARFORD EDUCATION AND TRAINING (NORTH EAST) LIMITED","10000525 - BARFORD EDUCATION AND TRAINING (NORTH EAST) LIMITED",{"$f":"--ISNUMBER(IFERROR(SEARCH(ProviderTable!$B$3,C63,1),\"\"))","v":1},{"$f":"IF(D63=1,COUNTIF($D$2:D63,1),\"\")","v":62},{"$f":"IFERROR(INDEX($C$2:$C$1024,MATCH(ROWS($E$2:E63),$E$2:$E$1024,0)),\"\")","v":"10000525 - BARFORD EDUCATION AND TRAINING (NORTH EAST) LIMITED"}]
[10000143,"BARKING & DAGENHAM LONDON BOROUGH COUNCIL","10000143 - BARKING & DAGENHAM LONDON BOROUGH COUNCIL",{"$f":"--ISNUMBER(IFERROR(SEARCH(ProviderTable!$B$3,C64,1),\"\"))","v":1},{"$f":"IF(D64=1,COUNTIF($D$2:D64,1),\"\")","v":63},{"$f":"IFERROR(INDEX($C$2:$C$1024,MATCH(ROWS($E$2:E64),$E$2:$E$1024,0)),\"\")","v":"10000143 - BARKING & DAGENHAM LONDON BOROUGH COUNCIL"}]
[10000528,"BARKING AND DAGENHAM COLLEGE","10000528 - BARKING AND DAGENHAM COLLEGE",{"$f":"--ISNUMBER(IFERROR(SEARCH(ProviderTable!$B$3,C65,1),\"\"))","v":1},{"$f":"IF(D65=1,COUNTIF($D$2:D65,1),\"\")","v":64},{"$f":"IFERROR(INDEX($C$2:$C$1024,MATCH(ROWS($E$2:E65),$E$2:$E$1024,0)),\"\")","v":"10000528 - BARKING AND DAGENHAM COLLEGE"}]
[10000532,"BARNARDO'S","10000532 - BARNARDO'S",{"$f":"--ISNUMBER(IFERROR(SEARCH(ProviderTable!$B$3,C66,1),\"\"))","v":1},{"$f":"IF(D66=1,COUNTIF($D$2:D66,1),\"\")","v":65},{"$f":"IFERROR(INDEX($C$2:$C$1024,MATCH(ROWS($E$2:E66),$E$2:$E$1024,0)),\"\")","v":"10000532 - BARNARDO'S"}]
[10000533,"BARNET & SOUTHGATE COLLEGE",{"$f":"A67&\" - \"&B67","v":"10000533 - BARNET & SOUTHGATE COLLEGE"},{"$f":"--ISNUMBER(IFERROR(SEARCH(ProviderTable!$B$3,C67,1),\"\"))","v":1},{"$f":"IF(D67=1,COUNTIF($D$2:D67,1),\"\")","v":66},{"$f":"IFERROR(INDEX($C$2:$C$1024,MATCH(ROWS($E$2:E67),$E$2:$E$1024,0)),\"\")","v":"10000533 - BARNET & SOUTHGATE COLLEGE"}]
[10000534,"BARNFIELD COLLEGE","10000534 - BARNFIELD COLLEGE",{"$f":"--ISNUMBER(IFERROR(SEARCH(ProviderTable!$B$3,C68,1),\"\"))","v":1},{"$f":"IF(D68=1,COUNTIF($D$2:D68,1),\"\")","v":67},{"$f":"IFERROR(INDEX($C$2:$C$1024,MATCH(ROWS($E$2:E68),$E$2:$E$1024,0)),\"\")","v":"10000534 - BARNFIELD COLLEGE"}]
[10000536,"BARNSLEY COLLEGE","10000536 - BARNSLEY COLLEGE",{"$f":"--ISNUMBER(IFERROR(SEARCH(ProviderTable!$B$3,C69,1),\"\"))","v":1},{"$f":"IF(D69=1,COUNTIF($D$2:D69,1),\"\")","v":68},{"$f":"IFERROR(INDEX($C$2:$C$1024,MATCH(ROWS($E$2:E69),$E$2:$E$1024,0)),\"\")","v":"10000536 - BARNSLEY COLLEGE"}]
[10000538,"BARNSLEY METROPOLITAN BOROUGH COUNCIL","10000538 - BARNSLEY METROPOLITAN BOROUGH COUNCIL",{"$f":"--ISNUMBER(IFERROR(SEARCH(ProviderTable!$B$3,C70,1),\"\"))","v":1},{"$f":"IF(D70=1,COUNTIF($D$2:D70,1),\"\")","v":69},{"$f":"IFERROR(INDEX($C$2:$C$1024,MATCH(ROWS($E$2:E70),$E$2:$E$1024,0)),\"\")","v":"10000538 - BARNSLEY METROPOLITAN BOROUGH COUNCIL"}]
[10000546,"BARROW-IN-FURNESS SIXTH FORM COLLEGE","10000546 - BARROW-IN-FURNESS SIXTH FORM COLLEGE",{"$f":"--ISNUMBER(IFERROR(SEARCH(ProviderTable!$B$3,C71,1),\"\"))","v":1},{"$f":"IF(D71=1,COUNTIF($D$2:D71,1),\"\")","v":70},{"$f":"IFERROR(INDEX($C$2:$C$1024,MATCH(ROWS($E$2:E71),$E$2:$E$1024,0)),\"\")","v":"10000546 - BARROW-IN-FURNESS SIXTH FORM COLLEGE"}]
[10000552,"BARTON PEVERIL SIXTH FORM COLLEGE","10000552 - BARTON PEVERIL SIXTH FORM COLLEGE",{"$f":"--ISNUMBER(IFERROR(SEARCH(ProviderTable!$B$3,C72,1),\"\"))","v":1},{"$f":"IF(D72=1,COUNTIF($D$2:D72,1),\"\")","v":71},{"$f":"IFERROR(INDEX($C$2:$C$1024,MATCH(ROWS($E$2:E72),$E$2:$E$1024,0)),\"\")","v":"10000552 - BARTON PEVERIL SIXTH FORM COLLEGE"}]
[10000560,"BASINGSTOKE COLLEGE OF TECHNOLOGY","10000560 - BASINGSTOKE COLLEGE OF TECHNOLOGY",{"$f":"--ISNUMBER(IFERROR(SEARCH(ProviderTable!$B$3,C73,1),\"\"))","v":1},{"$f":"IF(D73=1,COUNTIF($D$2:D73,1),\"\")","v":72},{"$f":"IFERROR(INDEX($C$2:$C$1024,MATCH(ROWS($E$2:E73),$E$2:$E$1024,0)),\"\")","v":"10000560 - BASINGSTOKE COLLEGE OF TECHNOLOGY"}]
[10000561,"BASINGSTOKE YOUTH ACTION TRUST LIMITED","10000561 - BASINGSTOKE YOUTH ACTION TRUST LIMITED",{"$f":"--ISNUMBER(IFERROR(SEARCH(ProviderTable!$B$3,C74,1),\"\"))","v":1},{"$f":"IF(D74=1,COUNTIF($D$2:D74,1),\"\")","v":73},{"$f":"IFERROR(INDEX($C$2:$C$1024,MATCH(ROWS($E$2:E74),$E$2:$E$1024,0)),\"\")","v":"10000561 - BASINGSTOKE YOUTH ACTION TRUST LIMITED"}]
[10001465,"BATH COLLEGE","10001465 - BATH COLLEGE",{"$f":"--ISNUMBER(IFERROR(SEARCH(ProviderTable!$B$3,C75,1),\"\"))","v":1},{"$f":"IF(D75=1,COUNTIF($D$2:D75,1),\"\")","v":74},{"$f":"IFERROR(INDEX($C$2:$C$1024,MATCH(ROWS($E$2:E75),$E$2:$E$1024,0)),\"\")","v":"10001465 - BATH COLLEGE"}]
[10046797,"BC ARCH LIMITED","10046797 - BC ARCH LIMITED",{"$f":"--ISNUMBER(IFERROR(SEARCH(ProviderTable!$B$3,C76,1),\"\"))","v":1},{"$f":"IF(D76=1,COUNTIF($D$2:D76,1),\"\")","v":75},{"$f":"IFERROR(INDEX($C$2:$C$1024,MATCH(ROWS($E$2:E76),$E$2:$E$1024,0)),\"\")","v":"10046797 - BC ARCH LIMITED"}]
[10006600,"BCTG LIMITED","10006600 - BCTG LIMITED",{"$f":"--ISNUMBER(IFERROR(SEARCH(ProviderTable!$B$3,C77,1),\"\"))","v":1},{"$f":"IF(D77=1,COUNTIF($D$2:D77,1),\"\")","v":76},{"$f":"IFERROR(INDEX($C$2:$C$1024,MATCH(ROWS($E$2:E77),$E$2:$E$1024,0)),\"\")","v":"10006600 - BCTG LIMITED"}]
[10019227,"BE TOTALLY YOU","10019227 - BE TOTALLY YOU",{"$f":"--ISNUMBER(IFERROR(SEARCH(ProviderTable!$B$3,C78,1),\"\"))","v":1},{"$f":"IF(D78=1,COUNTIF($D$2:D78,1),\"\")","v":77},{"$f":"IFERROR(INDEX($C$2:$C$1024,MATCH(ROWS($E$2:E78),$E$2:$E$1024,0)),\"\")","v":"10019227 - BE TOTALLY YOU"}]
[10045359,"BE WISER INSURANCE SERVICES LTD","10045359 - BE WISER INSURANCE SERVICES LTD",{"$f":"--ISNUMBER(IFERROR(SEARCH(ProviderTable!$B$3,C79,1),\"\"))","v":1},{"$f":"IF(D79=1,COUNTIF($D$2:D79,1),\"\")","v":78},{"$f":"IFERROR(INDEX($C$2:$C$1024,MATCH(ROWS($E$2:E79),$E$2:$E$1024,0)),\"\")","v":"10045359 - BE WISER INSURANCE SERVICES LTD"}]
[10033608,"BEACON EDUCATION PARTNERSHIP LIMITED","10033608 - BEACON EDUCATION PARTNERSHIP LIMITED",{"$f":"--ISNUMBER(IFERROR(SEARCH(ProviderTable!$B$3,C80,1),\"\"))","v":1},{"$f":"IF(D80=1,COUNTIF($D$2:D80,1),\"\")","v":79},{"$f":"IFERROR(INDEX($C$2:$C$1024,MATCH(ROWS($E$2:E80),$E$2:$E$1024,0)),\"\")","v":"10033608 - BEACON EDUCATION PARTNERSHIP LIMITED"}]
[10000599,"BEAUMONT COLLEGE - A SCOPE COLLEGE","10000599 - BEAUMONT COLLEGE - A SCOPE COLLEGE",{"$f":"--ISNUMBER(IFERROR(SEARCH(ProviderTable!$B$3,C81,1),\"\"))","v":1},{"$f":"IF(D81=1,COUNTIF($D$2:D81,1),\"\")","v":80},{"$f":"IFERROR(INDEX($C$2:$C$1024,MATCH(ROWS($E$2:E81),$E$2:$E$1024,0)),\"\")","v":"10000599 - BEAUMONT COLLEGE - A SCOPE COLLEGE"}]
[10020123,"BECKETT CORPORATION LIMITED","10020123 - BECKETT CORPORATION LIMITED",{"$f":"--ISNUMBER(IFERROR(SEARCH(ProviderTable!$B$3,C82,1),\"\"))","v":1},{"$f":"IF(D82=1,COUNTIF($D$2:D82,1),\"\")","v":81},{"$f":"IFERROR(INDEX($C$2:$C$1024,MATCH(ROWS($E$2:E82),$E$2:$E$1024,0)),\"\")","v":"10020123 - BECKETT CORPORATION LIMITED"}]
[10000610,"BEDFORD COLLEGE","10000610 - BEDFORD COLLEGE",{"$f":"--ISNUMBER(IFERROR(SEARCH(ProviderTable!$B$3,C83,1),\"\"))","v":1},{"$f":"IF(D83=1,COUNTIF($D$2:D83,1),\"\")","v":82},{"$f":"IFERROR(INDEX($C$2:$C$1024,MATCH(ROWS($E$2:E83),$E$2:$E$1024,0)),\"\")","v":"10000610 - BEDFORD COLLEGE"}]
[10000612,"BEDFORDSHIRE & LUTON EDUCATION BUSINESS PARTNERSHIP","10000612 - BEDFORDSHIRE & LUTON EDUCATION BUSINESS PARTNERSHIP",{"$f":"--ISNUMBER(IFERROR(SEARCH(ProviderTable!$B$3,C84,1),\"\"))","v":1},{"$f":"IF(D84=1,COUNTIF($D$2:D84,1),\"\")","v":83},{"$f":"IFERROR(INDEX($C$2:$C$1024,MATCH(ROWS($E$2:E84),$E$2:$E$1024,0)),\"\")","v":"10000612 - BEDFORDSHIRE & LUTON EDUCATION BUSINESS PARTNERSHIP"}]
[10000631,"BELLIS TRAINING LIMITED","10000631 - BELLIS TRAINING LIMITED",{"$f":"--ISNUMBER(IFERROR(SEARCH(ProviderTable!$B$3,C85,1),\"\"))","v":1},{"$f":"IF(D85=1,COUNTIF($D$2:D85,1),\"\")","v":84},{"$f":"IFERROR(INDEX($C$2:$C$1024,MATCH(ROWS($E$2:E85),$E$2:$E$1024,0)),\"\")","v":"10000631 - BELLIS TRAINING LIMITED"}]
[10000654,"BERKSHIRE COLLEGE OF AGRICULTURE, THE (BCA)","10000654 - BERKSHIRE COLLEGE OF AGRICULTURE, THE (BCA)",{"$f":"--ISNUMBER(IFERROR(SEARCH(ProviderTable!$B$3,C86,1),\"\"))","v":1},{"$f":"IF(D86=1,COUNTIF($D$2:D86,1),\"\")","v":85},{"$f":"IFERROR(INDEX($C$2:$C$1024,MATCH(ROWS($E$2:E86),$E$2:$E$1024,0)),\"\")","v":"10000654 - BERKSHIRE COLLEGE OF AGRICULTURE, THE (BCA)"}]
[10018344,"BESTLAND SOLUTIONS LIMITED","10018344 - BESTLAND SOLUTIONS LIMITED",{"$f":"--ISNUMBER(IFERROR(SEARCH(ProviderTable!$B$3,C87,1),\"\"))","v":1},{"$f":"IF(D87=1,COUNTIF($D$2:D87,1),\"\")","v":86},{"$f":"IFERROR(INDEX($C$2:$C$1024,MATCH(ROWS($E$2:E87),$E$2:$E$1024,0)),\"\")","v":"10018344 - BESTLAND SOLUTIONS LIMITED"}]
[10000670,"BEXHILL COLLEGE","10000670 - BEXHILL COLLEGE",{"$f":"--ISNUMBER(IFERROR(SEARCH(ProviderTable!$B$3,C88,1),\"\"))","v":1},{"$f":"IF(D88=1,COUNTIF($D$2:D88,1),\"\")","v":87},{"$f":"IFERROR(INDEX($C$2:$C$1024,MATCH(ROWS($E$2:E88),$E$2:$E$1024,0)),\"\")","v":"10000670 - BEXHILL COLLEGE"}]
[10000671,"BEXLEY COLLEGE","10000671 - BEXLEY COLLEGE",{"$f":"--ISNUMBER(IFERROR(SEARCH(ProviderTable!$B$3,C89,1),\"\"))","v":1},{"$f":"IF(D89=1,COUNTIF($D$2:D89,1),\"\")","v":88},{"$f":"IFERROR(INDEX($C$2:$C$1024,MATCH(ROWS($E$2:E89),$E$2:$E$1024,0)),\"\")","v":"10000671 - BEXLEY COLLEGE"}]
[10000146,"BEXLEY LONDON BOROUGH COUNCIL","10000146 - BEXLEY LONDON BOROUGH COUNCIL",{"$f":"--ISNUMBER(IFERROR(SEARCH(ProviderTable!$B$3,C90,1),\"\"))","v":1},{"$f":"IF(D90=1,COUNTIF($D$2:D90,1),\"\")","v":89},{"$f":"IFERROR(INDEX($C$2:$C$1024,MATCH(ROWS($E$2:E90),$E$2:$E$1024,0)),\"\")","v":"10000146 - BEXLEY LONDON BOROUGH COUNCIL"}]
[10000673,"BEXLEY YOUTH TRAINING GROUP","10000673 - BEXLEY YOUTH TRAINING GROUP",{"$f":"--ISNUMBER(IFERROR(SEARCH(ProviderTable!$B$3,C91,1),\"\"))","v":1},{"$f":"IF(D91=1,COUNTIF($D$2:D91,1),\"\")","v":90},{"$f":"IFERROR(INDEX($C$2:$C$1024,MATCH(ROWS($E$2:E91),$E$2:$E$1024,0)),\"\")","v":"10000673 - BEXLEY YOUTH TRAINING GROUP"}]
[10019980,"BHS LIMITED","10019980 - BHS LIMITED",{"$f":"--ISNUMBER(IFERROR(SEARCH(ProviderTable!$B$3,C92,1),\"\"))","v":1},{"$f":"IF(D92=1,COUNTIF($D$2:D92,1),\"\")","v":91},{"$f":"IFERROR(INDEX($C$2:$C$1024,MATCH(ROWS($E$2:E92),$E$2:$E$1024,0)),\"\")","v":"10019980 - BHS LIMITED"}]
[10000683,"BICTON COLLEGE","10000683 - BICTON COLLEGE",{"$f":"--ISNUMBER(IFERROR(SEARCH(ProviderTable!$B$3,C93,1),\"\"))","v":1},{"$f":"IF(D93=1,COUNTIF($D$2:D93,1),\"\")","v":92},{"$f":"IFERROR(INDEX($C$2:$C$1024,MATCH(ROWS($E$2:E93),$E$2:$E$1024,0)),\"\")","v":"10000683 - BICTON COLLEGE"}]
[10046350,"BIG CREATIVE ACADEMY","10046350 - BIG CREATIVE ACADEMY",{"$f":"--ISNUMBER(IFERROR(SEARCH(ProviderTable!$B$3,C94,1),\"\"))","v":1},{"$f":"IF(D94=1,COUNTIF($D$2:D94,1),\"\")","v":93},{"$f":"IFERROR(INDEX($C$2:$C$1024,MATCH(ROWS($E$2:E94),$E$2:$E$1024,0)),\"\")","v":"10046350 - BIG CREATIVE ACADEMY"}]
[10002073,"BIG CREATIVE TRAINING LTD","10002073 - BIG CREATIVE TRAINING LTD",{"$f":"--ISNUMBER(IFERROR(SEARCH(ProviderTable!$B$3,C95,1),\"\"))","v":1},{"$f":"IF(D95=1,COUNTIF($D$2:D95,1),\"\")","v":94},{"$f":"IFERROR(INDEX($C$2:$C$1024,MATCH(ROWS($E$2:E95),$E$2:$E$1024,0)),\"\")","v":"10002073 - BIG CREATIVE TRAINING LTD"}]
[10000702,"BIRKENHEAD SIXTH FORM COLLEGE","10000702 - BIRKENHEAD SIXTH FORM COLLEGE",{"$f":"--ISNUMBER(IFERROR(SEARCH(ProviderTable!$B$3,C96,1),\"\"))","v":1},{"$f":"IF(D96=1,COUNTIF($D$2:D96,1),\"\")","v":95},{"$f":"IFERROR(INDEX($C$2:$C$1024,MATCH(ROWS($E$2:E96),$E$2:$E$1024,0)),\"\")","v":"10000702 - BIRKENHEAD SIXTH FORM COLLEGE"}]
[10000703,"BIRMINGHAM CITY COUNCIL","10000703 - BIRMINGHAM CITY COUNCIL",{"$f":"--ISNUMBER(IFERROR(SEARCH(ProviderTable!$B$3,C97,1),\"\"))","v":1},{"$f":"IF(D97=1,COUNTIF($D$2:D97,1),\"\")","v":96},{"$f":"IFERROR(INDEX($C$2:$C$1024,MATCH(ROWS($E$2:E97),$E$2:$E$1024,0)),\"\")","v":"10000703 - BIRMINGHAM CITY COUNCIL"}]
[10000715,"BIRMINGHAM ELECTRICAL TRAINING LTD","10000715 - BIRMINGHAM ELECTRICAL TRAINING LTD",{"$f":"--ISNUMBER(IFERROR(SEARCH(ProviderTable!$B$3,C98,1),\"\"))","v":1},{"$f":"IF(D98=1,COUNTIF($D$2:D98,1),\"\")","v":97},{"$f":"IFERROR(INDEX($C$2:$C$1024,MATCH(ROWS($E$2:E98),$E$2:$E$1024,0)),\"\")","v":"10000715 - BIRMINGHAM ELECTRICAL TRAINING LTD"}]
[10006442,"BIRMINGHAM METROPOLITAN COLLEGE","10006442 - BIRMINGHAM METROPOLITAN COLLEGE",{"$f":"--ISNUMBER(IFERROR(SEARCH(ProviderTable!$B$3,C99,1),\"\"))","v":1},{"$f":"IF(D99=1,COUNTIF($D$2:D99,1),\"\")","v":98},{"$f":"IFERROR(INDEX($C$2:$C$1024,MATCH(ROWS($E$2:E99),$E$2:$E$1024,0)),\"\")","v":"10006442 - BIRMINGHAM METROPOLITAN COLLEGE"}]
[10000720,"BISHOP AUCKLAND COLLEGE","10000720 - BISHOP AUCKLAND COLLEGE",{"$f":"--ISNUMBER(IFERROR(SEARCH(ProviderTable!$B$3,C100,1),\"\"))","v":1},{"$f":"IF(D100=1,COUNTIF($D$2:D100,1),\"\")","v":99},{"$f":"IFERROR(INDEX($C$2:$C$1024,MATCH(ROWS($E$2:E100),$E$2:$E$1024,0)),\"\")","v":"10000720 - BISHOP AUCKLAND COLLEGE"}]
[10000721,"BISHOP BURTON COLLEGE","10000721 - BISHOP BURTON COLLEGE",{"$f":"--ISNUMBER(IFERROR(SEARCH(ProviderTable!$B$3,C101,1),\"\"))","v":1},{"$f":"IF(D101=1,COUNTIF($D$2:D101,1),\"\")","v":100},{"$f":"IFERROR(INDEX($C$2:$C$1024,MATCH(ROWS($E$2:E101),$E$2:$E$1024,0)),\"\")","v":"10000721 - BISHOP BURTON COLLEGE"}]
[10000747,"BLACKBURN COLLEGE","10000747 - BLACKBURN COLLEGE",{"$f":"--ISNUMBER(IFERROR(SEARCH(ProviderTable!$B$3,C102,1),\"\"))","v":1},{"$f":"IF(D102=1,COUNTIF($D$2:D102,1),\"\")","v":101},{"$f":"IFERROR(INDEX($C$2:$C$1024,MATCH(ROWS($E$2:E102),$E$2:$E$1024,0)),\"\")","v":"10000747 - BLACKBURN COLLEGE"}]
[10000748,"BLACKBURN WITH DARWEN UNITARY AUTHORITY","10000748 - BLACKBURN WITH DARWEN UNITARY AUTHORITY",{"$f":"--ISNUMBER(IFERROR(SEARCH(ProviderTable!$B$3,C103,1),\"\"))","v":1},{"$f":"IF(D103=1,COUNTIF($D$2:D103,1),\"\")","v":102},{"$f":"IFERROR(INDEX($C$2:$C$1024,MATCH(ROWS($E$2:E103),$E$2:$E$1024,0)),\"\")","v":"10000748 - BLACKBURN WITH DARWEN UNITARY AUTHORITY"}]
[10000754,"BLACKPOOL AND THE FYLDE COLLEGE","10000754 - BLACKPOOL AND THE FYLDE COLLEGE",{"$f":"--ISNUMBER(IFERROR(SEARCH(ProviderTable!$B$3,C104,1),\"\"))","v":1},{"$f":"IF(D104=1,COUNTIF($D$2:D104,1),\"\")","v":103},{"$f":"IFERROR(INDEX($C$2:$C$1024,MATCH(ROWS($E$2:E104),$E$2:$E$1024,0)),\"\")","v":"10000754 - BLACKPOOL AND THE FYLDE COLLEGE"}]
[10000755,"BLACKPOOL UNITARY AUTHORITY","10000755 - BLACKPOOL UNITARY AUTHORITY",{"$f":"--ISNUMBER(IFERROR(SEARCH(ProviderTable!$B$3,C105,1),\"\"))","v":1},{"$f":"IF(D105=1,COUNTIF($D$2:D105,1),\"\")","v":104},{"$f":"IFERROR(INDEX($C$2:$C$1024,MATCH(ROWS($E$2:E105),$E$2:$E$1024,0)),\"\")","v":"10000755 - BLACKPOOL UNITARY AUTHORITY"}]
[10013208,"BLUE TRAINING (U.K.) LIMITED","10013208 - BLUE TRAINING (U.K.) LIMITED",{"$f":"--ISNUMBER(IFERROR(SEARCH(ProviderTable!$B$3,C106,1),\"\"))","v":1},{"$f":"IF(D106=1,COUNTIF($D$2:D106,1),\"\")","v":105},{"$f":"IFERROR(INDEX($C$2:$C$1024,MATCH(ROWS($E$2:E106),$E$2:$E$1024,0)),\"\")","v":"10013208 - BLUE TRAINING (U.K.) LIMITED"}]
[10000952,"BMC (BROOKSBY MELTON COLLEGE)","10000952 - BMC (BROOKSBY MELTON COLLEGE)",{"$f":"--ISNUMBER(IFERROR(SEARCH(ProviderTable!$B$3,C107,1),\"\"))","v":1},{"$f":"IF(D107=1,COUNTIF($D$2:D107,1),\"\")","v":106},{"$f":"IFERROR(INDEX($C$2:$C$1024,MATCH(ROWS($E$2:E107),$E$2:$E$1024,0)),\"\")","v":"10000952 - BMC (BROOKSBY MELTON COLLEGE)"}]
[10025267,"BOCK CONSULTANCY & PERSONNEL DEVELOPMENT LIMITED","10025267 - BOCK CONSULTANCY & PERSONNEL DEVELOPMENT LIMITED",{"$f":"--ISNUMBER(IFERROR(SEARCH(ProviderTable!$B$3,C108,1),\"\"))","v":1},{"$f":"IF(D108=1,COUNTIF($D$2:D108,1),\"\")","v":107},{"$f":"IFERROR(INDEX($C$2:$C$1024,MATCH(ROWS($E$2:E108),$E$2:$E$1024,0)),\"\")","v":"10025267 - BOCK CONSULTANCY & PERSONNEL DEVELOPMENT LIMITED"}]
[10000794,"BOLTON COLLEGE","10000794 - BOLTON COLLEGE",{"$f":"--ISNUMBER(IFERROR(SEARCH(ProviderTable!$B$3,C109,1),\"\"))","v":1},{"$f":"IF(D109=1,COUNTIF($D$2:D109,1),\"\")","v":108},{"$f":"IFERROR(INDEX($C$2:$C$1024,MATCH(ROWS($E$2:E109),$E$2:$E$1024,0)),\"\")","v":"10000794 - BOLTON COLLEGE"}]
[10000795,"BOLTON METROPOLITAN BOROUGH COUNCIL","10000795 - BOLTON METROPOLITAN BOROUGH COUNCIL",{"$f":"--ISNUMBER(IFERROR(SEARCH(ProviderTable!$B$3,C110,1),\"\"))","v":1},{"$f":"IF(D110=1,COUNTIF($D$2:D110,1),\"\")","v":109},{"$f":"IFERROR(INDEX($C$2:$C$1024,MATCH(ROWS($E$2:E110),$E$2:$E$1024,0)),\"\")","v":"10000795 - BOLTON METROPOLITAN BOROUGH COUNCIL"}]
[10028930,"BOOTS OPTICIANS PROFESSIONAL SERVICES LIMITED","10028930 - BOOTS OPTICIANS PROFESSIONAL SERVICES LIMITED",{"$f":"--ISNUMBER(IFERROR(SEARCH(ProviderTable!$B$3,C111,1),\"\"))","v":1},{"$f":"IF(D111=1,COUNTIF($D$2:D111,1),\"\")","v":110},{"$f":"IFERROR(INDEX($C$2:$C$1024,MATCH(ROWS($E$2:E111),$E$2:$E$1024,0)),\"\")","v":"10028930 - BOOTS OPTICIANS PROFESSIONAL SERVICES LIMITED"}]
[10005143,"BOROUGH OF POOLE","10005143 - BOROUGH OF POOLE",{"$f":"--ISNUMBER(IFERROR(SEARCH(ProviderTable!$B$3,C112,1),\"\"))","v":1},{"$f":"IF(D112=1,COUNTIF($D$2:D112,1),\"\")","v":111},{"$f":"IFERROR(INDEX($C$2:$C$1024,MATCH(ROWS($E$2:E112),$E$2:$E$1024,0)),\"\")","v":"10005143 - BOROUGH OF POOLE"}]
[10006547,"BOROUGH OF TELFORD AND WREKIN","10006547 - BOROUGH OF TELFORD AND WREKIN",{"$f":"--ISNUMBER(IFERROR(SEARCH(ProviderTable!$B$3,C113,1),\"\"))","v":1},{"$f":"IF(D113=1,COUNTIF($D$2:D113,1),\"\")","v":112},{"$f":"IFERROR(INDEX($C$2:$C$1024,MATCH(ROWS($E$2:E113),$E$2:$E$1024,0)),\"\")","v":"10006547 - BOROUGH OF TELFORD AND WREKIN"}]
[10042884,"BOSCH AUTOMOTIVE SERVICE SOLUTIONS LTD","10042884 - BOSCH AUTOMOTIVE SERVICE SOLUTIONS LTD",{"$f":"--ISNUMBER(IFERROR(SEARCH(ProviderTable!$B$3,C114,1),\"\"))","v":1},{"$f":"IF(D114=1,COUNTIF($D$2:D114,1),\"\")","v":113},{"$f":"IFERROR(INDEX($C$2:$C$1024,MATCH(ROWS($E$2:E114),$E$2:$E$1024,0)),\"\")","v":"10042884 - BOSCH AUTOMOTIVE SERVICE SOLUTIONS LTD"}]
[10000812,"BOSTON COLLEGE","10000812 - BOSTON COLLEGE",{"$f":"--ISNUMBER(IFERROR(SEARCH(ProviderTable!$B$3,C115,1),\"\"))","v":1},{"$f":"IF(D115=1,COUNTIF($D$2:D115,1),\"\")","v":114},{"$f":"IFERROR(INDEX($C$2:$C$1024,MATCH(ROWS($E$2:E115),$E$2:$E$1024,0)),\"\")","v":"10000812 - BOSTON COLLEGE"}]
[10000820,"BOURNEMOUTH AND POOLE COLLEGE, THE","10000820 - BOURNEMOUTH AND POOLE COLLEGE, THE",{"$f":"--ISNUMBER(IFERROR(SEARCH(ProviderTable!$B$3,C116,1),\"\"))","v":1},{"$f":"IF(D116=1,COUNTIF($D$2:D116,1),\"\")","v":115},{"$f":"IFERROR(INDEX($C$2:$C$1024,MATCH(ROWS($E$2:E116),$E$2:$E$1024,0)),\"\")","v":"10000820 - BOURNEMOUTH AND POOLE COLLEGE, THE"}]
[10000825,"BOURNVILLE COLLEGE","10000825 - BOURNVILLE COLLEGE",{"$f":"--ISNUMBER(IFERROR(SEARCH(ProviderTable!$B$3,C117,1),\"\"))","v":1},{"$f":"IF(D117=1,COUNTIF($D$2:D117,1),\"\")","v":116},{"$f":"IFERROR(INDEX($C$2:$C$1024,MATCH(ROWS($E$2:E117),$E$2:$E$1024,0)),\"\")","v":"10000825 - BOURNVILLE COLLEGE"}]
[10009975,"BOWLING COLLEGE","10009975 - BOWLING COLLEGE",{"$f":"--ISNUMBER(IFERROR(SEARCH(ProviderTable!$B$3,C118,1),\"\"))","v":1},{"$f":"IF(D118=1,COUNTIF($D$2:D118,1),\"\")","v":117},{"$f":"IFERROR(INDEX($C$2:$C$1024,MATCH(ROWS($E$2:E118),$E$2:$E$1024,0)),\"\")","v":"10009975 - BOWLING COLLEGE"}]
[10000831,"BPP HOLDINGS LIMITED","10000831 - BPP HOLDINGS LIMITED",{"$f":"--ISNUMBER(IFERROR(SEARCH(ProviderTable!$B$3,C119,1),\"\"))","v":1},{"$f":"IF(D119=1,COUNTIF($D$2:D119,1),\"\")","v":118},{"$f":"IFERROR(INDEX($C$2:$C$1024,MATCH(ROWS($E$2:E119),$E$2:$E$1024,0)),\"\")","v":"10000831 - BPP HOLDINGS LIMITED"}]
[10000833,"BRACKNELL AND WOKINGHAM COLLEGE","10000833 - BRACKNELL AND WOKINGHAM COLLEGE",{"$f":"--ISNUMBER(IFERROR(SEARCH(ProviderTable!$B$3,C120,1),\"\"))","v":1},{"$f":"IF(D120=1,COUNTIF($D$2:D120,1),\"\")","v":119},{"$f":"IFERROR(INDEX($C$2:$C$1024,MATCH(ROWS($E$2:E120),$E$2:$E$1024,0)),\"\")","v":"10000833 - BRACKNELL AND WOKINGHAM COLLEGE"}]
[10000834,"BRACKNELL FOREST BOROUGH COUNCIL","10000834 - BRACKNELL FOREST BOROUGH COUNCIL",{"$f":"--ISNUMBER(IFERROR(SEARCH(ProviderTable!$B$3,C121,1),\"\"))","v":1},{"$f":"IF(D121=1,COUNTIF($D$2:D121,1),\"\")","v":120},{"$f":"IFERROR(INDEX($C$2:$C$1024,MATCH(ROWS($E$2:E121),$E$2:$E$1024,0)),\"\")","v":"10000834 - BRACKNELL FOREST BOROUGH COUNCIL"}]
[10000850,"BRADFORD CITY COUNCIL","10000850 - BRADFORD CITY COUNCIL",{"$f":"--ISNUMBER(IFERROR(SEARCH(ProviderTable!$B$3,C122,1),\"\"))","v":1},{"$f":"IF(D122=1,COUNTIF($D$2:D122,1),\"\")","v":121},{"$f":"IFERROR(INDEX($C$2:$C$1024,MATCH(ROWS($E$2:E122),$E$2:$E$1024,0)),\"\")","v":"10000850 - BRADFORD CITY COUNCIL"}]
[10000840,"BRADFORD COLLEGE","10000840 - BRADFORD COLLEGE",{"$f":"--ISNUMBER(IFERROR(SEARCH(ProviderTable!$B$3,C123,1),\"\"))","v":1},{"$f":"IF(D123=1,COUNTIF($D$2:D123,1),\"\")","v":122},{"$f":"IFERROR(INDEX($C$2:$C$1024,MATCH(ROWS($E$2:E123),$E$2:$E$1024,0)),\"\")","v":"10000840 - BRADFORD COLLEGE"}]
[10000863,"BRENT LONDON BOROUGH COUNCIL","10000863 - BRENT LONDON BOROUGH COUNCIL",{"$f":"--ISNUMBER(IFERROR(SEARCH(ProviderTable!$B$3,C124,1),\"\"))","v":1},{"$f":"IF(D124=1,COUNTIF($D$2:D124,1),\"\")","v":123},{"$f":"IFERROR(INDEX($C$2:$C$1024,MATCH(ROWS($E$2:E124),$E$2:$E$1024,0)),\"\")","v":"10000863 - BRENT LONDON BOROUGH COUNCIL"}]
[10000872,"BRIDGE COLLEGE","10000872 - BRIDGE COLLEGE",{"$f":"--ISNUMBER(IFERROR(SEARCH(ProviderTable!$B$3,C125,1),\"\"))","v":1},{"$f":"IF(D125=1,COUNTIF($D$2:D125,1),\"\")","v":124},{"$f":"IFERROR(INDEX($C$2:$C$1024,MATCH(ROWS($E$2:E125),$E$2:$E$1024,0)),\"\")","v":"10000872 - BRIDGE COLLEGE"}]
[10000878,"BRIDGWATER COLLEGE","10000878 - BRIDGWATER COLLEGE",{"$f":"--ISNUMBER(IFERROR(SEARCH(ProviderTable!$B$3,C126,1),\"\"))","v":1},{"$f":"IF(D126=1,COUNTIF($D$2:D126,1),\"\")","v":125},{"$f":"IFERROR(INDEX($C$2:$C$1024,MATCH(ROWS($E$2:E126),$E$2:$E$1024,0)),\"\")","v":"10000878 - BRIDGWATER COLLEGE"}]
[10003609,"BRIGHT HORIZONS FAMILY SOLUTIONS LIMITED","10003609 - BRIGHT HORIZONS FAMILY SOLUTIONS LIMITED",{"$f":"--ISNUMBER(IFERROR(SEARCH(ProviderTable!$B$3,C127,1),\"\"))","v":1},{"$f":"IF(D127=1,COUNTIF($D$2:D127,1),\"\")","v":126},{"$f":"IFERROR(INDEX($C$2:$C$1024,MATCH(ROWS($E$2:E127),$E$2:$E$1024,0)),\"\")","v":"10003609 - BRIGHT HORIZONS FAMILY SOLUTIONS LIMITED"}]
[10000883,"BRIGHTON & HOVE CITY COUNCIL","10000883 - BRIGHTON & HOVE CITY COUNCIL",{"$f":"--ISNUMBER(IFERROR(SEARCH(ProviderTable!$B$3,C128,1),\"\"))","v":1},{"$f":"IF(D128=1,COUNTIF($D$2:D128,1),\"\")","v":127},{"$f":"IFERROR(INDEX($C$2:$C$1024,MATCH(ROWS($E$2:E128),$E$2:$E$1024,0)),\"\")","v":"10000883 - BRIGHTON & HOVE CITY COUNCIL"}]
[10000887,"BRIGHTON HOVE AND SUSSEX SIXTH FORM COLLEGE","10000887 - BRIGHTON HOVE AND SUSSEX SIXTH FORM COLLEGE",{"$f":"--ISNUMBER(IFERROR(SEARCH(ProviderTable!$B$3,C129,1),\"\"))","v":1},{"$f":"IF(D129=1,COUNTIF($D$2:D129,1),\"\")","v":128},{"$f":"IFERROR(INDEX($C$2:$C$1024,MATCH(ROWS($E$2:E129),$E$2:$E$1024,0)),\"\")","v":"10000887 - BRIGHTON HOVE AND SUSSEX SIXTH FORM COLLEGE"}]
[10022320,"BRINSWORTH TRAINING LIMITED","10022320 - BRINSWORTH TRAINING LIMITED",{"$f":"--ISNUMBER(IFERROR(SEARCH(ProviderTable!$B$3,C130,1),\"\"))","v":1},{"$f":"IF(D130=1,COUNTIF($D$2:D130,1),\"\")","v":129},{"$f":"IFERROR(INDEX($C$2:$C$1024,MATCH(ROWS($E$2:E130),$E$2:$E$1024,0)),\"\")","v":"10022320 - BRINSWORTH TRAINING LIMITED"}]
[10000896,"BRISTOL CITY COUNCIL",{"$f":"A131&\" - \"&B131","v":"10000896 - BRISTOL CITY COUNCIL"},{"$f":"--ISNUMBER(IFERROR(SEARCH(ProviderTable!$B$3,C131,1),\"\"))","v":1},{"$f":"IF(D131=1,COUNTIF($D$2:D131,1),\"\")","v":130},{"$f":"IFERROR(INDEX($C$2:$C$1024,MATCH(ROWS($E$2:E131),$E$2:$E$1024,0)),\"\")","v":"10000896 - BRISTOL CITY COUNCIL"}]
[10033440,"BRITISH ARMY","10033440 - BRITISH ARMY",{"$f":"--ISNUMBER(IFERROR(SEARCH(ProviderTable!$B$3,C132,1),\"\"))","v":1},{"$f":"IF(D132=1,COUNTIF($D$2:D132,1),\"\")","v":131},{"$f":"IFERROR(INDEX($C$2:$C$1024,MATCH(ROWS($E$2:E132),$E$2:$E$1024,0)),\"\")","v":"10033440 - BRITISH ARMY"}]
[10000915,"BRITISH GAS SERVICES LIMITED","10000915 - BRITISH GAS SERVICES LIMITED",{"$f":"--ISNUMBER(IFERROR(SEARCH(ProviderTable!$B$3,C133,1),\"\"))","v":1},{"$f":"IF(D133=1,COUNTIF($D$2:D133,1),\"\")","v":132},{"$f":"IFERROR(INDEX($C$2:$C$1024,MATCH(ROWS($E$2:E133),$E$2:$E$1024,0)),\"\")","v":"10000915 - BRITISH GAS SERVICES LIMITED"}]
[10000929,"BRITISH PRINTING INDUSTRIES FEDERATION LTD","10000929 - BRITISH PRINTING INDUSTRIES FEDERATION LTD",{"$f":"--ISNUMBER(IFERROR(SEARCH(ProviderTable!$B$3,C134,1),\"\"))","v":1},{"$f":"IF(D134=1,COUNTIF($D$2:D134,1),\"\")","v":133},{"$f":"IFERROR(INDEX($C$2:$C$1024,MATCH(ROWS($E$2:E134),$E$2:$E$1024,0)),\"\")","v":"10000929 - BRITISH PRINTING INDUSTRIES FEDERATION LTD"}]
[10027662,"BRITISH TELECOMMUNICATIONS PUBLIC LIMITED COMPANY","10027662 - BRITISH TELECOMMUNICATIONS PUBLIC LIMITED COMPANY",{"$f":"--ISNUMBER(IFERROR(SEARCH(ProviderTable!$B$3,C135,1),\"\"))","v":1},{"$f":"IF(D135=1,COUNTIF($D$2:D135,1),\"\")","v":134},{"$f":"IFERROR(INDEX($C$2:$C$1024,MATCH(ROWS($E$2:E135),$E$2:$E$1024,0)),\"\")","v":"10027662 - BRITISH TELECOMMUNICATIONS PUBLIC LIMITED COMPANY"}]
[10000941,"BROADLAND DISTRICT COUNCIL","10000941 - BROADLAND DISTRICT COUNCIL",{"$f":"--ISNUMBER(IFERROR(SEARCH(ProviderTable!$B$3,C136,1),\"\"))","v":1},{"$f":"IF(D136=1,COUNTIF($D$2:D136,1),\"\")","v":135},{"$f":"IFERROR(INDEX($C$2:$C$1024,MATCH(ROWS($E$2:E136),$E$2:$E$1024,0)),\"\")","v":"10000941 - BROADLAND DISTRICT COUNCIL"}]
[10000944,"BROCKENHURST COLLEGE","10000944 - BROCKENHURST COLLEGE",{"$f":"--ISNUMBER(IFERROR(SEARCH(ProviderTable!$B$3,C137,1),\"\"))","v":1},{"$f":"IF(D137=1,COUNTIF($D$2:D137,1),\"\")","v":136},{"$f":"IFERROR(INDEX($C$2:$C$1024,MATCH(ROWS($E$2:E137),$E$2:$E$1024,0)),\"\")","v":"10000944 - BROCKENHURST COLLEGE"}]
[10000948,"BROMLEY COLLEGE OF FURTHER AND HIGHER EDUCATION","10000948 - BROMLEY COLLEGE OF FURTHER AND HIGHER EDUCATION",{"$f":"--ISNUMBER(IFERROR(SEARCH(ProviderTable!$B$3,C138,1),\"\"))","v":1},{"$f":"IF(D138=1,COUNTIF($D$2:D138,1),\"\")","v":137},{"$f":"IFERROR(INDEX($C$2:$C$1024,MATCH(ROWS($E$2:E138),$E$2:$E$1024,0)),\"\")","v":"10000948 - BROMLEY COLLEGE OF FURTHER AND HIGHER EDUCATION"}]
[10003987,"BROMLEY LONDON BOROUGH COUNCIL","10003987 - BROMLEY LONDON BOROUGH COUNCIL",{"$f":"--ISNUMBER(IFERROR(SEARCH(ProviderTable!$B$3,C139,1),\"\"))","v":1},{"$f":"IF(D139=1,COUNTIF($D$2:D139,1),\"\")","v":138},{"$f":"IFERROR(INDEX($C$2:$C$1024,MATCH(ROWS($E$2:E139),$E$2:$E$1024,0)),\"\")","v":"10003987 - BROMLEY LONDON BOROUGH COUNCIL"}]
[10000950,"BROOKLANDS COLLEGE","10000950 - BROOKLANDS COLLEGE",{"$f":"--ISNUMBER(IFERROR(SEARCH(ProviderTable!$B$3,C140,1),\"\"))","v":1},{"$f":"IF(D140=1,COUNTIF($D$2:D140,1),\"\")","v":139},{"$f":"IFERROR(INDEX($C$2:$C$1024,MATCH(ROWS($E$2:E140),$E$2:$E$1024,0)),\"\")","v":"10000950 - BROOKLANDS COLLEGE"}]
[10039535,"BROOKS & KIRK LIMITED","10039535 - BROOKS & KIRK LIMITED",{"$f":"--ISNUMBER(IFERROR(SEARCH(ProviderTable!$B$3,C141,1),\"\"))","v":1},{"$f":"IF(D141=1,COUNTIF($D$2:D141,1),\"\")","v":140},{"$f":"IFERROR(INDEX($C$2:$C$1024,MATCH(ROWS($E$2:E141),$E$2:$E$1024,0)),\"\")","v":"10039535 - BROOKS & KIRK LIMITED"}]
[10048409,"BRS EDUCATION LIMITED","10048409 - BRS EDUCATION LIMITED",{"$f":"--ISNUMBER(IFERROR(SEARCH(ProviderTable!$B$3,C142,1),\"\"))","v":1},{"$f":"IF(D142=1,COUNTIF($D$2:D142,1),\"\")","v":141},{"$f":"IFERROR(INDEX($C$2:$C$1024,MATCH(ROWS($E$2:E142),$E$2:$E$1024,0)),\"\")","v":"10048409 - BRS EDUCATION LIMITED"}]
[10000488,"B-SKILL LIMITED","10000488 - B-SKILL LIMITED",{"$f":"--ISNUMBER(IFERROR(SEARCH(ProviderTable!$B$3,C143,1),\"\"))","v":1},{"$f":"IF(D143=1,COUNTIF($D$2:D143,1),\"\")","v":142},{"$f":"IFERROR(INDEX($C$2:$C$1024,MATCH(ROWS($E$2:E143),$E$2:$E$1024,0)),\"\")","v":"10000488 - B-SKILL LIMITED"}]
[10000976,"BUCKINGHAMSHIRE COUNTY COUNCIL","10000976 - BUCKINGHAMSHIRE COUNTY COUNCIL",{"$f":"--ISNUMBER(IFERROR(SEARCH(ProviderTable!$B$3,C144,1),\"\"))","v":1},{"$f":"IF(D144=1,COUNTIF($D$2:D144,1),\"\")","v":143},{"$f":"IFERROR(INDEX($C$2:$C$1024,MATCH(ROWS($E$2:E144),$E$2:$E$1024,0)),\"\")","v":"10000976 - BUCKINGHAMSHIRE COUNTY COUNCIL"}]
[10009063,"BUILDING CRAFTS COLLEGE","10009063 - BUILDING CRAFTS COLLEGE",{"$f":"--ISNUMBER(IFERROR(SEARCH(ProviderTable!$B$3,C145,1),\"\"))","v":1},{"$f":"IF(D145=1,COUNTIF($D$2:D145,1),\"\")","v":144},{"$f":"IFERROR(INDEX($C$2:$C$1024,MATCH(ROWS($E$2:E145),$E$2:$E$1024,0)),\"\")","v":"10009063 - BUILDING CRAFTS COLLEGE"}]
[10000984,"BUILDING ENGINEERING SERVICES TRAINING LIMITED","10000984 - BUILDING ENGINEERING SERVICES TRAINING LIMITED",{"$f":"--ISNUMBER(IFERROR(SEARCH(ProviderTable!$B$3,C146,1),\"\"))","v":1},{"$f":"IF(D146=1,COUNTIF($D$2:D146,1),\"\")","v":145},{"$f":"IFERROR(INDEX($C$2:$C$1024,MATCH(ROWS($E$2:E146),$E$2:$E$1024,0)),\"\")","v":"10000984 - BUILDING ENGINEERING SERVICES TRAINING LIMITED"}]
[10001000,"BURNLEY COLLEGE","10001000 - BURNLEY COLLEGE",{"$f":"--ISNUMBER(IFERROR(SEARCH(ProviderTable!$B$3,C147,1),\"\"))","v":1},{"$f":"IF(D147=1,COUNTIF($D$2:D147,1),\"\")","v":146},{"$f":"IFERROR(INDEX($C$2:$C$1024,MATCH(ROWS($E$2:E147),$E$2:$E$1024,0)),\"\")","v":"10001000 - BURNLEY COLLEGE"}]
[10001004,"BURTON AND SOUTH DERBYSHIRE COLLEGE","10001004 - BURTON AND SOUTH DERBYSHIRE COLLEGE",{"$f":"--ISNUMBER(IFERROR(SEARCH(ProviderTable!$B$3,C148,1),\"\"))","v":1},{"$f":"IF(D148=1,COUNTIF($D$2:D148,1),\"\")","v":147},{"$f":"IFERROR(INDEX($C$2:$C$1024,MATCH(ROWS($E$2:E148),$E$2:$E$1024,0)),\"\")","v":"10001004 - BURTON AND SOUTH DERBYSHIRE COLLEGE"}]
[10001005,"BURY COLLEGE","10001005 - BURY COLLEGE",{"$f":"--ISNUMBER(IFERROR(SEARCH(ProviderTable!$B$3,C149,1),\"\"))","v":1},{"$f":"IF(D149=1,COUNTIF($D$2:D149,1),\"\")","v":148},{"$f":"IFERROR(INDEX($C$2:$C$1024,MATCH(ROWS($E$2:E149),$E$2:$E$1024,0)),\"\")","v":"10001005 - BURY COLLEGE"}]
[10001008,"BURY METROPOLITAN BOROUGH COUNCIL","10001008 - BURY METROPOLITAN BOROUGH COUNCIL",{"$f":"--ISNUMBER(IFERROR(SEARCH(ProviderTable!$B$3,C150,1),\"\"))","v":1},{"$f":"IF(D150=1,COUNTIF($D$2:D150,1),\"\")","v":149},{"$f":"IFERROR(INDEX($C$2:$C$1024,MATCH(ROWS($E$2:E150),$E$2:$E$1024,0)),\"\")","v":"10001008 - BURY METROPOLITAN BOROUGH COUNCIL"}]
[10023403,"BUSINESS IMPACT UK LIMITED","10023403 - BUSINESS IMPACT UK LIMITED",{"$f":"--ISNUMBER(IFERROR(SEARCH(ProviderTable!$B$3,C151,1),\"\"))","v":1},{"$f":"IF(D151=1,COUNTIF($D$2:D151,1),\"\")","v":150},{"$f":"IFERROR(INDEX($C$2:$C$1024,MATCH(ROWS($E$2:E151),$E$2:$E$1024,0)),\"\")","v":"10023403 - BUSINESS IMPACT UK LIMITED"}]
[10001055,"BUSINESS MANAGEMENT RESOURCES (UK) LTD","10001055 - BUSINESS MANAGEMENT RESOURCES (UK) LTD",{"$f":"--ISNUMBER(IFERROR(SEARCH(ProviderTable!$B$3,C152,1),\"\"))","v":1},{"$f":"IF(D152=1,COUNTIF($D$2:D152,1),\"\")","v":151},{"$f":"IFERROR(INDEX($C$2:$C$1024,MATCH(ROWS($E$2:E152),$E$2:$E$1024,0)),\"\")","v":"10001055 - BUSINESS MANAGEMENT RESOURCES (UK) LTD"}]
[10030637,"BUSY BEES NURSERIES LIMITED","10030637 - BUSY BEES NURSERIES LIMITED",{"$f":"--ISNUMBER(IFERROR(SEARCH(ProviderTable!$B$3,C153,1),\"\"))","v":1},{"$f":"IF(D153=1,COUNTIF($D$2:D153,1),\"\")","v":152},{"$f":"IFERROR(INDEX($C$2:$C$1024,MATCH(ROWS($E$2:E153),$E$2:$E$1024,0)),\"\")","v":"10030637 - BUSY BEES NURSERIES LIMITED"}]
[10008135,"BUZZ LEARNING LIMITED","10008135 - BUZZ LEARNING LIMITED",{"$f":"--ISNUMBER(IFERROR(SEARCH(ProviderTable!$B$3,C154,1),\"\"))","v":1},{"$f":"IF(D154=1,COUNTIF($D$2:D154,1),\"\")","v":153},{"$f":"IFERROR(INDEX($C$2:$C$1024,MATCH(ROWS($E$2:E154),$E$2:$E$1024,0)),\"\")","v":"10008135 - BUZZ LEARNING LIMITED"}]
[10001078,"CABLECOM TRAINING LIMITED","10001078 - CABLECOM TRAINING LIMITED",{"$f":"--ISNUMBER(IFERROR(SEARCH(ProviderTable!$B$3,C155,1),\"\"))","v":1},{"$f":"IF(D155=1,COUNTIF($D$2:D155,1),\"\")","v":154},{"$f":"IFERROR(INDEX($C$2:$C$1024,MATCH(ROWS($E$2:E155),$E$2:$E$1024,0)),\"\")","v":"10001078 - CABLECOM TRAINING LIMITED"}]
[10001093,"CALDERDALE COLLEGE","10001093 - CALDERDALE COLLEGE",{"$f":"--ISNUMBER(IFERROR(SEARCH(ProviderTable!$B$3,C156,1),\"\"))","v":1},{"$f":"IF(D156=1,COUNTIF($D$2:D156,1),\"\")","v":155},{"$f":"IFERROR(INDEX($C$2:$C$1024,MATCH(ROWS($E$2:E156),$E$2:$E$1024,0)),\"\")","v":"10001093 - CALDERDALE COLLEGE"}]
[10001094,"CALDERDALE METROPOLITAN BOROUGH COUNCIL","10001094 - CALDERDALE METROPOLITAN BOROUGH COUNCIL",{"$f":"--ISNUMBER(IFERROR(SEARCH(ProviderTable!$B$3,C157,1),\"\"))","v":1},{"$f":"IF(D157=1,COUNTIF($D$2:D157,1),\"\")","v":156},{"$f":"IFERROR(INDEX($C$2:$C$1024,MATCH(ROWS($E$2:E157),$E$2:$E$1024,0)),\"\")","v":"10001094 - CALDERDALE METROPOLITAN BOROUGH COUNCIL"}]
[10012822,"CAMBIAN DILSTON COLLEGE","10012822 - CAMBIAN DILSTON COLLEGE",{"$f":"--ISNUMBER(IFERROR(SEARCH(ProviderTable!$B$3,C158,1),\"\"))","v":1},{"$f":"IF(D158=1,COUNTIF($D$2:D158,1),\"\")","v":157},{"$f":"IFERROR(INDEX($C$2:$C$1024,MATCH(ROWS($E$2:E158),$E$2:$E$1024,0)),\"\")","v":"10012822 - CAMBIAN DILSTON COLLEGE"}]
[10012804,"CAMBIAN LUFTON COLLEGE","10012804 - CAMBIAN LUFTON COLLEGE",{"$f":"--ISNUMBER(IFERROR(SEARCH(ProviderTable!$B$3,C159,1),\"\"))","v":1},{"$f":"IF(D159=1,COUNTIF($D$2:D159,1),\"\")","v":158},{"$f":"IFERROR(INDEX($C$2:$C$1024,MATCH(ROWS($E$2:E159),$E$2:$E$1024,0)),\"\")","v":"10012804 - CAMBIAN LUFTON COLLEGE"}]
[10001116,"CAMBRIDGE REGIONAL COLLEGE","10001116 - CAMBRIDGE REGIONAL COLLEGE",{"$f":"--ISNUMBER(IFERROR(SEARCH(ProviderTable!$B$3,C160,1),\"\"))","v":1},{"$f":"IF(D160=1,COUNTIF($D$2:D160,1),\"\")","v":159},{"$f":"IFERROR(INDEX($C$2:$C$1024,MATCH(ROWS($E$2:E160),$E$2:$E$1024,0)),\"\")","v":"10001116 - CAMBRIDGE REGIONAL COLLEGE"}]
[10001123,"CAMBRIDGESHIRE COUNTY COUNCIL","10001123 - CAMBRIDGESHIRE COUNTY COUNCIL",{"$f":"--ISNUMBER(IFERROR(SEARCH(ProviderTable!$B$3,C161,1),\"\"))","v":1},{"$f":"IF(D161=1,COUNTIF($D$2:D161,1),\"\")","v":160},{"$f":"IFERROR(INDEX($C$2:$C$1024,MATCH(ROWS($E$2:E161),$E$2:$E$1024,0)),\"\")","v":"10001123 - CAMBRIDGESHIRE COUNTY COUNCIL"}]
[10003988,"CAMDEN LONDON BOROUGH COUNCIL","10003988 - CAMDEN LONDON BOROUGH COUNCIL",{"$f":"--ISNUMBER(IFERROR(SEARCH(ProviderTable!$B$3,C162,1),\"\"))","v":1},{"$f":"IF(D162=1,COUNTIF($D$2:D162,1),\"\")","v":161},{"$f":"IFERROR(INDEX($C$2:$C$1024,MATCH(ROWS($E$2:E162),$E$2:$E$1024,0)),\"\")","v":"10003988 - CAMDEN LONDON BOROUGH COUNCIL"}]
[10001144,"CANTERBURY COLLEGE","10001144 - CANTERBURY COLLEGE",{"$f":"--ISNUMBER(IFERROR(SEARCH(ProviderTable!$B$3,C163,1),\"\"))","v":1},{"$f":"IF(D163=1,COUNTIF($D$2:D163,1),\"\")","v":162},{"$f":"IFERROR(INDEX($C$2:$C$1024,MATCH(ROWS($E$2:E163),$E$2:$E$1024,0)),\"\")","v":"10001144 - CANTERBURY COLLEGE"}]
[10001145,"CANTO LIMITED","10001145 - CANTO LIMITED",{"$f":"--ISNUMBER(IFERROR(SEARCH(ProviderTable!$B$3,C164,1),\"\"))","v":1},{"$f":"IF(D164=1,COUNTIF($D$2:D164,1),\"\")","v":163},{"$f":"IFERROR(INDEX($C$2:$C$1024,MATCH(ROWS($E$2:E164),$E$2:$E$1024,0)),\"\")","v":"10001145 - CANTO LIMITED"}]
[10001148,"CAPEL MANOR COLLEGE","10001148 - CAPEL MANOR COLLEGE",{"$f":"--ISNUMBER(IFERROR(SEARCH(ProviderTable!$B$3,C165,1),\"\"))","v":1},{"$f":"IF(D165=1,COUNTIF($D$2:D165,1),\"\")","v":164},{"$f":"IFERROR(INDEX($C$2:$C$1024,MATCH(ROWS($E$2:E165),$E$2:$E$1024,0)),\"\")","v":"10001148 - CAPEL MANOR COLLEGE"}]
[10001149,"CAPITA PLC","10001149 - CAPITA PLC",{"$f":"--ISNUMBER(IFERROR(SEARCH(ProviderTable!$B$3,C166,1),\"\"))","v":1},{"$f":"IF(D166=1,COUNTIF($D$2:D166,1),\"\")","v":165},{"$f":"IFERROR(INDEX($C$2:$C$1024,MATCH(ROWS($E$2:E166),$E$2:$E$1024,0)),\"\")","v":"10001149 - CAPITA PLC"}]
[10022461,"CAPITAL ENGINEERING GROUP HOLDINGS LTD","10022461 - CAPITAL ENGINEERING GROUP HOLDINGS LTD",{"$f":"--ISNUMBER(IFERROR(SEARCH(ProviderTable!$B$3,C167,1),\"\"))","v":1},{"$f":"IF(D167=1,COUNTIF($D$2:D167,1),\"\")","v":166},{"$f":"IFERROR(INDEX($C$2:$C$1024,MATCH(ROWS($E$2:E167),$E$2:$E$1024,0)),\"\")","v":"10022461 - CAPITAL ENGINEERING GROUP HOLDINGS LTD"}]
[10001165,"CARDINAL NEWMAN COLLEGE","10001165 - CARDINAL NEWMAN COLLEGE",{"$f":"--ISNUMBER(IFERROR(SEARCH(ProviderTable!$B$3,C168,1),\"\"))","v":1},{"$f":"IF(D168=1,COUNTIF($D$2:D168,1),\"\")","v":167},{"$f":"IFERROR(INDEX($C$2:$C$1024,MATCH(ROWS($E$2:E168),$E$2:$E$1024,0)),\"\")","v":"10001165 - CARDINAL NEWMAN COLLEGE"}]
[10001177,"CAREER DEVELOPMENT CENTER LIMITED","10001177 - CAREER DEVELOPMENT CENTER LIMITED",{"$f":"--ISNUMBER(IFERROR(SEARCH(ProviderTable!$B$3,C169,1),\"\"))","v":1},{"$f":"IF(D169=1,COUNTIF($D$2:D169,1),\"\")","v":168},{"$f":"IFERROR(INDEX($C$2:$C$1024,MATCH(ROWS($E$2:E169),$E$2:$E$1024,0)),\"\")","v":"10001177 - CAREER DEVELOPMENT CENTER LIMITED"}]
[10001193,"CARILLION CONSTRUCTION LIMITED","10001193 - CARILLION CONSTRUCTION LIMITED",{"$f":"--ISNUMBER(IFERROR(SEARCH(ProviderTable!$B$3,C170,1),\"\"))","v":1},{"$f":"IF(D170=1,COUNTIF($D$2:D170,1),\"\")","v":169},{"$f":"IFERROR(INDEX($C$2:$C$1024,MATCH(ROWS($E$2:E170),$E$2:$E$1024,0)),\"\")","v":"10001193 - CARILLION CONSTRUCTION LIMITED"}]
[10001196,"CARLISLE COLLEGE","10001196 - CARLISLE COLLEGE",{"$f":"--ISNUMBER(IFERROR(SEARCH(ProviderTable!$B$3,C171,1),\"\"))","v":1},{"$f":"IF(D171=1,COUNTIF($D$2:D171,1),\"\")","v":170},{"$f":"IFERROR(INDEX($C$2:$C$1024,MATCH(ROWS($E$2:E171),$E$2:$E$1024,0)),\"\")","v":"10001196 - CARLISLE COLLEGE"}]
[10001207,"CARSHALTON COLLEGE","10001207 - CARSHALTON COLLEGE",{"$f":"--ISNUMBER(IFERROR(SEARCH(ProviderTable!$B$3,C172,1),\"\"))","v":1},{"$f":"IF(D172=1,COUNTIF($D$2:D172,1),\"\")","v":171},{"$f":"IFERROR(INDEX($C$2:$C$1024,MATCH(ROWS($E$2:E172),$E$2:$E$1024,0)),\"\")","v":"10001207 - CARSHALTON COLLEGE"}]
[10025727,"CATCH 22 CHARITY LIMITED","10025727 - CATCH 22 CHARITY LIMITED",{"$f":"--ISNUMBER(IFERROR(SEARCH(ProviderTable!$B$3,C173,1),\"\"))","v":1},{"$f":"IF(D173=1,COUNTIF($D$2:D173,1),\"\")","v":172},{"$f":"IFERROR(INDEX($C$2:$C$1024,MATCH(ROWS($E$2:E173),$E$2:$E$1024,0)),\"\")","v":"10025727 - CATCH 22 CHARITY LIMITED"}]
[10002061,"CENTRAL BEDFORDSHIRE COLLEGE","10002061 - CENTRAL BEDFORDSHIRE COLLEGE",{"$f":"--ISNUMBER(IFERROR(SEARCH(ProviderTable!$B$3,C174,1),\"\"))","v":1},{"$f":"IF(D174=1,COUNTIF($D$2:D174,1),\"\")","v":173},{"$f":"IFERROR(INDEX($C$2:$C$1024,MATCH(ROWS($E$2:E174),$E$2:$E$1024,0)),\"\")","v":"10002061 - CENTRAL BEDFORDSHIRE COLLEGE"}]
[10024292,"CENTRAL BEDFORDSHIRE COUNCIL","10024292 - CENTRAL BEDFORDSHIRE COUNCIL",{"$f":"--ISNUMBER(IFERROR(SEARCH(ProviderTable!$B$3,C175,1),\"\"))","v":1},{"$f":"IF(D175=1,COUNTIF($D$2:D175,1),\"\")","v":174},{"$f":"IFERROR(INDEX($C$2:$C$1024,MATCH(ROWS($E$2:E175),$E$2:$E$1024,0)),\"\")","v":"10024292 - CENTRAL BEDFORDSHIRE COUNCIL"}]
[10005991,"CENTRAL COLLEGE NOTTINGHAM","10005991 - CENTRAL COLLEGE NOTTINGHAM",{"$f":"--ISNUMBER(IFERROR(SEARCH(ProviderTable!$B$3,C176,1),\"\"))","v":1},{"$f":"IF(D176=1,COUNTIF($D$2:D176,1),\"\")","v":175},{"$f":"IFERROR(INDEX($C$2:$C$1024,MATCH(ROWS($E$2:E176),$E$2:$E$1024,0)),\"\")","v":"10005991 - CENTRAL COLLEGE NOTTINGHAM"}]
[10001744,"CENTRAL SUSSEX COLLEGE","10001744 - CENTRAL SUSSEX COLLEGE",{"$f":"--ISNUMBER(IFERROR(SEARCH(ProviderTable!$B$3,C177,1),\"\"))","v":1},{"$f":"IF(D177=1,COUNTIF($D$2:D177,1),\"\")","v":176},{"$f":"IFERROR(INDEX($C$2:$C$1024,MATCH(ROWS($E$2:E177),$E$2:$E$1024,0)),\"\")","v":"10001744 - CENTRAL SUSSEX COLLEGE"}]
[10001259,"CENTRAL TRAINING ACADEMY LIMITED","10001259 - CENTRAL TRAINING ACADEMY LIMITED",{"$f":"--ISNUMBER(IFERROR(SEARCH(ProviderTable!$B$3,C178,1),\"\"))","v":1},{"$f":"IF(D178=1,COUNTIF($D$2:D178,1),\"\")","v":177},{"$f":"IFERROR(INDEX($C$2:$C$1024,MATCH(ROWS($E$2:E178),$E$2:$E$1024,0)),\"\")","v":"10001259 - CENTRAL TRAINING ACADEMY LIMITED"}]
[10001310,"CHAMBER TRAINING (HUMBER) LIMITED","10001310 - CHAMBER TRAINING (HUMBER) LIMITED",{"$f":"--ISNUMBER(IFERROR(SEARCH(ProviderTable!$B$3,C179,1),\"\"))","v":1},{"$f":"IF(D179=1,COUNTIF($D$2:D179,1),\"\")","v":178},{"$f":"IFERROR(INDEX($C$2:$C$1024,MATCH(ROWS($E$2:E179),$E$2:$E$1024,0)),\"\")","v":"10001310 - CHAMBER TRAINING (HUMBER) LIMITED"}]
[10024603,"CHAPMAN BENNETT ASSOCIATES LIMITED","10024603 - CHAPMAN BENNETT ASSOCIATES LIMITED",{"$f":"--ISNUMBER(IFERROR(SEARCH(ProviderTable!$B$3,C180,1),\"\"))","v":1},{"$f":"IF(D180=1,COUNTIF($D$2:D180,1),\"\")","v":179},{"$f":"IFERROR(INDEX($C$2:$C$1024,MATCH(ROWS($E$2:E180),$E$2:$E$1024,0)),\"\")","v":"10024603 - CHAPMAN BENNETT ASSOCIATES LIMITED"}]
[10001326,"CHARNWOOD TRAINING GROUP LIMITED","10001326 - CHARNWOOD TRAINING GROUP LIMITED",{"$f":"--ISNUMBER(IFERROR(SEARCH(ProviderTable!$B$3,C181,1),\"\"))","v":1},{"$f":"IF(D181=1,COUNTIF($D$2:D181,1),\"\")","v":180},{"$f":"IFERROR(INDEX($C$2:$C$1024,MATCH(ROWS($E$2:E181),$E$2:$E$1024,0)),\"\")","v":"10001326 - CHARNWOOD TRAINING GROUP LIMITED"}]
[10001346,"CHEADLE AND MARPLE SIXTH FORM COLLEGE","10001346 - CHEADLE AND MARPLE SIXTH FORM COLLEGE",{"$f":"--ISNUMBER(IFERROR(SEARCH(ProviderTable!$B$3,C182,1),\"\"))","v":1},{"$f":"IF(D182=1,COUNTIF($D$2:D182,1),\"\")","v":181},{"$f":"IFERROR(INDEX($C$2:$C$1024,MATCH(ROWS($E$2:E182),$E$2:$E$1024,0)),\"\")","v":"10001346 - CHEADLE AND MARPLE SIXTH FORM COLLEGE"}]
[10001353,"CHELMSFORD COLLEGE","10001353 - CHELMSFORD COLLEGE",{"$f":"--ISNUMBER(IFERROR(SEARCH(ProviderTable!$B$3,C183,1),\"\"))","v":1},{"$f":"IF(D183=1,COUNTIF($D$2:D183,1),\"\")","v":182},{"$f":"IFERROR(INDEX($C$2:$C$1024,MATCH(ROWS($E$2:E183),$E$2:$E$1024,0)),\"\")","v":"10001353 - CHELMSFORD COLLEGE"}]
[10024293,"CHESHIRE EAST COUNCIL","10024293 - CHESHIRE EAST COUNCIL",{"$f":"--ISNUMBER(IFERROR(SEARCH(ProviderTable!$B$3,C184,1),\"\"))","v":1},{"$f":"IF(D184=1,COUNTIF($D$2:D184,1),\"\")","v":183},{"$f":"IFERROR(INDEX($C$2:$C$1024,MATCH(ROWS($E$2:E184),$E$2:$E$1024,0)),\"\")","v":"10024293 - CHESHIRE EAST COUNCIL"}]
[10024294,"CHESHIRE WEST AND CHESTER COUNCIL","10024294 - CHESHIRE WEST AND CHESTER COUNCIL",{"$f":"--ISNUMBER(IFERROR(SEARCH(ProviderTable!$B$3,C185,1),\"\"))","v":1},{"$f":"IF(D185=1,COUNTIF($D$2:D185,1),\"\")","v":184},{"$f":"IFERROR(INDEX($C$2:$C$1024,MATCH(ROWS($E$2:E185),$E$2:$E$1024,0)),\"\")","v":"10024294 - CHESHIRE WEST AND CHESTER COUNCIL"}]
[10001378,"CHESTERFIELD COLLEGE","10001378 - CHESTERFIELD COLLEGE",{"$f":"--ISNUMBER(IFERROR(SEARCH(ProviderTable!$B$3,C186,1),\"\"))","v":1},{"$f":"IF(D186=1,COUNTIF($D$2:D186,1),\"\")","v":185},{"$f":"IFERROR(INDEX($C$2:$C$1024,MATCH(ROWS($E$2:E186),$E$2:$E$1024,0)),\"\")","v":"10001378 - CHESTERFIELD COLLEGE"}]
[10008159,"CHEYNE'S (MANAGEMENT) LIMITED","10008159 - CHEYNE'S (MANAGEMENT) LIMITED",{"$f":"--ISNUMBER(IFERROR(SEARCH(ProviderTable!$B$3,C187,1),\"\"))","v":1},{"$f":"IF(D187=1,COUNTIF($D$2:D187,1),\"\")","v":186},{"$f":"IFERROR(INDEX($C$2:$C$1024,MATCH(ROWS($E$2:E187),$E$2:$E$1024,0)),\"\")","v":"10008159 - CHEYNE'S (MANAGEMENT) LIMITED"}]
[10007817,"CHICHESTER COLLEGE","10007817 - CHICHESTER COLLEGE",{"$f":"--ISNUMBER(IFERROR(SEARCH(ProviderTable!$B$3,C188,1),\"\"))","v":1},{"$f":"IF(D188=1,COUNTIF($D$2:D188,1),\"\")","v":187},{"$f":"IFERROR(INDEX($C$2:$C$1024,MATCH(ROWS($E$2:E188),$E$2:$E$1024,0)),\"\")","v":"10007817 - CHICHESTER COLLEGE"}]
[10001392,"CHILDREN'S LINKS","10001392 - CHILDREN'S LINKS",{"$f":"--ISNUMBER(IFERROR(SEARCH(ProviderTable!$B$3,C189,1),\"\"))","v":1},{"$f":"IF(D189=1,COUNTIF($D$2:D189,1),\"\")","v":188},{"$f":"IFERROR(INDEX($C$2:$C$1024,MATCH(ROWS($E$2:E189),$E$2:$E$1024,0)),\"\")","v":"10001392 - CHILDREN'S LINKS"}]
[10001394,"CHILTERN TRAINING LIMITED","10001394 - CHILTERN TRAINING LIMITED",{"$f":"--ISNUMBER(IFERROR(SEARCH(ProviderTable!$B$3,C190,1),\"\"))","v":1},{"$f":"IF(D190=1,COUNTIF($D$2:D190,1),\"\")","v":189},{"$f":"IFERROR(INDEX($C$2:$C$1024,MATCH(ROWS($E$2:E190),$E$2:$E$1024,0)),\"\")","v":"10001394 - CHILTERN TRAINING LIMITED"}]
[10001405,"CHOICES 4 ALL","10001405 - CHOICES 4 ALL",{"$f":"--ISNUMBER(IFERROR(SEARCH(ProviderTable!$B$3,C191,1),\"\"))","v":1},{"$f":"IF(D191=1,COUNTIF($D$2:D191,1),\"\")","v":190},{"$f":"IFERROR(INDEX($C$2:$C$1024,MATCH(ROWS($E$2:E191),$E$2:$E$1024,0)),\"\")","v":"10001405 - CHOICES 4 ALL"}]
[10001446,"CIRENCESTER COLLEGE","10001446 - CIRENCESTER COLLEGE",{"$f":"--ISNUMBER(IFERROR(SEARCH(ProviderTable!$B$3,C192,1),\"\"))","v":1},{"$f":"IF(D192=1,COUNTIF($D$2:D192,1),\"\")","v":191},{"$f":"IFERROR(INDEX($C$2:$C$1024,MATCH(ROWS($E$2:E192),$E$2:$E$1024,0)),\"\")","v":"10001446 - CIRENCESTER COLLEGE"}]
[10001436,"CITB","10001436 - CITB",{"$f":"--ISNUMBER(IFERROR(SEARCH(ProviderTable!$B$3,C193,1),\"\"))","v":1},{"$f":"IF(D193=1,COUNTIF($D$2:D193,1),\"\")","v":192},{"$f":"IFERROR(INDEX($C$2:$C$1024,MATCH(ROWS($E$2:E193),$E$2:$E$1024,0)),\"\")","v":"10001436 - CITB"}]
[10019087,"CITROEN U.K. LIMITED","10019087 - CITROEN U.K. LIMITED",{"$f":"--ISNUMBER(IFERROR(SEARCH(ProviderTable!$B$3,C194,1),\"\"))","v":1},{"$f":"IF(D194=1,COUNTIF($D$2:D194,1),\"\")","v":193},{"$f":"IFERROR(INDEX($C$2:$C$1024,MATCH(ROWS($E$2:E194),$E$2:$E$1024,0)),\"\")","v":"10019087 - CITROEN U.K. LIMITED"}]
[10001452,"CITY AND ISLINGTON COLLEGE",{"$f":"A195&\" - \"&B195","v":"10001452 - CITY AND ISLINGTON COLLEGE"},{"$f":"--ISNUMBER(IFERROR(SEARCH(ProviderTable!$B$3,C195,1),\"\"))","v":1},{"$f":"IF(D195=1,COUNTIF($D$2:D195,1),\"\")","v":194},{"$f":"IFERROR(INDEX($C$2:$C$1024,MATCH(ROWS($E$2:E195),$E$2:$E$1024,0)),\"\")","v":"10001452 - CITY AND ISLINGTON COLLEGE"}]
[10001457,"CITY COLLEGE BRIGHTON AND HOVE","10001457 - CITY COLLEGE BRIGHTON AND HOVE",{"$f":"--ISNUMBER(IFERROR(SEARCH(ProviderTable!$B$3,C196,1),\"\"))","v":1},{"$f":"IF(D196=1,COUNTIF($D$2:D196,1),\"\")","v":195},{"$f":"IFERROR(INDEX($C$2:$C$1024,MATCH(ROWS($E$2:E196),$E$2:$E$1024,0)),\"\")","v":"10001457 - CITY COLLEGE BRIGHTON AND HOVE"}]
[10001458,"CITY COLLEGE COVENTRY","10001458 - CITY COLLEGE COVENTRY",{"$f":"--ISNUMBER(IFERROR(SEARCH(ProviderTable!$B$3,C197,1),\"\"))","v":1},{"$f":"IF(D197=1,COUNTIF($D$2:D197,1),\"\")","v":196},{"$f":"IFERROR(INDEX($C$2:$C$1024,MATCH(ROWS($E$2:E197),$E$2:$E$1024,0)),\"\")","v":"10001458 - CITY COLLEGE COVENTRY"}]
[10004772,"CITY COLLEGE NORWICH","10004772 - CITY COLLEGE NORWICH",{"$f":"--ISNUMBER(IFERROR(SEARCH(ProviderTable!$B$3,C198,1),\"\"))","v":1},{"$f":"IF(D198=1,COUNTIF($D$2:D198,1),\"\")","v":197},{"$f":"IFERROR(INDEX($C$2:$C$1024,MATCH(ROWS($E$2:E198),$E$2:$E$1024,0)),\"\")","v":"10004772 - CITY COLLEGE NORWICH"}]
[10009263,"CITY COLLEGE NOTTINGHAM","10009263 - CITY COLLEGE NOTTINGHAM",{"$f":"--ISNUMBER(IFERROR(SEARCH(ProviderTable!$B$3,C199,1),\"\"))","v":1},{"$f":"IF(D199=1,COUNTIF($D$2:D199,1),\"\")","v":198},{"$f":"IFERROR(INDEX($C$2:$C$1024,MATCH(ROWS($E$2:E199),$E$2:$E$1024,0)),\"\")","v":"10009263 - CITY COLLEGE NOTTINGHAM"}]
[10005128,"CITY COLLEGE PLYMOUTH","10005128 - CITY COLLEGE PLYMOUTH",{"$f":"--ISNUMBER(IFERROR(SEARCH(ProviderTable!$B$3,C200,1),\"\"))","v":1},{"$f":"IF(D200=1,COUNTIF($D$2:D200,1),\"\")","v":199},{"$f":"IFERROR(INDEX($C$2:$C$1024,MATCH(ROWS($E$2:E200),$E$2:$E$1024,0)),\"\")","v":"10005128 - CITY COLLEGE PLYMOUTH"}]
[10019383,"CITY GATEWAY","10019383 - CITY GATEWAY",{"$f":"--ISNUMBER(IFERROR(SEARCH(ProviderTable!$B$3,C201,1),\"\"))","v":1},{"$f":"IF(D201=1,COUNTIF($D$2:D201,1),\"\")","v":200},{"$f":"IFERROR(INDEX($C$2:$C$1024,MATCH(ROWS($E$2:E201),$E$2:$E$1024,0)),\"\")","v":"10019383 - CITY GATEWAY"}]
[10037669,"CITY GATEWAY 14-19 PROVISION","10037669 - CITY GATEWAY 14-19 PROVISION",{"$f":"--ISNUMBER(IFERROR(SEARCH(ProviderTable!$B$3,C202,1),\"\"))","v":1},{"$f":"IF(D202=1,COUNTIF($D$2:D202,1),\"\")","v":201},{"$f":"IFERROR(INDEX($C$2:$C$1024,MATCH(ROWS($E$2:E202),$E$2:$E$1024,0)),\"\")","v":"10037669 - CITY GATEWAY 14-19 PROVISION"}]
[10001467,"CITY OF BRISTOL COLLEGE","10001467 - CITY OF BRISTOL COLLEGE",{"$f":"--ISNUMBER(IFERROR(SEARCH(ProviderTable!$B$3,C203,1),\"\"))","v":1},{"$f":"IF(D203=1,COUNTIF($D$2:D203,1),\"\")","v":202},{"$f":"IFERROR(INDEX($C$2:$C$1024,MATCH(ROWS($E$2:E203),$E$2:$E$1024,0)),\"\")","v":"10001467 - CITY OF BRISTOL COLLEGE"}]
[10001476,"CITY OF WESTMINSTER COLLEGE","10001476 - CITY OF WESTMINSTER COLLEGE",{"$f":"--ISNUMBER(IFERROR(SEARCH(ProviderTable!$B$3,C204,1),\"\"))","v":1},{"$f":"IF(D204=1,COUNTIF($D$2:D204,1),\"\")","v":203},{"$f":"IFERROR(INDEX($C$2:$C$1024,MATCH(ROWS($E$2:E204),$E$2:$E$1024,0)),\"\")","v":"10001476 - CITY OF WESTMINSTER COLLEGE"}]
[10007578,"CITY OF WOLVERHAMPTON COLLEGE","10007578 - CITY OF WOLVERHAMPTON COLLEGE",{"$f":"--ISNUMBER(IFERROR(SEARCH(ProviderTable!$B$3,C205,1),\"\"))","v":1},{"$f":"IF(D205=1,COUNTIF($D$2:D205,1),\"\")","v":204},{"$f":"IFERROR(INDEX($C$2:$C$1024,MATCH(ROWS($E$2:E205),$E$2:$E$1024,0)),\"\")","v":"10007578 - CITY OF WOLVERHAMPTON COLLEGE"}]
[10001477,"CITY OF YORK COUNCIL","10001477 - CITY OF YORK COUNCIL",{"$f":"--ISNUMBER(IFERROR(SEARCH(ProviderTable!$B$3,C206,1),\"\"))","v":1},{"$f":"IF(D206=1,COUNTIF($D$2:D206,1),\"\")","v":205},{"$f":"IFERROR(INDEX($C$2:$C$1024,MATCH(ROWS($E$2:E206),$E$2:$E$1024,0)),\"\")","v":"10001477 - CITY OF YORK COUNCIL"}]
[10001488,"CLARKSON EVANS LIMITED","10001488 - CLARKSON EVANS LIMITED",{"$f":"--ISNUMBER(IFERROR(SEARCH(ProviderTable!$B$3,C207,1),\"\"))","v":1},{"$f":"IF(D207=1,COUNTIF($D$2:D207,1),\"\")","v":206},{"$f":"IFERROR(INDEX($C$2:$C$1024,MATCH(ROWS($E$2:E207),$E$2:$E$1024,0)),\"\")","v":"10001488 - CLARKSON EVANS LIMITED"}]
[10025390,"CLARKSON EVANS TRAINING LIMITED","10025390 - CLARKSON EVANS TRAINING LIMITED",{"$f":"--ISNUMBER(IFERROR(SEARCH(ProviderTable!$B$3,C208,1),\"\"))","v":1},{"$f":"IF(D208=1,COUNTIF($D$2:D208,1),\"\")","v":207},{"$f":"IFERROR(INDEX($C$2:$C$1024,MATCH(ROWS($E$2:E208),$E$2:$E$1024,0)),\"\")","v":"10025390 - CLARKSON EVANS TRAINING LIMITED"}]
[10001492,"CLAVERHAM COMMUNITY COLLEGE","10001492 - CLAVERHAM COMMUNITY COLLEGE",{"$f":"--ISNUMBER(IFERROR(SEARCH(ProviderTable!$B$3,C209,1),\"\"))","v":1},{"$f":"IF(D209=1,COUNTIF($D$2:D209,1),\"\")","v":208},{"$f":"IFERROR(INDEX($C$2:$C$1024,MATCH(ROWS($E$2:E209),$E$2:$E$1024,0)),\"\")","v":"10001492 - CLAVERHAM COMMUNITY COLLEGE"}]
[10001503,"CLEVELAND COLLEGE OF ART AND DESIGN","10001503 - CLEVELAND COLLEGE OF ART AND DESIGN",{"$f":"--ISNUMBER(IFERROR(SEARCH(ProviderTable!$B$3,C210,1),\"\"))","v":1},{"$f":"IF(D210=1,COUNTIF($D$2:D210,1),\"\")","v":209},{"$f":"IFERROR(INDEX($C$2:$C$1024,MATCH(ROWS($E$2:E210),$E$2:$E$1024,0)),\"\")","v":"10001503 - CLEVELAND COLLEGE OF ART AND DESIGN"}]
[10005775,"CLEVELAND YOUTH ASSOCIATION","10005775 - CLEVELAND YOUTH ASSOCIATION",{"$f":"--ISNUMBER(IFERROR(SEARCH(ProviderTable!$B$3,C211,1),\"\"))","v":1},{"$f":"IF(D211=1,COUNTIF($D$2:D211,1),\"\")","v":210},{"$f":"IFERROR(INDEX($C$2:$C$1024,MATCH(ROWS($E$2:E211),$E$2:$E$1024,0)),\"\")","v":"10005775 - CLEVELAND YOUTH ASSOCIATION"}]
[10001535,"COLCHESTER INSTITUTE","10001535 - COLCHESTER INSTITUTE",{"$f":"--ISNUMBER(IFERROR(SEARCH(ProviderTable!$B$3,C212,1),\"\"))","v":1},{"$f":"IF(D212=1,COUNTIF($D$2:D212,1),\"\")","v":211},{"$f":"IFERROR(INDEX($C$2:$C$1024,MATCH(ROWS($E$2:E212),$E$2:$E$1024,0)),\"\")","v":"10001535 - COLCHESTER INSTITUTE"}]
[10001548,"COLLEGE OF HARINGEY, ENFIELD AND NORTH-EAST LONDON, THE","10001548 - COLLEGE OF HARINGEY, ENFIELD AND NORTH-EAST LONDON, THE",{"$f":"--ISNUMBER(IFERROR(SEARCH(ProviderTable!$B$3,C213,1),\"\"))","v":1},{"$f":"IF(D213=1,COUNTIF($D$2:D213,1),\"\")","v":212},{"$f":"IFERROR(INDEX($C$2:$C$1024,MATCH(ROWS($E$2:E213),$E$2:$E$1024,0)),\"\")","v":"10001548 - COLLEGE OF HARINGEY, ENFIELD AND NORTH-EAST LONDON, THE"}]
[10001549,"COLLEGE OF NORTH WEST LONDON, THE","10001549 - COLLEGE OF NORTH WEST LONDON, THE",{"$f":"--ISNUMBER(IFERROR(SEARCH(ProviderTable!$B$3,C214,1),\"\"))","v":1},{"$f":"IF(D214=1,COUNTIF($D$2:D214,1),\"\")","v":213},{"$f":"IFERROR(INDEX($C$2:$C$1024,MATCH(ROWS($E$2:E214),$E$2:$E$1024,0)),\"\")","v":"10001549 - COLLEGE OF NORTH WEST LONDON, THE"}]
[10008915,"COMMON COUNCIL OF THE CITY OF LONDON","10008915 - COMMON COUNCIL OF THE CITY OF LONDON",{"$f":"--ISNUMBER(IFERROR(SEARCH(ProviderTable!$B$3,C215,1),\"\"))","v":1},{"$f":"IF(D215=1,COUNTIF($D$2:D215,1),\"\")","v":214},{"$f":"IFERROR(INDEX($C$2:$C$1024,MATCH(ROWS($E$2:E215),$E$2:$E$1024,0)),\"\")","v":"10008915 - COMMON COUNCIL OF THE CITY OF LONDON"}]
[10001602,"COMMUNITY TRAINING SERVICES LIMITED","10001602 - COMMUNITY TRAINING SERVICES LIMITED",{"$f":"--ISNUMBER(IFERROR(SEARCH(ProviderTable!$B$3,C216,1),\"\"))","v":1},{"$f":"IF(D216=1,COUNTIF($D$2:D216,1),\"\")","v":215},{"$f":"IFERROR(INDEX($C$2:$C$1024,MATCH(ROWS($E$2:E216),$E$2:$E$1024,0)),\"\")","v":"10001602 - COMMUNITY TRAINING SERVICES LIMITED"}]
[10024317,"COMPASS GROUP, UK AND IRELAND LIMITED","10024317 - COMPASS GROUP, UK AND IRELAND LIMITED",{"$f":"--ISNUMBER(IFERROR(SEARCH(ProviderTable!$B$3,C217,1),\"\"))","v":1},{"$f":"IF(D217=1,COUNTIF($D$2:D217,1),\"\")","v":216},{"$f":"IFERROR(INDEX($C$2:$C$1024,MATCH(ROWS($E$2:E217),$E$2:$E$1024,0)),\"\")","v":"10024317 - COMPASS GROUP, UK AND IRELAND LIMITED"}]
[10009120,"CONDOVER COLLEGE LIMITED","10009120 - CONDOVER COLLEGE LIMITED",{"$f":"--ISNUMBER(IFERROR(SEARCH(ProviderTable!$B$3,C218,1),\"\"))","v":1},{"$f":"IF(D218=1,COUNTIF($D$2:D218,1),\"\")","v":217},{"$f":"IFERROR(INDEX($C$2:$C$1024,MATCH(ROWS($E$2:E218),$E$2:$E$1024,0)),\"\")","v":"10009120 - CONDOVER COLLEGE LIMITED"}]
[10033482,"CONSORTIA TRAINING LIMITED","10033482 - CONSORTIA TRAINING LIMITED",{"$f":"--ISNUMBER(IFERROR(SEARCH(ProviderTable!$B$3,C219,1),\"\"))","v":1},{"$f":"IF(D219=1,COUNTIF($D$2:D219,1),\"\")","v":218},{"$f":"IFERROR(INDEX($C$2:$C$1024,MATCH(ROWS($E$2:E219),$E$2:$E$1024,0)),\"\")","v":"10033482 - CONSORTIA TRAINING LIMITED"}]
[10033547,"CONSORTIUM OF VOCATIONAL AND EDUCATIONAL TRAINERS LIMITED","10033547 - CONSORTIUM OF VOCATIONAL AND EDUCATIONAL TRAINERS LIMITED",{"$f":"--ISNUMBER(IFERROR(SEARCH(ProviderTable!$B$3,C220,1),\"\"))","v":1},{"$f":"IF(D220=1,COUNTIF($D$2:D220,1),\"\")","v":219},{"$f":"IFERROR(INDEX($C$2:$C$1024,MATCH(ROWS($E$2:E220),$E$2:$E$1024,0)),\"\")","v":"10033547 - CONSORTIUM OF VOCATIONAL AND EDUCATIONAL TRAINERS LIMITED"}]
[10032547,"CORDANT GROUP PLC","10032547 - CORDANT GROUP PLC",{"$f":"--ISNUMBER(IFERROR(SEARCH(ProviderTable!$B$3,C221,1),\"\"))","v":1},{"$f":"IF(D221=1,COUNTIF($D$2:D221,1),\"\")","v":220},{"$f":"IFERROR(INDEX($C$2:$C$1024,MATCH(ROWS($E$2:E221),$E$2:$E$1024,0)),\"\")","v":"10032547 - CORDANT GROUP PLC"}]
[10001696,"CORNWALL COLLEGE","10001696 - CORNWALL COLLEGE",{"$f":"--ISNUMBER(IFERROR(SEARCH(ProviderTable!$B$3,C222,1),\"\"))","v":1},{"$f":"IF(D222=1,COUNTIF($D$2:D222,1),\"\")","v":221},{"$f":"IFERROR(INDEX($C$2:$C$1024,MATCH(ROWS($E$2:E222),$E$2:$E$1024,0)),\"\")","v":"10001696 - CORNWALL COLLEGE"}]
[10002064,"COUNTY DURHAM COUNCIL","10002064 - COUNTY DURHAM COUNCIL",{"$f":"--ISNUMBER(IFERROR(SEARCH(ProviderTable!$B$3,C223,1),\"\"))","v":1},{"$f":"IF(D223=1,COUNTIF($D$2:D223,1),\"\")","v":222},{"$f":"IFERROR(INDEX($C$2:$C$1024,MATCH(ROWS($E$2:E223),$E$2:$E$1024,0)),\"\")","v":"10002064 - COUNTY DURHAM COUNCIL"}]
[10001309,"COVENTRY AND WARWICKSHIRE CHAMBERS OF COMMERCE TRAINING LIMITED","10001309 - COVENTRY AND WARWICKSHIRE CHAMBERS OF COMMERCE TRAINING LIMITED",{"$f":"--ISNUMBER(IFERROR(SEARCH(ProviderTable!$B$3,C224,1),\"\"))","v":1},{"$f":"IF(D224=1,COUNTIF($D$2:D224,1),\"\")","v":223},{"$f":"IFERROR(INDEX($C$2:$C$1024,MATCH(ROWS($E$2:E224),$E$2:$E$1024,0)),\"\")","v":"10001309 - COVENTRY AND WARWICKSHIRE CHAMBERS OF COMMERCE TRAINING LIMITED"}]
[10001723,"COVENTRY CITY COUNCIL","10001723 - COVENTRY CITY COUNCIL",{"$f":"--ISNUMBER(IFERROR(SEARCH(ProviderTable!$B$3,C225,1),\"\"))","v":1},{"$f":"IF(D225=1,COUNTIF($D$2:D225,1),\"\")","v":224},{"$f":"IFERROR(INDEX($C$2:$C$1024,MATCH(ROWS($E$2:E225),$E$2:$E$1024,0)),\"\")","v":"10001723 - COVENTRY CITY COUNCIL"}]
[10001726,"COVENTRY UNIVERSITY","10001726 - COVENTRY UNIVERSITY",{"$f":"--ISNUMBER(IFERROR(SEARCH(ProviderTable!$B$3,C226,1),\"\"))","v":1},{"$f":"IF(D226=1,COUNTIF($D$2:D226,1),\"\")","v":225},{"$f":"IFERROR(INDEX($C$2:$C$1024,MATCH(ROWS($E$2:E226),$E$2:$E$1024,0)),\"\")","v":"10001726 - COVENTRY UNIVERSITY"}]
[10001736,"CRACKERJACK TRAINING LIMITED","10001736 - CRACKERJACK TRAINING LIMITED",{"$f":"--ISNUMBER(IFERROR(SEARCH(ProviderTable!$B$3,C227,1),\"\"))","v":1},{"$f":"IF(D227=1,COUNTIF($D$2:D227,1),\"\")","v":226},{"$f":"IFERROR(INDEX($C$2:$C$1024,MATCH(ROWS($E$2:E227),$E$2:$E$1024,0)),\"\")","v":"10001736 - CRACKERJACK TRAINING LIMITED"}]
[10001743,"CRAVEN COLLEGE","10001743 - CRAVEN COLLEGE",{"$f":"--ISNUMBER(IFERROR(SEARCH(ProviderTable!$B$3,C228,1),\"\"))","v":1},{"$f":"IF(D228=1,COUNTIF($D$2:D228,1),\"\")","v":227},{"$f":"IFERROR(INDEX($C$2:$C$1024,MATCH(ROWS($E$2:E228),$E$2:$E$1024,0)),\"\")","v":"10001743 - CRAVEN COLLEGE"}]
[10023901,"CREATIVE PROCESS","10023901 - CREATIVE PROCESS",{"$f":"--ISNUMBER(IFERROR(SEARCH(ProviderTable!$B$3,C229,1),\"\"))","v":1},{"$f":"IF(D229=1,COUNTIF($D$2:D229,1),\"\")","v":228},{"$f":"IFERROR(INDEX($C$2:$C$1024,MATCH(ROWS($E$2:E229),$E$2:$E$1024,0)),\"\")","v":"10023901 - CREATIVE PROCESS"}]
[10001778,"CROYDON COLLEGE","10001778 - CROYDON COLLEGE",{"$f":"--ISNUMBER(IFERROR(SEARCH(ProviderTable!$B$3,C230,1),\"\"))","v":1},{"$f":"IF(D230=1,COUNTIF($D$2:D230,1),\"\")","v":229},{"$f":"IFERROR(INDEX($C$2:$C$1024,MATCH(ROWS($E$2:E230),$E$2:$E$1024,0)),\"\")","v":"10001778 - CROYDON COLLEGE"}]
[10003989,"CROYDON LONDON BOROUGH COUNCIL","10003989 - CROYDON LONDON BOROUGH COUNCIL",{"$f":"--ISNUMBER(IFERROR(SEARCH(ProviderTable!$B$3,C231,1),\"\"))","v":1},{"$f":"IF(D231=1,COUNTIF($D$2:D231,1),\"\")","v":230},{"$f":"IFERROR(INDEX($C$2:$C$1024,MATCH(ROWS($E$2:E231),$E$2:$E$1024,0)),\"\")","v":"10003989 - CROYDON LONDON BOROUGH COUNCIL"}]
[10001786,"CSM CONSULTING LIMITED","10001786 - CSM CONSULTING LIMITED",{"$f":"--ISNUMBER(IFERROR(SEARCH(ProviderTable!$B$3,C232,1),\"\"))","v":1},{"$f":"IF(D232=1,COUNTIF($D$2:D232,1),\"\")","v":231},{"$f":"IFERROR(INDEX($C$2:$C$1024,MATCH(ROWS($E$2:E232),$E$2:$E$1024,0)),\"\")","v":"10001786 - CSM CONSULTING LIMITED"}]
[10001174,"CT SKILLS LIMITED","10001174 - CT SKILLS LIMITED",{"$f":"--ISNUMBER(IFERROR(SEARCH(ProviderTable!$B$3,C233,1),\"\"))","v":1},{"$f":"IF(D233=1,COUNTIF($D$2:D233,1),\"\")","v":232},{"$f":"IFERROR(INDEX($C$2:$C$1024,MATCH(ROWS($E$2:E233),$E$2:$E$1024,0)),\"\")","v":"10001174 - CT SKILLS LIMITED"}]
[10007911,"CTC KINGSHURST ACADEMY","10007911 - CTC KINGSHURST ACADEMY",{"$f":"--ISNUMBER(IFERROR(SEARCH(ProviderTable!$B$3,C234,1),\"\"))","v":1},{"$f":"IF(D234=1,COUNTIF($D$2:D234,1),\"\")","v":233},{"$f":"IFERROR(INDEX($C$2:$C$1024,MATCH(ROWS($E$2:E234),$E$2:$E$1024,0)),\"\")","v":"10007911 - CTC KINGSHURST ACADEMY"}]
[10001800,"CUMBRIA COUNTY COUNCIL","10001800 - CUMBRIA COUNTY COUNCIL",{"$f":"--ISNUMBER(IFERROR(SEARCH(ProviderTable!$B$3,C235,1),\"\"))","v":1},{"$f":"IF(D235=1,COUNTIF($D$2:D235,1),\"\")","v":234},{"$f":"IFERROR(INDEX($C$2:$C$1024,MATCH(ROWS($E$2:E235),$E$2:$E$1024,0)),\"\")","v":"10001800 - CUMBRIA COUNTY COUNCIL"}]
[10001997,"D M T BUSINESS SERVICES LTD","10001997 - D M T BUSINESS SERVICES LTD",{"$f":"--ISNUMBER(IFERROR(SEARCH(ProviderTable!$B$3,C236,1),\"\"))","v":1},{"$f":"IF(D236=1,COUNTIF($D$2:D236,1),\"\")","v":235},{"$f":"IFERROR(INDEX($C$2:$C$1024,MATCH(ROWS($E$2:E236),$E$2:$E$1024,0)),\"\")","v":"10001997 - D M T BUSINESS SERVICES LTD"}]
[10031146,"D MANTLE LIMITED","10031146 - D MANTLE LIMITED",{"$f":"--ISNUMBER(IFERROR(SEARCH(ProviderTable!$B$3,C237,1),\"\"))","v":1},{"$f":"IF(D237=1,COUNTIF($D$2:D237,1),\"\")","v":236},{"$f":"IFERROR(INDEX($C$2:$C$1024,MATCH(ROWS($E$2:E237),$E$2:$E$1024,0)),\"\")","v":"10031146 - D MANTLE LIMITED"}]
[10001831,"DAMAR LIMITED","10001831 - DAMAR LIMITED",{"$f":"--ISNUMBER(IFERROR(SEARCH(ProviderTable!$B$3,C238,1),\"\"))","v":1},{"$f":"IF(D238=1,COUNTIF($D$2:D238,1),\"\")","v":237},{"$f":"IFERROR(INDEX($C$2:$C$1024,MATCH(ROWS($E$2:E238),$E$2:$E$1024,0)),\"\")","v":"10001831 - DAMAR LIMITED"}]
[10001848,"DARLINGTON BOROUGH COUNCIL","10001848 - DARLINGTON BOROUGH COUNCIL",{"$f":"--ISNUMBER(IFERROR(SEARCH(ProviderTable!$B$3,C239,1),\"\"))","v":1},{"$f":"IF(D239=1,COUNTIF($D$2:D239,1),\"\")","v":238},{"$f":"IFERROR(INDEX($C$2:$C$1024,MATCH(ROWS($E$2:E239),$E$2:$E$1024,0)),\"\")","v":"10001848 - DARLINGTON BOROUGH COUNCIL"}]
[10001850,"DARLINGTON COLLEGE","10001850 - DARLINGTON COLLEGE",{"$f":"--ISNUMBER(IFERROR(SEARCH(ProviderTable!$B$3,C240,1),\"\"))","v":1},{"$f":"IF(D240=1,COUNTIF($D$2:D240,1),\"\")","v":239},{"$f":"IFERROR(INDEX($C$2:$C$1024,MATCH(ROWS($E$2:E240),$E$2:$E$1024,0)),\"\")","v":"10001850 - DARLINGTON COLLEGE"}]
[10001828,"DART LIMITED","10001828 - DART LIMITED",{"$f":"--ISNUMBER(IFERROR(SEARCH(ProviderTable!$B$3,C241,1),\"\"))","v":1},{"$f":"IF(D241=1,COUNTIF($D$2:D241,1),\"\")","v":240},{"$f":"IFERROR(INDEX($C$2:$C$1024,MATCH(ROWS($E$2:E241),$E$2:$E$1024,0)),\"\")","v":"10001828 - DART LIMITED"}]
[10001869,"DAVIDSON TRAINING UK LIMITED","10001869 - DAVIDSON TRAINING UK LIMITED",{"$f":"--ISNUMBER(IFERROR(SEARCH(ProviderTable!$B$3,C242,1),\"\"))","v":1},{"$f":"IF(D242=1,COUNTIF($D$2:D242,1),\"\")","v":241},{"$f":"IFERROR(INDEX($C$2:$C$1024,MATCH(ROWS($E$2:E242),$E$2:$E$1024,0)),\"\")","v":"10001869 - DAVIDSON TRAINING UK LIMITED"}]
[10022117,"DAWN HODGE ASSOCIATES LIMITED","10022117 - DAWN HODGE ASSOCIATES LIMITED",{"$f":"--ISNUMBER(IFERROR(SEARCH(ProviderTable!$B$3,C243,1),\"\"))","v":1},{"$f":"IF(D243=1,COUNTIF($D$2:D243,1),\"\")","v":242},{"$f":"IFERROR(INDEX($C$2:$C$1024,MATCH(ROWS($E$2:E243),$E$2:$E$1024,0)),\"\")","v":"10022117 - DAWN HODGE ASSOCIATES LIMITED"}]
[10001883,"DE MONTFORT UNIVERSITY","10001883 - DE MONTFORT UNIVERSITY",{"$f":"--ISNUMBER(IFERROR(SEARCH(ProviderTable!$B$3,C244,1),\"\"))","v":1},{"$f":"IF(D244=1,COUNTIF($D$2:D244,1),\"\")","v":243},{"$f":"IFERROR(INDEX($C$2:$C$1024,MATCH(ROWS($E$2:E244),$E$2:$E$1024,0)),\"\")","v":"10001883 - DE MONTFORT UNIVERSITY"}]
[10001897,"DEARNE VALLEY COLLEGE","10001897 - DEARNE VALLEY COLLEGE",{"$f":"--ISNUMBER(IFERROR(SEARCH(ProviderTable!$B$3,C245,1),\"\"))","v":1},{"$f":"IF(D245=1,COUNTIF($D$2:D245,1),\"\")","v":244},{"$f":"IFERROR(INDEX($C$2:$C$1024,MATCH(ROWS($E$2:E245),$E$2:$E$1024,0)),\"\")","v":"10001897 - DEARNE VALLEY COLLEGE"}]
[10005109,"DERBY BUSINESS COLLEGE LIMITED","10005109 - DERBY BUSINESS COLLEGE LIMITED",{"$f":"--ISNUMBER(IFERROR(SEARCH(ProviderTable!$B$3,C246,1),\"\"))","v":1},{"$f":"IF(D246=1,COUNTIF($D$2:D246,1),\"\")","v":245},{"$f":"IFERROR(INDEX($C$2:$C$1024,MATCH(ROWS($E$2:E246),$E$2:$E$1024,0)),\"\")","v":"10005109 - DERBY BUSINESS COLLEGE LIMITED"}]
[10001918,"DERBY CITY COUNCIL","10001918 - DERBY CITY COUNCIL",{"$f":"--ISNUMBER(IFERROR(SEARCH(ProviderTable!$B$3,C247,1),\"\"))","v":1},{"$f":"IF(D247=1,COUNTIF($D$2:D247,1),\"\")","v":246},{"$f":"IFERROR(INDEX($C$2:$C$1024,MATCH(ROWS($E$2:E247),$E$2:$E$1024,0)),\"\")","v":"10001918 - DERBY CITY COUNCIL"}]
[10001919,"DERBY COLLEGE","10001919 - DERBY COLLEGE",{"$f":"--ISNUMBER(IFERROR(SEARCH(ProviderTable!$B$3,C248,1),\"\"))","v":1},{"$f":"IF(D248=1,COUNTIF($D$2:D248,1),\"\")","v":247},{"$f":"IFERROR(INDEX($C$2:$C$1024,MATCH(ROWS($E$2:E248),$E$2:$E$1024,0)),\"\")","v":"10001919 - DERBY COLLEGE"}]
[10001927,"DERBYSHIRE AND NOTTINGHAMSHIRE CHAMBER OF COMMERCE AND INDUSTRY","10001927 - DERBYSHIRE AND NOTTINGHAMSHIRE CHAMBER OF COMMERCE AND INDUSTRY",{"$f":"--ISNUMBER(IFERROR(SEARCH(ProviderTable!$B$3,C249,1),\"\"))","v":1},{"$f":"IF(D249=1,COUNTIF($D$2:D249,1),\"\")","v":248},{"$f":"IFERROR(INDEX($C$2:$C$1024,MATCH(ROWS($E$2:E249),$E$2:$E$1024,0)),\"\")","v":"10001927 - DERBYSHIRE AND NOTTINGHAMSHIRE CHAMBER OF COMMERCE AND INDUSTRY"}]
[10001928,"DERBYSHIRE COUNTY COUNCIL","10001928 - DERBYSHIRE COUNTY COUNCIL",{"$f":"--ISNUMBER(IFERROR(SEARCH(ProviderTable!$B$3,C250,1),\"\"))","v":1},{"$f":"IF(D250=1,COUNTIF($D$2:D250,1),\"\")","v":249},{"$f":"IFERROR(INDEX($C$2:$C$1024,MATCH(ROWS($E$2:E250),$E$2:$E$1024,0)),\"\")","v":"10001928 - DERBYSHIRE COUNTY COUNCIL"}]
[10001929,"DERWEN COLLEGE","10001929 - DERWEN COLLEGE",{"$f":"--ISNUMBER(IFERROR(SEARCH(ProviderTable!$B$3,C251,1),\"\"))","v":1},{"$f":"IF(D251=1,COUNTIF($D$2:D251,1),\"\")","v":250},{"$f":"IFERROR(INDEX($C$2:$C$1024,MATCH(ROWS($E$2:E251),$E$2:$E$1024,0)),\"\")","v":"10001929 - DERWEN COLLEGE"}]
[10001934,"DERWENTSIDE COLLEGE","10001934 - DERWENTSIDE COLLEGE",{"$f":"--ISNUMBER(IFERROR(SEARCH(ProviderTable!$B$3,C252,1),\"\"))","v":1},{"$f":"IF(D252=1,COUNTIF($D$2:D252,1),\"\")","v":251},{"$f":"IFERROR(INDEX($C$2:$C$1024,MATCH(ROWS($E$2:E252),$E$2:$E$1024,0)),\"\")","v":"10001934 - DERWENTSIDE COLLEGE"}]
[10001951,"DEVON COUNTY COUNCIL","10001951 - DEVON COUNTY COUNCIL",{"$f":"--ISNUMBER(IFERROR(SEARCH(ProviderTable!$B$3,C253,1),\"\"))","v":1},{"$f":"IF(D253=1,COUNTIF($D$2:D253,1),\"\")","v":252},{"$f":"IFERROR(INDEX($C$2:$C$1024,MATCH(ROWS($E$2:E253),$E$2:$E$1024,0)),\"\")","v":"10001951 - DEVON COUNTY COUNCIL"}]
[10024714,"DHL INTERNATIONAL (UK) LIMITED","10024714 - DHL INTERNATIONAL (UK) LIMITED",{"$f":"--ISNUMBER(IFERROR(SEARCH(ProviderTable!$B$3,C254,1),\"\"))","v":1},{"$f":"IF(D254=1,COUNTIF($D$2:D254,1),\"\")","v":253},{"$f":"IFERROR(INDEX($C$2:$C$1024,MATCH(ROWS($E$2:E254),$E$2:$E$1024,0)),\"\")","v":"10024714 - DHL INTERNATIONAL (UK) LIMITED"}]
[10001967,"DIDAC LIMITED","10001967 - DIDAC LIMITED",{"$f":"--ISNUMBER(IFERROR(SEARCH(ProviderTable!$B$3,C255,1),\"\"))","v":1},{"$f":"IF(D255=1,COUNTIF($D$2:D255,1),\"\")","v":254},{"$f":"IFERROR(INDEX($C$2:$C$1024,MATCH(ROWS($E$2:E255),$E$2:$E$1024,0)),\"\")","v":"10001967 - DIDAC LIMITED"}]
[10001971,"DIMENSIONS TRAINING SOLUTIONS LIMITED","10001971 - DIMENSIONS TRAINING SOLUTIONS LIMITED",{"$f":"--ISNUMBER(IFERROR(SEARCH(ProviderTable!$B$3,C256,1),\"\"))","v":1},{"$f":"IF(D256=1,COUNTIF($D$2:D256,1),\"\")","v":255},{"$f":"IFERROR(INDEX($C$2:$C$1024,MATCH(ROWS($E$2:E256),$E$2:$E$1024,0)),\"\")","v":"10001971 - DIMENSIONS TRAINING SOLUTIONS LIMITED"}]
[10002005,"DONCASTER COLLEGE","10002005 - DONCASTER COLLEGE",{"$f":"--ISNUMBER(IFERROR(SEARCH(ProviderTable!$B$3,C257,1),\"\"))","v":1},{"$f":"IF(D257=1,COUNTIF($D$2:D257,1),\"\")","v":256},{"$f":"IFERROR(INDEX($C$2:$C$1024,MATCH(ROWS($E$2:E257),$E$2:$E$1024,0)),\"\")","v":"10002005 - DONCASTER COLLEGE"}]
[10002008,"DONCASTER METROPOLITAN BOROUGH COUNCIL","10002008 - DONCASTER METROPOLITAN BOROUGH COUNCIL",{"$f":"--ISNUMBER(IFERROR(SEARCH(ProviderTable!$B$3,C258,1),\"\"))","v":1},{"$f":"IF(D258=1,COUNTIF($D$2:D258,1),\"\")","v":257},{"$f":"IFERROR(INDEX($C$2:$C$1024,MATCH(ROWS($E$2:E258),$E$2:$E$1024,0)),\"\")","v":"10002008 - DONCASTER METROPOLITAN BOROUGH COUNCIL"}]
[10002009,"DONCASTER ROTHERHAM AND DISTRICT MOTOR TRADES GROUP TRAINING ASSOCIATION LIMITED",{"$f":"A259&\" - \"&B259","v":"10002009 - DONCASTER ROTHERHAM AND DISTRICT MOTOR TRADES GROUP TRAINING ASSOCIATION LIMITED"},{"$f":"--ISNUMBER(IFERROR(SEARCH(ProviderTable!$B$3,C259,1),\"\"))","v":1},{"$f":"IF(D259=1,COUNTIF($D$2:D259,1),\"\")","v":258},{"$f":"IFERROR(INDEX($C$2:$C$1024,MATCH(ROWS($E$2:E259),$E$2:$E$1024,0)),\"\")","v":"10002009 - DONCASTER ROTHERHAM AND DISTRICT MOTOR TRADES GROUP TRAINING ASSOCIATION LIMITED"}]
[10004399,"DOOSAN BABCOCK LIMITED","10004399 - DOOSAN BABCOCK LIMITED",{"$f":"--ISNUMBER(IFERROR(SEARCH(ProviderTable!$B$3,C260,1),\"\"))","v":1},{"$f":"IF(D260=1,COUNTIF($D$2:D260,1),\"\")","v":259},{"$f":"IFERROR(INDEX($C$2:$C$1024,MATCH(ROWS($E$2:E260),$E$2:$E$1024,0)),\"\")","v":"10004399 - DOOSAN BABCOCK LIMITED"}]
[10007924,"DUDLEY COLLEGE","10007924 - DUDLEY COLLEGE",{"$f":"--ISNUMBER(IFERROR(SEARCH(ProviderTable!$B$3,C261,1),\"\"))","v":1},{"$f":"IF(D261=1,COUNTIF($D$2:D261,1),\"\")","v":260},{"$f":"IFERROR(INDEX($C$2:$C$1024,MATCH(ROWS($E$2:E261),$E$2:$E$1024,0)),\"\")","v":"10007924 - DUDLEY COLLEGE"}]
[10002054,"DUDLEY METROPOLITAN BOROUGH COUNCIL","10002054 - DUDLEY METROPOLITAN BOROUGH COUNCIL",{"$f":"--ISNUMBER(IFERROR(SEARCH(ProviderTable!$B$3,C262,1),\"\"))","v":1},{"$f":"IF(D262=1,COUNTIF($D$2:D262,1),\"\")","v":261},{"$f":"IFERROR(INDEX($C$2:$C$1024,MATCH(ROWS($E$2:E262),$E$2:$E$1024,0)),\"\")","v":"10002054 - DUDLEY METROPOLITAN BOROUGH COUNCIL"}]
[10010648,"E.H.BOOTH & CO.,LIMITED","10010648 - E.H.BOOTH & CO.,LIMITED",{"$f":"--ISNUMBER(IFERROR(SEARCH(ProviderTable!$B$3,C263,1),\"\"))","v":1},{"$f":"IF(D263=1,COUNTIF($D$2:D263,1),\"\")","v":262},{"$f":"IFERROR(INDEX($C$2:$C$1024,MATCH(ROWS($E$2:E263),$E$2:$E$1024,0)),\"\")","v":"10010648 - E.H.BOOTH & CO.,LIMITED"}]
[10023793,"E.ON UK PLC","10023793 - E.ON UK PLC",{"$f":"--ISNUMBER(IFERROR(SEARCH(ProviderTable!$B$3,C264,1),\"\"))","v":1},{"$f":"IF(D264=1,COUNTIF($D$2:D264,1),\"\")","v":263},{"$f":"IFERROR(INDEX($C$2:$C$1024,MATCH(ROWS($E$2:E264),$E$2:$E$1024,0)),\"\")","v":"10023793 - E.ON UK PLC"}]
[10002088,"EAGIT LTD.","10002088 - EAGIT LTD.",{"$f":"--ISNUMBER(IFERROR(SEARCH(ProviderTable!$B$3,C265,1),\"\"))","v":1},{"$f":"IF(D265=1,COUNTIF($D$2:D265,1),\"\")","v":264},{"$f":"IFERROR(INDEX($C$2:$C$1024,MATCH(ROWS($E$2:E265),$E$2:$E$1024,0)),\"\")","v":"10002088 - EAGIT LTD."}]
[10009206,"EALING LONDON BOROUGH COUNCIL","10009206 - EALING LONDON BOROUGH COUNCIL",{"$f":"--ISNUMBER(IFERROR(SEARCH(ProviderTable!$B$3,C266,1),\"\"))","v":1},{"$f":"IF(D266=1,COUNTIF($D$2:D266,1),\"\")","v":265},{"$f":"IFERROR(INDEX($C$2:$C$1024,MATCH(ROWS($E$2:E266),$E$2:$E$1024,0)),\"\")","v":"10009206 - EALING LONDON BOROUGH COUNCIL"}]
[10002094,"EALING, HAMMERSMITH & WEST LONDON COLLEGE","10002094 - EALING, HAMMERSMITH & WEST LONDON COLLEGE",{"$f":"--ISNUMBER(IFERROR(SEARCH(ProviderTable!$B$3,C267,1),\"\"))","v":1},{"$f":"IF(D267=1,COUNTIF($D$2:D267,1),\"\")","v":266},{"$f":"IFERROR(INDEX($C$2:$C$1024,MATCH(ROWS($E$2:E267),$E$2:$E$1024,0)),\"\")","v":"10002094 - EALING, HAMMERSMITH & WEST LONDON COLLEGE"}]
[10002107,"EAST BERKSHIRE COLLEGE","10002107 - EAST BERKSHIRE COLLEGE",{"$f":"--ISNUMBER(IFERROR(SEARCH(ProviderTable!$B$3,C268,1),\"\"))","v":1},{"$f":"IF(D268=1,COUNTIF($D$2:D268,1),\"\")","v":267},{"$f":"IFERROR(INDEX($C$2:$C$1024,MATCH(ROWS($E$2:E268),$E$2:$E$1024,0)),\"\")","v":"10002107 - EAST BERKSHIRE COLLEGE"}]
[10002111,"EAST DURHAM COLLEGE","10002111 - EAST DURHAM COLLEGE",{"$f":"--ISNUMBER(IFERROR(SEARCH(ProviderTable!$B$3,C269,1),\"\"))","v":1},{"$f":"IF(D269=1,COUNTIF($D$2:D269,1),\"\")","v":268},{"$f":"IFERROR(INDEX($C$2:$C$1024,MATCH(ROWS($E$2:E269),$E$2:$E$1024,0)),\"\")","v":"10002111 - EAST DURHAM COLLEGE"}]
[10006570,"EAST KENT COLLEGE","10006570 - EAST KENT COLLEGE",{"$f":"--ISNUMBER(IFERROR(SEARCH(ProviderTable!$B$3,C270,1),\"\"))","v":1},{"$f":"IF(D270=1,COUNTIF($D$2:D270,1),\"\")","v":269},{"$f":"IFERROR(INDEX($C$2:$C$1024,MATCH(ROWS($E$2:E270),$E$2:$E$1024,0)),\"\")","v":"10006570 - EAST KENT COLLEGE"}]
[10002471,"EAST LINDSEY INFORMATION TECHNOLOGY CENTRE","10002471 - EAST LINDSEY INFORMATION TECHNOLOGY CENTRE",{"$f":"--ISNUMBER(IFERROR(SEARCH(ProviderTable!$B$3,C271,1),\"\"))","v":1},{"$f":"IF(D271=1,COUNTIF($D$2:D271,1),\"\")","v":270},{"$f":"IFERROR(INDEX($C$2:$C$1024,MATCH(ROWS($E$2:E271),$E$2:$E$1024,0)),\"\")","v":"10002471 - EAST LINDSEY INFORMATION TECHNOLOGY CENTRE"}]
[10002118,"EAST LONDON ADVANCED TECHNOLOGY TRAINING","10002118 - EAST LONDON ADVANCED TECHNOLOGY TRAINING",{"$f":"--ISNUMBER(IFERROR(SEARCH(ProviderTable!$B$3,C272,1),\"\"))","v":1},{"$f":"IF(D272=1,COUNTIF($D$2:D272,1),\"\")","v":271},{"$f":"IFERROR(INDEX($C$2:$C$1024,MATCH(ROWS($E$2:E272),$E$2:$E$1024,0)),\"\")","v":"10002118 - EAST LONDON ADVANCED TECHNOLOGY TRAINING"}]
[10002122,"EAST NORFOLK SIXTH FORM COLLEGE","10002122 - EAST NORFOLK SIXTH FORM COLLEGE",{"$f":"--ISNUMBER(IFERROR(SEARCH(ProviderTable!$B$3,C273,1),\"\"))","v":1},{"$f":"IF(D273=1,COUNTIF($D$2:D273,1),\"\")","v":272},{"$f":"IFERROR(INDEX($C$2:$C$1024,MATCH(ROWS($E$2:E273),$E$2:$E$1024,0)),\"\")","v":"10002122 - EAST NORFOLK SIXTH FORM COLLEGE"}]
[10002126,"EAST RIDING COLLEGE","10002126 - EAST RIDING COLLEGE",{"$f":"--ISNUMBER(IFERROR(SEARCH(ProviderTable!$B$3,C274,1),\"\"))","v":1},{"$f":"IF(D274=1,COUNTIF($D$2:D274,1),\"\")","v":273},{"$f":"IFERROR(INDEX($C$2:$C$1024,MATCH(ROWS($E$2:E274),$E$2:$E$1024,0)),\"\")","v":"10002126 - EAST RIDING COLLEGE"}]
[10008919,"EAST RIDING OF YORKSHIRE COUNCIL","10008919 - EAST RIDING OF YORKSHIRE COUNCIL",{"$f":"--ISNUMBER(IFERROR(SEARCH(ProviderTable!$B$3,C275,1),\"\"))","v":1},{"$f":"IF(D275=1,COUNTIF($D$2:D275,1),\"\")","v":274},{"$f":"IFERROR(INDEX($C$2:$C$1024,MATCH(ROWS($E$2:E275),$E$2:$E$1024,0)),\"\")","v":"10008919 - EAST RIDING OF YORKSHIRE COUNCIL"}]
[10002130,"EAST SURREY COLLEGE","10002130 - EAST SURREY COLLEGE",{"$f":"--ISNUMBER(IFERROR(SEARCH(ProviderTable!$B$3,C276,1),\"\"))","v":1},{"$f":"IF(D276=1,COUNTIF($D$2:D276,1),\"\")","v":275},{"$f":"IFERROR(INDEX($C$2:$C$1024,MATCH(ROWS($E$2:E276),$E$2:$E$1024,0)),\"\")","v":"10002130 - EAST SURREY COLLEGE"}]
[10002143,"EASTLEIGH COLLEGE","10002143 - EASTLEIGH COLLEGE",{"$f":"--ISNUMBER(IFERROR(SEARCH(ProviderTable!$B$3,C277,1),\"\"))","v":1},{"$f":"IF(D277=1,COUNTIF($D$2:D277,1),\"\")","v":276},{"$f":"IFERROR(INDEX($C$2:$C$1024,MATCH(ROWS($E$2:E277),$E$2:$E$1024,0)),\"\")","v":"10002143 - EASTLEIGH COLLEGE"}]
[10037344,"EASTON AND OTLEY COLLEGE","10037344 - EASTON AND OTLEY COLLEGE",{"$f":"--ISNUMBER(IFERROR(SEARCH(ProviderTable!$B$3,C278,1),\"\"))","v":1},{"$f":"IF(D278=1,COUNTIF($D$2:D278,1),\"\")","v":277},{"$f":"IFERROR(INDEX($C$2:$C$1024,MATCH(ROWS($E$2:E278),$E$2:$E$1024,0)),\"\")","v":"10037344 - EASTON AND OTLEY COLLEGE"}]
[10004177,"ECONOMIC SOLUTIONS LIMITED","10004177 - ECONOMIC SOLUTIONS LIMITED",{"$f":"--ISNUMBER(IFERROR(SEARCH(ProviderTable!$B$3,C279,1),\"\"))","v":1},{"$f":"IF(D279=1,COUNTIF($D$2:D279,1),\"\")","v":278},{"$f":"IFERROR(INDEX($C$2:$C$1024,MATCH(ROWS($E$2:E279),$E$2:$E$1024,0)),\"\")","v":"10004177 - ECONOMIC SOLUTIONS LIMITED"}]
[10027766,"EDEN TRAINING SOLUTIONS LIMITED","10027766 - EDEN TRAINING SOLUTIONS LIMITED",{"$f":"--ISNUMBER(IFERROR(SEARCH(ProviderTable!$B$3,C280,1),\"\"))","v":1},{"$f":"IF(D280=1,COUNTIF($D$2:D280,1),\"\")","v":279},{"$f":"IFERROR(INDEX($C$2:$C$1024,MATCH(ROWS($E$2:E280),$E$2:$E$1024,0)),\"\")","v":"10027766 - EDEN TRAINING SOLUTIONS LIMITED"}]
[10002186,"EDUCATION & YOUTH SERVICES LIMITED","10002186 - EDUCATION & YOUTH SERVICES LIMITED",{"$f":"--ISNUMBER(IFERROR(SEARCH(ProviderTable!$B$3,C281,1),\"\"))","v":1},{"$f":"IF(D281=1,COUNTIF($D$2:D281,1),\"\")","v":280},{"$f":"IFERROR(INDEX($C$2:$C$1024,MATCH(ROWS($E$2:E281),$E$2:$E$1024,0)),\"\")","v":"10002186 - EDUCATION & YOUTH SERVICES LIMITED"}]
[10002345,"EDUCATION AND SERVICES FOR PEOPLE WITH AUTISM","10002345 - EDUCATION AND SERVICES FOR PEOPLE WITH AUTISM",{"$f":"--ISNUMBER(IFERROR(SEARCH(ProviderTable!$B$3,C282,1),\"\"))","v":1},{"$f":"IF(D282=1,COUNTIF($D$2:D282,1),\"\")","v":281},{"$f":"IFERROR(INDEX($C$2:$C$1024,MATCH(ROWS($E$2:E282),$E$2:$E$1024,0)),\"\")","v":"10002345 - EDUCATION AND SERVICES FOR PEOPLE WITH AUTISM"}]
[10002187,"EDUCATION AND TRAINING SKILLS LTD","10002187 - EDUCATION AND TRAINING SKILLS LTD",{"$f":"--ISNUMBER(IFERROR(SEARCH(ProviderTable!$B$3,C283,1),\"\"))","v":1},{"$f":"IF(D283=1,COUNTIF($D$2:D283,1),\"\")","v":282},{"$f":"IFERROR(INDEX($C$2:$C$1024,MATCH(ROWS($E$2:E283),$E$2:$E$1024,0)),\"\")","v":"10002187 - EDUCATION AND TRAINING SKILLS LTD"}]
[10025384,"EEF LIMITED","10025384 - EEF LIMITED",{"$f":"--ISNUMBER(IFERROR(SEARCH(ProviderTable!$B$3,C284,1),\"\"))","v":1},{"$f":"IF(D284=1,COUNTIF($D$2:D284,1),\"\")","v":283},{"$f":"IFERROR(INDEX($C$2:$C$1024,MATCH(ROWS($E$2:E284),$E$2:$E$1024,0)),\"\")","v":"10025384 - EEF LIMITED"}]
[10002214,"ELFRIDA RATHBONE CAMDEN - LEIGHTON EDUCATION PROJECT","10002214 - ELFRIDA RATHBONE CAMDEN - LEIGHTON EDUCATION PROJECT",{"$f":"--ISNUMBER(IFERROR(SEARCH(ProviderTable!$B$3,C285,1),\"\"))","v":1},{"$f":"IF(D285=1,COUNTIF($D$2:D285,1),\"\")","v":284},{"$f":"IFERROR(INDEX($C$2:$C$1024,MATCH(ROWS($E$2:E285),$E$2:$E$1024,0)),\"\")","v":"10002214 - ELFRIDA RATHBONE CAMDEN - LEIGHTON EDUCATION PROJECT"}]
[10019194,"ELMFIELD TRAINING LTD","10019194 - ELMFIELD TRAINING LTD",{"$f":"--ISNUMBER(IFERROR(SEARCH(ProviderTable!$B$3,C286,1),\"\"))","v":1},{"$f":"IF(D286=1,COUNTIF($D$2:D286,1),\"\")","v":285},{"$f":"IFERROR(INDEX($C$2:$C$1024,MATCH(ROWS($E$2:E286),$E$2:$E$1024,0)),\"\")","v":"10019194 - ELMFIELD TRAINING LTD"}]
[10031331,"ELMS ASSOCIATES LTD","10031331 - ELMS ASSOCIATES LTD",{"$f":"--ISNUMBER(IFERROR(SEARCH(ProviderTable!$B$3,C287,1),\"\"))","v":1},{"$f":"IF(D287=1,COUNTIF($D$2:D287,1),\"\")","v":286},{"$f":"IFERROR(INDEX($C$2:$C$1024,MATCH(ROWS($E$2:E287),$E$2:$E$1024,0)),\"\")","v":"10031331 - ELMS ASSOCIATES LTD"}]
[10023898,"ENABLING DEVELOPMENT OPPORTUNITIES LTD","10023898 - ENABLING DEVELOPMENT OPPORTUNITIES LTD",{"$f":"--ISNUMBER(IFERROR(SEARCH(ProviderTable!$B$3,C288,1),\"\"))","v":1},{"$f":"IF(D288=1,COUNTIF($D$2:D288,1),\"\")","v":287},{"$f":"IFERROR(INDEX($C$2:$C$1024,MATCH(ROWS($E$2:E288),$E$2:$E$1024,0)),\"\")","v":"10023898 - ENABLING DEVELOPMENT OPPORTUNITIES LTD"}]
[10002260,"ENFIELD LONDON BOROUGH COUNCIL","10002260 - ENFIELD LONDON BOROUGH COUNCIL",{"$f":"--ISNUMBER(IFERROR(SEARCH(ProviderTable!$B$3,C289,1),\"\"))","v":1},{"$f":"IF(D289=1,COUNTIF($D$2:D289,1),\"\")","v":288},{"$f":"IFERROR(INDEX($C$2:$C$1024,MATCH(ROWS($E$2:E289),$E$2:$E$1024,0)),\"\")","v":"10002260 - ENFIELD LONDON BOROUGH COUNCIL"}]
[10003402,"ENGINEERING TRUST TRAINING LIMITED","10003402 - ENGINEERING TRUST TRAINING LIMITED",{"$f":"--ISNUMBER(IFERROR(SEARCH(ProviderTable!$B$3,C290,1),\"\"))","v":1},{"$f":"IF(D290=1,COUNTIF($D$2:D290,1),\"\")","v":289},{"$f":"IFERROR(INDEX($C$2:$C$1024,MATCH(ROWS($E$2:E290),$E$2:$E$1024,0)),\"\")","v":"10003402 - ENGINEERING TRUST TRAINING LIMITED"}]
[10013548,"ENGLAND AND WALES CRICKET BOARD LIMITED","10013548 - ENGLAND AND WALES CRICKET BOARD LIMITED",{"$f":"--ISNUMBER(IFERROR(SEARCH(ProviderTable!$B$3,C291,1),\"\"))","v":1},{"$f":"IF(D291=1,COUNTIF($D$2:D291,1),\"\")","v":290},{"$f":"IFERROR(INDEX($C$2:$C$1024,MATCH(ROWS($E$2:E291),$E$2:$E$1024,0)),\"\")","v":"10013548 - ENGLAND AND WALES CRICKET BOARD LIMITED"}]
[10032393,"ENLIGHTENMENT PARTNERSHIP LIMITED","10032393 - ENLIGHTENMENT PARTNERSHIP LIMITED",{"$f":"--ISNUMBER(IFERROR(SEARCH(ProviderTable!$B$3,C292,1),\"\"))","v":1},{"$f":"IF(D292=1,COUNTIF($D$2:D292,1),\"\")","v":291},{"$f":"IFERROR(INDEX($C$2:$C$1024,MATCH(ROWS($E$2:E292),$E$2:$E$1024,0)),\"\")","v":"10032393 - ENLIGHTENMENT PARTNERSHIP LIMITED"}]
[10002297,"EPPING FOREST COLLEGE","10002297 - EPPING FOREST COLLEGE",{"$f":"--ISNUMBER(IFERROR(SEARCH(ProviderTable!$B$3,C293,1),\"\"))","v":1},{"$f":"IF(D293=1,COUNTIF($D$2:D293,1),\"\")","v":292},{"$f":"IFERROR(INDEX($C$2:$C$1024,MATCH(ROWS($E$2:E293),$E$2:$E$1024,0)),\"\")","v":"10002297 - EPPING FOREST COLLEGE"}]
[10044028,"EQL SOLUTIONS LIMITED","10044028 - EQL SOLUTIONS LIMITED",{"$f":"--ISNUMBER(IFERROR(SEARCH(ProviderTable!$B$3,C294,1),\"\"))","v":1},{"$f":"IF(D294=1,COUNTIF($D$2:D294,1),\"\")","v":293},{"$f":"IFERROR(INDEX($C$2:$C$1024,MATCH(ROWS($E$2:E294),$E$2:$E$1024,0)),\"\")","v":"10044028 - EQL SOLUTIONS LIMITED"}]
[10034309,"ESG (SKILLS) LIMITED","10034309 - ESG (SKILLS) LIMITED",{"$f":"--ISNUMBER(IFERROR(SEARCH(ProviderTable!$B$3,C295,1),\"\"))","v":1},{"$f":"IF(D295=1,COUNTIF($D$2:D295,1),\"\")","v":294},{"$f":"IFERROR(INDEX($C$2:$C$1024,MATCH(ROWS($E$2:E295),$E$2:$E$1024,0)),\"\")","v":"10034309 - ESG (SKILLS) LIMITED"}]
[10002327,"ESSEX COUNTY COUNCIL","10002327 - ESSEX COUNTY COUNCIL",{"$f":"--ISNUMBER(IFERROR(SEARCH(ProviderTable!$B$3,C296,1),\"\"))","v":1},{"$f":"IF(D296=1,COUNTIF($D$2:D296,1),\"\")","v":295},{"$f":"IFERROR(INDEX($C$2:$C$1024,MATCH(ROWS($E$2:E296),$E$2:$E$1024,0)),\"\")","v":"10002327 - ESSEX COUNTY COUNCIL"}]
[10002078,"E-TRAINING LIMITED","10002078 - E-TRAINING LIMITED",{"$f":"--ISNUMBER(IFERROR(SEARCH(ProviderTable!$B$3,C297,1),\"\"))","v":1},{"$f":"IF(D297=1,COUNTIF($D$2:D297,1),\"\")","v":296},{"$f":"IFERROR(INDEX($C$2:$C$1024,MATCH(ROWS($E$2:E297),$E$2:$E$1024,0)),\"\")","v":"10002078 - E-TRAINING LIMITED"}]
[10019037,"EVENTS STEWARDING, TRAINING AND CONSULTANCY LTD","10019037 - EVENTS STEWARDING, TRAINING AND CONSULTANCY LTD",{"$f":"--ISNUMBER(IFERROR(SEARCH(ProviderTable!$B$3,C298,1),\"\"))","v":1},{"$f":"IF(D298=1,COUNTIF($D$2:D298,1),\"\")","v":297},{"$f":"IFERROR(INDEX($C$2:$C$1024,MATCH(ROWS($E$2:E298),$E$2:$E$1024,0)),\"\")","v":"10019037 - EVENTS STEWARDING, TRAINING AND CONSULTANCY LTD"}]
[10002368,"EXEMPLAS HOLDINGS LIMITED","10002368 - EXEMPLAS HOLDINGS LIMITED",{"$f":"--ISNUMBER(IFERROR(SEARCH(ProviderTable!$B$3,C299,1),\"\"))","v":1},{"$f":"IF(D299=1,COUNTIF($D$2:D299,1),\"\")","v":298},{"$f":"IFERROR(INDEX($C$2:$C$1024,MATCH(ROWS($E$2:E299),$E$2:$E$1024,0)),\"\")","v":"10002368 - EXEMPLAS HOLDINGS LIMITED"}]
[10002370,"EXETER COLLEGE","10002370 - EXETER COLLEGE",{"$f":"--ISNUMBER(IFERROR(SEARCH(ProviderTable!$B$3,C300,1),\"\"))","v":1},{"$f":"IF(D300=1,COUNTIF($D$2:D300,1),\"\")","v":299},{"$f":"IFERROR(INDEX($C$2:$C$1024,MATCH(ROWS($E$2:E300),$E$2:$E$1024,0)),\"\")","v":"10002370 - EXETER COLLEGE"}]
[10024771,"EXETER ROYAL ACADEMY FOR DEAF EDUCATION","10024771 - EXETER ROYAL ACADEMY FOR DEAF EDUCATION",{"$f":"--ISNUMBER(IFERROR(SEARCH(ProviderTable!$B$3,C301,1),\"\"))","v":1},{"$f":"IF(D301=1,COUNTIF($D$2:D301,1),\"\")","v":300},{"$f":"IFERROR(INDEX($C$2:$C$1024,MATCH(ROWS($E$2:E301),$E$2:$E$1024,0)),\"\")","v":"10024771 - EXETER ROYAL ACADEMY FOR DEAF EDUCATION"}]
[10003231,"EXG LIMITED","10003231 - EXG LIMITED",{"$f":"--ISNUMBER(IFERROR(SEARCH(ProviderTable!$B$3,C302,1),\"\"))","v":1},{"$f":"IF(D302=1,COUNTIF($D$2:D302,1),\"\")","v":301},{"$f":"IFERROR(INDEX($C$2:$C$1024,MATCH(ROWS($E$2:E302),$E$2:$E$1024,0)),\"\")","v":"10003231 - EXG LIMITED"}]
[10002375,"EXPEDIENT TRAINING SERVICES LIMITED","10002375 - EXPEDIENT TRAINING SERVICES LIMITED",{"$f":"--ISNUMBER(IFERROR(SEARCH(ProviderTable!$B$3,C303,1),\"\"))","v":1},{"$f":"IF(D303=1,COUNTIF($D$2:D303,1),\"\")","v":302},{"$f":"IFERROR(INDEX($C$2:$C$1024,MATCH(ROWS($E$2:E303),$E$2:$E$1024,0)),\"\")","v":"10002375 - EXPEDIENT TRAINING SERVICES LIMITED"}]
[10007928,"FAREHAM COLLEGE","10007928 - FAREHAM COLLEGE",{"$f":"--ISNUMBER(IFERROR(SEARCH(ProviderTable!$B$3,C304,1),\"\"))","v":1},{"$f":"IF(D304=1,COUNTIF($D$2:D304,1),\"\")","v":303},{"$f":"IFERROR(INDEX($C$2:$C$1024,MATCH(ROWS($E$2:E304),$E$2:$E$1024,0)),\"\")","v":"10007928 - FAREHAM COLLEGE"}]
[10002407,"FAREPORT TRAINING ORGANISATION LIMITED","10002407 - FAREPORT TRAINING ORGANISATION LIMITED",{"$f":"--ISNUMBER(IFERROR(SEARCH(ProviderTable!$B$3,C305,1),\"\"))","v":1},{"$f":"IF(D305=1,COUNTIF($D$2:D305,1),\"\")","v":304},{"$f":"IFERROR(INDEX($C$2:$C$1024,MATCH(ROWS($E$2:E305),$E$2:$E$1024,0)),\"\")","v":"10002407 - FAREPORT TRAINING ORGANISATION LIMITED"}]
[10002412,"FARNBOROUGH COLLEGE OF TECHNOLOGY","10002412 - FARNBOROUGH COLLEGE OF TECHNOLOGY",{"$f":"--ISNUMBER(IFERROR(SEARCH(ProviderTable!$B$3,C306,1),\"\"))","v":1},{"$f":"IF(D306=1,COUNTIF($D$2:D306,1),\"\")","v":305},{"$f":"IFERROR(INDEX($C$2:$C$1024,MATCH(ROWS($E$2:E306),$E$2:$E$1024,0)),\"\")","v":"10002412 - FARNBOROUGH COLLEGE OF TECHNOLOGY"}]
[10012865,"FARRIERS REGISTRATION COUNCIL","10012865 - FARRIERS REGISTRATION COUNCIL",{"$f":"--ISNUMBER(IFERROR(SEARCH(ProviderTable!$B$3,C307,1),\"\"))","v":1},{"$f":"IF(D307=1,COUNTIF($D$2:D307,1),\"\")","v":306},{"$f":"IFERROR(INDEX($C$2:$C$1024,MATCH(ROWS($E$2:E307),$E$2:$E$1024,0)),\"\")","v":"10012865 - FARRIERS REGISTRATION COUNCIL"}]
[10009213,"FASHION RETAIL ACADEMY","10009213 - FASHION RETAIL ACADEMY",{"$f":"--ISNUMBER(IFERROR(SEARCH(ProviderTable!$B$3,C308,1),\"\"))","v":1},{"$f":"IF(D308=1,COUNTIF($D$2:D308,1),\"\")","v":307},{"$f":"IFERROR(INDEX($C$2:$C$1024,MATCH(ROWS($E$2:E308),$E$2:$E$1024,0)),\"\")","v":"10009213 - FASHION RETAIL ACADEMY"}]
[10020022,"FINMECCANICA UK LIMITED","10020022 - FINMECCANICA UK LIMITED",{"$f":"--ISNUMBER(IFERROR(SEARCH(ProviderTable!$B$3,C309,1),\"\"))","v":1},{"$f":"IF(D309=1,COUNTIF($D$2:D309,1),\"\")","v":308},{"$f":"IFERROR(INDEX($C$2:$C$1024,MATCH(ROWS($E$2:E309),$E$2:$E$1024,0)),\"\")","v":"10020022 - FINMECCANICA UK LIMITED"}]
[10002463,"FINNING (UK) LTD.","10002463 - FINNING (UK) LTD.",{"$f":"--ISNUMBER(IFERROR(SEARCH(ProviderTable!$B$3,C310,1),\"\"))","v":1},{"$f":"IF(D310=1,COUNTIF($D$2:D310,1),\"\")","v":309},{"$f":"IFERROR(INDEX($C$2:$C$1024,MATCH(ROWS($E$2:E310),$E$2:$E$1024,0)),\"\")","v":"10002463 - FINNING (UK) LTD."}]
[10008641,"FIRCROFT COLLEGE OF ADULT EDUCATION","10008641 - FIRCROFT COLLEGE OF ADULT EDUCATION",{"$f":"--ISNUMBER(IFERROR(SEARCH(ProviderTable!$B$3,C311,1),\"\"))","v":1},{"$f":"IF(D311=1,COUNTIF($D$2:D311,1),\"\")","v":310},{"$f":"IFERROR(INDEX($C$2:$C$1024,MATCH(ROWS($E$2:E311),$E$2:$E$1024,0)),\"\")","v":"10008641 - FIRCROFT COLLEGE OF ADULT EDUCATION"}]
[10010571,"FIRST CITY TRAINING LIMITED","10010571 - FIRST CITY TRAINING LIMITED",{"$f":"--ISNUMBER(IFERROR(SEARCH(ProviderTable!$B$3,C312,1),\"\"))","v":1},{"$f":"IF(D312=1,COUNTIF($D$2:D312,1),\"\")","v":311},{"$f":"IFERROR(INDEX($C$2:$C$1024,MATCH(ROWS($E$2:E312),$E$2:$E$1024,0)),\"\")","v":"10010571 - FIRST CITY TRAINING LIMITED"}]
[10002483,"FIRST RUNG LIMITED","10002483 - FIRST RUNG LIMITED",{"$f":"--ISNUMBER(IFERROR(SEARCH(ProviderTable!$B$3,C313,1),\"\"))","v":1},{"$f":"IF(D313=1,COUNTIF($D$2:D313,1),\"\")","v":312},{"$f":"IFERROR(INDEX($C$2:$C$1024,MATCH(ROWS($E$2:E313),$E$2:$E$1024,0)),\"\")","v":"10002483 - FIRST RUNG LIMITED"}]
[10038911,"FIRST4SKILLS LIMITED","10038911 - FIRST4SKILLS LIMITED",{"$f":"--ISNUMBER(IFERROR(SEARCH(ProviderTable!$B$3,C314,1),\"\"))","v":1},{"$f":"IF(D314=1,COUNTIF($D$2:D314,1),\"\")","v":313},{"$f":"IFERROR(INDEX($C$2:$C$1024,MATCH(ROWS($E$2:E314),$E$2:$E$1024,0)),\"\")","v":"10038911 - FIRST4SKILLS LIMITED"}]
[10002424,"FNTC TRAINING AND CONSULTANCY LIMITED","10002424 - FNTC TRAINING AND CONSULTANCY LIMITED",{"$f":"--ISNUMBER(IFERROR(SEARCH(ProviderTable!$B$3,C315,1),\"\"))","v":1},{"$f":"IF(D315=1,COUNTIF($D$2:D315,1),\"\")","v":314},{"$f":"IFERROR(INDEX($C$2:$C$1024,MATCH(ROWS($E$2:E315),$E$2:$E$1024,0)),\"\")","v":"10002424 - FNTC TRAINING AND CONSULTANCY LIMITED"}]
[10009687,"FOCUS TRAINING & DEVELOPMENT LTD","10009687 - FOCUS TRAINING & DEVELOPMENT LTD",{"$f":"--ISNUMBER(IFERROR(SEARCH(ProviderTable!$B$3,C316,1),\"\"))","v":1},{"$f":"IF(D316=1,COUNTIF($D$2:D316,1),\"\")","v":315},{"$f":"IFERROR(INDEX($C$2:$C$1024,MATCH(ROWS($E$2:E316),$E$2:$E$1024,0)),\"\")","v":"10009687 - FOCUS TRAINING & DEVELOPMENT LTD"}]
[10026590,"FOCUS TRAINING (SW) LIMITED","10026590 - FOCUS TRAINING (SW) LIMITED",{"$f":"--ISNUMBER(IFERROR(SEARCH(ProviderTable!$B$3,C317,1),\"\"))","v":1},{"$f":"IF(D317=1,COUNTIF($D$2:D317,1),\"\")","v":316},{"$f":"IFERROR(INDEX($C$2:$C$1024,MATCH(ROWS($E$2:E317),$E$2:$E$1024,0)),\"\")","v":"10026590 - FOCUS TRAINING (SW) LIMITED"}]
[10010401,"FOCUS TRAINING LIMITED","10010401 - FOCUS TRAINING LIMITED",{"$f":"--ISNUMBER(IFERROR(SEARCH(ProviderTable!$B$3,C318,1),\"\"))","v":1},{"$f":"IF(D318=1,COUNTIF($D$2:D318,1),\"\")","v":317},{"$f":"IFERROR(INDEX($C$2:$C$1024,MATCH(ROWS($E$2:E318),$E$2:$E$1024,0)),\"\")","v":"10010401 - FOCUS TRAINING LIMITED"}]
[10001230,"FORSTER COMMUNITY COLLEGE LIMITED","10001230 - FORSTER COMMUNITY COLLEGE LIMITED",{"$f":"--ISNUMBER(IFERROR(SEARCH(ProviderTable!$B$3,C319,1),\"\"))","v":1},{"$f":"IF(D319=1,COUNTIF($D$2:D319,1),\"\")","v":318},{"$f":"IFERROR(INDEX($C$2:$C$1024,MATCH(ROWS($E$2:E319),$E$2:$E$1024,0)),\"\")","v":"10001230 - FORSTER COMMUNITY COLLEGE LIMITED"}]
[10002554,"FOUR COUNTIES TRAINING LIMITED","10002554 - FOUR COUNTIES TRAINING LIMITED",{"$f":"--ISNUMBER(IFERROR(SEARCH(ProviderTable!$B$3,C320,1),\"\"))","v":1},{"$f":"IF(D320=1,COUNTIF($D$2:D320,1),\"\")","v":319},{"$f":"IFERROR(INDEX($C$2:$C$1024,MATCH(ROWS($E$2:E320),$E$2:$E$1024,0)),\"\")","v":"10002554 - FOUR COUNTIES TRAINING LIMITED"}]
[10002560,"FOXES ACADEMY","10002560 - FOXES ACADEMY",{"$f":"--ISNUMBER(IFERROR(SEARCH(ProviderTable!$B$3,C321,1),\"\"))","v":1},{"$f":"IF(D321=1,COUNTIF($D$2:D321,1),\"\")","v":320},{"$f":"IFERROR(INDEX($C$2:$C$1024,MATCH(ROWS($E$2:E321),$E$2:$E$1024,0)),\"\")","v":"10002560 - FOXES ACADEMY"}]
[10002565,"FRANCESCO GROUP (HOLDINGS) LIMITED","10002565 - FRANCESCO GROUP (HOLDINGS) LIMITED",{"$f":"--ISNUMBER(IFERROR(SEARCH(ProviderTable!$B$3,C322,1),\"\"))","v":1},{"$f":"IF(D322=1,COUNTIF($D$2:D322,1),\"\")","v":321},{"$f":"IFERROR(INDEX($C$2:$C$1024,MATCH(ROWS($E$2:E322),$E$2:$E$1024,0)),\"\")","v":"10002565 - FRANCESCO GROUP (HOLDINGS) LIMITED"}]
[10002570,"FRANKLIN COLLEGE",{"$f":"A323&\" - \"&B323","v":"10002570 - FRANKLIN COLLEGE"},{"$f":"--ISNUMBER(IFERROR(SEARCH(ProviderTable!$B$3,C323,1),\"\"))","v":1},{"$f":"IF(D323=1,COUNTIF($D$2:D323,1),\"\")","v":322},{"$f":"IFERROR(INDEX($C$2:$C$1024,MATCH(ROWS($E$2:E323),$E$2:$E$1024,0)),\"\")","v":"10002570 - FRANKLIN COLLEGE"}]
[10025915,"FREEMAN COLLEGE","10025915 - FREEMAN COLLEGE",{"$f":"--ISNUMBER(IFERROR(SEARCH(ProviderTable!$B$3,C324,1),\"\"))","v":1},{"$f":"IF(D324=1,COUNTIF($D$2:D324,1),\"\")","v":323},{"$f":"IFERROR(INDEX($C$2:$C$1024,MATCH(ROWS($E$2:E324),$E$2:$E$1024,0)),\"\")","v":"10025915 - FREEMAN COLLEGE"}]
[10002578,"FRIENDS CENTRE","10002578 - FRIENDS CENTRE",{"$f":"--ISNUMBER(IFERROR(SEARCH(ProviderTable!$B$3,C325,1),\"\"))","v":1},{"$f":"IF(D325=1,COUNTIF($D$2:D325,1),\"\")","v":324},{"$f":"IFERROR(INDEX($C$2:$C$1024,MATCH(ROWS($E$2:E325),$E$2:$E$1024,0)),\"\")","v":"10002578 - FRIENDS CENTRE"}]
[10002599,"FURNESS COLLEGE","10002599 - FURNESS COLLEGE",{"$f":"--ISNUMBER(IFERROR(SEARCH(ProviderTable!$B$3,C326,1),\"\"))","v":1},{"$f":"IF(D326=1,COUNTIF($D$2:D326,1),\"\")","v":325},{"$f":"IFERROR(INDEX($C$2:$C$1024,MATCH(ROWS($E$2:E326),$E$2:$E$1024,0)),\"\")","v":"10002599 - FURNESS COLLEGE"}]
[10002613,"FUTURE-WIZE LIMITED","10002613 - FUTURE-WIZE LIMITED",{"$f":"--ISNUMBER(IFERROR(SEARCH(ProviderTable!$B$3,C327,1),\"\"))","v":1},{"$f":"IF(D327=1,COUNTIF($D$2:D327,1),\"\")","v":326},{"$f":"IFERROR(INDEX($C$2:$C$1024,MATCH(ROWS($E$2:E327),$E$2:$E$1024,0)),\"\")","v":"10002613 - FUTURE-WIZE LIMITED"}]
[10002618,"G B TRAINING (UK) LTD","10002618 - G B TRAINING (UK) LTD",{"$f":"--ISNUMBER(IFERROR(SEARCH(ProviderTable!$B$3,C328,1),\"\"))","v":1},{"$f":"IF(D328=1,COUNTIF($D$2:D328,1),\"\")","v":327},{"$f":"IFERROR(INDEX($C$2:$C$1024,MATCH(ROWS($E$2:E328),$E$2:$E$1024,0)),\"\")","v":"10002618 - G B TRAINING (UK) LTD"}]
[10000789,"G.R. & M.M. BLACKLEDGE PLC","10000789 - G.R. & M.M. BLACKLEDGE PLC",{"$f":"--ISNUMBER(IFERROR(SEARCH(ProviderTable!$B$3,C329,1),\"\"))","v":1},{"$f":"IF(D329=1,COUNTIF($D$2:D329,1),\"\")","v":328},{"$f":"IFERROR(INDEX($C$2:$C$1024,MATCH(ROWS($E$2:E329),$E$2:$E$1024,0)),\"\")","v":"10000789 - G.R. & M.M. BLACKLEDGE PLC"}]
[10005728,"G4S CARE AND JUSTICE SERVICES (UK) LIMITED","10005728 - G4S CARE AND JUSTICE SERVICES (UK) LIMITED",{"$f":"--ISNUMBER(IFERROR(SEARCH(ProviderTable!$B$3,C330,1),\"\"))","v":1},{"$f":"IF(D330=1,COUNTIF($D$2:D330,1),\"\")","v":329},{"$f":"IFERROR(INDEX($C$2:$C$1024,MATCH(ROWS($E$2:E330),$E$2:$E$1024,0)),\"\")","v":"10005728 - G4S CARE AND JUSTICE SERVICES (UK) LIMITED"}]
[10002638,"GATESHEAD COLLEGE","10002638 - GATESHEAD COLLEGE",{"$f":"--ISNUMBER(IFERROR(SEARCH(ProviderTable!$B$3,C331,1),\"\"))","v":1},{"$f":"IF(D331=1,COUNTIF($D$2:D331,1),\"\")","v":330},{"$f":"IFERROR(INDEX($C$2:$C$1024,MATCH(ROWS($E$2:E331),$E$2:$E$1024,0)),\"\")","v":"10002638 - GATESHEAD COLLEGE"}]
[10002639,"GATESHEAD COUNCIL","10002639 - GATESHEAD COUNCIL",{"$f":"--ISNUMBER(IFERROR(SEARCH(ProviderTable!$B$3,C332,1),\"\"))","v":1},{"$f":"IF(D332=1,COUNTIF($D$2:D332,1),\"\")","v":331},{"$f":"IFERROR(INDEX($C$2:$C$1024,MATCH(ROWS($E$2:E332),$E$2:$E$1024,0)),\"\")","v":"10002639 - GATESHEAD COUNCIL"}]
[10002642,"GATEWAY SIXTH FORM COLLEGE","10002642 - GATEWAY SIXTH FORM COLLEGE",{"$f":"--ISNUMBER(IFERROR(SEARCH(ProviderTable!$B$3,C333,1),\"\"))","v":1},{"$f":"IF(D333=1,COUNTIF($D$2:D333,1),\"\")","v":332},{"$f":"IFERROR(INDEX($C$2:$C$1024,MATCH(ROWS($E$2:E333),$E$2:$E$1024,0)),\"\")","v":"10002642 - GATEWAY SIXTH FORM COLLEGE"}]
[10002655,"GENII ENGINEERING & TECHNOLOGY TRAINING LIMITED","10002655 - GENII ENGINEERING & TECHNOLOGY TRAINING LIMITED",{"$f":"--ISNUMBER(IFERROR(SEARCH(ProviderTable!$B$3,C334,1),\"\"))","v":1},{"$f":"IF(D334=1,COUNTIF($D$2:D334,1),\"\")","v":333},{"$f":"IFERROR(INDEX($C$2:$C$1024,MATCH(ROWS($E$2:E334),$E$2:$E$1024,0)),\"\")","v":"10002655 - GENII ENGINEERING & TECHNOLOGY TRAINING LIMITED"}]
[10012171,"GHQ TRAINING LIMITED","10012171 - GHQ TRAINING LIMITED",{"$f":"--ISNUMBER(IFERROR(SEARCH(ProviderTable!$B$3,C335,1),\"\"))","v":1},{"$f":"IF(D335=1,COUNTIF($D$2:D335,1),\"\")","v":334},{"$f":"IFERROR(INDEX($C$2:$C$1024,MATCH(ROWS($E$2:E335),$E$2:$E$1024,0)),\"\")","v":"10012171 - GHQ TRAINING LIMITED"}]
[10039882,"GI GROUP RECRUITMENT LTD","10039882 - GI GROUP RECRUITMENT LTD",{"$f":"--ISNUMBER(IFERROR(SEARCH(ProviderTable!$B$3,C336,1),\"\"))","v":1},{"$f":"IF(D336=1,COUNTIF($D$2:D336,1),\"\")","v":335},{"$f":"IFERROR(INDEX($C$2:$C$1024,MATCH(ROWS($E$2:E336),$E$2:$E$1024,0)),\"\")","v":"10039882 - GI GROUP RECRUITMENT LTD"}]
[10025914,"GLASSHOUSE COLLEGE","10025914 - GLASSHOUSE COLLEGE",{"$f":"--ISNUMBER(IFERROR(SEARCH(ProviderTable!$B$3,C337,1),\"\"))","v":1},{"$f":"IF(D337=1,COUNTIF($D$2:D337,1),\"\")","v":336},{"$f":"IFERROR(INDEX($C$2:$C$1024,MATCH(ROWS($E$2:E337),$E$2:$E$1024,0)),\"\")","v":"10025914 - GLASSHOUSE COLLEGE"}]
[10002696,"GLOUCESTERSHIRE COLLEGE","10002696 - GLOUCESTERSHIRE COLLEGE",{"$f":"--ISNUMBER(IFERROR(SEARCH(ProviderTable!$B$3,C338,1),\"\"))","v":1},{"$f":"IF(D338=1,COUNTIF($D$2:D338,1),\"\")","v":337},{"$f":"IFERROR(INDEX($C$2:$C$1024,MATCH(ROWS($E$2:E338),$E$2:$E$1024,0)),\"\")","v":"10002696 - GLOUCESTERSHIRE COLLEGE"}]
[10002697,"GLOUCESTERSHIRE COUNTY COUNCIL","10002697 - GLOUCESTERSHIRE COUNTY COUNCIL",{"$f":"--ISNUMBER(IFERROR(SEARCH(ProviderTable!$B$3,C339,1),\"\"))","v":1},{"$f":"IF(D339=1,COUNTIF($D$2:D339,1),\"\")","v":338},{"$f":"IFERROR(INDEX($C$2:$C$1024,MATCH(ROWS($E$2:E339),$E$2:$E$1024,0)),\"\")","v":"10002697 - GLOUCESTERSHIRE COUNTY COUNCIL"}]
[10002704,"GLOUCESTERSHIRE ENGINEERING TRAINING LIMITED","10002704 - GLOUCESTERSHIRE ENGINEERING TRAINING LIMITED",{"$f":"--ISNUMBER(IFERROR(SEARCH(ProviderTable!$B$3,C340,1),\"\"))","v":1},{"$f":"IF(D340=1,COUNTIF($D$2:D340,1),\"\")","v":339},{"$f":"IFERROR(INDEX($C$2:$C$1024,MATCH(ROWS($E$2:E340),$E$2:$E$1024,0)),\"\")","v":"10002704 - GLOUCESTERSHIRE ENGINEERING TRAINING LIMITED"}]
[10019262,"GORDON FRANKS","10019262 - GORDON FRANKS",{"$f":"--ISNUMBER(IFERROR(SEARCH(ProviderTable!$B$3,C341,1),\"\"))","v":1},{"$f":"IF(D341=1,COUNTIF($D$2:D341,1),\"\")","v":340},{"$f":"IFERROR(INDEX($C$2:$C$1024,MATCH(ROWS($E$2:E341),$E$2:$E$1024,0)),\"\")","v":"10019262 - GORDON FRANKS"}]
[10043571,"GORDON FRANKS TRAINING LIMITED","10043571 - GORDON FRANKS TRAINING LIMITED",{"$f":"--ISNUMBER(IFERROR(SEARCH(ProviderTable!$B$3,C342,1),\"\"))","v":1},{"$f":"IF(D342=1,COUNTIF($D$2:D342,1),\"\")","v":341},{"$f":"IFERROR(INDEX($C$2:$C$1024,MATCH(ROWS($E$2:E342),$E$2:$E$1024,0)),\"\")","v":"10043571 - GORDON FRANKS TRAINING LIMITED"}]
[10036952,"GP STRATEGIES TRAINING LIMITED","10036952 - GP STRATEGIES TRAINING LIMITED",{"$f":"--ISNUMBER(IFERROR(SEARCH(ProviderTable!$B$3,C343,1),\"\"))","v":1},{"$f":"IF(D343=1,COUNTIF($D$2:D343,1),\"\")","v":342},{"$f":"IFERROR(INDEX($C$2:$C$1024,MATCH(ROWS($E$2:E343),$E$2:$E$1024,0)),\"\")","v":"10036952 - GP STRATEGIES TRAINING LIMITED"}]
[10002743,"GRANTHAM COLLEGE","10002743 - GRANTHAM COLLEGE",{"$f":"--ISNUMBER(IFERROR(SEARCH(ProviderTable!$B$3,C344,1),\"\"))","v":1},{"$f":"IF(D344=1,COUNTIF($D$2:D344,1),\"\")","v":343},{"$f":"IFERROR(INDEX($C$2:$C$1024,MATCH(ROWS($E$2:E344),$E$2:$E$1024,0)),\"\")","v":"10002743 - GRANTHAM COLLEGE"}]
[10002755,"GREAT YARMOUTH COLLEGE","10002755 - GREAT YARMOUTH COLLEGE",{"$f":"--ISNUMBER(IFERROR(SEARCH(ProviderTable!$B$3,C345,1),\"\"))","v":1},{"$f":"IF(D345=1,COUNTIF($D$2:D345,1),\"\")","v":344},{"$f":"IFERROR(INDEX($C$2:$C$1024,MATCH(ROWS($E$2:E345),$E$2:$E$1024,0)),\"\")","v":"10002755 - GREAT YARMOUTH COLLEGE"}]
[10020561,"GREATER MERSEYSIDE LEARNING PROVIDERS' FEDERATION LIMITED","10020561 - GREATER MERSEYSIDE LEARNING PROVIDERS' FEDERATION LIMITED",{"$f":"--ISNUMBER(IFERROR(SEARCH(ProviderTable!$B$3,C346,1),\"\"))","v":1},{"$f":"IF(D346=1,COUNTIF($D$2:D346,1),\"\")","v":345},{"$f":"IFERROR(INDEX($C$2:$C$1024,MATCH(ROWS($E$2:E346),$E$2:$E$1024,0)),\"\")","v":"10020561 - GREATER MERSEYSIDE LEARNING PROVIDERS' FEDERATION LIMITED"}]
[10002767,"GREENBANK PROJECT (THE)","10002767 - GREENBANK PROJECT (THE)",{"$f":"--ISNUMBER(IFERROR(SEARCH(ProviderTable!$B$3,C347,1),\"\"))","v":1},{"$f":"IF(D347=1,COUNTIF($D$2:D347,1),\"\")","v":346},{"$f":"IFERROR(INDEX($C$2:$C$1024,MATCH(ROWS($E$2:E347),$E$2:$E$1024,0)),\"\")","v":"10002767 - GREENBANK PROJECT (THE)"}]
[10026002,"GREENBANK SERVICES LIMITED","10026002 - GREENBANK SERVICES LIMITED",{"$f":"--ISNUMBER(IFERROR(SEARCH(ProviderTable!$B$3,C348,1),\"\"))","v":1},{"$f":"IF(D348=1,COUNTIF($D$2:D348,1),\"\")","v":347},{"$f":"IFERROR(INDEX($C$2:$C$1024,MATCH(ROWS($E$2:E348),$E$2:$E$1024,0)),\"\")","v":"10026002 - GREENBANK SERVICES LIMITED"}]
[10002780,"GREENWICH COMMUNITY COLLEGE","10002780 - GREENWICH COMMUNITY COLLEGE",{"$f":"--ISNUMBER(IFERROR(SEARCH(ProviderTable!$B$3,C349,1),\"\"))","v":1},{"$f":"IF(D349=1,COUNTIF($D$2:D349,1),\"\")","v":348},{"$f":"IFERROR(INDEX($C$2:$C$1024,MATCH(ROWS($E$2:E349),$E$2:$E$1024,0)),\"\")","v":"10002780 - GREENWICH COMMUNITY COLLEGE"}]
[10007938,"GRIMSBY INSTITUTE OF FURTHER AND HIGHER EDUCATION","10007938 - GRIMSBY INSTITUTE OF FURTHER AND HIGHER EDUCATION",{"$f":"--ISNUMBER(IFERROR(SEARCH(ProviderTable!$B$3,C350,1),\"\"))","v":1},{"$f":"IF(D350=1,COUNTIF($D$2:D350,1),\"\")","v":349},{"$f":"IFERROR(INDEX($C$2:$C$1024,MATCH(ROWS($E$2:E350),$E$2:$E$1024,0)),\"\")","v":"10007938 - GRIMSBY INSTITUTE OF FURTHER AND HIGHER EDUCATION"}]
[10021185,"GROUNDWORK SOUTH TYNESIDE AND NEWCASTLE","10021185 - GROUNDWORK SOUTH TYNESIDE AND NEWCASTLE",{"$f":"--ISNUMBER(IFERROR(SEARCH(ProviderTable!$B$3,C351,1),\"\"))","v":1},{"$f":"IF(D351=1,COUNTIF($D$2:D351,1),\"\")","v":350},{"$f":"IFERROR(INDEX($C$2:$C$1024,MATCH(ROWS($E$2:E351),$E$2:$E$1024,0)),\"\")","v":"10021185 - GROUNDWORK SOUTH TYNESIDE AND NEWCASTLE"}]
[10033155,"GTA ENGLAND LIMITED","10033155 - GTA ENGLAND LIMITED",{"$f":"--ISNUMBER(IFERROR(SEARCH(ProviderTable!$B$3,C352,1),\"\"))","v":1},{"$f":"IF(D352=1,COUNTIF($D$2:D352,1),\"\")","v":351},{"$f":"IFERROR(INDEX($C$2:$C$1024,MATCH(ROWS($E$2:E352),$E$2:$E$1024,0)),\"\")","v":"10033155 - GTA ENGLAND LIMITED"}]
[10002815,"GUILDFORD COLLEGE","10002815 - GUILDFORD COLLEGE",{"$f":"--ISNUMBER(IFERROR(SEARCH(ProviderTable!$B$3,C353,1),\"\"))","v":1},{"$f":"IF(D353=1,COUNTIF($D$2:D353,1),\"\")","v":352},{"$f":"IFERROR(INDEX($C$2:$C$1024,MATCH(ROWS($E$2:E353),$E$2:$E$1024,0)),\"\")","v":"10002815 - GUILDFORD COLLEGE"}]
[10002835,"HACKNEY COMMUNITY COLLEGE","10002835 - HACKNEY COMMUNITY COLLEGE",{"$f":"--ISNUMBER(IFERROR(SEARCH(ProviderTable!$B$3,C354,1),\"\"))","v":1},{"$f":"IF(D354=1,COUNTIF($D$2:D354,1),\"\")","v":353},{"$f":"IFERROR(INDEX($C$2:$C$1024,MATCH(ROWS($E$2:E354),$E$2:$E$1024,0)),\"\")","v":"10002835 - HACKNEY COMMUNITY COLLEGE"}]
[10010792,"HACKNEY LONDON BOROUGH COUNCIL","10010792 - HACKNEY LONDON BOROUGH COUNCIL",{"$f":"--ISNUMBER(IFERROR(SEARCH(ProviderTable!$B$3,C355,1),\"\"))","v":1},{"$f":"IF(D355=1,COUNTIF($D$2:D355,1),\"\")","v":354},{"$f":"IFERROR(INDEX($C$2:$C$1024,MATCH(ROWS($E$2:E355),$E$2:$E$1024,0)),\"\")","v":"10010792 - HACKNEY LONDON BOROUGH COUNCIL"}]
[10002841,"HADDON TRAINING LIMITED","10002841 - HADDON TRAINING LIMITED",{"$f":"--ISNUMBER(IFERROR(SEARCH(ProviderTable!$B$3,C356,1),\"\"))","v":1},{"$f":"IF(D356=1,COUNTIF($D$2:D356,1),\"\")","v":355},{"$f":"IFERROR(INDEX($C$2:$C$1024,MATCH(ROWS($E$2:E356),$E$2:$E$1024,0)),\"\")","v":"10002841 - HADDON TRAINING LIMITED"}]
[10002843,"HADLOW COLLEGE","10002843 - HADLOW COLLEGE",{"$f":"--ISNUMBER(IFERROR(SEARCH(ProviderTable!$B$3,C357,1),\"\"))","v":1},{"$f":"IF(D357=1,COUNTIF($D$2:D357,1),\"\")","v":356},{"$f":"IFERROR(INDEX($C$2:$C$1024,MATCH(ROWS($E$2:E357),$E$2:$E$1024,0)),\"\")","v":"10002843 - HADLOW COLLEGE"}]
[10002850,"HAIR ACADEMY SOUTH WEST LIMITED","10002850 - HAIR ACADEMY SOUTH WEST LIMITED",{"$f":"--ISNUMBER(IFERROR(SEARCH(ProviderTable!$B$3,C358,1),\"\"))","v":1},{"$f":"IF(D358=1,COUNTIF($D$2:D358,1),\"\")","v":357},{"$f":"IFERROR(INDEX($C$2:$C$1024,MATCH(ROWS($E$2:E358),$E$2:$E$1024,0)),\"\")","v":"10002850 - HAIR ACADEMY SOUTH WEST LIMITED"}]
[10002834,"HAIR AND BEAUTY INDUSTRY TRAINING LIMITED","10002834 - HAIR AND BEAUTY INDUSTRY TRAINING LIMITED",{"$f":"--ISNUMBER(IFERROR(SEARCH(ProviderTable!$B$3,C359,1),\"\"))","v":1},{"$f":"IF(D359=1,COUNTIF($D$2:D359,1),\"\")","v":358},{"$f":"IFERROR(INDEX($C$2:$C$1024,MATCH(ROWS($E$2:E359),$E$2:$E$1024,0)),\"\")","v":"10002834 - HAIR AND BEAUTY INDUSTRY TRAINING LIMITED"}]
[10002852,"HALESOWEN COLLEGE","10002852 - HALESOWEN COLLEGE",{"$f":"--ISNUMBER(IFERROR(SEARCH(ProviderTable!$B$3,C360,1),\"\"))","v":1},{"$f":"IF(D360=1,COUNTIF($D$2:D360,1),\"\")","v":359},{"$f":"IFERROR(INDEX($C$2:$C$1024,MATCH(ROWS($E$2:E360),$E$2:$E$1024,0)),\"\")","v":"10002852 - HALESOWEN COLLEGE"}]
[10002861,"HALTON BOROUGH COUNCIL","10002861 - HALTON BOROUGH COUNCIL",{"$f":"--ISNUMBER(IFERROR(SEARCH(ProviderTable!$B$3,C361,1),\"\"))","v":1},{"$f":"IF(D361=1,COUNTIF($D$2:D361,1),\"\")","v":360},{"$f":"IFERROR(INDEX($C$2:$C$1024,MATCH(ROWS($E$2:E361),$E$2:$E$1024,0)),\"\")","v":"10002861 - HALTON BOROUGH COUNCIL"}]
[10002868,"HAMMERSMITH AND FULHAM LONDON BOROUGH COUNCIL","10002868 - HAMMERSMITH AND FULHAM LONDON BOROUGH COUNCIL",{"$f":"--ISNUMBER(IFERROR(SEARCH(ProviderTable!$B$3,C362,1),\"\"))","v":1},{"$f":"IF(D362=1,COUNTIF($D$2:D362,1),\"\")","v":361},{"$f":"IFERROR(INDEX($C$2:$C$1024,MATCH(ROWS($E$2:E362),$E$2:$E$1024,0)),\"\")","v":"10002868 - HAMMERSMITH AND FULHAM LONDON BOROUGH COUNCIL"}]
[10002872,"HAMPSHIRE COUNTY COUNCIL","10002872 - HAMPSHIRE COUNTY COUNCIL",{"$f":"--ISNUMBER(IFERROR(SEARCH(ProviderTable!$B$3,C363,1),\"\"))","v":1},{"$f":"IF(D363=1,COUNTIF($D$2:D363,1),\"\")","v":362},{"$f":"IFERROR(INDEX($C$2:$C$1024,MATCH(ROWS($E$2:E363),$E$2:$E$1024,0)),\"\")","v":"10002872 - HAMPSHIRE COUNTY COUNCIL"}]
[10002859,"HARINGEY LONDON BOROUGH COUNCIL","10002859 - HARINGEY LONDON BOROUGH COUNCIL",{"$f":"--ISNUMBER(IFERROR(SEARCH(ProviderTable!$B$3,C364,1),\"\"))","v":1},{"$f":"IF(D364=1,COUNTIF($D$2:D364,1),\"\")","v":363},{"$f":"IFERROR(INDEX($C$2:$C$1024,MATCH(ROWS($E$2:E364),$E$2:$E$1024,0)),\"\")","v":"10002859 - HARINGEY LONDON BOROUGH COUNCIL"}]
[10040630,"HARINGEY SIXTH FORM CENTRE","10040630 - HARINGEY SIXTH FORM CENTRE",{"$f":"--ISNUMBER(IFERROR(SEARCH(ProviderTable!$B$3,C365,1),\"\"))","v":1},{"$f":"IF(D365=1,COUNTIF($D$2:D365,1),\"\")","v":364},{"$f":"IFERROR(INDEX($C$2:$C$1024,MATCH(ROWS($E$2:E365),$E$2:$E$1024,0)),\"\")","v":"10040630 - HARINGEY SIXTH FORM CENTRE"}]
[10002896,"HARINGTON SCHEME LIMITED(THE)","10002896 - HARINGTON SCHEME LIMITED(THE)",{"$f":"--ISNUMBER(IFERROR(SEARCH(ProviderTable!$B$3,C366,1),\"\"))","v":1},{"$f":"IF(D366=1,COUNTIF($D$2:D366,1),\"\")","v":365},{"$f":"IFERROR(INDEX($C$2:$C$1024,MATCH(ROWS($E$2:E366),$E$2:$E$1024,0)),\"\")","v":"10002896 - HARINGTON SCHEME LIMITED(THE)"}]
[10002899,"HARLOW COLLEGE","10002899 - HARLOW COLLEGE",{"$f":"--ISNUMBER(IFERROR(SEARCH(ProviderTable!$B$3,C367,1),\"\"))","v":1},{"$f":"IF(D367=1,COUNTIF($D$2:D367,1),\"\")","v":366},{"$f":"IFERROR(INDEX($C$2:$C$1024,MATCH(ROWS($E$2:E367),$E$2:$E$1024,0)),\"\")","v":"10002899 - HARLOW COLLEGE"}]
[10002907,"HARROW COLLEGE","10002907 - HARROW COLLEGE",{"$f":"--ISNUMBER(IFERROR(SEARCH(ProviderTable!$B$3,C368,1),\"\"))","v":1},{"$f":"IF(D368=1,COUNTIF($D$2:D368,1),\"\")","v":367},{"$f":"IFERROR(INDEX($C$2:$C$1024,MATCH(ROWS($E$2:E368),$E$2:$E$1024,0)),\"\")","v":"10002907 - HARROW COLLEGE"}]
[10002910,"HARROW LONDON BOROUGH COUNCIL","10002910 - HARROW LONDON BOROUGH COUNCIL",{"$f":"--ISNUMBER(IFERROR(SEARCH(ProviderTable!$B$3,C369,1),\"\"))","v":1},{"$f":"IF(D369=1,COUNTIF($D$2:D369,1),\"\")","v":368},{"$f":"IFERROR(INDEX($C$2:$C$1024,MATCH(ROWS($E$2:E369),$E$2:$E$1024,0)),\"\")","v":"10002910 - HARROW LONDON BOROUGH COUNCIL"}]
[10002916,"HARTLEPOOL BOROUGH COUNCIL","10002916 - HARTLEPOOL BOROUGH COUNCIL",{"$f":"--ISNUMBER(IFERROR(SEARCH(ProviderTable!$B$3,C370,1),\"\"))","v":1},{"$f":"IF(D370=1,COUNTIF($D$2:D370,1),\"\")","v":369},{"$f":"IFERROR(INDEX($C$2:$C$1024,MATCH(ROWS($E$2:E370),$E$2:$E$1024,0)),\"\")","v":"10002916 - HARTLEPOOL BOROUGH COUNCIL"}]
[10002917,"HARTLEPOOL COLLEGE OF FURTHER EDUCATION","10002917 - HARTLEPOOL COLLEGE OF FURTHER EDUCATION",{"$f":"--ISNUMBER(IFERROR(SEARCH(ProviderTable!$B$3,C371,1),\"\"))","v":1},{"$f":"IF(D371=1,COUNTIF($D$2:D371,1),\"\")","v":370},{"$f":"IFERROR(INDEX($C$2:$C$1024,MATCH(ROWS($E$2:E371),$E$2:$E$1024,0)),\"\")","v":"10002917 - HARTLEPOOL COLLEGE OF FURTHER EDUCATION"}]
[10002919,"HARTPURY COLLEGE","10002919 - HARTPURY COLLEGE",{"$f":"--ISNUMBER(IFERROR(SEARCH(ProviderTable!$B$3,C372,1),\"\"))","v":1},{"$f":"IF(D372=1,COUNTIF($D$2:D372,1),\"\")","v":371},{"$f":"IFERROR(INDEX($C$2:$C$1024,MATCH(ROWS($E$2:E372),$E$2:$E$1024,0)),\"\")","v":"10002919 - HARTPURY COLLEGE"}]
[10002929,"HAVANT COLLEGE","10002929 - HAVANT COLLEGE",{"$f":"--ISNUMBER(IFERROR(SEARCH(ProviderTable!$B$3,C373,1),\"\"))","v":1},{"$f":"IF(D373=1,COUNTIF($D$2:D373,1),\"\")","v":372},{"$f":"IFERROR(INDEX($C$2:$C$1024,MATCH(ROWS($E$2:E373),$E$2:$E$1024,0)),\"\")","v":"10002929 - HAVANT COLLEGE"}]
[10002935,"HAVERING COLLEGE OF FURTHER AND HIGHER EDUCATION","10002935 - HAVERING COLLEGE OF FURTHER AND HIGHER EDUCATION",{"$f":"--ISNUMBER(IFERROR(SEARCH(ProviderTable!$B$3,C374,1),\"\"))","v":1},{"$f":"IF(D374=1,COUNTIF($D$2:D374,1),\"\")","v":373},{"$f":"IFERROR(INDEX($C$2:$C$1024,MATCH(ROWS($E$2:E374),$E$2:$E$1024,0)),\"\")","v":"10002935 - HAVERING COLLEGE OF FURTHER AND HIGHER EDUCATION"}]
[10003993,"HAVERING LONDON BOROUGH COUNCIL","10003993 - HAVERING LONDON BOROUGH COUNCIL",{"$f":"--ISNUMBER(IFERROR(SEARCH(ProviderTable!$B$3,C375,1),\"\"))","v":1},{"$f":"IF(D375=1,COUNTIF($D$2:D375,1),\"\")","v":374},{"$f":"IFERROR(INDEX($C$2:$C$1024,MATCH(ROWS($E$2:E375),$E$2:$E$1024,0)),\"\")","v":"10003993 - HAVERING LONDON BOROUGH COUNCIL"}]
[10009600,"HAWK MANAGEMENT (UK) LIMITED","10009600 - HAWK MANAGEMENT (UK) LIMITED",{"$f":"--ISNUMBER(IFERROR(SEARCH(ProviderTable!$B$3,C376,1),\"\"))","v":1},{"$f":"IF(D376=1,COUNTIF($D$2:D376,1),\"\")","v":375},{"$f":"IFERROR(INDEX($C$2:$C$1024,MATCH(ROWS($E$2:E376),$E$2:$E$1024,0)),\"\")","v":"10009600 - HAWK MANAGEMENT (UK) LIMITED"}]
[10030120,"HAYS TRAVEL LIMITED","10030120 - HAYS TRAVEL LIMITED",{"$f":"--ISNUMBER(IFERROR(SEARCH(ProviderTable!$B$3,C377,1),\"\"))","v":1},{"$f":"IF(D377=1,COUNTIF($D$2:D377,1),\"\")","v":376},{"$f":"IFERROR(INDEX($C$2:$C$1024,MATCH(ROWS($E$2:E377),$E$2:$E$1024,0)),\"\")","v":"10030120 - HAYS TRAVEL LIMITED"}]
[10021665,"HEALTH & SAFETY TRAINING LIMITED","10021665 - HEALTH & SAFETY TRAINING LIMITED",{"$f":"--ISNUMBER(IFERROR(SEARCH(ProviderTable!$B$3,C378,1),\"\"))","v":1},{"$f":"IF(D378=1,COUNTIF($D$2:D378,1),\"\")","v":377},{"$f":"IFERROR(INDEX($C$2:$C$1024,MATCH(ROWS($E$2:E378),$E$2:$E$1024,0)),\"\")","v":"10021665 - HEALTH & SAFETY TRAINING LIMITED"}]
[10022133,"HEALTH AND FITNESS EDUCATION LIMITED","10022133 - HEALTH AND FITNESS EDUCATION LIMITED",{"$f":"--ISNUMBER(IFERROR(SEARCH(ProviderTable!$B$3,C379,1),\"\"))","v":1},{"$f":"IF(D379=1,COUNTIF($D$2:D379,1),\"\")","v":378},{"$f":"IFERROR(INDEX($C$2:$C$1024,MATCH(ROWS($E$2:E379),$E$2:$E$1024,0)),\"\")","v":"10022133 - HEALTH AND FITNESS EDUCATION LIMITED"}]
[10041332,"HEALTH EDUCATION ENGLAND NORTH EAST","10041332 - HEALTH EDUCATION ENGLAND NORTH EAST",{"$f":"--ISNUMBER(IFERROR(SEARCH(ProviderTable!$B$3,C380,1),\"\"))","v":1},{"$f":"IF(D380=1,COUNTIF($D$2:D380,1),\"\")","v":379},{"$f":"IFERROR(INDEX($C$2:$C$1024,MATCH(ROWS($E$2:E380),$E$2:$E$1024,0)),\"\")","v":"10041332 - HEALTH EDUCATION ENGLAND NORTH EAST"}]
[10002976,"HEART OF ENGLAND TRAINING LIMITED","10002976 - HEART OF ENGLAND TRAINING LIMITED",{"$f":"--ISNUMBER(IFERROR(SEARCH(ProviderTable!$B$3,C381,1),\"\"))","v":1},{"$f":"IF(D381=1,COUNTIF($D$2:D381,1),\"\")","v":380},{"$f":"IFERROR(INDEX($C$2:$C$1024,MATCH(ROWS($E$2:E381),$E$2:$E$1024,0)),\"\")","v":"10002976 - HEART OF ENGLAND TRAINING LIMITED"}]
[10007977,"HEART OF WORCESTERSHIRE COLLEGE","10007977 - HEART OF WORCESTERSHIRE COLLEGE",{"$f":"--ISNUMBER(IFERROR(SEARCH(ProviderTable!$B$3,C382,1),\"\"))","v":1},{"$f":"IF(D382=1,COUNTIF($D$2:D382,1),\"\")","v":381},{"$f":"IFERROR(INDEX($C$2:$C$1024,MATCH(ROWS($E$2:E382),$E$2:$E$1024,0)),\"\")","v":"10007977 - HEART OF WORCESTERSHIRE COLLEGE"}]
[10002979,"HEATHERCROFT TRAINING SERVICES LIMITED","10002979 - HEATHERCROFT TRAINING SERVICES LIMITED",{"$f":"--ISNUMBER(IFERROR(SEARCH(ProviderTable!$B$3,C383,1),\"\"))","v":1},{"$f":"IF(D383=1,COUNTIF($D$2:D383,1),\"\")","v":382},{"$f":"IFERROR(INDEX($C$2:$C$1024,MATCH(ROWS($E$2:E383),$E$2:$E$1024,0)),\"\")","v":"10002979 - HEATHERCROFT TRAINING SERVICES LIMITED"}]
[10003010,"HENLEY COLLEGE COVENTRY","10003010 - HENLEY COLLEGE COVENTRY",{"$f":"--ISNUMBER(IFERROR(SEARCH(ProviderTable!$B$3,C384,1),\"\"))","v":1},{"$f":"IF(D384=1,COUNTIF($D$2:D384,1),\"\")","v":383},{"$f":"IFERROR(INDEX($C$2:$C$1024,MATCH(ROWS($E$2:E384),$E$2:$E$1024,0)),\"\")","v":"10003010 - HENLEY COLLEGE COVENTRY"}]
[10012814,"HENSHAW'S COLLEGE","10012814 - HENSHAW'S COLLEGE",{"$f":"--ISNUMBER(IFERROR(SEARCH(ProviderTable!$B$3,C385,1),\"\"))","v":1},{"$f":"IF(D385=1,COUNTIF($D$2:D385,1),\"\")","v":384},{"$f":"IFERROR(INDEX($C$2:$C$1024,MATCH(ROWS($E$2:E385),$E$2:$E$1024,0)),\"\")","v":"10012814 - HENSHAW'S COLLEGE"}]
[10003019,"HERBERT OF LIVERPOOL (TRAINING) LTD","10003019 - HERBERT OF LIVERPOOL (TRAINING) LTD",{"$f":"--ISNUMBER(IFERROR(SEARCH(ProviderTable!$B$3,C386,1),\"\"))","v":1},{"$f":"IF(D386=1,COUNTIF($D$2:D386,1),\"\")","v":385},{"$f":"IFERROR(INDEX($C$2:$C$1024,MATCH(ROWS($E$2:E386),$E$2:$E$1024,0)),\"\")","v":"10003019 - HERBERT OF LIVERPOOL (TRAINING) LTD"}]
[10003022,"HEREFORD COLLEGE OF ARTS",{"$f":"A387&\" - \"&B387","v":"10003022 - HEREFORD COLLEGE OF ARTS"},{"$f":"--ISNUMBER(IFERROR(SEARCH(ProviderTable!$B$3,C387,1),\"\"))","v":1},{"$f":"IF(D387=1,COUNTIF($D$2:D387,1),\"\")","v":386},{"$f":"IFERROR(INDEX($C$2:$C$1024,MATCH(ROWS($E$2:E387),$E$2:$E$1024,0)),\"\")","v":"10003022 - HEREFORD COLLEGE OF ARTS"}]
[10003021,"HEREFORD SIXTH FORM COLLEGE","10003021 - HEREFORD SIXTH FORM COLLEGE",{"$f":"--ISNUMBER(IFERROR(SEARCH(ProviderTable!$B$3,C388,1),\"\"))","v":1},{"$f":"IF(D388=1,COUNTIF($D$2:D388,1),\"\")","v":387},{"$f":"IFERROR(INDEX($C$2:$C$1024,MATCH(ROWS($E$2:E388),$E$2:$E$1024,0)),\"\")","v":"10003021 - HEREFORD SIXTH FORM COLLEGE"}]
[10003023,"HEREFORDSHIRE AND LUDLOW COLLEGE","10003023 - HEREFORDSHIRE AND LUDLOW COLLEGE",{"$f":"--ISNUMBER(IFERROR(SEARCH(ProviderTable!$B$3,C389,1),\"\"))","v":1},{"$f":"IF(D389=1,COUNTIF($D$2:D389,1),\"\")","v":388},{"$f":"IFERROR(INDEX($C$2:$C$1024,MATCH(ROWS($E$2:E389),$E$2:$E$1024,0)),\"\")","v":"10003023 - HEREFORDSHIRE AND LUDLOW COLLEGE"}]
[10003025,"HEREFORDSHIRE COUNCIL","10003025 - HEREFORDSHIRE COUNCIL",{"$f":"--ISNUMBER(IFERROR(SEARCH(ProviderTable!$B$3,C390,1),\"\"))","v":1},{"$f":"IF(D390=1,COUNTIF($D$2:D390,1),\"\")","v":389},{"$f":"IFERROR(INDEX($C$2:$C$1024,MATCH(ROWS($E$2:E390),$E$2:$E$1024,0)),\"\")","v":"10003025 - HEREFORDSHIRE COUNCIL"}]
[10003026,"HEREFORDSHIRE GROUP TRAINING ASSOCIATION LIMITED","10003026 - HEREFORDSHIRE GROUP TRAINING ASSOCIATION LIMITED",{"$f":"--ISNUMBER(IFERROR(SEARCH(ProviderTable!$B$3,C391,1),\"\"))","v":1},{"$f":"IF(D391=1,COUNTIF($D$2:D391,1),\"\")","v":390},{"$f":"IFERROR(INDEX($C$2:$C$1024,MATCH(ROWS($E$2:E391),$E$2:$E$1024,0)),\"\")","v":"10003026 - HEREFORDSHIRE GROUP TRAINING ASSOCIATION LIMITED"}]
[10003029,"HEREWARD COLLEGE OF FURTHER EDUCATION","10003029 - HEREWARD COLLEGE OF FURTHER EDUCATION",{"$f":"--ISNUMBER(IFERROR(SEARCH(ProviderTable!$B$3,C392,1),\"\"))","v":1},{"$f":"IF(D392=1,COUNTIF($D$2:D392,1),\"\")","v":391},{"$f":"IFERROR(INDEX($C$2:$C$1024,MATCH(ROWS($E$2:E392),$E$2:$E$1024,0)),\"\")","v":"10003029 - HEREWARD COLLEGE OF FURTHER EDUCATION"}]
[10003035,"HERTFORD REGIONAL COLLEGE","10003035 - HERTFORD REGIONAL COLLEGE",{"$f":"--ISNUMBER(IFERROR(SEARCH(ProviderTable!$B$3,C393,1),\"\"))","v":1},{"$f":"IF(D393=1,COUNTIF($D$2:D393,1),\"\")","v":392},{"$f":"IFERROR(INDEX($C$2:$C$1024,MATCH(ROWS($E$2:E393),$E$2:$E$1024,0)),\"\")","v":"10003035 - HERTFORD REGIONAL COLLEGE"}]
[10003039,"HERTFORDSHIRE COUNTY COUNCIL","10003039 - HERTFORDSHIRE COUNTY COUNCIL",{"$f":"--ISNUMBER(IFERROR(SEARCH(ProviderTable!$B$3,C394,1),\"\"))","v":1},{"$f":"IF(D394=1,COUNTIF($D$2:D394,1),\"\")","v":393},{"$f":"IFERROR(INDEX($C$2:$C$1024,MATCH(ROWS($E$2:E394),$E$2:$E$1024,0)),\"\")","v":"10003039 - HERTFORDSHIRE COUNTY COUNCIL"}]
[10007945,"HIGHBURY COLLEGE PORTSMOUTH","10007945 - HIGHBURY COLLEGE PORTSMOUTH",{"$f":"--ISNUMBER(IFERROR(SEARCH(ProviderTable!$B$3,C395,1),\"\"))","v":1},{"$f":"IF(D395=1,COUNTIF($D$2:D395,1),\"\")","v":394},{"$f":"IFERROR(INDEX($C$2:$C$1024,MATCH(ROWS($E$2:E395),$E$2:$E$1024,0)),\"\")","v":"10007945 - HIGHBURY COLLEGE PORTSMOUTH"}]
[10003088,"HILLCROFT COLLEGE (INCORPORATED) LIMITED","10003088 - HILLCROFT COLLEGE (INCORPORATED) LIMITED",{"$f":"--ISNUMBER(IFERROR(SEARCH(ProviderTable!$B$3,C396,1),\"\"))","v":1},{"$f":"IF(D396=1,COUNTIF($D$2:D396,1),\"\")","v":395},{"$f":"IFERROR(INDEX($C$2:$C$1024,MATCH(ROWS($E$2:E396),$E$2:$E$1024,0)),\"\")","v":"10003088 - HILLCROFT COLLEGE (INCORPORATED) LIMITED"}]
[10003089,"HILLINGDON LONDON BOROUGH COUNCIL","10003089 - HILLINGDON LONDON BOROUGH COUNCIL",{"$f":"--ISNUMBER(IFERROR(SEARCH(ProviderTable!$B$3,C397,1),\"\"))","v":1},{"$f":"IF(D397=1,COUNTIF($D$2:D397,1),\"\")","v":396},{"$f":"IFERROR(INDEX($C$2:$C$1024,MATCH(ROWS($E$2:E397),$E$2:$E$1024,0)),\"\")","v":"10003089 - HILLINGDON LONDON BOROUGH COUNCIL"}]
[10003093,"HILLINGDON TRAINING LIMITED","10003093 - HILLINGDON TRAINING LIMITED",{"$f":"--ISNUMBER(IFERROR(SEARCH(ProviderTable!$B$3,C398,1),\"\"))","v":1},{"$f":"IF(D398=1,COUNTIF($D$2:D398,1),\"\")","v":397},{"$f":"IFERROR(INDEX($C$2:$C$1024,MATCH(ROWS($E$2:E398),$E$2:$E$1024,0)),\"\")","v":"10003093 - HILLINGDON TRAINING LIMITED"}]
[10003094,"HILLS ROAD SIXTH FORM COLLEGE","10003094 - HILLS ROAD SIXTH FORM COLLEGE",{"$f":"--ISNUMBER(IFERROR(SEARCH(ProviderTable!$B$3,C399,1),\"\"))","v":1},{"$f":"IF(D399=1,COUNTIF($D$2:D399,1),\"\")","v":398},{"$f":"IFERROR(INDEX($C$2:$C$1024,MATCH(ROWS($E$2:E399),$E$2:$E$1024,0)),\"\")","v":"10003094 - HILLS ROAD SIXTH FORM COLLEGE"}]
[10003103,"HINWICK HALL COLLEGE","10003103 - HINWICK HALL COLLEGE",{"$f":"--ISNUMBER(IFERROR(SEARCH(ProviderTable!$B$3,C400,1),\"\"))","v":1},{"$f":"IF(D400=1,COUNTIF($D$2:D400,1),\"\")","v":399},{"$f":"IFERROR(INDEX($C$2:$C$1024,MATCH(ROWS($E$2:E400),$E$2:$E$1024,0)),\"\")","v":"10003103 - HINWICK HALL COLLEGE"}]
[10012467,"HIT TRAINING LTD","10012467 - HIT TRAINING LTD",{"$f":"--ISNUMBER(IFERROR(SEARCH(ProviderTable!$B$3,C401,1),\"\"))","v":1},{"$f":"IF(D401=1,COUNTIF($D$2:D401,1),\"\")","v":400},{"$f":"IFERROR(INDEX($C$2:$C$1024,MATCH(ROWS($E$2:E401),$E$2:$E$1024,0)),\"\")","v":"10012467 - HIT TRAINING LTD"}]
[10044778,"HOB SALONS LIMITED","10044778 - HOB SALONS LIMITED",{"$f":"--ISNUMBER(IFERROR(SEARCH(ProviderTable!$B$3,C402,1),\"\"))","v":1},{"$f":"IF(D402=1,COUNTIF($D$2:D402,1),\"\")","v":401},{"$f":"IFERROR(INDEX($C$2:$C$1024,MATCH(ROWS($E$2:E402),$E$2:$E$1024,0)),\"\")","v":"10044778 - HOB SALONS LIMITED"}]
[10003136,"HOMEFIELD COLLEGE","10003136 - HOMEFIELD COLLEGE",{"$f":"--ISNUMBER(IFERROR(SEARCH(ProviderTable!$B$3,C403,1),\"\"))","v":1},{"$f":"IF(D403=1,COUNTIF($D$2:D403,1),\"\")","v":402},{"$f":"IFERROR(INDEX($C$2:$C$1024,MATCH(ROWS($E$2:E403),$E$2:$E$1024,0)),\"\")","v":"10003136 - HOMEFIELD COLLEGE"}]
[10011941,"HONDA MOTOR EUROPE LIMITED","10011941 - HONDA MOTOR EUROPE LIMITED",{"$f":"--ISNUMBER(IFERROR(SEARCH(ProviderTable!$B$3,C404,1),\"\"))","v":1},{"$f":"IF(D404=1,COUNTIF($D$2:D404,1),\"\")","v":403},{"$f":"IFERROR(INDEX($C$2:$C$1024,MATCH(ROWS($E$2:E404),$E$2:$E$1024,0)),\"\")","v":"10011941 - HONDA MOTOR EUROPE LIMITED"}]
[10036333,"HOOPLE LTD","10036333 - HOOPLE LTD",{"$f":"--ISNUMBER(IFERROR(SEARCH(ProviderTable!$B$3,C405,1),\"\"))","v":1},{"$f":"IF(D405=1,COUNTIF($D$2:D405,1),\"\")","v":404},{"$f":"IFERROR(INDEX($C$2:$C$1024,MATCH(ROWS($E$2:E405),$E$2:$E$1024,0)),\"\")","v":"10036333 - HOOPLE LTD"}]
[10003146,"HOPWOOD HALL COLLEGE","10003146 - HOPWOOD HALL COLLEGE",{"$f":"--ISNUMBER(IFERROR(SEARCH(ProviderTable!$B$3,C406,1),\"\"))","v":1},{"$f":"IF(D406=1,COUNTIF($D$2:D406,1),\"\")","v":405},{"$f":"IFERROR(INDEX($C$2:$C$1024,MATCH(ROWS($E$2:E406),$E$2:$E$1024,0)),\"\")","v":"10003146 - HOPWOOD HALL COLLEGE"}]
[10003162,"HOSPITALITY TRAINING PARTNERSHIP (IOW) LIMITED","10003162 - HOSPITALITY TRAINING PARTNERSHIP (IOW) LIMITED",{"$f":"--ISNUMBER(IFERROR(SEARCH(ProviderTable!$B$3,C407,1),\"\"))","v":1},{"$f":"IF(D407=1,COUNTIF($D$2:D407,1),\"\")","v":406},{"$f":"IFERROR(INDEX($C$2:$C$1024,MATCH(ROWS($E$2:E407),$E$2:$E$1024,0)),\"\")","v":"10003162 - HOSPITALITY TRAINING PARTNERSHIP (IOW) LIMITED"}]
[10003165,"HOUNSLOW LONDON BOROUGH COUNCIL","10003165 - HOUNSLOW LONDON BOROUGH COUNCIL",{"$f":"--ISNUMBER(IFERROR(SEARCH(ProviderTable!$B$3,C408,1),\"\"))","v":1},{"$f":"IF(D408=1,COUNTIF($D$2:D408,1),\"\")","v":407},{"$f":"IFERROR(INDEX($C$2:$C$1024,MATCH(ROWS($E$2:E408),$E$2:$E$1024,0)),\"\")","v":"10003165 - HOUNSLOW LONDON BOROUGH COUNCIL"}]
[10005426,"HOUSE OF CLIVE (HAIR AND BEAUTY) LIMITED","10005426 - HOUSE OF CLIVE (HAIR AND BEAUTY) LIMITED",{"$f":"--ISNUMBER(IFERROR(SEARCH(ProviderTable!$B$3,C409,1),\"\"))","v":1},{"$f":"IF(D409=1,COUNTIF($D$2:D409,1),\"\")","v":408},{"$f":"IFERROR(INDEX($C$2:$C$1024,MATCH(ROWS($E$2:E409),$E$2:$E$1024,0)),\"\")","v":"10005426 - HOUSE OF CLIVE (HAIR AND BEAUTY) LIMITED"}]
[10029358,"HOUSING & CARE 21","10029358 - HOUSING & CARE 21",{"$f":"--ISNUMBER(IFERROR(SEARCH(ProviderTable!$B$3,C410,1),\"\"))","v":1},{"$f":"IF(D410=1,COUNTIF($D$2:D410,1),\"\")","v":409},{"$f":"IFERROR(INDEX($C$2:$C$1024,MATCH(ROWS($E$2:E410),$E$2:$E$1024,0)),\"\")","v":"10029358 - HOUSING & CARE 21"}]
[10011240,"HSBC BANK PLC","10011240 - HSBC BANK PLC",{"$f":"--ISNUMBER(IFERROR(SEARCH(ProviderTable!$B$3,C411,1),\"\"))","v":1},{"$f":"IF(D411=1,COUNTIF($D$2:D411,1),\"\")","v":410},{"$f":"IFERROR(INDEX($C$2:$C$1024,MATCH(ROWS($E$2:E411),$E$2:$E$1024,0)),\"\")","v":"10011240 - HSBC BANK PLC"}]
[10003188,"HUDDERSFIELD NEW COLLEGE","10003188 - HUDDERSFIELD NEW COLLEGE",{"$f":"--ISNUMBER(IFERROR(SEARCH(ProviderTable!$B$3,C412,1),\"\"))","v":1},{"$f":"IF(D412=1,COUNTIF($D$2:D412,1),\"\")","v":411},{"$f":"IFERROR(INDEX($C$2:$C$1024,MATCH(ROWS($E$2:E412),$E$2:$E$1024,0)),\"\")","v":"10003188 - HUDDERSFIELD NEW COLLEGE"}]
[10003190,"HUDDERSFIELD TEXTILE TRAINING LIMITED","10003190 - HUDDERSFIELD TEXTILE TRAINING LIMITED",{"$f":"--ISNUMBER(IFERROR(SEARCH(ProviderTable!$B$3,C413,1),\"\"))","v":1},{"$f":"IF(D413=1,COUNTIF($D$2:D413,1),\"\")","v":412},{"$f":"IFERROR(INDEX($C$2:$C$1024,MATCH(ROWS($E$2:E413),$E$2:$E$1024,0)),\"\")","v":"10003190 - HUDDERSFIELD TEXTILE TRAINING LIMITED"}]
[10003192,"HUDSON & HUGHES TRAINING LIMITED","10003192 - HUDSON & HUGHES TRAINING LIMITED",{"$f":"--ISNUMBER(IFERROR(SEARCH(ProviderTable!$B$3,C414,1),\"\"))","v":1},{"$f":"IF(D414=1,COUNTIF($D$2:D414,1),\"\")","v":413},{"$f":"IFERROR(INDEX($C$2:$C$1024,MATCH(ROWS($E$2:E414),$E$2:$E$1024,0)),\"\")","v":"10003192 - HUDSON & HUGHES TRAINING LIMITED"}]
[10003193,"HUGH BAIRD COLLEGE","10003193 - HUGH BAIRD COLLEGE",{"$f":"--ISNUMBER(IFERROR(SEARCH(ProviderTable!$B$3,C415,1),\"\"))","v":1},{"$f":"IF(D415=1,COUNTIF($D$2:D415,1),\"\")","v":414},{"$f":"IFERROR(INDEX($C$2:$C$1024,MATCH(ROWS($E$2:E415),$E$2:$E$1024,0)),\"\")","v":"10003193 - HUGH BAIRD COLLEGE"}]
[10003197,"HULL BUSINESS TRAINING CENTRE LIMITED","10003197 - HULL BUSINESS TRAINING CENTRE LIMITED",{"$f":"--ISNUMBER(IFERROR(SEARCH(ProviderTable!$B$3,C416,1),\"\"))","v":1},{"$f":"IF(D416=1,COUNTIF($D$2:D416,1),\"\")","v":415},{"$f":"IFERROR(INDEX($C$2:$C$1024,MATCH(ROWS($E$2:E416),$E$2:$E$1024,0)),\"\")","v":"10003197 - HULL BUSINESS TRAINING CENTRE LIMITED"}]
[10003200,"HULL COLLEGE","10003200 - HULL COLLEGE",{"$f":"--ISNUMBER(IFERROR(SEARCH(ProviderTable!$B$3,C417,1),\"\"))","v":1},{"$f":"IF(D417=1,COUNTIF($D$2:D417,1),\"\")","v":416},{"$f":"IFERROR(INDEX($C$2:$C$1024,MATCH(ROWS($E$2:E417),$E$2:$E$1024,0)),\"\")","v":"10003200 - HULL COLLEGE"}]
[10003207,"HUMBER LEARNING CONSORTIUM","10003207 - HUMBER LEARNING CONSORTIUM",{"$f":"--ISNUMBER(IFERROR(SEARCH(ProviderTable!$B$3,C418,1),\"\"))","v":1},{"$f":"IF(D418=1,COUNTIF($D$2:D418,1),\"\")","v":417},{"$f":"IFERROR(INDEX($C$2:$C$1024,MATCH(ROWS($E$2:E418),$E$2:$E$1024,0)),\"\")","v":"10003207 - HUMBER LEARNING CONSORTIUM"}]
[10003206,"HUMBERSIDE ENGINEERING TRAINING ASSOCIATION LIMITED","10003206 - HUMBERSIDE ENGINEERING TRAINING ASSOCIATION LIMITED",{"$f":"--ISNUMBER(IFERROR(SEARCH(ProviderTable!$B$3,C419,1),\"\"))","v":1},{"$f":"IF(D419=1,COUNTIF($D$2:D419,1),\"\")","v":418},{"$f":"IFERROR(INDEX($C$2:$C$1024,MATCH(ROWS($E$2:E419),$E$2:$E$1024,0)),\"\")","v":"10003206 - HUMBERSIDE ENGINEERING TRAINING ASSOCIATION LIMITED"}]
[10007949,"HUNTINGDONSHIRE REGIONAL COLLEGE","10007949 - HUNTINGDONSHIRE REGIONAL COLLEGE",{"$f":"--ISNUMBER(IFERROR(SEARCH(ProviderTable!$B$3,C420,1),\"\"))","v":1},{"$f":"IF(D420=1,COUNTIF($D$2:D420,1),\"\")","v":419},{"$f":"IFERROR(INDEX($C$2:$C$1024,MATCH(ROWS($E$2:E420),$E$2:$E$1024,0)),\"\")","v":"10007949 - HUNTINGDONSHIRE REGIONAL COLLEGE"}]
[10029116,"ICOCO TRAINING LIMITED","10029116 - ICOCO TRAINING LIMITED",{"$f":"--ISNUMBER(IFERROR(SEARCH(ProviderTable!$B$3,C421,1),\"\"))","v":1},{"$f":"IF(D421=1,COUNTIF($D$2:D421,1),\"\")","v":420},{"$f":"IFERROR(INDEX($C$2:$C$1024,MATCH(ROWS($E$2:E421),$E$2:$E$1024,0)),\"\")","v":"10029116 - ICOCO TRAINING LIMITED"}]
[10003240,"ICON VOCATIONAL TRAINING LIMITED","10003240 - ICON VOCATIONAL TRAINING LIMITED",{"$f":"--ISNUMBER(IFERROR(SEARCH(ProviderTable!$B$3,C422,1),\"\"))","v":1},{"$f":"IF(D422=1,COUNTIF($D$2:D422,1),\"\")","v":421},{"$f":"IFERROR(INDEX($C$2:$C$1024,MATCH(ROWS($E$2:E422),$E$2:$E$1024,0)),\"\")","v":"10003240 - ICON VOCATIONAL TRAINING LIMITED"}]
[10022627,"IMPACT LEARNING & DATA SOLUTIONS LIMITED","10022627 - IMPACT LEARNING & DATA SOLUTIONS LIMITED",{"$f":"--ISNUMBER(IFERROR(SEARCH(ProviderTable!$B$3,C423,1),\"\"))","v":1},{"$f":"IF(D423=1,COUNTIF($D$2:D423,1),\"\")","v":422},{"$f":"IFERROR(INDEX($C$2:$C$1024,MATCH(ROWS($E$2:E423),$E$2:$E$1024,0)),\"\")","v":"10022627 - IMPACT LEARNING & DATA SOLUTIONS LIMITED"}]
[10003279,"IN TOUCH CARE LIMITED","10003279 - IN TOUCH CARE LIMITED",{"$f":"--ISNUMBER(IFERROR(SEARCH(ProviderTable!$B$3,C424,1),\"\"))","v":1},{"$f":"IF(D424=1,COUNTIF($D$2:D424,1),\"\")","v":423},{"$f":"IFERROR(INDEX($C$2:$C$1024,MATCH(ROWS($E$2:E424),$E$2:$E$1024,0)),\"\")","v":"10003279 - IN TOUCH CARE LIMITED"}]
[10003280,"IN-COMM TRAINING AND BUSINESS SERVICES LIMITED","10003280 - IN-COMM TRAINING AND BUSINESS SERVICES LIMITED",{"$f":"--ISNUMBER(IFERROR(SEARCH(ProviderTable!$B$3,C425,1),\"\"))","v":1},{"$f":"IF(D425=1,COUNTIF($D$2:D425,1),\"\")","v":424},{"$f":"IFERROR(INDEX($C$2:$C$1024,MATCH(ROWS($E$2:E425),$E$2:$E$1024,0)),\"\")","v":"10003280 - IN-COMM TRAINING AND BUSINESS SERVICES LIMITED"}]
[10003281,"IN-COMM TRAINING SERVICES LIMITED","10003281 - IN-COMM TRAINING SERVICES LIMITED",{"$f":"--ISNUMBER(IFERROR(SEARCH(ProviderTable!$B$3,C426,1),\"\"))","v":1},{"$f":"IF(D426=1,COUNTIF($D$2:D426,1),\"\")","v":425},{"$f":"IFERROR(INDEX($C$2:$C$1024,MATCH(ROWS($E$2:E426),$E$2:$E$1024,0)),\"\")","v":"10003281 - IN-COMM TRAINING SERVICES LIMITED"}]
[10003289,"INDEPENDENT TRAINING SERVICES LIMITED","10003289 - INDEPENDENT TRAINING SERVICES LIMITED",{"$f":"--ISNUMBER(IFERROR(SEARCH(ProviderTable!$B$3,C427,1),\"\"))","v":1},{"$f":"IF(D427=1,COUNTIF($D$2:D427,1),\"\")","v":426},{"$f":"IFERROR(INDEX($C$2:$C$1024,MATCH(ROWS($E$2:E427),$E$2:$E$1024,0)),\"\")","v":"10003289 - INDEPENDENT TRAINING SERVICES LIMITED"}]
[10007755,"INGEUS TRAINING LIMITED","10007755 - INGEUS TRAINING LIMITED",{"$f":"--ISNUMBER(IFERROR(SEARCH(ProviderTable!$B$3,C428,1),\"\"))","v":1},{"$f":"IF(D428=1,COUNTIF($D$2:D428,1),\"\")","v":427},{"$f":"IFERROR(INDEX($C$2:$C$1024,MATCH(ROWS($E$2:E428),$E$2:$E$1024,0)),\"\")","v":"10007755 - INGEUS TRAINING LIMITED"}]
[10010940,"INSPIRE 2 INDEPENDENCE (I2I) LTD","10010940 - INSPIRE 2 INDEPENDENCE (I2I) LTD",{"$f":"--ISNUMBER(IFERROR(SEARCH(ProviderTable!$B$3,C429,1),\"\"))","v":1},{"$f":"IF(D429=1,COUNTIF($D$2:D429,1),\"\")","v":428},{"$f":"IFERROR(INDEX($C$2:$C$1024,MATCH(ROWS($E$2:E429),$E$2:$E$1024,0)),\"\")","v":"10010940 - INSPIRE 2 INDEPENDENCE (I2I) LTD"}]
[10013106,"INSTITUTE OF SWIMMING LIMITED","10013106 - INSTITUTE OF SWIMMING LIMITED",{"$f":"--ISNUMBER(IFERROR(SEARCH(ProviderTable!$B$3,C430,1),\"\"))","v":1},{"$f":"IF(D430=1,COUNTIF($D$2:D430,1),\"\")","v":429},{"$f":"IFERROR(INDEX($C$2:$C$1024,MATCH(ROWS($E$2:E430),$E$2:$E$1024,0)),\"\")","v":"10013106 - INSTITUTE OF SWIMMING LIMITED"}]
[10003347,"INTEC BUSINESS COLLEGES LIMITED","10003347 - INTEC BUSINESS COLLEGES LIMITED",{"$f":"--ISNUMBER(IFERROR(SEARCH(ProviderTable!$B$3,C431,1),\"\"))","v":1},{"$f":"IF(D431=1,COUNTIF($D$2:D431,1),\"\")","v":430},{"$f":"IFERROR(INDEX($C$2:$C$1024,MATCH(ROWS($E$2:E431),$E$2:$E$1024,0)),\"\")","v":"10003347 - INTEC BUSINESS COLLEGES LIMITED"}]
[10003354,"INTER TRAINING SERVICES LIMITED","10003354 - INTER TRAINING SERVICES LIMITED",{"$f":"--ISNUMBER(IFERROR(SEARCH(ProviderTable!$B$3,C432,1),\"\"))","v":1},{"$f":"IF(D432=1,COUNTIF($D$2:D432,1),\"\")","v":431},{"$f":"IFERROR(INDEX($C$2:$C$1024,MATCH(ROWS($E$2:E432),$E$2:$E$1024,0)),\"\")","v":"10003354 - INTER TRAINING SERVICES LIMITED"}]
[10013539,"INTERACTIVE DEVELOPMENT EDUCATION LIMITED","10013539 - INTERACTIVE DEVELOPMENT EDUCATION LIMITED",{"$f":"--ISNUMBER(IFERROR(SEARCH(ProviderTable!$B$3,C433,1),\"\"))","v":1},{"$f":"IF(D433=1,COUNTIF($D$2:D433,1),\"\")","v":432},{"$f":"IFERROR(INDEX($C$2:$C$1024,MATCH(ROWS($E$2:E433),$E$2:$E$1024,0)),\"\")","v":"10013539 - INTERACTIVE DEVELOPMENT EDUCATION LIMITED"}]
[10034022,"INTROTRAIN (ACE) LIMITED","10034022 - INTROTRAIN (ACE) LIMITED",{"$f":"--ISNUMBER(IFERROR(SEARCH(ProviderTable!$B$3,C434,1),\"\"))","v":1},{"$f":"IF(D434=1,COUNTIF($D$2:D434,1),\"\")","v":433},{"$f":"IFERROR(INDEX($C$2:$C$1024,MATCH(ROWS($E$2:E434),$E$2:$E$1024,0)),\"\")","v":"10034022 - INTROTRAIN (ACE) LIMITED"}]
[10003382,"INTUITIONS LIMITED","10003382 - INTUITIONS LIMITED",{"$f":"--ISNUMBER(IFERROR(SEARCH(ProviderTable!$B$3,C435,1),\"\"))","v":1},{"$f":"IF(D435=1,COUNTIF($D$2:D435,1),\"\")","v":434},{"$f":"IFERROR(INDEX($C$2:$C$1024,MATCH(ROWS($E$2:E435),$E$2:$E$1024,0)),\"\")","v":"10003382 - INTUITIONS LIMITED"}]
[10003385,"IPS INTERNATIONAL LIMITED","10003385 - IPS INTERNATIONAL LIMITED",{"$f":"--ISNUMBER(IFERROR(SEARCH(ProviderTable!$B$3,C436,1),\"\"))","v":1},{"$f":"IF(D436=1,COUNTIF($D$2:D436,1),\"\")","v":435},{"$f":"IFERROR(INDEX($C$2:$C$1024,MATCH(ROWS($E$2:E436),$E$2:$E$1024,0)),\"\")","v":"10003385 - IPS INTERNATIONAL LIMITED"}]
[10003406,"ISLE OF WIGHT COLLEGE","10003406 - ISLE OF WIGHT COLLEGE",{"$f":"--ISNUMBER(IFERROR(SEARCH(ProviderTable!$B$3,C437,1),\"\"))","v":1},{"$f":"IF(D437=1,COUNTIF($D$2:D437,1),\"\")","v":436},{"$f":"IFERROR(INDEX($C$2:$C$1024,MATCH(ROWS($E$2:E437),$E$2:$E$1024,0)),\"\")","v":"10003406 - ISLE OF WIGHT COLLEGE"}]
[10003407,"ISLE OF WIGHT COUNCIL","10003407 - ISLE OF WIGHT COUNCIL",{"$f":"--ISNUMBER(IFERROR(SEARCH(ProviderTable!$B$3,C438,1),\"\"))","v":1},{"$f":"IF(D438=1,COUNTIF($D$2:D438,1),\"\")","v":437},{"$f":"IFERROR(INDEX($C$2:$C$1024,MATCH(ROWS($E$2:E438),$E$2:$E$1024,0)),\"\")","v":"10003407 - ISLE OF WIGHT COUNCIL"}]
[10003414,"ISLINGTON LONDON BOROUGH COUNCIL","10003414 - ISLINGTON LONDON BOROUGH COUNCIL",{"$f":"--ISNUMBER(IFERROR(SEARCH(ProviderTable!$B$3,C439,1),\"\"))","v":1},{"$f":"IF(D439=1,COUNTIF($D$2:D439,1),\"\")","v":438},{"$f":"IFERROR(INDEX($C$2:$C$1024,MATCH(ROWS($E$2:E439),$E$2:$E$1024,0)),\"\")","v":"10003414 - ISLINGTON LONDON BOROUGH COUNCIL"}]
[10027719,"ISS UK LIMITED","10027719 - ISS UK LIMITED",{"$f":"--ISNUMBER(IFERROR(SEARCH(ProviderTable!$B$3,C440,1),\"\"))","v":1},{"$f":"IF(D440=1,COUNTIF($D$2:D440,1),\"\")","v":439},{"$f":"IFERROR(INDEX($C$2:$C$1024,MATCH(ROWS($E$2:E440),$E$2:$E$1024,0)),\"\")","v":"10027719 - ISS UK LIMITED"}]
[10003427,"ITCHEN COLLEGE","10003427 - ITCHEN COLLEGE",{"$f":"--ISNUMBER(IFERROR(SEARCH(ProviderTable!$B$3,C441,1),\"\"))","v":1},{"$f":"IF(D441=1,COUNTIF($D$2:D441,1),\"\")","v":440},{"$f":"IFERROR(INDEX($C$2:$C$1024,MATCH(ROWS($E$2:E441),$E$2:$E$1024,0)),\"\")","v":"10003427 - ITCHEN COLLEGE"}]
[10003430,"ITEC NORTH EAST LIMITED","10003430 - ITEC NORTH EAST LIMITED",{"$f":"--ISNUMBER(IFERROR(SEARCH(ProviderTable!$B$3,C442,1),\"\"))","v":1},{"$f":"IF(D442=1,COUNTIF($D$2:D442,1),\"\")","v":441},{"$f":"IFERROR(INDEX($C$2:$C$1024,MATCH(ROWS($E$2:E442),$E$2:$E$1024,0)),\"\")","v":"10003430 - ITEC NORTH EAST LIMITED"}]
[10036282,"ITS TRAINING LTD","10036282 - ITS TRAINING LTD",{"$f":"--ISNUMBER(IFERROR(SEARCH(ProviderTable!$B$3,C443,1),\"\"))","v":1},{"$f":"IF(D443=1,COUNTIF($D$2:D443,1),\"\")","v":442},{"$f":"IFERROR(INDEX($C$2:$C$1024,MATCH(ROWS($E$2:E443),$E$2:$E$1024,0)),\"\")","v":"10036282 - ITS TRAINING LTD"}]
[10033758,"IXION HOLDINGS (CONTRACTS) LIMITED","10033758 - IXION HOLDINGS (CONTRACTS) LIMITED",{"$f":"--ISNUMBER(IFERROR(SEARCH(ProviderTable!$B$3,C444,1),\"\"))","v":1},{"$f":"IF(D444=1,COUNTIF($D$2:D444,1),\"\")","v":443},{"$f":"IFERROR(INDEX($C$2:$C$1024,MATCH(ROWS($E$2:E444),$E$2:$E$1024,0)),\"\")","v":"10033758 - IXION HOLDINGS (CONTRACTS) LIMITED"}]
[10027031,"J D WETHERSPOON PLC","10027031 - J D WETHERSPOON PLC",{"$f":"--ISNUMBER(IFERROR(SEARCH(ProviderTable!$B$3,C445,1),\"\"))","v":1},{"$f":"IF(D445=1,COUNTIF($D$2:D445,1),\"\")","v":444},{"$f":"IFERROR(INDEX($C$2:$C$1024,MATCH(ROWS($E$2:E445),$E$2:$E$1024,0)),\"\")","v":"10027031 - J D WETHERSPOON PLC"}]
[10009671,"JAGUAR LAND ROVER HOLDINGS LIMITED","10009671 - JAGUAR LAND ROVER HOLDINGS LIMITED",{"$f":"--ISNUMBER(IFERROR(SEARCH(ProviderTable!$B$3,C446,1),\"\"))","v":1},{"$f":"IF(D446=1,COUNTIF($D$2:D446,1),\"\")","v":445},{"$f":"IFERROR(INDEX($C$2:$C$1024,MATCH(ROWS($E$2:E446),$E$2:$E$1024,0)),\"\")","v":"10009671 - JAGUAR LAND ROVER HOLDINGS LIMITED"}]
[10007951,"JANARD TRAINING AND ASSESSMENT CENTRE LIMITED","10007951 - JANARD TRAINING AND ASSESSMENT CENTRE LIMITED",{"$f":"--ISNUMBER(IFERROR(SEARCH(ProviderTable!$B$3,C447,1),\"\"))","v":1},{"$f":"IF(D447=1,COUNTIF($D$2:D447,1),\"\")","v":446},{"$f":"IFERROR(INDEX($C$2:$C$1024,MATCH(ROWS($E$2:E447),$E$2:$E$1024,0)),\"\")","v":"10007951 - JANARD TRAINING AND ASSESSMENT CENTRE LIMITED"}]
[10042190,"JANCETT CHILDCARE & JACE TRAINING LIMITED","10042190 - JANCETT CHILDCARE & JACE TRAINING LIMITED",{"$f":"--ISNUMBER(IFERROR(SEARCH(ProviderTable!$B$3,C448,1),\"\"))","v":1},{"$f":"IF(D448=1,COUNTIF($D$2:D448,1),\"\")","v":447},{"$f":"IFERROR(INDEX($C$2:$C$1024,MATCH(ROWS($E$2:E448),$E$2:$E$1024,0)),\"\")","v":"10042190 - JANCETT CHILDCARE & JACE TRAINING LIMITED"}]
[10003456,"JARVIS TRAINING MANAGEMENT LIMITED","10003456 - JARVIS TRAINING MANAGEMENT LIMITED",{"$f":"--ISNUMBER(IFERROR(SEARCH(ProviderTable!$B$3,C449,1),\"\"))","v":1},{"$f":"IF(D449=1,COUNTIF($D$2:D449,1),\"\")","v":448},{"$f":"IFERROR(INDEX($C$2:$C$1024,MATCH(ROWS($E$2:E449),$E$2:$E$1024,0)),\"\")","v":"10003456 - JARVIS TRAINING MANAGEMENT LIMITED"}]
[10019314,"JBC COMPUTER TRAINING LIMITED","10019314 - JBC COMPUTER TRAINING LIMITED",{"$f":"--ISNUMBER(IFERROR(SEARCH(ProviderTable!$B$3,C450,1),\"\"))","v":1},{"$f":"IF(D450=1,COUNTIF($D$2:D450,1),\"\")","v":449},{"$f":"IFERROR(INDEX($C$2:$C$1024,MATCH(ROWS($E$2:E450),$E$2:$E$1024,0)),\"\")","v":"10019314 - JBC COMPUTER TRAINING LIMITED"}]
[10021254,"JFC  TRAINING COLLEGE LTD",{"$f":"A451&\" - \"&B451","v":"10021254 - JFC  TRAINING COLLEGE LTD"},{"$f":"--ISNUMBER(IFERROR(SEARCH(ProviderTable!$B$3,C451,1),\"\"))","v":1},{"$f":"IF(D451=1,COUNTIF($D$2:D451,1),\"\")","v":450},{"$f":"IFERROR(INDEX($C$2:$C$1024,MATCH(ROWS($E$2:E451),$E$2:$E$1024,0)),\"\")","v":"10021254 - JFC  TRAINING COLLEGE LTD"}]
[10006710,"JGA LIMITED","10006710 - JGA LIMITED",{"$f":"--ISNUMBER(IFERROR(SEARCH(ProviderTable!$B$3,C452,1),\"\"))","v":1},{"$f":"IF(D452=1,COUNTIF($D$2:D452,1),\"\")","v":451},{"$f":"IFERROR(INDEX($C$2:$C$1024,MATCH(ROWS($E$2:E452),$E$2:$E$1024,0)),\"\")","v":"10006710 - JGA LIMITED"}]
[10003471,"JIGSAW TRAINING LIMITED","10003471 - JIGSAW TRAINING LIMITED",{"$f":"--ISNUMBER(IFERROR(SEARCH(ProviderTable!$B$3,C453,1),\"\"))","v":1},{"$f":"IF(D453=1,COUNTIF($D$2:D453,1),\"\")","v":452},{"$f":"IFERROR(INDEX($C$2:$C$1024,MATCH(ROWS($E$2:E453),$E$2:$E$1024,0)),\"\")","v":"10003471 - JIGSAW TRAINING LIMITED"}]
[10003478,"JOBWISE TRAINING LIMITED","10003478 - JOBWISE TRAINING LIMITED",{"$f":"--ISNUMBER(IFERROR(SEARCH(ProviderTable!$B$3,C454,1),\"\"))","v":1},{"$f":"IF(D454=1,COUNTIF($D$2:D454,1),\"\")","v":453},{"$f":"IFERROR(INDEX($C$2:$C$1024,MATCH(ROWS($E$2:E454),$E$2:$E$1024,0)),\"\")","v":"10003478 - JOBWISE TRAINING LIMITED"}]
[10040271,"JOHN FRANK TRAINING LTD","10040271 - JOHN FRANK TRAINING LTD",{"$f":"--ISNUMBER(IFERROR(SEARCH(ProviderTable!$B$3,C455,1),\"\"))","v":1},{"$f":"IF(D455=1,COUNTIF($D$2:D455,1),\"\")","v":454},{"$f":"IFERROR(INDEX($C$2:$C$1024,MATCH(ROWS($E$2:E455),$E$2:$E$1024,0)),\"\")","v":"10040271 - JOHN FRANK TRAINING LTD"}]
[10003490,"JOHN LAING TRAINING LIMITED","10003490 - JOHN LAING TRAINING LIMITED",{"$f":"--ISNUMBER(IFERROR(SEARCH(ProviderTable!$B$3,C456,1),\"\"))","v":1},{"$f":"IF(D456=1,COUNTIF($D$2:D456,1),\"\")","v":455},{"$f":"IFERROR(INDEX($C$2:$C$1024,MATCH(ROWS($E$2:E456),$E$2:$E$1024,0)),\"\")","v":"10003490 - JOHN LAING TRAINING LIMITED"}]
[10003491,"JOHN LEGGOTT SIXTH FORM COLLEGE","10003491 - JOHN LEGGOTT SIXTH FORM COLLEGE",{"$f":"--ISNUMBER(IFERROR(SEARCH(ProviderTable!$B$3,C457,1),\"\"))","v":1},{"$f":"IF(D457=1,COUNTIF($D$2:D457,1),\"\")","v":456},{"$f":"IFERROR(INDEX($C$2:$C$1024,MATCH(ROWS($E$2:E457),$E$2:$E$1024,0)),\"\")","v":"10003491 - JOHN LEGGOTT SIXTH FORM COLLEGE"}]
[10003500,"JOHN RUSKIN COLLEGE","10003500 - JOHN RUSKIN COLLEGE",{"$f":"--ISNUMBER(IFERROR(SEARCH(ProviderTable!$B$3,C458,1),\"\"))","v":1},{"$f":"IF(D458=1,COUNTIF($D$2:D458,1),\"\")","v":457},{"$f":"IFERROR(INDEX($C$2:$C$1024,MATCH(ROWS($E$2:E458),$E$2:$E$1024,0)),\"\")","v":"10003500 - JOHN RUSKIN COLLEGE"}]
[10003508,"JOINT LEARNING PARTNERSHIP LIMITED","10003508 - JOINT LEARNING PARTNERSHIP LIMITED",{"$f":"--ISNUMBER(IFERROR(SEARCH(ProviderTable!$B$3,C459,1),\"\"))","v":1},{"$f":"IF(D459=1,COUNTIF($D$2:D459,1),\"\")","v":458},{"$f":"IFERROR(INDEX($C$2:$C$1024,MATCH(ROWS($E$2:E459),$E$2:$E$1024,0)),\"\")","v":"10003508 - JOINT LEARNING PARTNERSHIP LIMITED"}]
[10003511,"JOSEPH CHAMBERLAIN SIXTH FORM COLLEGE","10003511 - JOSEPH CHAMBERLAIN SIXTH FORM COLLEGE",{"$f":"--ISNUMBER(IFERROR(SEARCH(ProviderTable!$B$3,C460,1),\"\"))","v":1},{"$f":"IF(D460=1,COUNTIF($D$2:D460,1),\"\")","v":459},{"$f":"IFERROR(INDEX($C$2:$C$1024,MATCH(ROWS($E$2:E460),$E$2:$E$1024,0)),\"\")","v":"10003511 - JOSEPH CHAMBERLAIN SIXTH FORM COLLEGE"}]
[10003526,"JTL","10003526 - JTL",{"$f":"--ISNUMBER(IFERROR(SEARCH(ProviderTable!$B$3,C461,1),\"\"))","v":1},{"$f":"IF(D461=1,COUNTIF($D$2:D461,1),\"\")","v":460},{"$f":"IFERROR(INDEX($C$2:$C$1024,MATCH(ROWS($E$2:E461),$E$2:$E$1024,0)),\"\")","v":"10003526 - JTL"}]
[10003529,"JUNIPER TRAINING LIMITED","10003529 - JUNIPER TRAINING LIMITED",{"$f":"--ISNUMBER(IFERROR(SEARCH(ProviderTable!$B$3,C462,1),\"\"))","v":1},{"$f":"IF(D462=1,COUNTIF($D$2:D462,1),\"\")","v":461},{"$f":"IFERROR(INDEX($C$2:$C$1024,MATCH(ROWS($E$2:E462),$E$2:$E$1024,0)),\"\")","v":"10003529 - JUNIPER TRAINING LIMITED"}]
[10033723,"K & G HAIR LLP","10033723 - K & G HAIR LLP",{"$f":"--ISNUMBER(IFERROR(SEARCH(ProviderTable!$B$3,C463,1),\"\"))","v":1},{"$f":"IF(D463=1,COUNTIF($D$2:D463,1),\"\")","v":462},{"$f":"IFERROR(INDEX($C$2:$C$1024,MATCH(ROWS($E$2:E463),$E$2:$E$1024,0)),\"\")","v":"10033723 - K & G HAIR LLP"}]
[10000446,"KAPLAN FINANCIAL LIMITED","10000446 - KAPLAN FINANCIAL LIMITED",{"$f":"--ISNUMBER(IFERROR(SEARCH(ProviderTable!$B$3,C464,1),\"\"))","v":1},{"$f":"IF(D464=1,COUNTIF($D$2:D464,1),\"\")","v":463},{"$f":"IFERROR(INDEX($C$2:$C$1024,MATCH(ROWS($E$2:E464),$E$2:$E$1024,0)),\"\")","v":"10000446 - KAPLAN FINANCIAL LIMITED"}]
[10016742,"KATS LTD","10016742 - KATS LTD",{"$f":"--ISNUMBER(IFERROR(SEARCH(ProviderTable!$B$3,C465,1),\"\"))","v":1},{"$f":"IF(D465=1,COUNTIF($D$2:D465,1),\"\")","v":464},{"$f":"IFERROR(INDEX($C$2:$C$1024,MATCH(ROWS($E$2:E465),$E$2:$E$1024,0)),\"\")","v":"10016742 - KATS LTD"}]
[10003571,"KEITS TRAINING SERVICES LTD","10003571 - KEITS TRAINING SERVICES LTD",{"$f":"--ISNUMBER(IFERROR(SEARCH(ProviderTable!$B$3,C466,1),\"\"))","v":1},{"$f":"IF(D466=1,COUNTIF($D$2:D466,1),\"\")","v":465},{"$f":"IFERROR(INDEX($C$2:$C$1024,MATCH(ROWS($E$2:E466),$E$2:$E$1024,0)),\"\")","v":"10003571 - KEITS TRAINING SERVICES LTD"}]
[10003558,"KENDAL COLLEGE","10003558 - KENDAL COLLEGE",{"$f":"--ISNUMBER(IFERROR(SEARCH(ProviderTable!$B$3,C467,1),\"\"))","v":1},{"$f":"IF(D467=1,COUNTIF($D$2:D467,1),\"\")","v":466},{"$f":"IFERROR(INDEX($C$2:$C$1024,MATCH(ROWS($E$2:E467),$E$2:$E$1024,0)),\"\")","v":"10003558 - KENDAL COLLEGE"}]
[10003564,"KENSINGTON AND CHELSEA COLLEGE","10003564 - KENSINGTON AND CHELSEA COLLEGE",{"$f":"--ISNUMBER(IFERROR(SEARCH(ProviderTable!$B$3,C468,1),\"\"))","v":1},{"$f":"IF(D468=1,COUNTIF($D$2:D468,1),\"\")","v":467},{"$f":"IFERROR(INDEX($C$2:$C$1024,MATCH(ROWS($E$2:E468),$E$2:$E$1024,0)),\"\")","v":"10003564 - KENSINGTON AND CHELSEA COLLEGE"}]
[10003570,"KENT COUNTY COUNCIL","10003570 - KENT COUNTY COUNCIL",{"$f":"--ISNUMBER(IFERROR(SEARCH(ProviderTable!$B$3,C469,1),\"\"))","v":1},{"$f":"IF(D469=1,COUNTIF($D$2:D469,1),\"\")","v":468},{"$f":"IFERROR(INDEX($C$2:$C$1024,MATCH(ROWS($E$2:E469),$E$2:$E$1024,0)),\"\")","v":"10003570 - KENT COUNTY COUNCIL"}]
[10030877,"KENTUCKY FRIED CHICKEN (GREAT BRITAIN) LIMITED","10030877 - KENTUCKY FRIED CHICKEN (GREAT BRITAIN) LIMITED",{"$f":"--ISNUMBER(IFERROR(SEARCH(ProviderTable!$B$3,C470,1),\"\"))","v":1},{"$f":"IF(D470=1,COUNTIF($D$2:D470,1),\"\")","v":469},{"$f":"IFERROR(INDEX($C$2:$C$1024,MATCH(ROWS($E$2:E470),$E$2:$E$1024,0)),\"\")","v":"10030877 - KENTUCKY FRIED CHICKEN (GREAT BRITAIN) LIMITED"}]
[10003593,"KEY TRAINING LIMITED","10003593 - KEY TRAINING LIMITED",{"$f":"--ISNUMBER(IFERROR(SEARCH(ProviderTable!$B$3,C471,1),\"\"))","v":1},{"$f":"IF(D471=1,COUNTIF($D$2:D471,1),\"\")","v":470},{"$f":"IFERROR(INDEX($C$2:$C$1024,MATCH(ROWS($E$2:E471),$E$2:$E$1024,0)),\"\")","v":"10003593 - KEY TRAINING LIMITED"}]
[10003602,"KIDDERMINSTER COLLEGE","10003602 - KIDDERMINSTER COLLEGE",{"$f":"--ISNUMBER(IFERROR(SEARCH(ProviderTable!$B$3,C472,1),\"\"))","v":1},{"$f":"IF(D472=1,COUNTIF($D$2:D472,1),\"\")","v":471},{"$f":"IFERROR(INDEX($C$2:$C$1024,MATCH(ROWS($E$2:E472),$E$2:$E$1024,0)),\"\")","v":"10003602 - KIDDERMINSTER COLLEGE"}]
[10003674,"KINGSTON COLLEGE","10003674 - KINGSTON COLLEGE",{"$f":"--ISNUMBER(IFERROR(SEARCH(ProviderTable!$B$3,C473,1),\"\"))","v":1},{"$f":"IF(D473=1,COUNTIF($D$2:D473,1),\"\")","v":472},{"$f":"IFERROR(INDEX($C$2:$C$1024,MATCH(ROWS($E$2:E473),$E$2:$E$1024,0)),\"\")","v":"10003674 - KINGSTON COLLEGE"}]
[10003676,"KINGSTON MAURWARD COLLEGE","10003676 - KINGSTON MAURWARD COLLEGE",{"$f":"--ISNUMBER(IFERROR(SEARCH(ProviderTable!$B$3,C474,1),\"\"))","v":1},{"$f":"IF(D474=1,COUNTIF($D$2:D474,1),\"\")","v":473},{"$f":"IFERROR(INDEX($C$2:$C$1024,MATCH(ROWS($E$2:E474),$E$2:$E$1024,0)),\"\")","v":"10003676 - KINGSTON MAURWARD COLLEGE"}]
[10003198,"KINGSTON UPON HULL CITY COUNCIL","10003198 - KINGSTON UPON HULL CITY COUNCIL",{"$f":"--ISNUMBER(IFERROR(SEARCH(ProviderTable!$B$3,C475,1),\"\"))","v":1},{"$f":"IF(D475=1,COUNTIF($D$2:D475,1),\"\")","v":474},{"$f":"IFERROR(INDEX($C$2:$C$1024,MATCH(ROWS($E$2:E475),$E$2:$E$1024,0)),\"\")","v":"10003198 - KINGSTON UPON HULL CITY COUNCIL"}]
[10003688,"KIRKDALE INDUSTRIAL TRAINING SERVICES LIMITED","10003688 - KIRKDALE INDUSTRIAL TRAINING SERVICES LIMITED",{"$f":"--ISNUMBER(IFERROR(SEARCH(ProviderTable!$B$3,C476,1),\"\"))","v":1},{"$f":"IF(D476=1,COUNTIF($D$2:D476,1),\"\")","v":475},{"$f":"IFERROR(INDEX($C$2:$C$1024,MATCH(ROWS($E$2:E476),$E$2:$E$1024,0)),\"\")","v":"10003688 - KIRKDALE INDUSTRIAL TRAINING SERVICES LIMITED"}]
[10003189,"KIRKLEES COLLEGE","10003189 - KIRKLEES COLLEGE",{"$f":"--ISNUMBER(IFERROR(SEARCH(ProviderTable!$B$3,C477,1),\"\"))","v":1},{"$f":"IF(D477=1,COUNTIF($D$2:D477,1),\"\")","v":476},{"$f":"IFERROR(INDEX($C$2:$C$1024,MATCH(ROWS($E$2:E477),$E$2:$E$1024,0)),\"\")","v":"10003189 - KIRKLEES COLLEGE"}]
[10003692,"KIRKLEES METROPOLITAN COUNCIL","10003692 - KIRKLEES METROPOLITAN COUNCIL",{"$f":"--ISNUMBER(IFERROR(SEARCH(ProviderTable!$B$3,C478,1),\"\"))","v":1},{"$f":"IF(D478=1,COUNTIF($D$2:D478,1),\"\")","v":477},{"$f":"IFERROR(INDEX($C$2:$C$1024,MATCH(ROWS($E$2:E478),$E$2:$E$1024,0)),\"\")","v":"10003692 - KIRKLEES METROPOLITAN COUNCIL"}]
[10003708,"KNOWSLEY COMMUNITY COLLEGE","10003708 - KNOWSLEY COMMUNITY COLLEGE",{"$f":"--ISNUMBER(IFERROR(SEARCH(ProviderTable!$B$3,C479,1),\"\"))","v":1},{"$f":"IF(D479=1,COUNTIF($D$2:D479,1),\"\")","v":478},{"$f":"IFERROR(INDEX($C$2:$C$1024,MATCH(ROWS($E$2:E479),$E$2:$E$1024,0)),\"\")","v":"10003708 - KNOWSLEY COMMUNITY COLLEGE"}]
[10003709,"KNOWSLEY METROPOLITAN BOROUGH COUNCIL","10003709 - KNOWSLEY METROPOLITAN BOROUGH COUNCIL",{"$f":"--ISNUMBER(IFERROR(SEARCH(ProviderTable!$B$3,C480,1),\"\"))","v":1},{"$f":"IF(D480=1,COUNTIF($D$2:D480,1),\"\")","v":479},{"$f":"IFERROR(INDEX($C$2:$C$1024,MATCH(ROWS($E$2:E480),$E$2:$E$1024,0)),\"\")","v":"10003709 - KNOWSLEY METROPOLITAN BOROUGH COUNCIL"}]
[10003724,"KWIK-FIT (GB) LIMITED","10003724 - KWIK-FIT (GB) LIMITED",{"$f":"--ISNUMBER(IFERROR(SEARCH(ProviderTable!$B$3,C481,1),\"\"))","v":1},{"$f":"IF(D481=1,COUNTIF($D$2:D481,1),\"\")","v":480},{"$f":"IFERROR(INDEX($C$2:$C$1024,MATCH(ROWS($E$2:E481),$E$2:$E$1024,0)),\"\")","v":"10003724 - KWIK-FIT (GB) LIMITED"}]
[10003728,"L.I.T.S. LIMITED","10003728 - L.I.T.S. LIMITED",{"$f":"--ISNUMBER(IFERROR(SEARCH(ProviderTable!$B$3,C482,1),\"\"))","v":1},{"$f":"IF(D482=1,COUNTIF($D$2:D482,1),\"\")","v":481},{"$f":"IFERROR(INDEX($C$2:$C$1024,MATCH(ROWS($E$2:E482),$E$2:$E$1024,0)),\"\")","v":"10003728 - L.I.T.S. LIMITED"}]
[10003744,"LAGAT LIMITED","10003744 - LAGAT LIMITED",{"$f":"--ISNUMBER(IFERROR(SEARCH(ProviderTable!$B$3,C483,1),\"\"))","v":1},{"$f":"IF(D483=1,COUNTIF($D$2:D483,1),\"\")","v":482},{"$f":"IFERROR(INDEX($C$2:$C$1024,MATCH(ROWS($E$2:E483),$E$2:$E$1024,0)),\"\")","v":"10003744 - LAGAT LIMITED"}]
[10003753,"LAKES COLLEGE WEST CUMBRIA","10003753 - LAKES COLLEGE WEST CUMBRIA",{"$f":"--ISNUMBER(IFERROR(SEARCH(ProviderTable!$B$3,C484,1),\"\"))","v":1},{"$f":"IF(D484=1,COUNTIF($D$2:D484,1),\"\")","v":483},{"$f":"IFERROR(INDEX($C$2:$C$1024,MATCH(ROWS($E$2:E484),$E$2:$E$1024,0)),\"\")","v":"10003753 - LAKES COLLEGE WEST CUMBRIA"}]
[10003755,"LAMBETH COLLEGE","10003755 - LAMBETH COLLEGE",{"$f":"--ISNUMBER(IFERROR(SEARCH(ProviderTable!$B$3,C485,1),\"\"))","v":1},{"$f":"IF(D485=1,COUNTIF($D$2:D485,1),\"\")","v":484},{"$f":"IFERROR(INDEX($C$2:$C$1024,MATCH(ROWS($E$2:E485),$E$2:$E$1024,0)),\"\")","v":"10003755 - LAMBETH COLLEGE"}]
[10003995,"LAMBETH LONDON BOROUGH COUNCIL","10003995 - LAMBETH LONDON BOROUGH COUNCIL",{"$f":"--ISNUMBER(IFERROR(SEARCH(ProviderTable!$B$3,C486,1),\"\"))","v":1},{"$f":"IF(D486=1,COUNTIF($D$2:D486,1),\"\")","v":485},{"$f":"IFERROR(INDEX($C$2:$C$1024,MATCH(ROWS($E$2:E486),$E$2:$E$1024,0)),\"\")","v":"10003995 - LAMBETH LONDON BOROUGH COUNCIL"}]
[10003765,"LANCASHIRE COUNTY COUNCIL","10003765 - LANCASHIRE COUNTY COUNCIL",{"$f":"--ISNUMBER(IFERROR(SEARCH(ProviderTable!$B$3,C487,1),\"\"))","v":1},{"$f":"IF(D487=1,COUNTIF($D$2:D487,1),\"\")","v":486},{"$f":"IFERROR(INDEX($C$2:$C$1024,MATCH(ROWS($E$2:E487),$E$2:$E$1024,0)),\"\")","v":"10003765 - LANCASHIRE COUNTY COUNCIL"}]
[10003768,"LANCASTER AND MORECAMBE COLLEGE","10003768 - LANCASTER AND MORECAMBE COLLEGE",{"$f":"--ISNUMBER(IFERROR(SEARCH(ProviderTable!$B$3,C488,1),\"\"))","v":1},{"$f":"IF(D488=1,COUNTIF($D$2:D488,1),\"\")","v":487},{"$f":"IFERROR(INDEX($C$2:$C$1024,MATCH(ROWS($E$2:E488),$E$2:$E$1024,0)),\"\")","v":"10003768 - LANCASTER AND MORECAMBE COLLEGE"}]
[10003771,"LANCASTER TRAINING SERVICES LIMITED","10003771 - LANCASTER TRAINING SERVICES LIMITED",{"$f":"--ISNUMBER(IFERROR(SEARCH(ProviderTable!$B$3,C489,1),\"\"))","v":1},{"$f":"IF(D489=1,COUNTIF($D$2:D489,1),\"\")","v":488},{"$f":"IFERROR(INDEX($C$2:$C$1024,MATCH(ROWS($E$2:E489),$E$2:$E$1024,0)),\"\")","v":"10003771 - LANCASTER TRAINING SERVICES LIMITED"}]
[10003775,"LANGDON COLLEGE","10003775 - LANGDON COLLEGE",{"$f":"--ISNUMBER(IFERROR(SEARCH(ProviderTable!$B$3,C490,1),\"\"))","v":1},{"$f":"IF(D490=1,COUNTIF($D$2:D490,1),\"\")","v":489},{"$f":"IFERROR(INDEX($C$2:$C$1024,MATCH(ROWS($E$2:E490),$E$2:$E$1024,0)),\"\")","v":"10003775 - LANGDON COLLEGE"}]
[10022654,"LAWN TENNIS ASSOCIATION LIMITED","10022654 - LAWN TENNIS ASSOCIATION LIMITED",{"$f":"--ISNUMBER(IFERROR(SEARCH(ProviderTable!$B$3,C491,1),\"\"))","v":1},{"$f":"IF(D491=1,COUNTIF($D$2:D491,1),\"\")","v":490},{"$f":"IFERROR(INDEX($C$2:$C$1024,MATCH(ROWS($E$2:E491),$E$2:$E$1024,0)),\"\")","v":"10022654 - LAWN TENNIS ASSOCIATION LIMITED"}]
[10027803,"LD TRAINING SERVICES LIMITED","10027803 - LD TRAINING SERVICES LIMITED",{"$f":"--ISNUMBER(IFERROR(SEARCH(ProviderTable!$B$3,C492,1),\"\"))","v":1},{"$f":"IF(D492=1,COUNTIF($D$2:D492,1),\"\")","v":491},{"$f":"IFERROR(INDEX($C$2:$C$1024,MATCH(ROWS($E$2:E492),$E$2:$E$1024,0)),\"\")","v":"10027803 - LD TRAINING SERVICES LIMITED"}]
[10003808,"LEAGUE FOOTBALL EDUCATION","10003808 - LEAGUE FOOTBALL EDUCATION",{"$f":"--ISNUMBER(IFERROR(SEARCH(ProviderTable!$B$3,C493,1),\"\"))","v":1},{"$f":"IF(D493=1,COUNTIF($D$2:D493,1),\"\")","v":492},{"$f":"IFERROR(INDEX($C$2:$C$1024,MATCH(ROWS($E$2:E493),$E$2:$E$1024,0)),\"\")","v":"10003808 - LEAGUE FOOTBALL EDUCATION"}]
[10003816,"LEARNDIRECT LIMITED","10003816 - LEARNDIRECT LIMITED",{"$f":"--ISNUMBER(IFERROR(SEARCH(ProviderTable!$B$3,C494,1),\"\"))","v":1},{"$f":"IF(D494=1,COUNTIF($D$2:D494,1),\"\")","v":493},{"$f":"IFERROR(INDEX($C$2:$C$1024,MATCH(ROWS($E$2:E494),$E$2:$E$1024,0)),\"\")","v":"10003816 - LEARNDIRECT LIMITED"}]
[10008935,"LEARNING CURVE (JAA) LIMITED","10008935 - LEARNING CURVE (JAA) LIMITED",{"$f":"--ISNUMBER(IFERROR(SEARCH(ProviderTable!$B$3,C495,1),\"\"))","v":1},{"$f":"IF(D495=1,COUNTIF($D$2:D495,1),\"\")","v":494},{"$f":"IFERROR(INDEX($C$2:$C$1024,MATCH(ROWS($E$2:E495),$E$2:$E$1024,0)),\"\")","v":"10008935 - LEARNING CURVE (JAA) LIMITED"}]
[10032740,"LEARNING SKILLS PARTNERSHIP LTD","10032740 - LEARNING SKILLS PARTNERSHIP LTD",{"$f":"--ISNUMBER(IFERROR(SEARCH(ProviderTable!$B$3,C496,1),\"\"))","v":1},{"$f":"IF(D496=1,COUNTIF($D$2:D496,1),\"\")","v":495},{"$f":"IFERROR(INDEX($C$2:$C$1024,MATCH(ROWS($E$2:E496),$E$2:$E$1024,0)),\"\")","v":"10032740 - LEARNING SKILLS PARTNERSHIP LTD"}]
[10024962,"LEEDS CITY COLLEGE","10024962 - LEEDS CITY COLLEGE",{"$f":"--ISNUMBER(IFERROR(SEARCH(ProviderTable!$B$3,C497,1),\"\"))","v":1},{"$f":"IF(D497=1,COUNTIF($D$2:D497,1),\"\")","v":496},{"$f":"IFERROR(INDEX($C$2:$C$1024,MATCH(ROWS($E$2:E497),$E$2:$E$1024,0)),\"\")","v":"10024962 - LEEDS CITY COLLEGE"}]
[10003853,"LEEDS CITY COUNCIL","10003853 - LEEDS CITY COUNCIL",{"$f":"--ISNUMBER(IFERROR(SEARCH(ProviderTable!$B$3,C498,1),\"\"))","v":1},{"$f":"IF(D498=1,COUNTIF($D$2:D498,1),\"\")","v":497},{"$f":"IFERROR(INDEX($C$2:$C$1024,MATCH(ROWS($E$2:E498),$E$2:$E$1024,0)),\"\")","v":"10003853 - LEEDS CITY COUNCIL"}]
[10003854,"LEEDS COLLEGE OF ART","10003854 - LEEDS COLLEGE OF ART",{"$f":"--ISNUMBER(IFERROR(SEARCH(ProviderTable!$B$3,C499,1),\"\"))","v":1},{"$f":"IF(D499=1,COUNTIF($D$2:D499,1),\"\")","v":498},{"$f":"IFERROR(INDEX($C$2:$C$1024,MATCH(ROWS($E$2:E499),$E$2:$E$1024,0)),\"\")","v":"10003854 - LEEDS COLLEGE OF ART"}]
[10003855,"LEEDS COLLEGE OF BUILDING","10003855 - LEEDS COLLEGE OF BUILDING",{"$f":"--ISNUMBER(IFERROR(SEARCH(ProviderTable!$B$3,C500,1),\"\"))","v":1},{"$f":"IF(D500=1,COUNTIF($D$2:D500,1),\"\")","v":499},{"$f":"IFERROR(INDEX($C$2:$C$1024,MATCH(ROWS($E$2:E500),$E$2:$E$1024,0)),\"\")","v":"10003855 - LEEDS COLLEGE OF BUILDING"}]
[10003866,"LEICESTER CITY COUNCIL","10003866 - LEICESTER CITY COUNCIL",{"$f":"--ISNUMBER(IFERROR(SEARCH(ProviderTable!$B$3,C501,1),\"\"))","v":1},{"$f":"IF(D501=1,COUNTIF($D$2:D501,1),\"\")","v":500},{"$f":"IFERROR(INDEX($C$2:$C$1024,MATCH(ROWS($E$2:E501),$E$2:$E$1024,0)),\"\")","v":"10003866 - LEICESTER CITY COUNCIL"}]
[10003867,"LEICESTER COLLEGE","10003867 - LEICESTER COLLEGE",{"$f":"--ISNUMBER(IFERROR(SEARCH(ProviderTable!$B$3,C502,1),\"\"))","v":1},{"$f":"IF(D502=1,COUNTIF($D$2:D502,1),\"\")","v":501},{"$f":"IFERROR(INDEX($C$2:$C$1024,MATCH(ROWS($E$2:E502),$E$2:$E$1024,0)),\"\")","v":"10003867 - LEICESTER COLLEGE"}]
[10003872,"LEICESTERSHIRE COUNTY COUNCIL","10003872 - LEICESTERSHIRE COUNTY COUNCIL",{"$f":"--ISNUMBER(IFERROR(SEARCH(ProviderTable!$B$3,C503,1),\"\"))","v":1},{"$f":"IF(D503=1,COUNTIF($D$2:D503,1),\"\")","v":502},{"$f":"IFERROR(INDEX($C$2:$C$1024,MATCH(ROWS($E$2:E503),$E$2:$E$1024,0)),\"\")","v":"10003872 - LEICESTERSHIRE COUNTY COUNCIL"}]
[10003889,"LESLIE FRANCES (HAIR FASHIONS) LIMITED","10003889 - LESLIE FRANCES (HAIR FASHIONS) LIMITED",{"$f":"--ISNUMBER(IFERROR(SEARCH(ProviderTable!$B$3,C504,1),\"\"))","v":1},{"$f":"IF(D504=1,COUNTIF($D$2:D504,1),\"\")","v":503},{"$f":"IFERROR(INDEX($C$2:$C$1024,MATCH(ROWS($E$2:E504),$E$2:$E$1024,0)),\"\")","v":"10003889 - LESLIE FRANCES (HAIR FASHIONS) LIMITED"}]
[10003895,"LEWISHAM LONDON BOROUGH COUNCIL","10003895 - LEWISHAM LONDON BOROUGH COUNCIL",{"$f":"--ISNUMBER(IFERROR(SEARCH(ProviderTable!$B$3,C505,1),\"\"))","v":1},{"$f":"IF(D505=1,COUNTIF($D$2:D505,1),\"\")","v":504},{"$f":"IFERROR(INDEX($C$2:$C$1024,MATCH(ROWS($E$2:E505),$E$2:$E$1024,0)),\"\")","v":"10003895 - LEWISHAM LONDON BOROUGH COUNCIL"}]
[10003894,"LEWISHAM SOUTHWARK COLLEGE","10003894 - LEWISHAM SOUTHWARK COLLEGE",{"$f":"--ISNUMBER(IFERROR(SEARCH(ProviderTable!$B$3,C506,1),\"\"))","v":1},{"$f":"IF(D506=1,COUNTIF($D$2:D506,1),\"\")","v":505},{"$f":"IFERROR(INDEX($C$2:$C$1024,MATCH(ROWS($E$2:E506),$E$2:$E$1024,0)),\"\")","v":"10003894 - LEWISHAM SOUTHWARK COLLEGE"}]
[10003899,"LEYTON SIXTH FORM COLLEGE","10003899 - LEYTON SIXTH FORM COLLEGE",{"$f":"--ISNUMBER(IFERROR(SEARCH(ProviderTable!$B$3,C507,1),\"\"))","v":1},{"$f":"IF(D507=1,COUNTIF($D$2:D507,1),\"\")","v":506},{"$f":"IFERROR(INDEX($C$2:$C$1024,MATCH(ROWS($E$2:E507),$E$2:$E$1024,0)),\"\")","v":"10003899 - LEYTON SIXTH FORM COLLEGE"}]
[10003909,"LIFESKILLS SOLUTIONS LIMITED","10003909 - LIFESKILLS SOLUTIONS LIMITED",{"$f":"--ISNUMBER(IFERROR(SEARCH(ProviderTable!$B$3,C508,1),\"\"))","v":1},{"$f":"IF(D508=1,COUNTIF($D$2:D508,1),\"\")","v":507},{"$f":"IFERROR(INDEX($C$2:$C$1024,MATCH(ROWS($E$2:E508),$E$2:$E$1024,0)),\"\")","v":"10003909 - LIFESKILLS SOLUTIONS LIMITED"}]
[10003915,"LIFETIME TRAINING GROUP LIMITED","10003915 - LIFETIME TRAINING GROUP LIMITED",{"$f":"--ISNUMBER(IFERROR(SEARCH(ProviderTable!$B$3,C509,1),\"\"))","v":1},{"$f":"IF(D509=1,COUNTIF($D$2:D509,1),\"\")","v":508},{"$f":"IFERROR(INDEX($C$2:$C$1024,MATCH(ROWS($E$2:E509),$E$2:$E$1024,0)),\"\")","v":"10003915 - LIFETIME TRAINING GROUP LIMITED"}]
[10034315,"LIGA (UK) LTD","10034315 - LIGA (UK) LTD",{"$f":"--ISNUMBER(IFERROR(SEARCH(ProviderTable!$B$3,C510,1),\"\"))","v":1},{"$f":"IF(D510=1,COUNTIF($D$2:D510,1),\"\")","v":509},{"$f":"IFERROR(INDEX($C$2:$C$1024,MATCH(ROWS($E$2:E510),$E$2:$E$1024,0)),\"\")","v":"10034315 - LIGA (UK) LTD"}]
[10003928,"LINCOLN COLLEGE","10003928 - LINCOLN COLLEGE",{"$f":"--ISNUMBER(IFERROR(SEARCH(ProviderTable!$B$3,C511,1),\"\"))","v":1},{"$f":"IF(D511=1,COUNTIF($D$2:D511,1),\"\")","v":510},{"$f":"IFERROR(INDEX($C$2:$C$1024,MATCH(ROWS($E$2:E511),$E$2:$E$1024,0)),\"\")","v":"10003928 - LINCOLN COLLEGE"}]
[10003932,"LINCOLNSHIRE COUNTY COUNCIL","10003932 - LINCOLNSHIRE COUNTY COUNCIL",{"$f":"--ISNUMBER(IFERROR(SEARCH(ProviderTable!$B$3,C512,1),\"\"))","v":1},{"$f":"IF(D512=1,COUNTIF($D$2:D512,1),\"\")","v":511},{"$f":"IFERROR(INDEX($C$2:$C$1024,MATCH(ROWS($E$2:E512),$E$2:$E$1024,0)),\"\")","v":"10003932 - LINCOLNSHIRE COUNTY COUNCIL"}]
[10003940,"LINKAGE COMMUNITY TRUST","10003940 - LINKAGE COMMUNITY TRUST",{"$f":"--ISNUMBER(IFERROR(SEARCH(ProviderTable!$B$3,C513,1),\"\"))","v":1},{"$f":"IF(D513=1,COUNTIF($D$2:D513,1),\"\")","v":512},{"$f":"IFERROR(INDEX($C$2:$C$1024,MATCH(ROWS($E$2:E513),$E$2:$E$1024,0)),\"\")","v":"10003940 - LINKAGE COMMUNITY TRUST"}]
[10032250,"LIONHEART IN THE COMMUNITY LIMITED","10032250 - LIONHEART IN THE COMMUNITY LIMITED",{"$f":"--ISNUMBER(IFERROR(SEARCH(ProviderTable!$B$3,C514,1),\"\"))","v":1},{"$f":"IF(D514=1,COUNTIF($D$2:D514,1),\"\")","v":513},{"$f":"IFERROR(INDEX($C$2:$C$1024,MATCH(ROWS($E$2:E514),$E$2:$E$1024,0)),\"\")","v":"10032250 - LIONHEART IN THE COMMUNITY LIMITED"}]
[10008354,"LITE (STOCKPORT) LIMITED",{"$f":"A515&\" - \"&B515","v":"10008354 - LITE (STOCKPORT) LIMITED"},{"$f":"--ISNUMBER(IFERROR(SEARCH(ProviderTable!$B$3,C515,1),\"\"))","v":1},{"$f":"IF(D515=1,COUNTIF($D$2:D515,1),\"\")","v":514},{"$f":"IFERROR(INDEX($C$2:$C$1024,MATCH(ROWS($E$2:E515),$E$2:$E$1024,0)),\"\")","v":"10008354 - LITE (STOCKPORT) LIMITED"}]
[10030252,"LIVERPOOL CHAMBER TRAINING LTD","10030252 - LIVERPOOL CHAMBER TRAINING LTD",{"$f":"--ISNUMBER(IFERROR(SEARCH(ProviderTable!$B$3,C516,1),\"\"))","v":1},{"$f":"IF(D516=1,COUNTIF($D$2:D516,1),\"\")","v":515},{"$f":"IFERROR(INDEX($C$2:$C$1024,MATCH(ROWS($E$2:E516),$E$2:$E$1024,0)),\"\")","v":"10030252 - LIVERPOOL CHAMBER TRAINING LTD"}]
[10003954,"LIVERPOOL CITY COUNCIL","10003954 - LIVERPOOL CITY COUNCIL",{"$f":"--ISNUMBER(IFERROR(SEARCH(ProviderTable!$B$3,C517,1),\"\"))","v":1},{"$f":"IF(D517=1,COUNTIF($D$2:D517,1),\"\")","v":516},{"$f":"IFERROR(INDEX($C$2:$C$1024,MATCH(ROWS($E$2:E517),$E$2:$E$1024,0)),\"\")","v":"10003954 - LIVERPOOL CITY COUNCIL"}]
[10003976,"LOCOMOTIVATION LTD.","10003976 - LOCOMOTIVATION LTD.",{"$f":"--ISNUMBER(IFERROR(SEARCH(ProviderTable!$B$3,C518,1),\"\"))","v":1},{"$f":"IF(D518=1,COUNTIF($D$2:D518,1),\"\")","v":517},{"$f":"IFERROR(INDEX($C$2:$C$1024,MATCH(ROWS($E$2:E518),$E$2:$E$1024,0)),\"\")","v":"10003976 - LOCOMOTIVATION LTD."}]
[10022998,"LONDON BOROUGH OF SUTTON (ORCHARD HILL COLLEGE)","10022998 - LONDON BOROUGH OF SUTTON (ORCHARD HILL COLLEGE)",{"$f":"--ISNUMBER(IFERROR(SEARCH(ProviderTable!$B$3,C519,1),\"\"))","v":1},{"$f":"IF(D519=1,COUNTIF($D$2:D519,1),\"\")","v":518},{"$f":"IFERROR(INDEX($C$2:$C$1024,MATCH(ROWS($E$2:E519),$E$2:$E$1024,0)),\"\")","v":"10022998 - LONDON BOROUGH OF SUTTON (ORCHARD HILL COLLEGE)"}]
[10006444,"LONDON BOROUGH OF SUTTON (SCOLA)","10006444 - LONDON BOROUGH OF SUTTON (SCOLA)",{"$f":"--ISNUMBER(IFERROR(SEARCH(ProviderTable!$B$3,C520,1),\"\"))","v":1},{"$f":"IF(D520=1,COUNTIF($D$2:D520,1),\"\")","v":519},{"$f":"IFERROR(INDEX($C$2:$C$1024,MATCH(ROWS($E$2:E520),$E$2:$E$1024,0)),\"\")","v":"10006444 - LONDON BOROUGH OF SUTTON (SCOLA)"}]
[10004032,"LONDON ELECTRONICS COLLEGE LIMITED","10004032 - LONDON ELECTRONICS COLLEGE LIMITED",{"$f":"--ISNUMBER(IFERROR(SEARCH(ProviderTable!$B$3,C521,1),\"\"))","v":1},{"$f":"IF(D521=1,COUNTIF($D$2:D521,1),\"\")","v":520},{"$f":"IFERROR(INDEX($C$2:$C$1024,MATCH(ROWS($E$2:E521),$E$2:$E$1024,0)),\"\")","v":"10004032 - LONDON ELECTRONICS COLLEGE LIMITED"}]
[10021684,"LONDON LEARNING CONSORTIUM COMMUNITY INTEREST COMPANY","10021684 - LONDON LEARNING CONSORTIUM COMMUNITY INTEREST COMPANY",{"$f":"--ISNUMBER(IFERROR(SEARCH(ProviderTable!$B$3,C522,1),\"\"))","v":1},{"$f":"IF(D522=1,COUNTIF($D$2:D522,1),\"\")","v":521},{"$f":"IFERROR(INDEX($C$2:$C$1024,MATCH(ROWS($E$2:E522),$E$2:$E$1024,0)),\"\")","v":"10021684 - LONDON LEARNING CONSORTIUM COMMUNITY INTEREST COMPANY"}]
[10022507,"LONDON SKILLS & DEVELOPMENT NETWORK LIMITED","10022507 - LONDON SKILLS & DEVELOPMENT NETWORK LIMITED",{"$f":"--ISNUMBER(IFERROR(SEARCH(ProviderTable!$B$3,C523,1),\"\"))","v":1},{"$f":"IF(D523=1,COUNTIF($D$2:D523,1),\"\")","v":522},{"$f":"IFERROR(INDEX($C$2:$C$1024,MATCH(ROWS($E$2:E523),$E$2:$E$1024,0)),\"\")","v":"10022507 - LONDON SKILLS & DEVELOPMENT NETWORK LIMITED"}]
[10008655,"LONGLEY PARK SIXTH FORM COLLEGE","10008655 - LONGLEY PARK SIXTH FORM COLLEGE",{"$f":"--ISNUMBER(IFERROR(SEARCH(ProviderTable!$B$3,C524,1),\"\"))","v":1},{"$f":"IF(D524=1,COUNTIF($D$2:D524,1),\"\")","v":523},{"$f":"IFERROR(INDEX($C$2:$C$1024,MATCH(ROWS($E$2:E524),$E$2:$E$1024,0)),\"\")","v":"10008655 - LONGLEY PARK SIXTH FORM COLLEGE"}]
[10012477,"LOOKFANTASTIC TRAINING LIMITED","10012477 - LOOKFANTASTIC TRAINING LIMITED",{"$f":"--ISNUMBER(IFERROR(SEARCH(ProviderTable!$B$3,C525,1),\"\"))","v":1},{"$f":"IF(D525=1,COUNTIF($D$2:D525,1),\"\")","v":524},{"$f":"IFERROR(INDEX($C$2:$C$1024,MATCH(ROWS($E$2:E525),$E$2:$E$1024,0)),\"\")","v":"10012477 - LOOKFANTASTIC TRAINING LIMITED"}]
[10004112,"LOUGHBOROUGH COLLEGE","10004112 - LOUGHBOROUGH COLLEGE",{"$f":"--ISNUMBER(IFERROR(SEARCH(ProviderTable!$B$3,C526,1),\"\"))","v":1},{"$f":"IF(D526=1,COUNTIF($D$2:D526,1),\"\")","v":525},{"$f":"IFERROR(INDEX($C$2:$C$1024,MATCH(ROWS($E$2:E526),$E$2:$E$1024,0)),\"\")","v":"10004112 - LOUGHBOROUGH COLLEGE"}]
[10004116,"LOWESTOFT COLLEGE","10004116 - LOWESTOFT COLLEGE",{"$f":"--ISNUMBER(IFERROR(SEARCH(ProviderTable!$B$3,C527,1),\"\"))","v":1},{"$f":"IF(D527=1,COUNTIF($D$2:D527,1),\"\")","v":526},{"$f":"IFERROR(INDEX($C$2:$C$1024,MATCH(ROWS($E$2:E527),$E$2:$E$1024,0)),\"\")","v":"10004116 - LOWESTOFT COLLEGE"}]
[10004124,"LUTON BOROUGH COUNCIL","10004124 - LUTON BOROUGH COUNCIL",{"$f":"--ISNUMBER(IFERROR(SEARCH(ProviderTable!$B$3,C528,1),\"\"))","v":1},{"$f":"IF(D528=1,COUNTIF($D$2:D528,1),\"\")","v":527},{"$f":"IFERROR(INDEX($C$2:$C$1024,MATCH(ROWS($E$2:E528),$E$2:$E$1024,0)),\"\")","v":"10004124 - LUTON BOROUGH COUNCIL"}]
[10004440,"M I T SKILLS LIMITED","10004440 - M I T SKILLS LIMITED",{"$f":"--ISNUMBER(IFERROR(SEARCH(ProviderTable!$B$3,C529,1),\"\"))","v":1},{"$f":"IF(D529=1,COUNTIF($D$2:D529,1),\"\")","v":528},{"$f":"IFERROR(INDEX($C$2:$C$1024,MATCH(ROWS($E$2:E529),$E$2:$E$1024,0)),\"\")","v":"10004440 - M I T SKILLS LIMITED"}]
[10004144,"MACCLESFIELD COLLEGE","10004144 - MACCLESFIELD COLLEGE",{"$f":"--ISNUMBER(IFERROR(SEARCH(ProviderTable!$B$3,C530,1),\"\"))","v":1},{"$f":"IF(D530=1,COUNTIF($D$2:D530,1),\"\")","v":529},{"$f":"IFERROR(INDEX($C$2:$C$1024,MATCH(ROWS($E$2:E530),$E$2:$E$1024,0)),\"\")","v":"10004144 - MACCLESFIELD COLLEGE"}]
[10009491,"MAINSTREAM TRAINING LIMITED","10009491 - MAINSTREAM TRAINING LIMITED",{"$f":"--ISNUMBER(IFERROR(SEARCH(ProviderTable!$B$3,C531,1),\"\"))","v":1},{"$f":"IF(D531=1,COUNTIF($D$2:D531,1),\"\")","v":530},{"$f":"IFERROR(INDEX($C$2:$C$1024,MATCH(ROWS($E$2:E531),$E$2:$E$1024,0)),\"\")","v":"10009491 - MAINSTREAM TRAINING LIMITED"}]
[10004169,"MANAGEMENT AND PERSONNEL SERVICES LIMITED","10004169 - MANAGEMENT AND PERSONNEL SERVICES LIMITED",{"$f":"--ISNUMBER(IFERROR(SEARCH(ProviderTable!$B$3,C532,1),\"\"))","v":1},{"$f":"IF(D532=1,COUNTIF($D$2:D532,1),\"\")","v":531},{"$f":"IFERROR(INDEX($C$2:$C$1024,MATCH(ROWS($E$2:E532),$E$2:$E$1024,0)),\"\")","v":"10004169 - MANAGEMENT AND PERSONNEL SERVICES LIMITED"}]
[10004175,"MANCHESTER CITY COUNCIL","10004175 - MANCHESTER CITY COUNCIL",{"$f":"--ISNUMBER(IFERROR(SEARCH(ProviderTable!$B$3,C533,1),\"\"))","v":1},{"$f":"IF(D533=1,COUNTIF($D$2:D533,1),\"\")","v":532},{"$f":"IFERROR(INDEX($C$2:$C$1024,MATCH(ROWS($E$2:E533),$E$2:$E$1024,0)),\"\")","v":"10004175 - MANCHESTER CITY COUNCIL"}]
[10023139,"MANCHESTER COLLEGE, THE","10023139 - MANCHESTER COLLEGE, THE",{"$f":"--ISNUMBER(IFERROR(SEARCH(ProviderTable!$B$3,C534,1),\"\"))","v":1},{"$f":"IF(D534=1,COUNTIF($D$2:D534,1),\"\")","v":533},{"$f":"IFERROR(INDEX($C$2:$C$1024,MATCH(ROWS($E$2:E534),$E$2:$E$1024,0)),\"\")","v":"10023139 - MANCHESTER COLLEGE, THE"}]
[10004181,"MANTRA LEARNING LIMITED","10004181 - MANTRA LEARNING LIMITED",{"$f":"--ISNUMBER(IFERROR(SEARCH(ProviderTable!$B$3,C535,1),\"\"))","v":1},{"$f":"IF(D535=1,COUNTIF($D$2:D535,1),\"\")","v":534},{"$f":"IFERROR(INDEX($C$2:$C$1024,MATCH(ROWS($E$2:E535),$E$2:$E$1024,0)),\"\")","v":"10004181 - MANTRA LEARNING LIMITED"}]
[10005926,"MARDELL ASSOCIATES LIMITED","10005926 - MARDELL ASSOCIATES LIMITED",{"$f":"--ISNUMBER(IFERROR(SEARCH(ProviderTable!$B$3,C536,1),\"\"))","v":1},{"$f":"IF(D536=1,COUNTIF($D$2:D536,1),\"\")","v":535},{"$f":"IFERROR(INDEX($C$2:$C$1024,MATCH(ROWS($E$2:E536),$E$2:$E$1024,0)),\"\")","v":"10005926 - MARDELL ASSOCIATES LIMITED"}]
[10003748,"MARITIME + ENGINEERING COLLEGE NORTH WEST","10003748 - MARITIME + ENGINEERING COLLEGE NORTH WEST",{"$f":"--ISNUMBER(IFERROR(SEARCH(ProviderTable!$B$3,C537,1),\"\"))","v":1},{"$f":"IF(D537=1,COUNTIF($D$2:D537,1),\"\")","v":536},{"$f":"IFERROR(INDEX($C$2:$C$1024,MATCH(ROWS($E$2:E537),$E$2:$E$1024,0)),\"\")","v":"10003748 - MARITIME + ENGINEERING COLLEGE NORTH WEST"}]
[10026001,"MARKET DRIVEN TRAINING LIMITED","10026001 - MARKET DRIVEN TRAINING LIMITED",{"$f":"--ISNUMBER(IFERROR(SEARCH(ProviderTable!$B$3,C538,1),\"\"))","v":1},{"$f":"IF(D538=1,COUNTIF($D$2:D538,1),\"\")","v":537},{"$f":"IFERROR(INDEX($C$2:$C$1024,MATCH(ROWS($E$2:E538),$E$2:$E$1024,0)),\"\")","v":"10026001 - MARKET DRIVEN TRAINING LIMITED"}]
[10024124,"MARR CORPORATION LIMITED","10024124 - MARR CORPORATION LIMITED",{"$f":"--ISNUMBER(IFERROR(SEARCH(ProviderTable!$B$3,C539,1),\"\"))","v":1},{"$f":"IF(D539=1,COUNTIF($D$2:D539,1),\"\")","v":538},{"$f":"IFERROR(INDEX($C$2:$C$1024,MATCH(ROWS($E$2:E539),$E$2:$E$1024,0)),\"\")","v":"10024124 - MARR CORPORATION LIMITED"}]
[10007875,"MARY WARD SETTLEMENT","10007875 - MARY WARD SETTLEMENT",{"$f":"--ISNUMBER(IFERROR(SEARCH(ProviderTable!$B$3,C540,1),\"\"))","v":1},{"$f":"IF(D540=1,COUNTIF($D$2:D540,1),\"\")","v":539},{"$f":"IFERROR(INDEX($C$2:$C$1024,MATCH(ROWS($E$2:E540),$E$2:$E$1024,0)),\"\")","v":"10007875 - MARY WARD SETTLEMENT"}]
[10004240,"MATRIX TRAINING AND DEVELOPMENT LIMITED","10004240 - MATRIX TRAINING AND DEVELOPMENT LIMITED",{"$f":"--ISNUMBER(IFERROR(SEARCH(ProviderTable!$B$3,C541,1),\"\"))","v":1},{"$f":"IF(D541=1,COUNTIF($D$2:D541,1),\"\")","v":540},{"$f":"IFERROR(INDEX($C$2:$C$1024,MATCH(ROWS($E$2:E541),$E$2:$E$1024,0)),\"\")","v":"10004240 - MATRIX TRAINING AND DEVELOPMENT LIMITED"}]
[10004257,"MCARTHUR DEAN TRAINING LIMITED","10004257 - MCARTHUR DEAN TRAINING LIMITED",{"$f":"--ISNUMBER(IFERROR(SEARCH(ProviderTable!$B$3,C542,1),\"\"))","v":1},{"$f":"IF(D542=1,COUNTIF($D$2:D542,1),\"\")","v":541},{"$f":"IFERROR(INDEX($C$2:$C$1024,MATCH(ROWS($E$2:E542),$E$2:$E$1024,0)),\"\")","v":"10004257 - MCARTHUR DEAN TRAINING LIMITED"}]
[10013073,"MCDONALD'S RESTAURANTS LIMITED","10013073 - MCDONALD'S RESTAURANTS LIMITED",{"$f":"--ISNUMBER(IFERROR(SEARCH(ProviderTable!$B$3,C543,1),\"\"))","v":1},{"$f":"IF(D543=1,COUNTIF($D$2:D543,1),\"\")","v":542},{"$f":"IFERROR(INDEX($C$2:$C$1024,MATCH(ROWS($E$2:E543),$E$2:$E$1024,0)),\"\")","v":"10013073 - MCDONALD'S RESTAURANTS LIMITED"}]
[10004264,"MEADOWHALL CENTRE (1999) LIMITED","10004264 - MEADOWHALL CENTRE (1999) LIMITED",{"$f":"--ISNUMBER(IFERROR(SEARCH(ProviderTable!$B$3,C544,1),\"\"))","v":1},{"$f":"IF(D544=1,COUNTIF($D$2:D544,1),\"\")","v":543},{"$f":"IFERROR(INDEX($C$2:$C$1024,MATCH(ROWS($E$2:E544),$E$2:$E$1024,0)),\"\")","v":"10004264 - MEADOWHALL CENTRE (1999) LIMITED"}]
[10010905,"MEADOWHALL TRAINING LIMITED","10010905 - MEADOWHALL TRAINING LIMITED",{"$f":"--ISNUMBER(IFERROR(SEARCH(ProviderTable!$B$3,C545,1),\"\"))","v":1},{"$f":"IF(D545=1,COUNTIF($D$2:D545,1),\"\")","v":544},{"$f":"IFERROR(INDEX($C$2:$C$1024,MATCH(ROWS($E$2:E545),$E$2:$E$1024,0)),\"\")","v":"10010905 - MEADOWHALL TRAINING LIMITED"}]
[10028909,"MEDI PROSPECTS LTD","10028909 - MEDI PROSPECTS LTD",{"$f":"--ISNUMBER(IFERROR(SEARCH(ProviderTable!$B$3,C546,1),\"\"))","v":1},{"$f":"IF(D546=1,COUNTIF($D$2:D546,1),\"\")","v":545},{"$f":"IFERROR(INDEX($C$2:$C$1024,MATCH(ROWS($E$2:E546),$E$2:$E$1024,0)),\"\")","v":"10028909 - MEDI PROSPECTS LTD"}]
[10004285,"MEDWAY COUNCIL","10004285 - MEDWAY COUNCIL",{"$f":"--ISNUMBER(IFERROR(SEARCH(ProviderTable!$B$3,C547,1),\"\"))","v":1},{"$f":"IF(D547=1,COUNTIF($D$2:D547,1),\"\")","v":546},{"$f":"IFERROR(INDEX($C$2:$C$1024,MATCH(ROWS($E$2:E547),$E$2:$E$1024,0)),\"\")","v":"10004285 - MEDWAY COUNCIL"}]
[10022856,"MERCEDES-BENZ UK LIMITED","10022856 - MERCEDES-BENZ UK LIMITED",{"$f":"--ISNUMBER(IFERROR(SEARCH(ProviderTable!$B$3,C548,1),\"\"))","v":1},{"$f":"IF(D548=1,COUNTIF($D$2:D548,1),\"\")","v":547},{"$f":"IFERROR(INDEX($C$2:$C$1024,MATCH(ROWS($E$2:E548),$E$2:$E$1024,0)),\"\")","v":"10022856 - MERCEDES-BENZ UK LIMITED"}]
[10004303,"MERCIA PARTNERSHIP (UK) LTD","10004303 - MERCIA PARTNERSHIP (UK) LTD",{"$f":"--ISNUMBER(IFERROR(SEARCH(ProviderTable!$B$3,C549,1),\"\"))","v":1},{"$f":"IF(D549=1,COUNTIF($D$2:D549,1),\"\")","v":548},{"$f":"IFERROR(INDEX($C$2:$C$1024,MATCH(ROWS($E$2:E549),$E$2:$E$1024,0)),\"\")","v":"10004303 - MERCIA PARTNERSHIP (UK) LTD"}]
[10003996,"MERTON BOROUGH COUNCIL","10003996 - MERTON BOROUGH COUNCIL",{"$f":"--ISNUMBER(IFERROR(SEARCH(ProviderTable!$B$3,C550,1),\"\"))","v":1},{"$f":"IF(D550=1,COUNTIF($D$2:D550,1),\"\")","v":549},{"$f":"IFERROR(INDEX($C$2:$C$1024,MATCH(ROWS($E$2:E550),$E$2:$E$1024,0)),\"\")","v":"10003996 - MERTON BOROUGH COUNCIL"}]
[10004319,"METSKILL LIMITED","10004319 - METSKILL LIMITED",{"$f":"--ISNUMBER(IFERROR(SEARCH(ProviderTable!$B$3,C551,1),\"\"))","v":1},{"$f":"IF(D551=1,COUNTIF($D$2:D551,1),\"\")","v":550},{"$f":"IFERROR(INDEX($C$2:$C$1024,MATCH(ROWS($E$2:E551),$E$2:$E$1024,0)),\"\")","v":"10004319 - METSKILL LIMITED"}]
[10018328,"MI COMPUTSOLUTIONS INCORPORATED","10018328 - MI COMPUTSOLUTIONS INCORPORATED",{"$f":"--ISNUMBER(IFERROR(SEARCH(ProviderTable!$B$3,C552,1),\"\"))","v":1},{"$f":"IF(D552=1,COUNTIF($D$2:D552,1),\"\")","v":551},{"$f":"IFERROR(INDEX($C$2:$C$1024,MATCH(ROWS($E$2:E552),$E$2:$E$1024,0)),\"\")","v":"10018328 - MI COMPUTSOLUTIONS INCORPORATED"}]
[10011242,"MIC SKILLS & EMPLOYABILITY LTD","10011242 - MIC SKILLS & EMPLOYABILITY LTD",{"$f":"--ISNUMBER(IFERROR(SEARCH(ProviderTable!$B$3,C553,1),\"\"))","v":1},{"$f":"IF(D553=1,COUNTIF($D$2:D553,1),\"\")","v":552},{"$f":"IFERROR(INDEX($C$2:$C$1024,MATCH(ROWS($E$2:E553),$E$2:$E$1024,0)),\"\")","v":"10011242 - MIC SKILLS & EMPLOYABILITY LTD"}]
[10014196,"MICHAEL JOHN HEATH","10014196 - MICHAEL JOHN HEATH",{"$f":"--ISNUMBER(IFERROR(SEARCH(ProviderTable!$B$3,C554,1),\"\"))","v":1},{"$f":"IF(D554=1,COUNTIF($D$2:D554,1),\"\")","v":553},{"$f":"IFERROR(INDEX($C$2:$C$1024,MATCH(ROWS($E$2:E554),$E$2:$E$1024,0)),\"\")","v":"10014196 - MICHAEL JOHN HEATH"}]
[10007002,"MICHAEL JOHN TRAINING LIMITED","10007002 - MICHAEL JOHN TRAINING LIMITED",{"$f":"--ISNUMBER(IFERROR(SEARCH(ProviderTable!$B$3,C555,1),\"\"))","v":1},{"$f":"IF(D555=1,COUNTIF($D$2:D555,1),\"\")","v":554},{"$f":"IFERROR(INDEX($C$2:$C$1024,MATCH(ROWS($E$2:E555),$E$2:$E$1024,0)),\"\")","v":"10007002 - MICHAEL JOHN TRAINING LIMITED"}]
[10012892,"MICHAEL MCCORMACK","10012892 - MICHAEL MCCORMACK",{"$f":"--ISNUMBER(IFERROR(SEARCH(ProviderTable!$B$3,C556,1),\"\"))","v":1},{"$f":"IF(D556=1,COUNTIF($D$2:D556,1),\"\")","v":555},{"$f":"IFERROR(INDEX($C$2:$C$1024,MATCH(ROWS($E$2:E556),$E$2:$E$1024,0)),\"\")","v":"10012892 - MICHAEL MCCORMACK"}]
[10004339,"MID-CHESHIRE COLLEGE","10004339 - MID-CHESHIRE COLLEGE",{"$f":"--ISNUMBER(IFERROR(SEARCH(ProviderTable!$B$3,C557,1),\"\"))","v":1},{"$f":"IF(D557=1,COUNTIF($D$2:D557,1),\"\")","v":556},{"$f":"IFERROR(INDEX($C$2:$C$1024,MATCH(ROWS($E$2:E557),$E$2:$E$1024,0)),\"\")","v":"10004339 - MID-CHESHIRE COLLEGE"}]
[10004344,"MIDDLESBROUGH COLLEGE","10004344 - MIDDLESBROUGH COLLEGE",{"$f":"--ISNUMBER(IFERROR(SEARCH(ProviderTable!$B$3,C558,1),\"\"))","v":1},{"$f":"IF(D558=1,COUNTIF($D$2:D558,1),\"\")","v":557},{"$f":"IFERROR(INDEX($C$2:$C$1024,MATCH(ROWS($E$2:E558),$E$2:$E$1024,0)),\"\")","v":"10004344 - MIDDLESBROUGH COLLEGE"}]
[10004343,"MIDDLESBROUGH COUNCIL","10004343 - MIDDLESBROUGH COUNCIL",{"$f":"--ISNUMBER(IFERROR(SEARCH(ProviderTable!$B$3,C559,1),\"\"))","v":1},{"$f":"IF(D559=1,COUNTIF($D$2:D559,1),\"\")","v":558},{"$f":"IFERROR(INDEX($C$2:$C$1024,MATCH(ROWS($E$2:E559),$E$2:$E$1024,0)),\"\")","v":"10004343 - MIDDLESBROUGH COUNCIL"}]
[10036176,"MIDDLETONMURRAY LIMITED","10036176 - MIDDLETONMURRAY LIMITED",{"$f":"--ISNUMBER(IFERROR(SEARCH(ProviderTable!$B$3,C560,1),\"\"))","v":1},{"$f":"IF(D560=1,COUNTIF($D$2:D560,1),\"\")","v":559},{"$f":"IFERROR(INDEX($C$2:$C$1024,MATCH(ROWS($E$2:E560),$E$2:$E$1024,0)),\"\")","v":"10036176 - MIDDLETONMURRAY LIMITED"}]
[10004340,"MID-KENT COLLEGE","10004340 - MID-KENT COLLEGE",{"$f":"--ISNUMBER(IFERROR(SEARCH(ProviderTable!$B$3,C561,1),\"\"))","v":1},{"$f":"IF(D561=1,COUNTIF($D$2:D561,1),\"\")","v":560},{"$f":"IFERROR(INDEX($C$2:$C$1024,MATCH(ROWS($E$2:E561),$E$2:$E$1024,0)),\"\")","v":"10004340 - MID-KENT COLLEGE"}]
[10004355,"MIDLAND GROUP TRAINING SERVICES LIMITED","10004355 - MIDLAND GROUP TRAINING SERVICES LIMITED",{"$f":"--ISNUMBER(IFERROR(SEARCH(ProviderTable!$B$3,C562,1),\"\"))","v":1},{"$f":"IF(D562=1,COUNTIF($D$2:D562,1),\"\")","v":561},{"$f":"IFERROR(INDEX($C$2:$C$1024,MATCH(ROWS($E$2:E562),$E$2:$E$1024,0)),\"\")","v":"10004355 - MIDLAND GROUP TRAINING SERVICES LIMITED"}]
[10005264,"MILLBROOK MANAGEMENT SERVICES LIMITED","10005264 - MILLBROOK MANAGEMENT SERVICES LIMITED",{"$f":"--ISNUMBER(IFERROR(SEARCH(ProviderTable!$B$3,C563,1),\"\"))","v":1},{"$f":"IF(D563=1,COUNTIF($D$2:D563,1),\"\")","v":562},{"$f":"IFERROR(INDEX($C$2:$C$1024,MATCH(ROWS($E$2:E563),$E$2:$E$1024,0)),\"\")","v":"10005264 - MILLBROOK MANAGEMENT SERVICES LIMITED"}]
[10027518,"MILLENNIUM ACADEMY LTD","10027518 - MILLENNIUM ACADEMY LTD",{"$f":"--ISNUMBER(IFERROR(SEARCH(ProviderTable!$B$3,C564,1),\"\"))","v":1},{"$f":"IF(D564=1,COUNTIF($D$2:D564,1),\"\")","v":563},{"$f":"IFERROR(INDEX($C$2:$C$1024,MATCH(ROWS($E$2:E564),$E$2:$E$1024,0)),\"\")","v":"10027518 - MILLENNIUM ACADEMY LTD"}]
[10004375,"MILTON KEYNES COLLEGE","10004375 - MILTON KEYNES COLLEGE",{"$f":"--ISNUMBER(IFERROR(SEARCH(ProviderTable!$B$3,C565,1),\"\"))","v":1},{"$f":"IF(D565=1,COUNTIF($D$2:D565,1),\"\")","v":564},{"$f":"IFERROR(INDEX($C$2:$C$1024,MATCH(ROWS($E$2:E565),$E$2:$E$1024,0)),\"\")","v":"10004375 - MILTON KEYNES COLLEGE"}]
[10004376,"MILTON KEYNES COUNCIL","10004376 - MILTON KEYNES COUNCIL",{"$f":"--ISNUMBER(IFERROR(SEARCH(ProviderTable!$B$3,C566,1),\"\"))","v":1},{"$f":"IF(D566=1,COUNTIF($D$2:D566,1),\"\")","v":565},{"$f":"IFERROR(INDEX($C$2:$C$1024,MATCH(ROWS($E$2:E566),$E$2:$E$1024,0)),\"\")","v":"10004376 - MILTON KEYNES COUNCIL"}]
[10023999,"MITIE GROUP PLC","10023999 - MITIE GROUP PLC",{"$f":"--ISNUMBER(IFERROR(SEARCH(ProviderTable!$B$3,C567,1),\"\"))","v":1},{"$f":"IF(D567=1,COUNTIF($D$2:D567,1),\"\")","v":566},{"$f":"IFERROR(INDEX($C$2:$C$1024,MATCH(ROWS($E$2:E567),$E$2:$E$1024,0)),\"\")","v":"10023999 - MITIE GROUP PLC"}]
[10004404,"MOBILE CARE QUALIFICATIONS LIMITED","10004404 - MOBILE CARE QUALIFICATIONS LIMITED",{"$f":"--ISNUMBER(IFERROR(SEARCH(ProviderTable!$B$3,C568,1),\"\"))","v":1},{"$f":"IF(D568=1,COUNTIF($D$2:D568,1),\"\")","v":567},{"$f":"IFERROR(INDEX($C$2:$C$1024,MATCH(ROWS($E$2:E568),$E$2:$E$1024,0)),\"\")","v":"10004404 - MOBILE CARE QUALIFICATIONS LIMITED"}]
[10044729,"MOMENTUM TRAINING AND CONSULTANCY LTD","10044729 - MOMENTUM TRAINING AND CONSULTANCY LTD",{"$f":"--ISNUMBER(IFERROR(SEARCH(ProviderTable!$B$3,C569,1),\"\"))","v":1},{"$f":"IF(D569=1,COUNTIF($D$2:D569,1),\"\")","v":568},{"$f":"IFERROR(INDEX($C$2:$C$1024,MATCH(ROWS($E$2:E569),$E$2:$E$1024,0)),\"\")","v":"10044729 - MOMENTUM TRAINING AND CONSULTANCY LTD"}]
[10004432,"MORLEY COLLEGE LIMITED","10004432 - MORLEY COLLEGE LIMITED",{"$f":"--ISNUMBER(IFERROR(SEARCH(ProviderTable!$B$3,C570,1),\"\"))","v":1},{"$f":"IF(D570=1,COUNTIF($D$2:D570,1),\"\")","v":569},{"$f":"IFERROR(INDEX($C$2:$C$1024,MATCH(ROWS($E$2:E570),$E$2:$E$1024,0)),\"\")","v":"10004432 - MORLEY COLLEGE LIMITED"}]
[10004434,"MORTHYNG GROUP LIMITED","10004434 - MORTHYNG GROUP LIMITED",{"$f":"--ISNUMBER(IFERROR(SEARCH(ProviderTable!$B$3,C571,1),\"\"))","v":1},{"$f":"IF(D571=1,COUNTIF($D$2:D571,1),\"\")","v":570},{"$f":"IFERROR(INDEX($C$2:$C$1024,MATCH(ROWS($E$2:E571),$E$2:$E$1024,0)),\"\")","v":"10004434 - MORTHYNG GROUP LIMITED"}]
[10004442,"MOULTON COLLEGE","10004442 - MOULTON COLLEGE",{"$f":"--ISNUMBER(IFERROR(SEARCH(ProviderTable!$B$3,C572,1),\"\"))","v":1},{"$f":"IF(D572=1,COUNTIF($D$2:D572,1),\"\")","v":571},{"$f":"IFERROR(INDEX($C$2:$C$1024,MATCH(ROWS($E$2:E572),$E$2:$E$1024,0)),\"\")","v":"10004442 - MOULTON COLLEGE"}]
[10023896,"MPOWER TRAINING SOLUTIONS LTD","10023896 - MPOWER TRAINING SOLUTIONS LTD",{"$f":"--ISNUMBER(IFERROR(SEARCH(ProviderTable!$B$3,C573,1),\"\"))","v":1},{"$f":"IF(D573=1,COUNTIF($D$2:D573,1),\"\")","v":572},{"$f":"IFERROR(INDEX($C$2:$C$1024,MATCH(ROWS($E$2:E573),$E$2:$E$1024,0)),\"\")","v":"10023896 - MPOWER TRAINING SOLUTIONS LTD"}]
[10004478,"MYERSCOUGH COLLEGE","10004478 - MYERSCOUGH COLLEGE",{"$f":"--ISNUMBER(IFERROR(SEARCH(ProviderTable!$B$3,C574,1),\"\"))","v":1},{"$f":"IF(D574=1,COUNTIF($D$2:D574,1),\"\")","v":573},{"$f":"IFERROR(INDEX($C$2:$C$1024,MATCH(ROWS($E$2:E574),$E$2:$E$1024,0)),\"\")","v":"10004478 - MYERSCOUGH COLLEGE"}]
[10004484,"N & B TRAINING COMPANY LIMITED","10004484 - N & B TRAINING COMPANY LIMITED",{"$f":"--ISNUMBER(IFERROR(SEARCH(ProviderTable!$B$3,C575,1),\"\"))","v":1},{"$f":"IF(D575=1,COUNTIF($D$2:D575,1),\"\")","v":574},{"$f":"IFERROR(INDEX($C$2:$C$1024,MATCH(ROWS($E$2:E575),$E$2:$E$1024,0)),\"\")","v":"10004484 - N & B TRAINING COMPANY LIMITED"}]
[10004486,"NACRO","10004486 - NACRO",{"$f":"--ISNUMBER(IFERROR(SEARCH(ProviderTable!$B$3,C576,1),\"\"))","v":1},{"$f":"IF(D576=1,COUNTIF($D$2:D576,1),\"\")","v":575},{"$f":"IFERROR(INDEX($C$2:$C$1024,MATCH(ROWS($E$2:E576),$E$2:$E$1024,0)),\"\")","v":"10004486 - NACRO"}]
[10012810,"NASH COLLEGE","10012810 - NASH COLLEGE",{"$f":"--ISNUMBER(IFERROR(SEARCH(ProviderTable!$B$3,C577,1),\"\"))","v":1},{"$f":"IF(D577=1,COUNTIF($D$2:D577,1),\"\")","v":576},{"$f":"IFERROR(INDEX($C$2:$C$1024,MATCH(ROWS($E$2:E577),$E$2:$E$1024,0)),\"\")","v":"10012810 - NASH COLLEGE"}]
[10004499,"NATIONAL BUSINESS COLLEGE LIMITED","10004499 - NATIONAL BUSINESS COLLEGE LIMITED",{"$f":"--ISNUMBER(IFERROR(SEARCH(ProviderTable!$B$3,C578,1),\"\"))","v":1},{"$f":"IF(D578=1,COUNTIF($D$2:D578,1),\"\")","v":577},{"$f":"IFERROR(INDEX($C$2:$C$1024,MATCH(ROWS($E$2:E578),$E$2:$E$1024,0)),\"\")","v":"10004499 - NATIONAL BUSINESS COLLEGE LIMITED"}]
[10004512,"NATIONAL GRID PLC",{"$f":"A579&\" - \"&B579","v":"10004512 - NATIONAL GRID PLC"},{"$f":"--ISNUMBER(IFERROR(SEARCH(ProviderTable!$B$3,C579,1),\"\"))","v":1},{"$f":"IF(D579=1,COUNTIF($D$2:D579,1),\"\")","v":578},{"$f":"IFERROR(INDEX($C$2:$C$1024,MATCH(ROWS($E$2:E579),$E$2:$E$1024,0)),\"\")","v":"10004512 - NATIONAL GRID PLC"}]
[10004527,"NATIONAL STAR COLLEGE","10004527 - NATIONAL STAR COLLEGE",{"$f":"--ISNUMBER(IFERROR(SEARCH(ProviderTable!$B$3,C580,1),\"\"))","v":1},{"$f":"IF(D580=1,COUNTIF($D$2:D580,1),\"\")","v":579},{"$f":"IFERROR(INDEX($C$2:$C$1024,MATCH(ROWS($E$2:E580),$E$2:$E$1024,0)),\"\")","v":"10004527 - NATIONAL STAR COLLEGE"}]
[10004530,"NATIONAL TYRE SERVICE LIMITED","10004530 - NATIONAL TYRE SERVICE LIMITED",{"$f":"--ISNUMBER(IFERROR(SEARCH(ProviderTable!$B$3,C581,1),\"\"))","v":1},{"$f":"IF(D581=1,COUNTIF($D$2:D581,1),\"\")","v":580},{"$f":"IFERROR(INDEX($C$2:$C$1024,MATCH(ROWS($E$2:E581),$E$2:$E$1024,0)),\"\")","v":"10004530 - NATIONAL TYRE SERVICE LIMITED"}]
[10004599,"NCG","10004599 - NCG",{"$f":"--ISNUMBER(IFERROR(SEARCH(ProviderTable!$B$3,C582,1),\"\"))","v":1},{"$f":"IF(D582=1,COUNTIF($D$2:D582,1),\"\")","v":581},{"$f":"IFERROR(INDEX($C$2:$C$1024,MATCH(ROWS($E$2:E582),$E$2:$E$1024,0)),\"\")","v":"10004599 - NCG"}]
[10004552,"NELSON AND COLNE COLLEGE","10004552 - NELSON AND COLNE COLLEGE",{"$f":"--ISNUMBER(IFERROR(SEARCH(ProviderTable!$B$3,C583,1),\"\"))","v":1},{"$f":"IF(D583=1,COUNTIF($D$2:D583,1),\"\")","v":582},{"$f":"IFERROR(INDEX($C$2:$C$1024,MATCH(ROWS($E$2:E583),$E$2:$E$1024,0)),\"\")","v":"10004552 - NELSON AND COLNE COLLEGE"}]
[10026072,"NESTOR PRIMECARE SERVICES LIMITED","10026072 - NESTOR PRIMECARE SERVICES LIMITED",{"$f":"--ISNUMBER(IFERROR(SEARCH(ProviderTable!$B$3,C584,1),\"\"))","v":1},{"$f":"IF(D584=1,COUNTIF($D$2:D584,1),\"\")","v":583},{"$f":"IFERROR(INDEX($C$2:$C$1024,MATCH(ROWS($E$2:E584),$E$2:$E$1024,0)),\"\")","v":"10026072 - NESTOR PRIMECARE SERVICES LIMITED"}]
[10004558,"NETA TRAINING TRUST","10004558 - NETA TRAINING TRUST",{"$f":"--ISNUMBER(IFERROR(SEARCH(ProviderTable!$B$3,C585,1),\"\"))","v":1},{"$f":"IF(D585=1,COUNTIF($D$2:D585,1),\"\")","v":584},{"$f":"IFERROR(INDEX($C$2:$C$1024,MATCH(ROWS($E$2:E585),$E$2:$E$1024,0)),\"\")","v":"10004558 - NETA TRAINING TRUST"}]
[10013544,"NETWORK RAIL INFRASTRUCTURE LIMITED","10013544 - NETWORK RAIL INFRASTRUCTURE LIMITED",{"$f":"--ISNUMBER(IFERROR(SEARCH(ProviderTable!$B$3,C586,1),\"\"))","v":1},{"$f":"IF(D586=1,COUNTIF($D$2:D586,1),\"\")","v":585},{"$f":"IFERROR(INDEX($C$2:$C$1024,MATCH(ROWS($E$2:E586),$E$2:$E$1024,0)),\"\")","v":"10013544 - NETWORK RAIL INFRASTRUCTURE LIMITED"}]
[10004576,"NEW COLLEGE DURHAM","10004576 - NEW COLLEGE DURHAM",{"$f":"--ISNUMBER(IFERROR(SEARCH(ProviderTable!$B$3,C587,1),\"\"))","v":1},{"$f":"IF(D587=1,COUNTIF($D$2:D587,1),\"\")","v":586},{"$f":"IFERROR(INDEX($C$2:$C$1024,MATCH(ROWS($E$2:E587),$E$2:$E$1024,0)),\"\")","v":"10004576 - NEW COLLEGE DURHAM"}]
[10004577,"NEW COLLEGE NOTTINGHAM (NCN)","10004577 - NEW COLLEGE NOTTINGHAM (NCN)",{"$f":"--ISNUMBER(IFERROR(SEARCH(ProviderTable!$B$3,C588,1),\"\"))","v":1},{"$f":"IF(D588=1,COUNTIF($D$2:D588,1),\"\")","v":587},{"$f":"IFERROR(INDEX($C$2:$C$1024,MATCH(ROWS($E$2:E588),$E$2:$E$1024,0)),\"\")","v":"10004577 - NEW COLLEGE NOTTINGHAM (NCN)"}]
[10006303,"NEW COLLEGE STAMFORD","10006303 - NEW COLLEGE STAMFORD",{"$f":"--ISNUMBER(IFERROR(SEARCH(ProviderTable!$B$3,C589,1),\"\"))","v":1},{"$f":"IF(D589=1,COUNTIF($D$2:D589,1),\"\")","v":588},{"$f":"IFERROR(INDEX($C$2:$C$1024,MATCH(ROWS($E$2:E589),$E$2:$E$1024,0)),\"\")","v":"10006303 - NEW COLLEGE STAMFORD"}]
[10004579,"NEW COLLEGE SWINDON","10004579 - NEW COLLEGE SWINDON",{"$f":"--ISNUMBER(IFERROR(SEARCH(ProviderTable!$B$3,C590,1),\"\"))","v":1},{"$f":"IF(D590=1,COUNTIF($D$2:D590,1),\"\")","v":589},{"$f":"IFERROR(INDEX($C$2:$C$1024,MATCH(ROWS($E$2:E590),$E$2:$E$1024,0)),\"\")","v":"10004579 - NEW COLLEGE SWINDON"}]
[10004580,"NEW COLLEGE TELFORD","10004580 - NEW COLLEGE TELFORD",{"$f":"--ISNUMBER(IFERROR(SEARCH(ProviderTable!$B$3,C591,1),\"\"))","v":1},{"$f":"IF(D591=1,COUNTIF($D$2:D591,1),\"\")","v":590},{"$f":"IFERROR(INDEX($C$2:$C$1024,MATCH(ROWS($E$2:E591),$E$2:$E$1024,0)),\"\")","v":"10004580 - NEW COLLEGE TELFORD"}]
[10004596,"NEWBURY COLLEGE","10004596 - NEWBURY COLLEGE",{"$f":"--ISNUMBER(IFERROR(SEARCH(ProviderTable!$B$3,C592,1),\"\"))","v":1},{"$f":"IF(D592=1,COUNTIF($D$2:D592,1),\"\")","v":591},{"$f":"IFERROR(INDEX($C$2:$C$1024,MATCH(ROWS($E$2:E592),$E$2:$E$1024,0)),\"\")","v":"10004596 - NEWBURY COLLEGE"}]
[10053962,"NEWCASTLE COLLEGE","10053962 - NEWCASTLE COLLEGE",{"$f":"--ISNUMBER(IFERROR(SEARCH(ProviderTable!$B$3,C593,1),\"\"))","v":1},{"$f":"IF(D593=1,COUNTIF($D$2:D593,1),\"\")","v":592},{"$f":"IFERROR(INDEX($C$2:$C$1024,MATCH(ROWS($E$2:E593),$E$2:$E$1024,0)),\"\")","v":"10053962 - NEWCASTLE COLLEGE"}]
[10004601,"NEWCASTLE UPON TYNE CITY COUNCIL","10004601 - NEWCASTLE UPON TYNE CITY COUNCIL",{"$f":"--ISNUMBER(IFERROR(SEARCH(ProviderTable!$B$3,C594,1),\"\"))","v":1},{"$f":"IF(D594=1,COUNTIF($D$2:D594,1),\"\")","v":593},{"$f":"IFERROR(INDEX($C$2:$C$1024,MATCH(ROWS($E$2:E594),$E$2:$E$1024,0)),\"\")","v":"10004601 - NEWCASTLE UPON TYNE CITY COUNCIL"}]
[10004603,"NEWCASTLE-UNDER-LYME COLLEGE (NULC)","10004603 - NEWCASTLE-UNDER-LYME COLLEGE (NULC)",{"$f":"--ISNUMBER(IFERROR(SEARCH(ProviderTable!$B$3,C595,1),\"\"))","v":1},{"$f":"IF(D595=1,COUNTIF($D$2:D595,1),\"\")","v":594},{"$f":"IFERROR(INDEX($C$2:$C$1024,MATCH(ROWS($E$2:E595),$E$2:$E$1024,0)),\"\")","v":"10004603 - NEWCASTLE-UNDER-LYME COLLEGE (NULC)"}]
[10004607,"NEWHAM COLLEGE OF FURTHER EDUCATION","10004607 - NEWHAM COLLEGE OF FURTHER EDUCATION",{"$f":"--ISNUMBER(IFERROR(SEARCH(ProviderTable!$B$3,C596,1),\"\"))","v":1},{"$f":"IF(D596=1,COUNTIF($D$2:D596,1),\"\")","v":595},{"$f":"IFERROR(INDEX($C$2:$C$1024,MATCH(ROWS($E$2:E596),$E$2:$E$1024,0)),\"\")","v":"10004607 - NEWHAM COLLEGE OF FURTHER EDUCATION"}]
[10003997,"NEWHAM LONDON BOROUGH COUNCIL","10003997 - NEWHAM LONDON BOROUGH COUNCIL",{"$f":"--ISNUMBER(IFERROR(SEARCH(ProviderTable!$B$3,C597,1),\"\"))","v":1},{"$f":"IF(D597=1,COUNTIF($D$2:D597,1),\"\")","v":596},{"$f":"IFERROR(INDEX($C$2:$C$1024,MATCH(ROWS($E$2:E597),$E$2:$E$1024,0)),\"\")","v":"10003997 - NEWHAM LONDON BOROUGH COUNCIL"}]
[10004608,"NEWHAM SIXTH FORM COLLEGE","10004608 - NEWHAM SIXTH FORM COLLEGE",{"$f":"--ISNUMBER(IFERROR(SEARCH(ProviderTable!$B$3,C598,1),\"\"))","v":1},{"$f":"IF(D598=1,COUNTIF($D$2:D598,1),\"\")","v":597},{"$f":"IFERROR(INDEX($C$2:$C$1024,MATCH(ROWS($E$2:E598),$E$2:$E$1024,0)),\"\")","v":"10004608 - NEWHAM SIXTH FORM COLLEGE"}]
[10004609,"NEWHAM TRAINING AND EDUCATION CENTRE","10004609 - NEWHAM TRAINING AND EDUCATION CENTRE",{"$f":"--ISNUMBER(IFERROR(SEARCH(ProviderTable!$B$3,C599,1),\"\"))","v":1},{"$f":"IF(D599=1,COUNTIF($D$2:D599,1),\"\")","v":598},{"$f":"IFERROR(INDEX($C$2:$C$1024,MATCH(ROWS($E$2:E599),$E$2:$E$1024,0)),\"\")","v":"10004609 - NEWHAM TRAINING AND EDUCATION CENTRE"}]
[10040519,"NEXT GROUP PLC","10040519 - NEXT GROUP PLC",{"$f":"--ISNUMBER(IFERROR(SEARCH(ProviderTable!$B$3,C600,1),\"\"))","v":1},{"$f":"IF(D600=1,COUNTIF($D$2:D600,1),\"\")","v":599},{"$f":"IFERROR(INDEX($C$2:$C$1024,MATCH(ROWS($E$2:E600),$E$2:$E$1024,0)),\"\")","v":"10040519 - NEXT GROUP PLC"}]
[10004632,"NHTA LIMITED","10004632 - NHTA LIMITED",{"$f":"--ISNUMBER(IFERROR(SEARCH(ProviderTable!$B$3,C601,1),\"\"))","v":1},{"$f":"IF(D601=1,COUNTIF($D$2:D601,1),\"\")","v":600},{"$f":"IFERROR(INDEX($C$2:$C$1024,MATCH(ROWS($E$2:E601),$E$2:$E$1024,0)),\"\")","v":"10004632 - NHTA LIMITED"}]
[10004645,"NLT TRAINING SERVICES LIMITED","10004645 - NLT TRAINING SERVICES LIMITED",{"$f":"--ISNUMBER(IFERROR(SEARCH(ProviderTable!$B$3,C602,1),\"\"))","v":1},{"$f":"IF(D602=1,COUNTIF($D$2:D602,1),\"\")","v":601},{"$f":"IFERROR(INDEX($C$2:$C$1024,MATCH(ROWS($E$2:E602),$E$2:$E$1024,0)),\"\")","v":"10004645 - NLT TRAINING SERVICES LIMITED"}]
[10004657,"NORFOLK COUNTY COUNCIL","10004657 - NORFOLK COUNTY COUNCIL",{"$f":"--ISNUMBER(IFERROR(SEARCH(ProviderTable!$B$3,C603,1),\"\"))","v":1},{"$f":"IF(D603=1,COUNTIF($D$2:D603,1),\"\")","v":602},{"$f":"IFERROR(INDEX($C$2:$C$1024,MATCH(ROWS($E$2:E603),$E$2:$E$1024,0)),\"\")","v":"10004657 - NORFOLK COUNTY COUNCIL"}]
[10004663,"NORFOLK TRAINING SERVICES LIMITED","10004663 - NORFOLK TRAINING SERVICES LIMITED",{"$f":"--ISNUMBER(IFERROR(SEARCH(ProviderTable!$B$3,C604,1),\"\"))","v":1},{"$f":"IF(D604=1,COUNTIF($D$2:D604,1),\"\")","v":603},{"$f":"IFERROR(INDEX($C$2:$C$1024,MATCH(ROWS($E$2:E604),$E$2:$E$1024,0)),\"\")","v":"10004663 - NORFOLK TRAINING SERVICES LIMITED"}]
[10004542,"NORTH EAST CHAMBER OF COMMERCE, TRADE AND INDUSTRY","10004542 - NORTH EAST CHAMBER OF COMMERCE, TRADE AND INDUSTRY",{"$f":"--ISNUMBER(IFERROR(SEARCH(ProviderTable!$B$3,C605,1),\"\"))","v":1},{"$f":"IF(D605=1,COUNTIF($D$2:D605,1),\"\")","v":604},{"$f":"IFERROR(INDEX($C$2:$C$1024,MATCH(ROWS($E$2:E605),$E$2:$E$1024,0)),\"\")","v":"10004542 - NORTH EAST CHAMBER OF COMMERCE, TRADE AND INDUSTRY"}]
[10004547,"NORTH EAST EMPLOYMENT & TRAINING AGENCY LTD","10004547 - NORTH EAST EMPLOYMENT & TRAINING AGENCY LTD",{"$f":"--ISNUMBER(IFERROR(SEARCH(ProviderTable!$B$3,C606,1),\"\"))","v":1},{"$f":"IF(D606=1,COUNTIF($D$2:D606,1),\"\")","v":605},{"$f":"IFERROR(INDEX($C$2:$C$1024,MATCH(ROWS($E$2:E606),$E$2:$E$1024,0)),\"\")","v":"10004547 - NORTH EAST EMPLOYMENT & TRAINING AGENCY LTD"}]
[10004684,"NORTH EAST LINCOLNSHIRE COUNCIL","10004684 - NORTH EAST LINCOLNSHIRE COUNCIL",{"$f":"--ISNUMBER(IFERROR(SEARCH(ProviderTable!$B$3,C607,1),\"\"))","v":1},{"$f":"IF(D607=1,COUNTIF($D$2:D607,1),\"\")","v":606},{"$f":"IFERROR(INDEX($C$2:$C$1024,MATCH(ROWS($E$2:E607),$E$2:$E$1024,0)),\"\")","v":"10004684 - NORTH EAST LINCOLNSHIRE COUNCIL"}]
[10004686,"NORTH EAST SURREY COLLEGE OF TECHNOLOGY (NESCOT)","10004686 - NORTH EAST SURREY COLLEGE OF TECHNOLOGY (NESCOT)",{"$f":"--ISNUMBER(IFERROR(SEARCH(ProviderTable!$B$3,C608,1),\"\"))","v":1},{"$f":"IF(D608=1,COUNTIF($D$2:D608,1),\"\")","v":607},{"$f":"IFERROR(INDEX($C$2:$C$1024,MATCH(ROWS($E$2:E608),$E$2:$E$1024,0)),\"\")","v":"10004686 - NORTH EAST SURREY COLLEGE OF TECHNOLOGY (NESCOT)"}]
[10004690,"NORTH HERTFORDSHIRE COLLEGE","10004690 - NORTH HERTFORDSHIRE COLLEGE",{"$f":"--ISNUMBER(IFERROR(SEARCH(ProviderTable!$B$3,C609,1),\"\"))","v":1},{"$f":"IF(D609=1,COUNTIF($D$2:D609,1),\"\")","v":608},{"$f":"IFERROR(INDEX($C$2:$C$1024,MATCH(ROWS($E$2:E609),$E$2:$E$1024,0)),\"\")","v":"10004690 - NORTH HERTFORDSHIRE COLLEGE"}]
[10004721,"NORTH KENT COLLEGE","10004721 - NORTH KENT COLLEGE",{"$f":"--ISNUMBER(IFERROR(SEARCH(ProviderTable!$B$3,C610,1),\"\"))","v":1},{"$f":"IF(D610=1,COUNTIF($D$2:D610,1),\"\")","v":609},{"$f":"IFERROR(INDEX($C$2:$C$1024,MATCH(ROWS($E$2:E610),$E$2:$E$1024,0)),\"\")","v":"10004721 - NORTH KENT COLLEGE"}]
[10004692,"NORTH LANCS. TRAINING GROUP LIMITED(THE)","10004692 - NORTH LANCS. TRAINING GROUP LIMITED(THE)",{"$f":"--ISNUMBER(IFERROR(SEARCH(ProviderTable!$B$3,C611,1),\"\"))","v":1},{"$f":"IF(D611=1,COUNTIF($D$2:D611,1),\"\")","v":610},{"$f":"IFERROR(INDEX($C$2:$C$1024,MATCH(ROWS($E$2:E611),$E$2:$E$1024,0)),\"\")","v":"10004692 - NORTH LANCS. TRAINING GROUP LIMITED(THE)"}]
[10004694,"NORTH LINCOLNSHIRE COUNCIL","10004694 - NORTH LINCOLNSHIRE COUNCIL",{"$f":"--ISNUMBER(IFERROR(SEARCH(ProviderTable!$B$3,C612,1),\"\"))","v":1},{"$f":"IF(D612=1,COUNTIF($D$2:D612,1),\"\")","v":611},{"$f":"IFERROR(INDEX($C$2:$C$1024,MATCH(ROWS($E$2:E612),$E$2:$E$1024,0)),\"\")","v":"10004694 - NORTH LINCOLNSHIRE COUNCIL"}]
[10004695,"NORTH LINDSEY COLLEGE","10004695 - NORTH LINDSEY COLLEGE",{"$f":"--ISNUMBER(IFERROR(SEARCH(ProviderTable!$B$3,C613,1),\"\"))","v":1},{"$f":"IF(D613=1,COUNTIF($D$2:D613,1),\"\")","v":612},{"$f":"IFERROR(INDEX($C$2:$C$1024,MATCH(ROWS($E$2:E613),$E$2:$E$1024,0)),\"\")","v":"10004695 - NORTH LINDSEY COLLEGE"}]
[10020981,"NORTH LIVERPOOL REGENERATION COMPANY LTD","10020981 - NORTH LIVERPOOL REGENERATION COMPANY LTD",{"$f":"--ISNUMBER(IFERROR(SEARCH(ProviderTable!$B$3,C614,1),\"\"))","v":1},{"$f":"IF(D614=1,COUNTIF($D$2:D614,1),\"\")","v":613},{"$f":"IFERROR(INDEX($C$2:$C$1024,MATCH(ROWS($E$2:E614),$E$2:$E$1024,0)),\"\")","v":"10020981 - NORTH LIVERPOOL REGENERATION COMPANY LTD"}]
[10004705,"NORTH NOTTINGHAMSHIRE COLLEGE","10004705 - NORTH NOTTINGHAMSHIRE COLLEGE",{"$f":"--ISNUMBER(IFERROR(SEARCH(ProviderTable!$B$3,C615,1),\"\"))","v":1},{"$f":"IF(D615=1,COUNTIF($D$2:D615,1),\"\")","v":614},{"$f":"IFERROR(INDEX($C$2:$C$1024,MATCH(ROWS($E$2:E615),$E$2:$E$1024,0)),\"\")","v":"10004705 - NORTH NOTTINGHAMSHIRE COLLEGE"}]
[10007299,"NORTH SHROPSHIRE COLLEGE","10007299 - NORTH SHROPSHIRE COLLEGE",{"$f":"--ISNUMBER(IFERROR(SEARCH(ProviderTable!$B$3,C616,1),\"\"))","v":1},{"$f":"IF(D616=1,COUNTIF($D$2:D616,1),\"\")","v":615},{"$f":"IFERROR(INDEX($C$2:$C$1024,MATCH(ROWS($E$2:E616),$E$2:$E$1024,0)),\"\")","v":"10007299 - NORTH SHROPSHIRE COLLEGE"}]
[10004714,"NORTH TYNESIDE METROPOLITAN BOROUGH COUNCIL","10004714 - NORTH TYNESIDE METROPOLITAN BOROUGH COUNCIL",{"$f":"--ISNUMBER(IFERROR(SEARCH(ProviderTable!$B$3,C617,1),\"\"))","v":1},{"$f":"IF(D617=1,COUNTIF($D$2:D617,1),\"\")","v":616},{"$f":"IFERROR(INDEX($C$2:$C$1024,MATCH(ROWS($E$2:E617),$E$2:$E$1024,0)),\"\")","v":"10004714 - NORTH TYNESIDE METROPOLITAN BOROUGH COUNCIL"}]
[10004718,"NORTH WARWICKSHIRE AND HINCKLEY COLLEGE","10004718 - NORTH WARWICKSHIRE AND HINCKLEY COLLEGE",{"$f":"--ISNUMBER(IFERROR(SEARCH(ProviderTable!$B$3,C618,1),\"\"))","v":1},{"$f":"IF(D618=1,COUNTIF($D$2:D618,1),\"\")","v":617},{"$f":"IFERROR(INDEX($C$2:$C$1024,MATCH(ROWS($E$2:E618),$E$2:$E$1024,0)),\"\")","v":"10004718 - NORTH WARWICKSHIRE AND HINCKLEY COLLEGE"}]
[10004720,"NORTH WEST COMMUNITY SERVICES TRAINING LTD","10004720 - NORTH WEST COMMUNITY SERVICES TRAINING LTD",{"$f":"--ISNUMBER(IFERROR(SEARCH(ProviderTable!$B$3,C619,1),\"\"))","v":1},{"$f":"IF(D619=1,COUNTIF($D$2:D619,1),\"\")","v":618},{"$f":"IFERROR(INDEX($C$2:$C$1024,MATCH(ROWS($E$2:E619),$E$2:$E$1024,0)),\"\")","v":"10004720 - NORTH WEST COMMUNITY SERVICES TRAINING LTD"}]
[10004723,"NORTH WEST TRAINING COUNCIL","10004723 - NORTH WEST TRAINING COUNCIL",{"$f":"--ISNUMBER(IFERROR(SEARCH(ProviderTable!$B$3,C620,1),\"\"))","v":1},{"$f":"IF(D620=1,COUNTIF($D$2:D620,1),\"\")","v":619},{"$f":"IFERROR(INDEX($C$2:$C$1024,MATCH(ROWS($E$2:E620),$E$2:$E$1024,0)),\"\")","v":"10004723 - NORTH WEST TRAINING COUNCIL"}]
[10004727,"NORTH YORKSHIRE COUNTY COUNCIL","10004727 - NORTH YORKSHIRE COUNTY COUNCIL",{"$f":"--ISNUMBER(IFERROR(SEARCH(ProviderTable!$B$3,C621,1),\"\"))","v":1},{"$f":"IF(D621=1,COUNTIF($D$2:D621,1),\"\")","v":620},{"$f":"IFERROR(INDEX($C$2:$C$1024,MATCH(ROWS($E$2:E621),$E$2:$E$1024,0)),\"\")","v":"10004727 - NORTH YORKSHIRE COUNTY COUNCIL"}]
[10007011,"NORTHAMPTON COLLEGE","10007011 - NORTHAMPTON COLLEGE",{"$f":"--ISNUMBER(IFERROR(SEARCH(ProviderTable!$B$3,C622,1),\"\"))","v":1},{"$f":"IF(D622=1,COUNTIF($D$2:D622,1),\"\")","v":621},{"$f":"IFERROR(INDEX($C$2:$C$1024,MATCH(ROWS($E$2:E622),$E$2:$E$1024,0)),\"\")","v":"10007011 - NORTHAMPTON COLLEGE"}]
[10004733,"NORTHAMPTONSHIRE COUNTY COUNCIL","10004733 - NORTHAMPTONSHIRE COUNTY COUNCIL",{"$f":"--ISNUMBER(IFERROR(SEARCH(ProviderTable!$B$3,C623,1),\"\"))","v":1},{"$f":"IF(D623=1,COUNTIF($D$2:D623,1),\"\")","v":622},{"$f":"IFERROR(INDEX($C$2:$C$1024,MATCH(ROWS($E$2:E623),$E$2:$E$1024,0)),\"\")","v":"10004733 - NORTHAMPTONSHIRE COUNTY COUNCIL"}]
[10004643,"NORTHAMPTONSHIRE INDUSTRIAL TRAINING ASSOCIATION LIMITED","10004643 - NORTHAMPTONSHIRE INDUSTRIAL TRAINING ASSOCIATION LIMITED",{"$f":"--ISNUMBER(IFERROR(SEARCH(ProviderTable!$B$3,C624,1),\"\"))","v":1},{"$f":"IF(D624=1,COUNTIF($D$2:D624,1),\"\")","v":623},{"$f":"IFERROR(INDEX($C$2:$C$1024,MATCH(ROWS($E$2:E624),$E$2:$E$1024,0)),\"\")","v":"10004643 - NORTHAMPTONSHIRE INDUSTRIAL TRAINING ASSOCIATION LIMITED"}]
[10004736,"NORTHBROOK COLLEGE SUSSEX","10004736 - NORTHBROOK COLLEGE SUSSEX",{"$f":"--ISNUMBER(IFERROR(SEARCH(ProviderTable!$B$3,C625,1),\"\"))","v":1},{"$f":"IF(D625=1,COUNTIF($D$2:D625,1),\"\")","v":624},{"$f":"IFERROR(INDEX($C$2:$C$1024,MATCH(ROWS($E$2:E625),$E$2:$E$1024,0)),\"\")","v":"10004736 - NORTHBROOK COLLEGE SUSSEX"}]
[10013515,"NORTHERN CARE TRAINING LIMITED","10013515 - NORTHERN CARE TRAINING LIMITED",{"$f":"--ISNUMBER(IFERROR(SEARCH(ProviderTable!$B$3,C626,1),\"\"))","v":1},{"$f":"IF(D626=1,COUNTIF($D$2:D626,1),\"\")","v":625},{"$f":"IFERROR(INDEX($C$2:$C$1024,MATCH(ROWS($E$2:E626),$E$2:$E$1024,0)),\"\")","v":"10013515 - NORTHERN CARE TRAINING LIMITED"}]
[10004739,"NORTHERN COLLEGE FOR RESIDENTIAL ADULT EDUCATION LIMITED(THE)","10004739 - NORTHERN COLLEGE FOR RESIDENTIAL ADULT EDUCATION LIMITED(THE)",{"$f":"--ISNUMBER(IFERROR(SEARCH(ProviderTable!$B$3,C627,1),\"\"))","v":1},{"$f":"IF(D627=1,COUNTIF($D$2:D627,1),\"\")","v":626},{"$f":"IFERROR(INDEX($C$2:$C$1024,MATCH(ROWS($E$2:E627),$E$2:$E$1024,0)),\"\")","v":"10004739 - NORTHERN COLLEGE FOR RESIDENTIAL ADULT EDUCATION LIMITED(THE)"}]
[10032683,"NORTHERN CONSTRUCTION TRAINING AND REGENERATION COMMUNITY INTEREST COMPANY","10032683 - NORTHERN CONSTRUCTION TRAINING AND REGENERATION COMMUNITY INTEREST COMPANY",{"$f":"--ISNUMBER(IFERROR(SEARCH(ProviderTable!$B$3,C628,1),\"\"))","v":1},{"$f":"IF(D628=1,COUNTIF($D$2:D628,1),\"\")","v":627},{"$f":"IFERROR(INDEX($C$2:$C$1024,MATCH(ROWS($E$2:E628),$E$2:$E$1024,0)),\"\")","v":"10032683 - NORTHERN CONSTRUCTION TRAINING AND REGENERATION COMMUNITY INTEREST COMPANY"}]
[10009258,"NORTHERN COUNTIES COLLEGE","10009258 - NORTHERN COUNTIES COLLEGE",{"$f":"--ISNUMBER(IFERROR(SEARCH(ProviderTable!$B$3,C629,1),\"\"))","v":1},{"$f":"IF(D629=1,COUNTIF($D$2:D629,1),\"\")","v":628},{"$f":"IFERROR(INDEX($C$2:$C$1024,MATCH(ROWS($E$2:E629),$E$2:$E$1024,0)),\"\")","v":"10009258 - NORTHERN COUNTIES COLLEGE"}]
[10004748,"NORTHERN RACING COLLEGE","10004748 - NORTHERN RACING COLLEGE",{"$f":"--ISNUMBER(IFERROR(SEARCH(ProviderTable!$B$3,C630,1),\"\"))","v":1},{"$f":"IF(D630=1,COUNTIF($D$2:D630,1),\"\")","v":629},{"$f":"IFERROR(INDEX($C$2:$C$1024,MATCH(ROWS($E$2:E630),$E$2:$E$1024,0)),\"\")","v":"10004748 - NORTHERN RACING COLLEGE"}]
[10004760,"NORTHUMBERLAND COLLEGE","10004760 - NORTHUMBERLAND COLLEGE",{"$f":"--ISNUMBER(IFERROR(SEARCH(ProviderTable!$B$3,C631,1),\"\"))","v":1},{"$f":"IF(D631=1,COUNTIF($D$2:D631,1),\"\")","v":630},{"$f":"IFERROR(INDEX($C$2:$C$1024,MATCH(ROWS($E$2:E631),$E$2:$E$1024,0)),\"\")","v":"10004760 - NORTHUMBERLAND COLLEGE"}]
[10004771,"NORTON RADSTOCK COLLEGE","10004771 - NORTON RADSTOCK COLLEGE",{"$f":"--ISNUMBER(IFERROR(SEARCH(ProviderTable!$B$3,C632,1),\"\"))","v":1},{"$f":"IF(D632=1,COUNTIF($D$2:D632,1),\"\")","v":631},{"$f":"IFERROR(INDEX($C$2:$C$1024,MATCH(ROWS($E$2:E632),$E$2:$E$1024,0)),\"\")","v":"10004771 - NORTON RADSTOCK COLLEGE"}]
[10004797,"NOTTINGHAM TRENT UNIVERSITY","10004797 - NOTTINGHAM TRENT UNIVERSITY",{"$f":"--ISNUMBER(IFERROR(SEARCH(ProviderTable!$B$3,C633,1),\"\"))","v":1},{"$f":"IF(D633=1,COUNTIF($D$2:D633,1),\"\")","v":632},{"$f":"IFERROR(INDEX($C$2:$C$1024,MATCH(ROWS($E$2:E633),$E$2:$E$1024,0)),\"\")","v":"10004797 - NOTTINGHAM TRENT UNIVERSITY"}]
[10004801,"NOTTINGHAMSHIRE COUNTY COUNCIL","10004801 - NOTTINGHAMSHIRE COUNTY COUNCIL",{"$f":"--ISNUMBER(IFERROR(SEARCH(ProviderTable!$B$3,C634,1),\"\"))","v":1},{"$f":"IF(D634=1,COUNTIF($D$2:D634,1),\"\")","v":633},{"$f":"IFERROR(INDEX($C$2:$C$1024,MATCH(ROWS($E$2:E634),$E$2:$E$1024,0)),\"\")","v":"10004801 - NOTTINGHAMSHIRE COUNTY COUNCIL"}]
[10004807,"NOTTINGHAMSHIRE TRAINING NETWORK","10004807 - NOTTINGHAMSHIRE TRAINING NETWORK",{"$f":"--ISNUMBER(IFERROR(SEARCH(ProviderTable!$B$3,C635,1),\"\"))","v":1},{"$f":"IF(D635=1,COUNTIF($D$2:D635,1),\"\")","v":634},{"$f":"IFERROR(INDEX($C$2:$C$1024,MATCH(ROWS($E$2:E635),$E$2:$E$1024,0)),\"\")","v":"10004807 - NOTTINGHAMSHIRE TRAINING NETWORK"}]
[10004813,"NOVA RECRUITMENT SERVICES LIMITED","10004813 - NOVA RECRUITMENT SERVICES LIMITED",{"$f":"--ISNUMBER(IFERROR(SEARCH(ProviderTable!$B$3,C636,1),\"\"))","v":1},{"$f":"IF(D636=1,COUNTIF($D$2:D636,1),\"\")","v":635},{"$f":"IFERROR(INDEX($C$2:$C$1024,MATCH(ROWS($E$2:E636),$E$2:$E$1024,0)),\"\")","v":"10004813 - NOVA RECRUITMENT SERVICES LIMITED"}]
[10004835,"OAKLANDS COLLEGE","10004835 - OAKLANDS COLLEGE",{"$f":"--ISNUMBER(IFERROR(SEARCH(ProviderTable!$B$3,C637,1),\"\"))","v":1},{"$f":"IF(D637=1,COUNTIF($D$2:D637,1),\"\")","v":636},{"$f":"IFERROR(INDEX($C$2:$C$1024,MATCH(ROWS($E$2:E637),$E$2:$E$1024,0)),\"\")","v":"10004835 - OAKLANDS COLLEGE"}]
[10004840,"OAKMERE COMMUNITY COLLEGE","10004840 - OAKMERE COMMUNITY COLLEGE",{"$f":"--ISNUMBER(IFERROR(SEARCH(ProviderTable!$B$3,C638,1),\"\"))","v":1},{"$f":"IF(D638=1,COUNTIF($D$2:D638,1),\"\")","v":637},{"$f":"IFERROR(INDEX($C$2:$C$1024,MATCH(ROWS($E$2:E638),$E$2:$E$1024,0)),\"\")","v":"10004840 - OAKMERE COMMUNITY COLLEGE"}]
[10004856,"OLDHAM ENGINEERING GROUP TRAINING ASSOCIATION LIMITED (THE)","10004856 - OLDHAM ENGINEERING GROUP TRAINING ASSOCIATION LIMITED (THE)",{"$f":"--ISNUMBER(IFERROR(SEARCH(ProviderTable!$B$3,C639,1),\"\"))","v":1},{"$f":"IF(D639=1,COUNTIF($D$2:D639,1),\"\")","v":638},{"$f":"IFERROR(INDEX($C$2:$C$1024,MATCH(ROWS($E$2:E639),$E$2:$E$1024,0)),\"\")","v":"10004856 - OLDHAM ENGINEERING GROUP TRAINING ASSOCIATION LIMITED (THE)"}]
[10004858,"OLDHAM METROPOLITAN BOROUGH COUNCIL","10004858 - OLDHAM METROPOLITAN BOROUGH COUNCIL",{"$f":"--ISNUMBER(IFERROR(SEARCH(ProviderTable!$B$3,C640,1),\"\"))","v":1},{"$f":"IF(D640=1,COUNTIF($D$2:D640,1),\"\")","v":639},{"$f":"IFERROR(INDEX($C$2:$C$1024,MATCH(ROWS($E$2:E640),$E$2:$E$1024,0)),\"\")","v":"10004858 - OLDHAM METROPOLITAN BOROUGH COUNCIL"}]
[10004866,"OMEGA TRAINING SERVICES LIMITED","10004866 - OMEGA TRAINING SERVICES LIMITED",{"$f":"--ISNUMBER(IFERROR(SEARCH(ProviderTable!$B$3,C641,1),\"\"))","v":1},{"$f":"IF(D641=1,COUNTIF($D$2:D641,1),\"\")","v":640},{"$f":"IFERROR(INDEX($C$2:$C$1024,MATCH(ROWS($E$2:E641),$E$2:$E$1024,0)),\"\")","v":"10004866 - OMEGA TRAINING SERVICES LIMITED"}]
[10030688,"OPEN DOOR ADULT LEARNING CENTRE","10030688 - OPEN DOOR ADULT LEARNING CENTRE",{"$f":"--ISNUMBER(IFERROR(SEARCH(ProviderTable!$B$3,C642,1),\"\"))","v":1},{"$f":"IF(D642=1,COUNTIF($D$2:D642,1),\"\")","v":641},{"$f":"IFERROR(INDEX($C$2:$C$1024,MATCH(ROWS($E$2:E642),$E$2:$E$1024,0)),\"\")","v":"10030688 - OPEN DOOR ADULT LEARNING CENTRE"}]
[10037916,"OPPORTUNITIES WORKSHOP LIMITED",{"$f":"A643&\" - \"&B643","v":"10037916 - OPPORTUNITIES WORKSHOP LIMITED"},{"$f":"--ISNUMBER(IFERROR(SEARCH(ProviderTable!$B$3,C643,1),\"\"))","v":1},{"$f":"IF(D643=1,COUNTIF($D$2:D643,1),\"\")","v":642},{"$f":"IFERROR(INDEX($C$2:$C$1024,MATCH(ROWS($E$2:E643),$E$2:$E$1024,0)),\"\")","v":"10037916 - OPPORTUNITIES WORKSHOP LIMITED"}]
[10010572,"OPTIONS 2 WORKPLACE LEARNING LTD","10010572 - OPTIONS 2 WORKPLACE LEARNING LTD",{"$f":"--ISNUMBER(IFERROR(SEARCH(ProviderTable!$B$3,C644,1),\"\"))","v":1},{"$f":"IF(D644=1,COUNTIF($D$2:D644,1),\"\")","v":643},{"$f":"IFERROR(INDEX($C$2:$C$1024,MATCH(ROWS($E$2:E644),$E$2:$E$1024,0)),\"\")","v":"10010572 - OPTIONS 2 WORKPLACE LEARNING LTD"}]
[10004895,"ORACLE TRAINING CONSULTANTS LIMITED","10004895 - ORACLE TRAINING CONSULTANTS LIMITED",{"$f":"--ISNUMBER(IFERROR(SEARCH(ProviderTable!$B$3,C645,1),\"\"))","v":1},{"$f":"IF(D645=1,COUNTIF($D$2:D645,1),\"\")","v":644},{"$f":"IFERROR(INDEX($C$2:$C$1024,MATCH(ROWS($E$2:E645),$E$2:$E$1024,0)),\"\")","v":"10004895 - ORACLE TRAINING CONSULTANTS LIMITED"}]
[10022439,"OUTSOURCE VOCATIONAL LEARNING LIMITED","10022439 - OUTSOURCE VOCATIONAL LEARNING LIMITED",{"$f":"--ISNUMBER(IFERROR(SEARCH(ProviderTable!$B$3,C646,1),\"\"))","v":1},{"$f":"IF(D646=1,COUNTIF($D$2:D646,1),\"\")","v":645},{"$f":"IFERROR(INDEX($C$2:$C$1024,MATCH(ROWS($E$2:E646),$E$2:$E$1024,0)),\"\")","v":"10022439 - OUTSOURCE VOCATIONAL LEARNING LIMITED"}]
[10004926,"OXFORDSHIRE COUNTY COUNCIL","10004926 - OXFORDSHIRE COUNTY COUNCIL",{"$f":"--ISNUMBER(IFERROR(SEARCH(ProviderTable!$B$3,C647,1),\"\"))","v":1},{"$f":"IF(D647=1,COUNTIF($D$2:D647,1),\"\")","v":646},{"$f":"IFERROR(INDEX($C$2:$C$1024,MATCH(ROWS($E$2:E647),$E$2:$E$1024,0)),\"\")","v":"10004926 - OXFORDSHIRE COUNTY COUNCIL"}]
[10011880,"P.T.P. TRAINING LIMITED","10011880 - P.T.P. TRAINING LIMITED",{"$f":"--ISNUMBER(IFERROR(SEARCH(ProviderTable!$B$3,C648,1),\"\"))","v":1},{"$f":"IF(D648=1,COUNTIF($D$2:D648,1),\"\")","v":647},{"$f":"IFERROR(INDEX($C$2:$C$1024,MATCH(ROWS($E$2:E648),$E$2:$E$1024,0)),\"\")","v":"10011880 - P.T.P. TRAINING LIMITED"}]
[10004977,"PARAGON EDUCATION & SKILLS LIMITED","10004977 - PARAGON EDUCATION & SKILLS LIMITED",{"$f":"--ISNUMBER(IFERROR(SEARCH(ProviderTable!$B$3,C649,1),\"\"))","v":1},{"$f":"IF(D649=1,COUNTIF($D$2:D649,1),\"\")","v":648},{"$f":"IFERROR(INDEX($C$2:$C$1024,MATCH(ROWS($E$2:E649),$E$2:$E$1024,0)),\"\")","v":"10004977 - PARAGON EDUCATION & SKILLS LIMITED"}]
[10005001,"PASTON SIXTH FORM COLLEGE","10005001 - PASTON SIXTH FORM COLLEGE",{"$f":"--ISNUMBER(IFERROR(SEARCH(ProviderTable!$B$3,C650,1),\"\"))","v":1},{"$f":"IF(D650=1,COUNTIF($D$2:D650,1),\"\")","v":649},{"$f":"IFERROR(INDEX($C$2:$C$1024,MATCH(ROWS($E$2:E650),$E$2:$E$1024,0)),\"\")","v":"10005001 - PASTON SIXTH FORM COLLEGE"}]
[10021793,"PATHWAY FIRST LIMITED","10021793 - PATHWAY FIRST LIMITED",{"$f":"--ISNUMBER(IFERROR(SEARCH(ProviderTable!$B$3,C651,1),\"\"))","v":1},{"$f":"IF(D651=1,COUNTIF($D$2:D651,1),\"\")","v":650},{"$f":"IFERROR(INDEX($C$2:$C$1024,MATCH(ROWS($E$2:E651),$E$2:$E$1024,0)),\"\")","v":"10021793 - PATHWAY FIRST LIMITED"}]
[10005017,"PDM TRAINING & CONSULTANCY LIMITED","10005017 - PDM TRAINING & CONSULTANCY LIMITED",{"$f":"--ISNUMBER(IFERROR(SEARCH(ProviderTable!$B$3,C652,1),\"\"))","v":1},{"$f":"IF(D652=1,COUNTIF($D$2:D652,1),\"\")","v":651},{"$f":"IFERROR(INDEX($C$2:$C$1024,MATCH(ROWS($E$2:E652),$E$2:$E$1024,0)),\"\")","v":"10005017 - PDM TRAINING & CONSULTANCY LIMITED"}]
[10011881,"PEARSON PLC","10011881 - PEARSON PLC",{"$f":"--ISNUMBER(IFERROR(SEARCH(ProviderTable!$B$3,C653,1),\"\"))","v":1},{"$f":"IF(D653=1,COUNTIF($D$2:D653,1),\"\")","v":652},{"$f":"IFERROR(INDEX($C$2:$C$1024,MATCH(ROWS($E$2:E653),$E$2:$E$1024,0)),\"\")","v":"10011881 - PEARSON PLC"}]
[10020395,"PEOPLE AND BUSINESS DEVELOPMENT LTD","10020395 - PEOPLE AND BUSINESS DEVELOPMENT LTD",{"$f":"--ISNUMBER(IFERROR(SEARCH(ProviderTable!$B$3,C654,1),\"\"))","v":1},{"$f":"IF(D654=1,COUNTIF($D$2:D654,1),\"\")","v":653},{"$f":"IFERROR(INDEX($C$2:$C$1024,MATCH(ROWS($E$2:E654),$E$2:$E$1024,0)),\"\")","v":"10020395 - PEOPLE AND BUSINESS DEVELOPMENT LTD"}]
[10036431,"PEOPLEPLUS GROUP LIMITED","10036431 - PEOPLEPLUS GROUP LIMITED",{"$f":"--ISNUMBER(IFERROR(SEARCH(ProviderTable!$B$3,C655,1),\"\"))","v":1},{"$f":"IF(D655=1,COUNTIF($D$2:D655,1),\"\")","v":654},{"$f":"IFERROR(INDEX($C$2:$C$1024,MATCH(ROWS($E$2:E655),$E$2:$E$1024,0)),\"\")","v":"10036431 - PEOPLEPLUS GROUP LIMITED"}]
[10038913,"PERA TRAINING LIMITED","10038913 - PERA TRAINING LIMITED",{"$f":"--ISNUMBER(IFERROR(SEARCH(ProviderTable!$B$3,C656,1),\"\"))","v":1},{"$f":"IF(D656=1,COUNTIF($D$2:D656,1),\"\")","v":655},{"$f":"IFERROR(INDEX($C$2:$C$1024,MATCH(ROWS($E$2:E656),$E$2:$E$1024,0)),\"\")","v":"10038913 - PERA TRAINING LIMITED"}]
[10005064,"PETA LIMITED","10005064 - PETA LIMITED",{"$f":"--ISNUMBER(IFERROR(SEARCH(ProviderTable!$B$3,C657,1),\"\"))","v":1},{"$f":"IF(D657=1,COUNTIF($D$2:D657,1),\"\")","v":656},{"$f":"IFERROR(INDEX($C$2:$C$1024,MATCH(ROWS($E$2:E657),$E$2:$E$1024,0)),\"\")","v":"10005064 - PETA LIMITED"}]
[10005072,"PETER SYMONDS COLLEGE","10005072 - PETER SYMONDS COLLEGE",{"$f":"--ISNUMBER(IFERROR(SEARCH(ProviderTable!$B$3,C658,1),\"\"))","v":1},{"$f":"IF(D658=1,COUNTIF($D$2:D658,1),\"\")","v":657},{"$f":"IFERROR(INDEX($C$2:$C$1024,MATCH(ROWS($E$2:E658),$E$2:$E$1024,0)),\"\")","v":"10005072 - PETER SYMONDS COLLEGE"}]
[10005074,"PETERBOROUGH CITY COUNCIL","10005074 - PETERBOROUGH CITY COUNCIL",{"$f":"--ISNUMBER(IFERROR(SEARCH(ProviderTable!$B$3,C659,1),\"\"))","v":1},{"$f":"IF(D659=1,COUNTIF($D$2:D659,1),\"\")","v":658},{"$f":"IFERROR(INDEX($C$2:$C$1024,MATCH(ROWS($E$2:E659),$E$2:$E$1024,0)),\"\")","v":"10005074 - PETERBOROUGH CITY COUNCIL"}]
[10005077,"PETERBOROUGH REGIONAL COLLEGE","10005077 - PETERBOROUGH REGIONAL COLLEGE",{"$f":"--ISNUMBER(IFERROR(SEARCH(ProviderTable!$B$3,C660,1),\"\"))","v":1},{"$f":"IF(D660=1,COUNTIF($D$2:D660,1),\"\")","v":659},{"$f":"IFERROR(INDEX($C$2:$C$1024,MATCH(ROWS($E$2:E660),$E$2:$E$1024,0)),\"\")","v":"10005077 - PETERBOROUGH REGIONAL COLLEGE"}]
[10004676,"PETROC","10004676 - PETROC",{"$f":"--ISNUMBER(IFERROR(SEARCH(ProviderTable!$B$3,C661,1),\"\"))","v":1},{"$f":"IF(D661=1,COUNTIF($D$2:D661,1),\"\")","v":660},{"$f":"IFERROR(INDEX($C$2:$C$1024,MATCH(ROWS($E$2:E661),$E$2:$E$1024,0)),\"\")","v":"10004676 - PETROC"}]
[10008426,"PGL TRAINING (PLUMBING) LIMITED","10008426 - PGL TRAINING (PLUMBING) LIMITED",{"$f":"--ISNUMBER(IFERROR(SEARCH(ProviderTable!$B$3,C662,1),\"\"))","v":1},{"$f":"IF(D662=1,COUNTIF($D$2:D662,1),\"\")","v":661},{"$f":"IFERROR(INDEX($C$2:$C$1024,MATCH(ROWS($E$2:E662),$E$2:$E$1024,0)),\"\")","v":"10008426 - PGL TRAINING (PLUMBING) LIMITED"}]
[10005089,"PHILIPS HAIR SALONS LIMITED","10005089 - PHILIPS HAIR SALONS LIMITED",{"$f":"--ISNUMBER(IFERROR(SEARCH(ProviderTable!$B$3,C663,1),\"\"))","v":1},{"$f":"IF(D663=1,COUNTIF($D$2:D663,1),\"\")","v":662},{"$f":"IFERROR(INDEX($C$2:$C$1024,MATCH(ROWS($E$2:E663),$E$2:$E$1024,0)),\"\")","v":"10005089 - PHILIPS HAIR SALONS LIMITED"}]
[10022288,"PHONES 4U LIMITED","10022288 - PHONES 4U LIMITED",{"$f":"--ISNUMBER(IFERROR(SEARCH(ProviderTable!$B$3,C664,1),\"\"))","v":1},{"$f":"IF(D664=1,COUNTIF($D$2:D664,1),\"\")","v":663},{"$f":"IFERROR(INDEX($C$2:$C$1024,MATCH(ROWS($E$2:E664),$E$2:$E$1024,0)),\"\")","v":"10022288 - PHONES 4U LIMITED"}]
[10005101,"PILOT IMS LIMITED","10005101 - PILOT IMS LIMITED",{"$f":"--ISNUMBER(IFERROR(SEARCH(ProviderTable!$B$3,C665,1),\"\"))","v":1},{"$f":"IF(D665=1,COUNTIF($D$2:D665,1),\"\")","v":664},{"$f":"IFERROR(INDEX($C$2:$C$1024,MATCH(ROWS($E$2:E665),$E$2:$E$1024,0)),\"\")","v":"10005101 - PILOT IMS LIMITED"}]
[10005124,"PLUMPTON COLLEGE","10005124 - PLUMPTON COLLEGE",{"$f":"--ISNUMBER(IFERROR(SEARCH(ProviderTable!$B$3,C666,1),\"\"))","v":1},{"$f":"IF(D666=1,COUNTIF($D$2:D666,1),\"\")","v":665},{"$f":"IFERROR(INDEX($C$2:$C$1024,MATCH(ROWS($E$2:E666),$E$2:$E$1024,0)),\"\")","v":"10005124 - PLUMPTON COLLEGE"}]
[10005126,"PLYMOUTH CITY COUNCIL","10005126 - PLYMOUTH CITY COUNCIL",{"$f":"--ISNUMBER(IFERROR(SEARCH(ProviderTable!$B$3,C667,1),\"\"))","v":1},{"$f":"IF(D667=1,COUNTIF($D$2:D667,1),\"\")","v":666},{"$f":"IFERROR(INDEX($C$2:$C$1024,MATCH(ROWS($E$2:E667),$E$2:$E$1024,0)),\"\")","v":"10005126 - PLYMOUTH CITY COUNCIL"}]
[10005127,"PLYMOUTH COLLEGE OF ART","10005127 - PLYMOUTH COLLEGE OF ART",{"$f":"--ISNUMBER(IFERROR(SEARCH(ProviderTable!$B$3,C668,1),\"\"))","v":1},{"$f":"IF(D668=1,COUNTIF($D$2:D668,1),\"\")","v":667},{"$f":"IFERROR(INDEX($C$2:$C$1024,MATCH(ROWS($E$2:E668),$E$2:$E$1024,0)),\"\")","v":"10005127 - PLYMOUTH COLLEGE OF ART"}]
[10005151,"PORTLAND COLLEGE","10005151 - PORTLAND COLLEGE",{"$f":"--ISNUMBER(IFERROR(SEARCH(ProviderTable!$B$3,C669,1),\"\"))","v":1},{"$f":"IF(D669=1,COUNTIF($D$2:D669,1),\"\")","v":668},{"$f":"IFERROR(INDEX($C$2:$C$1024,MATCH(ROWS($E$2:E669),$E$2:$E$1024,0)),\"\")","v":"10005151 - PORTLAND COLLEGE"}]
[10034944,"PORTSLADE ALDRIDGE COMMUNITY ACADEMY","10034944 - PORTSLADE ALDRIDGE COMMUNITY ACADEMY",{"$f":"--ISNUMBER(IFERROR(SEARCH(ProviderTable!$B$3,C670,1),\"\"))","v":1},{"$f":"IF(D670=1,COUNTIF($D$2:D670,1),\"\")","v":669},{"$f":"IFERROR(INDEX($C$2:$C$1024,MATCH(ROWS($E$2:E670),$E$2:$E$1024,0)),\"\")","v":"10034944 - PORTSLADE ALDRIDGE COMMUNITY ACADEMY"}]
[10005157,"PORTSMOUTH CITY COUNCIL","10005157 - PORTSMOUTH CITY COUNCIL",{"$f":"--ISNUMBER(IFERROR(SEARCH(ProviderTable!$B$3,C671,1),\"\"))","v":1},{"$f":"IF(D671=1,COUNTIF($D$2:D671,1),\"\")","v":670},{"$f":"IFERROR(INDEX($C$2:$C$1024,MATCH(ROWS($E$2:E671),$E$2:$E$1024,0)),\"\")","v":"10005157 - PORTSMOUTH CITY COUNCIL"}]
[10005158,"PORTSMOUTH COLLEGE","10005158 - PORTSMOUTH COLLEGE",{"$f":"--ISNUMBER(IFERROR(SEARCH(ProviderTable!$B$3,C672,1),\"\"))","v":1},{"$f":"IF(D672=1,COUNTIF($D$2:D672,1),\"\")","v":671},{"$f":"IFERROR(INDEX($C$2:$C$1024,MATCH(ROWS($E$2:E672),$E$2:$E$1024,0)),\"\")","v":"10005158 - PORTSMOUTH COLLEGE"}]
[10005166,"POSITIVE OUTCOMES LTD","10005166 - POSITIVE OUTCOMES LTD",{"$f":"--ISNUMBER(IFERROR(SEARCH(ProviderTable!$B$3,C673,1),\"\"))","v":1},{"$f":"IF(D673=1,COUNTIF($D$2:D673,1),\"\")","v":672},{"$f":"IFERROR(INDEX($C$2:$C$1024,MATCH(ROWS($E$2:E673),$E$2:$E$1024,0)),\"\")","v":"10005166 - POSITIVE OUTCOMES LTD"}]
[10005172,"POULTEC TRAINING LIMITED","10005172 - POULTEC TRAINING LIMITED",{"$f":"--ISNUMBER(IFERROR(SEARCH(ProviderTable!$B$3,C674,1),\"\"))","v":1},{"$f":"IF(D674=1,COUNTIF($D$2:D674,1),\"\")","v":673},{"$f":"IFERROR(INDEX($C$2:$C$1024,MATCH(ROWS($E$2:E674),$E$2:$E$1024,0)),\"\")","v":"10005172 - POULTEC TRAINING LIMITED"}]
[10000239,"PRE-SCHOOL LEARNING ALLIANCE","10000239 - PRE-SCHOOL LEARNING ALLIANCE",{"$f":"--ISNUMBER(IFERROR(SEARCH(ProviderTable!$B$3,C675,1),\"\"))","v":1},{"$f":"IF(D675=1,COUNTIF($D$2:D675,1),\"\")","v":674},{"$f":"IFERROR(INDEX($C$2:$C$1024,MATCH(ROWS($E$2:E675),$E$2:$E$1024,0)),\"\")","v":"10000239 - PRE-SCHOOL LEARNING ALLIANCE"}]
[10005200,"PRESTON COLLEGE","10005200 - PRESTON COLLEGE",{"$f":"--ISNUMBER(IFERROR(SEARCH(ProviderTable!$B$3,C676,1),\"\"))","v":1},{"$f":"IF(D676=1,COUNTIF($D$2:D676,1),\"\")","v":675},{"$f":"IFERROR(INDEX($C$2:$C$1024,MATCH(ROWS($E$2:E676),$E$2:$E$1024,0)),\"\")","v":"10005200 - PRESTON COLLEGE"}]
[10042197,"PRET A MANGER (EUROPE) LIMITED","10042197 - PRET A MANGER (EUROPE) LIMITED",{"$f":"--ISNUMBER(IFERROR(SEARCH(ProviderTable!$B$3,C677,1),\"\"))","v":1},{"$f":"IF(D677=1,COUNTIF($D$2:D677,1),\"\")","v":676},{"$f":"IFERROR(INDEX($C$2:$C$1024,MATCH(ROWS($E$2:E677),$E$2:$E$1024,0)),\"\")","v":"10042197 - PRET A MANGER (EUROPE) LIMITED"}]
[10005204,"PREVISTA LTD","10005204 - PREVISTA LTD",{"$f":"--ISNUMBER(IFERROR(SEARCH(ProviderTable!$B$3,C678,1),\"\"))","v":1},{"$f":"IF(D678=1,COUNTIF($D$2:D678,1),\"\")","v":677},{"$f":"IFERROR(INDEX($C$2:$C$1024,MATCH(ROWS($E$2:E678),$E$2:$E$1024,0)),\"\")","v":"10005204 - PREVISTA LTD"}]
[10005206,"PRIESTLEY COLLEGE","10005206 - PRIESTLEY COLLEGE",{"$f":"--ISNUMBER(IFERROR(SEARCH(ProviderTable!$B$3,C679,1),\"\"))","v":1},{"$f":"IF(D679=1,COUNTIF($D$2:D679,1),\"\")","v":678},{"$f":"IFERROR(INDEX($C$2:$C$1024,MATCH(ROWS($E$2:E679),$E$2:$E$1024,0)),\"\")","v":"10005206 - PRIESTLEY COLLEGE"}]
[10005220,"PRIOR PURSGLOVE COLLEGE","10005220 - PRIOR PURSGLOVE COLLEGE",{"$f":"--ISNUMBER(IFERROR(SEARCH(ProviderTable!$B$3,C680,1),\"\"))","v":1},{"$f":"IF(D680=1,COUNTIF($D$2:D680,1),\"\")","v":679},{"$f":"IFERROR(INDEX($C$2:$C$1024,MATCH(ROWS($E$2:E680),$E$2:$E$1024,0)),\"\")","v":"10005220 - PRIOR PURSGLOVE COLLEGE"}]
[10034058,"PRIORY CENTRAL SERVICES LIMITED","10034058 - PRIORY CENTRAL SERVICES LIMITED",{"$f":"--ISNUMBER(IFERROR(SEARCH(ProviderTable!$B$3,C681,1),\"\"))","v":1},{"$f":"IF(D681=1,COUNTIF($D$2:D681,1),\"\")","v":680},{"$f":"IFERROR(INDEX($C$2:$C$1024,MATCH(ROWS($E$2:E681),$E$2:$E$1024,0)),\"\")","v":"10034058 - PRIORY CENTRAL SERVICES LIMITED"}]
[10021842,"PROCO NW LIMITED","10021842 - PROCO NW LIMITED",{"$f":"--ISNUMBER(IFERROR(SEARCH(ProviderTable!$B$3,C682,1),\"\"))","v":1},{"$f":"IF(D682=1,COUNTIF($D$2:D682,1),\"\")","v":681},{"$f":"IFERROR(INDEX($C$2:$C$1024,MATCH(ROWS($E$2:E682),$E$2:$E$1024,0)),\"\")","v":"10021842 - PROCO NW LIMITED"}]
[10005237,"PROFESSIONAL BUSINESS & TRAINING SOLUTIONS LIMITED","10005237 - PROFESSIONAL BUSINESS & TRAINING SOLUTIONS LIMITED",{"$f":"--ISNUMBER(IFERROR(SEARCH(ProviderTable!$B$3,C683,1),\"\"))","v":1},{"$f":"IF(D683=1,COUNTIF($D$2:D683,1),\"\")","v":682},{"$f":"IFERROR(INDEX($C$2:$C$1024,MATCH(ROWS($E$2:E683),$E$2:$E$1024,0)),\"\")","v":"10005237 - PROFESSIONAL BUSINESS & TRAINING SOLUTIONS LIMITED"}]
[10022358,"PROFOUND SERVICES LIMITED","10022358 - PROFOUND SERVICES LIMITED",{"$f":"--ISNUMBER(IFERROR(SEARCH(ProviderTable!$B$3,C684,1),\"\"))","v":1},{"$f":"IF(D684=1,COUNTIF($D$2:D684,1),\"\")","v":683},{"$f":"IFERROR(INDEX($C$2:$C$1024,MATCH(ROWS($E$2:E684),$E$2:$E$1024,0)),\"\")","v":"10022358 - PROFOUND SERVICES LIMITED"}]
[10004823,"PROGRESS TO EXCELLENCE LTD","10004823 - PROGRESS TO EXCELLENCE LTD",{"$f":"--ISNUMBER(IFERROR(SEARCH(ProviderTable!$B$3,C685,1),\"\"))","v":1},{"$f":"IF(D685=1,COUNTIF($D$2:D685,1),\"\")","v":684},{"$f":"IFERROR(INDEX($C$2:$C$1024,MATCH(ROWS($E$2:E685),$E$2:$E$1024,0)),\"\")","v":"10004823 - PROGRESS TO EXCELLENCE LTD"}]
[10005250,"PROJECT MANAGEMENT (STAFFORDSHIRE) LIMITED","10005250 - PROJECT MANAGEMENT (STAFFORDSHIRE) LIMITED",{"$f":"--ISNUMBER(IFERROR(SEARCH(ProviderTable!$B$3,C686,1),\"\"))","v":1},{"$f":"IF(D686=1,COUNTIF($D$2:D686,1),\"\")","v":685},{"$f":"IFERROR(INDEX($C$2:$C$1024,MATCH(ROWS($E$2:E686),$E$2:$E$1024,0)),\"\")","v":"10005250 - PROJECT MANAGEMENT (STAFFORDSHIRE) LIMITED"}]
[10005260,"PROSPECT TRAINING ORGANISATIONS LIMITED","10005260 - PROSPECT TRAINING ORGANISATIONS LIMITED",{"$f":"--ISNUMBER(IFERROR(SEARCH(ProviderTable!$B$3,C687,1),\"\"))","v":1},{"$f":"IF(D687=1,COUNTIF($D$2:D687,1),\"\")","v":686},{"$f":"IFERROR(INDEX($C$2:$C$1024,MATCH(ROWS($E$2:E687),$E$2:$E$1024,0)),\"\")","v":"10005260 - PROSPECT TRAINING ORGANISATIONS LIMITED"}]
[10005261,"PROSPECT TRAINING SERVICES (GLOUCESTER) LIMITED","10005261 - PROSPECT TRAINING SERVICES (GLOUCESTER) LIMITED",{"$f":"--ISNUMBER(IFERROR(SEARCH(ProviderTable!$B$3,C688,1),\"\"))","v":1},{"$f":"IF(D688=1,COUNTIF($D$2:D688,1),\"\")","v":687},{"$f":"IFERROR(INDEX($C$2:$C$1024,MATCH(ROWS($E$2:E688),$E$2:$E$1024,0)),\"\")","v":"10005261 - PROSPECT TRAINING SERVICES (GLOUCESTER) LIMITED"}]
[10046354,"PROSPECTS COLLEGE OF ADVANCED TECHNOLOGY","10046354 - PROSPECTS COLLEGE OF ADVANCED TECHNOLOGY",{"$f":"--ISNUMBER(IFERROR(SEARCH(ProviderTable!$B$3,C689,1),\"\"))","v":1},{"$f":"IF(D689=1,COUNTIF($D$2:D689,1),\"\")","v":688},{"$f":"IFERROR(INDEX($C$2:$C$1024,MATCH(ROWS($E$2:E689),$E$2:$E$1024,0)),\"\")","v":"10046354 - PROSPECTS COLLEGE OF ADVANCED TECHNOLOGY"}]
[10005750,"PROSPECTS LEARNING FOUNDATION LIMITED","10005750 - PROSPECTS LEARNING FOUNDATION LIMITED",{"$f":"--ISNUMBER(IFERROR(SEARCH(ProviderTable!$B$3,C690,1),\"\"))","v":1},{"$f":"IF(D690=1,COUNTIF($D$2:D690,1),\"\")","v":689},{"$f":"IFERROR(INDEX($C$2:$C$1024,MATCH(ROWS($E$2:E690),$E$2:$E$1024,0)),\"\")","v":"10005750 - PROSPECTS LEARNING FOUNDATION LIMITED"}]
[10005262,"PROSPECTS SERVICES","10005262 - PROSPECTS SERVICES",{"$f":"--ISNUMBER(IFERROR(SEARCH(ProviderTable!$B$3,C691,1),\"\"))","v":1},{"$f":"IF(D691=1,COUNTIF($D$2:D691,1),\"\")","v":690},{"$f":"IFERROR(INDEX($C$2:$C$1024,MATCH(ROWS($E$2:E691),$E$2:$E$1024,0)),\"\")","v":"10005262 - PROSPECTS SERVICES"}]
[10019919,"PROVIDENT TRAINING LIMITED","10019919 - PROVIDENT TRAINING LIMITED",{"$f":"--ISNUMBER(IFERROR(SEARCH(ProviderTable!$B$3,C692,1),\"\"))","v":1},{"$f":"IF(D692=1,COUNTIF($D$2:D692,1),\"\")","v":691},{"$f":"IFERROR(INDEX($C$2:$C$1024,MATCH(ROWS($E$2:E692),$E$2:$E$1024,0)),\"\")","v":"10019919 - PROVIDENT TRAINING LIMITED"}]
[10022503,"PROVQ LIMITED","10022503 - PROVQ LIMITED",{"$f":"--ISNUMBER(IFERROR(SEARCH(ProviderTable!$B$3,C693,1),\"\"))","v":1},{"$f":"IF(D693=1,COUNTIF($D$2:D693,1),\"\")","v":692},{"$f":"IFERROR(INDEX($C$2:$C$1024,MATCH(ROWS($E$2:E693),$E$2:$E$1024,0)),\"\")","v":"10022503 - PROVQ LIMITED"}]
[10003375,"QA LIMITED","10003375 - QA LIMITED",{"$f":"--ISNUMBER(IFERROR(SEARCH(ProviderTable!$B$3,C694,1),\"\"))","v":1},{"$f":"IF(D694=1,COUNTIF($D$2:D694,1),\"\")","v":693},{"$f":"IFERROR(INDEX($C$2:$C$1024,MATCH(ROWS($E$2:E694),$E$2:$E$1024,0)),\"\")","v":"10003375 - QA LIMITED"}]
[10021018,"QDOS TRAINING LIMITED","10021018 - QDOS TRAINING LIMITED",{"$f":"--ISNUMBER(IFERROR(SEARCH(ProviderTable!$B$3,C695,1),\"\"))","v":1},{"$f":"IF(D695=1,COUNTIF($D$2:D695,1),\"\")","v":694},{"$f":"IFERROR(INDEX($C$2:$C$1024,MATCH(ROWS($E$2:E695),$E$2:$E$1024,0)),\"\")","v":"10021018 - QDOS TRAINING LIMITED"}]
[10002264,"QINETIQ LIMITED","10002264 - QINETIQ LIMITED",{"$f":"--ISNUMBER(IFERROR(SEARCH(ProviderTable!$B$3,C696,1),\"\"))","v":1},{"$f":"IF(D696=1,COUNTIF($D$2:D696,1),\"\")","v":695},{"$f":"IFERROR(INDEX($C$2:$C$1024,MATCH(ROWS($E$2:E696),$E$2:$E$1024,0)),\"\")","v":"10002264 - QINETIQ LIMITED"}]
[10005319,"QUBE QUALIFICATIONS AND DEVELOPMENT LIMITED","10005319 - QUBE QUALIFICATIONS AND DEVELOPMENT LIMITED",{"$f":"--ISNUMBER(IFERROR(SEARCH(ProviderTable!$B$3,C697,1),\"\"))","v":1},{"$f":"IF(D697=1,COUNTIF($D$2:D697,1),\"\")","v":696},{"$f":"IFERROR(INDEX($C$2:$C$1024,MATCH(ROWS($E$2:E697),$E$2:$E$1024,0)),\"\")","v":"10005319 - QUBE QUALIFICATIONS AND DEVELOPMENT LIMITED"}]
[10005320,"QUEEN ALEXANDRA COLLEGE","10005320 - QUEEN ALEXANDRA COLLEGE",{"$f":"--ISNUMBER(IFERROR(SEARCH(ProviderTable!$B$3,C698,1),\"\"))","v":1},{"$f":"IF(D698=1,COUNTIF($D$2:D698,1),\"\")","v":697},{"$f":"IFERROR(INDEX($C$2:$C$1024,MATCH(ROWS($E$2:E698),$E$2:$E$1024,0)),\"\")","v":"10005320 - QUEEN ALEXANDRA COLLEGE"}]
[10005325,"QUEEN ELIZABETH SIXTH FORM COLLEGE","10005325 - QUEEN ELIZABETH SIXTH FORM COLLEGE",{"$f":"--ISNUMBER(IFERROR(SEARCH(ProviderTable!$B$3,C699,1),\"\"))","v":1},{"$f":"IF(D699=1,COUNTIF($D$2:D699,1),\"\")","v":698},{"$f":"IFERROR(INDEX($C$2:$C$1024,MATCH(ROWS($E$2:E699),$E$2:$E$1024,0)),\"\")","v":"10005325 - QUEEN ELIZABETH SIXTH FORM COLLEGE"}]
[10005339,"QUEEN MARY'S COLLEGE","10005339 - QUEEN MARY'S COLLEGE",{"$f":"--ISNUMBER(IFERROR(SEARCH(ProviderTable!$B$3,C700,1),\"\"))","v":1},{"$f":"IF(D700=1,COUNTIF($D$2:D700,1),\"\")","v":699},{"$f":"IFERROR(INDEX($C$2:$C$1024,MATCH(ROWS($E$2:E700),$E$2:$E$1024,0)),\"\")","v":"10005339 - QUEEN MARY'S COLLEGE"}]
[10036345,"RATHBONE TRAINING","10036345 - RATHBONE TRAINING",{"$f":"--ISNUMBER(IFERROR(SEARCH(ProviderTable!$B$3,C701,1),\"\"))","v":1},{"$f":"IF(D701=1,COUNTIF($D$2:D701,1),\"\")","v":700},{"$f":"IFERROR(INDEX($C$2:$C$1024,MATCH(ROWS($E$2:E701),$E$2:$E$1024,0)),\"\")","v":"10036345 - RATHBONE TRAINING"}]
[10005389,"RAVENSBOURNE","10005389 - RAVENSBOURNE",{"$f":"--ISNUMBER(IFERROR(SEARCH(ProviderTable!$B$3,C702,1),\"\"))","v":1},{"$f":"IF(D702=1,COUNTIF($D$2:D702,1),\"\")","v":701},{"$f":"IFERROR(INDEX($C$2:$C$1024,MATCH(ROWS($E$2:E702),$E$2:$E$1024,0)),\"\")","v":"10005389 - RAVENSBOURNE"}]
[10024704,"RAYTHEON SYSTEMS LIMITED","10024704 - RAYTHEON SYSTEMS LIMITED",{"$f":"--ISNUMBER(IFERROR(SEARCH(ProviderTable!$B$3,C703,1),\"\"))","v":1},{"$f":"IF(D703=1,COUNTIF($D$2:D703,1),\"\")","v":702},{"$f":"IFERROR(INDEX($C$2:$C$1024,MATCH(ROWS($E$2:E703),$E$2:$E$1024,0)),\"\")","v":"10024704 - RAYTHEON SYSTEMS LIMITED"}]
[10005398,"READING BOROUGH COUNCIL","10005398 - READING BOROUGH COUNCIL",{"$f":"--ISNUMBER(IFERROR(SEARCH(ProviderTable!$B$3,C704,1),\"\"))","v":1},{"$f":"IF(D704=1,COUNTIF($D$2:D704,1),\"\")","v":703},{"$f":"IFERROR(INDEX($C$2:$C$1024,MATCH(ROWS($E$2:E704),$E$2:$E$1024,0)),\"\")","v":"10005398 - READING BOROUGH COUNCIL"}]
[10005404,"REASEHEATH COLLEGE","10005404 - REASEHEATH COLLEGE",{"$f":"--ISNUMBER(IFERROR(SEARCH(ProviderTable!$B$3,C705,1),\"\"))","v":1},{"$f":"IF(D705=1,COUNTIF($D$2:D705,1),\"\")","v":704},{"$f":"IFERROR(INDEX($C$2:$C$1024,MATCH(ROWS($E$2:E705),$E$2:$E$1024,0)),\"\")","v":"10005404 - REASEHEATH COLLEGE"}]
[10005410,"REDBRIDGE COLLEGE","10005410 - REDBRIDGE COLLEGE",{"$f":"--ISNUMBER(IFERROR(SEARCH(ProviderTable!$B$3,C706,1),\"\"))","v":1},{"$f":"IF(D706=1,COUNTIF($D$2:D706,1),\"\")","v":705},{"$f":"IFERROR(INDEX($C$2:$C$1024,MATCH(ROWS($E$2:E706),$E$2:$E$1024,0)),\"\")","v":"10005410 - REDBRIDGE COLLEGE"}]
[10005412,"REDBRIDGE LONDON BOROUGH COUNCIL",{"$f":"A707&\" - \"&B707","v":"10005412 - REDBRIDGE LONDON BOROUGH COUNCIL"},{"$f":"--ISNUMBER(IFERROR(SEARCH(ProviderTable!$B$3,C707,1),\"\"))","v":1},{"$f":"IF(D707=1,COUNTIF($D$2:D707,1),\"\")","v":706},{"$f":"IFERROR(INDEX($C$2:$C$1024,MATCH(ROWS($E$2:E707),$E$2:$E$1024,0)),\"\")","v":"10005412 - REDBRIDGE LONDON BOROUGH COUNCIL"}]
[10005414,"REDCAR & CLEVELAND COLLEGE","10005414 - REDCAR & CLEVELAND COLLEGE",{"$f":"--ISNUMBER(IFERROR(SEARCH(ProviderTable!$B$3,C708,1),\"\"))","v":1},{"$f":"IF(D708=1,COUNTIF($D$2:D708,1),\"\")","v":707},{"$f":"IFERROR(INDEX($C$2:$C$1024,MATCH(ROWS($E$2:E708),$E$2:$E$1024,0)),\"\")","v":"10005414 - REDCAR & CLEVELAND COLLEGE"}]
[10005413,"REDCAR AND CLEVELAND BOROUGH COUNCIL","10005413 - REDCAR AND CLEVELAND BOROUGH COUNCIL",{"$f":"--ISNUMBER(IFERROR(SEARCH(ProviderTable!$B$3,C709,1),\"\"))","v":1},{"$f":"IF(D709=1,COUNTIF($D$2:D709,1),\"\")","v":708},{"$f":"IFERROR(INDEX($C$2:$C$1024,MATCH(ROWS($E$2:E709),$E$2:$E$1024,0)),\"\")","v":"10005413 - REDCAR AND CLEVELAND BOROUGH COUNCIL"}]
[10031984,"REDWOOD EDUCATION AND SKILLS LIMITED","10031984 - REDWOOD EDUCATION AND SKILLS LIMITED",{"$f":"--ISNUMBER(IFERROR(SEARCH(ProviderTable!$B$3,C710,1),\"\"))","v":1},{"$f":"IF(D710=1,COUNTIF($D$2:D710,1),\"\")","v":709},{"$f":"IFERROR(INDEX($C$2:$C$1024,MATCH(ROWS($E$2:E710),$E$2:$E$1024,0)),\"\")","v":"10031984 - REDWOOD EDUCATION AND SKILLS LIMITED"}]
[10008456,"REGENT COLLEGE","10008456 - REGENT COLLEGE",{"$f":"--ISNUMBER(IFERROR(SEARCH(ProviderTable!$B$3,C711,1),\"\"))","v":1},{"$f":"IF(D711=1,COUNTIF($D$2:D711,1),\"\")","v":710},{"$f":"IFERROR(INDEX($C$2:$C$1024,MATCH(ROWS($E$2:E711),$E$2:$E$1024,0)),\"\")","v":"10008456 - REGENT COLLEGE"}]
[10025330,"RELEASE POTENTIAL LTD","10025330 - RELEASE POTENTIAL LTD",{"$f":"--ISNUMBER(IFERROR(SEARCH(ProviderTable!$B$3,C712,1),\"\"))","v":1},{"$f":"IF(D712=1,COUNTIF($D$2:D712,1),\"\")","v":711},{"$f":"IFERROR(INDEX($C$2:$C$1024,MATCH(ROWS($E$2:E712),$E$2:$E$1024,0)),\"\")","v":"10025330 - RELEASE POTENTIAL LTD"}]
[10023047,"REMIT GROUP LIMITED","10023047 - REMIT GROUP LIMITED",{"$f":"--ISNUMBER(IFERROR(SEARCH(ProviderTable!$B$3,C713,1),\"\"))","v":1},{"$f":"IF(D713=1,COUNTIF($D$2:D713,1),\"\")","v":712},{"$f":"IFERROR(INDEX($C$2:$C$1024,MATCH(ROWS($E$2:E713),$E$2:$E$1024,0)),\"\")","v":"10023047 - REMIT GROUP LIMITED"}]
[10024686,"RESOURCES (N E) LIMITED","10024686 - RESOURCES (N E) LIMITED",{"$f":"--ISNUMBER(IFERROR(SEARCH(ProviderTable!$B$3,C714,1),\"\"))","v":1},{"$f":"IF(D714=1,COUNTIF($D$2:D714,1),\"\")","v":713},{"$f":"IFERROR(INDEX($C$2:$C$1024,MATCH(ROWS($E$2:E714),$E$2:$E$1024,0)),\"\")","v":"10024686 - RESOURCES (N E) LIMITED"}]
[10005457,"REWARDS TRAINING RECRUITMENT CONSULTANCY LIMITED","10005457 - REWARDS TRAINING RECRUITMENT CONSULTANCY LIMITED",{"$f":"--ISNUMBER(IFERROR(SEARCH(ProviderTable!$B$3,C715,1),\"\"))","v":1},{"$f":"IF(D715=1,COUNTIF($D$2:D715,1),\"\")","v":714},{"$f":"IFERROR(INDEX($C$2:$C$1024,MATCH(ROWS($E$2:E715),$E$2:$E$1024,0)),\"\")","v":"10005457 - REWARDS TRAINING RECRUITMENT CONSULTANCY LIMITED"}]
[10005465,"RICHARD HUISH COLLEGE","10005465 - RICHARD HUISH COLLEGE",{"$f":"--ISNUMBER(IFERROR(SEARCH(ProviderTable!$B$3,C716,1),\"\"))","v":1},{"$f":"IF(D716=1,COUNTIF($D$2:D716,1),\"\")","v":715},{"$f":"IFERROR(INDEX($C$2:$C$1024,MATCH(ROWS($E$2:E716),$E$2:$E$1024,0)),\"\")","v":"10005465 - RICHARD HUISH COLLEGE"}]
[10009554,"RICHARD TAUNTON SIXTH FORM COLLEGE","10009554 - RICHARD TAUNTON SIXTH FORM COLLEGE",{"$f":"--ISNUMBER(IFERROR(SEARCH(ProviderTable!$B$3,C717,1),\"\"))","v":1},{"$f":"IF(D717=1,COUNTIF($D$2:D717,1),\"\")","v":716},{"$f":"IFERROR(INDEX($C$2:$C$1024,MATCH(ROWS($E$2:E717),$E$2:$E$1024,0)),\"\")","v":"10009554 - RICHARD TAUNTON SIXTH FORM COLLEGE"}]
[10005466,"RICHMOND ADULT COMMUNITY COLLEGE (RACC)","10005466 - RICHMOND ADULT COMMUNITY COLLEGE (RACC)",{"$f":"--ISNUMBER(IFERROR(SEARCH(ProviderTable!$B$3,C718,1),\"\"))","v":1},{"$f":"IF(D718=1,COUNTIF($D$2:D718,1),\"\")","v":717},{"$f":"IFERROR(INDEX($C$2:$C$1024,MATCH(ROWS($E$2:E718),$E$2:$E$1024,0)),\"\")","v":"10005466 - RICHMOND ADULT COMMUNITY COLLEGE (RACC)"}]
[10007362,"RICHMOND UPON THAMES BOROUGH COUNCIL","10007362 - RICHMOND UPON THAMES BOROUGH COUNCIL",{"$f":"--ISNUMBER(IFERROR(SEARCH(ProviderTable!$B$3,C719,1),\"\"))","v":1},{"$f":"IF(D719=1,COUNTIF($D$2:D719,1),\"\")","v":718},{"$f":"IFERROR(INDEX($C$2:$C$1024,MATCH(ROWS($E$2:E719),$E$2:$E$1024,0)),\"\")","v":"10007362 - RICHMOND UPON THAMES BOROUGH COUNCIL"}]
[10005469,"RICHMOND UPON THAMES COLLEGE","10005469 - RICHMOND UPON THAMES COLLEGE",{"$f":"--ISNUMBER(IFERROR(SEARCH(ProviderTable!$B$3,C720,1),\"\"))","v":1},{"$f":"IF(D720=1,COUNTIF($D$2:D720,1),\"\")","v":719},{"$f":"IFERROR(INDEX($C$2:$C$1024,MATCH(ROWS($E$2:E720),$E$2:$E$1024,0)),\"\")","v":"10005469 - RICHMOND UPON THAMES COLLEGE"}]
[10002863,"RIVERSIDE COLLEGE","10002863 - RIVERSIDE COLLEGE",{"$f":"--ISNUMBER(IFERROR(SEARCH(ProviderTable!$B$3,C721,1),\"\"))","v":1},{"$f":"IF(D721=1,COUNTIF($D$2:D721,1),\"\")","v":720},{"$f":"IFERROR(INDEX($C$2:$C$1024,MATCH(ROWS($E$2:E721),$E$2:$E$1024,0)),\"\")","v":"10002863 - RIVERSIDE COLLEGE"}]
[10005488,"RIVERSIDE TRAINING LIMITED","10005488 - RIVERSIDE TRAINING LIMITED",{"$f":"--ISNUMBER(IFERROR(SEARCH(ProviderTable!$B$3,C722,1),\"\"))","v":1},{"$f":"IF(D722=1,COUNTIF($D$2:D722,1),\"\")","v":721},{"$f":"IFERROR(INDEX($C$2:$C$1024,MATCH(ROWS($E$2:E722),$E$2:$E$1024,0)),\"\")","v":"10005488 - RIVERSIDE TRAINING LIMITED"}]
[10005534,"RNN GROUP","10005534 - RNN GROUP",{"$f":"--ISNUMBER(IFERROR(SEARCH(ProviderTable!$B$3,C723,1),\"\"))","v":1},{"$f":"IF(D723=1,COUNTIF($D$2:D723,1),\"\")","v":722},{"$f":"IFERROR(INDEX($C$2:$C$1024,MATCH(ROWS($E$2:E723),$E$2:$E$1024,0)),\"\")","v":"10005534 - RNN GROUP"}]
[10005509,"ROCHDALE TRAINING ASSOCIATION LIMITED","10005509 - ROCHDALE TRAINING ASSOCIATION LIMITED",{"$f":"--ISNUMBER(IFERROR(SEARCH(ProviderTable!$B$3,C724,1),\"\"))","v":1},{"$f":"IF(D724=1,COUNTIF($D$2:D724,1),\"\")","v":723},{"$f":"IFERROR(INDEX($C$2:$C$1024,MATCH(ROWS($E$2:E724),$E$2:$E$1024,0)),\"\")","v":"10005509 - ROCHDALE TRAINING ASSOCIATION LIMITED"}]
[10005514,"ROCKET TRAINING LIMITED","10005514 - ROCKET TRAINING LIMITED",{"$f":"--ISNUMBER(IFERROR(SEARCH(ProviderTable!$B$3,C725,1),\"\"))","v":1},{"$f":"IF(D725=1,COUNTIF($D$2:D725,1),\"\")","v":724},{"$f":"IFERROR(INDEX($C$2:$C$1024,MATCH(ROWS($E$2:E725),$E$2:$E$1024,0)),\"\")","v":"10005514 - ROCKET TRAINING LIMITED"}]
[10005520,"ROLLS-ROYCE PLC","10005520 - ROLLS-ROYCE PLC",{"$f":"--ISNUMBER(IFERROR(SEARCH(ProviderTable!$B$3,C726,1),\"\"))","v":1},{"$f":"IF(D726=1,COUNTIF($D$2:D726,1),\"\")","v":725},{"$f":"IFERROR(INDEX($C$2:$C$1024,MATCH(ROWS($E$2:E726),$E$2:$E$1024,0)),\"\")","v":"10005520 - ROLLS-ROYCE PLC"}]
[10013082,"ROLLS-ROYCE POWER ENGINEERING PLC","10013082 - ROLLS-ROYCE POWER ENGINEERING PLC",{"$f":"--ISNUMBER(IFERROR(SEARCH(ProviderTable!$B$3,C727,1),\"\"))","v":1},{"$f":"IF(D727=1,COUNTIF($D$2:D727,1),\"\")","v":726},{"$f":"IFERROR(INDEX($C$2:$C$1024,MATCH(ROWS($E$2:E727),$E$2:$E$1024,0)),\"\")","v":"10013082 - ROLLS-ROYCE POWER ENGINEERING PLC"}]
[10005535,"ROTHERHAM BOROUGH COUNCIL","10005535 - ROTHERHAM BOROUGH COUNCIL",{"$f":"--ISNUMBER(IFERROR(SEARCH(ProviderTable!$B$3,C728,1),\"\"))","v":1},{"$f":"IF(D728=1,COUNTIF($D$2:D728,1),\"\")","v":727},{"$f":"IFERROR(INDEX($C$2:$C$1024,MATCH(ROWS($E$2:E728),$E$2:$E$1024,0)),\"\")","v":"10005535 - ROTHERHAM BOROUGH COUNCIL"}]
[10033441,"ROYAL AIR FORCE","10033441 - ROYAL AIR FORCE",{"$f":"--ISNUMBER(IFERROR(SEARCH(ProviderTable!$B$3,C729,1),\"\"))","v":1},{"$f":"IF(D729=1,COUNTIF($D$2:D729,1),\"\")","v":728},{"$f":"IFERROR(INDEX($C$2:$C$1024,MATCH(ROWS($E$2:E729),$E$2:$E$1024,0)),\"\")","v":"10033441 - ROYAL AIR FORCE"}]
[10003990,"ROYAL BOROUGH OF GREENWICH","10003990 - ROYAL BOROUGH OF GREENWICH",{"$f":"--ISNUMBER(IFERROR(SEARCH(ProviderTable!$B$3,C730,1),\"\"))","v":1},{"$f":"IF(D730=1,COUNTIF($D$2:D730,1),\"\")","v":729},{"$f":"IFERROR(INDEX($C$2:$C$1024,MATCH(ROWS($E$2:E730),$E$2:$E$1024,0)),\"\")","v":"10003990 - ROYAL BOROUGH OF GREENWICH"}]
[10005548,"ROYAL BOROUGH OF KENSINGTON AND CHELSEA","10005548 - ROYAL BOROUGH OF KENSINGTON AND CHELSEA",{"$f":"--ISNUMBER(IFERROR(SEARCH(ProviderTable!$B$3,C731,1),\"\"))","v":1},{"$f":"IF(D731=1,COUNTIF($D$2:D731,1),\"\")","v":730},{"$f":"IFERROR(INDEX($C$2:$C$1024,MATCH(ROWS($E$2:E731),$E$2:$E$1024,0)),\"\")","v":"10005548 - ROYAL BOROUGH OF KENSINGTON AND CHELSEA"}]
[10005549,"ROYAL BOROUGH OF KINGSTON UPON THAMES","10005549 - ROYAL BOROUGH OF KINGSTON UPON THAMES",{"$f":"--ISNUMBER(IFERROR(SEARCH(ProviderTable!$B$3,C732,1),\"\"))","v":1},{"$f":"IF(D732=1,COUNTIF($D$2:D732,1),\"\")","v":731},{"$f":"IFERROR(INDEX($C$2:$C$1024,MATCH(ROWS($E$2:E732),$E$2:$E$1024,0)),\"\")","v":"10005549 - ROYAL BOROUGH OF KINGSTON UPON THAMES"}]
[10024772,"ROYAL COLLEGE MANCHESTER (SEASHELL TRUST)","10024772 - ROYAL COLLEGE MANCHESTER (SEASHELL TRUST)",{"$f":"--ISNUMBER(IFERROR(SEARCH(ProviderTable!$B$3,C733,1),\"\"))","v":1},{"$f":"IF(D733=1,COUNTIF($D$2:D733,1),\"\")","v":732},{"$f":"IFERROR(INDEX($C$2:$C$1024,MATCH(ROWS($E$2:E733),$E$2:$E$1024,0)),\"\")","v":"10024772 - ROYAL COLLEGE MANCHESTER (SEASHELL TRUST)"}]
[10033438,"ROYAL NAVY","10033438 - ROYAL NAVY",{"$f":"--ISNUMBER(IFERROR(SEARCH(ProviderTable!$B$3,C734,1),\"\"))","v":1},{"$f":"IF(D734=1,COUNTIF($D$2:D734,1),\"\")","v":733},{"$f":"IFERROR(INDEX($C$2:$C$1024,MATCH(ROWS($E$2:E734),$E$2:$E$1024,0)),\"\")","v":"10033438 - ROYAL NAVY"}]
[10005575,"RUNSHAW COLLEGE","10005575 - RUNSHAW COLLEGE",{"$f":"--ISNUMBER(IFERROR(SEARCH(ProviderTable!$B$3,C735,1),\"\"))","v":1},{"$f":"IF(D735=1,COUNTIF($D$2:D735,1),\"\")","v":734},{"$f":"IFERROR(INDEX($C$2:$C$1024,MATCH(ROWS($E$2:E735),$E$2:$E$1024,0)),\"\")","v":"10005575 - RUNSHAW COLLEGE"}]
[10005583,"RUSKIN COLLEGE","10005583 - RUSKIN COLLEGE",{"$f":"--ISNUMBER(IFERROR(SEARCH(ProviderTable!$B$3,C736,1),\"\"))","v":1},{"$f":"IF(D736=1,COUNTIF($D$2:D736,1),\"\")","v":735},{"$f":"IFERROR(INDEX($C$2:$C$1024,MATCH(ROWS($E$2:E736),$E$2:$E$1024,0)),\"\")","v":"10005583 - RUSKIN COLLEGE"}]
[10009031,"RUSKIN MILL COLLEGE","10009031 - RUSKIN MILL COLLEGE",{"$f":"--ISNUMBER(IFERROR(SEARCH(ProviderTable!$B$3,C737,1),\"\"))","v":1},{"$f":"IF(D737=1,COUNTIF($D$2:D737,1),\"\")","v":736},{"$f":"IFERROR(INDEX($C$2:$C$1024,MATCH(ROWS($E$2:E737),$E$2:$E$1024,0)),\"\")","v":"10009031 - RUSKIN MILL COLLEGE"}]
[10021574,"RUSKIN PRIVATE HIRE LIMITED","10021574 - RUSKIN PRIVATE HIRE LIMITED",{"$f":"--ISNUMBER(IFERROR(SEARCH(ProviderTable!$B$3,C738,1),\"\"))","v":1},{"$f":"IF(D738=1,COUNTIF($D$2:D738,1),\"\")","v":737},{"$f":"IFERROR(INDEX($C$2:$C$1024,MATCH(ROWS($E$2:E738),$E$2:$E$1024,0)),\"\")","v":"10021574 - RUSKIN PRIVATE HIRE LIMITED"}]
[10005586,"RUTLAND COUNTY COUNCIL","10005586 - RUTLAND COUNTY COUNCIL",{"$f":"--ISNUMBER(IFERROR(SEARCH(ProviderTable!$B$3,C739,1),\"\"))","v":1},{"$f":"IF(D739=1,COUNTIF($D$2:D739,1),\"\")","v":738},{"$f":"IFERROR(INDEX($C$2:$C$1024,MATCH(ROWS($E$2:E739),$E$2:$E$1024,0)),\"\")","v":"10005586 - RUTLAND COUNTY COUNCIL"}]
[10005588,"RWP TRAINING LIMITED","10005588 - RWP TRAINING LIMITED",{"$f":"--ISNUMBER(IFERROR(SEARCH(ProviderTable!$B$3,C740,1),\"\"))","v":1},{"$f":"IF(D740=1,COUNTIF($D$2:D740,1),\"\")","v":739},{"$f":"IFERROR(INDEX($C$2:$C$1024,MATCH(ROWS($E$2:E740),$E$2:$E$1024,0)),\"\")","v":"10005588 - RWP TRAINING LIMITED"}]
[10005599,"S & B AUTOMOTIVE ACADEMY LIMITED","10005599 - S & B AUTOMOTIVE ACADEMY LIMITED",{"$f":"--ISNUMBER(IFERROR(SEARCH(ProviderTable!$B$3,C741,1),\"\"))","v":1},{"$f":"IF(D741=1,COUNTIF($D$2:D741,1),\"\")","v":740},{"$f":"IFERROR(INDEX($C$2:$C$1024,MATCH(ROWS($E$2:E741),$E$2:$E$1024,0)),\"\")","v":"10005599 - S & B AUTOMOTIVE ACADEMY LIMITED"}]
[10006005,"S.W. DURHAM TRAINING LIMITED","10006005 - S.W. DURHAM TRAINING LIMITED",{"$f":"--ISNUMBER(IFERROR(SEARCH(ProviderTable!$B$3,C742,1),\"\"))","v":1},{"$f":"IF(D742=1,COUNTIF($D$2:D742,1),\"\")","v":741},{"$f":"IFERROR(INDEX($C$2:$C$1024,MATCH(ROWS($E$2:E742),$E$2:$E$1024,0)),\"\")","v":"10006005 - S.W. DURHAM TRAINING LIMITED"}]
[10005642,"SAKS (EDUCATION) LIMITED","10005642 - SAKS (EDUCATION) LIMITED",{"$f":"--ISNUMBER(IFERROR(SEARCH(ProviderTable!$B$3,C743,1),\"\"))","v":1},{"$f":"IF(D743=1,COUNTIF($D$2:D743,1),\"\")","v":742},{"$f":"IFERROR(INDEX($C$2:$C$1024,MATCH(ROWS($E$2:E743),$E$2:$E$1024,0)),\"\")","v":"10005642 - SAKS (EDUCATION) LIMITED"}]
[10006317,"SALFORD AND TRAFFORD ENGINEERING GROUP TRAINING ASSOCIATION LIMITED","10006317 - SALFORD AND TRAFFORD ENGINEERING GROUP TRAINING ASSOCIATION LIMITED",{"$f":"--ISNUMBER(IFERROR(SEARCH(ProviderTable!$B$3,C744,1),\"\"))","v":1},{"$f":"IF(D744=1,COUNTIF($D$2:D744,1),\"\")","v":743},{"$f":"IFERROR(INDEX($C$2:$C$1024,MATCH(ROWS($E$2:E744),$E$2:$E$1024,0)),\"\")","v":"10006317 - SALFORD AND TRAFFORD ENGINEERING GROUP TRAINING ASSOCIATION LIMITED"}]
[10005032,"SALFORD CITY COLLEGE","10005032 - SALFORD CITY COLLEGE",{"$f":"--ISNUMBER(IFERROR(SEARCH(ProviderTable!$B$3,C745,1),\"\"))","v":1},{"$f":"IF(D745=1,COUNTIF($D$2:D745,1),\"\")","v":744},{"$f":"IFERROR(INDEX($C$2:$C$1024,MATCH(ROWS($E$2:E745),$E$2:$E$1024,0)),\"\")","v":"10005032 - SALFORD CITY COLLEGE"}]
[10035301,"SAMANTHA WARREN","10035301 - SAMANTHA WARREN",{"$f":"--ISNUMBER(IFERROR(SEARCH(ProviderTable!$B$3,C746,1),\"\"))","v":1},{"$f":"IF(D746=1,COUNTIF($D$2:D746,1),\"\")","v":745},{"$f":"IFERROR(INDEX($C$2:$C$1024,MATCH(ROWS($E$2:E746),$E$2:$E$1024,0)),\"\")","v":"10035301 - SAMANTHA WARREN"}]
[10005669,"SANDWELL COLLEGE","10005669 - SANDWELL COLLEGE",{"$f":"--ISNUMBER(IFERROR(SEARCH(ProviderTable!$B$3,C747,1),\"\"))","v":1},{"$f":"IF(D747=1,COUNTIF($D$2:D747,1),\"\")","v":746},{"$f":"IFERROR(INDEX($C$2:$C$1024,MATCH(ROWS($E$2:E747),$E$2:$E$1024,0)),\"\")","v":"10005669 - SANDWELL COLLEGE"}]
[10005671,"SANDWELL METROPOLITAN BOROUGH COUNCIL","10005671 - SANDWELL METROPOLITAN BOROUGH COUNCIL",{"$f":"--ISNUMBER(IFERROR(SEARCH(ProviderTable!$B$3,C748,1),\"\"))","v":1},{"$f":"IF(D748=1,COUNTIF($D$2:D748,1),\"\")","v":747},{"$f":"IFERROR(INDEX($C$2:$C$1024,MATCH(ROWS($E$2:E748),$E$2:$E$1024,0)),\"\")","v":"10005671 - SANDWELL METROPOLITAN BOROUGH COUNCIL"}]
[10005673,"SANDWELL TRAINING ASSOCIATION LIMITED","10005673 - SANDWELL TRAINING ASSOCIATION LIMITED",{"$f":"--ISNUMBER(IFERROR(SEARCH(ProviderTable!$B$3,C749,1),\"\"))","v":1},{"$f":"IF(D749=1,COUNTIF($D$2:D749,1),\"\")","v":748},{"$f":"IFERROR(INDEX($C$2:$C$1024,MATCH(ROWS($E$2:E749),$E$2:$E$1024,0)),\"\")","v":"10005673 - SANDWELL TRAINING ASSOCIATION LIMITED"}]
[10033746,"SBC TRAINING LIMITED","10033746 - SBC TRAINING LIMITED",{"$f":"--ISNUMBER(IFERROR(SEARCH(ProviderTable!$B$3,C750,1),\"\"))","v":1},{"$f":"IF(D750=1,COUNTIF($D$2:D750,1),\"\")","v":749},{"$f":"IFERROR(INDEX($C$2:$C$1024,MATCH(ROWS($E$2:E750),$E$2:$E$1024,0)),\"\")","v":"10033746 - SBC TRAINING LIMITED"}]
[10005735,"SEETEC BUSINESS TECHNOLOGY CENTRE LIMITED","10005735 - SEETEC BUSINESS TECHNOLOGY CENTRE LIMITED",{"$f":"--ISNUMBER(IFERROR(SEARCH(ProviderTable!$B$3,C751,1),\"\"))","v":1},{"$f":"IF(D751=1,COUNTIF($D$2:D751,1),\"\")","v":750},{"$f":"IFERROR(INDEX($C$2:$C$1024,MATCH(ROWS($E$2:E751),$E$2:$E$1024,0)),\"\")","v":"10005735 - SEETEC BUSINESS TECHNOLOGY CENTRE LIMITED"}]
[10005736,"SEEVIC COLLEGE","10005736 - SEEVIC COLLEGE",{"$f":"--ISNUMBER(IFERROR(SEARCH(ProviderTable!$B$3,C752,1),\"\"))","v":1},{"$f":"IF(D752=1,COUNTIF($D$2:D752,1),\"\")","v":751},{"$f":"IFERROR(INDEX($C$2:$C$1024,MATCH(ROWS($E$2:E752),$E$2:$E$1024,0)),\"\")","v":"10005736 - SEEVIC COLLEGE"}]
[10005738,"SEFTON METROPOLITAN BOROUGH COUNCIL","10005738 - SEFTON METROPOLITAN BOROUGH COUNCIL",{"$f":"--ISNUMBER(IFERROR(SEARCH(ProviderTable!$B$3,C753,1),\"\"))","v":1},{"$f":"IF(D753=1,COUNTIF($D$2:D753,1),\"\")","v":752},{"$f":"IFERROR(INDEX($C$2:$C$1024,MATCH(ROWS($E$2:E753),$E$2:$E$1024,0)),\"\")","v":"10005738 - SEFTON METROPOLITAN BOROUGH COUNCIL"}]
[10005741,"SELBY COLLEGE","10005741 - SELBY COLLEGE",{"$f":"--ISNUMBER(IFERROR(SEARCH(ProviderTable!$B$3,C754,1),\"\"))","v":1},{"$f":"IF(D754=1,COUNTIF($D$2:D754,1),\"\")","v":753},{"$f":"IFERROR(INDEX($C$2:$C$1024,MATCH(ROWS($E$2:E754),$E$2:$E$1024,0)),\"\")","v":"10005741 - SELBY COLLEGE"}]
[10030520,"SELECT SERVICE PARTNER UK LIMITED","10030520 - SELECT SERVICE PARTNER UK LIMITED",{"$f":"--ISNUMBER(IFERROR(SEARCH(ProviderTable!$B$3,C755,1),\"\"))","v":1},{"$f":"IF(D755=1,COUNTIF($D$2:D755,1),\"\")","v":754},{"$f":"IFERROR(INDEX($C$2:$C$1024,MATCH(ROWS($E$2:E755),$E$2:$E$1024,0)),\"\")","v":"10030520 - SELECT SERVICE PARTNER UK LIMITED"}]
[10005744,"SELETA TRAINING AND PERSONNEL SERVICES LIMITED","10005744 - SELETA TRAINING AND PERSONNEL SERVICES LIMITED",{"$f":"--ISNUMBER(IFERROR(SEARCH(ProviderTable!$B$3,C756,1),\"\"))","v":1},{"$f":"IF(D756=1,COUNTIF($D$2:D756,1),\"\")","v":755},{"$f":"IFERROR(INDEX($C$2:$C$1024,MATCH(ROWS($E$2:E756),$E$2:$E$1024,0)),\"\")","v":"10005744 - SELETA TRAINING AND PERSONNEL SERVICES LIMITED"}]
[10005748,"SENSE COLLEGE","10005748 - SENSE COLLEGE",{"$f":"--ISNUMBER(IFERROR(SEARCH(ProviderTable!$B$3,C757,1),\"\"))","v":1},{"$f":"IF(D757=1,COUNTIF($D$2:D757,1),\"\")","v":756},{"$f":"IFERROR(INDEX($C$2:$C$1024,MATCH(ROWS($E$2:E757),$E$2:$E$1024,0)),\"\")","v":"10005748 - SENSE COLLEGE"}]
[10005752,"SERCO LIMITED","10005752 - SERCO LIMITED",{"$f":"--ISNUMBER(IFERROR(SEARCH(ProviderTable!$B$3,C758,1),\"\"))","v":1},{"$f":"IF(D758=1,COUNTIF($D$2:D758,1),\"\")","v":757},{"$f":"IFERROR(INDEX($C$2:$C$1024,MATCH(ROWS($E$2:E758),$E$2:$E$1024,0)),\"\")","v":"10005752 - SERCO LIMITED"}]
[10005782,"SHAW TRUST LIMITED(THE)","10005782 - SHAW TRUST LIMITED(THE)",{"$f":"--ISNUMBER(IFERROR(SEARCH(ProviderTable!$B$3,C759,1),\"\"))","v":1},{"$f":"IF(D759=1,COUNTIF($D$2:D759,1),\"\")","v":758},{"$f":"IFERROR(INDEX($C$2:$C$1024,MATCH(ROWS($E$2:E759),$E$2:$E$1024,0)),\"\")","v":"10005782 - SHAW TRUST LIMITED(THE)"}]
[10002244,"SHEFFIELD CITY COUNCIL","10002244 - SHEFFIELD CITY COUNCIL",{"$f":"--ISNUMBER(IFERROR(SEARCH(ProviderTable!$B$3,C760,1),\"\"))","v":1},{"$f":"IF(D760=1,COUNTIF($D$2:D760,1),\"\")","v":759},{"$f":"IFERROR(INDEX($C$2:$C$1024,MATCH(ROWS($E$2:E760),$E$2:$E$1024,0)),\"\")","v":"10002244 - SHEFFIELD CITY COUNCIL"}]
[10005788,"SHEFFIELD COLLEGE, THE","10005788 - SHEFFIELD COLLEGE, THE",{"$f":"--ISNUMBER(IFERROR(SEARCH(ProviderTable!$B$3,C761,1),\"\"))","v":1},{"$f":"IF(D761=1,COUNTIF($D$2:D761,1),\"\")","v":760},{"$f":"IFERROR(INDEX($C$2:$C$1024,MATCH(ROWS($E$2:E761),$E$2:$E$1024,0)),\"\")","v":"10005788 - SHEFFIELD COLLEGE, THE"}]
[10005810,"SHIPLEY COLLEGE","10005810 - SHIPLEY COLLEGE",{"$f":"--ISNUMBER(IFERROR(SEARCH(ProviderTable!$B$3,C762,1),\"\"))","v":1},{"$f":"IF(D762=1,COUNTIF($D$2:D762,1),\"\")","v":761},{"$f":"IFERROR(INDEX($C$2:$C$1024,MATCH(ROWS($E$2:E762),$E$2:$E$1024,0)),\"\")","v":"10005810 - SHIPLEY COLLEGE"}]
[10039420,"SHOOTERS HILL POST-16 CAMPUS","10039420 - SHOOTERS HILL POST-16 CAMPUS",{"$f":"--ISNUMBER(IFERROR(SEARCH(ProviderTable!$B$3,C763,1),\"\"))","v":1},{"$f":"IF(D763=1,COUNTIF($D$2:D763,1),\"\")","v":762},{"$f":"IFERROR(INDEX($C$2:$C$1024,MATCH(ROWS($E$2:E763),$E$2:$E$1024,0)),\"\")","v":"10039420 - SHOOTERS HILL POST-16 CAMPUS"}]
[10005821,"SHREWSBURY COLLEGE OF ARTS & TECHNOLOGY","10005821 - SHREWSBURY COLLEGE OF ARTS & TECHNOLOGY",{"$f":"--ISNUMBER(IFERROR(SEARCH(ProviderTable!$B$3,C764,1),\"\"))","v":1},{"$f":"IF(D764=1,COUNTIF($D$2:D764,1),\"\")","v":763},{"$f":"IFERROR(INDEX($C$2:$C$1024,MATCH(ROWS($E$2:E764),$E$2:$E$1024,0)),\"\")","v":"10005821 - SHREWSBURY COLLEGE OF ARTS & TECHNOLOGY"}]
[10013362,"SIEMENS PUBLIC LIMITED COMPANY","10013362 - SIEMENS PUBLIC LIMITED COMPANY",{"$f":"--ISNUMBER(IFERROR(SEARCH(ProviderTable!$B$3,C765,1),\"\"))","v":1},{"$f":"IF(D765=1,COUNTIF($D$2:D765,1),\"\")","v":764},{"$f":"IFERROR(INDEX($C$2:$C$1024,MATCH(ROWS($E$2:E765),$E$2:$E$1024,0)),\"\")","v":"10013362 - SIEMENS PUBLIC LIMITED COMPANY"}]
[10005864,"SIR JOHN DEANE'S COLLEGE","10005864 - SIR JOHN DEANE'S COLLEGE",{"$f":"--ISNUMBER(IFERROR(SEARCH(ProviderTable!$B$3,C766,1),\"\"))","v":1},{"$f":"IF(D766=1,COUNTIF($D$2:D766,1),\"\")","v":765},{"$f":"IFERROR(INDEX($C$2:$C$1024,MATCH(ROWS($E$2:E766),$E$2:$E$1024,0)),\"\")","v":"10005864 - SIR JOHN DEANE'S COLLEGE"}]
[10005891,"SKILLNET LIMITED","10005891 - SKILLNET LIMITED",{"$f":"--ISNUMBER(IFERROR(SEARCH(ProviderTable!$B$3,C767,1),\"\"))","v":1},{"$f":"IF(D767=1,COUNTIF($D$2:D767,1),\"\")","v":766},{"$f":"IFERROR(INDEX($C$2:$C$1024,MATCH(ROWS($E$2:E767),$E$2:$E$1024,0)),\"\")","v":"10005891 - SKILLNET LIMITED"}]
[10038112,"SKILLS FOR HEALTH LIMITED","10038112 - SKILLS FOR HEALTH LIMITED",{"$f":"--ISNUMBER(IFERROR(SEARCH(ProviderTable!$B$3,C768,1),\"\"))","v":1},{"$f":"IF(D768=1,COUNTIF($D$2:D768,1),\"\")","v":767},{"$f":"IFERROR(INDEX($C$2:$C$1024,MATCH(ROWS($E$2:E768),$E$2:$E$1024,0)),\"\")","v":"10038112 - SKILLS FOR HEALTH LIMITED"}]
[10010523,"SKILLS FOR SECURITY LIMITED","10010523 - SKILLS FOR SECURITY LIMITED",{"$f":"--ISNUMBER(IFERROR(SEARCH(ProviderTable!$B$3,C769,1),\"\"))","v":1},{"$f":"IF(D769=1,COUNTIF($D$2:D769,1),\"\")","v":768},{"$f":"IFERROR(INDEX($C$2:$C$1024,MATCH(ROWS($E$2:E769),$E$2:$E$1024,0)),\"\")","v":"10010523 - SKILLS FOR SECURITY LIMITED"}]
[10012834,"SKILLS TEAM LTD","10012834 - SKILLS TEAM LTD",{"$f":"--ISNUMBER(IFERROR(SEARCH(ProviderTable!$B$3,C770,1),\"\"))","v":1},{"$f":"IF(D770=1,COUNTIF($D$2:D770,1),\"\")","v":769},{"$f":"IFERROR(INDEX($C$2:$C$1024,MATCH(ROWS($E$2:E770),$E$2:$E$1024,0)),\"\")","v":"10012834 - SKILLS TEAM LTD"}]
[10005277,"SKILLS TO GROUP LIMITED",{"$f":"A771&\" - \"&B771","v":"10005277 - SKILLS TO GROUP LIMITED"},{"$f":"--ISNUMBER(IFERROR(SEARCH(ProviderTable!$B$3,C771,1),\"\"))","v":1},{"$f":"IF(D771=1,COUNTIF($D$2:D771,1),\"\")","v":770},{"$f":"IFERROR(INDEX($C$2:$C$1024,MATCH(ROWS($E$2:E771),$E$2:$E$1024,0)),\"\")","v":"10005277 - SKILLS TO GROUP LIMITED"}]
[10005897,"SKILLS TRAINING UK LIMITED","10005897 - SKILLS TRAINING UK LIMITED",{"$f":"--ISNUMBER(IFERROR(SEARCH(ProviderTable!$B$3,C772,1),\"\"))","v":1},{"$f":"IF(D772=1,COUNTIF($D$2:D772,1),\"\")","v":771},{"$f":"IFERROR(INDEX($C$2:$C$1024,MATCH(ROWS($E$2:E772),$E$2:$E$1024,0)),\"\")","v":"10005897 - SKILLS TRAINING UK LIMITED"}]
[10020256,"SKILLS UK LTD","10020256 - SKILLS UK LTD",{"$f":"--ISNUMBER(IFERROR(SEARCH(ProviderTable!$B$3,C773,1),\"\"))","v":1},{"$f":"IF(D773=1,COUNTIF($D$2:D773,1),\"\")","v":772},{"$f":"IFERROR(INDEX($C$2:$C$1024,MATCH(ROWS($E$2:E773),$E$2:$E$1024,0)),\"\")","v":"10020256 - SKILLS UK LTD"}]
[10005916,"SLOUGH BOROUGH COUNCIL","10005916 - SLOUGH BOROUGH COUNCIL",{"$f":"--ISNUMBER(IFERROR(SEARCH(ProviderTable!$B$3,C774,1),\"\"))","v":1},{"$f":"IF(D774=1,COUNTIF($D$2:D774,1),\"\")","v":773},{"$f":"IFERROR(INDEX($C$2:$C$1024,MATCH(ROWS($E$2:E774),$E$2:$E$1024,0)),\"\")","v":"10005916 - SLOUGH BOROUGH COUNCIL"}]
[10005927,"SMART TRAINING AND RECRUITMENT LIMITED","10005927 - SMART TRAINING AND RECRUITMENT LIMITED",{"$f":"--ISNUMBER(IFERROR(SEARCH(ProviderTable!$B$3,C775,1),\"\"))","v":1},{"$f":"IF(D775=1,COUNTIF($D$2:D775,1),\"\")","v":774},{"$f":"IFERROR(INDEX($C$2:$C$1024,MATCH(ROWS($E$2:E775),$E$2:$E$1024,0)),\"\")","v":"10005927 - SMART TRAINING AND RECRUITMENT LIMITED"}]
[10028742,"SOCIAL ENTERPRISE KENT CIC","10028742 - SOCIAL ENTERPRISE KENT CIC",{"$f":"--ISNUMBER(IFERROR(SEARCH(ProviderTable!$B$3,C776,1),\"\"))","v":1},{"$f":"IF(D776=1,COUNTIF($D$2:D776,1),\"\")","v":775},{"$f":"IFERROR(INDEX($C$2:$C$1024,MATCH(ROWS($E$2:E776),$E$2:$E$1024,0)),\"\")","v":"10028742 - SOCIAL ENTERPRISE KENT CIC"}]
[10022237,"SOFTMIST LIMITED","10022237 - SOFTMIST LIMITED",{"$f":"--ISNUMBER(IFERROR(SEARCH(ProviderTable!$B$3,C777,1),\"\"))","v":1},{"$f":"IF(D777=1,COUNTIF($D$2:D777,1),\"\")","v":776},{"$f":"IFERROR(INDEX($C$2:$C$1024,MATCH(ROWS($E$2:E777),$E$2:$E$1024,0)),\"\")","v":"10022237 - SOFTMIST LIMITED"}]
[10005946,"SOLIHULL COLLEGE","10005946 - SOLIHULL COLLEGE",{"$f":"--ISNUMBER(IFERROR(SEARCH(ProviderTable!$B$3,C778,1),\"\"))","v":1},{"$f":"IF(D778=1,COUNTIF($D$2:D778,1),\"\")","v":777},{"$f":"IFERROR(INDEX($C$2:$C$1024,MATCH(ROWS($E$2:E778),$E$2:$E$1024,0)),\"\")","v":"10005946 - SOLIHULL COLLEGE"}]
[10005956,"SOMERSET COLLEGE","10005956 - SOMERSET COLLEGE",{"$f":"--ISNUMBER(IFERROR(SEARCH(ProviderTable!$B$3,C779,1),\"\"))","v":1},{"$f":"IF(D779=1,COUNTIF($D$2:D779,1),\"\")","v":778},{"$f":"IFERROR(INDEX($C$2:$C$1024,MATCH(ROWS($E$2:E779),$E$2:$E$1024,0)),\"\")","v":"10005956 - SOMERSET COLLEGE"}]
[10005959,"SOMERSET COUNTY COUNCIL","10005959 - SOMERSET COUNTY COUNCIL",{"$f":"--ISNUMBER(IFERROR(SEARCH(ProviderTable!$B$3,C780,1),\"\"))","v":1},{"$f":"IF(D780=1,COUNTIF($D$2:D780,1),\"\")","v":779},{"$f":"IFERROR(INDEX($C$2:$C$1024,MATCH(ROWS($E$2:E780),$E$2:$E$1024,0)),\"\")","v":"10005959 - SOMERSET COUNTY COUNCIL"}]
[10042505,"SOMERSET SKILLS & LEARNING CIC","10042505 - SOMERSET SKILLS & LEARNING CIC",{"$f":"--ISNUMBER(IFERROR(SEARCH(ProviderTable!$B$3,C781,1),\"\"))","v":1},{"$f":"IF(D781=1,COUNTIF($D$2:D781,1),\"\")","v":780},{"$f":"IFERROR(INDEX($C$2:$C$1024,MATCH(ROWS($E$2:E781),$E$2:$E$1024,0)),\"\")","v":"10042505 - SOMERSET SKILLS & LEARNING CIC"}]
[10005967,"SOUTH & CITY COLLEGE BIRMINGHAM","10005967 - SOUTH & CITY COLLEGE BIRMINGHAM",{"$f":"--ISNUMBER(IFERROR(SEARCH(ProviderTable!$B$3,C782,1),\"\"))","v":1},{"$f":"IF(D782=1,COUNTIF($D$2:D782,1),\"\")","v":781},{"$f":"IFERROR(INDEX($C$2:$C$1024,MATCH(ROWS($E$2:E782),$E$2:$E$1024,0)),\"\")","v":"10005967 - SOUTH & CITY COLLEGE BIRMINGHAM"}]
[10005972,"SOUTH CHESHIRE COLLEGE","10005972 - SOUTH CHESHIRE COLLEGE",{"$f":"--ISNUMBER(IFERROR(SEARCH(ProviderTable!$B$3,C783,1),\"\"))","v":1},{"$f":"IF(D783=1,COUNTIF($D$2:D783,1),\"\")","v":782},{"$f":"IFERROR(INDEX($C$2:$C$1024,MATCH(ROWS($E$2:E783),$E$2:$E$1024,0)),\"\")","v":"10005972 - SOUTH CHESHIRE COLLEGE"}]
[10005977,"SOUTH DEVON COLLEGE","10005977 - SOUTH DEVON COLLEGE",{"$f":"--ISNUMBER(IFERROR(SEARCH(ProviderTable!$B$3,C784,1),\"\"))","v":1},{"$f":"IF(D784=1,COUNTIF($D$2:D784,1),\"\")","v":783},{"$f":"IFERROR(INDEX($C$2:$C$1024,MATCH(ROWS($E$2:E784),$E$2:$E$1024,0)),\"\")","v":"10005977 - SOUTH DEVON COLLEGE"}]
[10005979,"SOUTH DOWNS COLLEGE","10005979 - SOUTH DOWNS COLLEGE",{"$f":"--ISNUMBER(IFERROR(SEARCH(ProviderTable!$B$3,C785,1),\"\"))","v":1},{"$f":"IF(D785=1,COUNTIF($D$2:D785,1),\"\")","v":784},{"$f":"IFERROR(INDEX($C$2:$C$1024,MATCH(ROWS($E$2:E785),$E$2:$E$1024,0)),\"\")","v":"10005979 - SOUTH DOWNS COLLEGE"}]
[10005981,"SOUTH ESSEX COLLEGE OF FURTHER AND HIGHER EDUCATION","10005981 - SOUTH ESSEX COLLEGE OF FURTHER AND HIGHER EDUCATION",{"$f":"--ISNUMBER(IFERROR(SEARCH(ProviderTable!$B$3,C786,1),\"\"))","v":1},{"$f":"IF(D786=1,COUNTIF($D$2:D786,1),\"\")","v":785},{"$f":"IFERROR(INDEX($C$2:$C$1024,MATCH(ROWS($E$2:E786),$E$2:$E$1024,0)),\"\")","v":"10005981 - SOUTH ESSEX COLLEGE OF FURTHER AND HIGHER EDUCATION"}]
[10036143,"SOUTH GLOUCESTERSHIRE AND STROUD COLLEGE","10036143 - SOUTH GLOUCESTERSHIRE AND STROUD COLLEGE",{"$f":"--ISNUMBER(IFERROR(SEARCH(ProviderTable!$B$3,C787,1),\"\"))","v":1},{"$f":"IF(D787=1,COUNTIF($D$2:D787,1),\"\")","v":786},{"$f":"IFERROR(INDEX($C$2:$C$1024,MATCH(ROWS($E$2:E787),$E$2:$E$1024,0)),\"\")","v":"10036143 - SOUTH GLOUCESTERSHIRE AND STROUD COLLEGE"}]
[10005989,"SOUTH LEICESTERSHIRE COLLEGE","10005989 - SOUTH LEICESTERSHIRE COLLEGE",{"$f":"--ISNUMBER(IFERROR(SEARCH(ProviderTable!$B$3,C788,1),\"\"))","v":1},{"$f":"IF(D788=1,COUNTIF($D$2:D788,1),\"\")","v":787},{"$f":"IFERROR(INDEX($C$2:$C$1024,MATCH(ROWS($E$2:E788),$E$2:$E$1024,0)),\"\")","v":"10005989 - SOUTH LEICESTERSHIRE COLLEGE"}]
[10023526,"SOUTH STAFFORDSHIRE COLLEGE","10023526 - SOUTH STAFFORDSHIRE COLLEGE",{"$f":"--ISNUMBER(IFERROR(SEARCH(ProviderTable!$B$3,C789,1),\"\"))","v":1},{"$f":"IF(D789=1,COUNTIF($D$2:D789,1),\"\")","v":788},{"$f":"IFERROR(INDEX($C$2:$C$1024,MATCH(ROWS($E$2:E789),$E$2:$E$1024,0)),\"\")","v":"10023526 - SOUTH STAFFORDSHIRE COLLEGE"}]
[10005997,"SOUTH THAMES COLLEGE","10005997 - SOUTH THAMES COLLEGE",{"$f":"--ISNUMBER(IFERROR(SEARCH(ProviderTable!$B$3,C790,1),\"\"))","v":1},{"$f":"IF(D790=1,COUNTIF($D$2:D790,1),\"\")","v":789},{"$f":"IFERROR(INDEX($C$2:$C$1024,MATCH(ROWS($E$2:E790),$E$2:$E$1024,0)),\"\")","v":"10005997 - SOUTH THAMES COLLEGE"}]
[10005999,"SOUTH TYNESIDE COLLEGE","10005999 - SOUTH TYNESIDE COLLEGE",{"$f":"--ISNUMBER(IFERROR(SEARCH(ProviderTable!$B$3,C791,1),\"\"))","v":1},{"$f":"IF(D791=1,COUNTIF($D$2:D791,1),\"\")","v":790},{"$f":"IFERROR(INDEX($C$2:$C$1024,MATCH(ROWS($E$2:E791),$E$2:$E$1024,0)),\"\")","v":"10005999 - SOUTH TYNESIDE COLLEGE"}]
[10006000,"SOUTH TYNESIDE COUNCIL","10006000 - SOUTH TYNESIDE COUNCIL",{"$f":"--ISNUMBER(IFERROR(SEARCH(ProviderTable!$B$3,C792,1),\"\"))","v":1},{"$f":"IF(D792=1,COUNTIF($D$2:D792,1),\"\")","v":791},{"$f":"IFERROR(INDEX($C$2:$C$1024,MATCH(ROWS($E$2:E792),$E$2:$E$1024,0)),\"\")","v":"10006000 - SOUTH TYNESIDE COUNCIL"}]
[10032119,"SOUTH WEST ASSOCIATION OF TRAINING PROVIDERS LIMITED","10032119 - SOUTH WEST ASSOCIATION OF TRAINING PROVIDERS LIMITED",{"$f":"--ISNUMBER(IFERROR(SEARCH(ProviderTable!$B$3,C793,1),\"\"))","v":1},{"$f":"IF(D793=1,COUNTIF($D$2:D793,1),\"\")","v":792},{"$f":"IFERROR(INDEX($C$2:$C$1024,MATCH(ROWS($E$2:E793),$E$2:$E$1024,0)),\"\")","v":"10032119 - SOUTH WEST ASSOCIATION OF TRAINING PROVIDERS LIMITED"}]
[10007872,"SOUTH WEST REGIONAL ASSESSMENT CENTRE LIMITED","10007872 - SOUTH WEST REGIONAL ASSESSMENT CENTRE LIMITED",{"$f":"--ISNUMBER(IFERROR(SEARCH(ProviderTable!$B$3,C794,1),\"\"))","v":1},{"$f":"IF(D794=1,COUNTIF($D$2:D794,1),\"\")","v":793},{"$f":"IFERROR(INDEX($C$2:$C$1024,MATCH(ROWS($E$2:E794),$E$2:$E$1024,0)),\"\")","v":"10007872 - SOUTH WEST REGIONAL ASSESSMENT CENTRE LIMITED"}]
[10002356,"SOUTH WORCESTERSHIRE COLLEGE","10002356 - SOUTH WORCESTERSHIRE COLLEGE",{"$f":"--ISNUMBER(IFERROR(SEARCH(ProviderTable!$B$3,C795,1),\"\"))","v":1},{"$f":"IF(D795=1,COUNTIF($D$2:D795,1),\"\")","v":794},{"$f":"IFERROR(INDEX($C$2:$C$1024,MATCH(ROWS($E$2:E795),$E$2:$E$1024,0)),\"\")","v":"10002356 - SOUTH WORCESTERSHIRE COLLEGE"}]
[10006020,"SOUTHAMPTON CITY COLLEGE","10006020 - SOUTHAMPTON CITY COLLEGE",{"$f":"--ISNUMBER(IFERROR(SEARCH(ProviderTable!$B$3,C796,1),\"\"))","v":1},{"$f":"IF(D796=1,COUNTIF($D$2:D796,1),\"\")","v":795},{"$f":"IFERROR(INDEX($C$2:$C$1024,MATCH(ROWS($E$2:E796),$E$2:$E$1024,0)),\"\")","v":"10006020 - SOUTHAMPTON CITY COLLEGE"}]
[10006021,"SOUTHAMPTON CITY COUNCIL","10006021 - SOUTHAMPTON CITY COUNCIL",{"$f":"--ISNUMBER(IFERROR(SEARCH(ProviderTable!$B$3,C797,1),\"\"))","v":1},{"$f":"IF(D797=1,COUNTIF($D$2:D797,1),\"\")","v":796},{"$f":"IFERROR(INDEX($C$2:$C$1024,MATCH(ROWS($E$2:E797),$E$2:$E$1024,0)),\"\")","v":"10006021 - SOUTHAMPTON CITY COUNCIL"}]
[10005760,"SOUTHAMPTON ENGINEERING TRAINING ASSOCIATION LIMITED (THE)","10005760 - SOUTHAMPTON ENGINEERING TRAINING ASSOCIATION LIMITED (THE)",{"$f":"--ISNUMBER(IFERROR(SEARCH(ProviderTable!$B$3,C798,1),\"\"))","v":1},{"$f":"IF(D798=1,COUNTIF($D$2:D798,1),\"\")","v":797},{"$f":"IFERROR(INDEX($C$2:$C$1024,MATCH(ROWS($E$2:E798),$E$2:$E$1024,0)),\"\")","v":"10005760 - SOUTHAMPTON ENGINEERING TRAINING ASSOCIATION LIMITED (THE)"}]
[10006029,"SOUTHEND-ON-SEA BOROUGH COUNCIL","10006029 - SOUTHEND-ON-SEA BOROUGH COUNCIL",{"$f":"--ISNUMBER(IFERROR(SEARCH(ProviderTable!$B$3,C799,1),\"\"))","v":1},{"$f":"IF(D799=1,COUNTIF($D$2:D799,1),\"\")","v":798},{"$f":"IFERROR(INDEX($C$2:$C$1024,MATCH(ROWS($E$2:E799),$E$2:$E$1024,0)),\"\")","v":"10006029 - SOUTHEND-ON-SEA BOROUGH COUNCIL"}]
[10006038,"SOUTHPORT COLLEGE","10006038 - SOUTHPORT COLLEGE",{"$f":"--ISNUMBER(IFERROR(SEARCH(ProviderTable!$B$3,C800,1),\"\"))","v":1},{"$f":"IF(D800=1,COUNTIF($D$2:D800,1),\"\")","v":799},{"$f":"IFERROR(INDEX($C$2:$C$1024,MATCH(ROWS($E$2:E800),$E$2:$E$1024,0)),\"\")","v":"10006038 - SOUTHPORT COLLEGE"}]
[10006042,"SOUTHWARK LONDON BOROUGH COUNCIL","10006042 - SOUTHWARK LONDON BOROUGH COUNCIL",{"$f":"--ISNUMBER(IFERROR(SEARCH(ProviderTable!$B$3,C801,1),\"\"))","v":1},{"$f":"IF(D801=1,COUNTIF($D$2:D801,1),\"\")","v":800},{"$f":"IFERROR(INDEX($C$2:$C$1024,MATCH(ROWS($E$2:E801),$E$2:$E$1024,0)),\"\")","v":"10006042 - SOUTHWARK LONDON BOROUGH COUNCIL"}]
[10009091,"SPAN TRAINING & DEVELOPMENT LIMITED","10009091 - SPAN TRAINING & DEVELOPMENT LIMITED",{"$f":"--ISNUMBER(IFERROR(SEARCH(ProviderTable!$B$3,C802,1),\"\"))","v":1},{"$f":"IF(D802=1,COUNTIF($D$2:D802,1),\"\")","v":801},{"$f":"IFERROR(INDEX($C$2:$C$1024,MATCH(ROWS($E$2:E802),$E$2:$E$1024,0)),\"\")","v":"10009091 - SPAN TRAINING & DEVELOPMENT LIMITED"}]
[10006050,"SPARSHOLT COLLEGE","10006050 - SPARSHOLT COLLEGE",{"$f":"--ISNUMBER(IFERROR(SEARCH(ProviderTable!$B$3,C803,1),\"\"))","v":1},{"$f":"IF(D803=1,COUNTIF($D$2:D803,1),\"\")","v":802},{"$f":"IFERROR(INDEX($C$2:$C$1024,MATCH(ROWS($E$2:E803),$E$2:$E$1024,0)),\"\")","v":"10006050 - SPARSHOLT COLLEGE"}]
[10032147,"SPECIALIST TRADE COURSES LIMITED","10032147 - SPECIALIST TRADE COURSES LIMITED",{"$f":"--ISNUMBER(IFERROR(SEARCH(ProviderTable!$B$3,C804,1),\"\"))","v":1},{"$f":"IF(D804=1,COUNTIF($D$2:D804,1),\"\")","v":803},{"$f":"IFERROR(INDEX($C$2:$C$1024,MATCH(ROWS($E$2:E804),$E$2:$E$1024,0)),\"\")","v":"10032147 - SPECIALIST TRADE COURSES LIMITED"}]
[10042132,"SPECSAVERS OPTICAL SUPERSTORES LIMITED","10042132 - SPECSAVERS OPTICAL SUPERSTORES LIMITED",{"$f":"--ISNUMBER(IFERROR(SEARCH(ProviderTable!$B$3,C805,1),\"\"))","v":1},{"$f":"IF(D805=1,COUNTIF($D$2:D805,1),\"\")","v":804},{"$f":"IFERROR(INDEX($C$2:$C$1024,MATCH(ROWS($E$2:E805),$E$2:$E$1024,0)),\"\")","v":"10042132 - SPECSAVERS OPTICAL SUPERSTORES LIMITED"}]
[10034192,"SPIRIT PUB COMPANY (SERVICES) LIMITED","10034192 - SPIRIT PUB COMPANY (SERVICES) LIMITED",{"$f":"--ISNUMBER(IFERROR(SEARCH(ProviderTable!$B$3,C806,1),\"\"))","v":1},{"$f":"IF(D806=1,COUNTIF($D$2:D806,1),\"\")","v":805},{"$f":"IFERROR(INDEX($C$2:$C$1024,MATCH(ROWS($E$2:E806),$E$2:$E$1024,0)),\"\")","v":"10034192 - SPIRIT PUB COMPANY (SERVICES) LIMITED"}]
[10006086,"SPRINGBOARD SUNDERLAND TRUST","10006086 - SPRINGBOARD SUNDERLAND TRUST",{"$f":"--ISNUMBER(IFERROR(SEARCH(ProviderTable!$B$3,C807,1),\"\"))","v":1},{"$f":"IF(D807=1,COUNTIF($D$2:D807,1),\"\")","v":806},{"$f":"IFERROR(INDEX($C$2:$C$1024,MATCH(ROWS($E$2:E807),$E$2:$E$1024,0)),\"\")","v":"10006086 - SPRINGBOARD SUNDERLAND TRUST"}]
[10010548,"SPRINGFIELDS FUELS LIMITED","10010548 - SPRINGFIELDS FUELS LIMITED",{"$f":"--ISNUMBER(IFERROR(SEARCH(ProviderTable!$B$3,C808,1),\"\"))","v":1},{"$f":"IF(D808=1,COUNTIF($D$2:D808,1),\"\")","v":807},{"$f":"IFERROR(INDEX($C$2:$C$1024,MATCH(ROWS($E$2:E808),$E$2:$E$1024,0)),\"\")","v":"10010548 - SPRINGFIELDS FUELS LIMITED"}]
[10023368,"SSE SERVICES PLC","10023368 - SSE SERVICES PLC",{"$f":"--ISNUMBER(IFERROR(SEARCH(ProviderTable!$B$3,C809,1),\"\"))","v":1},{"$f":"IF(D809=1,COUNTIF($D$2:D809,1),\"\")","v":808},{"$f":"IFERROR(INDEX($C$2:$C$1024,MATCH(ROWS($E$2:E809),$E$2:$E$1024,0)),\"\")","v":"10023368 - SSE SERVICES PLC"}]
[10006159,"ST ELIZABETH'S COLLEGE (THE CONGREGATION OF THE DAUGHTERS OF THE CROSS OF THE LIEGE)","10006159 - ST ELIZABETH'S COLLEGE (THE CONGREGATION OF THE DAUGHTERS OF THE CROSS OF THE LIEGE)",{"$f":"--ISNUMBER(IFERROR(SEARCH(ProviderTable!$B$3,C810,1),\"\"))","v":1},{"$f":"IF(D810=1,COUNTIF($D$2:D810,1),\"\")","v":809},{"$f":"IFERROR(INDEX($C$2:$C$1024,MATCH(ROWS($E$2:E810),$E$2:$E$1024,0)),\"\")","v":"10006159 - ST ELIZABETH'S COLLEGE (THE CONGREGATION OF THE DAUGHTERS OF THE CROSS OF THE LIEGE)"}]
[10006173,"ST HELENS CHAMBER LIMITED","10006173 - ST HELENS CHAMBER LIMITED",{"$f":"--ISNUMBER(IFERROR(SEARCH(ProviderTable!$B$3,C811,1),\"\"))","v":1},{"$f":"IF(D811=1,COUNTIF($D$2:D811,1),\"\")","v":810},{"$f":"IFERROR(INDEX($C$2:$C$1024,MATCH(ROWS($E$2:E811),$E$2:$E$1024,0)),\"\")","v":"10006173 - ST HELENS CHAMBER LIMITED"}]
[10006174,"ST HELENS COLLEGE","10006174 - ST HELENS COLLEGE",{"$f":"--ISNUMBER(IFERROR(SEARCH(ProviderTable!$B$3,C812,1),\"\"))","v":1},{"$f":"IF(D812=1,COUNTIF($D$2:D812,1),\"\")","v":811},{"$f":"IFERROR(INDEX($C$2:$C$1024,MATCH(ROWS($E$2:E812),$E$2:$E$1024,0)),\"\")","v":"10006174 - ST HELENS COLLEGE"}]
[10006175,"ST HELENS METROPOLITAN BOROUGH COUNCIL","10006175 - ST HELENS METROPOLITAN BOROUGH COUNCIL",{"$f":"--ISNUMBER(IFERROR(SEARCH(ProviderTable!$B$3,C813,1),\"\"))","v":1},{"$f":"IF(D813=1,COUNTIF($D$2:D813,1),\"\")","v":812},{"$f":"IFERROR(INDEX($C$2:$C$1024,MATCH(ROWS($E$2:E813),$E$2:$E$1024,0)),\"\")","v":"10006175 - ST HELENS METROPOLITAN BOROUGH COUNCIL"}]
[10006199,"ST JOHN'S SCHOOL AND COLLEGE","10006199 - ST JOHN'S SCHOOL AND COLLEGE",{"$f":"--ISNUMBER(IFERROR(SEARCH(ProviderTable!$B$3,C814,1),\"\"))","v":1},{"$f":"IF(D814=1,COUNTIF($D$2:D814,1),\"\")","v":813},{"$f":"IFERROR(INDEX($C$2:$C$1024,MATCH(ROWS($E$2:E814),$E$2:$E$1024,0)),\"\")","v":"10006199 - ST JOHN'S SCHOOL AND COLLEGE"}]
[10006226,"ST MARY'S COLLEGE","10006226 - ST MARY'S COLLEGE",{"$f":"--ISNUMBER(IFERROR(SEARCH(ProviderTable!$B$3,C815,1),\"\"))","v":1},{"$f":"IF(D815=1,COUNTIF($D$2:D815,1),\"\")","v":814},{"$f":"IFERROR(INDEX($C$2:$C$1024,MATCH(ROWS($E$2:E815),$E$2:$E$1024,0)),\"\")","v":"10006226 - ST MARY'S COLLEGE"}]
[10006245,"ST PAUL'S","10006245 - ST PAUL'S",{"$f":"--ISNUMBER(IFERROR(SEARCH(ProviderTable!$B$3,C816,1),\"\"))","v":1},{"$f":"IF(D816=1,COUNTIF($D$2:D816,1),\"\")","v":815},{"$f":"IFERROR(INDEX($C$2:$C$1024,MATCH(ROWS($E$2:E816),$E$2:$E$1024,0)),\"\")","v":"10006245 - ST PAUL'S"}]
[10006268,"ST VINCENT COLLEGE","10006268 - ST VINCENT COLLEGE",{"$f":"--ISNUMBER(IFERROR(SEARCH(ProviderTable!$B$3,C817,1),\"\"))","v":1},{"$f":"IF(D817=1,COUNTIF($D$2:D817,1),\"\")","v":816},{"$f":"IFERROR(INDEX($C$2:$C$1024,MATCH(ROWS($E$2:E817),$E$2:$E$1024,0)),\"\")","v":"10006268 - ST VINCENT COLLEGE"}]
[10027272,"STAFF SELECT LTD","10027272 - STAFF SELECT LTD",{"$f":"--ISNUMBER(IFERROR(SEARCH(ProviderTable!$B$3,C818,1),\"\"))","v":1},{"$f":"IF(D818=1,COUNTIF($D$2:D818,1),\"\")","v":817},{"$f":"IFERROR(INDEX($C$2:$C$1024,MATCH(ROWS($E$2:E818),$E$2:$E$1024,0)),\"\")","v":"10027272 - STAFF SELECT LTD"}]
[10032018,"STAFFLINE RECRUITMENT LIMITED","10032018 - STAFFLINE RECRUITMENT LIMITED",{"$f":"--ISNUMBER(IFERROR(SEARCH(ProviderTable!$B$3,C819,1),\"\"))","v":1},{"$f":"IF(D819=1,COUNTIF($D$2:D819,1),\"\")","v":818},{"$f":"IFERROR(INDEX($C$2:$C$1024,MATCH(ROWS($E$2:E819),$E$2:$E$1024,0)),\"\")","v":"10032018 - STAFFLINE RECRUITMENT LIMITED"}]
[10006293,"STAFFORD COLLEGE","10006293 - STAFFORD COLLEGE",{"$f":"--ISNUMBER(IFERROR(SEARCH(ProviderTable!$B$3,C820,1),\"\"))","v":1},{"$f":"IF(D820=1,COUNTIF($D$2:D820,1),\"\")","v":819},{"$f":"IFERROR(INDEX($C$2:$C$1024,MATCH(ROWS($E$2:E820),$E$2:$E$1024,0)),\"\")","v":"10006293 - STAFFORD COLLEGE"}]
[10006296,"STAFFORDSHIRE COUNTY COUNCIL","10006296 - STAFFORDSHIRE COUNTY COUNCIL",{"$f":"--ISNUMBER(IFERROR(SEARCH(ProviderTable!$B$3,C821,1),\"\"))","v":1},{"$f":"IF(D821=1,COUNTIF($D$2:D821,1),\"\")","v":820},{"$f":"IFERROR(INDEX($C$2:$C$1024,MATCH(ROWS($E$2:E821),$E$2:$E$1024,0)),\"\")","v":"10006296 - STAFFORDSHIRE COUNTY COUNCIL"}]
[10009439,"STANMORE COLLEGE","10009439 - STANMORE COLLEGE",{"$f":"--ISNUMBER(IFERROR(SEARCH(ProviderTable!$B$3,C822,1),\"\"))","v":1},{"$f":"IF(D822=1,COUNTIF($D$2:D822,1),\"\")","v":821},{"$f":"IFERROR(INDEX($C$2:$C$1024,MATCH(ROWS($E$2:E822),$E$2:$E$1024,0)),\"\")","v":"10009439 - STANMORE COLLEGE"}]
[10019839,"START TRAINING LTD","10019839 - START TRAINING LTD",{"$f":"--ISNUMBER(IFERROR(SEARCH(ProviderTable!$B$3,C823,1),\"\"))","v":1},{"$f":"IF(D823=1,COUNTIF($D$2:D823,1),\"\")","v":822},{"$f":"IFERROR(INDEX($C$2:$C$1024,MATCH(ROWS($E$2:E823),$E$2:$E$1024,0)),\"\")","v":"10019839 - START TRAINING LTD"}]
[10027655,"STARTING OFF (NORTHAMPTON) LIMITED","10027655 - STARTING OFF (NORTHAMPTON) LIMITED",{"$f":"--ISNUMBER(IFERROR(SEARCH(ProviderTable!$B$3,C824,1),\"\"))","v":1},{"$f":"IF(D824=1,COUNTIF($D$2:D824,1),\"\")","v":823},{"$f":"IFERROR(INDEX($C$2:$C$1024,MATCH(ROWS($E$2:E824),$E$2:$E$1024,0)),\"\")","v":"10027655 - STARTING OFF (NORTHAMPTON) LIMITED"}]
[10018942,"STEADFAST TRAINING LTD","10018942 - STEADFAST TRAINING LTD",{"$f":"--ISNUMBER(IFERROR(SEARCH(ProviderTable!$B$3,C825,1),\"\"))","v":1},{"$f":"IF(D825=1,COUNTIF($D$2:D825,1),\"\")","v":824},{"$f":"IFERROR(INDEX($C$2:$C$1024,MATCH(ROWS($E$2:E825),$E$2:$E$1024,0)),\"\")","v":"10018942 - STEADFAST TRAINING LTD"}]
[10006322,"STEPHENSON COLLEGE","10006322 - STEPHENSON COLLEGE",{"$f":"--ISNUMBER(IFERROR(SEARCH(ProviderTable!$B$3,C826,1),\"\"))","v":1},{"$f":"IF(D826=1,COUNTIF($D$2:D826,1),\"\")","v":825},{"$f":"IFERROR(INDEX($C$2:$C$1024,MATCH(ROWS($E$2:E826),$E$2:$E$1024,0)),\"\")","v":"10006322 - STEPHENSON COLLEGE"}]
[10008530,"STEVE WALKER ASSOCIATES (UK) LIMITED","10008530 - STEVE WALKER ASSOCIATES (UK) LIMITED",{"$f":"--ISNUMBER(IFERROR(SEARCH(ProviderTable!$B$3,C827,1),\"\"))","v":1},{"$f":"IF(D827=1,COUNTIF($D$2:D827,1),\"\")","v":826},{"$f":"IFERROR(INDEX($C$2:$C$1024,MATCH(ROWS($E$2:E827),$E$2:$E$1024,0)),\"\")","v":"10008530 - STEVE WALKER ASSOCIATES (UK) LIMITED"}]
[10006331,"STOCKPORT COLLEGE","10006331 - STOCKPORT COLLEGE",{"$f":"--ISNUMBER(IFERROR(SEARCH(ProviderTable!$B$3,C828,1),\"\"))","v":1},{"$f":"IF(D828=1,COUNTIF($D$2:D828,1),\"\")","v":827},{"$f":"IFERROR(INDEX($C$2:$C$1024,MATCH(ROWS($E$2:E828),$E$2:$E$1024,0)),\"\")","v":"10006331 - STOCKPORT COLLEGE"}]
[10006332,"STOCKPORT ENGINEERING TRAINING ASSOCIATION LIMITED(THE)","10006332 - STOCKPORT ENGINEERING TRAINING ASSOCIATION LIMITED(THE)",{"$f":"--ISNUMBER(IFERROR(SEARCH(ProviderTable!$B$3,C829,1),\"\"))","v":1},{"$f":"IF(D829=1,COUNTIF($D$2:D829,1),\"\")","v":828},{"$f":"IFERROR(INDEX($C$2:$C$1024,MATCH(ROWS($E$2:E829),$E$2:$E$1024,0)),\"\")","v":"10006332 - STOCKPORT ENGINEERING TRAINING ASSOCIATION LIMITED(THE)"}]
[10006335,"STOCKPORT METROPOLITAN BOROUGH COUNCIL","10006335 - STOCKPORT METROPOLITAN BOROUGH COUNCIL",{"$f":"--ISNUMBER(IFERROR(SEARCH(ProviderTable!$B$3,C830,1),\"\"))","v":1},{"$f":"IF(D830=1,COUNTIF($D$2:D830,1),\"\")","v":829},{"$f":"IFERROR(INDEX($C$2:$C$1024,MATCH(ROWS($E$2:E830),$E$2:$E$1024,0)),\"\")","v":"10006335 - STOCKPORT METROPOLITAN BOROUGH COUNCIL"}]
[10006341,"STOCKTON RIVERSIDE COLLEGE","10006341 - STOCKTON RIVERSIDE COLLEGE",{"$f":"--ISNUMBER(IFERROR(SEARCH(ProviderTable!$B$3,C831,1),\"\"))","v":1},{"$f":"IF(D831=1,COUNTIF($D$2:D831,1),\"\")","v":830},{"$f":"IFERROR(INDEX($C$2:$C$1024,MATCH(ROWS($E$2:E831),$E$2:$E$1024,0)),\"\")","v":"10006341 - STOCKTON RIVERSIDE COLLEGE"}]
[10006337,"STOCKTON-ON-TEES BOROUGH COUNCIL","10006337 - STOCKTON-ON-TEES BOROUGH COUNCIL",{"$f":"--ISNUMBER(IFERROR(SEARCH(ProviderTable!$B$3,C832,1),\"\"))","v":1},{"$f":"IF(D832=1,COUNTIF($D$2:D832,1),\"\")","v":831},{"$f":"IFERROR(INDEX($C$2:$C$1024,MATCH(ROWS($E$2:E832),$E$2:$E$1024,0)),\"\")","v":"10006337 - STOCKTON-ON-TEES BOROUGH COUNCIL"}]
[10006349,"STOKE ON TRENT COLLEGE","10006349 - STOKE ON TRENT COLLEGE",{"$f":"--ISNUMBER(IFERROR(SEARCH(ProviderTable!$B$3,C833,1),\"\"))","v":1},{"$f":"IF(D833=1,COUNTIF($D$2:D833,1),\"\")","v":832},{"$f":"IFERROR(INDEX($C$2:$C$1024,MATCH(ROWS($E$2:E833),$E$2:$E$1024,0)),\"\")","v":"10006349 - STOKE ON TRENT COLLEGE"}]
[10001473,"STOKE-ON-TRENT UNITARY AUTHORITY","10001473 - STOKE-ON-TRENT UNITARY AUTHORITY",{"$f":"--ISNUMBER(IFERROR(SEARCH(ProviderTable!$B$3,C834,1),\"\"))","v":1},{"$f":"IF(D834=1,COUNTIF($D$2:D834,1),\"\")","v":833},{"$f":"IFERROR(INDEX($C$2:$C$1024,MATCH(ROWS($E$2:E834),$E$2:$E$1024,0)),\"\")","v":"10001473 - STOKE-ON-TRENT UNITARY AUTHORITY"}]
[10006365,"STRAIGHT A TRAINING LIMITED",{"$f":"A835&\" - \"&B835","v":"10006365 - STRAIGHT A TRAINING LIMITED"},{"$f":"--ISNUMBER(IFERROR(SEARCH(ProviderTable!$B$3,C835,1),\"\"))","v":1},{"$f":"IF(D835=1,COUNTIF($D$2:D835,1),\"\")","v":834},{"$f":"IFERROR(INDEX($C$2:$C$1024,MATCH(ROWS($E$2:E835),$E$2:$E$1024,0)),\"\")","v":"10006365 - STRAIGHT A TRAINING LIMITED"}]
[10006002,"STRATFORD-UPON-AVON COLLEGE","10006002 - STRATFORD-UPON-AVON COLLEGE",{"$f":"--ISNUMBER(IFERROR(SEARCH(ProviderTable!$B$3,C836,1),\"\"))","v":1},{"$f":"IF(D836=1,COUNTIF($D$2:D836,1),\"\")","v":835},{"$f":"IFERROR(INDEX($C$2:$C$1024,MATCH(ROWS($E$2:E836),$E$2:$E$1024,0)),\"\")","v":"10006002 - STRATFORD-UPON-AVON COLLEGE"}]
[10006374,"STRATHMORE COLLEGE","10006374 - STRATHMORE COLLEGE",{"$f":"--ISNUMBER(IFERROR(SEARCH(ProviderTable!$B$3,C837,1),\"\"))","v":1},{"$f":"IF(D837=1,COUNTIF($D$2:D837,1),\"\")","v":836},{"$f":"IFERROR(INDEX($C$2:$C$1024,MATCH(ROWS($E$2:E837),$E$2:$E$1024,0)),\"\")","v":"10006374 - STRATHMORE COLLEGE"}]
[10006378,"STRODE COLLEGE","10006378 - STRODE COLLEGE",{"$f":"--ISNUMBER(IFERROR(SEARCH(ProviderTable!$B$3,C838,1),\"\"))","v":1},{"$f":"IF(D838=1,COUNTIF($D$2:D838,1),\"\")","v":837},{"$f":"IFERROR(INDEX($C$2:$C$1024,MATCH(ROWS($E$2:E838),$E$2:$E$1024,0)),\"\")","v":"10006378 - STRODE COLLEGE"}]
[10006379,"STRODE'S COLLEGE","10006379 - STRODE'S COLLEGE",{"$f":"--ISNUMBER(IFERROR(SEARCH(ProviderTable!$B$3,C839,1),\"\"))","v":1},{"$f":"IF(D839=1,COUNTIF($D$2:D839,1),\"\")","v":838},{"$f":"IFERROR(INDEX($C$2:$C$1024,MATCH(ROWS($E$2:E839),$E$2:$E$1024,0)),\"\")","v":"10006379 - STRODE'S COLLEGE"}]
[10006387,"STUBBING COURT TRAINING LIMITED","10006387 - STUBBING COURT TRAINING LIMITED",{"$f":"--ISNUMBER(IFERROR(SEARCH(ProviderTable!$B$3,C840,1),\"\"))","v":1},{"$f":"IF(D840=1,COUNTIF($D$2:D840,1),\"\")","v":839},{"$f":"IFERROR(INDEX($C$2:$C$1024,MATCH(ROWS($E$2:E840),$E$2:$E$1024,0)),\"\")","v":"10006387 - STUBBING COURT TRAINING LIMITED"}]
[10033478,"SUCCEED LIMITED","10033478 - SUCCEED LIMITED",{"$f":"--ISNUMBER(IFERROR(SEARCH(ProviderTable!$B$3,C841,1),\"\"))","v":1},{"$f":"IF(D841=1,COUNTIF($D$2:D841,1),\"\")","v":840},{"$f":"IFERROR(INDEX($C$2:$C$1024,MATCH(ROWS($E$2:E841),$E$2:$E$1024,0)),\"\")","v":"10033478 - SUCCEED LIMITED"}]
[10006399,"SUFFOLK COUNTY COUNCIL","10006399 - SUFFOLK COUNTY COUNCIL",{"$f":"--ISNUMBER(IFERROR(SEARCH(ProviderTable!$B$3,C842,1),\"\"))","v":1},{"$f":"IF(D842=1,COUNTIF($D$2:D842,1),\"\")","v":841},{"$f":"IFERROR(INDEX($C$2:$C$1024,MATCH(ROWS($E$2:E842),$E$2:$E$1024,0)),\"\")","v":"10006399 - SUFFOLK COUNTY COUNCIL"}]
[10006398,"SUFFOLK NEW COLLEGE","10006398 - SUFFOLK NEW COLLEGE",{"$f":"--ISNUMBER(IFERROR(SEARCH(ProviderTable!$B$3,C843,1),\"\"))","v":1},{"$f":"IF(D843=1,COUNTIF($D$2:D843,1),\"\")","v":842},{"$f":"IFERROR(INDEX($C$2:$C$1024,MATCH(ROWS($E$2:E843),$E$2:$E$1024,0)),\"\")","v":"10006398 - SUFFOLK NEW COLLEGE"}]
[10043685,"SUMMERHOUSE EQUESTRIAN AND TRAINING CENTRE LLP","10043685 - SUMMERHOUSE EQUESTRIAN AND TRAINING CENTRE LLP",{"$f":"--ISNUMBER(IFERROR(SEARCH(ProviderTable!$B$3,C844,1),\"\"))","v":1},{"$f":"IF(D844=1,COUNTIF($D$2:D844,1),\"\")","v":843},{"$f":"IFERROR(INDEX($C$2:$C$1024,MATCH(ROWS($E$2:E844),$E$2:$E$1024,0)),\"\")","v":"10043685 - SUMMERHOUSE EQUESTRIAN AND TRAINING CENTRE LLP"}]
[10006407,"SUNDERLAND CITY METROPOLITAN BOROUGH COUNCIL","10006407 - SUNDERLAND CITY METROPOLITAN BOROUGH COUNCIL",{"$f":"--ISNUMBER(IFERROR(SEARCH(ProviderTable!$B$3,C845,1),\"\"))","v":1},{"$f":"IF(D845=1,COUNTIF($D$2:D845,1),\"\")","v":844},{"$f":"IFERROR(INDEX($C$2:$C$1024,MATCH(ROWS($E$2:E845),$E$2:$E$1024,0)),\"\")","v":"10006407 - SUNDERLAND CITY METROPOLITAN BOROUGH COUNCIL"}]
[10001475,"SUNDERLAND COLLEGE","10001475 - SUNDERLAND COLLEGE",{"$f":"--ISNUMBER(IFERROR(SEARCH(ProviderTable!$B$3,C846,1),\"\"))","v":1},{"$f":"IF(D846=1,COUNTIF($D$2:D846,1),\"\")","v":845},{"$f":"IFERROR(INDEX($C$2:$C$1024,MATCH(ROWS($E$2:E846),$E$2:$E$1024,0)),\"\")","v":"10001475 - SUNDERLAND COLLEGE"}]
[10006408,"SUNDERLAND ENGINEERING TRAINING ASSOCIATION LIMITED","10006408 - SUNDERLAND ENGINEERING TRAINING ASSOCIATION LIMITED",{"$f":"--ISNUMBER(IFERROR(SEARCH(ProviderTable!$B$3,C847,1),\"\"))","v":1},{"$f":"IF(D847=1,COUNTIF($D$2:D847,1),\"\")","v":846},{"$f":"IFERROR(INDEX($C$2:$C$1024,MATCH(ROWS($E$2:E847),$E$2:$E$1024,0)),\"\")","v":"10006408 - SUNDERLAND ENGINEERING TRAINING ASSOCIATION LIMITED"}]
[10020811,"SUPERDRUG STORES PLC","10020811 - SUPERDRUG STORES PLC",{"$f":"--ISNUMBER(IFERROR(SEARCH(ProviderTable!$B$3,C848,1),\"\"))","v":1},{"$f":"IF(D848=1,COUNTIF($D$2:D848,1),\"\")","v":847},{"$f":"IFERROR(INDEX($C$2:$C$1024,MATCH(ROWS($E$2:E848),$E$2:$E$1024,0)),\"\")","v":"10020811 - SUPERDRUG STORES PLC"}]
[10006426,"SURREY COUNTY COUNCIL","10006426 - SURREY COUNTY COUNCIL",{"$f":"--ISNUMBER(IFERROR(SEARCH(ProviderTable!$B$3,C849,1),\"\"))","v":1},{"$f":"IF(D849=1,COUNTIF($D$2:D849,1),\"\")","v":848},{"$f":"IFERROR(INDEX($C$2:$C$1024,MATCH(ROWS($E$2:E849),$E$2:$E$1024,0)),\"\")","v":"10006426 - SURREY COUNTY COUNCIL"}]
[10002923,"SUSSEX COAST COLLEGE HASTINGS","10002923 - SUSSEX COAST COLLEGE HASTINGS",{"$f":"--ISNUMBER(IFERROR(SEARCH(ProviderTable!$B$3,C850,1),\"\"))","v":1},{"$f":"IF(D850=1,COUNTIF($D$2:D850,1),\"\")","v":849},{"$f":"IFERROR(INDEX($C$2:$C$1024,MATCH(ROWS($E$2:E850),$E$2:$E$1024,0)),\"\")","v":"10002923 - SUSSEX COAST COLLEGE HASTINGS"}]
[10006432,"SUSSEX DOWNS COLLEGE","10006432 - SUSSEX DOWNS COLLEGE",{"$f":"--ISNUMBER(IFERROR(SEARCH(ProviderTable!$B$3,C851,1),\"\"))","v":1},{"$f":"IF(D851=1,COUNTIF($D$2:D851,1),\"\")","v":850},{"$f":"IFERROR(INDEX($C$2:$C$1024,MATCH(ROWS($E$2:E851),$E$2:$E$1024,0)),\"\")","v":"10006432 - SUSSEX DOWNS COLLEGE"}]
[10006458,"SWARTHMORE EDUCATION CENTRE","10006458 - SWARTHMORE EDUCATION CENTRE",{"$f":"--ISNUMBER(IFERROR(SEARCH(ProviderTable!$B$3,C852,1),\"\"))","v":1},{"$f":"IF(D852=1,COUNTIF($D$2:D852,1),\"\")","v":851},{"$f":"IFERROR(INDEX($C$2:$C$1024,MATCH(ROWS($E$2:E852),$E$2:$E$1024,0)),\"\")","v":"10006458 - SWARTHMORE EDUCATION CENTRE"}]
[10006463,"SWINDON COLLEGE","10006463 - SWINDON COLLEGE",{"$f":"--ISNUMBER(IFERROR(SEARCH(ProviderTable!$B$3,C853,1),\"\"))","v":1},{"$f":"IF(D853=1,COUNTIF($D$2:D853,1),\"\")","v":852},{"$f":"IFERROR(INDEX($C$2:$C$1024,MATCH(ROWS($E$2:E853),$E$2:$E$1024,0)),\"\")","v":"10006463 - SWINDON COLLEGE"}]
[10006462,"SWINDON UNITARY AUTHORITY","10006462 - SWINDON UNITARY AUTHORITY",{"$f":"--ISNUMBER(IFERROR(SEARCH(ProviderTable!$B$3,C854,1),\"\"))","v":1},{"$f":"IF(D854=1,COUNTIF($D$2:D854,1),\"\")","v":853},{"$f":"IFERROR(INDEX($C$2:$C$1024,MATCH(ROWS($E$2:E854),$E$2:$E$1024,0)),\"\")","v":"10006462 - SWINDON UNITARY AUTHORITY"}]
[10013122,"SYSCO BUSINESS SKILLS ACADEMY LIMITED","10013122 - SYSCO BUSINESS SKILLS ACADEMY LIMITED",{"$f":"--ISNUMBER(IFERROR(SEARCH(ProviderTable!$B$3,C855,1),\"\"))","v":1},{"$f":"IF(D855=1,COUNTIF($D$2:D855,1),\"\")","v":854},{"$f":"IFERROR(INDEX($C$2:$C$1024,MATCH(ROWS($E$2:E855),$E$2:$E$1024,0)),\"\")","v":"10013122 - SYSCO BUSINESS SKILLS ACADEMY LIMITED"}]
[10006472,"SYSTEM GROUP LIMITED","10006472 - SYSTEM GROUP LIMITED",{"$f":"--ISNUMBER(IFERROR(SEARCH(ProviderTable!$B$3,C856,1),\"\"))","v":1},{"$f":"IF(D856=1,COUNTIF($D$2:D856,1),\"\")","v":855},{"$f":"IFERROR(INDEX($C$2:$C$1024,MATCH(ROWS($E$2:E856),$E$2:$E$1024,0)),\"\")","v":"10006472 - SYSTEM GROUP LIMITED"}]
[10024071,"TALENT TRAINING (UK) LLP","10024071 - TALENT TRAINING (UK) LLP",{"$f":"--ISNUMBER(IFERROR(SEARCH(ProviderTable!$B$3,C857,1),\"\"))","v":1},{"$f":"IF(D857=1,COUNTIF($D$2:D857,1),\"\")","v":856},{"$f":"IFERROR(INDEX($C$2:$C$1024,MATCH(ROWS($E$2:E857),$E$2:$E$1024,0)),\"\")","v":"10024071 - TALENT TRAINING (UK) LLP"}]
[10006494,"TAMESIDE COLLEGE","10006494 - TAMESIDE COLLEGE",{"$f":"--ISNUMBER(IFERROR(SEARCH(ProviderTable!$B$3,C858,1),\"\"))","v":1},{"$f":"IF(D858=1,COUNTIF($D$2:D858,1),\"\")","v":857},{"$f":"IFERROR(INDEX($C$2:$C$1024,MATCH(ROWS($E$2:E858),$E$2:$E$1024,0)),\"\")","v":"10006494 - TAMESIDE COLLEGE"}]
[10006495,"TAMESIDE METROPOLITAN BOROUGH COUNCIL","10006495 - TAMESIDE METROPOLITAN BOROUGH COUNCIL",{"$f":"--ISNUMBER(IFERROR(SEARCH(ProviderTable!$B$3,C859,1),\"\"))","v":1},{"$f":"IF(D859=1,COUNTIF($D$2:D859,1),\"\")","v":858},{"$f":"IFERROR(INDEX($C$2:$C$1024,MATCH(ROWS($E$2:E859),$E$2:$E$1024,0)),\"\")","v":"10006495 - TAMESIDE METROPOLITAN BOROUGH COUNCIL"}]
[10006500,"TARGETED TRAINING PROJECTS LIMITED","10006500 - TARGETED TRAINING PROJECTS LIMITED",{"$f":"--ISNUMBER(IFERROR(SEARCH(ProviderTable!$B$3,C860,1),\"\"))","v":1},{"$f":"IF(D860=1,COUNTIF($D$2:D860,1),\"\")","v":859},{"$f":"IFERROR(INDEX($C$2:$C$1024,MATCH(ROWS($E$2:E860),$E$2:$E$1024,0)),\"\")","v":"10006500 - TARGETED TRAINING PROJECTS LIMITED"}]
[10006514,"TBG LEARNING LTD","10006514 - TBG LEARNING LTD",{"$f":"--ISNUMBER(IFERROR(SEARCH(ProviderTable!$B$3,C861,1),\"\"))","v":1},{"$f":"IF(D861=1,COUNTIF($D$2:D861,1),\"\")","v":860},{"$f":"IFERROR(INDEX($C$2:$C$1024,MATCH(ROWS($E$2:E861),$E$2:$E$1024,0)),\"\")","v":"10006514 - TBG LEARNING LTD"}]
[10006517,"TDR TRAINING LIMITED","10006517 - TDR TRAINING LIMITED",{"$f":"--ISNUMBER(IFERROR(SEARCH(ProviderTable!$B$3,C862,1),\"\"))","v":1},{"$f":"IF(D862=1,COUNTIF($D$2:D862,1),\"\")","v":861},{"$f":"IFERROR(INDEX($C$2:$C$1024,MATCH(ROWS($E$2:E862),$E$2:$E$1024,0)),\"\")","v":"10006517 - TDR TRAINING LIMITED"}]
[10006519,"TEAM ENTERPRISES LIMITED","10006519 - TEAM ENTERPRISES LIMITED",{"$f":"--ISNUMBER(IFERROR(SEARCH(ProviderTable!$B$3,C863,1),\"\"))","v":1},{"$f":"IF(D863=1,COUNTIF($D$2:D863,1),\"\")","v":862},{"$f":"IFERROR(INDEX($C$2:$C$1024,MATCH(ROWS($E$2:E863),$E$2:$E$1024,0)),\"\")","v":"10006519 - TEAM ENTERPRISES LIMITED"}]
[10006521,"TEAM WEARSIDE LIMITED","10006521 - TEAM WEARSIDE LIMITED",{"$f":"--ISNUMBER(IFERROR(SEARCH(ProviderTable!$B$3,C864,1),\"\"))","v":1},{"$f":"IF(D864=1,COUNTIF($D$2:D864,1),\"\")","v":863},{"$f":"IFERROR(INDEX($C$2:$C$1024,MATCH(ROWS($E$2:E864),$E$2:$E$1024,0)),\"\")","v":"10006521 - TEAM WEARSIDE LIMITED"}]
[10006549,"TELFORD COLLEGE OF ARTS & TECHNOLOGY","10006549 - TELFORD COLLEGE OF ARTS & TECHNOLOGY",{"$f":"--ISNUMBER(IFERROR(SEARCH(ProviderTable!$B$3,C865,1),\"\"))","v":1},{"$f":"IF(D865=1,COUNTIF($D$2:D865,1),\"\")","v":864},{"$f":"IFERROR(INDEX($C$2:$C$1024,MATCH(ROWS($E$2:E865),$E$2:$E$1024,0)),\"\")","v":"10006549 - TELFORD COLLEGE OF ARTS & TECHNOLOGY"}]
[10006559,"TESCO STORES LIMITED","10006559 - TESCO STORES LIMITED",{"$f":"--ISNUMBER(IFERROR(SEARCH(ProviderTable!$B$3,C866,1),\"\"))","v":1},{"$f":"IF(D866=1,COUNTIF($D$2:D866,1),\"\")","v":865},{"$f":"IFERROR(INDEX($C$2:$C$1024,MATCH(ROWS($E$2:E866),$E$2:$E$1024,0)),\"\")","v":"10006559 - TESCO STORES LIMITED"}]
[10006574,"THE ACADEMY HAIR & BEAUTY LTD","10006574 - THE ACADEMY HAIR & BEAUTY LTD",{"$f":"--ISNUMBER(IFERROR(SEARCH(ProviderTable!$B$3,C867,1),\"\"))","v":1},{"$f":"IF(D867=1,COUNTIF($D$2:D867,1),\"\")","v":866},{"$f":"IFERROR(INDEX($C$2:$C$1024,MATCH(ROWS($E$2:E867),$E$2:$E$1024,0)),\"\")","v":"10006574 - THE ACADEMY HAIR & BEAUTY LTD"}]
[10036578,"THE APPRENTICE ACADEMY LIMITED","10036578 - THE APPRENTICE ACADEMY LIMITED",{"$f":"--ISNUMBER(IFERROR(SEARCH(ProviderTable!$B$3,C868,1),\"\"))","v":1},{"$f":"IF(D868=1,COUNTIF($D$2:D868,1),\"\")","v":867},{"$f":"IFERROR(INDEX($C$2:$C$1024,MATCH(ROWS($E$2:E868),$E$2:$E$1024,0)),\"\")","v":"10036578 - THE APPRENTICE ACADEMY LIMITED"}]
[10000931,"THE APPRENTICE SCHOOL CHARITABLE TRUST","10000931 - THE APPRENTICE SCHOOL CHARITABLE TRUST",{"$f":"--ISNUMBER(IFERROR(SEARCH(ProviderTable!$B$3,C869,1),\"\"))","v":1},{"$f":"IF(D869=1,COUNTIF($D$2:D869,1),\"\")","v":868},{"$f":"IFERROR(INDEX($C$2:$C$1024,MATCH(ROWS($E$2:E869),$E$2:$E$1024,0)),\"\")","v":"10000931 - THE APPRENTICE SCHOOL CHARITABLE TRUST"}]
[10042149,"THE BEAUTY ACADEMY LIMITED","10042149 - THE BEAUTY ACADEMY LIMITED",{"$f":"--ISNUMBER(IFERROR(SEARCH(ProviderTable!$B$3,C870,1),\"\"))","v":1},{"$f":"IF(D870=1,COUNTIF($D$2:D870,1),\"\")","v":869},{"$f":"IFERROR(INDEX($C$2:$C$1024,MATCH(ROWS($E$2:E870),$E$2:$E$1024,0)),\"\")","v":"10042149 - THE BEAUTY ACADEMY LIMITED"}]
[10006813,"THE BROOKE HOUSE SIXTH FORM COLLEGE","10006813 - THE BROOKE HOUSE SIXTH FORM COLLEGE",{"$f":"--ISNUMBER(IFERROR(SEARCH(ProviderTable!$B$3,C871,1),\"\"))","v":1},{"$f":"IF(D871=1,COUNTIF($D$2:D871,1),\"\")","v":870},{"$f":"IFERROR(INDEX($C$2:$C$1024,MATCH(ROWS($E$2:E871),$E$2:$E$1024,0)),\"\")","v":"10006813 - THE BROOKE HOUSE SIXTH FORM COLLEGE"}]
[10001080,"THE CADCENTRE (UK) LIMITED","10001080 - THE CADCENTRE (UK) LIMITED",{"$f":"--ISNUMBER(IFERROR(SEARCH(ProviderTable!$B$3,C872,1),\"\"))","v":1},{"$f":"IF(D872=1,COUNTIF($D$2:D872,1),\"\")","v":871},{"$f":"IFERROR(INDEX($C$2:$C$1024,MATCH(ROWS($E$2:E872),$E$2:$E$1024,0)),\"\")","v":"10001080 - THE CADCENTRE (UK) LIMITED"}]
[10006622,"THE CARE LEARNING CENTRE (ISLE OF WIGHT) LIMITED","10006622 - THE CARE LEARNING CENTRE (ISLE OF WIGHT) LIMITED",{"$f":"--ISNUMBER(IFERROR(SEARCH(ProviderTable!$B$3,C873,1),\"\"))","v":1},{"$f":"IF(D873=1,COUNTIF($D$2:D873,1),\"\")","v":872},{"$f":"IFERROR(INDEX($C$2:$C$1024,MATCH(ROWS($E$2:E873),$E$2:$E$1024,0)),\"\")","v":"10006622 - THE CARE LEARNING CENTRE (ISLE OF WIGHT) LIMITED"}]
[10022788,"THE CHILD CARE COMPANY (OLD WINDSOR) LIMITED","10022788 - THE CHILD CARE COMPANY (OLD WINDSOR) LIMITED",{"$f":"--ISNUMBER(IFERROR(SEARCH(ProviderTable!$B$3,C874,1),\"\"))","v":1},{"$f":"IF(D874=1,COUNTIF($D$2:D874,1),\"\")","v":873},{"$f":"IFERROR(INDEX($C$2:$C$1024,MATCH(ROWS($E$2:E874),$E$2:$E$1024,0)),\"\")","v":"10022788 - THE CHILD CARE COMPANY (OLD WINDSOR) LIMITED"}]
[10001463,"THE CITY LITERARY INSTITUTE","10001463 - THE CITY LITERARY INSTITUTE",{"$f":"--ISNUMBER(IFERROR(SEARCH(ProviderTable!$B$3,C875,1),\"\"))","v":1},{"$f":"IF(D875=1,COUNTIF($D$2:D875,1),\"\")","v":874},{"$f":"IFERROR(INDEX($C$2:$C$1024,MATCH(ROWS($E$2:E875),$E$2:$E$1024,0)),\"\")","v":"10001463 - THE CITY LITERARY INSTITUTE"}]
[10003955,"THE CITY OF LIVERPOOL COLLEGE","10003955 - THE CITY OF LIVERPOOL COLLEGE",{"$f":"--ISNUMBER(IFERROR(SEARCH(ProviderTable!$B$3,C876,1),\"\"))","v":1},{"$f":"IF(D876=1,COUNTIF($D$2:D876,1),\"\")","v":875},{"$f":"IFERROR(INDEX($C$2:$C$1024,MATCH(ROWS($E$2:E876),$E$2:$E$1024,0)),\"\")","v":"10003955 - THE CITY OF LIVERPOOL COLLEGE"}]
[10001539,"THE COLLEGE OF ANIMAL WELFARE LIMITED","10001539 - THE COLLEGE OF ANIMAL WELFARE LIMITED",{"$f":"--ISNUMBER(IFERROR(SEARCH(ProviderTable!$B$3,C877,1),\"\"))","v":1},{"$f":"IF(D877=1,COUNTIF($D$2:D877,1),\"\")","v":876},{"$f":"IFERROR(INDEX($C$2:$C$1024,MATCH(ROWS($E$2:E877),$E$2:$E$1024,0)),\"\")","v":"10001539 - THE COLLEGE OF ANIMAL WELFARE LIMITED"}]
[10001550,"THE COLLEGE OF RICHARD COLLYER IN HORSHAM","10001550 - THE COLLEGE OF RICHARD COLLYER IN HORSHAM",{"$f":"--ISNUMBER(IFERROR(SEARCH(ProviderTable!$B$3,C878,1),\"\"))","v":1},{"$f":"IF(D878=1,COUNTIF($D$2:D878,1),\"\")","v":877},{"$f":"IFERROR(INDEX($C$2:$C$1024,MATCH(ROWS($E$2:E878),$E$2:$E$1024,0)),\"\")","v":"10001550 - THE COLLEGE OF RICHARD COLLYER IN HORSHAM"}]
[10007916,"THE COLLEGE OF WEST ANGLIA","10007916 - THE COLLEGE OF WEST ANGLIA",{"$f":"--ISNUMBER(IFERROR(SEARCH(ProviderTable!$B$3,C879,1),\"\"))","v":1},{"$f":"IF(D879=1,COUNTIF($D$2:D879,1),\"\")","v":878},{"$f":"IFERROR(INDEX($C$2:$C$1024,MATCH(ROWS($E$2:E879),$E$2:$E$1024,0)),\"\")","v":"10007916 - THE COLLEGE OF WEST ANGLIA"}]
[10001695,"THE CORNWALL COUNCIL","10001695 - THE CORNWALL COUNCIL",{"$f":"--ISNUMBER(IFERROR(SEARCH(ProviderTable!$B$3,C880,1),\"\"))","v":1},{"$f":"IF(D880=1,COUNTIF($D$2:D880,1),\"\")","v":879},{"$f":"IFERROR(INDEX($C$2:$C$1024,MATCH(ROWS($E$2:E880),$E$2:$E$1024,0)),\"\")","v":"10001695 - THE CORNWALL COUNCIL"}]
[10001867,"THE DAVID LEWIS CENTRE","10001867 - THE DAVID LEWIS CENTRE",{"$f":"--ISNUMBER(IFERROR(SEARCH(ProviderTable!$B$3,C881,1),\"\"))","v":1},{"$f":"IF(D881=1,COUNTIF($D$2:D881,1),\"\")","v":880},{"$f":"IFERROR(INDEX($C$2:$C$1024,MATCH(ROWS($E$2:E881),$E$2:$E$1024,0)),\"\")","v":"10001867 - THE DAVID LEWIS CENTRE"}]
[10006651,"THE DERBYSHIRE NETWORK","10006651 - THE DERBYSHIRE NETWORK",{"$f":"--ISNUMBER(IFERROR(SEARCH(ProviderTable!$B$3,C882,1),\"\"))","v":1},{"$f":"IF(D882=1,COUNTIF($D$2:D882,1),\"\")","v":881},{"$f":"IFERROR(INDEX($C$2:$C$1024,MATCH(ROWS($E$2:E882),$E$2:$E$1024,0)),\"\")","v":"10006651 - THE DERBYSHIRE NETWORK"}]
[10002527,"THE FOOTBALL ASSOCIATION PREMIER LEAGUE LIMITED","10002527 - THE FOOTBALL ASSOCIATION PREMIER LEAGUE LIMITED",{"$f":"--ISNUMBER(IFERROR(SEARCH(ProviderTable!$B$3,C883,1),\"\"))","v":1},{"$f":"IF(D883=1,COUNTIF($D$2:D883,1),\"\")","v":882},{"$f":"IFERROR(INDEX($C$2:$C$1024,MATCH(ROWS($E$2:E883),$E$2:$E$1024,0)),\"\")","v":"10002527 - THE FOOTBALL ASSOCIATION PREMIER LEAGUE LIMITED"}]
[10009072,"THE HEADMASTERS PARTNERSHIP LIMITED","10009072 - THE HEADMASTERS PARTNERSHIP LIMITED",{"$f":"--ISNUMBER(IFERROR(SEARCH(ProviderTable!$B$3,C884,1),\"\"))","v":1},{"$f":"IF(D884=1,COUNTIF($D$2:D884,1),\"\")","v":883},{"$f":"IFERROR(INDEX($C$2:$C$1024,MATCH(ROWS($E$2:E884),$E$2:$E$1024,0)),\"\")","v":"10009072 - THE HEADMASTERS PARTNERSHIP LIMITED"}]
[10003011,"THE HENLEY COLLEGE","10003011 - THE HENLEY COLLEGE",{"$f":"--ISNUMBER(IFERROR(SEARCH(ProviderTable!$B$3,C885,1),\"\"))","v":1},{"$f":"IF(D885=1,COUNTIF($D$2:D885,1),\"\")","v":884},{"$f":"IFERROR(INDEX($C$2:$C$1024,MATCH(ROWS($E$2:E885),$E$2:$E$1024,0)),\"\")","v":"10003011 - THE HENLEY COLLEGE"}]
[10022763,"THE INTRAINING GROUP LIMITED","10022763 - THE INTRAINING GROUP LIMITED",{"$f":"--ISNUMBER(IFERROR(SEARCH(ProviderTable!$B$3,C886,1),\"\"))","v":1},{"$f":"IF(D886=1,COUNTIF($D$2:D886,1),\"\")","v":885},{"$f":"IFERROR(INDEX($C$2:$C$1024,MATCH(ROWS($E$2:E886),$E$2:$E$1024,0)),\"\")","v":"10022763 - THE INTRAINING GROUP LIMITED"}]
[10030656,"THE JCB ACADEMY","10030656 - THE JCB ACADEMY",{"$f":"--ISNUMBER(IFERROR(SEARCH(ProviderTable!$B$3,C887,1),\"\"))","v":1},{"$f":"IF(D887=1,COUNTIF($D$2:D887,1),\"\")","v":886},{"$f":"IFERROR(INDEX($C$2:$C$1024,MATCH(ROWS($E$2:E887),$E$2:$E$1024,0)),\"\")","v":"10030656 - THE JCB ACADEMY"}]
[10010125,"THE LEARNING CONSORTIUM","10010125 - THE LEARNING CONSORTIUM",{"$f":"--ISNUMBER(IFERROR(SEARCH(ProviderTable!$B$3,C888,1),\"\"))","v":1},{"$f":"IF(D888=1,COUNTIF($D$2:D888,1),\"\")","v":887},{"$f":"IFERROR(INDEX($C$2:$C$1024,MATCH(ROWS($E$2:E888),$E$2:$E$1024,0)),\"\")","v":"10010125 - THE LEARNING CONSORTIUM"}]
[10006734,"THE LEARNING CURVE (VOLUNTARY SECTOR DEVELOPMENT)","10006734 - THE LEARNING CURVE (VOLUNTARY SECTOR DEVELOPMENT)",{"$f":"--ISNUMBER(IFERROR(SEARCH(ProviderTable!$B$3,C889,1),\"\"))","v":1},{"$f":"IF(D889=1,COUNTIF($D$2:D889,1),\"\")","v":888},{"$f":"IFERROR(INDEX($C$2:$C$1024,MATCH(ROWS($E$2:E889),$E$2:$E$1024,0)),\"\")","v":"10006734 - THE LEARNING CURVE (VOLUNTARY SECTOR DEVELOPMENT)"}]
[10006735,"THE LEARNING PARTNERSHIP FOR CORNWALL AND THE ISLES OF SCILLY LIMITED","10006735 - THE LEARNING PARTNERSHIP FOR CORNWALL AND THE ISLES OF SCILLY LIMITED",{"$f":"--ISNUMBER(IFERROR(SEARCH(ProviderTable!$B$3,C890,1),\"\"))","v":1},{"$f":"IF(D890=1,COUNTIF($D$2:D890,1),\"\")","v":889},{"$f":"IFERROR(INDEX($C$2:$C$1024,MATCH(ROWS($E$2:E890),$E$2:$E$1024,0)),\"\")","v":"10006735 - THE LEARNING PARTNERSHIP FOR CORNWALL AND THE ISLES OF SCILLY LIMITED"}]
[10004013,"THE LONDON COLLEGE OF BEAUTY THERAPY LIMITED","10004013 - THE LONDON COLLEGE OF BEAUTY THERAPY LIMITED",{"$f":"--ISNUMBER(IFERROR(SEARCH(ProviderTable!$B$3,C891,1),\"\"))","v":1},{"$f":"IF(D891=1,COUNTIF($D$2:D891,1),\"\")","v":890},{"$f":"IFERROR(INDEX($C$2:$C$1024,MATCH(ROWS($E$2:E891),$E$2:$E$1024,0)),\"\")","v":"10004013 - THE LONDON COLLEGE OF BEAUTY THERAPY LIMITED"}]
[10006571,"THE MOTOR INSURANCE REPAIR RESEARCH CENTRE","10006571 - THE MOTOR INSURANCE REPAIR RESEARCH CENTRE",{"$f":"--ISNUMBER(IFERROR(SEARCH(ProviderTable!$B$3,C892,1),\"\"))","v":1},{"$f":"IF(D892=1,COUNTIF($D$2:D892,1),\"\")","v":891},{"$f":"IFERROR(INDEX($C$2:$C$1024,MATCH(ROWS($E$2:E892),$E$2:$E$1024,0)),\"\")","v":"10006571 - THE MOTOR INSURANCE REPAIR RESEARCH CENTRE"}]
[10004502,"THE NATIONAL CENTRE FOR YOUNG PEOPLE WITH EPILEPSY CHARITABLE TRUST","10004502 - THE NATIONAL CENTRE FOR YOUNG PEOPLE WITH EPILEPSY CHARITABLE TRUST",{"$f":"--ISNUMBER(IFERROR(SEARCH(ProviderTable!$B$3,C893,1),\"\"))","v":1},{"$f":"IF(D893=1,COUNTIF($D$2:D893,1),\"\")","v":892},{"$f":"IFERROR(INDEX($C$2:$C$1024,MATCH(ROWS($E$2:E893),$E$2:$E$1024,0)),\"\")","v":"10004502 - THE NATIONAL CENTRE FOR YOUNG PEOPLE WITH EPILEPSY CHARITABLE TRUST"}]
[10004762,"THE NORTHUMBERLAND COUNCIL","10004762 - THE NORTHUMBERLAND COUNCIL",{"$f":"--ISNUMBER(IFERROR(SEARCH(ProviderTable!$B$3,C894,1),\"\"))","v":1},{"$f":"IF(D894=1,COUNTIF($D$2:D894,1),\"\")","v":893},{"$f":"IFERROR(INDEX($C$2:$C$1024,MATCH(ROWS($E$2:E894),$E$2:$E$1024,0)),\"\")","v":"10004762 - THE NORTHUMBERLAND COUNCIL"}]
[10006770,"THE OLDHAM COLLEGE","10006770 - THE OLDHAM COLLEGE",{"$f":"--ISNUMBER(IFERROR(SEARCH(ProviderTable!$B$3,C895,1),\"\"))","v":1},{"$f":"IF(D895=1,COUNTIF($D$2:D895,1),\"\")","v":894},{"$f":"IFERROR(INDEX($C$2:$C$1024,MATCH(ROWS($E$2:E895),$E$2:$E$1024,0)),\"\")","v":"10006770 - THE OLDHAM COLLEGE"}]
[10030670,"THE REAL APPRENTICESHIP COMPANY LIMITED","10030670 - THE REAL APPRENTICESHIP COMPANY LIMITED",{"$f":"--ISNUMBER(IFERROR(SEARCH(ProviderTable!$B$3,C896,1),\"\"))","v":1},{"$f":"IF(D896=1,COUNTIF($D$2:D896,1),\"\")","v":895},{"$f":"IFERROR(INDEX($C$2:$C$1024,MATCH(ROWS($E$2:E896),$E$2:$E$1024,0)),\"\")","v":"10030670 - THE REAL APPRENTICESHIP COMPANY LIMITED"}]
[10006797,"THE REYNOLDS GROUP LIMITED","10006797 - THE REYNOLDS GROUP LIMITED",{"$f":"--ISNUMBER(IFERROR(SEARCH(ProviderTable!$B$3,C897,1),\"\"))","v":1},{"$f":"IF(D897=1,COUNTIF($D$2:D897,1),\"\")","v":896},{"$f":"IFERROR(INDEX($C$2:$C$1024,MATCH(ROWS($E$2:E897),$E$2:$E$1024,0)),\"\")","v":"10006797 - THE REYNOLDS GROUP LIMITED"}]
[10005825,"THE SHROPSHIRE COUNCIL","10005825 - THE SHROPSHIRE COUNCIL",{"$f":"--ISNUMBER(IFERROR(SEARCH(ProviderTable!$B$3,C898,1),\"\"))","v":1},{"$f":"IF(D898=1,COUNTIF($D$2:D898,1),\"\")","v":897},{"$f":"IFERROR(INDEX($C$2:$C$1024,MATCH(ROWS($E$2:E898),$E$2:$E$1024,0)),\"\")","v":"10005825 - THE SHROPSHIRE COUNCIL"}]
[10005894,"THE SKILLS PARTNERSHIP LIMITED",{"$f":"A899&\" - \"&B899","v":"10005894 - THE SKILLS PARTNERSHIP LIMITED"},{"$f":"--ISNUMBER(IFERROR(SEARCH(ProviderTable!$B$3,C899,1),\"\"))","v":1},{"$f":"IF(D899=1,COUNTIF($D$2:D899,1),\"\")","v":898},{"$f":"IFERROR(INDEX($C$2:$C$1024,MATCH(ROWS($E$2:E899),$E$2:$E$1024,0)),\"\")","v":"10005894 - THE SKILLS PARTNERSHIP LIMITED"}]
[10006986,"THE TRAINING & RECRUITMENT PARTNERSHIP LIMITED","10006986 - THE TRAINING & RECRUITMENT PARTNERSHIP LIMITED",{"$f":"--ISNUMBER(IFERROR(SEARCH(ProviderTable!$B$3,C900,1),\"\"))","v":1},{"$f":"IF(D900=1,COUNTIF($D$2:D900,1),\"\")","v":899},{"$f":"IFERROR(INDEX($C$2:$C$1024,MATCH(ROWS($E$2:E900),$E$2:$E$1024,0)),\"\")","v":"10006986 - THE TRAINING & RECRUITMENT PARTNERSHIP LIMITED"}]
[10007070,"THE TTE TECHNICAL TRAINING GROUP","10007070 - THE TTE TECHNICAL TRAINING GROUP",{"$f":"--ISNUMBER(IFERROR(SEARCH(ProviderTable!$B$3,C901,1),\"\"))","v":1},{"$f":"IF(D901=1,COUNTIF($D$2:D901,1),\"\")","v":900},{"$f":"IFERROR(INDEX($C$2:$C$1024,MATCH(ROWS($E$2:E901),$E$2:$E$1024,0)),\"\")","v":"10007070 - THE TTE TECHNICAL TRAINING GROUP"}]
[10007157,"THE UNIVERSITY OF SHEFFIELD","10007157 - THE UNIVERSITY OF SHEFFIELD",{"$f":"--ISNUMBER(IFERROR(SEARCH(ProviderTable!$B$3,C902,1),\"\"))","v":1},{"$f":"IF(D902=1,COUNTIF($D$2:D902,1),\"\")","v":901},{"$f":"IFERROR(INDEX($C$2:$C$1024,MATCH(ROWS($E$2:E902),$E$2:$E$1024,0)),\"\")","v":"10007157 - THE UNIVERSITY OF SHEFFIELD"}]
[10006566,"THE UNIVERSITY OF WEST LONDON","10006566 - THE UNIVERSITY OF WEST LONDON",{"$f":"--ISNUMBER(IFERROR(SEARCH(ProviderTable!$B$3,C903,1),\"\"))","v":1},{"$f":"IF(D903=1,COUNTIF($D$2:D903,1),\"\")","v":902},{"$f":"IFERROR(INDEX($C$2:$C$1024,MATCH(ROWS($E$2:E903),$E$2:$E$1024,0)),\"\")","v":"10006566 - THE UNIVERSITY OF WEST LONDON"}]
[10020194,"THE VIA PARTNERSHIP LIMITED","10020194 - THE VIA PARTNERSHIP LIMITED",{"$f":"--ISNUMBER(IFERROR(SEARCH(ProviderTable!$B$3,C904,1),\"\"))","v":1},{"$f":"IF(D904=1,COUNTIF($D$2:D904,1),\"\")","v":903},{"$f":"IFERROR(INDEX($C$2:$C$1024,MATCH(ROWS($E$2:E904),$E$2:$E$1024,0)),\"\")","v":"10020194 - THE VIA PARTNERSHIP LIMITED"}]
[10006847,"THE VOCATIONAL COLLEGE LIMITED","10006847 - THE VOCATIONAL COLLEGE LIMITED",{"$f":"--ISNUMBER(IFERROR(SEARCH(ProviderTable!$B$3,C905,1),\"\"))","v":1},{"$f":"IF(D905=1,COUNTIF($D$2:D905,1),\"\")","v":904},{"$f":"IFERROR(INDEX($C$2:$C$1024,MATCH(ROWS($E$2:E905),$E$2:$E$1024,0)),\"\")","v":"10006847 - THE VOCATIONAL COLLEGE LIMITED"}]
[10004788,"THE VOLUNTARY AND COMMUNITY SECTOR LEARNING AND SKILLS CONSORTIUM","10004788 - THE VOLUNTARY AND COMMUNITY SECTOR LEARNING AND SKILLS CONSORTIUM",{"$f":"--ISNUMBER(IFERROR(SEARCH(ProviderTable!$B$3,C906,1),\"\"))","v":1},{"$f":"IF(D906=1,COUNTIF($D$2:D906,1),\"\")","v":905},{"$f":"IFERROR(INDEX($C$2:$C$1024,MATCH(ROWS($E$2:E906),$E$2:$E$1024,0)),\"\")","v":"10004788 - THE VOLUNTARY AND COMMUNITY SECTOR LEARNING AND SKILLS CONSORTIUM"}]
[10007528,"THE WILTSHIRE COUNCIL","10007528 - THE WILTSHIRE COUNCIL",{"$f":"--ISNUMBER(IFERROR(SEARCH(ProviderTable!$B$3,C907,1),\"\"))","v":1},{"$f":"IF(D907=1,COUNTIF($D$2:D907,1),\"\")","v":906},{"$f":"IFERROR(INDEX($C$2:$C$1024,MATCH(ROWS($E$2:E907),$E$2:$E$1024,0)),\"\")","v":"10007528 - THE WILTSHIRE COUNCIL"}]
[10003919,"THELIGHTBULB LTD","10003919 - THELIGHTBULB LTD",{"$f":"--ISNUMBER(IFERROR(SEARCH(ProviderTable!$B$3,C908,1),\"\"))","v":1},{"$f":"IF(D908=1,COUNTIF($D$2:D908,1),\"\")","v":907},{"$f":"IFERROR(INDEX($C$2:$C$1024,MATCH(ROWS($E$2:E908),$E$2:$E$1024,0)),\"\")","v":"10003919 - THELIGHTBULB LTD"}]
[10032145,"THOMAS COOK GROUP UK LIMITED","10032145 - THOMAS COOK GROUP UK LIMITED",{"$f":"--ISNUMBER(IFERROR(SEARCH(ProviderTable!$B$3,C909,1),\"\"))","v":1},{"$f":"IF(D909=1,COUNTIF($D$2:D909,1),\"\")","v":908},{"$f":"IFERROR(INDEX($C$2:$C$1024,MATCH(ROWS($E$2:E909),$E$2:$E$1024,0)),\"\")","v":"10032145 - THOMAS COOK GROUP UK LIMITED"}]
[10006907,"THURROCK UNITARY AUTHORITY","10006907 - THURROCK UNITARY AUTHORITY",{"$f":"--ISNUMBER(IFERROR(SEARCH(ProviderTable!$B$3,C910,1),\"\"))","v":1},{"$f":"IF(D910=1,COUNTIF($D$2:D910,1),\"\")","v":909},{"$f":"IFERROR(INDEX($C$2:$C$1024,MATCH(ROWS($E$2:E910),$E$2:$E$1024,0)),\"\")","v":"10006907 - THURROCK UNITARY AUTHORITY"}]
[10020313,"TIR TRAINING SERVICES LTD","10020313 - TIR TRAINING SERVICES LTD",{"$f":"--ISNUMBER(IFERROR(SEARCH(ProviderTable!$B$3,C911,1),\"\"))","v":1},{"$f":"IF(D911=1,COUNTIF($D$2:D911,1),\"\")","v":910},{"$f":"IFERROR(INDEX($C$2:$C$1024,MATCH(ROWS($E$2:E911),$E$2:$E$1024,0)),\"\")","v":"10020313 - TIR TRAINING SERVICES LTD"}]
[10023415,"TONI & GUY UK TRAINING LIMITED","10023415 - TONI & GUY UK TRAINING LIMITED",{"$f":"--ISNUMBER(IFERROR(SEARCH(ProviderTable!$B$3,C912,1),\"\"))","v":1},{"$f":"IF(D912=1,COUNTIF($D$2:D912,1),\"\")","v":911},{"$f":"IFERROR(INDEX($C$2:$C$1024,MATCH(ROWS($E$2:E912),$E$2:$E$1024,0)),\"\")","v":"10023415 - TONI & GUY UK TRAINING LIMITED"}]
[10021755,"TOTAL PEOPLE LIMITED","10021755 - TOTAL PEOPLE LIMITED",{"$f":"--ISNUMBER(IFERROR(SEARCH(ProviderTable!$B$3,C913,1),\"\"))","v":1},{"$f":"IF(D913=1,COUNTIF($D$2:D913,1),\"\")","v":912},{"$f":"IFERROR(INDEX($C$2:$C$1024,MATCH(ROWS($E$2:E913),$E$2:$E$1024,0)),\"\")","v":"10021755 - TOTAL PEOPLE LIMITED"}]
[10006958,"TOTTON COLLEGE","10006958 - TOTTON COLLEGE",{"$f":"--ISNUMBER(IFERROR(SEARCH(ProviderTable!$B$3,C914,1),\"\"))","v":1},{"$f":"IF(D914=1,COUNTIF($D$2:D914,1),\"\")","v":913},{"$f":"IFERROR(INDEX($C$2:$C$1024,MATCH(ROWS($E$2:E914),$E$2:$E$1024,0)),\"\")","v":"10006958 - TOTTON COLLEGE"}]
[10006963,"TOWER HAMLETS COLLEGE","10006963 - TOWER HAMLETS COLLEGE",{"$f":"--ISNUMBER(IFERROR(SEARCH(ProviderTable!$B$3,C915,1),\"\"))","v":1},{"$f":"IF(D915=1,COUNTIF($D$2:D915,1),\"\")","v":914},{"$f":"IFERROR(INDEX($C$2:$C$1024,MATCH(ROWS($E$2:E915),$E$2:$E$1024,0)),\"\")","v":"10006963 - TOWER HAMLETS COLLEGE"}]
[10006964,"TOWER HAMLETS LONDON BOROUGH COUNCIL","10006964 - TOWER HAMLETS LONDON BOROUGH COUNCIL",{"$f":"--ISNUMBER(IFERROR(SEARCH(ProviderTable!$B$3,C916,1),\"\"))","v":1},{"$f":"IF(D916=1,COUNTIF($D$2:D916,1),\"\")","v":915},{"$f":"IFERROR(INDEX($C$2:$C$1024,MATCH(ROWS($E$2:E916),$E$2:$E$1024,0)),\"\")","v":"10006964 - TOWER HAMLETS LONDON BOROUGH COUNCIL"}]
[10011165,"TOYOTA(G.B.) PLC","10011165 - TOYOTA(G.B.) PLC",{"$f":"--ISNUMBER(IFERROR(SEARCH(ProviderTable!$B$3,C917,1),\"\"))","v":1},{"$f":"IF(D917=1,COUNTIF($D$2:D917,1),\"\")","v":916},{"$f":"IFERROR(INDEX($C$2:$C$1024,MATCH(ROWS($E$2:E917),$E$2:$E$1024,0)),\"\")","v":"10011165 - TOYOTA(G.B.) PLC"}]
[10010939,"TQ WORKFORCE DEVELOPMENT LIMITED","10010939 - TQ WORKFORCE DEVELOPMENT LIMITED",{"$f":"--ISNUMBER(IFERROR(SEARCH(ProviderTable!$B$3,C918,1),\"\"))","v":1},{"$f":"IF(D918=1,COUNTIF($D$2:D918,1),\"\")","v":917},{"$f":"IFERROR(INDEX($C$2:$C$1024,MATCH(ROWS($E$2:E918),$E$2:$E$1024,0)),\"\")","v":"10010939 - TQ WORKFORCE DEVELOPMENT LIMITED"}]
[10005998,"TRAFFORD COLLEGE","10005998 - TRAFFORD COLLEGE",{"$f":"--ISNUMBER(IFERROR(SEARCH(ProviderTable!$B$3,C919,1),\"\"))","v":1},{"$f":"IF(D919=1,COUNTIF($D$2:D919,1),\"\")","v":918},{"$f":"IFERROR(INDEX($C$2:$C$1024,MATCH(ROWS($E$2:E919),$E$2:$E$1024,0)),\"\")","v":"10005998 - TRAFFORD COLLEGE"}]
[10010672,"TRAIN'D UP RAILWAY RESOURCING LIMITED","10010672 - TRAIN'D UP RAILWAY RESOURCING LIMITED",{"$f":"--ISNUMBER(IFERROR(SEARCH(ProviderTable!$B$3,C920,1),\"\"))","v":1},{"$f":"IF(D920=1,COUNTIF($D$2:D920,1),\"\")","v":919},{"$f":"IFERROR(INDEX($C$2:$C$1024,MATCH(ROWS($E$2:E920),$E$2:$E$1024,0)),\"\")","v":"10010672 - TRAIN'D UP RAILWAY RESOURCING LIMITED"}]
[10006987,"TRAINING 2000 LIMITED","10006987 - TRAINING 2000 LIMITED",{"$f":"--ISNUMBER(IFERROR(SEARCH(ProviderTable!$B$3,C921,1),\"\"))","v":1},{"$f":"IF(D921=1,COUNTIF($D$2:D921,1),\"\")","v":920},{"$f":"IFERROR(INDEX($C$2:$C$1024,MATCH(ROWS($E$2:E921),$E$2:$E$1024,0)),\"\")","v":"10006987 - TRAINING 2000 LIMITED"}]
[10031408,"TRAINING FUTURES (UK) LIMITED","10031408 - TRAINING FUTURES (UK) LIMITED",{"$f":"--ISNUMBER(IFERROR(SEARCH(ProviderTable!$B$3,C922,1),\"\"))","v":1},{"$f":"IF(D922=1,COUNTIF($D$2:D922,1),\"\")","v":921},{"$f":"IFERROR(INDEX($C$2:$C$1024,MATCH(ROWS($E$2:E922),$E$2:$E$1024,0)),\"\")","v":"10031408 - TRAINING FUTURES (UK) LIMITED"}]
[10007013,"TRAINING PLUS (MERSEYSIDE) LIMITED","10007013 - TRAINING PLUS (MERSEYSIDE) LIMITED",{"$f":"--ISNUMBER(IFERROR(SEARCH(ProviderTable!$B$3,C923,1),\"\"))","v":1},{"$f":"IF(D923=1,COUNTIF($D$2:D923,1),\"\")","v":922},{"$f":"IFERROR(INDEX($C$2:$C$1024,MATCH(ROWS($E$2:E923),$E$2:$E$1024,0)),\"\")","v":"10007013 - TRAINING PLUS (MERSEYSIDE) LIMITED"}]
[10007015,"TRAINING SERVICES 2000 LTD","10007015 - TRAINING SERVICES 2000 LTD",{"$f":"--ISNUMBER(IFERROR(SEARCH(ProviderTable!$B$3,C924,1),\"\"))","v":1},{"$f":"IF(D924=1,COUNTIF($D$2:D924,1),\"\")","v":923},{"$f":"IFERROR(INDEX($C$2:$C$1024,MATCH(ROWS($E$2:E924),$E$2:$E$1024,0)),\"\")","v":"10007015 - TRAINING SERVICES 2000 LTD"}]
[10027873,"TRAINING STRATEGIES LTD.","10027873 - TRAINING STRATEGIES LTD.",{"$f":"--ISNUMBER(IFERROR(SEARCH(ProviderTable!$B$3,C925,1),\"\"))","v":1},{"$f":"IF(D925=1,COUNTIF($D$2:D925,1),\"\")","v":924},{"$f":"IFERROR(INDEX($C$2:$C$1024,MATCH(ROWS($E$2:E925),$E$2:$E$1024,0)),\"\")","v":"10027873 - TRAINING STRATEGIES LTD."}]
[10035270,"TRAINING SYNERGY LIMITED","10035270 - TRAINING SYNERGY LIMITED",{"$f":"--ISNUMBER(IFERROR(SEARCH(ProviderTable!$B$3,C926,1),\"\"))","v":1},{"$f":"IF(D926=1,COUNTIF($D$2:D926,1),\"\")","v":925},{"$f":"IFERROR(INDEX($C$2:$C$1024,MATCH(ROWS($E$2:E926),$E$2:$E$1024,0)),\"\")","v":"10035270 - TRAINING SYNERGY LIMITED"}]
[10021850,"TRANS-PLANT TRAINING LIMITED","10021850 - TRANS-PLANT TRAINING LIMITED",{"$f":"--ISNUMBER(IFERROR(SEARCH(ProviderTable!$B$3,C927,1),\"\"))","v":1},{"$f":"IF(D927=1,COUNTIF($D$2:D927,1),\"\")","v":926},{"$f":"IFERROR(INDEX($C$2:$C$1024,MATCH(ROWS($E$2:E927),$E$2:$E$1024,0)),\"\")","v":"10021850 - TRANS-PLANT TRAINING LIMITED"}]
[10005268,"TRANSWORLD PUBLICATIONS SERVICES LIMITED","10005268 - TRANSWORLD PUBLICATIONS SERVICES LIMITED",{"$f":"--ISNUMBER(IFERROR(SEARCH(ProviderTable!$B$3,C928,1),\"\"))","v":1},{"$f":"IF(D928=1,COUNTIF($D$2:D928,1),\"\")","v":927},{"$f":"IFERROR(INDEX($C$2:$C$1024,MATCH(ROWS($E$2:E928),$E$2:$E$1024,0)),\"\")","v":"10005268 - TRANSWORLD PUBLICATIONS SERVICES LIMITED"}]
[10007035,"TRESHAM COLLEGE OF FURTHER AND HIGHER EDUCATION","10007035 - TRESHAM COLLEGE OF FURTHER AND HIGHER EDUCATION",{"$f":"--ISNUMBER(IFERROR(SEARCH(ProviderTable!$B$3,C929,1),\"\"))","v":1},{"$f":"IF(D929=1,COUNTIF($D$2:D929,1),\"\")","v":928},{"$f":"IFERROR(INDEX($C$2:$C$1024,MATCH(ROWS($E$2:E929),$E$2:$E$1024,0)),\"\")","v":"10007035 - TRESHAM COLLEGE OF FURTHER AND HIGHER EDUCATION"}]
[10000082,"TRN (TRAIN) LTD.","10000082 - TRN (TRAIN) LTD.",{"$f":"--ISNUMBER(IFERROR(SEARCH(ProviderTable!$B$3,C930,1),\"\"))","v":1},{"$f":"IF(D930=1,COUNTIF($D$2:D930,1),\"\")","v":929},{"$f":"IFERROR(INDEX($C$2:$C$1024,MATCH(ROWS($E$2:E930),$E$2:$E$1024,0)),\"\")","v":"10000082 - TRN (TRAIN) LTD."}]
[10007063,"TRURO AND PENWITH COLLEGE","10007063 - TRURO AND PENWITH COLLEGE",{"$f":"--ISNUMBER(IFERROR(SEARCH(ProviderTable!$B$3,C931,1),\"\"))","v":1},{"$f":"IF(D931=1,COUNTIF($D$2:D931,1),\"\")","v":930},{"$f":"IFERROR(INDEX($C$2:$C$1024,MATCH(ROWS($E$2:E931),$E$2:$E$1024,0)),\"\")","v":"10007063 - TRURO AND PENWITH COLLEGE"}]
[10004589,"TTE TRAINING LIMITED","10004589 - TTE TRAINING LIMITED",{"$f":"--ISNUMBER(IFERROR(SEARCH(ProviderTable!$B$3,C932,1),\"\"))","v":1},{"$f":"IF(D932=1,COUNTIF($D$2:D932,1),\"\")","v":931},{"$f":"IFERROR(INDEX($C$2:$C$1024,MATCH(ROWS($E$2:E932),$E$2:$E$1024,0)),\"\")","v":"10004589 - TTE TRAINING LIMITED"}]
[10004123,"TUI UK LIMITED","10004123 - TUI UK LIMITED",{"$f":"--ISNUMBER(IFERROR(SEARCH(ProviderTable!$B$3,C933,1),\"\"))","v":1},{"$f":"IF(D933=1,COUNTIF($D$2:D933,1),\"\")","v":932},{"$f":"IFERROR(INDEX($C$2:$C$1024,MATCH(ROWS($E$2:E933),$E$2:$E$1024,0)),\"\")","v":"10004123 - TUI UK LIMITED"}]
[10008569,"TYNE METROPOLITAN COLLEGE","10008569 - TYNE METROPOLITAN COLLEGE",{"$f":"--ISNUMBER(IFERROR(SEARCH(ProviderTable!$B$3,C934,1),\"\"))","v":1},{"$f":"IF(D934=1,COUNTIF($D$2:D934,1),\"\")","v":933},{"$f":"IFERROR(INDEX($C$2:$C$1024,MATCH(ROWS($E$2:E934),$E$2:$E$1024,0)),\"\")","v":"10008569 - TYNE METROPOLITAN COLLEGE"}]
[10007100,"TYNE NORTH TRAINING LIMITED","10007100 - TYNE NORTH TRAINING LIMITED",{"$f":"--ISNUMBER(IFERROR(SEARCH(ProviderTable!$B$3,C935,1),\"\"))","v":1},{"$f":"IF(D935=1,COUNTIF($D$2:D935,1),\"\")","v":934},{"$f":"IFERROR(INDEX($C$2:$C$1024,MATCH(ROWS($E$2:E935),$E$2:$E$1024,0)),\"\")","v":"10007100 - TYNE NORTH TRAINING LIMITED"}]
[10007111,"UCKFIELD COMMUNITY TECHNOLOGY COLLEGE","10007111 - UCKFIELD COMMUNITY TECHNOLOGY COLLEGE",{"$f":"--ISNUMBER(IFERROR(SEARCH(ProviderTable!$B$3,C936,1),\"\"))","v":1},{"$f":"IF(D936=1,COUNTIF($D$2:D936,1),\"\")","v":935},{"$f":"IFERROR(INDEX($C$2:$C$1024,MATCH(ROWS($E$2:E936),$E$2:$E$1024,0)),\"\")","v":"10007111 - UCKFIELD COMMUNITY TECHNOLOGY COLLEGE"}]
[10007123,"UK TRAINING & DEVELOPMENT LIMITED","10007123 - UK TRAINING & DEVELOPMENT LIMITED",{"$f":"--ISNUMBER(IFERROR(SEARCH(ProviderTable!$B$3,C937,1),\"\"))","v":1},{"$f":"IF(D937=1,COUNTIF($D$2:D937,1),\"\")","v":936},{"$f":"IFERROR(INDEX($C$2:$C$1024,MATCH(ROWS($E$2:E937),$E$2:$E$1024,0)),\"\")","v":"10007123 - UK TRAINING & DEVELOPMENT LIMITED"}]
[10033129,"UNIQUE TRAINING NORTH EAST LIMITED","10033129 - UNIQUE TRAINING NORTH EAST LIMITED",{"$f":"--ISNUMBER(IFERROR(SEARCH(ProviderTable!$B$3,C938,1),\"\"))","v":1},{"$f":"IF(D938=1,COUNTIF($D$2:D938,1),\"\")","v":937},{"$f":"IFERROR(INDEX($C$2:$C$1024,MATCH(ROWS($E$2:E938),$E$2:$E$1024,0)),\"\")","v":"10033129 - UNIQUE TRAINING NORTH EAST LIMITED"}]
[10037395,"UNITED LEARNING TRUST","10037395 - UNITED LEARNING TRUST",{"$f":"--ISNUMBER(IFERROR(SEARCH(ProviderTable!$B$3,C939,1),\"\"))","v":1},{"$f":"IF(D939=1,COUNTIF($D$2:D939,1),\"\")","v":938},{"$f":"IFERROR(INDEX($C$2:$C$1024,MATCH(ROWS($E$2:E939),$E$2:$E$1024,0)),\"\")","v":"10037395 - UNITED LEARNING TRUST"}]
[10000712,"UNIVERSITY COLLEGE BIRMINGHAM","10000712 - UNIVERSITY COLLEGE BIRMINGHAM",{"$f":"--ISNUMBER(IFERROR(SEARCH(ProviderTable!$B$3,C940,1),\"\"))","v":1},{"$f":"IF(D940=1,COUNTIF($D$2:D940,1),\"\")","v":939},{"$f":"IFERROR(INDEX($C$2:$C$1024,MATCH(ROWS($E$2:E940),$E$2:$E$1024,0)),\"\")","v":"10000712 - UNIVERSITY COLLEGE BIRMINGHAM"}]
[10006427,"UNIVERSITY FOR THE CREATIVE ARTS","10006427 - UNIVERSITY FOR THE CREATIVE ARTS",{"$f":"--ISNUMBER(IFERROR(SEARCH(ProviderTable!$B$3,C941,1),\"\"))","v":1},{"$f":"IF(D941=1,COUNTIF($D$2:D941,1),\"\")","v":940},{"$f":"IFERROR(INDEX($C$2:$C$1024,MATCH(ROWS($E$2:E941),$E$2:$E$1024,0)),\"\")","v":"10006427 - UNIVERSITY FOR THE CREATIVE ARTS"}]
[10007851,"UNIVERSITY OF DERBY","10007851 - UNIVERSITY OF DERBY",{"$f":"--ISNUMBER(IFERROR(SEARCH(ProviderTable!$B$3,C942,1),\"\"))","v":1},{"$f":"IF(D942=1,COUNTIF($D$2:D942,1),\"\")","v":941},{"$f":"IFERROR(INDEX($C$2:$C$1024,MATCH(ROWS($E$2:E942),$E$2:$E$1024,0)),\"\")","v":"10007851 - UNIVERSITY OF DERBY"}]
[10007151,"UNIVERSITY OF LINCOLN","10007151 - UNIVERSITY OF LINCOLN",{"$f":"--ISNUMBER(IFERROR(SEARCH(ProviderTable!$B$3,C943,1),\"\"))","v":1},{"$f":"IF(D943=1,COUNTIF($D$2:D943,1),\"\")","v":942},{"$f":"IFERROR(INDEX($C$2:$C$1024,MATCH(ROWS($E$2:E943),$E$2:$E$1024,0)),\"\")","v":"10007151 - UNIVERSITY OF LINCOLN"}]
[10046704,"UPLANDS EDUCATIONAL TRUST","10046704 - UPLANDS EDUCATIONAL TRUST",{"$f":"--ISNUMBER(IFERROR(SEARCH(ProviderTable!$B$3,C944,1),\"\"))","v":1},{"$f":"IF(D944=1,COUNTIF($D$2:D944,1),\"\")","v":943},{"$f":"IFERROR(INDEX($C$2:$C$1024,MATCH(ROWS($E$2:E944),$E$2:$E$1024,0)),\"\")","v":"10046704 - UPLANDS EDUCATIONAL TRUST"}]
[10021021,"URBAN FUTURES LONDON LIMITED","10021021 - URBAN FUTURES LONDON LIMITED",{"$f":"--ISNUMBER(IFERROR(SEARCH(ProviderTable!$B$3,C945,1),\"\"))","v":1},{"$f":"IF(D945=1,COUNTIF($D$2:D945,1),\"\")","v":944},{"$f":"IFERROR(INDEX($C$2:$C$1024,MATCH(ROWS($E$2:E945),$E$2:$E$1024,0)),\"\")","v":"10021021 - URBAN FUTURES LONDON LIMITED"}]
[10007193,"UXBRIDGE COLLEGE","10007193 - UXBRIDGE COLLEGE",{"$f":"--ISNUMBER(IFERROR(SEARCH(ProviderTable!$B$3,C946,1),\"\"))","v":1},{"$f":"IF(D946=1,COUNTIF($D$2:D946,1),\"\")","v":945},{"$f":"IFERROR(INDEX($C$2:$C$1024,MATCH(ROWS($E$2:E946),$E$2:$E$1024,0)),\"\")","v":"10007193 - UXBRIDGE COLLEGE"}]
[10003841,"V LEARNING NET","10003841 - V LEARNING NET",{"$f":"--ISNUMBER(IFERROR(SEARCH(ProviderTable!$B$3,C947,1),\"\"))","v":1},{"$f":"IF(D947=1,COUNTIF($D$2:D947,1),\"\")","v":946},{"$f":"IFERROR(INDEX($C$2:$C$1024,MATCH(ROWS($E$2:E947),$E$2:$E$1024,0)),\"\")","v":"10003841 - V LEARNING NET"}]
[10019260,"VALLEY FORGE (UK) LIMITED","10019260 - VALLEY FORGE (UK) LIMITED",{"$f":"--ISNUMBER(IFERROR(SEARCH(ProviderTable!$B$3,C948,1),\"\"))","v":1},{"$f":"IF(D948=1,COUNTIF($D$2:D948,1),\"\")","v":947},{"$f":"IFERROR(INDEX($C$2:$C$1024,MATCH(ROWS($E$2:E948),$E$2:$E$1024,0)),\"\")","v":"10019260 - VALLEY FORGE (UK) LIMITED"}]
[10007212,"VARNDEAN COLLEGE","10007212 - VARNDEAN COLLEGE",{"$f":"--ISNUMBER(IFERROR(SEARCH(ProviderTable!$B$3,C949,1),\"\"))","v":1},{"$f":"IF(D949=1,COUNTIF($D$2:D949,1),\"\")","v":948},{"$f":"IFERROR(INDEX($C$2:$C$1024,MATCH(ROWS($E$2:E949),$E$2:$E$1024,0)),\"\")","v":"10007212 - VARNDEAN COLLEGE"}]
[10007218,"VENTURE LEARNING LIMITED","10007218 - VENTURE LEARNING LIMITED",{"$f":"--ISNUMBER(IFERROR(SEARCH(ProviderTable!$B$3,C950,1),\"\"))","v":1},{"$f":"IF(D950=1,COUNTIF($D$2:D950,1),\"\")","v":949},{"$f":"IFERROR(INDEX($C$2:$C$1024,MATCH(ROWS($E$2:E950),$E$2:$E$1024,0)),\"\")","v":"10007218 - VENTURE LEARNING LIMITED"}]
[10014199,"VEOLIA ENVIRONNEMENT DEVELOPMENT CENTRE LIMITED","10014199 - VEOLIA ENVIRONNEMENT DEVELOPMENT CENTRE LIMITED",{"$f":"--ISNUMBER(IFERROR(SEARCH(ProviderTable!$B$3,C951,1),\"\"))","v":1},{"$f":"IF(D951=1,COUNTIF($D$2:D951,1),\"\")","v":950},{"$f":"IFERROR(INDEX($C$2:$C$1024,MATCH(ROWS($E$2:E951),$E$2:$E$1024,0)),\"\")","v":"10014199 - VEOLIA ENVIRONNEMENT DEVELOPMENT CENTRE LIMITED"}]
[10023925,"VIRGIN MEDIA LIMITED","10023925 - VIRGIN MEDIA LIMITED",{"$f":"--ISNUMBER(IFERROR(SEARCH(ProviderTable!$B$3,C952,1),\"\"))","v":1},{"$f":"IF(D952=1,COUNTIF($D$2:D952,1),\"\")","v":951},{"$f":"IFERROR(INDEX($C$2:$C$1024,MATCH(ROWS($E$2:E952),$E$2:$E$1024,0)),\"\")","v":"10023925 - VIRGIN MEDIA LIMITED"}]
[10006845,"VIRTUAL COLLEGE LIMITED","10006845 - VIRTUAL COLLEGE LIMITED",{"$f":"--ISNUMBER(IFERROR(SEARCH(ProviderTable!$B$3,C953,1),\"\"))","v":1},{"$f":"IF(D953=1,COUNTIF($D$2:D953,1),\"\")","v":952},{"$f":"IFERROR(INDEX($C$2:$C$1024,MATCH(ROWS($E$2:E953),$E$2:$E$1024,0)),\"\")","v":"10006845 - VIRTUAL COLLEGE LIMITED"}]
[10007232,"VISAGE SCHOOL OF BEAUTY THERAPY LIMITED","10007232 - VISAGE SCHOOL OF BEAUTY THERAPY LIMITED",{"$f":"--ISNUMBER(IFERROR(SEARCH(ProviderTable!$B$3,C954,1),\"\"))","v":1},{"$f":"IF(D954=1,COUNTIF($D$2:D954,1),\"\")","v":953},{"$f":"IFERROR(INDEX($C$2:$C$1024,MATCH(ROWS($E$2:E954),$E$2:$E$1024,0)),\"\")","v":"10007232 - VISAGE SCHOOL OF BEAUTY THERAPY LIMITED"}]
[10042126,"VISION EXPRESS (UK) LIMITED","10042126 - VISION EXPRESS (UK) LIMITED",{"$f":"--ISNUMBER(IFERROR(SEARCH(ProviderTable!$B$3,C955,1),\"\"))","v":1},{"$f":"IF(D955=1,COUNTIF($D$2:D955,1),\"\")","v":954},{"$f":"IFERROR(INDEX($C$2:$C$1024,MATCH(ROWS($E$2:E955),$E$2:$E$1024,0)),\"\")","v":"10042126 - VISION EXPRESS (UK) LIMITED"}]
[10009450,"VOCATIONAL TRAINING SERVICES CARE SECTOR LIMITED","10009450 - VOCATIONAL TRAINING SERVICES CARE SECTOR LIMITED",{"$f":"--ISNUMBER(IFERROR(SEARCH(ProviderTable!$B$3,C956,1),\"\"))","v":1},{"$f":"IF(D956=1,COUNTIF($D$2:D956,1),\"\")","v":955},{"$f":"IFERROR(INDEX($C$2:$C$1024,MATCH(ROWS($E$2:E956),$E$2:$E$1024,0)),\"\")","v":"10009450 - VOCATIONAL TRAINING SERVICES CARE SECTOR LIMITED"}]
[10030462,"VOYAGE GROUP LIMITED","10030462 - VOYAGE GROUP LIMITED",{"$f":"--ISNUMBER(IFERROR(SEARCH(ProviderTable!$B$3,C957,1),\"\"))","v":1},{"$f":"IF(D957=1,COUNTIF($D$2:D957,1),\"\")","v":956},{"$f":"IFERROR(INDEX($C$2:$C$1024,MATCH(ROWS($E$2:E957),$E$2:$E$1024,0)),\"\")","v":"10030462 - VOYAGE GROUP LIMITED"}]
[10022405,"VQ SOLUTIONS LTD","10022405 - VQ SOLUTIONS LTD",{"$f":"--ISNUMBER(IFERROR(SEARCH(ProviderTable!$B$3,C958,1),\"\"))","v":1},{"$f":"IF(D958=1,COUNTIF($D$2:D958,1),\"\")","v":957},{"$f":"IFERROR(INDEX($C$2:$C$1024,MATCH(ROWS($E$2:E958),$E$2:$E$1024,0)),\"\")","v":"10022405 - VQ SOLUTIONS LTD"}]
[10007659,"W S TRAINING LTD.","10007659 - W S TRAINING LTD.",{"$f":"--ISNUMBER(IFERROR(SEARCH(ProviderTable!$B$3,C959,1),\"\"))","v":1},{"$f":"IF(D959=1,COUNTIF($D$2:D959,1),\"\")","v":958},{"$f":"IFERROR(INDEX($C$2:$C$1024,MATCH(ROWS($E$2:E959),$E$2:$E$1024,0)),\"\")","v":"10007659 - W S TRAINING LTD."}]
[10007291,"WAKEFIELD CITY COUNCIL","10007291 - WAKEFIELD CITY COUNCIL",{"$f":"--ISNUMBER(IFERROR(SEARCH(ProviderTable!$B$3,C960,1),\"\"))","v":1},{"$f":"IF(D960=1,COUNTIF($D$2:D960,1),\"\")","v":959},{"$f":"IFERROR(INDEX($C$2:$C$1024,MATCH(ROWS($E$2:E960),$E$2:$E$1024,0)),\"\")","v":"10007291 - WAKEFIELD CITY COUNCIL"}]
[10007289,"WAKEFIELD COLLEGE","10007289 - WAKEFIELD COLLEGE",{"$f":"--ISNUMBER(IFERROR(SEARCH(ProviderTable!$B$3,C961,1),\"\"))","v":1},{"$f":"IF(D961=1,COUNTIF($D$2:D961,1),\"\")","v":960},{"$f":"IFERROR(INDEX($C$2:$C$1024,MATCH(ROWS($E$2:E961),$E$2:$E$1024,0)),\"\")","v":"10007289 - WAKEFIELD COLLEGE"}]
[10007315,"WALSALL COLLEGE","10007315 - WALSALL COLLEGE",{"$f":"--ISNUMBER(IFERROR(SEARCH(ProviderTable!$B$3,C962,1),\"\"))","v":1},{"$f":"IF(D962=1,COUNTIF($D$2:D962,1),\"\")","v":961},{"$f":"IFERROR(INDEX($C$2:$C$1024,MATCH(ROWS($E$2:E962),$E$2:$E$1024,0)),\"\")","v":"10007315 - WALSALL COLLEGE"}]
[10007318,"WALSALL METROPOLITAN BOROUGH COUNCIL",{"$f":"A963&\" - \"&B963","v":"10007318 - WALSALL METROPOLITAN BOROUGH COUNCIL"},{"$f":"--ISNUMBER(IFERROR(SEARCH(ProviderTable!$B$3,C963,1),\"\"))","v":1},{"$f":"IF(D963=1,COUNTIF($D$2:D963,1),\"\")","v":962},{"$f":"IFERROR(INDEX($C$2:$C$1024,MATCH(ROWS($E$2:E963),$E$2:$E$1024,0)),\"\")","v":"10007318 - WALSALL METROPOLITAN BOROUGH COUNCIL"}]
[10007320,"WALTHAM FOREST CHAMBER OF COMMERCE TRAINING TRUST LIMITED","10007320 - WALTHAM FOREST CHAMBER OF COMMERCE TRAINING TRUST LIMITED",{"$f":"--ISNUMBER(IFERROR(SEARCH(ProviderTable!$B$3,C964,1),\"\"))","v":1},{"$f":"IF(D964=1,COUNTIF($D$2:D964,1),\"\")","v":963},{"$f":"IFERROR(INDEX($C$2:$C$1024,MATCH(ROWS($E$2:E964),$E$2:$E$1024,0)),\"\")","v":"10007320 - WALTHAM FOREST CHAMBER OF COMMERCE TRAINING TRUST LIMITED"}]
[10007321,"WALTHAM FOREST COLLEGE","10007321 - WALTHAM FOREST COLLEGE",{"$f":"--ISNUMBER(IFERROR(SEARCH(ProviderTable!$B$3,C965,1),\"\"))","v":1},{"$f":"IF(D965=1,COUNTIF($D$2:D965,1),\"\")","v":964},{"$f":"IFERROR(INDEX($C$2:$C$1024,MATCH(ROWS($E$2:E965),$E$2:$E$1024,0)),\"\")","v":"10007321 - WALTHAM FOREST COLLEGE"}]
[10007322,"WALTHAM FOREST LONDON BOROUGH COUNCIL","10007322 - WALTHAM FOREST LONDON BOROUGH COUNCIL",{"$f":"--ISNUMBER(IFERROR(SEARCH(ProviderTable!$B$3,C966,1),\"\"))","v":1},{"$f":"IF(D966=1,COUNTIF($D$2:D966,1),\"\")","v":965},{"$f":"IFERROR(INDEX($C$2:$C$1024,MATCH(ROWS($E$2:E966),$E$2:$E$1024,0)),\"\")","v":"10007322 - WALTHAM FOREST LONDON BOROUGH COUNCIL"}]
[10004002,"WANDSWORTH LONDON BOROUGH COUNCIL","10004002 - WANDSWORTH LONDON BOROUGH COUNCIL",{"$f":"--ISNUMBER(IFERROR(SEARCH(ProviderTable!$B$3,C967,1),\"\"))","v":1},{"$f":"IF(D967=1,COUNTIF($D$2:D967,1),\"\")","v":966},{"$f":"IFERROR(INDEX($C$2:$C$1024,MATCH(ROWS($E$2:E967),$E$2:$E$1024,0)),\"\")","v":"10004002 - WANDSWORTH LONDON BOROUGH COUNCIL"}]
[10007336,"WARRINGTON BOROUGH COUNCIL","10007336 - WARRINGTON BOROUGH COUNCIL",{"$f":"--ISNUMBER(IFERROR(SEARCH(ProviderTable!$B$3,C968,1),\"\"))","v":1},{"$f":"IF(D968=1,COUNTIF($D$2:D968,1),\"\")","v":967},{"$f":"IFERROR(INDEX($C$2:$C$1024,MATCH(ROWS($E$2:E968),$E$2:$E$1024,0)),\"\")","v":"10007336 - WARRINGTON BOROUGH COUNCIL"}]
[10007339,"WARRINGTON COLLEGIATE","10007339 - WARRINGTON COLLEGIATE",{"$f":"--ISNUMBER(IFERROR(SEARCH(ProviderTable!$B$3,C969,1),\"\"))","v":1},{"$f":"IF(D969=1,COUNTIF($D$2:D969,1),\"\")","v":968},{"$f":"IFERROR(INDEX($C$2:$C$1024,MATCH(ROWS($E$2:E969),$E$2:$E$1024,0)),\"\")","v":"10007339 - WARRINGTON COLLEGIATE"}]
[10007859,"WARWICKSHIRE COLLEGE","10007859 - WARWICKSHIRE COLLEGE",{"$f":"--ISNUMBER(IFERROR(SEARCH(ProviderTable!$B$3,C970,1),\"\"))","v":1},{"$f":"IF(D970=1,COUNTIF($D$2:D970,1),\"\")","v":969},{"$f":"IFERROR(INDEX($C$2:$C$1024,MATCH(ROWS($E$2:E970),$E$2:$E$1024,0)),\"\")","v":"10007859 - WARWICKSHIRE COLLEGE"}]
[10007348,"WARWICKSHIRE COUNTY COUNCIL","10007348 - WARWICKSHIRE COUNTY COUNCIL",{"$f":"--ISNUMBER(IFERROR(SEARCH(ProviderTable!$B$3,C971,1),\"\"))","v":1},{"$f":"IF(D971=1,COUNTIF($D$2:D971,1),\"\")","v":970},{"$f":"IFERROR(INDEX($C$2:$C$1024,MATCH(ROWS($E$2:E971),$E$2:$E$1024,0)),\"\")","v":"10007348 - WARWICKSHIRE COUNTY COUNCIL"}]
[10008986,"WAVERLEY BOROUGH COUNCIL","10008986 - WAVERLEY BOROUGH COUNCIL",{"$f":"--ISNUMBER(IFERROR(SEARCH(ProviderTable!$B$3,C972,1),\"\"))","v":1},{"$f":"IF(D972=1,COUNTIF($D$2:D972,1),\"\")","v":971},{"$f":"IFERROR(INDEX($C$2:$C$1024,MATCH(ROWS($E$2:E972),$E$2:$E$1024,0)),\"\")","v":"10008986 - WAVERLEY BOROUGH COUNCIL"}]
[10007375,"WEBS TRAINING LIMITED","10007375 - WEBS TRAINING LIMITED",{"$f":"--ISNUMBER(IFERROR(SEARCH(ProviderTable!$B$3,C973,1),\"\"))","v":1},{"$f":"IF(D973=1,COUNTIF($D$2:D973,1),\"\")","v":972},{"$f":"IFERROR(INDEX($C$2:$C$1024,MATCH(ROWS($E$2:E973),$E$2:$E$1024,0)),\"\")","v":"10007375 - WEBS TRAINING LIMITED"}]
[10007377,"WEIR TRAINING LIMITED","10007377 - WEIR TRAINING LIMITED",{"$f":"--ISNUMBER(IFERROR(SEARCH(ProviderTable!$B$3,C974,1),\"\"))","v":1},{"$f":"IF(D974=1,COUNTIF($D$2:D974,1),\"\")","v":973},{"$f":"IFERROR(INDEX($C$2:$C$1024,MATCH(ROWS($E$2:E974),$E$2:$E$1024,0)),\"\")","v":"10007377 - WEIR TRAINING LIMITED"}]
[10007396,"WEST ANGLIA TRAINING ASSOCIATION LIMITED","10007396 - WEST ANGLIA TRAINING ASSOCIATION LIMITED",{"$f":"--ISNUMBER(IFERROR(SEARCH(ProviderTable!$B$3,C975,1),\"\"))","v":1},{"$f":"IF(D975=1,COUNTIF($D$2:D975,1),\"\")","v":974},{"$f":"IFERROR(INDEX($C$2:$C$1024,MATCH(ROWS($E$2:E975),$E$2:$E$1024,0)),\"\")","v":"10007396 - WEST ANGLIA TRAINING ASSOCIATION LIMITED"}]
[10007398,"WEST BERKSHIRE COUNCIL","10007398 - WEST BERKSHIRE COUNCIL",{"$f":"--ISNUMBER(IFERROR(SEARCH(ProviderTable!$B$3,C976,1),\"\"))","v":1},{"$f":"IF(D976=1,COUNTIF($D$2:D976,1),\"\")","v":975},{"$f":"IFERROR(INDEX($C$2:$C$1024,MATCH(ROWS($E$2:E976),$E$2:$E$1024,0)),\"\")","v":"10007398 - WEST BERKSHIRE COUNCIL"}]
[10007402,"WEST BERKSHIRE TRAINING CONSORTIUM","10007402 - WEST BERKSHIRE TRAINING CONSORTIUM",{"$f":"--ISNUMBER(IFERROR(SEARCH(ProviderTable!$B$3,C977,1),\"\"))","v":1},{"$f":"IF(D977=1,COUNTIF($D$2:D977,1),\"\")","v":976},{"$f":"IFERROR(INDEX($C$2:$C$1024,MATCH(ROWS($E$2:E977),$E$2:$E$1024,0)),\"\")","v":"10007402 - WEST BERKSHIRE TRAINING CONSORTIUM"}]
[10007407,"WEST CHESHIRE COLLEGE","10007407 - WEST CHESHIRE COLLEGE",{"$f":"--ISNUMBER(IFERROR(SEARCH(ProviderTable!$B$3,C978,1),\"\"))","v":1},{"$f":"IF(D978=1,COUNTIF($D$2:D978,1),\"\")","v":977},{"$f":"IFERROR(INDEX($C$2:$C$1024,MATCH(ROWS($E$2:E978),$E$2:$E$1024,0)),\"\")","v":"10007407 - WEST CHESHIRE COLLEGE"}]
[10007417,"WEST HERTS COLLEGE","10007417 - WEST HERTS COLLEGE",{"$f":"--ISNUMBER(IFERROR(SEARCH(ProviderTable!$B$3,C979,1),\"\"))","v":1},{"$f":"IF(D979=1,COUNTIF($D$2:D979,1),\"\")","v":978},{"$f":"IFERROR(INDEX($C$2:$C$1024,MATCH(ROWS($E$2:E979),$E$2:$E$1024,0)),\"\")","v":"10007417 - WEST HERTS COLLEGE"}]
[10007419,"WEST KENT AND ASHFORD COLLEGE","10007419 - WEST KENT AND ASHFORD COLLEGE",{"$f":"--ISNUMBER(IFERROR(SEARCH(ProviderTable!$B$3,C980,1),\"\"))","v":1},{"$f":"IF(D980=1,COUNTIF($D$2:D980,1),\"\")","v":979},{"$f":"IFERROR(INDEX($C$2:$C$1024,MATCH(ROWS($E$2:E980),$E$2:$E$1024,0)),\"\")","v":"10007419 - WEST KENT AND ASHFORD COLLEGE"}]
[10053961,"WEST LANCASHIRE COLLEGE","10053961 - WEST LANCASHIRE COLLEGE",{"$f":"--ISNUMBER(IFERROR(SEARCH(ProviderTable!$B$3,C981,1),\"\"))","v":1},{"$f":"IF(D981=1,COUNTIF($D$2:D981,1),\"\")","v":980},{"$f":"IFERROR(INDEX($C$2:$C$1024,MATCH(ROWS($E$2:E981),$E$2:$E$1024,0)),\"\")","v":"10053961 - WEST LANCASHIRE COLLEGE"}]
[10023130,"WEST LONDON VOCATIONAL TRAINING COLLEGE LTD","10023130 - WEST LONDON VOCATIONAL TRAINING COLLEGE LTD",{"$f":"--ISNUMBER(IFERROR(SEARCH(ProviderTable!$B$3,C982,1),\"\"))","v":1},{"$f":"IF(D982=1,COUNTIF($D$2:D982,1),\"\")","v":981},{"$f":"IFERROR(INDEX($C$2:$C$1024,MATCH(ROWS($E$2:E982),$E$2:$E$1024,0)),\"\")","v":"10023130 - WEST LONDON VOCATIONAL TRAINING COLLEGE LTD"}]
[10007427,"WEST NOTTINGHAMSHIRE COLLEGE","10007427 - WEST NOTTINGHAMSHIRE COLLEGE",{"$f":"--ISNUMBER(IFERROR(SEARCH(ProviderTable!$B$3,C983,1),\"\"))","v":1},{"$f":"IF(D983=1,COUNTIF($D$2:D983,1),\"\")","v":982},{"$f":"IFERROR(INDEX($C$2:$C$1024,MATCH(ROWS($E$2:E983),$E$2:$E$1024,0)),\"\")","v":"10007427 - WEST NOTTINGHAMSHIRE COLLEGE"}]
[10007431,"WEST SUFFOLK COLLEGE","10007431 - WEST SUFFOLK COLLEGE",{"$f":"--ISNUMBER(IFERROR(SEARCH(ProviderTable!$B$3,C984,1),\"\"))","v":1},{"$f":"IF(D984=1,COUNTIF($D$2:D984,1),\"\")","v":983},{"$f":"IFERROR(INDEX($C$2:$C$1024,MATCH(ROWS($E$2:E984),$E$2:$E$1024,0)),\"\")","v":"10007431 - WEST SUFFOLK COLLEGE"}]
[10007432,"WEST SUSSEX COUNTY COUNCIL","10007432 - WEST SUSSEX COUNTY COUNCIL",{"$f":"--ISNUMBER(IFERROR(SEARCH(ProviderTable!$B$3,C985,1),\"\"))","v":1},{"$f":"IF(D985=1,COUNTIF($D$2:D985,1),\"\")","v":984},{"$f":"IFERROR(INDEX($C$2:$C$1024,MATCH(ROWS($E$2:E985),$E$2:$E$1024,0)),\"\")","v":"10007432 - WEST SUSSEX COUNTY COUNCIL"}]
[10007434,"WEST THAMES COLLEGE","10007434 - WEST THAMES COLLEGE",{"$f":"--ISNUMBER(IFERROR(SEARCH(ProviderTable!$B$3,C986,1),\"\"))","v":1},{"$f":"IF(D986=1,COUNTIF($D$2:D986,1),\"\")","v":985},{"$f":"IFERROR(INDEX($C$2:$C$1024,MATCH(ROWS($E$2:E986),$E$2:$E$1024,0)),\"\")","v":"10007434 - WEST THAMES COLLEGE"}]
[10008591,"WEST YORKSHIRE LEARNING PROVIDERS LTD","10008591 - WEST YORKSHIRE LEARNING PROVIDERS LTD",{"$f":"--ISNUMBER(IFERROR(SEARCH(ProviderTable!$B$3,C987,1),\"\"))","v":1},{"$f":"IF(D987=1,COUNTIF($D$2:D987,1),\"\")","v":986},{"$f":"IFERROR(INDEX($C$2:$C$1024,MATCH(ROWS($E$2:E987),$E$2:$E$1024,0)),\"\")","v":"10008591 - WEST YORKSHIRE LEARNING PROVIDERS LTD"}]
[10019456,"WESTGATE COLLEGE","10019456 - WESTGATE COLLEGE",{"$f":"--ISNUMBER(IFERROR(SEARCH(ProviderTable!$B$3,C988,1),\"\"))","v":1},{"$f":"IF(D988=1,COUNTIF($D$2:D988,1),\"\")","v":987},{"$f":"IFERROR(INDEX($C$2:$C$1024,MATCH(ROWS($E$2:E988),$E$2:$E$1024,0)),\"\")","v":"10019456 - WESTGATE COLLEGE"}]
[10001464,"WESTMINSTER CITY COUNCIL","10001464 - WESTMINSTER CITY COUNCIL",{"$f":"--ISNUMBER(IFERROR(SEARCH(ProviderTable!$B$3,C989,1),\"\"))","v":1},{"$f":"IF(D989=1,COUNTIF($D$2:D989,1),\"\")","v":988},{"$f":"IFERROR(INDEX($C$2:$C$1024,MATCH(ROWS($E$2:E989),$E$2:$E$1024,0)),\"\")","v":"10001464 - WESTMINSTER CITY COUNCIL"}]
[10007455,"WESTMINSTER KINGSWAY COLLEGE","10007455 - WESTMINSTER KINGSWAY COLLEGE",{"$f":"--ISNUMBER(IFERROR(SEARCH(ProviderTable!$B$3,C990,1),\"\"))","v":1},{"$f":"IF(D990=1,COUNTIF($D$2:D990,1),\"\")","v":989},{"$f":"IFERROR(INDEX($C$2:$C$1024,MATCH(ROWS($E$2:E990),$E$2:$E$1024,0)),\"\")","v":"10007455 - WESTMINSTER KINGSWAY COLLEGE"}]
[10007459,"WESTON COLLEGE OF FURTHER AND HIGHER EDUCATION","10007459 - WESTON COLLEGE OF FURTHER AND HIGHER EDUCATION",{"$f":"--ISNUMBER(IFERROR(SEARCH(ProviderTable!$B$3,C991,1),\"\"))","v":1},{"$f":"IF(D991=1,COUNTIF($D$2:D991,1),\"\")","v":990},{"$f":"IFERROR(INDEX($C$2:$C$1024,MATCH(ROWS($E$2:E991),$E$2:$E$1024,0)),\"\")","v":"10007459 - WESTON COLLEGE OF FURTHER AND HIGHER EDUCATION"}]
[10003256,"WESTWARD PATHFINDER","10003256 - WESTWARD PATHFINDER",{"$f":"--ISNUMBER(IFERROR(SEARCH(ProviderTable!$B$3,C992,1),\"\"))","v":1},{"$f":"IF(D992=1,COUNTIF($D$2:D992,1),\"\")","v":991},{"$f":"IFERROR(INDEX($C$2:$C$1024,MATCH(ROWS($E$2:E992),$E$2:$E$1024,0)),\"\")","v":"10003256 - WESTWARD PATHFINDER"}]
[10007469,"WEYMOUTH COLLEGE","10007469 - WEYMOUTH COLLEGE",{"$f":"--ISNUMBER(IFERROR(SEARCH(ProviderTable!$B$3,C993,1),\"\"))","v":1},{"$f":"IF(D993=1,COUNTIF($D$2:D993,1),\"\")","v":992},{"$f":"IFERROR(INDEX($C$2:$C$1024,MATCH(ROWS($E$2:E993),$E$2:$E$1024,0)),\"\")","v":"10007469 - WEYMOUTH COLLEGE"}]
[10008023,"WHITBREAD PLC","10008023 - WHITBREAD PLC",{"$f":"--ISNUMBER(IFERROR(SEARCH(ProviderTable!$B$3,C994,1),\"\"))","v":1},{"$f":"IF(D994=1,COUNTIF($D$2:D994,1),\"\")","v":993},{"$f":"IFERROR(INDEX($C$2:$C$1024,MATCH(ROWS($E$2:E994),$E$2:$E$1024,0)),\"\")","v":"10008023 - WHITBREAD PLC"}]
[10007500,"WIGAN AND LEIGH COLLEGE","10007500 - WIGAN AND LEIGH COLLEGE",{"$f":"--ISNUMBER(IFERROR(SEARCH(ProviderTable!$B$3,C995,1),\"\"))","v":1},{"$f":"IF(D995=1,COUNTIF($D$2:D995,1),\"\")","v":994},{"$f":"IFERROR(INDEX($C$2:$C$1024,MATCH(ROWS($E$2:E995),$E$2:$E$1024,0)),\"\")","v":"10007500 - WIGAN AND LEIGH COLLEGE"}]
[10007502,"WIGAN METROPOLITAN BOROUGH COUNCIL","10007502 - WIGAN METROPOLITAN BOROUGH COUNCIL",{"$f":"--ISNUMBER(IFERROR(SEARCH(ProviderTable!$B$3,C996,1),\"\"))","v":1},{"$f":"IF(D996=1,COUNTIF($D$2:D996,1),\"\")","v":995},{"$f":"IFERROR(INDEX($C$2:$C$1024,MATCH(ROWS($E$2:E996),$E$2:$E$1024,0)),\"\")","v":"10007502 - WIGAN METROPOLITAN BOROUGH COUNCIL"}]
[10007503,"WILBERFORCE COLLEGE","10007503 - WILBERFORCE COLLEGE",{"$f":"--ISNUMBER(IFERROR(SEARCH(ProviderTable!$B$3,C997,1),\"\"))","v":1},{"$f":"IF(D997=1,COUNTIF($D$2:D997,1),\"\")","v":996},{"$f":"IFERROR(INDEX($C$2:$C$1024,MATCH(ROWS($E$2:E997),$E$2:$E$1024,0)),\"\")","v":"10007503 - WILBERFORCE COLLEGE"}]
[10007527,"WILTSHIRE COLLEGE","10007527 - WILTSHIRE COLLEGE",{"$f":"--ISNUMBER(IFERROR(SEARCH(ProviderTable!$B$3,C998,1),\"\"))","v":1},{"$f":"IF(D998=1,COUNTIF($D$2:D998,1),\"\")","v":997},{"$f":"IFERROR(INDEX($C$2:$C$1024,MATCH(ROWS($E$2:E998),$E$2:$E$1024,0)),\"\")","v":"10007527 - WILTSHIRE COLLEGE"}]
[10008024,"WILTSHIRE TRANSPORT TRAINING & DEVELOPMENT LIMITED","10008024 - WILTSHIRE TRANSPORT TRAINING & DEVELOPMENT LIMITED",{"$f":"--ISNUMBER(IFERROR(SEARCH(ProviderTable!$B$3,C999,1),\"\"))","v":1},{"$f":"IF(D999=1,COUNTIF($D$2:D999,1),\"\")","v":998},{"$f":"IFERROR(INDEX($C$2:$C$1024,MATCH(ROWS($E$2:E999),$E$2:$E$1024,0)),\"\")","v":"10008024 - WILTSHIRE TRANSPORT TRAINING & DEVELOPMENT LIMITED"}]
[10019780,"WINCANTON GROUP LIMITED","10019780 - WINCANTON GROUP LIMITED",{"$f":"--ISNUMBER(IFERROR(SEARCH(ProviderTable!$B$3,C1000,1),\"\"))","v":1},{"$f":"IF(D1000=1,COUNTIF($D$2:D1000,1),\"\")","v":999},{"$f":"IFERROR(INDEX($C$2:$C$1024,MATCH(ROWS($E$2:E1000),$E$2:$E$1024,0)),\"\")","v":"10019780 - WINCANTON GROUP LIMITED"}]
[10007553,"WIRRAL METROPOLITAN COLLEGE","10007553 - WIRRAL METROPOLITAN COLLEGE",{"$f":"--ISNUMBER(IFERROR(SEARCH(ProviderTable!$B$3,C1001,1),\"\"))","v":1},{"$f":"IF(D1001=1,COUNTIF($D$2:D1001,1),\"\")","v":1000},{"$f":"IFERROR(INDEX($C$2:$C$1024,MATCH(ROWS($E$2:E1001),$E$2:$E$1024,0)),\"\")","v":"10007553 - WIRRAL METROPOLITAN COLLEGE"}]
[10007566,"WOKING COLLEGE","10007566 - WOKING COLLEGE",{"$f":"--ISNUMBER(IFERROR(SEARCH(ProviderTable!$B$3,C1002,1),\"\"))","v":1},{"$f":"IF(D1002=1,COUNTIF($D$2:D1002,1),\"\")","v":1001},{"$f":"IFERROR(INDEX($C$2:$C$1024,MATCH(ROWS($E$2:E1002),$E$2:$E$1024,0)),\"\")","v":"10007566 - WOKING COLLEGE"}]
[10007567,"WOKINGHAM COUNCIL","10007567 - WOKINGHAM COUNCIL",{"$f":"--ISNUMBER(IFERROR(SEARCH(ProviderTable!$B$3,C1003,1),\"\"))","v":1},{"$f":"IF(D1003=1,COUNTIF($D$2:D1003,1),\"\")","v":1002},{"$f":"IFERROR(INDEX($C$2:$C$1024,MATCH(ROWS($E$2:E1003),$E$2:$E$1024,0)),\"\")","v":"10007567 - WOKINGHAM COUNCIL"}]
[10007576,"WOLVERHAMPTON CITY COUNCIL","10007576 - WOLVERHAMPTON CITY COUNCIL",{"$f":"--ISNUMBER(IFERROR(SEARCH(ProviderTable!$B$3,C1004,1),\"\"))","v":1},{"$f":"IF(D1004=1,COUNTIF($D$2:D1004,1),\"\")","v":1003},{"$f":"IFERROR(INDEX($C$2:$C$1024,MATCH(ROWS($E$2:E1004),$E$2:$E$1024,0)),\"\")","v":"10007576 - WOLVERHAMPTON CITY COUNCIL"}]
[10007594,"WOMEN'S TECHNOLOGY TRAINING LIMITED","10007594 - WOMEN'S TECHNOLOGY TRAINING LIMITED",{"$f":"--ISNUMBER(IFERROR(SEARCH(ProviderTable!$B$3,C1005,1),\"\"))","v":1},{"$f":"IF(D1005=1,COUNTIF($D$2:D1005,1),\"\")","v":1004},{"$f":"IFERROR(INDEX($C$2:$C$1024,MATCH(ROWS($E$2:E1005),$E$2:$E$1024,0)),\"\")","v":"10007594 - WOMEN'S TECHNOLOGY TRAINING LIMITED"}]
[10000028,"WOODSPEEN TRAINING LIMITED","10000028 - WOODSPEEN TRAINING LIMITED",{"$f":"--ISNUMBER(IFERROR(SEARCH(ProviderTable!$B$3,C1006,1),\"\"))","v":1},{"$f":"IF(D1006=1,COUNTIF($D$2:D1006,1),\"\")","v":1005},{"$f":"IFERROR(INDEX($C$2:$C$1024,MATCH(ROWS($E$2:E1006),$E$2:$E$1024,0)),\"\")","v":"10000028 - WOODSPEEN TRAINING LIMITED"}]
[10007621,"WORCESTER COLLEGE OF TECHNOLOGY","10007621 - WORCESTER COLLEGE OF TECHNOLOGY",{"$f":"--ISNUMBER(IFERROR(SEARCH(ProviderTable!$B$3,C1007,1),\"\"))","v":1},{"$f":"IF(D1007=1,COUNTIF($D$2:D1007,1),\"\")","v":1006},{"$f":"IFERROR(INDEX($C$2:$C$1024,MATCH(ROWS($E$2:E1007),$E$2:$E$1024,0)),\"\")","v":"10007621 - WORCESTER COLLEGE OF TECHNOLOGY"}]
[10008025,"WORCESTER SIXTH FORM COLLEGE","10008025 - WORCESTER SIXTH FORM COLLEGE",{"$f":"--ISNUMBER(IFERROR(SEARCH(ProviderTable!$B$3,C1008,1),\"\"))","v":1},{"$f":"IF(D1008=1,COUNTIF($D$2:D1008,1),\"\")","v":1007},{"$f":"IFERROR(INDEX($C$2:$C$1024,MATCH(ROWS($E$2:E1008),$E$2:$E$1024,0)),\"\")","v":"10008025 - WORCESTER SIXTH FORM COLLEGE"}]
[10007623,"WORCESTERSHIRE COUNTY COUNCIL","10007623 - WORCESTERSHIRE COUNTY COUNCIL",{"$f":"--ISNUMBER(IFERROR(SEARCH(ProviderTable!$B$3,C1009,1),\"\"))","v":1},{"$f":"IF(D1009=1,COUNTIF($D$2:D1009,1),\"\")","v":1008},{"$f":"IFERROR(INDEX($C$2:$C$1024,MATCH(ROWS($E$2:E1009),$E$2:$E$1024,0)),\"\")","v":"10007623 - WORCESTERSHIRE COUNTY COUNCIL"}]
[10036871,"WORK SKILLS LIMITED","10036871 - WORK SKILLS LIMITED",{"$f":"--ISNUMBER(IFERROR(SEARCH(ProviderTable!$B$3,C1010,1),\"\"))","v":1},{"$f":"IF(D1010=1,COUNTIF($D$2:D1010,1),\"\")","v":1009},{"$f":"IFERROR(INDEX($C$2:$C$1024,MATCH(ROWS($E$2:E1010),$E$2:$E$1024,0)),\"\")","v":"10036871 - WORK SKILLS LIMITED"}]
[10007364,"WORKERS' EDUCATIONAL ASSOCIATION","10007364 - WORKERS' EDUCATIONAL ASSOCIATION",{"$f":"--ISNUMBER(IFERROR(SEARCH(ProviderTable!$B$3,C1011,1),\"\"))","v":1},{"$f":"IF(D1011=1,COUNTIF($D$2:D1011,1),\"\")","v":1010},{"$f":"IFERROR(INDEX($C$2:$C$1024,MATCH(ROWS($E$2:E1011),$E$2:$E$1024,0)),\"\")","v":"10007364 - WORKERS' EDUCATIONAL ASSOCIATION"}]
[10007636,"WORKING MEN'S COLLEGE CORPORATION","10007636 - WORKING MEN'S COLLEGE CORPORATION",{"$f":"--ISNUMBER(IFERROR(SEARCH(ProviderTable!$B$3,C1012,1),\"\"))","v":1},{"$f":"IF(D1012=1,COUNTIF($D$2:D1012,1),\"\")","v":1011},{"$f":"IFERROR(INDEX($C$2:$C$1024,MATCH(ROWS($E$2:E1012),$E$2:$E$1024,0)),\"\")","v":"10007636 - WORKING MEN'S COLLEGE CORPORATION"}]
[10007643,"WORTHING COLLEGE","10007643 - WORTHING COLLEGE",{"$f":"--ISNUMBER(IFERROR(SEARCH(ProviderTable!$B$3,C1013,1),\"\"))","v":1},{"$f":"IF(D1013=1,COUNTIF($D$2:D1013,1),\"\")","v":1012},{"$f":"IFERROR(INDEX($C$2:$C$1024,MATCH(ROWS($E$2:E1013),$E$2:$E$1024,0)),\"\")","v":"10007643 - WORTHING COLLEGE"}]
[10007657,"WRITTLE COLLEGE","10007657 - WRITTLE COLLEGE",{"$f":"--ISNUMBER(IFERROR(SEARCH(ProviderTable!$B$3,C1014,1),\"\"))","v":1},{"$f":"IF(D1014=1,COUNTIF($D$2:D1014,1),\"\")","v":1013},{"$f":"IFERROR(INDEX($C$2:$C$1024,MATCH(ROWS($E$2:E1014),$E$2:$E$1024,0)),\"\")","v":"10007657 - WRITTLE COLLEGE"}]
[10007682,"XAVERIAN COLLEGE","10007682 - XAVERIAN COLLEGE",{"$f":"--ISNUMBER(IFERROR(SEARCH(ProviderTable!$B$3,C1015,1),\"\"))","v":1},{"$f":"IF(D1015=1,COUNTIF($D$2:D1015,1),\"\")","v":1014},{"$f":"IFERROR(INDEX($C$2:$C$1024,MATCH(ROWS($E$2:E1015),$E$2:$E$1024,0)),\"\")","v":"10007682 - XAVERIAN COLLEGE"}]
[10005150,"XTP INTERNATIONAL LIMITED","10005150 - XTP INTERNATIONAL LIMITED",{"$f":"--ISNUMBER(IFERROR(SEARCH(ProviderTable!$B$3,C1016,1),\"\"))","v":1},{"$f":"IF(D1016=1,COUNTIF($D$2:D1016,1),\"\")","v":1015},{"$f":"IFERROR(INDEX($C$2:$C$1024,MATCH(ROWS($E$2:E1016),$E$2:$E$1024,0)),\"\")","v":"10005150 - XTP INTERNATIONAL LIMITED"}]
[10007696,"YEOVIL COLLEGE","10007696 - YEOVIL COLLEGE",{"$f":"--ISNUMBER(IFERROR(SEARCH(ProviderTable!$B$3,C1017,1),\"\"))","v":1},{"$f":"IF(D1017=1,COUNTIF($D$2:D1017,1),\"\")","v":1016},{"$f":"IFERROR(INDEX($C$2:$C$1024,MATCH(ROWS($E$2:E1017),$E$2:$E$1024,0)),\"\")","v":"10007696 - YEOVIL COLLEGE"}]
[10007697,"YH TRAINING SERVICES LIMITED","10007697 - YH TRAINING SERVICES LIMITED",{"$f":"--ISNUMBER(IFERROR(SEARCH(ProviderTable!$B$3,C1018,1),\"\"))","v":1},{"$f":"IF(D1018=1,COUNTIF($D$2:D1018,1),\"\")","v":1017},{"$f":"IFERROR(INDEX($C$2:$C$1024,MATCH(ROWS($E$2:E1018),$E$2:$E$1024,0)),\"\")","v":"10007697 - YH TRAINING SERVICES LIMITED"}]
[10007405,"YMCA TRAINING","10007405 - YMCA TRAINING",{"$f":"--ISNUMBER(IFERROR(SEARCH(ProviderTable!$B$3,C1019,1),\"\"))","v":1},{"$f":"IF(D1019=1,COUNTIF($D$2:D1019,1),\"\")","v":1018},{"$f":"IFERROR(INDEX($C$2:$C$1024,MATCH(ROWS($E$2:E1019),$E$2:$E$1024,0)),\"\")","v":"10007405 - YMCA TRAINING"}]
[10007709,"YORK COLLEGE","10007709 - YORK COLLEGE",{"$f":"--ISNUMBER(IFERROR(SEARCH(ProviderTable!$B$3,C1020,1),\"\"))","v":1},{"$f":"IF(D1020=1,COUNTIF($D$2:D1020,1),\"\")","v":1019},{"$f":"IFERROR(INDEX($C$2:$C$1024,MATCH(ROWS($E$2:E1020),$E$2:$E$1024,0)),\"\")","v":"10007709 - YORK COLLEGE"}]
[10008699,"YORKSHIRE COLLEGE OF BEAUTY LIMITED","10008699 - YORKSHIRE COLLEGE OF BEAUTY LIMITED",{"$f":"--ISNUMBER(IFERROR(SEARCH(ProviderTable!$B$3,C1021,1),\"\"))","v":1},{"$f":"IF(D1021=1,COUNTIF($D$2:D1021,1),\"\")","v":1020},{"$f":"IFERROR(INDEX($C$2:$C$1024,MATCH(ROWS($E$2:E1021),$E$2:$E$1024,0)),\"\")","v":"10008699 - YORKSHIRE COLLEGE OF BEAUTY LIMITED"}]
[10007722,"YORKSHIRE TRAINING PARTNERSHIP LIMITED","10007722 - YORKSHIRE TRAINING PARTNERSHIP LIMITED",{"$f":"--ISNUMBER(IFERROR(SEARCH(ProviderTable!$B$3,C1022,1),\"\"))","v":1},{"$f":"IF(D1022=1,COUNTIF($D$2:D1022,1),\"\")","v":1021},{"$f":"IFERROR(INDEX($C$2:$C$1024,MATCH(ROWS($E$2:E1022),$E$2:$E$1024,0)),\"\")","v":"10007722 - YORKSHIRE TRAINING PARTNERSHIP LIMITED"}]
[10004370,"YOUNGSAVE COMPANY LIMITED","10004370 - YOUNGSAVE COMPANY LIMITED",{"$f":"--ISNUMBER(IFERROR(SEARCH(ProviderTable!$B$3,C1023,1),\"\"))","v":1},{"$f":"IF(D1023=1,COUNTIF($D$2:D1023,1),\"\")","v":1022},{"$f":"IFERROR(INDEX($C$2:$C$1024,MATCH(ROWS($E$2:E1023),$E$2:$E$1024,0)),\"\")","v":"10004370 - YOUNGSAVE COMPANY LIMITED"}]
[10021339,"YOUR CONSORTIUM LIMITED","10021339 - YOUR CONSORTIUM LIMITED",{"$f":"--ISNUMBER(IFERROR(SEARCH(ProviderTable!$B$3,C1024,1),\"\"))","v":1},{"$f":"IF(D1024=1,COUNTIF($D$2:D1024,1),\"\")","v":1023},{"$f":"IFERROR(INDEX($C$2:$C$1024,MATCH(ROWS($E$2:E1024),$E$2:$E$1024,0)),\"\")","v":"10021339 - YOUR CONSORTIUM LIMITED"}]