{"text_format":"1","workbook":"xlsx","n_sheets":19,"sheets":["Cover","Index","Subject time series","Subject grouping composition","Descriptions","2010","2011","2012","2013","2014","2014 DISC3","2014 DISC3B","2014 DISC3C","2014Comparison DISC3 and DISC3B","2015 DISC3C","2015 DISC3B","2015 Comparison","2015","2016"],"not_rendered":{"charts":0,"images":4,"macros":1,"external_links":0,"defined_names":16,"comments":0,"pivot_tables":0},"unopened":[],"bounds":{"document_bytes":16777216,"sheet_cells":100000,"rows_first":2000,"rows_last":500,"rows_between":2000,"halvings":0,"cell_chars":16384,"cell_head_chars":4096},"cells_cut":0,"cells_raw":0,"read":"whole","date_system":"1900"}

{"sheet":"Cover","index":0,"n_rows":21,"n_cols":7,"rows_kept":21,"cut":false,"hidden":false,"merged":[]}
[]
[]
[]
[]
[]
[]
[]
[]
[null,"SFR03/2017: GCSE and equivalent results in England 2015/16 (Revised)"]
[]
[null,"Subject time series table"]
[]
[null,"Producer: Ali Pareas"]
[null,"Education Data Division, Department for Education, Sanctuary Buildings, Great Smith Street, London SW1P 3BT."]
[null,"Published: 19th January 2017"]
[null,"Crown copyright © 2017"]
[]
[null,"Index"]
[]
[null,"Further information on key stage 4 statistics can be found at:",null,null,null,null,"https://www.gov.uk/government/collections/statistics-gcses-key-stage-4"]
[null,"This table forms part of SFR03/2017. The text of the release and additional tables can be found at the link above."]

{"sheet":"Index","index":1,"n_rows":11,"n_cols":4,"rows_kept":11,"cut":false,"hidden":false,"merged":[]}
["SFR03/2017: GCSE and equivalent results in England 2015/16 (REVISED)"]
[]
["Subject time series table"]
[]
["Index of tables"]
[null,"Source: key stage 4 attainment data"]
[null,"Coverage: England"]
[]
[null,"Table title","School types covered","Period"]
[null,"Subject time series","All schools","2009/10 to 2015/16"]
[null,"Subject grouping composition table","N/A","N/A"]

{"sheet":"Subject time series","index":2,"n_rows":34,"n_cols":17,"rows_kept":34,"cut":false,"hidden":false,"merged":[[33,4,33,14],[22,4,22,16],[27,4,27,16],[32,4,32,16],[26,4,26,16],[25,4,25,16],[30,4,30,16],[31,4,31,16],[29,4,29,16],[24,4,24,16],[23,4,23,16],[1,4,1,16],[5,4,6,4],[5,5,5,16],[6,5,6,15],[6,16,7,16],[2,4,2,7]]}
[]
[null,null,null,null,"Time series of GCSE results1 of pupils at the end of key stage 4 in all schools, by subject2, grade and gender"]
[null,null,null,null,"Years: 2009/10 - 2015/163"]
[null,null,null,null,"Coverage: England"]
[null,null,null,null,"English","All",{"$f":"IF(Sex=\"Boys\",3,IF(Sex=\"Girls\",16,29))","v":29}]
[null,null,null,null,{"$f":"Group","v":"English"},{"$f":"Sex","v":"All"}]
[null,null,null,null,null,"Percentage achieving grade(s)",null,null,null,null,null,null,null,null,null,null,"Total \nentries"]
[null,null,null,null,"Year","A*","A","B","C","D","E","F","G","A*-A","A*-C","A*-G"]
[null,null,null,null,"2009/2010",{"$f":"IF(ISERROR(VLOOKUP(Group,GCSE2010,$G$5+Descriptions!F$1,FALSE)),\"-\",VLOOKUP(Group,GCSE2010,$G$5+Descriptions!F$1,FALSE))","v":5.0999999999999996},{"$f":"IF(ISERROR(VLOOKUP(Group,GCSE2010,$G$5+Descriptions!G$1,FALSE)),\"-\",VLOOKUP(Group,GCSE2010,$G$5+Descriptions!G$1,FALSE))","v":13.3},{"$f":"IF(ISERROR(VLOOKUP(Group,GCSE2010,$G$5+Descriptions!H$1,FALSE)),\"-\",VLOOKUP(Group,GCSE2010,$G$5+Descriptions!H$1,FALSE))","v":22.1},{"$f":"IF(ISERROR(VLOOKUP(Group,GCSE2010,$G$5+Descriptions!I$1,FALSE)),\"-\",VLOOKUP(Group,GCSE2010,$G$5+Descriptions!I$1,FALSE))","v":29.3},{"$f":"IF(ISERROR(VLOOKUP(Group,GCSE2010,$G$5+Descriptions!J$1,FALSE)),\"-\",VLOOKUP(Group,GCSE2010,$G$5+Descriptions!J$1,FALSE))","v":16.3},{"$f":"IF(ISERROR(VLOOKUP(Group,GCSE2010,$G$5+Descriptions!K$1,FALSE)),\"-\",VLOOKUP(Group,GCSE2010,$G$5+Descriptions!K$1,FALSE))","v":7.9},{"$f":"IF(ISERROR(VLOOKUP(Group,GCSE2010,$G$5+Descriptions!L$1,FALSE)),\"-\",VLOOKUP(Group,GCSE2010,$G$5+Descriptions!L$1,FALSE))","v":3.6},{"$f":"IF(ISERROR(VLOOKUP(Group,GCSE2010,$G$5+Descriptions!M$1,FALSE)),\"-\",VLOOKUP(Group,GCSE2010,$G$5+Descriptions!M$1,FALSE))","v":1.4},{"$f":"IF(ISERROR(VLOOKUP(Group,GCSE2010,$G$5+Descriptions!N$1,FALSE)),\"-\",VLOOKUP(Group,GCSE2010,$G$5+Descriptions!N$1,FALSE))","v":18.3},{"$f":"IF(ISERROR(VLOOKUP(Group,GCSE2010,$G$5+Descriptions!O$1,FALSE)),\"-\",VLOOKUP(Group,GCSE2010,$G$5+Descriptions!O$1,FALSE))","v":69.8},{"$f":"IF(ISERROR(VLOOKUP(Group,GCSE2010,$G$5+Descriptions!P$1,FALSE)),\"-\",VLOOKUP(Group,GCSE2010,$G$5+Descriptions!P$1,FALSE))","v":99},{"$f":"IF(ISERROR(VLOOKUP(Group,GCSE2010,$G$5+Descriptions!Q$1,FALSE)),\"-\",VLOOKUP(Group,GCSE2010,$G$5+Descriptions!Q$1,FALSE))","v":599245}]
[null,null,null,null,"2010/2011",{"$f":"IF(ISERROR(VLOOKUP(Group,GCSE2011,$G$5+Descriptions!F$1,FALSE)),\"-\",VLOOKUP(Group,GCSE2011,$G$5+Descriptions!F$1,FALSE))","v":5.5},{"$f":"IF(ISERROR(VLOOKUP(Group,GCSE2011,$G$5+Descriptions!G$1,FALSE)),\"-\",VLOOKUP(Group,GCSE2011,$G$5+Descriptions!G$1,FALSE))","v":13.9},{"$f":"IF(ISERROR(VLOOKUP(Group,GCSE2011,$G$5+Descriptions!H$1,FALSE)),\"-\",VLOOKUP(Group,GCSE2011,$G$5+Descriptions!H$1,FALSE))","v":22.5},{"$f":"IF(ISERROR(VLOOKUP(Group,GCSE2011,$G$5+Descriptions!I$1,FALSE)),\"-\",VLOOKUP(Group,GCSE2011,$G$5+Descriptions!I$1,FALSE))","v":30.3},{"$f":"IF(ISERROR(VLOOKUP(Group,GCSE2011,$G$5+Descriptions!J$1,FALSE)),\"-\",VLOOKUP(Group,GCSE2011,$G$5+Descriptions!J$1,FALSE))","v":15.4},{"$f":"IF(ISERROR(VLOOKUP(Group,GCSE2011,$G$5+Descriptions!K$1,FALSE)),\"-\",VLOOKUP(Group,GCSE2011,$G$5+Descriptions!K$1,FALSE))","v":7.2},{"$f":"IF(ISERROR(VLOOKUP(Group,GCSE2011,$G$5+Descriptions!L$1,FALSE)),\"-\",VLOOKUP(Group,GCSE2011,$G$5+Descriptions!L$1,FALSE))","v":3.1},{"$f":"IF(ISERROR(VLOOKUP(Group,GCSE2011,$G$5+Descriptions!M$1,FALSE)),\"-\",VLOOKUP(Group,GCSE2011,$G$5+Descriptions!M$1,FALSE))","v":1.2},{"$f":"IF(ISERROR(VLOOKUP(Group,GCSE2011,$G$5+Descriptions!N$1,FALSE)),\"-\",VLOOKUP(Group,GCSE2011,$G$5+Descriptions!N$1,FALSE))","v":19.399999999999999},{"$f":"IF(ISERROR(VLOOKUP(Group,GCSE2011,$G$5+Descriptions!O$1,FALSE)),\"-\",VLOOKUP(Group,GCSE2011,$G$5+Descriptions!O$1,FALSE))","v":72.3},{"$f":"IF(ISERROR(VLOOKUP(Group,GCSE2011,$G$5+Descriptions!P$1,FALSE)),\"-\",VLOOKUP(Group,GCSE2011,$G$5+Descriptions!P$1,FALSE))","v":99.1},{"$f":"IF(ISERROR(VLOOKUP(Group,GCSE2011,$G$5+Descriptions!Q$1,FALSE)),\"-\",VLOOKUP(Group,GCSE2011,$G$5+Descriptions!Q$1,FALSE))","v":587461}]
[null,null,null,null,"2011/2012",{"$f":"IF(ISERROR(VLOOKUP(Group,GCSE2012,$G$5+Descriptions!F$1,FALSE)),\"-\",VLOOKUP(Group,GCSE2012,$G$5+Descriptions!F$1,FALSE))","v":3.8},{"$f":"IF(ISERROR(VLOOKUP(Group,GCSE2012,$G$5+Descriptions!G$1,FALSE)),\"-\",VLOOKUP(Group,GCSE2012,$G$5+Descriptions!G$1,FALSE))","v":12.8},{"$f":"IF(ISERROR(VLOOKUP(Group,GCSE2012,$G$5+Descriptions!H$1,FALSE)),\"-\",VLOOKUP(Group,GCSE2012,$G$5+Descriptions!H$1,FALSE))","v":22.1},{"$f":"IF(ISERROR(VLOOKUP(Group,GCSE2012,$G$5+Descriptions!I$1,FALSE)),\"-\",VLOOKUP(Group,GCSE2012,$G$5+Descriptions!I$1,FALSE))","v":30.6},{"$f":"IF(ISERROR(VLOOKUP(Group,GCSE2012,$G$5+Descriptions!J$1,FALSE)),\"-\",VLOOKUP(Group,GCSE2012,$G$5+Descriptions!J$1,FALSE))","v":17.399999999999999},{"$f":"IF(ISERROR(VLOOKUP(Group,GCSE2012,$G$5+Descriptions!K$1,FALSE)),\"-\",VLOOKUP(Group,GCSE2012,$G$5+Descriptions!K$1,FALSE))","v":8.1},{"$f":"IF(ISERROR(VLOOKUP(Group,GCSE2012,$G$5+Descriptions!L$1,FALSE)),\"-\",VLOOKUP(Group,GCSE2012,$G$5+Descriptions!L$1,FALSE))","v":3.4},{"$f":"IF(ISERROR(VLOOKUP(Group,GCSE2012,$G$5+Descriptions!M$1,FALSE)),\"-\",VLOOKUP(Group,GCSE2012,$G$5+Descriptions!M$1,FALSE))","v":1.1000000000000001},{"$f":"IF(ISERROR(VLOOKUP(Group,GCSE2012,$G$5+Descriptions!N$1,FALSE)),\"-\",VLOOKUP(Group,GCSE2012,$G$5+Descriptions!N$1,FALSE))","v":16.600000000000001},{"$f":"IF(ISERROR(VLOOKUP(Group,GCSE2012,$G$5+Descriptions!O$1,FALSE)),\"-\",VLOOKUP(Group,GCSE2012,$G$5+Descriptions!O$1,FALSE))","v":69.3},{"$f":"IF(ISERROR(VLOOKUP(Group,GCSE2012,$G$5+Descriptions!P$1,FALSE)),\"-\",VLOOKUP(Group,GCSE2012,$G$5+Descriptions!P$1,FALSE))","v":99.4},{"$f":"IF(ISERROR(VLOOKUP(Group,GCSE2012,$G$5+Descriptions!Q$1,FALSE)),\"-\",VLOOKUP(Group,GCSE2012,$G$5+Descriptions!Q$1,FALSE))","v":568611}]
[null,null,null,null,"2012/2013",{"$f":"IF(ISERROR(VLOOKUP(Group,GCSE2013,$G$5+Descriptions!F$1,FALSE)),\"-\",VLOOKUP(Group,GCSE2013,$G$5+Descriptions!F$1,FALSE))","v":4},{"$f":"IF(ISERROR(VLOOKUP(Group,GCSE2013,$G$5+Descriptions!G$1,FALSE)),\"-\",VLOOKUP(Group,GCSE2013,$G$5+Descriptions!G$1,FALSE))","v":13},{"$f":"IF(ISERROR(VLOOKUP(Group,GCSE2013,$G$5+Descriptions!H$1,FALSE)),\"-\",VLOOKUP(Group,GCSE2013,$G$5+Descriptions!H$1,FALSE))","v":23.2},{"$f":"IF(ISERROR(VLOOKUP(Group,GCSE2013,$G$5+Descriptions!I$1,FALSE)),\"-\",VLOOKUP(Group,GCSE2013,$G$5+Descriptions!I$1,FALSE))","v":30.5},{"$f":"IF(ISERROR(VLOOKUP(Group,GCSE2013,$G$5+Descriptions!J$1,FALSE)),\"-\",VLOOKUP(Group,GCSE2013,$G$5+Descriptions!J$1,FALSE))","v":16.600000000000001},{"$f":"IF(ISERROR(VLOOKUP(Group,GCSE2013,$G$5+Descriptions!K$1,FALSE)),\"-\",VLOOKUP(Group,GCSE2013,$G$5+Descriptions!K$1,FALSE))","v":7.8},{"$f":"IF(ISERROR(VLOOKUP(Group,GCSE2013,$G$5+Descriptions!L$1,FALSE)),\"-\",VLOOKUP(Group,GCSE2013,$G$5+Descriptions!L$1,FALSE))","v":3.3},{"$f":"IF(ISERROR(VLOOKUP(Group,GCSE2013,$G$5+Descriptions!M$1,FALSE)),\"-\",VLOOKUP(Group,GCSE2013,$G$5+Descriptions!M$1,FALSE))","v":1.1000000000000001},{"$f":"IF(ISERROR(VLOOKUP(Group,GCSE2013,$G$5+Descriptions!N$1,FALSE)),\"-\",VLOOKUP(Group,GCSE2013,$G$5+Descriptions!N$1,FALSE))","v":17.100000000000001},{"$f":"IF(ISERROR(VLOOKUP(Group,GCSE2013,$G$5+Descriptions!O$1,FALSE)),\"-\",VLOOKUP(Group,GCSE2013,$G$5+Descriptions!O$1,FALSE))","v":70.7},{"$f":"IF(ISERROR(VLOOKUP(Group,GCSE2013,$G$5+Descriptions!P$1,FALSE)),\"-\",VLOOKUP(Group,GCSE2013,$G$5+Descriptions!P$1,FALSE))","v":99.4},{"$f":"IF(ISERROR(VLOOKUP(Group,GCSE2013,$G$5+Descriptions!Q$1,FALSE)),\"-\",VLOOKUP(Group,GCSE2013,$G$5+Descriptions!Q$1,FALSE))","v":550801}]
[null,null,null,null,"2013/20144",{"$f":"IF(ISERROR(VLOOKUP(Group,GCSE2014,$G$5+Descriptions!F$1,FALSE)),\"-\",VLOOKUP(Group,GCSE2014,$G$5+Descriptions!F$1,FALSE))","v":4.3},{"$f":"IF(ISERROR(VLOOKUP(Group,GCSE2014,$G$5+Descriptions!G$1,FALSE)),\"-\",VLOOKUP(Group,GCSE2014,$G$5+Descriptions!G$1,FALSE))","v":13.3},{"$f":"IF(ISERROR(VLOOKUP(Group,GCSE2014,$G$5+Descriptions!H$1,FALSE)),\"-\",VLOOKUP(Group,GCSE2014,$G$5+Descriptions!H$1,FALSE))","v":24.6},{"$f":"IF(ISERROR(VLOOKUP(Group,GCSE2014,$G$5+Descriptions!I$1,FALSE)),\"-\",VLOOKUP(Group,GCSE2014,$G$5+Descriptions!I$1,FALSE))","v":30.1},{"$f":"IF(ISERROR(VLOOKUP(Group,GCSE2014,$G$5+Descriptions!J$1,FALSE)),\"-\",VLOOKUP(Group,GCSE2014,$G$5+Descriptions!J$1,FALSE))","v":16.3},{"$f":"IF(ISERROR(VLOOKUP(Group,GCSE2014,$G$5+Descriptions!K$1,FALSE)),\"-\",VLOOKUP(Group,GCSE2014,$G$5+Descriptions!K$1,FALSE))","v":6.7},{"$f":"IF(ISERROR(VLOOKUP(Group,GCSE2014,$G$5+Descriptions!L$1,FALSE)),\"-\",VLOOKUP(Group,GCSE2014,$G$5+Descriptions!L$1,FALSE))","v":2.7},{"$f":"IF(ISERROR(VLOOKUP(Group,GCSE2014,$G$5+Descriptions!M$1,FALSE)),\"-\",VLOOKUP(Group,GCSE2014,$G$5+Descriptions!M$1,FALSE))","v":1},{"$f":"IF(ISERROR(VLOOKUP(Group,GCSE2014,$G$5+Descriptions!N$1,FALSE)),\"-\",VLOOKUP(Group,GCSE2014,$G$5+Descriptions!N$1,FALSE))","v":17.600000000000001},{"$f":"IF(ISERROR(VLOOKUP(Group,GCSE2014,$G$5+Descriptions!O$1,FALSE)),\"-\",VLOOKUP(Group,GCSE2014,$G$5+Descriptions!O$1,FALSE))","v":72.400000000000006},{"$f":"IF(ISERROR(VLOOKUP(Group,GCSE2014,$G$5+Descriptions!P$1,FALSE)),\"-\",VLOOKUP(Group,GCSE2014,$G$5+Descriptions!P$1,FALSE))","v":99.1},{"$f":"IF(ISERROR(VLOOKUP(Group,GCSE2014,$G$5+Descriptions!Q$1,FALSE)),\"-\",VLOOKUP(Group,GCSE2014,$G$5+Descriptions!Q$1,FALSE))","v":464189}]
[null,null,null,null,"2014/20155",{"$f":"IF(ISERROR(VLOOKUP(Group,GCSE2015,$G$5+Descriptions!F$1,FALSE)),\"-\",VLOOKUP(Group,GCSE2015,$G$5+Descriptions!F$1,FALSE))","v":4.0999999999999996},{"$f":"IF(ISERROR(VLOOKUP(Group,GCSE2015,$G$5+Descriptions!G$1,FALSE)),\"-\",VLOOKUP(Group,GCSE2015,$G$5+Descriptions!G$1,FALSE))","v":14.4},{"$f":"IF(ISERROR(VLOOKUP(Group,GCSE2015,$G$5+Descriptions!H$1,FALSE)),\"-\",VLOOKUP(Group,GCSE2015,$G$5+Descriptions!H$1,FALSE))","v":26.9},{"$f":"IF(ISERROR(VLOOKUP(Group,GCSE2015,$G$5+Descriptions!I$1,FALSE)),\"-\",VLOOKUP(Group,GCSE2015,$G$5+Descriptions!I$1,FALSE))","v":29.4},{"$f":"IF(ISERROR(VLOOKUP(Group,GCSE2015,$G$5+Descriptions!J$1,FALSE)),\"-\",VLOOKUP(Group,GCSE2015,$G$5+Descriptions!J$1,FALSE))","v":15.5},{"$f":"IF(ISERROR(VLOOKUP(Group,GCSE2015,$G$5+Descriptions!K$1,FALSE)),\"-\",VLOOKUP(Group,GCSE2015,$G$5+Descriptions!K$1,FALSE))","v":5.8},{"$f":"IF(ISERROR(VLOOKUP(Group,GCSE2015,$G$5+Descriptions!L$1,FALSE)),\"-\",VLOOKUP(Group,GCSE2015,$G$5+Descriptions!L$1,FALSE))","v":2.2000000000000002},{"$f":"IF(ISERROR(VLOOKUP(Group,GCSE2015,$G$5+Descriptions!M$1,FALSE)),\"-\",VLOOKUP(Group,GCSE2015,$G$5+Descriptions!M$1,FALSE))","v":0.9},{"$f":"IF(ISERROR(VLOOKUP(Group,GCSE2015,$G$5+Descriptions!N$1,FALSE)),\"-\",VLOOKUP(Group,GCSE2015,$G$5+Descriptions!N$1,FALSE))","v":18.399999999999999},{"$f":"IF(ISERROR(VLOOKUP(Group,GCSE2015,$G$5+Descriptions!O$1,FALSE)),\"-\",VLOOKUP(Group,GCSE2015,$G$5+Descriptions!O$1,FALSE))","v":74.8},{"$f":"IF(ISERROR(VLOOKUP(Group,GCSE2015,$G$5+Descriptions!P$1,FALSE)),\"-\",VLOOKUP(Group,GCSE2015,$G$5+Descriptions!P$1,FALSE))","v":99.3},{"$f":"IF(ISERROR(VLOOKUP(Group,GCSE2015,$G$5+Descriptions!Q$1,FALSE)),\"-\",VLOOKUP(Group,GCSE2015,$G$5+Descriptions!Q$1,FALSE))","v":363402}]
[null,null,null,null,"2015/20165",{"$f":"IF(ISERROR(VLOOKUP(Group,GCSE2016,$G$5+Descriptions!F$1,FALSE)),\"-\",VLOOKUP(Group,GCSE2016,$G$5+Descriptions!F$1,FALSE))","v":4.7},{"$f":"IF(ISERROR(VLOOKUP(Group,GCSE2016,$G$5+Descriptions!G$1,FALSE)),\"-\",VLOOKUP(Group,GCSE2016,$G$5+Descriptions!G$1,FALSE))","v":13.7},{"$f":"IF(ISERROR(VLOOKUP(Group,GCSE2016,$G$5+Descriptions!H$1,FALSE)),\"-\",VLOOKUP(Group,GCSE2016,$G$5+Descriptions!H$1,FALSE))","v":25.4},{"$f":"IF(ISERROR(VLOOKUP(Group,GCSE2016,$G$5+Descriptions!I$1,FALSE)),\"-\",VLOOKUP(Group,GCSE2016,$G$5+Descriptions!I$1,FALSE))","v":29.1},{"$f":"IF(ISERROR(VLOOKUP(Group,GCSE2016,$G$5+Descriptions!J$1,FALSE)),\"-\",VLOOKUP(Group,GCSE2016,$G$5+Descriptions!J$1,FALSE))","v":16.600000000000001},{"$f":"IF(ISERROR(VLOOKUP(Group,GCSE2016,$G$5+Descriptions!K$1,FALSE)),\"-\",VLOOKUP(Group,GCSE2016,$G$5+Descriptions!K$1,FALSE))","v":6.3},{"$f":"IF(ISERROR(VLOOKUP(Group,GCSE2016,$G$5+Descriptions!L$1,FALSE)),\"-\",VLOOKUP(Group,GCSE2016,$G$5+Descriptions!L$1,FALSE))","v":2.5},{"$f":"IF(ISERROR(VLOOKUP(Group,GCSE2016,$G$5+Descriptions!M$1,FALSE)),\"-\",VLOOKUP(Group,GCSE2016,$G$5+Descriptions!M$1,FALSE))","v":1.1000000000000001},{"$f":"IF(ISERROR(VLOOKUP(Group,GCSE2016,$G$5+Descriptions!N$1,FALSE)),\"-\",VLOOKUP(Group,GCSE2016,$G$5+Descriptions!N$1,FALSE))","v":18.399999999999999},{"$f":"IF(ISERROR(VLOOKUP(Group,GCSE2016,$G$5+Descriptions!O$1,FALSE)),\"-\",VLOOKUP(Group,GCSE2016,$G$5+Descriptions!O$1,FALSE))","v":72.8},{"$f":"IF(ISERROR(VLOOKUP(Group,GCSE2016,$G$5+Descriptions!P$1,FALSE)),\"-\",VLOOKUP(Group,GCSE2016,$G$5+Descriptions!P$1,FALSE))","v":99.3},{"$f":"IF(ISERROR(VLOOKUP(Group,GCSE2016,$G$5+Descriptions!Q$1,FALSE)),\"-\",VLOOKUP(Group,GCSE2016,$G$5+Descriptions!Q$1,FALSE))","v":338071}]
[null,null,null,null,null,null,null,null,null,null,null,null,null,null,null,null,"Source: key stage 4 attainment data"]
[]
[]
[]
[]
[]
[]
[null,null,null,null,"1. Discounting has been applied where pupils have taken the same subject more than once and only one entry is counted in these circumstances. Only the first entry is counted, in all subjects, in line with the early entry guidance (see SFR main text). "]
[null,null,null,null,"2. Dance and Ancient History are shown as separate subjects in this table. In previous years, Dance has been included in Physical Education and Ancient History has been in included in Other Classical Subjects. See the Subject Grouping Compisition for full details of which subjects have been grouped together."]
[null,null,null,null,"3.  2015/16 figures are revised, all other years are final."]
[null,null,null,null,"4. In 2013/14, two major reforms were implemented which affect the calculation of key stage 4 performance measures data: 1) Professor Alison Wolf’s Review of Vocational Education recommendations which: restrict the qualifications counted; prevent any qualification from counting as larger than one GCSE; and cap the number of non-GCSEs included in performance measures at two per pupil, and 2) an early entry policy to only count a pupil’s first attempt at a qualification, in subjects counted in the English Baccalaureate."]
[null,null,null,null,"5. In 2014/15 and 2015/16, early entry policy, under which only a pupil’s first attempt at a qualification is counted in performance measures, is extended to all subjects (see SFR main text)."]
[null,null,null,null,"x   Figure has been suppressed due to low numbers (1 or 2 pupils) or where secondary suppression has been applied."]
[null,null,null,null,{"$f":"\"-    No entries for this subject.\"","v":"-    No entries for this subject."}]
[null,null,null,null,"Notes:"]
[null,null,null,null,"Figures include attempts and achievements by these pupils in previous academic years where only the best grade in each individual subject is counted per pupil. Where subjects have been combined into a group (e.g. Other Modern Languages) and a pupil has two or more entries, each result in each subject is counted."]
[null,null,null,null,"Other science includes Astronomy, Electronics, Environmental Science and Geology."]
[null,null,null,null,"Other Design and Technology includes Design and Technology Engineering and Product Design qualifications."]
[null,null,null,null,"Other Classical Studies includes all other classical languages."]

{"sheet":"Subject grouping composition","index":3,"n_rows":196,"n_cols":2,"rows_kept":196,"cut":false,"hidden":false,"merged":[[0,0,0,4]]}
["PLEASE NOTE: The following list contains subject information for some qualifications that no longer count in secondary school performance tables. These qualifications have been included below as they are relevant in earlier years where results have fed into a subject grouping to form the totals shown in the time-series table. "]
["Subject group","Subjects"]
["English","English Language & Literature"]
[null,"English Language"]
[]
["Mathematics","Use of Mathematics"]
[null,"Mathematics"]
[null,"Applications of Mathematics"]
[null,"Methods in Mathematics"]
[null,"Mathematics (Mechanics)"]
[null,"Mathematics (Pure)"]
[null,"Mathematics (Statistics)"]
[null,"Mathematics (Further)"]
[null,"Additional Mathematics"]
[null,"Mathematical Studies"]
[]
["Core Science","Science (Core)"]
[null,"Science SA"]
[]
["Additional Science","Additional Science"]
[]
["Further Additional Science","AQA, Pearson and OCR Level 1/Level 2 GCSEs in Further Additional Science"]
[]
["Additional Applied Science","Additional Applied Science"]
[]
["Physics","Physics"]
[]
["Chemistry","Chemistry"]
[]
["Biological Sciences","Biology"]
[null,"Biology: Human"]
[]
["Computer Science","Computer Studies/Computing"]
[]
["Other Sciences","Applied Science"]
[null,"Astronomy"]
[null,"Electronics"]
[null,"Environmental Science"]
[null,"Geology"]
[null,"Science in Society"]
[null,"Science for Public Understanding"]
[null,"Other Science"]
[]
["D & T: Electronic Products","D&T Electronic Products"]
[]
["D & T: Food Technology","D&T Food Technology"]
[]
["D & T: Graphic Products","D&T Graphic Products"]
[]
["D & T: Resistant Materials","D&T Resistant Materials"]
[]
["D & T: Systems & Control","D&T Systems & Control"]
[]
["D & T: Textiles Technology","D&T Textiles Technology"]
[]
["Other Design and Technology","Graphics"]
[null,"Motor Vehicle Studies"]
[null,"Design & Technology"]
[null,"D&T Engineering"]
[null,"D&T Product Design"]
[]
["Applied Engineering","Applied Engineering"]
[]
["Information Technology","Information & Communications Technology"]
[]
["Business Studies","Business  Studies:Single"]
[null,"Business Studies & Economics"]
[]
["Applied Business","Applied Business"]
[]
[]
["Home Economics","Home Economics"]
[null,"Home Economics: Child Development"]
[null,"Home Economics: Food"]
[null,"Home Economics: Textiles"]
[]
["Geography","Geography"]
[null,"World Development"]
[]
["History","History"]
[]
["Ancient History","Ancient History"]
[]
["Humanities","Humanities: Single"]
[]
["Economics","Economics"]
[]
["Social Studies","Social Science"]
[null,"Archaeology"]
[null,"Philosophy & Theology"]
[null,"Law"]
[null,"Logic/ Philosophy"]
[null,"Personal & Social Education"]
[null,"Government & Politics"]
[null,"Psychology"]
[null,"Sociology"]
[null,"Anthropology"]
[null,"Social Science: Citizenship"]
[]
["French","French"]
[]
["German","German"]
[]
["Spanish","Spanish"]
[]
["Other Modern Languages","Arabic"]
[null,"Bengali"]
[null,"Chinese"]
[null,"Dutch"]
[null,"Gujarati"]
[null,"Irish"]
[null,"Italian"]
[null,"Japanese"]
[null,"Modern Greek"]
[null,"Modern Hebrew"]
[null,"Persian"]
[null,"Polish"]
[null,"Portuguese"]
[null,"Punjabi"]
[null,"Russian"]
[null,"Turkish"]
[null,"Urdu"]
[null,"Welsh (Second Language)"]
[null,"Welsh Language"]
[null,"Welsh Literature"]
[null,"Other Languages"]
[null,"N.B. For GCSE results in Arabic, Chinese, Italian, Polish and Urdu please see the subject timeseries tables."]
["Classical Civilisation","Classical Civilisation"]
[]
["Classical Greek","Classical Greek"]
[]
["Latin","Latin"]
[]
["Other Classical Studies","Other Classical Languages"]
[]
["Applied Art and Design","Applied Art & Design"]
[]
["Applied Physical Education","Applied Physical Education"]
[]
["Art and Design","Art & Design"]
[null,"Art & Design (Graphics)"]
[null,"Art & Design (Photography)"]
[null,"Art & Design (Textiles)"]
[null,"Art & Design (3D Studies)"]
[null,"Art & Design (Critical Studies)"]
[null,"Art & Design (Fine Art)"]
[null,"Art"]
[null,"History of Art"]
[]
["Communication Studies","Communication Studies"]
[null,"Expressive Arts & Performance Studies"]
[null,"Film Studies"]
[null,"Theatre Studies"]
[]
["Construction","Construction & the Built Environment"]
[]
["Dance","Dance"]
[]
["Drama","Drama & Theatre Studies"]
[null,"Creative Writing"]
[]
["English Literature","English Literature"]
[]
["English Studies","English Studies"]
[]
["General Studies","General Studies"]
[]
["Health and Social Care","Health & Social Care"]
[]
["Hospitality and Catering","Hospitality & Catering"]
[]
["Leisure and Tourism","Leisure & Tourism"]
[]
["Manufacturing","Manufacturing"]
[]
["Media/Film/TV","Media/Film/Tv Studies"]
[]
["Media: Communication and Production","Media: Communication & Production"]
[]
["Music","Music"]
[null,"Music Technology"]
[]
["Performing Arts","Performing Arts"]
[]
["Physical Education","Physical Education/Sports Studies"]
[]
["Religious Studies","Religious Studies"]
[null,"Religious Education"]
[]
["Statistics","Statistics"]
[]
["Vocational Studies","Accounting/Finance"]
[null,"Catering Studies"]
[null,"Commerce/Office Studies"]
[null,"Office Technology"]
[null,"Keyboarding Applications"]

{"sheet":"Descriptions","index":4,"n_rows":68,"n_cols":18,"rows_kept":68,"cut":false,"hidden":true,"merged":[]}
["Subject Group",null,"Boys",null,null,0,{"$f":"F1+1","v":1},{"$f":"G1+1","v":2},3,4,5,6,7,8,9,10,11,12]
["English",null,"Girls"]
["Mathematics",null,"All"]
["Core Science"]
["Additional Science"]
["Further Additional Science"]
["Additional Applied Science"]
["Physics"]
["Chemistry"]
["Biological Sciences"]
["Computer Science"]
["Other Sciences"]
["D & T: Electronic Products"]
["D & T: Food Technology"]
["D & T: Graphic Products"]
["D & T: Resistant Materials"]
["D & T: Systems & Control"]
["D & T: Textiles Technology"]
["Other Design and Technology"]
["Applied Engineering"]
["Information Technology"]
["Business Studies"]
["Applied Business"]
["Home Economics"]
["Geography"]
["History"]
["Ancient History"]
["Humanities"]
["Economics"]
["Social Studies"]
["Arabic"]
["Chinese"]
["French"]
["German"]
["Italian"]
["Polish"]
["Spanish"]
["Urdu"]
["Other Modern Languages"]
["Classical Civilisation"]
["Classical Greek"]
["Latin"]
["Other Classical Studies"]
["Applied Art and Design"]
["Applied Physical Education"]
["Art and Design"]
["Communication Studies"]
["Construction"]
["Dance"]
["Drama"]
["English Literature"]
["English Studies"]
["General Studies"]
["Health and Social Care"]
["Hospitality and Catering"]
["Leisure and Tourism"]
["Manufacturing"]
["Media/Film/TV"]
["Media: Communication and Production"]
["Music"]
["Performing Arts"]
["Physical Education"]
["Religious Studies"]
["Statistics"]
["Vocational Studies"]
["All subjects"]
[""]
[""]

{"sheet":"2010","index":5,"n_rows":58,"n_cols":40,"rows_kept":58,"cut":false,"hidden":true,"merged":[]}
[1,2,3,4,5,6,7,8,9,10,11,12,13,14,15,16,17,18,19,20,21,22,23,24,25,26,27,28,29,30,31,32,33,34,35,36,37,38,39,40]
["Subjects",null,"*","A","B","C","D","E","F","G","AstarA","AstarC","AstarG","Total","(No column name)","*","A","B","C","D","E","F","G","AstarA","AstarC","AstarG","Total","(No column name)","*","A","B","C","D","E","F","G","AstarA","AstarC","AstarG","Total"]
["Vocational Studies","Males",2.7,8.9,15.7,30.2,19.3,11,5.7,3,11.6,57.5,96.6,20355,"Females",5.8,13.5,19.2,30.9,15.7,7.5,3.8,1.7,19.3,69.3,98,21321,"All",4.3,11.2,17.5,30.5,17.5,9.1999999999999993,4.7,2.2999999999999998,15.5,63.6,97.3,41676]
["Urdu","Males",10.1,17.8,15.3,20.6,14.3,11.2,6.8,2.6,27.9,63.7,98.6,1759,"Females",17.600000000000001,24,19.7,16,10.6,7,3.3,1.1000000000000001,41.6,77.3,99.2,2791,"All",14.7,21.6,18,17.8,12,8.6,4.5999999999999996,1.7,36.299999999999997,72,99,4550]
["Statistics","Males",7.5,15.4,19.600000000000001,32.799999999999997,13.2,5.4,2.2000000000000002,1.1000000000000001,22.8,75.2,97.2,36900,"Females",7.7,16.5,20,33.799999999999997,11.8,4.9000000000000004,2,0.9,24.2,77.900000000000006,97.6,33838,"All",7.6,15.9,19.8,33.299999999999997,12.6,5.2,2.1,1,23.5,76.5,97.3,70738]
["Spanish","Males",12.9,16.2,17.5,23.1,16.899999999999999,8,3.4,1.3,29.1,69.7,99.3,24744,"Females",16.899999999999999,19.3,19.3,22.1,13.6,5.5,2.1,0.8,36.200000000000003,77.7,99.6,33486,"All",15.2,18,18.600000000000001,22.5,15,6.5,2.7,1,33.200000000000003,74.3,99.5,58230]
["Social Studies","Males",2.4,9.1999999999999993,18.2,27.5,18.7,9.6999999999999993,5.3,3,11.6,57.3,94.1,7301,"Females",4.8,15.2,22.1,27,14.9,7.7,3.3,1.6,20,69.2,96.7,17475,"All",4.0999999999999996,13.4,21,27.2,16,8.3000000000000007,3.9,2,17.5,65.7,96,24776]
["Religious Studies","Males",8.4,16.399999999999999,22.1,20.399999999999999,12.7,8.6999999999999993,5.9,3.3,24.8,67.2,97.9,79364,"Females",14.5,22.8,23.6,17.5,9.5,5.8,3.4,1.8,37.299999999999997,78.400000000000006,99,96986,"All",11.8,19.899999999999999,22.9,18.8,10.9,7.1,4.5,2.5,31.7,73.400000000000006,98.5,176350]
["Polish","Males",14.3,49.3,19.8,8.1999999999999993,2.5,1.2,1.4,2,63.5,91.5,98.6,1234,"Females",28,51.8,11.1,3.7,1.4,1,1,0.9,79.8,94.6,98.9,1143,"All",20.9,50.5,15.6,6,2,1.1000000000000001,1.2,1.5,71.400000000000006,93,98.7,2377]
["Physics","Males",21.6,28.1,26.8,17.899999999999999,4.4000000000000004,0.8,0.2,0.1,49.7,94.4,99.8,61597,"Females",21.6,26.7,26.9,18.399999999999999,5,0.8,0.2,0.1,48.2,93.5,99.7,50675,"All",21.6,27.4,26.8,18.100000000000001,4.7,0.8,0.2,0.1,49,94,99.8,112272]
["Physical Education","Males",5.5,17.100000000000001,24,22.3,21.5,6.9,2.1,0.4,22.5,68.900000000000006,99.8,71108,"Females",9.6,19.100000000000001,22.2,19.3,20.2,6.8,2.2000000000000002,0.5,28.6,70.099999999999994,99.8,38506,"All",6.9,17.8,23.4,21.3,21,6.9,2.1,0.5,24.7,69.3,99.8,109614]
["Performing Arts","Males",4.2,6.8,13,24.4,18.8,14.4,10.5,2.9,11,48.3,94.9,648,"Females",6.1,13.3,20.399999999999999,25.2,17.899999999999999,8.8000000000000007,4.0999999999999996,1.1000000000000001,19.399999999999999,65,96.9,1206,"All",5.4,11,17.8,24.9,18.2,10.7,6.4,1.7,16.5,59.2,96.2,1854]
["Other Sciences","Males",10.199999999999999,13.1,15.8,21.7,13.4,10.6,7.4,3.9,23.3,60.8,96,3612,"Females",5.7,11.5,18.100000000000001,22.6,15.8,12.2,7.5,3.1,17.2,58,96.5,1901,"All",8.6999999999999993,12.6,16.600000000000001,22,14.2,11.2,7.4,3.6,21.2,59.8,96.2,5513]
["Other Modern Languages","Males",26.4,25.6,18.899999999999999,13.6,5.8,3.6,2.8,1.4,52.1,84.5,98.1,4412,"Females",32.799999999999997,28.2,17.2,10.4,5.0999999999999996,3,1.6,0.4,61,88.7,98.9,4733,"All",29.7,27,18,11.9,5.4,3.3,2.2000000000000002,0.9,56.7,86.7,98.5,9145]
["Other Design and Technology","Males",2.1,10.9,17,26.8,19.2,11.1,6,3.3,13,56.8,96.4,22026,"Females",6.8,21.5,21.7,23.4,12.6,6.5,3.5,1.7,28.3,73.400000000000006,97.7,11952,"All",3.7,14.7,18.7,25.6,16.899999999999999,9.5,5.0999999999999996,2.7,18.399999999999999,62.6,96.9,33978]
["Other Classical Studies","Males",10.5,29.6,24.3,15.8,4.5999999999999996,7.9,2,3.9,40.1,80.3,98.7,152,"Females",13.8,31.6,25.7,14.1,5.3,4.2,2.7,1.3,45.4,85.1,98.7,377,"All",12.9,31,25.3,14.6,5.0999999999999996,5.3,2.5,2.1,43.9,83.7,98.7,529]
["Music","Males",7.6,21.4,25.7,20,11.7,6.3,3.6,1.8,29,74.7,98.1,23914,"Females",9.6999999999999993,25.9,26.1,18.899999999999999,10,4.9000000000000004,2.2999999999999998,1.1000000000000001,35.6,80.599999999999994,98.9,21519,"All",8.6,23.5,25.9,19.5,10.9,5.7,3,1.4,32.1,77.5,98.5,45433]
["Media: Communication and Production","Males","x",12.1,25.9,28.2,13.8,6.3,5.2,3.4,13.2,67.2,96,174,"Females","x",25.7,27.5,22.8,9.4,5.8,5.3,1.8,26.9,77.2,99.4,171,"All",1.2,18.8,26.7,25.5,11.6,6.1,5.2,2.6,20,72.2,97.7,345]
["Media/Film/TV","Males",1.9,8.6999999999999993,18.3,29.1,20.9,10.4,4.8,2.2999999999999998,10.5,57.9,96.4,28715,"Females",4.9000000000000004,17.8,25.8,26.6,14.1,5.6,2.2999999999999998,1,22.6,75,98,29871,"All",3.4,13.3,22.1,27.8,17.399999999999999,7.9,3.5,1.7,16.7,66.599999999999994,97.2,58586]
["Mathematics","Males",6.3,13,17.8,27.4,13.6,9.4,7.1,3.5,19.3,64.5,98.2,309181,"Females",6,13.1,18.100000000000001,27.5,13.8,9.3000000000000007,6.9,3.5,19.100000000000001,64.8,98.3,302024,"All",6.1,13.1,18,27.5,13.7,9.3000000000000007,7,3.5,19.2,64.599999999999994,98.2,611205]
["Latin","Males",41.2,25,14.5,10.4,5.6,1.7,0.3,"x",66.099999999999994,91,98.7,4702,"Females",50.6,24.5,12.1,7.8,3.2,0.9,0.2,"x",75.099999999999994,95,99.4,4654,"All",45.8,24.7,13.3,9.1,4.4000000000000004,1.3,0.3,0.1,70.599999999999994,93,99,9356]
["Italian","Males",39.1,17.600000000000001,13.9,14.5,7.6,3.9,1.5,0.9,56.7,85.2,99.1,1396,"Females",38.799999999999997,23.1,16,11.8,7,1.9,0.6,0.5,61.9,89.7,99.7,2160,"All",38.9,21,15.2,12.9,7.2,2.7,0.9,0.7,59.9,87.9,99.5,3556]
["Information Technology","Males",6.8,18,21.4,26,13.4,6.7,3.5,1.9,24.8,72.2,97.7,24186,"Females",10.6,23.8,23.3,22.8,10.4,4.0999999999999996,2.2000000000000002,1.3,34.4,80.5,98.6,19177,"All",8.5,20.6,22.2,24.6,12.1,5.5,2.9,1.6,29.1,75.900000000000006,98.1,43363]
["Humanities","Males",1.4,6,14.9,21.6,17.7,15.1,10.5,6.9,7.5,44,94.2,6239,"Females",3.1,11.5,20.9,21.6,16.399999999999999,11.7,7,4.4000000000000004,14.6,57.1,96.5,6426,"All",2.2999999999999998,8.8000000000000007,18,21.6,17,13.4,8.6999999999999993,5.6,11.1,50.6,95.4,12665]
["Hospitality and Catering","Males","x",4.0999999999999996,20.6,23.9,18.899999999999999,14.2,9.6999999999999993,5.9,4.7,49.3,97.9,339,"Females","x",8.5,25.4,28.6,19.3,7.1,6.2,1.7,9.9,63.9,98.3,646,"All",1.1000000000000001,7,23.8,27,19.2,9.5,7.4,3.1,8.1,58.9,98.2,985]
["Home Economics","Males",1.3,6.3,11.9,28.2,21.6,14.2,9.1999999999999993,4,7.6,47.8,96.9,3117,"Females",3.8,10.199999999999999,16,28.1,19.100000000000001,11.7,6.5,2.6,14,58.1,98,26233,"All",3.5,9.8000000000000007,15.6,28.2,19.3,11.9,6.8,2.8,13.3,57,97.9,29350]
["History","Males",9.1999999999999993,18.8,20.399999999999999,18.7,13.6,8.9,5.4,2.9,28,67,97.8,99674,"Females",14.1,22.2,20.6,16.899999999999999,11.7,7.3,4.0999999999999996,1.9,36.200000000000003,73.7,98.6,98579,"All",11.6,20.5,20.5,17.8,12.6,8.1,4.7,2.4,32.1,70.400000000000006,98.2,198253]
["German","Males",7.7,13.5,19.7,29.7,17.399999999999999,6.9,3.1,1.4,21.2,70.7,99.5,30790,"Females",10.1,17.8,22.7,27.9,14,4.5,1.9,0.7,27.9,78.5,99.6,35032,"All",9,15.8,21.3,28.7,15.6,5.6,2.4,1,24.8,74.8,99.6,65822]
["Geography","Males",9.6999999999999993,15.3,18.100000000000001,23.9,17.2,8.1999999999999993,4,1.9,25,67,98.2,93679,"Females",14.5,19.100000000000001,18.8,21.4,13.7,6.3,3.3,1.5,33.6,73.7,98.6,75593,"All",11.8,17,18.399999999999999,22.8,15.6,7.3,3.7,1.7,28.8,70,98.4,169272]
["General Studies","Males",2.5,6.3,9.6999999999999993,22.1,23.4,12.7,9.6,5.6,8.8000000000000007,40.6,92,3961,"Females",2.2000000000000002,6.9,10.4,23.9,26,11.7,7.9,4.9000000000000004,9.1999999999999993,43.4,93.9,3563,"All",2.4,6.6,10,22.9,24.6,12.2,8.8000000000000007,5.3,9,41.9,92.9,7524]
["French","Males",10.1,13.5,18,25.3,18.2,8.6999999999999993,4.0999999999999996,1.5,23.7,67,99.5,69209,"Females",12,16.8,21.1,25.2,15.1,6.2,2.4,0.9,28.7,75,99.7,91389,"All",11.2,15.4,19.8,25.2,16.399999999999999,7.3,3.1,1.2,26.6,71.599999999999994,99.6,160598]
["English Studies","Males",0.3,1.8,13.2,41.8,19,12.8,6.5,2.1,2.1,57.1,97.5,1778,"Females",0.6,3.8,17.7,46.5,15.8,8.1999999999999993,4.2,1.1000000000000001,4.3,68.599999999999994,97.9,1386,"All",0.4,2.7,15.2,43.9,17.600000000000001,10.8,5.5,1.7,3.1,62.1,97.7,3164]
["English Literature","Males",4.4000000000000004,14.2,24,27.8,16.3,7.1,2.9,1.3,18.7,70.5,98.1,223392,"Females",7.4,21.2,28,25.3,11.1,3.9,1.3,0.5,28.7,82,98.9,244529,"All",6,17.899999999999999,26.1,26.5,13.6,5.5,2.1,0.9,23.9,76.5,98.5,467921]
["English","Males",3.6,10.199999999999999,19.600000000000001,29.9,18.600000000000001,10.1,4.9000000000000004,1.9,13.7,63.1,98.7,301727,"Females",6.6,16.399999999999999,24.7,28.8,13.9,5.7,2.2999999999999998,0.9,23,76.5,99.2,297518,"All",5.0999999999999996,13.3,22.1,29.3,16.3,7.9,3.6,1.4,18.3,69.8,99,599245]
["Economics","Males",10.3,20.2,24.1,25.4,10.8,4,1.7,0.8,30.5,80,97.3,1992,"Females",8.1,18.399999999999999,26.7,24.2,12.2,4.7,1.5,0.6,26.5,77.3,96.3,724,"All",9.6999999999999993,19.7,24.8,25,11.2,4.2,1.6,0.7,29.5,79.3,97,2716]
["Drama","Males",3.2,13.7,26.4,25.8,16.5,8.1999999999999993,3.8,1.4,16.899999999999999,69.2,99.1,31417,"Females",6.6,20.5,30.9,22.4,11.6,4.7,1.9,0.7,27.2,80.5,99.4,49348,"All",5.3,17.899999999999999,29.1,23.7,13.5,6.1,2.6,1,23.2,76.099999999999994,99.3,80765]
["D & T: Textiles Technology","Males",1.6,8.3000000000000007,11.7,25.7,22.9,14.6,8.3000000000000007,3.1,9.9,47.2,96.2,1175,"Females",7.2,22.5,21.1,25.8,14,4.9000000000000004,2.2000000000000002,0.9,29.7,76.599999999999994,98.6,34660,"All",7,22.1,20.8,25.8,14.3,5.2,2.4,1,29,75.599999999999994,98.5,35835]
["D & T: Systems & Control","Males",5.5,15.8,21,26,16.7,7.2,3.2,1.6,21.3,68.400000000000006,97,5200,"Females",4.5999999999999996,30.7,26.5,16.7,11.2,4.0999999999999996,2.2999999999999998,2.1,35.200000000000003,78.5,98.2,437,"All",5.5,17,21.5,25.3,16.2,6.9,3.1,1.6,22.4,69.2,97.1,5637]
["D & T: Resistant Materials","Males",3.1,10.199999999999999,15.5,27.6,22.5,10.8,5.0999999999999996,2.4,13.2,56.3,97.2,56801,"Females",7,20.100000000000001,21,24.9,15,6.5,2.6,1.2,27.1,73,98.2,10601,"All",3.7,11.7,16.399999999999999,27.2,21.4,10.1,4.7,2.2000000000000002,15.4,58.9,97.3,67402]
["D & T: Graphic Products","Males",2.9,10.4,15,25.3,22.5,10.9,5.0999999999999996,2.8,13.2,53.5,94.8,29744,"Females",7.3,19.600000000000001,21.4,24.1,15.8,5.9,2.2999999999999998,1.2,26.9,72.400000000000006,97.5,21611,"All",4.7,14.3,17.7,24.8,19.600000000000001,8.8000000000000007,3.9,2.1,19,61.4,95.9,51355]
["D & T: Food Technology","Males",2.2000000000000002,8.4,13.1,28.6,23.7,11.6,6.4,3.1,10.6,52.3,97.2,22380,"Females",7,17.399999999999999,18.100000000000001,27.8,16.600000000000001,6.9,3.3,1.5,24.3,70.3,98.5,39724,"All",5.2,14.2,16.3,28.1,19.2,8.6,4.4000000000000004,2,19.399999999999999,63.8,98,62104]
["D & T: Electronic Products","Males",6.7,15.1,15.8,26.7,17.5,7.8,4,2.7,21.7,64.2,96.1,10058,"Females",11.8,24,20.8,19.899999999999999,12,4.2,2.4,2.1,35.799999999999997,76.5,97.3,899,"All",7.1,15.8,16.2,26.1,17,7.5,3.9,2.6,22.9,65.2,96.2,10957]
["Core Science","Males",2.2000000000000002,7.9,18,31,18.2,11.6,6.7,3,10.1,59,98.5,201936,"Females",3.3,9.8000000000000007,19.399999999999999,30.3,17.2,10.6,5.9,2.5,13,62.7,98.8,204477,"All",2.7,8.8000000000000007,18.7,30.7,17.7,11.1,6.3,2.7,11.5,60.9,98.7,406413]
["Construction","Males",2,10.8,30.8,23.4,"x","x",5.4,1.7,12.9,67.099999999999994,96.9,295,"Females",0,0,30,40,"x","x",0,0,0,70,100,10,"All",2,10.5,30.8,23.9,12.1,10.8,5.2,1.6,12.5,67.2,97,305]
["Communication Studies","Males",2.5,7.3,14.7,21.2,16.7,15.3,11.9,6.1,9.8000000000000007,45.7,95.6,3554,"Females",6.2,14.4,22.2,22.1,14.7,10,5.7,2.2999999999999998,20.7,64.900000000000006,97.5,5415,"All",4.7,11.6,19.2,21.7,15.5,12.1,8.1999999999999993,3.8,16.399999999999999,57.3,96.8,8969]
["Classical Greek","Males",60.7,22.8,8,4.8,2.5,0.7,"x","x",83.5,96.3,99.7,727,"Females",65,22.2,7.2,2.7,1.8,0.7,"x","x",87.2,97.1,100,446,"All",62.3,22.6,7.7,4,2.2000000000000002,0.7,"x","x",84.9,96.6,99.8,1173]
["Classical Civilisation","Males",11.9,22.6,25.7,19,11.6,4.3,1.5,0.9,34.5,79.2,97.4,2452,"Females",16.899999999999999,24.3,23.9,18.7,9.6,2.8,0.9,0.7,41.2,83.8,97.8,1850,"All",14,23.3,25,18.899999999999999,10.7,3.6,1.2,0.8,37.4,81.2,97.6,4302]
["Chinese","Males",79.8,8.5,5.6,2.1,1.1000000000000001,0.5,0.8,0.6,88.4,96.1,99,1305,"Females",84.8,5.5,3.3,1.9,1.5,0.9,0.3,0.6,90.3,95.5,98.8,1237,"All",82.3,7,4.5,2,1.3,0.7,0.6,0.6,89.3,95.8,98.9,2542]
["Chemistry","Males",20,27.4,27.5,18.5,5,1,0.3,0.1,47.5,93.5,99.8,61890,"Females",24,27.9,26.1,16.399999999999999,4.3,0.8,0.2,0.1,51.9,94.4,99.8,51396,"All",21.8,27.6,26.9,17.600000000000001,4.7,0.9,0.2,0.1,49.5,93.9,99.8,113286]
["Business Studies","Males",5.2,14.1,19.399999999999999,27.7,17.399999999999999,8,3.8,1.9,19.3,66.400000000000006,97.4,40581,"Females",7.5,16.5,19.8,27.2,15.2,7.4,3.2,1.2,24.1,71.099999999999994,98.1,28100,"All",6.1,15.1,19.600000000000001,27.5,16.5,7.8,3.5,1.6,21.2,68.3,97.7,68681]
["Biological Sciences","Males",18,28.4,29.8,17.7,4.4000000000000004,0.9,0.3,0.1,46.3,93.8,99.6,62862,"Females",22.1,29.7,27.4,15.1,3.7,0.9,0.4,0.2,51.8,94.4,99.5,53026,"All",19.899999999999999,29,28.7,16.5,4.0999999999999996,0.9,0.3,0.1,48.9,94.1,99.5,115888]
["Art and Design","Males",4.4000000000000004,11,18.8,32.1,15.7,10.1,4.9000000000000004,1.9,15.4,66.2,98.8,61863,"Females",9.1999999999999993,20.7,25.4,27.8,9.6,4.4000000000000004,1.7,0.6,29.9,83.1,99.4,107435,"All",7.4,17.100000000000001,23,29.4,11.8,6.5,2.9,1.1000000000000001,24.6,76.900000000000006,99.2,169298]
["Arabic","Males",29.9,19.100000000000001,14.6,10.4,6.2,5,3.8,1.9,49,73.900000000000006,90.8,955,"Females",31.2,16.5,14.3,11.6,6,4,4.4000000000000004,2.2999999999999998,47.6,73.5,90.1,1184,"All",30.6,17.600000000000001,14.4,11,6.1,4.4000000000000004,4.0999999999999996,2.1,48.2,73.7,90.4,2139]
["Applied Physical Education","Males",3.2,9.1,26.1,36.299999999999997,14.1,6,2.5,"x",12.2,74.7,97.9,1137,"Females",1.3,7.7,22.2,42,18.2,5.6,1.8,"x",9,73.2,99,908,"All",2.2999999999999998,8.5,24.4,38.799999999999997,15.9,5.8,2.2000000000000002,0.5,10.8,74,98.4,2045]
["All Subjects","Males",6.6,13.7,20.100000000000001,26.6,16,8.5,4.5999999999999996,2.1,20.3,67.099999999999994,98.3,2321259,"Females",9,17.5,22.4,25.5,13.2,6.4,3.3,1.5,26.5,74.400000000000006,98.9,2371428,"All",7.8,15.6,21.3,26,14.6,7.5,4,1.8,23.4,70.8,98.6,4692687]
["Additional Science","Males",3.8,9.3000000000000007,20.100000000000001,32.9,18.8,8.4,4,1.7,13.1,66.099999999999994,99,142935,"Females",5.5,11.4,22,31.6,16.7,7.2,3.3,1.4,16.899999999999999,70.599999999999994,99.1,145841,"All",4.7,10.4,21.1,32.200000000000003,17.7,7.8,3.7,1.5,15,68.400000000000006,99,288776]
["Additional Applied Science","Males",0,0.5,5.2,22.7,30.4,22.3,11.6,4.5,0.5,28.5,97.2,17714,"Females",0.1,1.6,10.7,28.3,29.2,17.5,8.1,2.6,1.7,40.700000000000003,98,20853,"All",0.1,1.1000000000000001,8.1999999999999993,25.7,29.7,19.7,9.6999999999999993,3.5,1.1000000000000001,35.1,97.7,38567]
["Dance","Males",3.6,17.100000000000001,20.9,20.5,19.399999999999999,11.7,4.8,0.8,20.6,62,98.7,901,"Females",4.8,15.1,21.8,21.7,19.399999999999999,10.3,4.5,1.5,19.899999999999999,63.4,99,14386,"All",4.7,15.2,21.7,21.6,19.399999999999999,10.3,4.5,1.4,20,63.3,99,15287]

{"sheet":"2011","index":6,"n_rows":65,"n_cols":40,"rows_kept":65,"cut":false,"hidden":true,"merged":[]}
[1,{"$f":"A1+1","v":2},{"$f":"B1+1","v":3},{"$f":"C1+1","v":4},5,6,7,8,9,10,11,12,13,14,15,16,17,18,19,20,21,22,23,24,25,26,27,28,29,30,31,32,33,34,35,36,37,38,39,40]
["Subjects",null,"*","A","B","C","D","E","F","G","AstarA","AstarC","AstarG","Total","(No column name)","*","A","B","C","D","E","F","G","AstarA","AstarC","AstarG","Total","(No column name)","*","A","B","C","D","E","F","G","AstarA","AstarC","AstarG","Total"]
["Vocational Studies","Males",1.7,8.3000000000000007,18.7,26.1,20.6,12.8,6.6,3.1,9.9,54.8,97.8,16915,"Females",4.2,15,24.7,25.6,15.5,8.1,3.9,1.4,19.2,69.400000000000006,98.4,18287,"All",3,11.8,21.8,25.8,17.899999999999999,10.4,5.2,2.2000000000000002,14.8,62.4,98.1,35202]
["Urdu","Males",7.7,18.3,19.100000000000001,18.399999999999999,16.2,9.5,5.7,2.9,26,63.5,97.7,1454,"Females",14.2,24.4,21.1,19,10.9,5.7,2.6,1,38.6,78.8,99,2437,"All",11.8,22.1,20.399999999999999,18.8,12.9,7.1,3.8,1.7,33.9,73.099999999999994,98.5,3891]
["Statistics","Males",6.4,16.600000000000001,22.7,30.1,12.6,5.3,2.4,1.2,23,75.8,97.3,32464,"Females",7.4,18,23.7,30.2,10.9,4.5,2,1.1000000000000001,25.4,79.2,97.8,29473,"All",6.9,17.3,23.2,30.2,11.8,4.9000000000000004,2.2000000000000002,1.2,24.1,77.5,97.5,61937]
["Spanish","Males",12,15.5,19,22.2,15.2,8.6999999999999993,4.4000000000000004,2,27.6,68.8,99,24538,"Females",16.899999999999999,19.399999999999999,21.2,20.9,12.1,5.5,2.6,0.8,36.299999999999997,78.5,99.5,34143,"All",14.9,17.8,20.3,21.4,13.4,6.9,3.3,1.3,32.700000000000003,74.400000000000006,99.3,58681]
["Social Studies","Males",1.8,9.9,20.5,25,16.7,11.4,7.1,4.0999999999999996,11.7,57.2,96.5,12651,"Females",4.5999999999999996,16,24.9,22.8,13.7,8.5,4.8,2.7,20.6,68.3,98,24570,"All",3.6,13.9,23.4,23.6,14.7,9.4,5.6,3.2,17.600000000000001,64.5,97.5,37221]
["Religious Studies","Males",8.1,16.600000000000001,22.1,20.8,12.5,8.3000000000000007,5.6,3.5,24.7,67.599999999999994,97.6,89188,"Females",15,23.2,23.2,17.5,9.4,5.5,3.2,1.8,38.200000000000003,78.900000000000006,98.8,105921,"All",11.8,20.2,22.7,19,10.8,6.8,4.3,2.6,32,73.8,98.3,195109]
["Polish","Males",15.5,47.5,22,8.9,2.1,1.6,1,0.9,63,93.9,99.4,1262,"Females",29.7,48.3,13.4,5.3,0.7,0.7,0.6,0.6,78,96.6,99.4,1243,"All",22.6,47.9,17.7,7.1,1.4,1.2,0.8,0.8,70.400000000000006,95.2,99.4,2505]
["Physics","Males",21.2,27.6,27.6,17.899999999999999,4.5999999999999996,0.7,0.2,0.1,48.8,94.3,99.9,70307,"Females",22,27.3,26.9,17.600000000000001,5,0.9,0.2,0.1,49.3,93.8,99.9,60831,"All",21.6,27.5,27.3,17.7,4.8,0.8,0.2,0.1,49.1,94.1,99.9,131138]
["Physical Education","Males",5.3,12.3,26.1,27.3,17.100000000000001,8.4,2.5,0.6,17.600000000000001,71,99.7,61255,"Females",9.3000000000000007,15.6,24.1,23.1,16.2,8.1,2.6,0.7,24.9,72.099999999999994,99.7,32579,"All",6.7,13.5,25.4,25.9,16.8,8.3000000000000007,2.5,0.6,20.100000000000001,71.400000000000006,99.7,93834]
["Performing Arts","Males",3.8,6.6,11.7,26.1,18.8,14.7,10.1,5.5,10.4,48.2,97.4,849,"Females",5.3,11,18.899999999999999,26.9,16.100000000000001,10.9,5.8,2.7,16.3,62.1,97.6,1799,"All",4.8,9.6,16.600000000000001,26.7,17,12.1,7.2,3.6,14.4,57.6,97.5,2648]
["Other Sciences","Males",12,13.7,17.5,17.8,14.7,10.1,6.7,4.2,25.7,61,96.7,3618,"Females",5.7,12.6,19.100000000000001,22.5,14.9,11.4,7.3,3.7,18.3,59.9,97.3,1899,"All",9.8000000000000007,13.3,18.100000000000001,19.399999999999999,14.8,10.5,6.9,4.0999999999999996,23.1,60.6,96.9,5517]
["Other Modern Languages","Males",28,24.6,19.3,13.1,6.6,3.7,2,1.2,52.6,85,98.5,4207,"Females",33.5,27.6,18.7,10.199999999999999,4.5999999999999996,2.4,1.2,0.5,61,89.9,98.6,4567,"All",30.8,26.2,19,11.6,5.6,3,1.6,0.8,57,87.6,98.6,8774]
["Other Design and Technology","Males",2.5,9.1999999999999993,18.3,24.2,18.600000000000001,12.8,7.7,3.8,11.8,54.3,97.2,22529,"Females",7.9,20,24,21.6,11.9,6.8,4.0999999999999996,2,28,73.599999999999994,98.3,11982,"All",4.4000000000000004,13,20.3,23.3,16.2,10.7,6.4,3.2,17.399999999999999,61,97.6,34511]
["Other Classical Studies","Males",6.2,24,29.5,14.7,4.7,6.2,7,2.2999999999999998,30.2,74.400000000000006,94.6,129,"Females",13.7,36.9,21.4,12.8,5.7,3.3,1.5,1.8,50.6,84.8,97,336,"All",11.6,33.299999999999997,23.7,13.3,5.4,4.0999999999999996,3,1.9,44.9,81.900000000000006,96.3,465]
["Music","Males",8.8000000000000007,21.8,25.1,18.8,11.2,7.3,3.5,1.9,30.6,74.599999999999994,98.4,22402,"Females",10.8,25.1,26.5,17.2,10.199999999999999,5.7,2.7,1.1000000000000001,35.799999999999997,79.5,99.2,20755,"All",9.8000000000000007,23.4,25.8,18,10.7,6.5,3.1,1.5,33.1,77,98.8,43157]
["Media: Communication and Production","Males",0,0,13.3,36,33.299999999999997,10.7,"x",0,0,49.3,100,75,"Females",0,0,22.5,38.200000000000003,27,11.2,"x",0,0,60.7,100,89,"All",0,0,18.3,37.200000000000003,29.9,11,3.7,0,0,55.5,100,164]
["Media/Film/TV","Males",1.6,8.5,20.2,26.4,19.8,11.2,6.2,3.2,10.1,56.6,97.1,25784,"Females",5.2,19,27.9,23.7,12.4,5.8,2.9,1.5,24.2,75.8,98.4,25999,"All",3.4,13.8,24,25.1,16.100000000000001,8.5,4.5999999999999996,2.2999999999999998,17.100000000000001,66.2,97.7,51783]
["Mathematics","Males",6.9,13.5,17.600000000000001,28.7,12,9,7,3.5,20.399999999999999,66.8,98.3,303211,"Females",6.7,13.9,18.100000000000001,28.6,12.4,8.6999999999999993,6.6,3.3,20.7,67.3,98.4,295368,"All",6.8,13.7,17.8,28.6,12.2,8.8000000000000007,6.8,3.4,20.6,67,98.3,598579]
["Manufacturing","Males",0,3.6,6.5,19.399999999999999,13.7,17.3,20.100000000000001,10.1,3.6,29.5,90.6,139,"Females",0,9.1,9.1,24.2,15.2,12.1,9.1,18.2,9.1,42.4,97,33,"All",0,4.7,7,20.3,14,16.3,18,11.6,4.7,32,91.9,172]
["Leisure and Tourism","Males",0.3,2.1,6.5,15,18.399999999999999,17.899999999999999,15.7,12.6,2.4,23.9,88.5,1180,"Females",2,8.1999999999999993,15.9,21.7,16.600000000000001,14,9.6999999999999993,6.8,10.199999999999999,47.8,94.9,1637,"All",1.3,5.6,12,18.899999999999999,17.3,15.6,12.2,9.3000000000000007,6.9,37.799999999999997,92.2,2817]
["Latin","Males",45.1,26.7,13.3,8,4.0999999999999996,1.7,0.5,0.2,71.8,93.1,99.7,4077,"Females",47.4,27.8,13,6.5,3.2,1.2,0.4,0.1,75.3,94.8,99.7,4135,"All",46.3,27.3,13.2,7.2,3.7,1.5,0.5,0.2,73.5,93.9,99.7,8212]
["Italian","Males",39.700000000000003,18.3,15,13,6.3,2.9,2.7,1.2,58,86,99,1451,"Females",37.4,22.8,17.7,11,5.6,2.5,1.7,0.8,60.2,88.9,99.5,1985,"All",38.4,20.9,16.600000000000001,11.8,5.9,2.7,2.1,1,59.3,87.7,99.3,3436]
["Information Technology","Males",8.4,18.399999999999999,21.8,25.9,13,5.4,3,1.7,26.9,74.5,97.6,19551,"Females",12.3,25.2,24.3,21.6,9.4,3.6,1.5,0.8,37.5,83.4,98.6,16611,"All",10.199999999999999,21.5,22.9,23.9,11.3,4.5999999999999996,2.2999999999999998,1.3,31.7,78.599999999999994,98.1,36162]
["Humanities","Males",1.2,5.5,14.4,20.7,18.100000000000001,14.2,11.9,7.9,6.7,41.8,93.9,7209,"Females",3,10.4,19.100000000000001,22.6,17.100000000000001,12.3,7.4,4.8,13.4,55.2,96.7,7417,"All",2.1,8,16.8,21.7,17.600000000000001,13.2,9.6,6.3,10.1,48.6,95.3,14626]
["Hospitality and Catering","Males","x",1.7,15.5,28,19,18.100000000000001,11.1,5.2,2.2999999999999998,45.8,99.1,343,"Females","x",13.5,23.1,27.2,15.3,8,5.3,2.2000000000000002,18.399999999999999,68.7,99.4,511,"All",3.2,8.8000000000000007,20,27.5,16.7,12.1,7.6,3.4,11.9,59.5,99.3,854]
["Home Economics","Males",0.3,5.2,15,22.9,21.5,16.2,11.3,5.4,5.5,43.4,97.8,3898,"Females",2.9,11.3,20.2,23.5,18.399999999999999,12,6.7,3.1,14.2,57.9,98.1,24546,"All",2.6,10.5,19.5,23.4,18.8,12.6,7.3,3.4,13,55.9,98,28444]
["History","Males",9.1999999999999993,17.600000000000001,21,19.2,13.4,8.4,5.5,3.5,26.8,66.900000000000006,97.8,98087,"Females",14.3,21.4,21.4,17.3,11.2,6.8,4.0999999999999996,2.2000000000000002,35.700000000000003,74.400000000000006,98.6,97120,"All",11.7,19.5,21.2,18.2,12.3,7.6,4.8,2.8,31.2,70.599999999999994,98.2,195207]
["Dance","Males",5.0999999999999996,16.600000000000001,17.100000000000001,22.1,18.100000000000001,10.9,5.9,2.9,21.6,60.9,98.6,869,"Females",6.4,14.1,18.899999999999999,21.3,19.3,11.4,5.3,2,20.5,60.7,98.7,12308,"All",6.3,14.3,18.8,21.3,19.2,11.4,5.3,2,20.6,60.7,98.7,13177]
["Health and Social Care","Males","x",2,12.3,17.899999999999999,17.5,18.5,15.2,10.3,2.6,32.799999999999997,94.4,302,"Females","x",9.4,19,23.3,17.100000000000001,12.2,8.5,5.6,11.3,53.6,97,5570,"All",1.9,9,18.7,23,17.100000000000001,12.5,8.8000000000000007,5.8,10.9,52.6,96.8,5872]
["German","Males",7.8,13.6,22.2,26.8,16.8,7.5,3.2,1.4,21.4,70.400000000000006,99.3,27383,"Females",10.6,18.2,25.8,25.6,12.5,4.4000000000000004,1.8,0.8,28.8,80.2,99.7,30916,"All",9.3000000000000007,16.100000000000001,24.1,26.1,14.5,5.9,2.5,1.1000000000000001,25.3,75.599999999999994,99.5,58299]
["Geography","Males",8.4,15.9,19.2,22.7,16.5,8.6999999999999993,4.8,2.6,24.4,66.3,98.8,89338,"Females",13.9,20.8,20.5,19.899999999999999,12.4,6.4,3.5,1.7,34.700000000000003,75.099999999999994,99.1,72208,"All",10.9,18.100000000000001,19.8,21.4,14.7,7.7,4.2,2.2000000000000002,29,70.2,99,161546]
["General Studies","Males",1.8,7.5,12.4,17.600000000000001,19.399999999999999,15.7,11,6.9,9.3000000000000007,39.4,92.5,3373,"Females",2.1,7.7,15.7,20.8,20.8,15.3,7.8,4.9000000000000004,9.8000000000000007,46.3,95.1,3149,"All",2,7.6,14,19.2,20.100000000000001,15.5,9.4,5.9,9.6,42.7,93.7,6522]
["French","Males",8.6999999999999993,13.8,19.5,24.6,17.600000000000001,9.1,4.5,1.6,22.5,66.5,99.4,59640,"Females",11.9,17.8,23,23.3,14.3,6.1,2.4,0.8,29.7,76,99.6,82109,"All",10.6,16.100000000000001,21.5,23.9,15.7,7.4,3.3,1.2,26.7,72,99.5,141749]
["English Studies","Males",0.2,2.2000000000000002,14.6,45.9,15.1,11.4,5.8,3,2.4,63,98.4,1840,"Females",0.4,3.5,18.7,47.8,13,9.4,4,1.9,3.9,70.5,98.8,1462,"All",0.3,2.8,16.399999999999999,46.8,14.2,10.5,5,2.5,3.1,66.3,98.5,3302]
["English Literature","Males",4.5,14.9,26.6,26.5,15.3,6.6,2.6,1.2,19.399999999999999,72.5,98.2,212726,"Females",8.1,22.7,30.5,22.9,9.9,3.3,1.1000000000000001,0.5,30.8,84.2,99,236510,"All",6.4,19,28.7,24.6,12.4,4.9000000000000004,1.8,0.8,25.4,78.7,98.6,449236]
["English","Males",3.8,10.7,19.899999999999999,31.4,17.899999999999999,9.1999999999999993,4.2,1.6,14.5,65.8,98.9,296070,"Females",7.1,17.2,25.2,29.3,12.8,5.0999999999999996,1.9,0.7,24.3,78.8,99.3,291391,"All",5.5,13.9,22.5,30.3,15.4,7.2,3.1,1.2,19.399999999999999,72.3,99.1,587461]
["Economics","Males",5,24.4,30.4,20.2,9.5,4.7,2.7,1.2,29.4,80,98.1,2353,"Females",3.5,20.8,33,20.100000000000001,8.6999999999999993,5.5,4.5999999999999996,1.8,24.3,77.400000000000006,97.9,897,"All",4.5999999999999996,23.4,31.1,20.2,9.3000000000000007,4.9000000000000004,3.2,1.4,28,79.3,98,3250]
["Drama","Males",3.6,14.1,23.7,26,17.399999999999999,8.4,4.0999999999999996,1.6,17.7,67.3,98.9,28731,"Females",6.4,20.7,29.1,23.2,11.9,5,2.1,0.9,27.1,79.400000000000006,99.3,46024,"All",5.3,18.100000000000001,27,24.3,14,6.3,2.9,1.2,23.5,74.8,99.1,74755]
["D & T: Textiles Technology","Males",2.8,6.4,12.5,19.899999999999999,19.2,14,12.2,6.8,9.1999999999999993,41.6,93.8,1043,"Females",10.6,19.100000000000001,24.3,21,11.6,6.6,3.7,1.7,29.8,75.099999999999994,98.7,32614,"All",10.4,18.8,23.9,21,11.8,6.9,4,1.9,29.2,74.099999999999994,98.6,33657]
["D & T: Systems & Control","Males",5.3,14.4,21.7,22.6,15,10.1,6.2,3.1,19.7,64,98.4,4014,"Females",8,28,25.2,19.399999999999999,9.1999999999999993,2.5,4.5,1.6,36,80.599999999999994,98.4,314,"All",5.5,15.4,22,22.3,14.6,9.5,6.1,3,20.9,65.2,98.4,4328]
["D & T: Resistant Materials","Males",3.5,9.4,19.100000000000001,23.9,18.5,12.6,7.3,3.5,12.9,55.9,97.7,49560,"Females",9.4,18.3,23.7,20.3,13,7.5,4.3,2.1,27.7,71.7,98.7,8889,"All",4.4000000000000004,10.7,19.8,23.4,17.7,11.8,6.8,3.3,15.1,58.3,97.9,58449]
["D & T: Graphic Products","Males",3,9,17.5,21.9,18.3,12.4,8.4,5.3,12,51.4,95.8,25664,"Females",8.4,18.399999999999999,23.3,21.3,12.9,7.6,4.3,2,26.8,71.400000000000006,98.3,18114,"All",5.3,12.9,19.899999999999999,21.6,16.100000000000001,10.4,6.7,3.9,18.100000000000001,59.7,96.8,43778]
["D & T: Food Technology","Males",2,7.7,17.3,24.4,19.8,13.6,8.1999999999999993,4.0999999999999996,9.6999999999999993,51.4,97.2,20079,"Females",7.7,16.8,23.5,22.2,14.2,8.1999999999999993,4.0999999999999996,1.9,24.5,70.099999999999994,98.6,33970,"All",5.6,13.4,21.2,23,16.3,10.199999999999999,5.6,2.8,19,63.2,98,54049]
["D & T: Electronic Products","Males",7,14.8,21.7,21.2,14.8,8.6999999999999993,5.4,3.8,21.8,64.599999999999994,97.2,9080,"Females",15.7,24.6,21.9,15.8,9.6999999999999993,6.2,4.4000000000000004,0.6,40.200000000000003,77.900000000000006,98.8,773,"All",7.7,15.6,21.7,20.7,14.4,8.5,5.3,3.5,23.2,65.7,97.3,9853]
["Core Science","Males",1.9,7.6,18.3,32.799999999999997,17.899999999999999,11,6.4,2.7,9.5,60.6,98.7,173632,"Females",2.9,10.1,20.399999999999999,32,16.600000000000001,9.5,5.2,2.2000000000000002,13,65.400000000000006,98.9,176542,"All",2.4,8.9,19.399999999999999,32.4,17.3,10.199999999999999,5.8,2.5,11.3,63,98.8,350174]
["Construction","Males",0,"x",29.4,26.5,29.4,8.8000000000000007,0,0,"x",61.8,100,34,"Females",0,0,0,0,0,0,0,0,0,0,0,0,"All",0,"x",29.4,26.5,29.4,8.8000000000000007,0,0,"x",61.8,100,34]
["Ancient History","Males",16,29.8,24.5,4.3,"x",5.3,"x","x",45.7,74.5,98.9,94,"Females",20.5,17.899999999999999,33.299999999999997,7.7,"x",7.7,"x","x",38.5,79.5,100,39,"All",17.3,26.3,27.1,5.3,6,6,8.3000000000000007,3,43.6,75.900000000000006,99.2,133]
["Communication Studies","Males",2.2000000000000002,7.2,14.4,18.600000000000001,18.399999999999999,15.2,11.3,6.5,9.4,42.4,93.7,4072,"Females",6.4,14.1,20.5,21.6,14.8,9.6,6.4,2.8,20.5,62.6,96.3,5386,"All",4.5999999999999996,11.1,17.899999999999999,20.3,16.399999999999999,12,8.5,4.4000000000000004,15.7,53.9,95.2,9458]
["Classical Greek","Males",60.4,23.1,9.1999999999999993,4.4000000000000004,1.5,"x","x",0,83.5,97.1,100,619,"Females",65.099999999999994,21.9,7.5,2.5,2.8,"x","x",0,86.9,97,100,398,"All",62.2,22.6,8.6,3.6,2,0.8,"x",0,84.9,97.1,100,1017]
["Classical Civilisation","Males",10.3,24.7,24.1,21.9,11.4,4.0999999999999996,1.8,1,34.9,80.900000000000006,99.2,2201,"Females",17.399999999999999,25.5,23.9,17.3,9.1,3.8,1.6,1,42.9,84.1,99.6,1684,"All",13.4,25,24,19.899999999999999,10.4,4,1.7,1,38.4,82.3,99.4,3885]
["Chinese","Males",73.099999999999994,9.4,7,5.0999999999999996,3,1.2,"x","x",82.5,94.6,99.5,1305,"Females",79.7,10,4.5,3.1,1.4,0.9,"x","x",89.6,97.2,99.7,1175,"All",76.2,9.6999999999999993,5.8,4.2,2.2000000000000002,1.1000000000000001,0.3,0.1,85.9,95.8,99.6,2480]
["Chemistry","Males",20.399999999999999,27,26.5,18.8,5.7,1,0.3,0.1,47.4,92.8,99.9,70552,"Females",24.8,28.6,25,15.8,4.7,0.8,0.2,0.1,53.4,94.2,99.9,61466,"All",22.5,27.8,25.8,17.399999999999999,5.2,0.9,0.2,0.1,50.2,93.4,99.9,132018]
["Business Studies","Males",3.8,14.5,24.5,24.3,15.2,8.6,4.8,2.7,18.2,67.099999999999994,98.4,36281,"Females",5,17.5,25,23.1,14,7.9,4.2,2.1,22.5,70.599999999999994,98.8,24754,"All",4.3,15.7,24.7,23.8,14.7,8.3000000000000007,4.5,2.5,19.899999999999999,68.5,98.5,61035]
["Biological Sciences","Males",18,28.4,29.6,17.8,4.7,0.9,0.3,0.1,46.4,93.8,99.8,71285,"Females",23,30.6,26.5,14.7,3.8,0.8,0.2,0.1,53.7,94.9,99.8,62501,"All",20.399999999999999,29.5,28.1,16.399999999999999,4.3,0.8,0.3,0.1,49.8,94.3,99.8,133786]
["Art and Design","Males",5.3,9.6999999999999993,19.100000000000001,30.6,16.2,9.8000000000000007,5.3,2.2999999999999998,15,64.7,98.4,57387,"Females",11.2,18.5,26.6,26.1,9.8000000000000007,4.3,2,0.7,29.7,82.4,99.2,104955,"All",9.1,15.4,23.9,27.7,12.1,6.2,3.2,1.3,24.5,76.2,98.9,162342]
["Arabic","Males",29.8,22.3,15.2,8.5,5.9,5.7,3.1,2.9,52,75.7,93.3,930,"Females",31.3,20.7,13.9,10.7,7,5.5,4.3,3.1,52,76.599999999999994,96.5,1208,"All",30.6,21.4,14.5,9.6999999999999993,6.5,5.6,3.8,3,52,76.2,95.1,2138]
["Applied Physical Education","Males",1.4,6.3,19.8,41.4,21.9,6.5,1.6,"x",7.7,68.900000000000006,99,572,"Females",2,8.1,18.600000000000001,38,21.7,7.6,2,"x",10.1,66.7,98,447,"All",1.7,7.1,19.2,39.9,21.8,7,1.8,"x",8.6999999999999993,67.900000000000006,98.5,1019]
["Applied Engineering","Males",1.2,6.3,12.8,21.5,22.4,14.4,10.8,6.6,7.5,41.8,96.1,1241,"Females",0,8.5,18.600000000000001,33.9,16.899999999999999,6.8,6.8,5.0999999999999996,8.5,61,96.6,59,"All",1.2,6.4,13.1,22.1,22.2,14.1,10.6,6.5,7.5,42.7,96.1,1300]
["Applied Business","Males",1.6,9,19.899999999999999,22.5,14.9,11.2,8.6,6.7,10.6,53,94.4,2142,"Females",6.7,16.399999999999999,20.3,22.9,13,7.9,6.1,3.8,23.1,66.400000000000006,97.1,1373,"All",3.6,11.9,20.100000000000001,22.7,14.1,9.9,7.7,5.5,15.5,58.2,95.4,3515]
["Applied Art and Design","Males",1.9,7.2,19.100000000000001,36,16.399999999999999,12.4,4.8,1.4,9.1999999999999993,64.3,99.3,566,"Females",5.3,15.7,30.5,30.8,9.6,4.5,2,0.5,21,82.3,98.9,910,"All",4,12.5,26.2,32.799999999999997,12.2,7.5,3,0.9,16.5,75.400000000000006,99.1,1476]
["All Subjects","Males",6.9,14,21.2,26.4,14.9,8.3000000000000007,4.5999999999999996,2.2000000000000002,20.9,68.400000000000006,98.5,2220810,"Females",9.6999999999999993,18.2,23.6,24.6,12.1,6.1,3.2,1.5,27.9,76.099999999999994,99,2290185,"All",8.3000000000000007,16.100000000000001,22.4,25.5,13.5,7.2,3.9,1.8,24.4,72.3,98.7,4510995]
["Additional Science","Males",3.7,9.1999999999999993,20.6,33.299999999999997,19.399999999999999,8,3.4,1.4,12.9,66.900000000000006,99.1,123625,"Females",5.8,12.1,23,31.3,16.5,6.6,2.8,1.1000000000000001,17.8,72.099999999999994,99.2,128169,"All",4.8,10.7,21.8,32.299999999999997,17.899999999999999,7.3,3.1,1.3,15.4,69.599999999999994,99.2,251794]
["Additional Applied Science","Males","x",0.7,5.2,22.9,32,21.2,11.1,4.2,0.7,28.8,97.4,13434,"Females","x",2,10.7,29.1,30.2,16.5,7.2,2.4,2.1,41.9,98.2,15628,"All",0.1,1.4,8.1999999999999993,26.3,31,18.7,9,3.2,1.4,35.799999999999997,97.8,29062]

{"sheet":"2012","index":7,"n_rows":65,"n_cols":40,"rows_kept":65,"cut":false,"hidden":true,"merged":[]}
[1,{"$f":"A1+1","v":2},{"$f":"B1+1","v":3},4,5,6,7,8,9,10,11,12,13,14,15,16,17,18,19,20,21,22,23,24,25,26,27,28,29,30,31,32,33,34,35,36,37,38,39,40]
["Subjects",null,"*","A","B","C","D","E","F","G","AstarA","AstarC","AstarG","Total","(No column name)","*","A","B","C","D","E","F","G","AstarA","AstarC","AstarG","Total","(No column name)","*","A","B","C","D","E","F","G","AstarA","AstarC","AstarG","Total"]
["English","Males",2.5,9.4,18.899999999999999,31.5,20.3,10.4,4.7,1.5,11.9,62.2,99.2,286477,"Females",5.2,16.3,25.3,29.7,14.5,5.7,2.1,0.7,21.5,76.5,99.5,282134,"All",3.8,12.8,22.1,30.6,17.399999999999999,8.1,3.4,1.1000000000000001,16.600000000000001,69.3,99.4,568611]
["Mathematics","Males",7.5,12.8,17.8,32.5,10.7,7.5,6.2,3.5,20.3,70.599999999999994,98.4,301640,"Females",7,13.3,18.399999999999999,32.5,11,7.2,5.8,3.3,20.3,71.2,98.6,292726,"All",7.2,13.1,18.100000000000001,32.5,10.9,7.4,6,3.4,20.3,70.900000000000006,98.5,594366]
["Core Science","Males",1.7,6.8,18.2,35.200000000000003,18.899999999999999,10.1,5.7,2.4,8.5,61.9,98.9,154001,"Females",2.6,9.3000000000000007,20.9,34.1,17.100000000000001,8.6999999999999993,4.5,1.9,11.9,67,99.2,157230,"All",2.2000000000000002,8.1,19.5,34.700000000000003,18,9.4,5.0999999999999996,2.2000000000000002,10.3,64.5,99.1,311231]
["Additional Science","Males",3.1,8.4,20.7,33.700000000000003,20.3,8.1,3.5,1.4,11.5,65.900000000000006,99.2,119763,"Females",4.5999999999999996,11.5,23.7,31.8,17.2,6.8,2.7,1.1000000000000001,16.100000000000001,71.599999999999994,99.3,124941,"All",3.8,10,22.2,32.700000000000003,18.7,7.4,3.1,1.2,13.8,68.8,99.3,244704]
["Additional Applied Science","Males",0.1,0.9,5,20.399999999999999,32.700000000000003,22.7,11.7,3.8,1.1000000000000001,26.4,97.3,8181,"Females",0.2,2.8,10.6,26.9,30.5,17.100000000000001,7.8,2.2999999999999998,3,40.5,98.2,9468,"All",0.2,1.9,8,23.9,31.5,19.7,9.6,3,2.1,34,97.8,17649]
["Physics","Males",19.5,27.4,28.1,18.899999999999999,4.9000000000000004,0.9,0.2,0.1,46.8,93.8,99.9,77821,"Females",19.7,27.4,28.1,18.2,5.3,0.9,0.2,0,47.1,93.5,99.9,68671,"All",19.600000000000001,27.4,28.1,18.600000000000001,5.0999999999999996,0.9,0.2,0.1,47,93.7,99.9,146492]
["Chemistry","Males",19.399999999999999,26.6,27.8,18.8,6,1,0.2,0.1,46,92.7,99.9,78220,"Females",23.2,28.6,26.4,16.100000000000001,4.7,0.8,0.1,0,51.8,94.2,99.9,69244,"All",21.2,27.5,27.1,17.5,5.4,0.9,0.2,0,48.7,93.4,99.9,147464]
["Biological Sciences","Males",16.3,28,30.2,18.600000000000001,5.3,0.9,0.3,0.1,44.4,93.2,99.8,78707,"Females",21.3,30.8,27.7,14.9,4.0999999999999996,0.7,0.2,0.1,52.1,94.7,99.8,70315,"All",18.7,29.4,29,16.8,4.7,0.8,0.3,0.1,48,93.9,99.8,149022]
["Other Sciences","Males",12,15.8,18.600000000000001,16.7,13.2,9.1,6.4,4.0999999999999996,27.7,63,95.9,3788,"Females",6.3,15.4,19.7,19.600000000000001,14,10.4,6.1,3.9,21.7,61.1,95.4,2079,"All",10,15.6,19,17.7,13.5,9.6,6.3,4,25.6,62.3,95.7,5867]
["D & T: Electronic Products","Males",8.4,14.5,21.7,20.5,14,8.8000000000000007,6,3.5,22.9,65.099999999999994,97.4,8453,"Females",19.2,24.6,21.8,16.3,6.3,6.3,3.3,1.5,43.8,82,99.3,687,"All",9.1999999999999993,15.3,21.7,20.2,13.5,8.6,5.8,3.4,24.5,66.400000000000006,97.6,9140]
["D & T: Food Technology","Males",2.4,7.1,16.8,25.1,22.3,13.7,7.6,3.4,9.5,51.3,98.2,18752,"Females",8.5,16.8,23.8,23,14.5,7.5,3.6,1.5,25.2,72.099999999999994,99.1,30772,"All",6.2,13.1,21.2,23.8,17.399999999999999,9.8000000000000007,5.0999999999999996,2.2000000000000002,19.3,64.2,98.8,49524]
["D & T: Graphic Products","Males",3.4,9.3000000000000007,16.7,21.8,19.5,12.7,8.3000000000000007,4.4000000000000004,12.8,51.3,96.2,24294,"Females",9.4,18.2,22.8,20.7,13.7,7.8,4.0999999999999996,1.8,27.7,71.2,98.5,16512,"All",5.9,12.9,19.2,21.4,17.100000000000001,10.7,6.6,3.3,18.8,59.4,97.1,40806]
["D & T: Resistant Materials","Males",3.3,9.6999999999999993,19.100000000000001,24.1,18.2,12,7.4,3.8,13,56.2,97.6,46098,"Females",8.1999999999999993,18.600000000000001,23.7,22.3,13.1,6.8,4.0999999999999996,1.7,26.8,72.8,98.6,8206,"All",4,11,19.8,23.8,17.399999999999999,11.2,6.9,3.5,15.1,58.7,97.7,54304]
["D & T: Systems & Control","Males",6.4,14,20,24,16.7,8.9,5.8,2.5,20.399999999999999,64.400000000000006,98.4,3767,"Females",10.9,30.7,24.2,15,8.9,4.8,3.4,1.4,41.6,80.900000000000006,99.3,293,"All",6.7,15.2,20.3,23.4,16.2,8.6,5.7,2.4,21.9,65.599999999999994,98.5,4060]
["D & T: Textiles Technology","Males",3.1,7,14.1,18,20.7,13.4,11.9,7.4,10.1,42.2,95.5,891,"Females",10.6,18.7,24.3,21.1,12.5,6.7,3.4,1.7,29.3,74.599999999999994,98.9,31093,"All",10.4,18.399999999999999,24,21,12.7,6.9,3.7,1.8,28.7,73.7,98.8,31984]
["Other Design and Technology","Males",2.5,8.4,17.7,24.7,19.899999999999999,12.7,7.7,4,10.9,53.3,97.6,22445,"Females",6.9,17.3,23.4,23,14.3,7.7,3.9,1.9,24.2,70.599999999999994,98.5,11244,"All",3.9,11.4,19.600000000000001,24.1,18.100000000000001,11,6.4,3.3,15.3,59.1,97.9,33689]
["Applied Engineering","Males",1.4,4.5,17.2,23.4,19.2,15.7,10.1,"x",5.9,46.5,96.2,1410,"Females",18.100000000000001,22.4,25,13.8,6,7.8,5.2,"x",40.5,79.3,100,116,"All",2.7,5.8,17.8,22.7,18.2,15.1,9.6999999999999993,4.4000000000000004,8.5,49,96.5,1526]
["Information Technology","Males",5.2,18,25.8,22,12.3,7,4.8,3.1,23.2,71,98.1,21476,"Females",9.1999999999999993,25.1,27.2,19.100000000000001,9.1999999999999993,4.5,2.7,1.7,34.299999999999997,80.599999999999994,98.8,17737,"All",7,21.2,26.4,20.7,10.9,5.9,3.9,2.5,28.2,75.3,98.4,39213]
["Business Studies","Males",3.1,14.7,24.8,24.6,16.2,8.4,4.5999999999999996,2.4,17.8,67.099999999999994,98.8,34976,"Females",4.5,17.7,25.9,23,14.8,7.4,4,1.8,22.1,71,99,23546,"All",3.6,15.9,25.2,24,15.6,8,4.4000000000000004,2.2000000000000002,19.5,68.7,98.9,58522]
["Applied Business","Males",2.2999999999999998,11.5,19.899999999999999,24.9,15.7,10.1,6.9,4.3,13.7,58.5,95.5,2220,"Females",5.6,18.100000000000001,22.5,23.7,12.3,7.4,4.5,2.6,23.7,70,96.8,1647,"All",3.7,14.3,21,24.4,14.2,9,5.9,3.6,18,63.4,96.1,3867]
["Arabic","Males",30.1,20.8,14.6,11.1,6.6,4.7,3.7,3.2,50.9,76.599999999999994,94.8,1035,"Females",29.7,22.1,14.3,11.5,7.7,3.6,3.3,2.5,51.8,77.5,94.6,1263,"All",29.9,21.5,14.4,11.3,7.2,4.0999999999999996,3.5,2.8,51.4,77.099999999999994,94.7,2298]
["Chinese","Males",62,12.6,10.3,9,2.9,1.8,0.8,"x",74.599999999999994,93.9,99.6,1188,"Females",72.7,13,6.3,4.3,2,0.8,0.4,"x",85.8,96.3,99.6,1119,"All",67.2,12.8,8.3000000000000007,6.7,2.5,1.3,0.6,0.1,80,95.1,99.6,2307]
["French","Males",8.5,13.5,19.2,25.3,18.600000000000001,8.9,4.2,1.3,22,66.5,99.5,57046,"Females",12,17.3,22.1,24.5,15,5.9,2.2000000000000002,0.7,29.4,76,99.7,78501,"All",10.5,15.7,20.9,24.9,16.5,7.2,3,1,26.3,72,99.6,135547]
["German","Males",8,13.4,21.6,27.4,17.5,7.3,3.1,1.2,21.4,70.400000000000006,99.6,25917,"Females",10.7,18,25,26.2,13.1,4.5999999999999996,1.7,0.6,28.7,79.8,99.8,28876,"All",9.4,15.8,23.4,26.7,15.2,5.9,2.4,0.9,25.2,75.400000000000006,99.7,54793]
["Home Economics","Males",0.8,6.2,16,24,20.9,15.5,9.6999999999999993,4.7,6.9,46.9,97.7,3901,"Females",3,11.2,20.3,23.4,18.600000000000001,12.2,6.6,2.9,14.2,58,98.3,23481,"All",2.7,10.5,19.7,23.5,18.899999999999999,12.6,7.1,3.1,13.2,56.4,98.2,27382]
["Italian","Males",39.799999999999997,17.3,15.4,13.6,7.2,3.8,1.6,1,57.1,86.1,99.6,1698,"Females",38.799999999999997,21.8,17.3,11.8,5.6,3,0.9,0.4,60.6,89.7,99.6,2153,"All",39.299999999999997,19.8,16.5,12.6,6.3,3.3,1.2,0.7,59,88.1,99.6,3851]
["Polish","Males",17.399999999999999,48,20,6.6,3.2,2.2000000000000002,0.5,1.2,65.400000000000006,92,99.1,1399,"Females",33.200000000000003,45,13.2,4.4000000000000004,1.2,1,0.4,0.9,78.2,95.8,99.3,1349,"All",25.1,46.5,16.7,5.5,2.2000000000000002,1.6,0.5,1.1000000000000001,71.7,93.9,99.2,2748]
["Spanish","Males",11.9,15.2,19.2,22.5,16.7,8.4,3.8,1.6,27.1,68.8,99.3,26500,"Females",16.2,18.8,21.3,21.2,13.6,5.5,2.2000000000000002,0.8,35.1,77.599999999999994,99.6,36845,"All",14.4,17.3,20.399999999999999,21.7,14.9,6.7,2.9,1.1000000000000001,31.7,73.900000000000006,99.5,63345]
["Urdu","Males",7.6,17.5,19.2,22.2,14.7,10.1,4.8,2,25.2,66.599999999999994,98.2,1283,"Females",13.8,22.5,22.2,19.600000000000001,10.8,6.9,2.8,0.7,36.299999999999997,78.099999999999994,99.3,2421,"All",11.7,20.8,21.2,20.5,12.2,8,3.5,1.1000000000000001,32.5,74.099999999999994,98.9,3704]
["Other Modern Languages","Males",27.6,26.7,18.600000000000001,12.9,6.5,3.4,1.7,1,54.3,85.9,98.6,4295,"Females",34.1,28.6,17.600000000000001,10.6,4.3,2.2999999999999998,1,0.6,62.7,90.9,99.1,4597,"All",30.9,27.7,18.100000000000001,11.7,5.4,2.8,1.4,0.8,58.6,88.5,98.8,8892]
["Classical Civilisation","Males",8.6999999999999993,23.2,25.5,20.8,13,5.8,2.1,0.5,31.9,78.2,99.6,2414,"Females",15.3,30.6,24.8,15.9,8.1,2.7,1.4,0.6,46,86.7,99.6,1806,"All",11.6,26.4,25.2,18.7,10.9,4.5,1.8,0.5,37.9,81.8,99.6,4220]
["Classical Greek","Males",62.6,20.2,9.6,3.5,2.2999999999999998,"x","x","x",82.7,95.8,99.7,649,"Females",64.599999999999994,20.7,9.4,1.8,"x","x","x",0,85.3,96.4,100,449,"All",63.4,20.399999999999999,9.5,2.8,2.6,0.5,0.4,"x",83.8,96.1,99.8,1098]
["Geography","Males",7.5,16.7,19.8,22.4,16.5,9.1,4.7,2.2000000000000002,24.2,66.400000000000006,98.9,91248,"Females",13.3,21.6,21.1,19.5,12.1,6.4,3.5,1.7,34.9,75.5,99.3,73839,"All",10.1,18.899999999999999,20.399999999999999,21.1,14.6,7.9,4.0999999999999996,2,29,70.5,99.1,165087]
["Latin","Males",42.7,27.7,13.7,7.8,4.2,1.9,0.8,0.5,70.3,91.9,99.3,4141,"Females",48,27.3,12.9,6.6,3,1.3,0.6,0.3,75.3,94.7,99.9,4240,"All",45.4,27.5,13.3,7.2,3.6,1.6,0.7,0.4,72.8,93.3,99.6,8381]
["Other Classical Studies","Males",13.6,32.200000000000003,24.6,12.7,7.6,2.5,2.5,0,45.8,83.1,95.8,118,"Females",12.7,31.8,27,14.1,6.2,2,1.1000000000000001,1.7,44.5,85.6,96.6,355,"All",12.9,31.9,26.4,13.7,6.6,2.1,1.5,1.3,44.8,85,96.4,473]
["History","Males",8.8000000000000007,17.3,21,19.7,13.8,8.5,5.5,3.3,26.1,66.8,97.9,99769,"Females",13.5,21.4,21.6,17.600000000000001,11.4,6.9,4.2,2.2000000000000002,34.9,74.2,98.8,98106,"All",11.2,19.3,21.3,18.7,12.6,7.7,4.8,2.7,30.5,70.5,98.3,197875]
["Ancient History","Males",20,23,23,13.3,10.9,6.1,"x","x",43,79.400000000000006,98.2,165,"Females",11.4,20.3,26.6,16.5,13.9,6.3,"x","x",31.6,74.7,98.7,79,"All",17.2,22.1,24.2,14.3,11.9,6.1,2,"x",39.299999999999997,77.900000000000006,98.4,244]
["Humanities","Males",1.2,5.5,13.4,21.7,19.5,14.9,11,7.5,6.7,41.9,94.8,7557,"Females",2.5,9.5,18.8,23.1,17.7,13.1,7.6,4.5,12,53.8,96.8,7754,"All",1.9,7.5,16.2,22.4,18.600000000000001,14,9.3000000000000007,6,9.4,47.9,95.8,15311]
["Economics","Males",9.4,24.9,27.9,17.899999999999999,8.3000000000000007,5,3.4,1.6,34.299999999999997,80.099999999999994,98.4,2436,"Females",8.6999999999999993,23.4,26.6,20,9.9,4.8,3.1,2,32,78.7,98.5,993,"All",9.1999999999999993,24.5,27.5,18.5,8.8000000000000007,4.9000000000000004,3.3,1.7,33.700000000000003,79.7,98.4,3429]
["Social Studies","Males",1.9,9.9,20,24.9,17.7,11.4,7.2,4.3,11.8,56.7,97.2,15141,"Females",4.2,16.7,25.6,22.5,13.7,8,4.8,2.8,20.9,69,98.3,27310,"All",3.4,14.2,23.6,23.4,15.1,9.1999999999999993,5.7,3.3,17.600000000000001,64.599999999999994,97.9,42451]
["Music","Males",9,22.1,25.1,19.3,11.9,6.7,3,1.5,31.1,75.599999999999994,98.7,20943,"Females",10.6,25.1,26.7,17.8,10.6,5.2,2.2999999999999998,1,35.799999999999997,80.2,99.3,19818,"All",9.8000000000000007,23.6,25.9,18.600000000000001,11.3,6,2.7,1.2,33.4,77.8,99,40761]
["Applied Art and Design","Males",3.6,6.3,18.600000000000001,27.9,20,13.6,7.7,1.1000000000000001,10,56.5,98.9,441,"Females",6.8,16.7,27.4,28.6,12.3,4.8,2.2000000000000002,0.7,23.6,79.599999999999994,99.6,730,"All",5.6,12.8,24.1,28.4,15.2,8.1,4.3,0.9,18.399999999999999,70.900000000000006,99.3,1171]
["Applied Physical Education","Males","x",13.5,24,49,7.3,4.2,0,0,15.6,88.5,100,96,"Females","x",18,38.200000000000003,29.2,11.2,0,0,0,21.3,88.8,100,89,"All",2.7,15.7,30.8,39.5,9.1999999999999993,2.2000000000000002,0,0,18.399999999999999,88.6,100,185]
["Art and Design","Males",5.6,9.3000000000000007,19.100000000000001,30.9,15.9,9.6999999999999993,5.5,2.4,14.8,64.900000000000006,98.4,54643,"Females",12.2,17.5,26.7,26.8,9.6,4.0999999999999996,1.8,0.6,29.7,83.2,99.3,104369,"All",10,14.7,24.1,28.2,11.8,6,3.1,1.2,24.6,76.900000000000006,99,159012]
["Communication Studies","Males",2,7,15.7,22.1,18.600000000000001,14.8,10,5.4,9,46.7,95.5,4581,"Females",6.6,17.600000000000001,22.1,22,14.2,8.4,4.7,2.2000000000000002,24.2,68.3,97.8,5240,"All",4.5,12.7,19.100000000000001,22,16.2,11.4,7.2,3.7,17.100000000000001,58.2,96.7,9821]
["Construction","Males",0,0,"x","x",47.5,7.5,0,0,0,"x","x","x","Females",0,0,"x","x",0,0,0,0,0,"x","x","x","All",0,0,16.7,31,45.2,7.1,0,0,0,47.6,100,42]
["Dance","Males",4.9000000000000004,16,16.899999999999999,24.5,18.100000000000001,10.4,4.0999999999999996,2.4,20.9,62.3,97.4,799,"Females",5.5,14.6,20.3,23.5,18.8,10.1,4.5,1.6,20.100000000000001,63.9,98.9,11143,"All",5.4,14.7,20,23.6,18.8,10.1,4.5,1.6,20.2,63.8,98.8,11942]
["Drama","Males",3.4,13.6,23.3,26,17.8,9,4.0999999999999996,1.8,17,66.3,99,27528,"Females",6,20.5,28.4,23.4,12.7,5.3,2.1,0.9,26.6,78.3,99.4,42843,"All",5,17.8,26.4,24.4,14.7,6.7,2.9,1.2,22.8,73.599999999999994,99.2,70371]
["English Literature","Males",4.2,13.5,25.6,27,16.7,7.3,3.2,1.4,17.7,70.400000000000006,98.9,201888,"Females",7.6,20.9,30.5,23.5,11,3.8,1.4,0.6,28.6,82.5,99.4,224027,"All",6,17.399999999999999,28.2,25.2,13.7,5.4,2.2999999999999998,1,23.4,76.8,99.1,425915]
["English Studies","Males",0.3,1.9,10.1,28.7,25.7,17.7,9.1999999999999993,4.4000000000000004,2.1,41,98,1908,"Females",1,5.7,14.2,32.700000000000003,22.7,13.2,5.0999999999999996,3.8,6.7,53.5,98.4,1398,"All",0.6,3.5,11.8,30.4,24.5,15.8,7.5,4.0999999999999996,4.0999999999999996,46.3,98.2,3306]
["General Studies","Males",1.5,7,12.6,16.7,20.5,14.8,10.199999999999999,7.4,8.6,37.799999999999997,90.6,2491,"Females",0.9,9,14.6,21,21.3,15.1,8.6999999999999993,4.5999999999999996,10,45.5,95.2,2559,"All",1.2,8,13.6,18.899999999999999,20.9,14.9,9.4,6,9.3000000000000007,41.7,92.9,5050]
["Health and Social Care","Males",0,3.2,8.4,17.399999999999999,20.100000000000001,16.899999999999999,16.399999999999999,11.9,3.2,29,94.2,379,"Females",1.9,9.1999999999999993,18.899999999999999,25.1,17.7,12.2,7.9,4.7,11.1,55.1,97.7,5800,"All",1.8,8.8000000000000007,18.3,24.6,17.899999999999999,12.5,8.4,5.0999999999999996,10.6,53.5,97.5,6179]
["Hospitality and Catering","Males","x",6.9,17.899999999999999,25.6,26.8,12.6,6.1,2.2000000000000002,7.1,50.6,98.4,492,"Females","x",16.2,27.1,24.3,18.5,6.3,1.6,1.3,20.7,72.2,99.7,704,"All",2.8,12.4,23.3,24.8,21.9,8.9,3.4,1.7,15.1,63.3,99.2,1196]
["Leisure and Tourism","Males","x",2.8,7.6,17.2,18.8,17,15.6,11.6,3,27.8,90.8,1132,"Females","x",7.4,15.3,22.4,18.100000000000001,14.1,10.9,6.9,9.5,47.1,97.1,1492,"All",1.2,5.4,12,20.2,18.399999999999999,15.3,12.9,8.9,6.7,38.799999999999997,94.4,2624]
["Manufacturing","Males",4.2,6.8,10.199999999999999,28.8,15.3,"x","x","x",11,50,95.8,118,"Females",0,14.3,19,23.8,19,"x","x","x",14.3,57.1,100,21,"All",3.6,7.9,11.5,28.1,15.8,15.8,5.8,7.9,11.5,51.1,96.4,139]
["Media/Film/TV","Males",1.5,7.9,19.2,27.5,20.3,11.6,6.3,3.1,9.4,56.1,97.4,24466,"Females",5.5,18.8,28.1,24.7,12.2,5.6,2.6,1.4,24.3,77.099999999999994,98.8,25012,"All",3.6,13.4,23.7,26.1,16.2,8.6,4.5,2.2000000000000002,16.899999999999999,66.7,98.1,49478]
["Media: Communication and Production","Males",0,0,7.1,35.700000000000003,34.299999999999997,11.4,10,0,0,42.9,98.6,70,"Females",0,0,26.6,49.4,15.2,5.0999999999999996,3.8,0,0,75.900000000000006,100,79,"All",0,0,17.399999999999999,43,24.2,8.1,6.7,0,0,60.4,99.3,149]
["Performing Arts","Males",4.5999999999999996,6.8,15.9,28.5,18,14.2,7.7,3.2,11.4,55.8,98.8,755,"Females",9.1999999999999993,13.5,23.4,23.8,14.3,8.1999999999999993,3.9,2,22.8,70,98.5,1515,"All",7.7,11.3,20.9,25.4,15.6,10.199999999999999,5.2,2.4,19,65.3,98.6,2270]
["Physical Education","Males",2.6,16.2,26.2,26.2,17.100000000000001,8.4,2.5,0.5,18.8,71.3,99.7,57174,"Females",5.4,19,24.5,23.7,15.9,8,2.8,0.6,24.3,72.5,99.7,30253,"All",3.6,17.2,25.6,25.3,16.7,8.3000000000000007,2.6,0.5,20.7,71.7,99.7,87427]
["Religious Studies","Males",7.9,16.5,22,21.2,12.7,8.5,5.5,3.3,24.4,67.599999999999994,97.7,96450,"Females",15.4,23.3,23.7,17.3,9.1,5.4,3.1,1.6,38.700000000000003,79.7,98.9,114152,"All",11.9,20.2,22.9,19.100000000000001,10.8,6.8,4.2,2.4,32.200000000000003,74.2,98.4,210602]
["Statistics","Males",5,17.600000000000001,25,28.7,13.4,5.0999999999999996,1.9,1,22.6,76.3,97.8,27732,"Females",7,20.2,27,27.1,10.8,3.9,1.6,0.7,27.2,81.3,98.3,24817,"All",5.9,18.8,25.9,28,12.2,4.5999999999999996,1.8,0.9,24.8,78.7,98,52549]
["Vocational Studies","Males",1.4,7.7,18.899999999999999,26.5,22.2,12.9,5.9,2.6,9.1,54.4,98.1,15129,"Females",3.7,15.5,25.8,24.7,16.5,8.3000000000000007,3.2,1.2,19.2,69.7,98.9,16873,"All",2.6,11.8,22.5,25.5,19.2,10.5,4.4000000000000004,1.8,14.4,62.5,98.5,32002]
["All Subjects","Males",6.6,13.8,21.2,27,15.3,8.1,4.5,2.1,20.399999999999999,68.7,98.7,2180535,"Females",9.4,18,24,25.3,12.3,5.8,3,1.4,27.4,76.7,99.2,2247133,"All",8,16,22.6,26.1,13.8,7,3.7,1.7,24,72.7,99,4427668]

{"sheet":"2013","index":8,"n_rows":64,"n_cols":42,"rows_kept":64,"cut":false,"hidden":true,"merged":[]}
[1,{"$f":"A1+1","v":2},{"$f":"B1+1","v":3},4,5,6,7,8,9,10,11,12,13,14,15,16,17,18,19,20,21,22,23,24,25,26,27,28,29,30,31,32,33,34,35,36,37,38,39,40]
["Subjects",null,"*","A","B","C","D","E","F","G","AstarA","AstarC","AstarG","Total","(No column name)","*","A","B","C","D","E","F","G","AstarA","AstarC","AstarG","Total","(No column name)","*","A","B","C","D","E","F","G","AstarA","AstarC","AstarG","Total",null,"Count of supressions"]
["English","Males",2.5,9.1999999999999993,19.7,32,19.600000000000001,10.199999999999999,4.5999999999999996,1.5,11.7,63.4,99.2,274738,"Females",5.6,16.8,26.7,28.9,13.6,5.4,2,0.6,22.4,78,99.6,276063,"All",4,13,23.2,30.5,16.600000000000001,7.8,3.3,1.1000000000000001,17.100000000000001,70.7,99.4,550801]
["Mathematics","Males",7.1,12.6,19.399999999999999,33.200000000000003,10.3,6.5,5.4,3.6,19.7,72.3,98.1,305315,"Females",6.7,13,20.3,33.200000000000003,10.5,6.3,5,3.4,19.7,73.2,98.3,297858,"All",6.9,12.8,19.899999999999999,33.200000000000003,10.4,6.4,5.2,3.5,19.7,72.8,98.2,603173]
["Core Science","Males",0.9,5,16.2,34.700000000000003,20.5,12,6.4,2.7,5.9,56.7,98.3,158387,"Females",1.6,8,19.8,34.1,18.2,10.1,5,2,9.6,63.4,98.7,163577,"All",1.2,6.5,18,34.4,19.3,11.1,5.7,2.2999999999999998,7.8,60.1,98.5,321964]
["Additional Science","Males",1.8,7.6,18.8,33.700000000000003,21.7,9.4,4.3,1.7,9.4,61.9,99,119596,"Females",3.1,10.4,22.1,32.700000000000003,18.899999999999999,7.7,3.2,1.2,13.5,68.3,99.3,128934,"All",2.5,9.1,20.5,33.200000000000003,20.2,8.5,3.7,1.4,11.5,65.2,99.1,248530]
["Additional Applied Science","Males",0.1,1.3,5.5,20.3,29.8,22.6,11.7,4.9000000000000004,1.4,27.2,96.2,5669,"Females",0.1,2,8.9,27.4,28.7,19.2,8.4,3.2,2.2000000000000002,38.4,97.9,6141,"All",0.1,1.7,7.2,24,29.2,20.9,10,4,1.8,33,97.1,11810]
["Physics","Males",15.6,25.9,28,21.6,7.2,1.2,0.3,0.1,41.5,91.1,99.9,76223,"Females",17.100000000000001,25.5,27.9,21.2,6.8,1.2,0.3,0.1,42.5,91.6,99.9,73173,"All",16.3,25.7,28,21.4,7,1.2,0.3,0.1,42,91.4,99.9,149396]
["Chemistry","Males",15.3,24.7,27.5,22.1,8.3000000000000007,1.7,0.4,0.1,40,89.5,99.9,77132,"Females",19.100000000000001,27.5,26.7,19.2,6.1,1.1000000000000001,0.3,0.1,46.6,92.4,99.9,73637,"All",17.2,26.1,27.1,20.6,7.2,1.4,0.3,0.1,43.2,90.9,99.9,150769]
["Biological Sciences","Males",12.5,25.3,29.4,22.9,7.8,1.5,0.4,0.2,37.799999999999997,90.1,99.8,77657,"Females",18.399999999999999,29.2,27.5,18,5.2,1,0.3,0.1,47.6,93.1,99.8,74767,"All",15.4,27.2,28.5,20.5,6.5,1.2,0.3,0.1,42.6,91.6,99.8,152424]
["Computer Science","Males",6.9,20.2,23.9,18.399999999999999,12.4,7.5,5,2.7,27.1,69.400000000000006,97,3434,"Females",8.9,19.8,26.2,18.100000000000001,13.8,6.1,3.6,1.9,28.6,72.900000000000006,98.3,587,"All",7.2,20.100000000000001,24.3,18.3,12.6,7.3,4.8,2.6,27.3,69.900000000000006,97.2,4021]
["Other Sciences","Males",10.9,15.1,19.3,18.100000000000001,13.1,9.9,7.5,3.1,26,63.4,97.1,3895,"Females",4.7,14.8,18.899999999999999,21.3,17.7,10.5,6.5,3.4,19.5,59.8,97.8,2090,"All",8.6999999999999993,15,19.100000000000001,19.2,14.7,10.1,7.2,3.2,23.7,62.1,97.3,5985]
["D & T: Electronic Products","Males",8.1999999999999993,13.8,20.6,21.1,15.2,9.1999999999999993,6,3.3,22.1,63.7,97.4,7852,"Females",22.6,24.1,21.5,13.5,8.4,5.0999999999999996,2.6,0.8,46.7,81.7,98.6,646,"All",9.3000000000000007,14.6,20.7,20.5,14.7,8.9,5.7,3.1,23.9,65.099999999999994,97.5,8498]
["D & T: Food Technology","Males",2,6.3,15.3,25.5,22.9,14.9,7.7,3.5,8.3000000000000007,49.1,98.2,16119,"Females",7.8,16.399999999999999,23.5,23,15,8.1,3.8,1.5,24.2,70.7,99.2,27307,"All",5.6,12.7,20.399999999999999,24,18,10.7,5.2,2.2999999999999998,18.3,62.7,98.8,43426]
["D & T: Graphic Products","Males",2.8,8.4,16.899999999999999,22.5,19.7,13,8.4,4.8,11.3,50.7,96.5,22244,"Females",8.6999999999999993,19.100000000000001,22.7,21.5,13.9,7,3.7,2,27.8,72,98.7,13994,"All",5.0999999999999996,12.5,19.100000000000001,22.1,17.5,10.7,6.6,3.7,17.600000000000001,58.9,97.4,36238]
["D & T: Resistant Materials","Males",3.6,9.5,18.7,24.5,19.3,12.2,7.1,3.4,13.1,56.2,98.2,44851,"Females",9.3000000000000007,19.2,23.5,20.5,13.6,7.2,3.6,1.9,28.6,72.599999999999994,98.9,7575,"All",4.4000000000000004,10.9,19.399999999999999,23.9,18.5,11.4,6.5,3.2,15.3,58.6,98.3,52426]
["D & T: Systems & Control","Males",6.2,13.9,20.9,22.3,18.100000000000001,10.3,4.2,2.5,20.100000000000001,63.3,98.4,3250,"Females",8.1999999999999993,23.6,24.9,22.7,12,4.3,2.1,1.7,31.8,79.400000000000006,99.6,233,"All",6.3,14.6,21.1,22.4,17.7,9.9,4.0999999999999996,2.4,20.9,64.400000000000006,98.5,3483]
["D & T: Textiles Technology","Males",2.4,6.5,13.7,15.9,20.7,15.7,13.7,7.2,8.9,38.6,95.8,765,"Females",10.199999999999999,18.600000000000001,24,22.1,12.7,6.6,3.5,1.5,28.8,74.900000000000006,99.1,26995,"All",10,18.3,23.7,21.9,12.9,6.9,3.7,1.6,28.2,73.900000000000006,99,27760]
["Other Design and Technology","Males",2.9,8.1,17.600000000000001,25.2,19.600000000000001,12.5,7.8,3.9,11,53.8,97.6,23396,"Females",8.8000000000000007,17.3,23.9,22,13.4,7.7,4,1.8,26.1,72,98.9,10358,"All",4.7,10.9,19.5,24.2,17.7,11,6.6,3.3,15.6,59.4,98,33754]
["Applied Engineering","Males",0.8,4.2,13.5,22.5,23.2,16.7,10.8,5.8,5,40.9,97.5,1959,"Females",8.6999999999999993,17.3,19.7,17.3,16.2,13.3,3.5,2.9,26,63,98.8,173,"All",1.4,5.3,14,22.1,22.6,16.5,10.199999999999999,5.6,6.7,42.7,97.6,2132]
["Information Technology","Males",5.6,16.3,23.7,23.9,12.8,7,5.2,3.3,22,69.599999999999994,97.9,29983,"Females",9.1999999999999993,21.7,25.6,20.7,10,5.6,3.4,2.2999999999999998,31,77.3,98.5,23753,"All",7.2,18.7,24.5,22.5,11.6,6.4,4.4000000000000004,2.8,25.9,73,98.2,53736]
["Business Studies","Males",3.2,14.1,24.6,24.2,15.6,9.1,5.0999999999999996,2.8,17.3,66.099999999999994,98.7,38383,"Females",4.5999999999999996,17.2,25.4,23,14.4,7.8,4.5,2,21.8,70.3,99,26063,"All",3.7,15.4,25,23.7,15.1,8.6,4.8,2.5,19.100000000000001,67.8,98.8,64446]
["Applied Business","Males",2,10.4,20.5,24.7,17.600000000000001,9.6,6.4,4.0999999999999996,12.4,57.6,95.3,2908,"Females",4.5,17.100000000000001,24.8,21.9,14.8,7.2,4.5,2.8,21.6,68.400000000000006,97.7,1837,"All",3,13,22.2,23.6,16.5,8.6999999999999993,5.6,3.6,16,61.8,96.2,4745]
["Home Economics","Males",0.6,5.9,15.4,23.8,21.8,15.5,10.7,4.3,6.5,45.7,98,3668,"Females",2.8,11.4,20.3,24,19.5,11.7,6,2.6,14.2,58.5,98.5,22582,"All",2.5,10.6,19.600000000000001,24,19.899999999999999,12.3,6.7,2.8,13.1,56.7,98.4,26250]
["Geography","Males",7.4,15.5,19.600000000000001,22.9,16.7,9.4,5,2.5,22.9,65.5,99,107293,"Females",12.8,20.100000000000001,21.2,20.2,12.7,6.9,3.7,1.7,32.9,74.400000000000006,99.4,92953,"All",9.9,17.600000000000001,20.399999999999999,21.7,14.8,8.1999999999999993,4.4000000000000004,2.1,27.6,69.599999999999994,99.1,200246]
["History","Males",7.8,16.3,20.7,20.3,14.7,9,5.6,3.5,24.2,65.2,97.9,115848,"Females",12.7,21,21.6,18.2,11.9,7,4.2,2.2000000000000002,33.6,73.400000000000006,98.8,118860,"All",10.3,18.7,21.1,19.2,13.3,8,4.9000000000000004,2.8,29,69.3,98.3,234708]
["Ancient History","Males",15.2,21,18.2,18.399999999999999,12.1,7.3,4.2,2,36.200000000000003,72.900000000000006,98.4,505,"Females",11.5,22.4,19,18.7,13.5,9.1999999999999993,4,1,33.9,71.599999999999994,99.3,401,"All",13.6,21.6,18.5,18.5,12.7,8.1999999999999993,4.0999999999999996,1.5,35.200000000000003,72.3,98.8,906]
["Humanities","Males",1,4.5,13.2,20.8,19.600000000000001,16.2,11.6,8.1999999999999993,5.6,39.5,95,6290,"Females",1.8,7.8,17.600000000000001,22.6,18.600000000000001,14.1,9.1999999999999993,5.0999999999999996,9.6,49.8,96.9,6138,"All",1.4,6.2,15.4,21.7,19.100000000000001,15.2,10.4,6.7,7.6,44.6,96,12428]
["Economics","Males",6.8,23.7,27.8,21.2,9.6,5.2,3.2,1.3,30.5,79.5,98.9,2971,"Females",6.4,25.6,28.9,18.8,9.5,5,2.9,1.1000000000000001,32,79.8,98.3,1311,"All",6.7,24.3,28.1,20.5,9.6,5.2,3.1,1.3,31,79.599999999999994,98.7,4282]
["Social Studies","Males",1.9,9,20,25.4,18,11.8,7.1,4.2,10.9,56.3,97.4,15456,"Females",4.3,16.600000000000001,25.5,22.8,14.1,7.9,4.7,2.6,20.8,69.099999999999994,98.4,28684,"All",3.4,13.9,23.6,23.7,15.5,9.3000000000000007,5.6,3.2,17.3,64.599999999999994,98.1,44140]
["Music","Males",8.1,21.3,25.1,19.600000000000001,12.8,7.1,3.1,1.6,29.4,74.099999999999994,98.7,20680,"Females",10,24.5,26,18.399999999999999,11,5.7,2.5,1.2,34.6,79,99.3,20576,"All",9.1,22.9,25.5,19,11.9,6.4,2.8,1.4,32,76.5,99,41256]
["Arabic","Males",24.9,21.3,17.100000000000001,12.2,8.3000000000000007,5.2,3.7,3.3,46.2,75.5,95.9,1183,"Females",30.4,21.3,15.8,11.5,6,5.2,3.3,3.5,51.7,79,97,1447,"All",27.9,21.3,16.399999999999999,11.8,7,5.2,3.5,3.4,49.2,77.400000000000006,96.5,2630]
["Chinese","Males",58.2,15.7,12.1,9.4,2.9,1.1000000000000001,"x","x",73.900000000000006,95.4,99.6,1229,"Females",70.099999999999994,15.7,9.3000000000000007,3,1.3,0.4,"x","x",85.8,98,99.8,1112,"All",63.8,15.7,10.8,6.3,2.1,0.7,"x","x",79.5,96.6,99.7,2341]
["French","Males",7.6,12.1,17.8,26.4,20.9,9.1999999999999993,4,1.4,19.7,64,99.4,68953,"Females",11.3,16.3,21.3,25.9,16.2,6,2.2000000000000002,0.7,27.6,74.7,99.7,92868,"All",9.6999999999999993,14.5,19.8,26.1,18.2,7.3,2.9,1,24.2,70.099999999999994,99.6,161821]
["German","Males",7.1,12.6,21.9,28.5,18.2,7.5,2.8,0.9,19.8,70.2,99.7,28938,"Females",10.6,17,24.8,27.2,14,4.4000000000000004,1.4,0.4,27.6,79.599999999999994,99.8,31382,"All",8.9,14.9,23.4,27.8,16,5.9,2.1,0.6,23.8,75.099999999999994,99.7,60320]
["Italian","Males",39,17.7,16.100000000000001,14.6,7.6,2.5,"x","x",56.7,87.3,99.4,1766,"Females",38.5,20.3,17.8,13.5,6.7,2.1,"x","x",58.9,90.1,99.9,2314,"All",38.799999999999997,19.2,17,14,7.1,2.2999999999999998,1.1000000000000001,0.3,57.9,88.9,99.7,4080]
["Polish","Males",21.7,42.8,20.3,8.5,2.2000000000000002,1.7,0.7,1,64.5,93.3,98.9,1456,"Females",38,40.9,12.5,4.5999999999999996,1.4,0.8,0.5,0.9,78.8,96,99.5,1488,"All",29.9,41.8,16.3,6.6,1.8,1.3,0.6,1,71.7,94.6,99.2,2944]
["Spanish","Males",10,14.1,17.8,24.1,18.399999999999999,8.6999999999999993,4.0999999999999996,1.9,24.1,65.900000000000006,98.9,35325,"Females",14.5,18.2,20.6,22.8,14.2,5.8,2.2999999999999998,0.9,32.799999999999997,76.2,99.4,47408,"All",12.6,16.5,19.399999999999999,23.4,16,7,3.1,1.3,29.1,71.8,99.2,82733]
["Urdu","Males",6,17.600000000000001,23.6,21.8,14.7,9.3000000000000007,4.3,1.4,23.5,68.900000000000006,98.7,1487,"Females",11,25.9,22.6,19.899999999999999,11.5,5.4,2.2000000000000002,1.1000000000000001,36.9,79.400000000000006,99.5,2606,"All",9.1999999999999993,22.8,22.9,20.6,12.7,6.8,3,1.2,32,75.599999999999994,99.2,4093]
["Other Modern Languages","Males",28.5,26.5,19.5,12,5.9,3.4,1.6,1.2,55,86.5,98.7,4465,"Females",34.6,26.7,18.3,11,5.0999999999999996,1.8,0.9,0.6,61.3,90.6,99.1,4856,"All",31.7,26.6,18.899999999999999,11.5,5.5,2.6,1.2,0.9,58.3,88.7,98.9,9321]
["Classical Civilisation","Males",9.6,23.5,25.7,21.6,10.7,5.0999999999999996,2.1,1.1000000000000001,33.1,80.400000000000006,99.4,2047,"Females",14.3,30.6,25.2,14.7,9.3000000000000007,3.9,1,0.6,44.9,84.9,99.7,1805,"All",11.8,26.8,25.5,18.399999999999999,10.1,4.5999999999999996,1.6,0.9,38.6,82.5,99.6,3852]
["Classical Greek","Males",61.9,22.4,8,4.3,2.2000000000000002,"x",0.6,"x",84.4,96.6,100,678,"Females",64.099999999999994,25.3,5.4,2.9,1.1000000000000001,"x",0,"x",89.5,97.8,99.8,446,"All",62.8,23.6,6.9,3.7,1.8,"x",0.4,"x",86.4,97.1,99.9,1124]
["Latin","Males",42,28.6,14.2,7.2,3.8,2.2000000000000002,0.7,0.5,70.599999999999994,92,99.3,4334,"Females",46.4,26.6,13.2,6.8,3.6,1.6,0.9,0.5,73,93,99.7,4659,"All",44.2,27.6,13.7,7,3.7,1.9,0.8,0.5,71.8,92.5,99.5,8993]
["Other Classical Studies","Males",4.2,25.2,26.9,12.6,8.4,3.4,2.5,"x",29.4,68.900000000000006,84,119,"Females",13.1,30.3,23.6,16.600000000000001,6.4,1.9,3.5,"x",43.3,83.4,97.5,314,"All",10.6,28.9,24.5,15.5,6.9,2.2999999999999998,3.2,1.8,39.5,79.400000000000006,93.8,433]
["Applied Art and Design","Males",1.3,4.5,20.7,30.6,17.8,11.8,8.6,3.7,5.8,57.1,99,382,"Females",7.5,13.2,28.6,30.5,12.1,4.3,1.9,1.2,20.6,79.7,99.3,669,"All",5.2,10,25.7,30.5,14.2,7,4.4000000000000004,2.1,15.2,71.5,99.1,1051]
["Art and Design","Males",5.4,8.4,18.8,32,16.5,9.5,5.5,2.4,13.7,64.5,98.3,54309,"Females",12.1,16.5,26.7,27.3,9.8000000000000007,4.2,2,0.7,28.6,82.7,99.3,110201,"All",9.9,13.8,24.1,28.9,12,5.9,3.1,1.2,23.7,76.7,99,164510]
["Communication Studies","Males",1.7,8.5,17.3,21.5,20.100000000000001,13.6,8.8000000000000007,4.9000000000000004,10.199999999999999,49,96.5,4125,"Females",6.8,15.6,24.8,23.5,14.6,8.1,3.7,1.4,22.4,70.8,98.6,4940,"All",4.5,12.4,21.4,22.6,17.100000000000001,10.6,6,3,16.899999999999999,60.9,97.7,9065]
["Construction","Males",0,"x",14,32.6,34.9,"x","x","x","x",51.2,97.7,43,"Females",0,0,0,0,0,0,0,0,0,0,0,0,"All",0,"x",14,32.6,34.9,"x","x","x","x",51.2,97.7,43]
["Dance","Males",5.0999999999999996,17.399999999999999,18.3,21.1,19.399999999999999,10.1,5.9,1.6,22.5,61.9,98.9,743,"Females",4.5999999999999996,15.5,20.8,24.6,18.600000000000001,9.3000000000000007,4.2,1.3,20.2,65.5,99,10797,"All",4.7,15.6,20.6,24.4,18.7,9.4,4.3,1.3,20.3,65.3,99,11540]
["Drama","Males",3.4,13.5,22.5,26.5,18.2,9.1,4.0999999999999996,1.7,16.899999999999999,65.900000000000006,98.9,27145,"Females",6.3,20.100000000000001,27.9,23.5,12.9,5.7,2.2000000000000002,0.9,26.4,77.8,99.5,42609,"All",5.2,17.5,25.8,24.7,14.9,7,2.9,1.2,22.7,73.2,99.3,69754]
["English Literature","Males",3.8,13.2,26.5,27.6,16.7,7,2.9,1.2,17,71,98.9,197831,"Females",7.4,21.5,31.4,23.1,10.6,3.5,1.3,0.5,28.9,83.5,99.4,223967,"All",5.7,17.600000000000001,29.1,25.2,13.5,5.2,2,0.9,23.3,77.599999999999994,99.1,421798]
["English Studies","Males","x","x",8.6999999999999993,27,31.4,20.100000000000001,5.4,4.5,1.3,37,98.3,1112,"Females","x","x",16.8,31.6,27.1,12.3,5.4,3.1,2.4,50.7,98.6,978,"All","x","x",12.5,29.1,29.4,16.399999999999999,5.4,3.8,1.8,43.4,98.4,2090]
["General Studies","Males",2.2000000000000002,6.2,11.6,18.399999999999999,20.5,14,8.8000000000000007,6.9,8.4,38.5,88.6,2473,"Females",4.2,10.6,17.2,20.9,21.4,12.1,5.3,3.1,14.7,52.8,94.8,2383,"All",3.2,8.3000000000000007,14.3,19.7,20.9,13.1,7.1,5.0999999999999996,11.5,45.5,91.7,4856]
["Health and Social Care","Males","x","x",10.199999999999999,17.8,19.8,18,11.7,10.199999999999999,2.8,30.7,90.4,394,"Females","x","x",19.2,25.8,19.2,11,7.4,5.0999999999999996,9.9,54.9,97.7,7356,"All",1.6,8,18.7,25.4,19.3,11.4,7.7,5.4,9.5,53.7,97.3,7750]
["Hospitality and Catering","Males","x",3.5,14.5,24.6,27.6,19,8.1,"x",3.6,42.8,99.5,743,"Females","x",11.6,22.7,27,18.3,10,3.6,"x",16.7,66.400000000000006,99.5,1294,"All",3.3,8.6,19.7,26.1,21.7,13.3,5.3,1.5,11.9,57.8,99.5,2037]
["Leisure and Tourism","Males",0.4,3.5,8.4,16.899999999999999,21.2,16.399999999999999,13.9,10.7,3.9,29.2,91.3,1148,"Females",2,7.5,18.600000000000001,23.4,19.2,10.9,9.9,4.2,9.5,51.5,95.7,1368,"All",1.3,5.6,14,20.399999999999999,20.100000000000001,13.4,11.7,7.2,7,41.3,93.7,2516]
["Manufacturing","Males",0,"x",4.7,20,21.2,"x","x","x","x",30.6,97.6,85,"Females",0,"x",0,21.4,28.6,"x","x","x","x",28.6,92.9,14,"All",0,6.1,4,20.2,22.2,18.2,17.2,9.1,6.1,30.3,97,99]
["Media/Film/TV","Males",1.6,7.7,19.3,27.2,21,11.7,6.3,3,9.3000000000000007,55.9,97.9,24111,"Females",5,17.7,27.5,25.3,13.2,6.1,2.8,1.4,22.7,75.5,99,24587,"All",3.3,12.8,23.5,26.3,17.100000000000001,8.9,4.5,2.2000000000000002,16.100000000000001,65.8,98.5,48698]
["Performing Arts","Males",3.1,5.2,15.2,23.4,22.6,15.2,8.9,3.6,8.1999999999999993,46.8,97,948,"Females",8.9,12.2,20.8,24.9,16.100000000000001,8.6,5.5,1.4,21.2,66.900000000000006,98.6,2131,"All",7.1,10.1,19.100000000000001,24.5,18.100000000000001,10.7,6.6,2,17.2,60.7,98.1,3079]
["Physical Education","Males",2.4,14.8,26,27.3,17.5,8.8000000000000007,2.4,0.4,17.3,70.599999999999994,99.7,60323,"Females",5.5,20.399999999999999,25,22.2,15.6,8,2.6,0.5,25.9,73.099999999999994,99.7,31257,"All",3.5,16.7,25.7,25.6,16.8,8.5,2.5,0.4,20.2,71.400000000000006,99.7,91580]
["Religious Studies","Males",7.5,16.100000000000001,22.3,20.9,12.8,8.5,5.7,3.6,23.7,66.900000000000006,97.5,104900,"Females",15,23.1,23.6,17.5,9.1,5.4,3.1,1.9,38.1,79.3,98.8,124109,"All",11.6,19.899999999999999,23,19.100000000000001,10.8,6.9,4.3,2.6,31.5,73.599999999999994,98.2,229009]
["Statistics","Males",4.8,18.100000000000001,26.7,26,13.6,5.4,2.1,1.1000000000000001,22.9,75.5,97.7,23230,"Females",6,20.399999999999999,27.8,26.4,11.3,3.7,1.5,0.8,26.4,80.5,97.9,21244,"All",5.3,19.2,27.2,26.2,12.5,4.5999999999999996,1.8,1,24.5,77.900000000000006,97.8,44474]
["Vocational Studies","Males",1,6.8,17.5,27.4,22.5,13.4,6.7,2.7,7.8,52.7,98,16022,"Females",3.7,15.2,25.5,25.2,16.8,8.1999999999999993,3.4,1.1000000000000001,18.899999999999999,69.599999999999994,99.1,17307,"All",2.4,11.2,21.6,26.3,19.600000000000001,10.7,5,1.9,13.6,61.5,98.6,33329]
["All Subjects","Males",5.9,13.1,21.2,27.6,15.8,8.3000000000000007,4.5,2.2000000000000002,19,67.8,98.6,2238514,"Females",9,17.7,24.2,25.6,12.5,5.8,2.9,1.4,26.7,76.5,99.1,2347182,"All",7.5,15.5,22.7,26.6,14.1,7,3.7,1.8,22.9,72.2,98.9,4585696]

{"sheet":"2014","index":9,"n_rows":132,"n_cols":40,"rows_kept":132,"cut":false,"hidden":true,"merged":[]}
[1,{"$f":"A1+1","v":2},{"$f":"B1+1","v":3},4,5,6,7,8,9,10,11,12,13,14,15,16,17,18,19,20,21,22,23,24,25,26,27,28,29,30,31,32,33,34,35,36,37,38,39,40]
["Subjects",null,"*","A","B","C","D","E","F","G","AstarA","AstarC","AstarG","Total","(No column name)","*","A","B","C","D","E","F","G","AstarA","AstarC","AstarG","Total","(No column name)","*","A","B","C","D","E","F","G","AstarA","AstarC","AstarG","Total"]
[{"$f":"A71","v":"English"},"Males",{"$f":"IF(OR(C71=1,C71=2,P71=1,P71=2),\"x\",ROUND(C71/$N3*100,1))","v":2.7},{"$f":"IF(OR(D71=1,D71=2,Q71=1,Q71=2),\"x\",ROUND(D71/$N3*100,1))","v":9.5},21.1,31.5,19.7,9.1,3.8,1.5,12.1,64.7,98.8,{"$f":"N71","v":229932},"Females",{"$f":"IF(OR(P71=1,P71=2,C71=1,C71=2),\"x\",ROUND(P71/$AA3*100,1))","v":5.9},{"$f":"IF(OR(Q71=1,Q71=2,D71=1,D71=2),\"x\",ROUND(Q71/$AA3*100,1))","v":17},28.1,28.8,13,4.4000000000000004,1.5,0.6,22.9,79.8,99.3,{"$f":"AA71","v":234257},"All",{"$f":"IF(OR(AC71=1,AC71=2),\"x\",ROUND(AC71/$AN3*100,1))","v":4.3},{"$f":"IF(OR(AD71=1,AD71=2),\"x\",ROUND(AD71/$AN3*100,1))","v":13.3},24.6,30.1,16.3,6.7,2.7,1,17.600000000000001,72.400000000000006,99.1,{"$f":"AN71","v":464189}]
[{"$f":"A72","v":"Mathematics"},"Males",{"$f":"IF(OR(C72=1,C72=2,P72=1,P72=2),\"x\",ROUND(C72/$N4*100,1))","v":7.2},{"$f":"IF(OR(D72=1,D72=2,Q72=1,Q72=2),\"x\",ROUND(D72/$N4*100,1))","v":11.5},{"$f":"IF(OR(E72=1,E72=2,R72=1,R72=2),\"x\",ROUND(E72/$N4*100,1))","v":18.5},{"$f":"IF(OR(F72=1,F72=2,S72=1,S72=2),\"x\",ROUND(F72/$N4*100,1))","v":30.1},{"$f":"IF(OR(G72=1,G72=2,T72=1,T72=2),\"x\",ROUND(G72/$N4*100,1))","v":12.3},{"$f":"IF(OR(H72=1,H72=2,U72=1,U72=2),\"x\",ROUND(H72/$N4*100,1))","v":6.2},{"$f":"IF(OR(I72=1,I72=2,V72=1,V72=2),\"x\",ROUND(I72/$N4*100,1))","v":4.8},{"$f":"IF(OR(J72=1,J72=2,W72=1,W72=2),\"x\",ROUND(J72/$N4*100,1))","v":3.9},{"$f":"IF(OR(K72=1,K72=2,X72=1,X72=2),\"x\",ROUND(K72/$N4*100,1))","v":18.7},{"$f":"IF(OR(L72=1,L72=2,Y72=1,Y72=2),\"x\",ROUND(L72/$N4*100,1))","v":67.3},{"$f":"IF(OR(M72=1,M72=2,Z72=1,Z72=2),\"x\",ROUND(M72/$N4*100,1))","v":94.5},303147,"Females",{"$f":"IF(OR(P72=1,P72=2,C72=1,C72=2),\"x\",ROUND(P72/$AA4*100,1))","v":6.5},{"$f":"IF(OR(Q72=1,Q72=2,D72=1,D72=2),\"x\",ROUND(Q72/$AA4*100,1))","v":11.8},{"$f":"IF(OR(R72=1,R72=2,E72=1,E72=2),\"x\",ROUND(R72/$AA4*100,1))","v":19.5},{"$f":"IF(OR(S72=1,S72=2,F72=1,F72=2),\"x\",ROUND(S72/$AA4*100,1))","v":31},{"$f":"IF(OR(T72=1,T72=2,G72=1,G72=2),\"x\",ROUND(T72/$AA4*100,1))","v":12.4},{"$f":"IF(OR(U72=1,U72=2,H72=1,H72=2),\"x\",ROUND(U72/$AA4*100,1))","v":5.9},{"$f":"IF(OR(V72=1,V72=2,I72=1,I72=2),\"x\",ROUND(V72/$AA4*100,1))","v":4.5},{"$f":"IF(OR(W72=1,W72=2,J72=1,J72=2),\"x\",ROUND(W72/$AA4*100,1))","v":3.5},{"$f":"IF(OR(X72=1,X72=2,K72=1,K72=2),\"x\",ROUND(X72/$AA4*100,1))","v":18.3},{"$f":"IF(OR(Y72=1,Y72=2,L72=1,L72=2),\"x\",ROUND(Y72/$AA4*100,1))","v":68.7},{"$f":"IF(OR(Z72=1,Z72=2,M72=1,M72=2),\"x\",ROUND(Z72/$AA4*100,1))","v":95.1},293691,"All",{"$f":"IF(OR(AC72=1,AC72=2),\"x\",ROUND(AC72/$AN4*100,1))","v":6.8},11.7,19,30.5,12.4,6.1,4.5999999999999996,3.7,18.5,68,94.8,596838]
["Core Science","Males",1,5.8,17,34.9,19.899999999999999,11.2,5.9,2.5,6.8,58.8,98.2,175051,"Females",1.7,8.5,20.6,34.4,17.5,9.3000000000000007,4.5999999999999996,1.8,10.199999999999999,65.2,98.5,177855,"All",{"$f":"IF(OR(AC73=1,AC73=2),\"x\",ROUND(AC73/$AN5*100,1))","v":1.4},7.2,18.8,34.6,18.7,10.199999999999999,5.3,2.1,8.5,62,98.3,352906]
["Additional Science","Males",2,8.1,20.399999999999999,32.4,21.8,9.1,3.9,1.5,10,62.8,99.2,131575,"Females",2.7,10.199999999999999,23.4,32.299999999999997,19.399999999999999,7.3,2.9,1.1000000000000001,12.9,68.7,99.4,139627,"All",{"$f":"IF(OR(AC74=1,AC74=2),\"x\",ROUND(AC74/$AN6*100,1))","v":2.2999999999999998},9.1999999999999993,22,32.4,20.6,8.1999999999999993,3.4,1.3,11.5,65.8,99.3,271202]
["Further Additional Science","Males",10,20.7,27.1,25.1,12.2,3.6,0.8,0.2,30.7,82.9,99.7,10607,"Females",11.6,22.5,28,23.7,10.6,2.8,0.5,0.2,34,85.7,99.8,10429,"All",{"$f":"IF(OR(AC75=1,AC75=2),\"x\",ROUND(AC75/$AN7*100,1))","v":10.8},21.6,27.5,24.4,11.4,3.2,0.6,0.2,32.4,84.3,99.8,21036]
["Additional Applied Science","Males",0,0.9,5.2,20,29.3,23.5,13,5.0999999999999996,0.9,26.1,97,6616,"Females",0.1,1.2,9.8000000000000007,26.4,30.7,18.5,8.5,2.9,1.4,37.5,98.1,6697,"All",{"$f":"IF(OR(AC76=1,AC76=2),\"x\",ROUND(AC76/$AN8*100,1))","v":0.1},1.1000000000000001,7.5,23.2,30,21,10.7,4,1.1000000000000001,31.8,97.5,13313]
["Physics","Males",14.5,27.3,29.2,20.5,6.8,1.2,0.3,0.1,41.8,91.5,99.9,65148,"Females",15.9,27.2,28.9,20.100000000000001,6.4,1.2,0.2,0.1,43.1,92,99.9,63604,"All",{"$f":"IF(OR(AC77=1,AC77=2),\"x\",ROUND(AC77/$AN9*100,1))","v":15.2},27.3,29.1,20.3,6.6,1.2,0.2,0.1,42.4,91.8,99.9,128752]
["Chemistry","Males",13.1,26.6,29.1,21.1,7.7,1.7,0.4,0.1,39.700000000000003,90,99.9,65818,"Females",16.7,29.3,28.4,17.899999999999999,5.9,1.2,0.3,0.1,46.1,92.4,99.9,63841,"All",{"$f":"IF(OR(AC78=1,AC78=2),\"x\",ROUND(AC78/$AN10*100,1))","v":14.9},28,28.8,19.5,6.8,1.5,0.3,0.1,42.9,91.2,99.9,129659]
["Biological Sciences","Males",11.2,26.3,30.2,21.8,7.5,1.7,0.6,0.3,37.5,89.5,99.7,67270,"Females",16.7,29.9,28.6,17.100000000000001,5.5,1.2,0.5,0.2,46.6,92.4,99.8,65698,"All",{"$f":"IF(OR(AC79=1,AC79=2),\"x\",ROUND(AC79/$AN11*100,1))","v":13.9},28.1,29.4,19.5,6.5,1.5,0.6,0.2,42,91,99.7,132968]
["Computer Science","Males",6,16.600000000000001,21.3,20.399999999999999,14,8.8000000000000007,5.4,3.4,22.6,64.400000000000006,96.1,13428,"Females",8.3000000000000007,19.399999999999999,21.7,21.2,13.6,7.4,3.7,1.7,27.7,70.599999999999994,97,2374,"All",{"$f":"IF(OR(AC80=1,AC80=2),\"x\",ROUND(AC80/$AN12*100,1))","v":6.4},17,21.4,20.5,14,8.6,5.2,3.2,23.4,65.3,96.2,15802]
["Other Sciences","Males",10.199999999999999,14.3,16.100000000000001,16.7,15.3,11.7,8.3000000000000007,4.8,24.5,57.2,97.3,4288,"Females",4.4000000000000004,9.6,18,21.6,17.3,12.8,8.1999999999999993,5.3,14,53.6,97.1,2580,"All",{"$f":"IF(OR(AC81=1,AC81=2),\"x\",ROUND(AC81/$AN13*100,1))","v":8},12.6,16.8,18.5,16,12.1,8.1999999999999993,5,20.6,55.9,97.2,6868]
["D & T: Electronic Products","Males",6.9,14.5,21.4,20.9,14.8,9.9,6.1,3.4,21.5,63.8,98,7692,"Females",17,26.1,24.5,13.2,9.6,5.9,1.6,1.3,43.2,80.900000000000006,99.2,628,"All",{"$f":"IF(OR(AC82=1,AC82=2),\"x\",ROUND(AC82/$AN14*100,1))","v":7.7},15.4,21.7,20.399999999999999,14.4,9.6,5.8,3.2,23.1,65.099999999999994,98.1,8320]
["D & T: Food Technology","Males",1.5,5.8,14.1,24.3,23.2,15.7,9.1,4.0999999999999996,7.4,45.8,97.9,14951,"Females",7.2,16.899999999999999,23.7,23.2,14.9,8,3.8,1.5,24.1,70.900000000000006,99.1,25639,"All",{"$f":"IF(OR(AC83=1,AC83=2),\"x\",ROUND(AC83/$AN15*100,1))","v":5.0999999999999996},12.8,20.2,23.6,18,10.8,5.8,2.5,17.899999999999999,61.7,98.7,40590]
["D & T: Graphic Products","Males",2.8,8.6,16.8,22.7,19.8,12.9,8.1999999999999993,5,11.3,50.9,96.8,20953,"Females",7.8,18.5,23.5,21.3,14,7.5,4,2.1,26.4,71.2,98.8,12921,"All",{"$f":"IF(OR(AC84=1,AC84=2),\"x\",ROUND(AC84/$AN16*100,1))","v":4.7},12.4,19.3,22.2,17.600000000000001,10.8,6.6,3.9,17.100000000000001,58.6,97.6,33874]
["D & T: Resistant Materials","Males",2.9,8.8000000000000007,18.2,24.4,19.7,12.7,7.6,3.7,11.7,54.4,98,45024,"Females",8.6999999999999993,18.399999999999999,23.9,21.2,13.8,7.3,3.7,2.1,27.2,72.2,99.1,7760,"All",{"$f":"IF(OR(AC85=1,AC85=2),\"x\",ROUND(AC85/$AN17*100,1))","v":3.7},10.199999999999999,19.100000000000001,24,18.8,11.9,7,3.4,14,57,98.2,52784]
["D & T: Systems & Control","Males",8.1,13.2,20.399999999999999,22,16.600000000000001,9.5,6,"x",21.3,63.8,98.6,3091,"Females",4.7,20,19.3,22.7,20.7,6.7,4,"x",24.7,66.7,98.7,150,"All",{"$f":"IF(OR(AC86=1,AC86=2),\"x\",ROUND(AC86/$AN18*100,1))","v":8},13.5,20.399999999999999,22.1,16.8,9.4,5.9,2.7,21.5,63.9,98.6,3241]
["D & T: Textiles Technology","Males",2.9,4,9.6,19.8,20,17.600000000000001,14.6,5.9,7,36.299999999999997,94.4,820,"Females",10,17.100000000000001,23,22.5,14,7.5,3.4,1.6,27.1,72.599999999999994,99.1,24773,"All",{"$f":"IF(OR(AC87=1,AC87=2),\"x\",ROUND(AC87/$AN19*100,1))","v":9.8000000000000007},16.7,22.6,22.4,14.1,7.8,3.8,1.7,26.5,71.5,98.9,25593]
["Other Design and Technology","Males",2.8,7.9,16.899999999999999,24.3,20.399999999999999,13.3,8,3.9,10.8,52,97.6,26092,"Females",9.1,18.3,23.5,21.2,13.5,7.5,3.9,2,27.4,72.099999999999994,99,10761,"All",{"$f":"IF(OR(AC88=1,AC88=2),\"x\",ROUND(AC88/$AN20*100,1))","v":4.7},11,18.899999999999999,23.4,18.399999999999999,11.6,6.8,3.3,15.6,57.9,98,36853]
["Applied Engineering","Males","x",3.9,11.3,21.9,22.1,17.600000000000001,10.3,6.3,5,38.200000000000003,94.5,3863,"Females","x",10.1,21.5,22.8,21.5,14.9,4.8,3.1,11,55.3,99.6,228,"All",{"$f":"IF(OR(AC89=1,AC89=2),\"x\",ROUND(AC89/$AN21*100,1))","v":1},4.3,11.9,22,22.1,17.399999999999999,10,6.1,5.3,39.200000000000003,94.7,4091]
["Information Technology","Males",4.4000000000000004,14.4,22.8,23.5,14.4,8.1,5.6,4,18.8,65.099999999999994,97.2,46552,"Females",7.5,18.8,23.8,22.4,12.3,6.6,3.8,2.7,26.3,72.5,97.9,35324,"All",{"$f":"IF(OR(AC90=1,AC90=2),\"x\",ROUND(AC90/$AN22*100,1))","v":5.8},16.3,23.2,23,13.5,7.4,4.8,3.4,22.1,68.3,97.5,81876]
["Business Studies","Males",3.1,13.7,23.8,23.9,16.2,9.1999999999999993,5.3,3,16.7,64.5,98.2,43774,"Females",4.5,17.5,25.6,22.8,13.9,7.8,4.3,2.2000000000000002,22,70.400000000000006,98.7,30552,"All",{"$f":"IF(OR(AC91=1,AC91=2),\"x\",ROUND(AC91/$AN23*100,1))","v":3.6},15.2,24.5,23.5,15.3,8.6999999999999993,4.9000000000000004,2.7,18.899999999999999,66.900000000000006,98.4,74326]
["Applied Business","Males",1.8,9.1,18.7,23.5,16.8,12,7.4,4.9000000000000004,10.9,53.1,94.2,4852,"Females",3.6,16.8,23.3,20.100000000000001,13.9,9.5,5.5,3.6,20.399999999999999,63.8,96.2,3185,"All",{"$f":"IF(OR(AC92=1,AC92=2),\"x\",ROUND(AC92/$AN24*100,1))","v":2.6},12.2,20.5,22.1,15.7,11,6.6,4.4000000000000004,14.7,57.4,95,8037]
["Home Economics","Males",0.6,4,13.1,23.1,22.6,17.8,10.9,5.0999999999999996,4.5999999999999996,40.9,97.3,3594,"Females",3,10.7,19.600000000000001,23.6,19.7,12.5,6.5,2.8,13.7,56.9,98.4,24583,"All",{"$f":"IF(OR(AC93=1,AC93=2),\"x\",ROUND(AC93/$AN25*100,1))","v":2.7},9.9,18.8,23.6,20,13.1,7.1,3.1,12.5,54.9,98.2,28177]
["Ancient History","Males",15.5,20.8,19.5,14.2,9.4,9.1,4.3,2.9,36.299999999999997,70.099999999999994,95.8,625,"Females",14.8,24.3,18.5,19.7,11.4,6.7,1.8,1.8,39.1,77.3,99,507,"All",{"$f":"IF(OR(AC94=1,AC94=2),\"x\",ROUND(AC94/$AN26*100,1))","v":15.2},22.3,19.100000000000001,16.7,10.3,8,3.2,2.4,37.5,73.3,97.3,1132]
["Geography","Males",7.3,15,19.7,23.3,16.399999999999999,9.5,5.0999999999999996,2.6,22.3,65.3,98.9,112281,"Females",12.2,19.7,21.2,20.399999999999999,12.6,7.3,4,1.9,31.9,73.599999999999994,99.3,96959,"All",{"$f":"IF(OR(AC95=1,AC95=2),\"x\",ROUND(AC95/$AN27*100,1))","v":9.6},17.2,20.399999999999999,22,14.6,8.5,4.5999999999999996,2.2999999999999998,26.8,69.099999999999994,99.1,209240]
["History","Males",7.7,16.5,20.7,19.8,14.2,9.3000000000000007,5.8,3.7,24.2,64.7,97.6,115413,"Females",12.4,20.399999999999999,21.1,17.8,12.1,7.6,4.5,2.6,32.799999999999997,71.7,98.5,122846,"All",10.1,18.5,20.9,18.8,13.1,8.4,5.0999999999999996,3.1,28.6,68.3,98.1,238259]
["Humanities","Males",1.2,5,13.5,19.899999999999999,18.399999999999999,16.100000000000001,12.1,7.6,6.2,39.6,93.7,5150,"Females",3.1,9.1999999999999993,18.600000000000001,20.7,18.3,13.6,8.9,4.8,12.3,51.6,97.2,4916,"All",{"$f":"IF(OR(AC97=1,AC97=2),\"x\",ROUND(AC97/$AN29*100,1))","v":2.1},7.1,16,20.3,18.3,14.9,10.5,6.2,9.1999999999999993,45.5,95.4,10066]
["Economics","Males",6.7,23.8,30,18.7,9.5,5.4,3,1.5,30.5,79.2,98.5,3481,"Females",5.3,26.3,28.8,18.600000000000001,10.4,5.3,2.1,1.7,31.6,79,98.5,1445,"All",{"$f":"IF(OR(AC98=1,AC98=2),\"x\",ROUND(AC98/$AN30*100,1))","v":6.3},24.5,29.6,18.7,9.8000000000000007,5.4,2.7,1.5,30.8,79.099999999999994,98.5,4926]
["Social Studies","Males",1.5,8.5,19.600000000000001,23.9,18.2,12.1,7.8,4.7,10,53.5,96.3,20556,"Females",3.9,16.899999999999999,25.3,22.6,13.7,8.3000000000000007,4.9000000000000004,2.4,20.8,68.7,98.2,36435,"All",{"$f":"IF(OR(AC99=1,AC99=2),\"x\",ROUND(AC99/$AN31*100,1))","v":3},13.9,23.3,23.1,15.3,9.6999999999999993,6,3.3,16.899999999999999,63.2,97.5,56991]
["Other Classical Studies","Males",11.1,30.6,28.5,12.5,9,3.5,2.1,"x",41.7,82.6,98.6,144,"Females",14.5,30.4,23.3,14.5,5.4,3.1,2,"x",44.9,82.7,94.9,352,"All",{"$f":"IF(OR(AC100=1,AC100=2),\"x\",ROUND(AC100/$AN32*100,1))","v":13.5},30.4,24.8,13.9,6.5,3.2,2,1.6,44,82.7,96,496]
["Arabic","Males",32.700000000000003,20.6,12.8,10.8,6.4,5,4,2.9,53.4,77,95.3,1368,"Females",36.200000000000003,20.100000000000001,13.3,9.4,5.6,4.5,4.5999999999999996,2.8,56.3,78.900000000000006,96.4,1598,"All",{"$f":"IF(OR(AC101=1,AC101=2),\"x\",ROUND(AC101/$AN33*100,1))","v":34.6},20.3,13,10,6,4.7,4.3,2.8,54.9,78,95.9,2966]
["Chinese","Males",57.4,17.3,10.9,8.3000000000000007,4.5999999999999996,1,0.2,"x",74.7,93.9,99.6,1470,"Females",66.7,15,8.8000000000000007,6.1,2.2999999999999998,0.5,0.2,"x",81.7,96.6,99.8,1360,"All",{"$f":"IF(OR(AC102=1,AC102=2),\"x\",ROUND(AC102/$AN34*100,1))","v":61.9},16.2,9.9,7.2,3.5,0.7,0.2,"x",78.099999999999994,95.2,99.7,2830]
["French","Males",7.3,11.2,16.8,27.2,22.1,9.9,3.6,1.3,18.5,62.5,99.5,69121,"Females",11,15.4,20.5,27.1,17.3,5.9,1.9,0.6,26.4,74,99.7,91834,"All",{"$f":"IF(OR(AC103=1,AC103=2),\"x\",ROUND(AC103/$AN35*100,1))","v":9.4},13.6,18.899999999999999,27.1,19.399999999999999,7.6,2.6,0.9,23,69,99.6,160955]
["German","Males",6.8,12.1,20.399999999999999,29.1,20,7.6,2.7,0.8,18.899999999999999,68.400000000000006,99.5,28070,"Females",9.6999999999999993,16.7,24.8,27.3,14.8,4.5999999999999996,1.4,0.4,26.4,78.5,99.7,30450,"All",{"$f":"IF(OR(AC104=1,AC104=2),\"x\",ROUND(AC104/$AN36*100,1))","v":8.3000000000000007},14.5,22.7,28.2,17.3,6,2,0.6,22.8,73.7,99.6,58520]
["Italian","Males",39.5,18.600000000000001,15.5,12.5,7.8,3.4,1.4,0.5,58.2,86.1,99.1,1740,"Females",40.200000000000003,19.8,17.3,12.5,6.7,2.1,1.1000000000000001,0.3,60,89.7,100,2328,"All",{"$f":"IF(OR(AC105=1,AC105=2),\"x\",ROUND(AC105/$AN37*100,1))","v":39.9},19.3,16.5,12.5,7.2,2.6,1.2,0.4,59.2,88.2,99.6,4068]
["Polish","Males",23.1,43.1,18.100000000000001,7.3,3.5,1.6,0.3,1,66.2,91.5,98,1860,"Females",41.2,38.799999999999997,12,4,1.2,0.7,0.2,0.5,80,96.1,98.7,2088,"All",{"$f":"IF(OR(AC106=1,AC106=2),\"x\",ROUND(AC106/$AN38*100,1))","v":32.700000000000003},40.799999999999997,14.9,5.5,2.2999999999999998,1.1000000000000001,0.3,0.7,73.5,93.9,98.4,3948]
["Spanish","Males",9.3000000000000007,13,18.399999999999999,24.3,18.7,9,4.4000000000000004,2,22.3,65,99,38078,"Females",13.9,18.3,20.8,22.9,14.3,5.9,2.4,1,32.200000000000003,75.900000000000006,99.5,49475,"All",{"$f":"IF(OR(AC107=1,AC107=2),\"x\",ROUND(AC107/$AN39*100,1))","v":11.9},16,19.7,23.5,16.2,7.3,3.2,1.4,27.9,71.2,99.3,87553]
["Urdu","Males",5.6,17.899999999999999,21.3,20,17.2,9.4,5.3,1.6,23.5,64.7,98.3,1614,"Females",14.5,27.2,24.1,17.600000000000001,8.9,4.2,1.6,1.1000000000000001,41.6,83.4,99.2,2497,"All",{"$f":"IF(OR(AC108=1,AC108=2),\"x\",ROUND(AC108/$AN40*100,1))","v":11},23.5,23,18.5,12.2,6.2,3.1,1.3,34.5,76.099999999999994,98.8,4111]
["Other Modern Languages","Males",32,26.2,18.399999999999999,11.3,5.8,2.8,1.7,0.6,58.2,87.9,98.9,4791,"Females",36.5,29.8,16.399999999999999,8.6,4.2,2,0.9,0.6,66.3,91.3,98.9,5563,"All",{"$f":"IF(OR(AC109=1,AC109=2),\"x\",ROUND(AC109/$AN41*100,1))","v":34.4},28.1,17.3,9.8000000000000007,5,2.4,1.3,0.6,62.5,89.7,98.9,10354]
["Classical Civilisation","Males",8.5,23.7,25.3,20.2,11.7,5.5,2.6,1.5,32.299999999999997,77.8,99.1,2145,"Females",17.399999999999999,27.7,22.7,15.7,9.1,4.0999999999999996,1.9,0.8,45.2,83.6,99.5,1972,"All",{"$f":"IF(OR(AC110=1,AC110=2),\"x\",ROUND(AC110/$AN42*100,1))","v":12.8},25.6,24,18.100000000000001,10.5,4.8,2.2999999999999998,1.1000000000000001,38.5,80.599999999999994,99.3,4117]
["Classical Greek","Males",59,22,9.9,4.5,2.1,0.6,0.7,"x",81,95.5,99.4,705,"Females",66.7,19.899999999999999,7.1,2.1,1.3,1.1000000000000001,1.1000000000000001,"x",86.5,95.7,99.4,468,"All",{"$f":"IF(OR(AC111=1,AC111=2),\"x\",ROUND(AC111/$AN43*100,1))","v":62.1},21.1,8.8000000000000007,3.6,1.8,0.8,0.9,0.4,83.2,95.6,99.4,1173]
["Latin","Males",40.6,27.6,15,8.3000000000000007,4.5999999999999996,2,1,0.6,68.2,91.5,99.6,4302,"Females",46.6,27.3,12.5,7.6,3.4,1.5,0.7,0.2,73.900000000000006,94,99.7,4566,"All",{"$f":"IF(OR(AC112=1,AC112=2),\"x\",ROUND(AC112/$AN44*100,1))","v":43.7},27.4,13.7,7.9,4,1.7,0.8,0.4,71.099999999999994,92.8,99.7,8868]
["Applied Art and Design","Males",1.4,5.2,16.899999999999999,37.299999999999997,21,8.6999999999999993,5.2,2.5,6.5,60.8,98.1,367,"Females",3.1,14.7,27.4,33.9,13.5,4.3,1.6,0,17.8,79.099999999999994,98.6,489,"All",{"$f":"IF(OR(AC113=1,AC113=2),\"x\",ROUND(AC113/$AN45*100,1))","v":2.2999999999999998},10.6,22.9,35.4,16.7,6.2,3.2,1.1000000000000001,13,71.3,98.4,856]
["Art and Design","Males",4.7,8,18.100000000000001,32.6,17.2,9.8000000000000007,5.3,2.5,12.7,63.5,98.2,58109,"Females",11.2,16.7,27.1,27.7,10,4.0999999999999996,1.8,0.7,27.9,82.7,99.3,112969,"All",{"$f":"IF(OR(AC114=1,AC114=2),\"x\",ROUND(AC114/$AN46*100,1))","v":9},13.7,24,29.4,12.5,6,3,1.3,22.7,76.2,98.9,171078]
["Communication Studies","Males",2,8.1,16.5,24.5,19.7,13,8.1,4.4000000000000004,10.1,51.1,96.2,4785,"Females",8.1999999999999993,16.399999999999999,23,21.6,14.1,7.7,4.7,2.4,24.7,69.3,98.2,5058,"All",{"$f":"IF(OR(AC115=1,AC115=2),\"x\",ROUND(AC115/$AN47*100,1))","v":5.2},12.4,19.899999999999999,23,16.8,10.3,6.3,3.4,17.600000000000001,60.4,97.2,9843]
["Dance","Males",4.9000000000000004,18.2,20.100000000000001,19.5,16.899999999999999,12.3,4.9000000000000004,2.2999999999999998,23.2,62.8,99.3,811,"Females",4.5999999999999996,16.399999999999999,21.1,24.7,18.2,9.1,3.8,1.4,21,66.8,99.4,11136,"All",4.5999999999999996,16.5,21.1,24.4,18.100000000000001,9.3000000000000007,3.9,1.5,21.1,66.5,99.4,11947]
["Drama","Males",3.5,13.3,22.7,25.9,18.100000000000001,9.4,4.3,1.8,16.8,65.400000000000006,99,{"$f":"N117","v":27225},"Females",6.4,19.899999999999999,27.5,23.7,13.2,5.6,2.2999999999999998,0.9,26.3,77.5,99.4,{"$f":"AA117","v":43759},"All",{"$f":"IF(OR(AC117=1,AC117=2),\"x\",ROUND(AC117/$AN49*100,1))","v":5.3},17.399999999999999,25.6,24.5,15.1,7,3,1.2,22.7,72.900000000000006,99.2,{"$f":"AN117","v":70984}]
["English Literature","Males",3.7,13.1,26.1,27.5,17,7.5,3,1.1000000000000001,16.8,70.400000000000006,98.9,193518,"Females",7.6,21.6,31.7,23.2,10.3,3.5,1.2,0.4,29.2,84,99.4,214587,"All",{"$f":"IF(OR(AC118=1,AC118=2),\"x\",ROUND(AC118/$AN50*100,1))","v":5.7},17.600000000000001,29,25.2,13.4,5.4,2,0.7,23.3,77.5,99.2,408105]
["English Studies","Males",0,1.6,9.4,26.5,22.7,19.100000000000001,11.9,6.1,1.6,37.5,97.3,445,"Females",0,3.6,16.899999999999999,30.8,17.8,10.9,11.8,4.7,3.6,51.2,96.4,338,"All",{"$f":"IF(OR(AC119=1,AC119=2),\"x\",ROUND(AC119/$AN51*100,1))","v":0},2.4,12.6,28.4,20.6,15.6,11.9,5.5,2.4,43.4,96.9,783]
["General Studies","Males",1.6,6,11.4,16,18.100000000000001,15.2,12.5,9.9,7.6,34.9,90.6,4595,"Females",2.7,9.5,14.1,19.5,20.6,14.3,9.3000000000000007,4.5999999999999996,12.1,45.7,94.5,4421,"All",{"$f":"IF(OR(AC120=1,AC120=2),\"x\",ROUND(AC120/$AN52*100,1))","v":2.1},7.7,12.7,17.7,19.3,14.8,10.9,7.3,9.8000000000000007,40.200000000000003,92.5,9016]
["Health and Social Care","Males","x",3.2,8.1999999999999993,14.4,21.7,17.5,11.6,10.7,3.5,26.2,87.7,741,"Females","x",8.8000000000000007,19.100000000000001,24.2,18.600000000000001,11.8,7.7,4.0999999999999996,11.3,54.7,96.8,12910,"All",{"$f":"IF(OR(AC121=1,AC121=2),\"x\",ROUND(AC121/$AN53*100,1))","v":2.4},8.5,18.5,23.7,18.7,12.1,7.9,4.5,10.9,53.1,96.3,13651]
["Hospitality and Catering","Males","x",4.8,15.7,24.9,28.8,15.3,8.1,1.1000000000000001,5,45.6,98.9,880,"Females","x",13.8,25.1,24.8,16.600000000000001,10.5,3.8,0.5,17,66.900000000000006,98.5,1358,"All",{"$f":"IF(OR(AC122=1,AC122=2),\"x\",ROUND(AC122/$AN54*100,1))","v":2},10.3,21.4,24.8,21.4,12.4,5.5,0.8,12.3,58.5,98.6,2238]
["Leisure and Tourism","Males",0.3,2.2000000000000002,6.2,13.6,16.600000000000001,18.899999999999999,14.4,12.7,2.5,22.3,85,3241,"Females",1.7,8.4,13.7,18.2,18.2,13.7,10.3,8.3000000000000007,10.1,42.1,92.7,3185,"All",{"$f":"IF(OR(AC123=1,AC123=2),\"x\",ROUND(AC123/$AN55*100,1))","v":1},5.3,9.9,15.9,17.399999999999999,16.3,12.4,10.5,6.3,32.1,88.8,6426]
["Manufacturing","Males",0,"x",10.7,15.6,"x",22.1,15.6,8.1999999999999993,"x",27.9,98.4,122,"Females",0,"x",21.4,42.9,"x",0,21.4,0,"x",71.400000000000006,100,14,"All",{"$f":"IF(OR(AC124=1,AC124=2),\"x\",ROUND(AC124/$AN56*100,1))","v":0},2.2000000000000002,11.8,18.399999999999999,22.8,19.899999999999999,16.2,7.4,2.2000000000000002,32.4,98.5,136]
["Media/Film/TV","Males",1.5,7.3,19.100000000000001,27.1,21,12,6.8,3,8.8000000000000007,55,97.8,26290,"Females",5,18.2,27.6,25,13.6,5.8,2.6,1.3,23.2,75.8,99.1,25038,"All",{"$f":"IF(OR(AC125=1,AC125=2),\"x\",ROUND(AC125/$AN57*100,1))","v":3.2},12.6,23.3,26.1,17.399999999999999,9,4.7,2.2000000000000002,15.8,65.2,98.4,51328]
["Music","Males",8.6,20.5,23.6,19.5,12.8,7.8,3.6,2,29.1,72.3,98.5,20902,"Females",9.3000000000000007,23.7,26.7,19.100000000000001,11.1,5.6,2.4,1.2,33.1,78.900000000000006,99.2,21544,"All",{"$f":"IF(OR(AC126=1,AC126=2),\"x\",ROUND(AC126/$AN58*100,1))","v":9},22.2,25.2,19.3,11.9,6.7,3,1.6,31.1,75.599999999999994,98.8,42446]
["Performing Arts","Males",3.7,6.8,14,23.5,17.3,14.5,12,5.0999999999999996,10.5,47.9,96.9,1362,"Females",9.4,11.6,21.7,24.6,17,8.3000000000000007,4.0999999999999996,2,21,67.3,98.7,3142,"All",{"$f":"IF(OR(AC127=1,AC127=2),\"x\",ROUND(AC127/$AN59*100,1))","v":7.7},10.1,19.399999999999999,24.2,17.100000000000001,10.199999999999999,6.5,3,17.8,61.4,98.2,4504]
["Physical Education","Males",2.8,13.9,24.8,27,18.3,9.1,3,0.7,16.7,68.5,99.7,67810,"Females",6.2,18.8,24.4,22.6,15.8,8.1,3,0.8,25,72,99.6,34784,"All",{"$f":"IF(OR(AC128=1,AC128=2),\"x\",ROUND(AC128/$AN60*100,1))","v":3.9},15.6,24.7,25.5,17.5,8.8000000000000007,3,0.7,19.5,69.7,99.7,102594]
["Religious Studies","Males",7,15.3,21.8,20.3,13.4,9.1,5.9,3.9,22.2,64.400000000000006,96.7,120566,"Females",14.8,22.8,23.4,16.8,9.6,5.8,3.3,1.9,37.6,77.900000000000006,98.4,138793,"All",{"$f":"IF(OR(AC129=1,AC129=2),\"x\",ROUND(AC129/$AN61*100,1))","v":11.2},19.3,22.7,18.5,11.4,7.3,4.5,2.9,30.4,71.599999999999994,97.6,259359]
["Statistics","Males",4.8,16.5,22.7,27.6,15.4,5.9,2.8,1.7,21.3,71.599999999999994,97.4,26152,"Females",5.3,17.7,24.5,29.4,12.9,4.8,2.2000000000000002,1.1000000000000001,23.1,77,98,22902,"All",{"$f":"IF(OR(AC130=1,AC130=2),\"x\",ROUND(AC130/$AN62*100,1))","v":5},17.100000000000001,23.5,28.4,14.2,5.4,2.5,1.4,22.1,74.099999999999994,97.7,49054]
["Vocational Studies","Males",1,5.8,16.399999999999999,27.3,24.5,14.1,6.5,2.6,6.8,50.5,98.3,19028,"Females",3.4,13.6,24.2,26.3,17.899999999999999,8.8000000000000007,3.6,1.3,17,67.5,99.2,21043,"All",{"$f":"IF(OR(AC131=1,AC131=2),\"x\",ROUND(AC131/$AN63*100,1))","v":2.2999999999999998},9.9,20.5,26.7,21.1,11.3,5,2,12.2,59.4,98.7,40071]
["All Subjects","Males",5.6,12.8,21.1,26.8,16.3,8.4,4.5,2.4,18.399999999999999,66.3,97.9,2284001,"Females",8.6,17.399999999999999,24.2,25.2,12.9,5.9,2.9,1.5,25.9,75.400000000000006,98.6,2372286,"All",{"$f":"IF(OR(AC132=1,AC132=2),\"x\",ROUND(AC132/$AN64*100,1))","v":7.1},15.1,22.7,26,14.6,7.1,3.7,1.9,22.3,70.900000000000006,98.3,4656287]
[]
[null,null,null,null,null,null," "]
[null,null,null,null,null,null,null,null," "]
[]
["DISC3B"]
["Subject","(No column name)","*","A","B","C","D","E","F","G","AstarA","AstarC","AstarG","Total","(No column name)","*","A","B","C","D","E","F","G","AstarA","AstarC","AstarG","Total","(No column name)","*","A","B","C","D","E","F","G","AstarA","AstarC","AstarG","Total"]
["English","Males",6112,21803,48427,72530,45407,20850,8737,3385,27915,148872,227251,229932,"Females",13897,39858,65906,67352,30373,10355,3583,1376,53755,187013,232700,234257,"All",20009,61661,114333,139882,75780,31205,12320,4761,81670,335885,459951,464189]
["Mathematics","Males",21690,34860,56181,91311,37250,18835,14628,11817,56550,204042,286572,303147,"Females",18973,34730,57214,90975,36556,17371,13072,10290,53703,201892,279181,293691,"All",40663,69590,113395,182286,73806,36206,27700,22107,110253,405934,565753,596838]
["Core Science","Males",1804,10172,29826,61059,34771,19561,10300,4337,11976,102861,171830,175051,"Females",3038,15101,36589,61211,31193,16599,8232,3232,18139,115939,175195,177855,"All",4842,25273,66415,122270,65964,36160,18532,7569,30115,218800,347025,352906]
["Additional Science","Males",2566,10592,26870,42608,28740,11974,5139,2000,13158,82636,130489,131575,"Females",3705,14289,32714,45164,27147,10249,4027,1468,17994,95872,138763,139627,"All",6271,24881,59584,87772,55887,22223,9166,3468,31152,178508,269252,271202]
["Further Additional Science","Males",1065,2192,2873,2660,1297,383,81,26,3257,8790,10577,10607,"Females",1208,2342,2920,2468,1103,289,55,24,3550,8938,10409,10429,"All",2273,4534,5793,5128,2400,672,136,50,6807,17728,20986,21036]
["Additional Applied Science","Males",0,59,344,1324,1940,1554,858,339,59,1727,6418,6616,"Females",10,81,653,1768,2053,1236,570,197,91,2512,6568,6697,"All",10,140,997,3092,3993,2790,1428,536,150,4239,12986,13313]
["Physics","Males",9460,17797,19025,13347,4401,802,187,65,27257,59629,65084,65148,"Females",10091,17292,18378,12771,4080,749,132,48,27383,58532,63541,63604,"All",19551,35089,37403,26118,8481,1551,319,113,54640,118161,128625,128752]
["Chemistry","Males",8614,17537,19173,13913,5070,1100,253,86,26151,59237,65746,65818,"Females",10693,18734,18121,11415,3781,793,178,51,29427,58963,63766,63841,"All",19307,36271,37294,25328,8851,1893,431,137,55578,118200,129512,129659]
["Biological Sciences","Males",7521,17709,20331,14679,5053,1152,426,186,25230,60240,67057,67270,"Females",10953,19676,18814,11254,3608,792,319,137,30629,60697,65553,65698,"All",18474,37385,39145,25933,8661,1944,745,323,55859,120937,132610,132968]
["Computer Science","Males",812,2229,2866,2738,1885,1185,728,462,3041,8645,12905,13428,"Females",197,460,516,503,322,176,88,40,657,1676,2302,2374,"All",1009,2689,3382,3241,2207,1361,816,502,3698,10321,15207,15802]
["Other Sciences","Males",437,614,689,714,655,502,354,206,1051,2454,4171,4288,"Females",113,248,464,557,446,329,212,137,361,1382,2506,2580,"All",550,862,1153,1271,1101,831,566,343,1412,3836,6677,6868]
["D & T: Electronic Products","Males",534,1116,1648,1611,1141,762,469,261,1650,4909,7542,7692,"Females",107,164,154,83,60,37,10,8,271,508,623,628,"All",641,1280,1802,1694,1201,799,479,269,1921,5417,8165,8320]
["D & T: Food Technology","Males",226,874,2106,3637,3468,2347,1364,613,1100,6843,14635,14951,"Females",1850,4321,6073,5941,3827,2044,980,384,6171,18185,25420,25639,"All",2076,5195,8179,9578,7295,4391,2344,997,7271,25028,40055,40590]
["D & T: Graphic Products","Males",583,1795,3515,4765,4157,2699,1728,1040,2378,10658,20282,20953,"Females",1012,2395,3037,2750,1815,971,523,266,3407,9194,12769,12921,"All",1595,4190,6552,7515,5972,3670,2251,1306,5785,19852,33051,33874]
["D & T: Resistant Materials","Males",1296,3973,8216,11007,8864,5728,3405,1648,5269,24492,44137,45024,"Females",676,1431,1851,1644,1072,569,287,160,2107,5602,7690,7760,"All",1972,5404,10067,12651,9936,6297,3692,1808,7376,30094,51827,52784]
["D & T: Systems & Control","Males",251,408,631,681,512,294,185,87,659,1971,3049,3091,"Females",7,30,29,34,31,10,6,1,37,100,148,150,"All",258,438,660,715,543,304,191,88,696,2071,3197,3241]
["D & T: Textiles Technology","Males",24,33,79,162,164,144,120,48,57,298,774,820,"Females",2475,4243,5695,5581,3456,1854,850,390,6718,17994,24544,24773,"All",2499,4276,5774,5743,3620,1998,970,438,6775,18292,25318,25593]
["Other Design and Technology","Males",740,2066,4417,6349,5320,3460,2095,1006,2806,13572,25453,26092,"Females",977,1970,2531,2283,1456,805,417,215,2947,7761,10654,10761,"All",1717,4036,6948,8632,6776,4265,2512,1221,5753,21333,36107,36853]
["Applied Engineering","Males",40,152,438,846,854,678,399,242,192,1476,3649,3863,"Females",2,23,49,52,49,34,11,7,25,126,227,228,"All",42,175,487,898,903,712,410,249,217,1602,3876,4091]
["Information Technology","Males",2056,6699,10596,10960,6726,3751,2609,1856,8755,30311,45253,46552,"Females",2660,6643,8419,7896,4330,2323,1359,953,9303,25618,34583,35324,"All",4716,13342,19015,18856,11056,6074,3968,2809,18058,55929,79836,81876]
["Business Studies","Males",1336,5989,10422,10474,7105,4041,2332,1303,7325,28221,43002,43774,"Females",1372,5336,7821,6971,4253,2392,1320,684,6708,21500,30149,30552,"All",2708,11325,18243,17445,11358,6433,3652,1987,14033,49721,73151,74326]
["Applied Business","Males",89,442,908,1138,816,581,360,237,531,2577,4571,4852,"Females",116,535,742,640,443,301,174,114,651,2033,3065,3185,"All",205,977,1650,1778,1259,882,534,351,1182,4610,7636,8037]
["Home Economics","Males",21,145,471,832,814,639,393,183,166,1469,3498,3594,"Females",734,2634,4819,5809,4831,3063,1596,695,3368,13996,24181,24583,"All",755,2779,5290,6641,5645,3702,1989,878,3534,15465,27679,28177]
["Ancient History","Males",97,130,122,89,59,57,27,18,227,438,599,625,"Females",75,123,94,100,58,34,9,9,198,392,502,507,"All",172,253,216,189,117,91,36,27,425,830,1101,1132]
["Geography","Males",8243,16787,22096,26147,18415,10722,5778,2908,25030,73273,111096,112281,"Females",11822,19122,20580,19793,12238,7036,3861,1852,30944,71317,96304,96959,"All",20065,35909,42676,45940,30653,17758,9639,4760,55974,144590,207400,209240]
["History","Males",8941,19025,23853,22889,16334,10703,6705,4244,27966,74708,112694,115413,"Females",15241,25028,25944,21919,14846,9323,5520,3237,40269,88132,121058,122846,"All",24182,44053,49797,44808,31180,20026,12225,7481,68235,162840,233752,238259]
["Humanities","Males",62,259,694,1023,947,831,621,390,321,2038,4827,5150,"Females",154,453,914,1018,899,669,436,236,607,2539,4779,4916,"All",216,712,1608,2041,1846,1500,1057,626,928,4577,9606,10066]
["Economics","Males",234,828,1044,650,331,187,104,51,1062,2756,3429,3481,"Females",77,380,416,269,150,77,31,24,457,1142,1424,1445,"All",311,1208,1460,919,481,264,135,75,1519,3898,4853,4926]
["Social Studies","Males",300,1750,4024,4916,3744,2486,1611,971,2050,10990,19802,20556,"Females",1422,6152,9235,8231,5000,3040,1794,888,7574,25040,35762,36435,"All",1722,7902,13259,13147,8744,5526,3405,1859,9624,36030,55564,56991]
["Other Classical Studies","Males",16,44,41,18,13,5,3,2,60,119,142,144,"Females",51,107,82,51,19,11,7,6,158,291,334,352,"All",67,151,123,69,32,16,10,8,218,410,476,496]
["Arabic","Males",448,282,175,148,88,68,55,40,730,1053,1304,1368,"Females",578,321,212,150,89,72,74,44,899,1261,1540,1598,"All",1026,603,387,298,177,140,129,84,1629,2314,2844,2966]
["Chinese","Males",844,254,160,122,67,14,3,0,1098,1380,1464,1470,"Females",907,204,120,83,31,7,3,2,1111,1314,1357,1360,"All",1751,458,280,205,98,21,6,2,2209,2694,2821,2830]
["French","Males",5067,7752,11585,18782,15303,6826,2519,928,12819,43186,68762,69121,"Females",10106,14165,18785,24868,15916,5440,1731,551,24271,67924,91562,91834,"All",15173,21917,30370,43650,31219,12266,4250,1479,37090,111110,160324,160955]
["German","Males",1922,3389,5738,8159,5600,2127,767,221,5311,19208,27923,28070,"Females",2939,5097,7556,8317,4504,1409,424,110,8036,23909,30356,30450,"All",4861,8486,13294,16476,10104,3536,1191,331,13347,43117,58279,58520]
["Italian","Males",688,324,269,217,136,59,24,8,1012,1498,1725,1740,"Females",936,460,402,291,156,48,26,8,1396,2089,2327,2328,"All",1624,784,671,508,292,107,50,16,2408,3587,4052,4068]
["Polish","Males",429,802,336,135,65,30,6,19,1231,1702,1822,1860,"Females",861,810,251,84,26,14,5,10,1671,2006,2061,2088,"All",1290,1612,587,219,91,44,11,29,2902,3708,3883,3948]
["Spanish","Males",3533,4958,7002,9259,7113,3434,1657,753,8491,24752,37709,38078,"Females",6890,9041,10287,11341,7098,2921,1170,481,15931,37559,49229,49475,"All",10423,13999,17289,20600,14211,6355,2827,1234,24422,62311,86938,87553]
["Urdu","Males",91,289,343,322,278,152,86,26,380,1045,1587,1614,"Females",361,679,603,440,222,104,40,27,1040,2083,2476,2497,"All",452,968,946,762,500,256,126,53,1420,3128,4063,4111]
["Other Modern Languages","Males",1533,1254,881,542,279,136,80,31,2787,4210,4736,4791,"Females",2032,1656,912,477,234,109,50,32,3688,5077,5502,5563,"All",3565,2910,1793,1019,513,245,130,63,6475,9287,10238,10354]
["Classical Civilisation","Males",183,509,542,434,252,118,56,32,692,1668,2126,2145,"Females",344,547,448,310,180,80,38,15,891,1649,1962,1972,"All",527,1056,990,744,432,198,94,47,1583,3317,4088,4117]
["Classical Greek","Males",416,155,70,32,15,4,5,4,571,673,701,705,"Females",312,93,33,10,6,5,5,1,405,448,465,468,"All",728,248,103,42,21,9,10,5,976,1121,1166,1173]
["Latin","Males",1747,1188,647,355,197,85,41,25,2935,3937,4285,4302,"Females",2128,1245,571,347,155,67,31,9,3373,4291,4553,4566,"All",3875,2433,1218,702,352,152,72,34,6308,8228,8838,8868]
["Applied Art and Design","Males",5,19,62,137,77,32,19,9,24,223,360,367,"Females",15,72,134,166,66,21,8,0,87,387,482,489,"All",20,91,196,303,143,53,27,9,111,610,842,856]
["Art and Design","Males",2759,4638,10526,18969,9981,5702,3052,1428,7397,36892,57055,58109,"Females",12664,18830,30594,31327,11324,4639,2035,750,31494,93415,112163,112969,"All",15423,23468,41120,50296,21305,10341,5087,2178,38891,130307,169218,171078]
["Communication Studies","Males",94,389,790,1170,945,620,387,209,483,2443,4604,4785,"Females",416,832,1164,1094,713,389,237,121,1248,3506,4966,5058,"All",510,1221,1954,2264,1658,1009,624,330,1731,5949,9570,9843]
["Dance","Males",40,148,163,158,137,100,40,19,188,509,805,811,"Females",512,1822,2353,2752,2022,1017,428,159,2334,7439,11065,11136,"All",552,1970,2516,2910,2159,1117,468,178,2522,7948,11870,11947]
["Drama","Males",953,3616,6174,7050,4936,2566,1166,481,4569,17793,26942,27225,"Females",2806,8721,12029,10370,5760,2429,993,382,11527,33926,43490,43759,"All",3759,12337,18203,17420,10696,4995,2159,863,16096,51719,70432,70984]
["English Literature","Males",7158,25356,50488,53169,32849,14472,5722,2156,32514,136171,191370,193518,"Females",16296,46357,67935,49704,22005,7579,2500,899,62653,180292,213275,214587,"All",23454,71713,118423,102873,54854,22051,8222,3055,95167,316463,404645,408105]
["English Studies","Males",0,7,42,118,101,85,53,27,7,167,433,445,"Females",0,12,57,104,60,37,40,16,12,173,326,338,"All",0,19,99,222,161,122,93,43,19,340,759,783]
["General Studies","Males",73,275,522,733,831,697,574,457,348,1603,4162,4595,"Females",119,418,623,862,911,634,409,203,537,2022,4179,4421,"All",192,693,1145,1595,1742,1331,983,660,885,3625,8341,9016]
["Health and Social Care","Males",2,24,61,107,161,130,86,79,26,194,650,741,"Females",322,1138,2469,3130,2396,1523,991,533,1460,7059,12502,12910,"All",324,1162,2530,3237,2557,1653,1077,612,1486,7253,13152,13651]
["Hospitality and Catering","Males",2,42,138,219,253,135,71,10,44,401,870,880,"Females",43,188,341,337,226,143,52,7,231,909,1337,1358,"All",45,230,479,556,479,278,123,17,275,1310,2207,2238]
["Leisure and Tourism","Males",11,71,202,440,539,613,468,411,82,724,2755,3241,"Females",55,268,437,581,581,435,329,265,323,1341,2951,3185,"All",66,339,639,1021,1120,1048,797,676,405,2065,5706,6426]
["Manufacturing","Males",0,2,13,19,30,27,19,10,2,34,120,122,"Females",0,1,3,6,1,0,3,0,1,10,14,14,"All",0,3,16,25,31,27,22,10,3,44,134,136]
["Media/Film/TV","Males",390,1921,5021,7135,5534,3148,1777,790,2311,14467,25716,26290,"Females",1259,4554,6915,6255,3399,1455,659,318,5813,18983,24814,25038,"All",1649,6475,11936,13390,8933,4603,2436,1108,8124,33450,50530,51328]
["Music","Males",1796,4293,4941,4086,2674,1623,751,422,6089,15116,20586,20902,"Females",2013,5114,5752,4113,2388,1206,520,255,7127,16992,21361,21544,"All",3809,9407,10693,8199,5062,2829,1271,677,13216,32108,41947,42446]
["Performing Arts","Males",50,93,190,320,236,197,164,70,143,653,1320,1362,"Females",296,363,682,772,535,261,128,64,659,2113,3101,3142,"All",346,456,872,1092,771,458,292,134,802,2766,4421,4504]
["Physical Education","Males",1881,9455,16821,18290,12430,6177,2056,477,11336,46447,67587,67810,"Females",2162,6542,8472,7870,5486,2813,1050,267,8704,25046,34662,34784,"All",4043,15997,25293,26160,17916,8990,3106,744,20040,71493,102249,102594]
["Religious Studies","Males",8405,18393,26288,24517,16186,10941,7133,4733,26798,77603,116596,120566,"Females",20591,31583,32545,23361,13305,7981,4570,2693,52174,108080,136629,138793,"All",28996,49976,58833,47878,29491,18922,11703,7426,78972,185683,253225,259359]
["Statistics","Males",1244,4319,5934,7227,4031,1552,727,439,5563,18724,25473,26152,"Females",1219,4063,5616,6727,2959,1108,512,251,5282,17625,22455,22902,"All",2463,8382,11550,13954,6990,2660,1239,690,10845,36349,47928,49054]
["Vocational Studies","Males",196,1097,3122,5189,4669,2691,1235,500,1293,9604,18699,19028,"Females",710,2869,5092,5526,3775,1852,759,283,3579,14197,20866,21043,"All",906,3966,8214,10715,8444,4543,1994,783,4872,23801,39565,40071]
["All Subjects","Males",127130,293393,481172,612637,372246,192574,102798,54831,420523,1514332,2236781,2284001,"Females",203600,411966,574167,598278,306024,139329,69479,35885,615566,1788011,2338728,2372286,"All",330730,705359,1055339,1210915,678270,331903,172277,90716,1036089,3302343,4575509,4656287]

{"sheet":"2014 DISC3","index":10,"n_rows":61,"n_cols":40,"rows_kept":61,"cut":false,"hidden":true,"merged":[]}
["Subject","(No column name)","*","A","B","C","D","E","F","G","AstarA","AstarC","AstarG","Total","(No column name)","*","A","B","C","D","E","F","G","AstarA","AstarC","AstarG","Total","(No column name)","*","A","B","C","D","E","F","G","AstarA","AstarC","AstarG","Total"]
["English","Males",6091,21752,48277,72101,44928,20622,8638,3356,27843,148221,225765,228419,"Females",13876,39755,65681,66966,30068,10249,3548,1366,53631,186278,231509,233049,"All",19967,61507,113958,139067,74996,30871,12186,4722,81474,334499,457274,461468]
["Mathematics","Males",21508,34797,56177,91305,37249,18835,14628,11817,56305,203787,286316,302891,"Females",18832,34693,57211,90973,36556,17371,13072,10290,53525,201709,278998,293508,"All",40340,69490,113388,182278,73805,36206,27700,22107,109830,405496,565314,596399]
["Core Science","Males",1804,10169,29825,61001,33732,18453,9588,4117,11973,102799,168689,171820,"Females",3038,15100,36587,61149,30151,15476,7517,3007,18138,115874,172025,174598,"All",4842,25269,66412,122150,63883,33929,17105,7124,30111,218673,340714,346418]
["Additional Science","Males",2566,10592,26870,42608,28740,11974,5139,2000,13158,82636,130489,131575,"Females",3705,14289,32714,45164,27147,10249,4027,1468,17994,95872,138763,139627,"All",6271,24881,59584,87772,55887,22223,9166,3468,31152,178508,269252,271202]
["Further Additional Science","Males",1065,2192,2873,2660,1297,383,81,26,3257,8790,10577,10607,"Females",1208,2342,2920,2468,1103,289,55,24,3550,8938,10409,10429,"All",2273,4534,5793,5128,2400,672,136,50,6807,17728,20986,21036]
["Additional Applied Science","Males",0,59,338,1253,1803,1408,785,313,59,1650,5959,6150,"Females",10,80,637,1669,1918,1130,524,187,90,2396,6155,6276,"All",10,139,975,2922,3721,2538,1309,500,149,4046,12114,12426]
["Physics","Males",9455,17793,19022,13347,4401,801,186,64,27248,59617,65069,65133,"Females",10091,17292,18378,12771,4078,749,131,47,27383,58532,63537,63600,"All",19546,35085,37400,26118,8479,1550,317,111,54631,118149,128606,128733]
["Chemistry","Males",8610,17532,19172,13913,5070,1099,251,85,26142,59227,65732,65804,"Females",10691,18731,18121,11415,3781,788,174,50,29422,58958,63751,63826,"All",19301,36263,37293,25328,8851,1887,425,135,55564,118185,129483,129630]
["Biological Sciences","Males",7518,17706,20327,14679,5050,1151,424,186,25224,60230,67041,67254,"Females",10952,19671,18814,11254,3606,789,316,137,30623,60691,65539,65684,"All",18470,37377,39141,25933,8656,1940,740,323,55847,120921,132580,132938]
["Computer Science","Males",809,2227,2865,2736,1885,1185,728,462,3036,8637,12897,13420,"Females",197,460,514,503,322,176,88,40,657,1674,2300,2372,"All",1006,2687,3379,3239,2207,1361,816,502,3693,10311,15197,15792]
["Other Sciences","Males",433,613,689,714,655,502,354,206,1046,2449,4166,4283,"Females",113,247,464,557,446,329,212,137,360,1381,2505,2579,"All",546,860,1153,1271,1101,831,566,343,1406,3830,6671,6862]
["D & T: Electronic Products","Males",534,1116,1648,1611,1141,762,469,261,1650,4909,7542,7692,"Females",107,164,154,83,60,37,10,8,271,508,623,628,"All",641,1280,1802,1694,1201,799,479,269,1921,5417,8165,8320]
["D & T: Food Technology","Males",226,874,2106,3637,3468,2347,1364,613,1100,6843,14635,14951,"Females",1849,4320,6072,5940,3827,2044,980,384,6169,18181,25416,25635,"All",2075,5194,8178,9577,7295,4391,2344,997,7269,25024,40051,40586]
["D & T: Graphic Products","Males",583,1795,3515,4765,4157,2699,1728,1040,2378,10658,20282,20953,"Females",1012,2395,3037,2750,1815,971,523,266,3407,9194,12769,12921,"All",1595,4190,6552,7515,5972,3670,2251,1306,5785,19852,33051,33874]
["D & T: Resistant Materials","Males",1296,3973,8216,11007,8864,5728,3405,1648,5269,24492,44137,45024,"Females",676,1431,1851,1644,1072,569,287,160,2107,5602,7690,7760,"All",1972,5404,10067,12651,9936,6297,3692,1808,7376,30094,51827,52784]
["D & T: Systems & Control","Males",251,408,631,681,512,294,185,87,659,1971,3049,3091,"Females",7,30,29,34,31,10,6,1,37,100,148,150,"All",258,438,660,715,543,304,191,88,696,2071,3197,3241]
["D & T: Textiles Technology","Males",24,33,79,162,164,144,120,48,57,298,774,820,"Females",2472,4241,5694,5581,3456,1854,850,390,6713,17988,24538,24767,"All",2496,4274,5773,5743,3620,1998,970,438,6770,18286,25312,25587]
["Other Design and Technology","Males",737,2063,4413,6347,5320,3460,2095,1006,2800,13560,25441,26080,"Females",971,1953,2527,2283,1456,805,417,215,2924,7734,10627,10734,"All",1708,4016,6940,8630,6776,4265,2512,1221,5724,21294,36068,36814]
["Applied Engineering","Males",37,145,426,820,839,668,393,241,182,1428,3569,3782,"Females",1,23,49,51,49,34,11,7,24,124,225,226,"All",38,168,475,871,888,702,404,248,206,1552,3794,4008]
["Information Technology","Males",2052,6680,10593,10960,6725,3751,2609,1856,8732,30285,45226,46525,"Females",2656,6614,8410,7896,4330,2323,1359,953,9270,25576,34541,35282,"All",4708,13294,19003,18856,11055,6074,3968,2809,18002,55861,79767,81807]
["Business Studies","Males",1335,5976,10387,10422,7047,3999,2313,1293,7311,28120,42772,43540,"Females",1371,5326,7795,6941,4228,2364,1310,679,6697,21433,30014,30415,"All",2706,11302,18182,17363,11275,6363,3623,1972,14008,49553,72786,73955]
["Applied Business","Males",89,441,899,1113,793,567,350,231,530,2542,4483,4753,"Females",115,529,733,629,428,290,168,109,644,2006,3001,3116,"All",204,970,1632,1742,1221,857,518,340,1174,4548,7484,7869]
["Home Economics","Males",21,145,471,832,814,639,393,183,166,1469,3498,3594,"Females",734,2634,4819,5809,4831,3063,1596,695,3368,13996,24181,24583,"All",755,2779,5290,6641,5645,3702,1989,878,3534,15465,27679,28177]
["Geography","Males",8235,16773,22086,26144,18415,10722,5778,2908,25008,73238,111061,112246,"Females",11812,19105,20568,19791,12238,7036,3861,1852,30917,71276,96263,96918,"All",20047,35878,42654,45935,30653,17758,9639,4760,55925,144514,207324,209164]
["History","Males",8938,19012,23832,22875,16334,10703,6705,4244,27950,74657,112643,115362,"Females",15224,24991,25930,21913,14846,9323,5520,3237,40215,88058,120984,122772,"All",24162,44003,49762,44788,31180,20026,12225,7481,68165,162715,233627,238134]
["Humanities","Males",62,259,694,1023,947,831,621,390,321,2038,4827,5150,"Females",154,453,914,1018,899,669,436,236,607,2539,4779,4916,"All",216,712,1608,2041,1846,1500,1057,626,928,4577,9606,10066]
["Economics","Males",234,828,1043,650,331,187,104,51,1062,2755,3428,3480,"Females",77,379,416,269,150,77,31,24,456,1141,1423,1444,"All",311,1207,1459,919,481,264,135,75,1518,3896,4851,4924]
["Social Studies","Males",299,1747,4022,4916,3744,2486,1611,971,2046,10984,19796,20550,"Females",1418,6145,9233,8229,4999,3040,1794,888,7563,25025,35746,36419,"All",1717,7892,13255,13145,8743,5526,3405,1859,9609,36009,55542,56969]
["Arabic","Males",396,270,173,147,88,68,54,40,666,986,1236,1300,"Females",499,302,206,150,88,72,74,44,801,1157,1435,1493,"All",895,572,379,297,176,140,128,84,1467,2143,2671,2793]
["Chinese","Males",748,247,160,122,67,14,3,0,995,1277,1361,1367,"Females",790,200,119,83,31,7,3,2,990,1192,1235,1238,"All",1538,447,279,205,98,21,6,2,1985,2469,2596,2605]
["French","Males",4985,7702,11577,18781,15303,6824,2518,928,12687,43045,68618,68977,"Females",9989,14114,18773,24866,15916,5440,1731,551,24103,67742,91380,91652,"All",14974,21816,30350,43647,31219,12264,4249,1479,36790,110787,159998,160629]
["German","Males",1845,3354,5731,8157,5600,2127,767,221,5199,19087,27802,27949,"Females",2857,5082,7550,8317,4504,1409,424,110,7939,23806,30253,30347,"All",4702,8436,13281,16474,10104,3536,1191,331,13138,42893,58055,58296]
["Italian","Males",647,320,269,216,136,59,24,8,967,1452,1679,1694,"Females",888,459,401,290,156,48,26,8,1347,2038,2276,2277,"All",1535,779,670,506,292,107,50,16,2314,3490,3955,3971]
["Polish","Males",336,696,312,130,65,30,6,18,1032,1474,1593,1631,"Females",656,668,229,79,26,14,5,10,1324,1632,1687,1713,"All",992,1364,541,209,91,44,11,28,2356,3106,3280,3344]
["Spanish","Males",3462,4945,6997,9257,7111,3431,1657,752,8407,24661,37612,37981,"Females",6738,9005,10282,11340,7097,2921,1170,481,15743,37365,49034,49280,"All",10200,13950,17279,20597,14208,6352,2827,1233,24150,62026,86646,87261]
["Urdu","Males",82,276,333,321,278,152,86,26,358,1012,1554,1581,"Females",330,665,594,438,221,103,40,27,995,2027,2418,2439,"All",412,941,927,759,499,255,126,53,1353,3039,3972,4020]
["Other Modern Languages","Males",1372,1169,853,533,279,136,80,31,2541,3927,4453,4508,"Females",1731,1515,877,466,233,108,50,32,3246,4589,5012,5073,"All",3103,2684,1730,999,512,244,130,63,5787,8516,9465,9581]
["Classical Civilisation","Males",183,509,542,434,252,118,56,32,692,1668,2126,2145,"Females",344,547,448,310,180,80,38,15,891,1649,1962,1972,"All",527,1056,990,744,432,198,94,47,1583,3317,4088,4117]
["Classical Greek","Males",416,155,70,32,15,4,5,4,571,673,701,705,"Females",312,93,33,10,6,5,5,1,405,448,465,468,"All",728,248,103,42,21,9,10,5,976,1121,1166,1173]
["Latin","Males",1745,1180,637,352,192,82,41,25,2925,3914,4254,4271,"Females",2122,1242,568,344,153,66,31,9,3364,4276,4535,4548,"All",3867,2422,1205,696,345,148,72,34,6289,8190,8789,8819]
["Other Classical Studies","Males",109,169,156,103,72,62,30,20,278,537,721,749,"Females",116,225,174,151,77,45,16,15,341,666,819,842,"All",225,394,330,254,149,107,46,35,619,1203,1540,1591]
["Applied Art and Design","Males",5,18,62,136,77,31,19,9,23,221,357,364,"Females",15,72,134,166,64,20,8,0,87,387,479,486,"All",20,90,196,302,141,51,27,9,110,608,836,850]
["Art and Design","Males",2746,4607,10417,18692,9781,5586,2996,1405,7353,36462,56230,57275,"Females",12594,18648,30238,30775,11074,4515,1983,736,31242,92255,110563,111359,"All",15340,23255,40655,49467,20855,10101,4979,2141,38595,128717,166793,168634]
["Communication Studies","Males",93,376,766,1120,902,590,374,199,469,2355,4420,4599,"Females",412,817,1133,1056,687,378,225,117,1229,3418,4825,4915,"All",505,1193,1899,2176,1589,968,599,316,1698,5773,9245,9514]
["Drama","Males",948,3570,6081,6897,4821,2510,1138,478,4518,17496,26443,26720,"Females",2783,8579,11791,10091,5560,2358,972,369,11362,33244,42503,42766,"All",3731,12149,17872,16988,10381,4868,2110,847,15880,50740,68946,69486]
["English Literature","Males",7155,25331,50442,53113,32769,14459,5721,2156,32486,136041,191146,193288,"Females",16282,46330,67895,49678,21974,7573,2496,898,62612,180185,213126,214430,"All",23437,71661,118337,102791,54743,22032,8217,3054,95098,316226,404272,407718]
["English Studies","Males",0,7,42,118,101,85,53,27,7,167,433,445,"Females",0,12,57,104,60,37,40,16,12,173,326,338,"All",0,19,99,222,161,122,93,43,19,340,759,783]
["General Studies","Males",73,274,518,729,831,697,574,457,347,1594,4153,4586,"Females",119,414,620,861,910,634,409,203,533,2014,4170,4412,"All",192,688,1138,1590,1741,1331,983,660,880,3608,8323,8998]
["Health and Social Care","Males",2,24,60,106,155,128,84,79,26,192,638,727,"Females",322,1135,2435,3066,2296,1473,943,506,1457,6958,12176,12574,"All",324,1159,2495,3172,2451,1601,1027,585,1483,7150,12814,13301]
["Hospitality and Catering","Males",2,42,138,219,253,135,71,10,44,401,870,880,"Females",43,188,341,337,226,143,52,7,231,909,1337,1358,"All",45,230,479,556,479,278,123,17,275,1310,2207,2238]
["Leisure and Tourism","Males",11,66,201,429,529,607,461,408,77,707,2712,3196,"Females",54,264,433,568,571,424,319,261,318,1319,2894,3122,"All",65,330,634,997,1100,1031,780,669,395,2026,5606,6318]
["Manufacturing","Males",0,2,13,19,30,27,19,10,2,34,120,122,"Females",0,1,3,6,1,0,3,0,1,10,14,14,"All",0,3,16,25,31,27,22,10,3,44,134,136]
["Media/Film/TV","Males",388,1913,4989,7068,5452,3117,1766,786,2301,14358,25479,26050,"Females",1253,4539,6899,6209,3374,1447,656,317,5792,18900,24694,24917,"All",1641,6452,11888,13277,8826,4564,2422,1103,8093,33258,50173,50967]
["Music","Males",1775,4238,4867,4003,2610,1593,734,414,6013,14883,20234,20549,"Females",1997,5056,5653,4052,2338,1188,508,252,7053,16758,21044,21226,"All",3772,9294,10520,8055,4948,2781,1242,666,13066,31641,41278,41775]
["Performing Arts","Males",47,92,182,306,228,191,161,70,139,627,1277,1319,"Females",291,346,656,744,522,254,128,64,637,2037,3005,3046,"All",338,438,838,1050,750,445,289,134,776,2664,4282,4365]
["Physical Education","Males",1889,9332,16186,16913,11318,5547,1840,434,11221,44320,63459,63661,"Females",2622,8099,10351,9972,6979,3548,1359,398,10721,31044,43328,43507,"All",4511,17431,26537,26885,18297,9095,3199,832,21942,75364,106787,107168]
["Religious Studies","Males",8331,18304,26239,24496,16186,10940,7133,4733,26635,77370,116362,120332,"Females",20439,31447,32477,23337,13305,7981,4570,2693,51886,107700,136249,138413,"All",28770,49751,58716,47833,29491,18921,11703,7426,78521,185070,252611,258745]
["Statistics","Males",1242,4318,5934,7227,4031,1552,727,439,5560,18721,25470,26149,"Females",1214,4061,5616,6727,2959,1108,512,251,5275,17618,22448,22895,"All",2456,8379,11550,13954,6990,2660,1239,690,10835,36339,47918,49044]
["Vocational Studies","Males",194,1096,3103,5134,4610,2646,1190,475,1290,9527,18448,18764,"Females",709,2860,5074,5493,3741,1826,742,276,3569,14136,20721,20892,"All",903,3956,8177,10627,8351,4472,1932,751,4859,23663,39169,39656]
["All Subjects","Males",126039,292302,479546,609592,368567,189948,101433,54397,418341,1507479,2221824,2268833,"Females",201890,410378,572332,595836,303220,137329,68361,35526,612268,1780436,2324872,2358246,"All",327929,702680,1051878,1205428,671787,327277,169794,89923,1030609,3287915,4546696,4627079]

{"sheet":"2014 DISC3B","index":11,"n_rows":61,"n_cols":54,"rows_kept":61,"cut":false,"hidden":true,"merged":[]}
["Subject","(No column name)","*","A","B","C","D","E","F","G","AstarA","AstarC","AstarG","Total","Subject","(No column name)","*","A","B","C","D","E","F","G","AstarA","AstarC","AstarG","Total","(No column name)","*","A","B","C","D","E","F","G","AstarA","AstarC","AstarG","Total","(No column name)","*","A","B","C","D","E","F","G","AstarA","AstarC","AstarG","Total"]
["English","Males",6112,21803,48427,72530,45407,20850,8737,3385,27915,148872,227251,229932,"English","Males",6112,21803,48427,72530,45407,20850,8737,3385,27915,148872,227251,229932,"Females",13897,39858,65906,67352,30373,10355,3583,1376,53755,187013,232700,234257,"All",20009,61661,114333,139882,75780,31205,12320,4761,81670,335885,459951,464189]
["Mathematics","Males",21690,34860,56181,91311,37250,18835,14628,11817,56550,204042,286572,303147,"Mathematics","Males",21690,34860,56181,91311,37250,18835,14628,11817,56550,204042,286572,303147,"Females",18973,34730,57214,90975,36556,17371,13072,10290,53703,201892,279181,293691,"All",40663,69590,113395,182286,73806,36206,27700,22107,110253,405934,565753,596838]
["Core Science","Males",1804,10172,29826,61059,34771,19561,10300,4337,11976,102861,171830,175051,"Core Science","Males",1804,10172,29826,61059,34771,19561,10300,4337,11976,102861,171830,175051,"Females",3038,15101,36589,61211,31193,16599,8232,3232,18139,115939,175195,177855,"All",4842,25273,66415,122270,65964,36160,18532,7569,30115,218800,347025,352906]
["Additional Science","Males",2566,10592,26870,42608,28740,11974,5139,2000,13158,82636,130489,131575,"Additional Science","Males",2566,10592,26870,42608,28740,11974,5139,2000,13158,82636,130489,131575,"Females",3705,14289,32714,45164,27147,10249,4027,1468,17994,95872,138763,139627,"All",6271,24881,59584,87772,55887,22223,9166,3468,31152,178508,269252,271202]
["Further Additional Science","Males",1065,2192,2873,2660,1297,383,81,26,3257,8790,10577,10607,"Further Additional Science","Males",1065,2192,2873,2660,1297,383,81,26,3257,8790,10577,10607,"Females",1208,2342,2920,2468,1103,289,55,24,3550,8938,10409,10429,"All",2273,4534,5793,5128,2400,672,136,50,6807,17728,20986,21036]
["Additional Applied Science","Males",0,59,344,1324,1940,1554,858,339,59,1727,6418,6616,"Additional Applied Science","Males",0,59,344,1324,1940,1554,858,339,59,1727,6418,6616,"Females",10,81,653,1768,2053,1236,570,197,91,2512,6568,6697,"All",10,140,997,3092,3993,2790,1428,536,150,4239,12986,13313]
["Physics","Males",9460,17797,19025,13347,4401,802,187,65,27257,59629,65084,65148,"Physics","Males",9460,17797,19025,13347,4401,802,187,65,27257,59629,65084,65148,"Females",10091,17292,18378,12771,4080,749,132,48,27383,58532,63541,63604,"All",19551,35089,37403,26118,8481,1551,319,113,54640,118161,128625,128752]
["Chemistry","Males",8614,17537,19173,13913,5070,1100,253,86,26151,59237,65746,65818,"Chemistry","Males",8614,17537,19173,13913,5070,1100,253,86,26151,59237,65746,65818,"Females",10693,18734,18121,11415,3781,793,178,51,29427,58963,63766,63841,"All",19307,36271,37294,25328,8851,1893,431,137,55578,118200,129512,129659]
["Biological Sciences","Males",7521,17709,20331,14679,5053,1152,426,186,25230,60240,67057,67270,"Biological Sciences","Males",7521,17709,20331,14679,5053,1152,426,186,25230,60240,67057,67270,"Females",10953,19676,18814,11254,3608,792,319,137,30629,60697,65553,65698,"All",18474,37385,39145,25933,8661,1944,745,323,55859,120937,132610,132968]
["Computer Science","Males",812,2229,2866,2738,1885,1185,728,462,3041,8645,12905,13428,"Computer Science","Males",812,2229,2866,2738,1885,1185,728,462,3041,8645,12905,13428,"Females",197,460,516,503,322,176,88,40,657,1676,2302,2374,"All",1009,2689,3382,3241,2207,1361,816,502,3698,10321,15207,15802]
["Other Sciences","Males",437,614,689,714,655,502,354,206,1051,2454,4171,4288,"Other Sciences","Males",437,614,689,714,655,502,354,206,1051,2454,4171,4288,"Females",113,248,464,557,446,329,212,137,361,1382,2506,2580,"All",550,862,1153,1271,1101,831,566,343,1412,3836,6677,6868]
["D & T: Electronic Products","Males",534,1116,1648,1611,1141,762,469,261,1650,4909,7542,7692,"D & T: Electronic Products","Males",534,1116,1648,1611,1141,762,469,261,1650,4909,7542,7692,"Females",107,164,154,83,60,37,10,8,271,508,623,628,"All",641,1280,1802,1694,1201,799,479,269,1921,5417,8165,8320]
["D & T: Food Technology","Males",226,874,2106,3637,3468,2347,1364,613,1100,6843,14635,14951,"D & T: Food Technology","Males",226,874,2106,3637,3468,2347,1364,613,1100,6843,14635,14951,"Females",1850,4321,6073,5941,3827,2044,980,384,6171,18185,25420,25639,"All",2076,5195,8179,9578,7295,4391,2344,997,7271,25028,40055,40590]
["D & T: Graphic Products","Males",583,1795,3515,4765,4157,2699,1728,1040,2378,10658,20282,20953,"D & T: Graphic Products","Males",583,1795,3515,4765,4157,2699,1728,1040,2378,10658,20282,20953,"Females",1012,2395,3037,2750,1815,971,523,266,3407,9194,12769,12921,"All",1595,4190,6552,7515,5972,3670,2251,1306,5785,19852,33051,33874]
["D & T: Resistant Materials","Males",1296,3973,8216,11007,8864,5728,3405,1648,5269,24492,44137,45024,"D & T: Resistant Materials","Males",1296,3973,8216,11007,8864,5728,3405,1648,5269,24492,44137,45024,"Females",676,1431,1851,1644,1072,569,287,160,2107,5602,7690,7760,"All",1972,5404,10067,12651,9936,6297,3692,1808,7376,30094,51827,52784]
["D & T: Systems & Control","Males",251,408,631,681,512,294,185,87,659,1971,3049,3091,"D & T: Systems & Control","Males",251,408,631,681,512,294,185,87,659,1971,3049,3091,"Females",7,30,29,34,31,10,6,1,37,100,148,150,"All",258,438,660,715,543,304,191,88,696,2071,3197,3241]
["D & T: Textiles Technology","Males",24,33,79,162,164,144,120,48,57,298,774,820,"D & T: Textiles Technology","Males",24,33,79,162,164,144,120,48,57,298,774,820,"Females",2475,4243,5695,5581,3456,1854,850,390,6718,17994,24544,24773,"All",2499,4276,5774,5743,3620,1998,970,438,6775,18292,25318,25593]
["Other Design and Technology","Males",740,2066,4417,6349,5320,3460,2095,1006,2806,13572,25453,26092,"Other Design and Technology","Males",740,2066,4417,6349,5320,3460,2095,1006,2806,13572,25453,26092,"Females",977,1970,2531,2283,1456,805,417,215,2947,7761,10654,10761,"All",1717,4036,6948,8632,6776,4265,2512,1221,5753,21333,36107,36853]
["Applied Engineering","Males",40,152,438,846,854,678,399,242,192,1476,3649,3863,"Applied Engineering","Males",40,152,438,846,854,678,399,242,192,1476,3649,3863,"Females",2,23,49,52,49,34,11,7,25,126,227,228,"All",42,175,487,898,903,712,410,249,217,1602,3876,4091]
["Information Technology","Males",2056,6699,10596,10960,6726,3751,2609,1856,8755,30311,45253,46552,"Information Technology","Males",2056,6699,10596,10960,6726,3751,2609,1856,8755,30311,45253,46552,"Females",2660,6643,8419,7896,4330,2323,1359,953,9303,25618,34583,35324,"All",4716,13342,19015,18856,11056,6074,3968,2809,18058,55929,79836,81876]
["Business Studies","Males",1336,5989,10422,10474,7105,4041,2332,1303,7325,28221,43002,43774,"Business Studies","Males",1336,5989,10422,10474,7105,4041,2332,1303,7325,28221,43002,43774,"Females",1372,5336,7821,6971,4253,2392,1320,684,6708,21500,30149,30552,"All",2708,11325,18243,17445,11358,6433,3652,1987,14033,49721,73151,74326]
["Applied Business","Males",89,442,908,1138,816,581,360,237,531,2577,4571,4852,"Applied Business","Males",89,442,908,1138,816,581,360,237,531,2577,4571,4852,"Females",116,535,742,640,443,301,174,114,651,2033,3065,3185,"All",205,977,1650,1778,1259,882,534,351,1182,4610,7636,8037]
["Home Economics","Males",21,145,471,832,814,639,393,183,166,1469,3498,3594,"Home Economics","Males",21,145,471,832,814,639,393,183,166,1469,3498,3594,"Females",734,2634,4819,5809,4831,3063,1596,695,3368,13996,24181,24583,"All",755,2779,5290,6641,5645,3702,1989,878,3534,15465,27679,28177]
["Geography","Males",8243,16787,22096,26147,18415,10722,5778,2908,25030,73273,111096,112281,"Geography","Males",8243,16787,22096,26147,18415,10722,5778,2908,25030,73273,111096,112281,"Females",11822,19122,20580,19793,12238,7036,3861,1852,30944,71317,96304,96959,"All",20065,35909,42676,45940,30653,17758,9639,4760,55974,144590,207400,209240]
["History","Males",8941,19025,23853,22889,16334,10703,6705,4244,27966,74708,112694,115413,"History","Males",8941,19025,23853,22889,16334,10703,6705,4244,27966,74708,112694,115413,"Females",15241,25028,25944,21919,14846,9323,5520,3237,40269,88132,121058,122846,"All",24182,44053,49797,44808,31180,20026,12225,7481,68235,162840,233752,238259]
["Humanities","Males",62,259,694,1023,947,831,621,390,321,2038,4827,5150,"Humanities","Males",62,259,694,1023,947,831,621,390,321,2038,4827,5150,"Females",154,453,914,1018,899,669,436,236,607,2539,4779,4916,"All",216,712,1608,2041,1846,1500,1057,626,928,4577,9606,10066]
["Economics","Males",234,828,1044,650,331,187,104,51,1062,2756,3429,3481,"Economics","Males",234,828,1044,650,331,187,104,51,1062,2756,3429,3481,"Females",77,380,416,269,150,77,31,24,457,1142,1424,1445,"All",311,1208,1460,919,481,264,135,75,1519,3898,4853,4926]
["Social Studies","Males",300,1750,4024,4916,3744,2486,1611,971,2050,10990,19802,20556,"Social Studies","Males",300,1750,4024,4916,3744,2486,1611,971,2050,10990,19802,20556,"Females",1422,6152,9235,8231,5000,3040,1794,888,7574,25040,35762,36435,"All",1722,7902,13259,13147,8744,5526,3405,1859,9624,36030,55564,56991]
["Arabic","Males",448,282,175,148,88,68,55,40,730,1053,1304,1368,"Arabic","Males",448,282,175,148,88,68,55,40,730,1053,1304,1368,"Females",578,321,212,150,89,72,74,44,899,1261,1540,1598,"All",1026,603,387,298,177,140,129,84,1629,2314,2844,2966]
["Chinese","Males",844,254,160,122,67,14,3,0,1098,1380,1464,1470,"Chinese","Males",844,254,160,122,67,14,3,0,1098,1380,1464,1470,"Females",907,204,120,83,31,7,3,2,1111,1314,1357,1360,"All",1751,458,280,205,98,21,6,2,2209,2694,2821,2830]
["French","Males",5067,7752,11585,18782,15303,6826,2519,928,12819,43186,68762,69121,"French","Males",5067,7752,11585,18782,15303,6826,2519,928,12819,43186,68762,69121,"Females",10106,14165,18785,24868,15916,5440,1731,551,24271,67924,91562,91834,"All",15173,21917,30370,43650,31219,12266,4250,1479,37090,111110,160324,160955]
["German","Males",1922,3389,5738,8159,5600,2127,767,221,5311,19208,27923,28070,"German","Males",1922,3389,5738,8159,5600,2127,767,221,5311,19208,27923,28070,"Females",2939,5097,7556,8317,4504,1409,424,110,8036,23909,30356,30450,"All",4861,8486,13294,16476,10104,3536,1191,331,13347,43117,58279,58520]
["Italian","Males",688,324,269,217,136,59,24,8,1012,1498,1725,1740,"Italian","Males",688,324,269,217,136,59,24,8,1012,1498,1725,1740,"Females",936,460,402,291,156,48,26,8,1396,2089,2327,2328,"All",1624,784,671,508,292,107,50,16,2408,3587,4052,4068]
["Polish","Males",429,802,336,135,65,30,6,19,1231,1702,1822,1860,"Polish","Males",429,802,336,135,65,30,6,19,1231,1702,1822,1860,"Females",861,810,251,84,26,14,5,10,1671,2006,2061,2088,"All",1290,1612,587,219,91,44,11,29,2902,3708,3883,3948]
["Spanish","Males",3533,4958,7002,9259,7113,3434,1657,753,8491,24752,37709,38078,"Spanish","Males",3533,4958,7002,9259,7113,3434,1657,753,8491,24752,37709,38078,"Females",6890,9041,10287,11341,7098,2921,1170,481,15931,37559,49229,49475,"All",10423,13999,17289,20600,14211,6355,2827,1234,24422,62311,86938,87553]
["Urdu","Males",91,289,343,322,278,152,86,26,380,1045,1587,1614,"Urdu","Males",91,289,343,322,278,152,86,26,380,1045,1587,1614,"Females",361,679,603,440,222,104,40,27,1040,2083,2476,2497,"All",452,968,946,762,500,256,126,53,1420,3128,4063,4111]
["Other Modern Languages","Males",1533,1254,881,542,279,136,80,31,2787,4210,4736,4791,"Other Modern Languages","Males",1533,1254,881,542,279,136,80,31,2787,4210,4736,4791,"Females",2032,1656,912,477,234,109,50,32,3688,5077,5502,5563,"All",3565,2910,1793,1019,513,245,130,63,6475,9287,10238,10354]
["Classical Civilisation","Males",183,509,542,434,252,118,56,32,692,1668,2126,2145,"Classical Civilisation","Males",183,509,542,434,252,118,56,32,692,1668,2126,2145,"Females",344,547,448,310,180,80,38,15,891,1649,1962,1972,"All",527,1056,990,744,432,198,94,47,1583,3317,4088,4117]
["Classical Greek","Males",416,155,70,32,15,4,5,4,571,673,701,705,"Classical Greek","Males",416,155,70,32,15,4,5,4,571,673,701,705,"Females",312,93,33,10,6,5,5,1,405,448,465,468,"All",728,248,103,42,21,9,10,5,976,1121,1166,1173]
["Latin","Males",1747,1188,647,355,197,85,41,25,2935,3937,4285,4302,"Latin","Males",1747,1188,647,355,197,85,41,25,2935,3937,4285,4302,"Females",2128,1245,571,347,155,67,31,9,3373,4291,4553,4566,"All",3875,2433,1218,702,352,152,72,34,6308,8228,8838,8868]
["Other Classical Studies","Males",113,174,163,107,72,62,30,20,287,557,741,769,"Other Classical Studies","Males",113,174,163,107,72,62,30,20,287,557,741,769,"Females",126,230,176,151,77,45,16,15,356,683,836,859,"All",239,404,339,258,149,107,46,35,643,1240,1577,1628]
["Applied Art and Design","Males",5,19,62,137,77,32,19,9,24,223,360,367,"Applied Art and Design","Males",5,19,62,137,77,32,19,9,24,223,360,367,"Females",15,72,134,166,66,21,8,0,87,387,482,489,"All",20,91,196,303,143,53,27,9,111,610,842,856]
["Art and Design","Males",2759,4638,10526,18969,9981,5702,3052,1428,7397,36892,57055,58109,"Art and Design","Males",2759,4638,10526,18969,9981,5702,3052,1428,7397,36892,57055,58109,"Females",12664,18830,30594,31327,11324,4639,2035,750,31494,93415,112163,112969,"All",15423,23468,41120,50296,21305,10341,5087,2178,38891,130307,169218,171078]
["Communication Studies","Males",94,389,790,1170,945,620,387,209,483,2443,4604,4785,"Communication Studies","Males",94,389,790,1170,945,620,387,209,483,2443,4604,4785,"Females",416,832,1164,1094,713,389,237,121,1248,3506,4966,5058,"All",510,1221,1954,2264,1658,1009,624,330,1731,5949,9570,9843]
["Drama","Males",953,3616,6174,7050,4936,2566,1166,481,4569,17793,26942,27225,"Drama","Males",953,3616,6174,7050,4936,2566,1166,481,4569,17793,26942,27225,"Females",2806,8721,12029,10370,5760,2429,993,382,11527,33926,43490,43759,"All",3759,12337,18203,17420,10696,4995,2159,863,16096,51719,70432,70984]
["English Literature","Males",7158,25356,50488,53169,32849,14472,5722,2156,32514,136171,191370,193518,"English Literature","Males",7158,25356,50488,53169,32849,14472,5722,2156,32514,136171,191370,193518,"Females",16296,46357,67935,49704,22005,7579,2500,899,62653,180292,213275,214587,"All",23454,71713,118423,102873,54854,22051,8222,3055,95167,316463,404645,408105]
["English Studies","Males",0,7,42,118,101,85,53,27,7,167,433,445,"English Studies","Males",0,7,42,118,101,85,53,27,7,167,433,445,"Females",0,12,57,104,60,37,40,16,12,173,326,338,"All",0,19,99,222,161,122,93,43,19,340,759,783]
["General Studies","Males",73,275,522,733,831,697,574,457,348,1603,4162,4595,"General Studies","Males",73,275,522,733,831,697,574,457,348,1603,4162,4595,"Females",119,418,623,862,911,634,409,203,537,2022,4179,4421,"All",192,693,1145,1595,1742,1331,983,660,885,3625,8341,9016]
["Health and Social Care","Males",2,24,61,107,161,130,86,79,26,194,650,741,"Health and Social Care","Males",2,24,61,107,161,130,86,79,26,194,650,741,"Females",322,1138,2469,3130,2396,1523,991,533,1460,7059,12502,12910,"All",324,1162,2530,3237,2557,1653,1077,612,1486,7253,13152,13651]
["Hospitality and Catering","Males",2,42,138,219,253,135,71,10,44,401,870,880,"Hospitality and Catering","Males",2,42,138,219,253,135,71,10,44,401,870,880,"Females",43,188,341,337,226,143,52,7,231,909,1337,1358,"All",45,230,479,556,479,278,123,17,275,1310,2207,2238]
["Leisure and Tourism","Males",11,71,202,440,539,613,468,411,82,724,2755,3241,"Leisure and Tourism","Males",11,71,202,440,539,613,468,411,82,724,2755,3241,"Females",55,268,437,581,581,435,329,265,323,1341,2951,3185,"All",66,339,639,1021,1120,1048,797,676,405,2065,5706,6426]
["Manufacturing","Males",0,2,13,19,30,27,19,10,2,34,120,122,"Manufacturing","Males",0,2,13,19,30,27,19,10,2,34,120,122,"Females",0,1,3,6,1,0,3,0,1,10,14,14,"All",0,3,16,25,31,27,22,10,3,44,134,136]
["Media/Film/TV","Males",390,1921,5021,7135,5534,3148,1777,790,2311,14467,25716,26290,"Media/Film/TV","Males",390,1921,5021,7135,5534,3148,1777,790,2311,14467,25716,26290,"Females",1259,4554,6915,6255,3399,1455,659,318,5813,18983,24814,25038,"All",1649,6475,11936,13390,8933,4603,2436,1108,8124,33450,50530,51328]
["Music","Males",1796,4293,4941,4086,2674,1623,751,422,6089,15116,20586,20902,"Music","Males",1796,4293,4941,4086,2674,1623,751,422,6089,15116,20586,20902,"Females",2013,5114,5752,4113,2388,1206,520,255,7127,16992,21361,21544,"All",3809,9407,10693,8199,5062,2829,1271,677,13216,32108,41947,42446]
["Performing Arts","Males",50,93,190,320,236,197,164,70,143,653,1320,1362,"Performing Arts","Males",50,93,190,320,236,197,164,70,143,653,1320,1362,"Females",296,363,682,772,535,261,128,64,659,2113,3101,3142,"All",346,456,872,1092,771,458,292,134,802,2766,4421,4504]
["Physical Education","Males",1921,9603,16984,18448,12567,6277,2096,496,11524,46956,68392,68621,"Physical Education","Males",1921,9603,16984,18448,12567,6277,2096,496,11524,46956,68392,68621,"Females",2674,8364,10825,10622,7508,3830,1478,426,11038,32485,45727,45920,"All",4595,17967,27809,29070,20075,10107,3574,922,22562,79441,114119,114541]
["Religious Studies","Males",8405,18393,26288,24517,16186,10941,7133,4733,26798,77603,116596,120566,"Religious Studies","Males",8405,18393,26288,24517,16186,10941,7133,4733,26798,77603,116596,120566,"Females",20591,31583,32545,23361,13305,7981,4570,2693,52174,108080,136629,138793,"All",28996,49976,58833,47878,29491,18922,11703,7426,78972,185683,253225,259359]
["Statistics","Males",1244,4319,5934,7227,4031,1552,727,439,5563,18724,25473,26152,"Statistics","Males",1244,4319,5934,7227,4031,1552,727,439,5563,18724,25473,26152,"Females",1219,4063,5616,6727,2959,1108,512,251,5282,17625,22455,22902,"All",2463,8382,11550,13954,6990,2660,1239,690,10845,36349,47928,49054]
["Vocational Studies","Males",196,1097,3122,5189,4669,2691,1235,500,1293,9604,18699,19028,"Vocational Studies","Males",196,1097,3122,5189,4669,2691,1235,500,1293,9604,18699,19028,"Females",710,2869,5092,5526,3775,1852,759,283,3579,14197,20866,21043,"All",906,3966,8214,10715,8444,4543,1994,783,4872,23801,39565,40071]
["All Subjects","Males",127130,293393,481172,612637,372246,192574,102798,54831,420523,1514332,2236781,2284001,"All Subjects","Males",127130,293393,481172,612637,372246,192574,102798,54831,420523,1514332,2236781,2284001,"Females",203600,411966,574167,598278,306024,139329,69479,35885,615566,1788011,2338728,2372286,"All",330730,705359,1055339,1210915,678270,331903,172277,90716,1036089,3302343,4575509,4656287]

{"sheet":"2014 DISC3C","index":12,"n_rows":61,"n_cols":40,"rows_kept":61,"cut":false,"hidden":true,"merged":[]}
["Subject","(No column name)","*","A","B","C","D","E","F","G","AstarA","AstarC","AstarG","Total","(No column name)","*","A","B","C","D","E","F","G","AstarA","AstarC","AstarG","Total","(No column name)","*","A","B","C","D","E","F","G","AstarA","AstarC","AstarG","Total"]
["English","Males",6101,21781,48418,72523,45407,20850,8737,3385,27882,148823,227202,229883,"Females",13885,39842,65881,67342,30373,10355,3583,1376,53727,186950,232637,234194,"All",19986,61623,114299,139865,75780,31205,12320,4761,81609,335773,459839,464077]
["Mathematics","Males",21508,34797,56177,91309,37250,18835,14628,11817,56305,203791,286321,302896,"Females",18832,34693,57211,90975,36556,17371,13072,10290,53525,201711,279000,293510,"All",40340,69490,113388,182284,73806,36206,27700,22107,109830,405502,565321,596406]
["Core Science","Males",1804,10170,29825,61058,34771,19561,10300,4337,11974,102857,171826,175047,"Females",3038,15101,36589,61211,31193,16599,8232,3232,18139,115939,175195,177855,"All",4842,25271,66414,122269,65964,36160,18532,7569,30113,218796,347021,352902]
["Additional Science","Males",2566,10592,26870,42608,28740,11974,5139,2000,13158,82636,130489,131575,"Females",3705,14289,32714,45164,27147,10249,4027,1468,17994,95872,138763,139627,"All",6271,24881,59584,87772,55887,22223,9166,3468,31152,178508,269252,271202]
["Further Additional Science","Males",1065,2192,2873,2660,1297,383,81,26,3257,8790,10577,10607,"Females",1208,2342,2920,2468,1103,289,55,24,3550,8938,10409,10429,"All",2273,4534,5793,5128,2400,672,136,50,6807,17728,20986,21036]
["Additional Applied Science","Males",0,59,344,1324,1940,1554,858,339,59,1727,6418,6616,"Females",10,81,653,1768,2053,1236,570,197,91,2512,6568,6697,"All",10,140,997,3092,3993,2790,1428,536,150,4239,12986,13313]
["Physics","Males",9455,17793,19022,13347,4401,802,187,65,27248,59617,65072,65136,"Females",10091,17292,18378,12771,4080,749,132,48,27383,58532,63541,63604,"All",19546,35085,37400,26118,8481,1551,319,113,54631,118149,128613,128740]
["Chemistry","Males",8610,17532,19172,13913,5070,1100,253,86,26142,59227,65736,65808,"Females",10691,18731,18121,11415,3781,793,178,51,29422,58958,63761,63836,"All",19301,36263,37293,25328,8851,1893,431,137,55564,118185,129497,129644]
["Biological Sciences","Males",7518,17706,20327,14679,5053,1152,426,186,25224,60230,67047,67260,"Females",10952,19671,18814,11254,3608,792,319,137,30623,60691,65547,65692,"All",18470,37377,39141,25933,8661,1944,745,323,55847,120921,132594,132952]
["Computer Science","Males",809,2227,2865,2736,1885,1185,728,462,3036,8637,12897,13420,"Females",197,460,514,503,322,176,88,40,657,1674,2300,2372,"All",1006,2687,3379,3239,2207,1361,816,502,3693,10311,15197,15792]
["Other Sciences","Males",433,613,689,714,655,502,354,206,1046,2449,4166,4283,"Females",113,247,464,557,446,329,212,137,360,1381,2505,2579,"All",546,860,1153,1271,1101,831,566,343,1406,3830,6671,6862]
["D & T: Electronic Products","Males",534,1116,1648,1611,1141,762,469,261,1650,4909,7542,7692,"Females",107,164,154,83,60,37,10,8,271,508,623,628,"All",641,1280,1802,1694,1201,799,479,269,1921,5417,8165,8320]
["D & T: Food Technology","Males",226,874,2106,3637,3468,2347,1364,613,1100,6843,14635,14951,"Females",1849,4320,6072,5940,3827,2044,980,384,6169,18181,25416,25635,"All",2075,5194,8178,9577,7295,4391,2344,997,7269,25024,40051,40586]
["D & T: Graphic Products","Males",583,1795,3515,4765,4157,2699,1728,1040,2378,10658,20282,20953,"Females",1012,2395,3037,2750,1815,971,523,266,3407,9194,12769,12921,"All",1595,4190,6552,7515,5972,3670,2251,1306,5785,19852,33051,33874]
["D & T: Resistant Materials","Males",1296,3973,8216,11007,8864,5728,3405,1648,5269,24492,44137,45024,"Females",676,1431,1851,1644,1072,569,287,160,2107,5602,7690,7760,"All",1972,5404,10067,12651,9936,6297,3692,1808,7376,30094,51827,52784]
["D & T: Systems & Control","Males",251,408,631,681,512,294,185,87,659,1971,3049,3091,"Females",7,30,29,34,31,10,6,1,37,100,148,150,"All",258,438,660,715,543,304,191,88,696,2071,3197,3241]
["D & T: Textiles Technology","Males",24,33,79,162,164,144,120,48,57,298,774,820,"Females",2472,4241,5694,5581,3456,1854,850,390,6713,17988,24538,24767,"All",2496,4274,5773,5743,3620,1998,970,438,6770,18286,25312,25587]
["Other Design and Technology","Males",737,2063,4413,6347,5320,3460,2095,1006,2800,13560,25441,26080,"Females",971,1953,2527,2283,1456,805,417,215,2924,7734,10627,10734,"All",1708,4016,6940,8630,6776,4265,2512,1221,5724,21294,36068,36814]
["Applied Engineering","Males",40,152,438,846,854,678,399,242,192,1476,3649,3863,"Females",2,23,49,52,49,34,11,7,25,126,227,228,"All",42,175,487,898,903,712,410,249,217,1602,3876,4091]
["Information Technology","Males",2052,6680,10593,10960,6725,3751,2609,1856,8732,30285,45226,46525,"Females",2656,6614,8410,7896,4330,2323,1359,953,9270,25576,34541,35282,"All",4708,13294,19003,18856,11055,6074,3968,2809,18002,55861,79767,81807]
["Business Studies","Males",1335,5982,10406,10468,7105,4041,2332,1303,7317,28191,42972,43744,"Females",1371,5334,7821,6971,4253,2392,1320,684,6705,21497,30146,30549,"All",2706,11316,18227,17439,11358,6433,3652,1987,14022,49688,73118,74293]
["Applied Business","Males",89,442,908,1138,816,581,360,237,531,2577,4571,4852,"Females",116,535,742,640,443,301,174,114,651,2033,3065,3185,"All",205,977,1650,1778,1259,882,534,351,1182,4610,7636,8037]
["Home Economics","Males",21,145,471,832,814,639,393,183,166,1469,3498,3594,"Females",734,2634,4819,5809,4831,3063,1596,695,3368,13996,24181,24583,"All",755,2779,5290,6641,5645,3702,1989,878,3534,15465,27679,28177]
["Geography","Males",8235,16773,22086,26144,18415,10722,5778,2908,25008,73238,111061,112246,"Females",11812,19105,20568,19791,12238,7036,3861,1852,30917,71276,96263,96918,"All",20047,35878,42654,45935,30653,17758,9639,4760,55925,144514,207324,209164]
["History","Males",8938,19012,23832,22875,16334,10703,6705,4244,27950,74657,112643,115362,"Females",15224,24991,25930,21913,14846,9323,5520,3237,40215,88058,120984,122772,"All",24162,44003,49762,44788,31180,20026,12225,7481,68165,162715,233627,238134]
["Humanities","Males",62,259,694,1023,947,831,621,390,321,2038,4827,5150,"Females",154,453,914,1018,899,669,436,236,607,2539,4779,4916,"All",216,712,1608,2041,1846,1500,1057,626,928,4577,9606,10066]
["Economics","Males",234,828,1043,650,331,187,104,51,1062,2755,3428,3480,"Females",77,379,416,269,150,77,31,24,456,1141,1423,1444,"All",311,1207,1459,919,481,264,135,75,1518,3896,4851,4924]
["Social Studies","Males",299,1747,4022,4916,3744,2486,1611,971,2046,10984,19796,20550,"Females",1418,6145,9233,8229,4999,3040,1794,888,7563,25025,35746,36419,"All",1717,7892,13255,13145,8743,5526,3405,1859,9609,36009,55542,56969]
["Arabic","Males",396,270,173,147,88,68,54,40,666,986,1236,1300,"Females",499,302,206,150,88,72,74,44,801,1157,1435,1493,"All",895,572,379,297,176,140,128,84,1467,2143,2671,2793]
["Chinese","Males",748,247,160,122,67,14,3,0,995,1277,1361,1367,"Females",790,200,119,83,31,7,3,2,990,1192,1235,1238,"All",1538,447,279,205,98,21,6,2,1985,2469,2596,2605]
["French","Males",4985,7702,11577,18781,15303,6826,2519,928,12687,43045,68621,68980,"Females",9989,14114,18773,24866,15916,5440,1731,551,24103,67742,91380,91652,"All",14974,21816,30350,43647,31219,12266,4250,1479,36790,110787,160001,160632]
["German","Males",1845,3354,5731,8157,5600,2127,767,221,5199,19087,27802,27949,"Females",2857,5082,7550,8317,4504,1409,424,110,7939,23806,30253,30347,"All",4702,8436,13281,16474,10104,3536,1191,331,13138,42893,58055,58296]
["Italian","Males",647,320,269,216,136,59,24,8,967,1452,1679,1694,"Females",888,459,401,290,156,48,26,8,1347,2038,2276,2277,"All",1535,779,670,506,292,107,50,16,2314,3490,3955,3971]
["Polish","Males",336,696,312,130,65,30,6,18,1032,1474,1593,1631,"Females",656,668,229,79,26,14,5,10,1324,1632,1687,1713,"All",992,1364,541,209,91,44,11,28,2356,3106,3280,3344]
["Spanish","Males",3462,4945,6997,9257,7113,3434,1657,753,8407,24661,37618,37987,"Females",6738,9005,10282,11340,7098,2921,1170,481,15743,37365,49035,49281,"All",10200,13950,17279,20597,14211,6355,2827,1234,24150,62026,86653,87268]
["Urdu","Males",82,276,333,321,278,152,86,26,358,1012,1554,1581,"Females",330,665,594,438,221,103,40,27,995,2027,2418,2439,"All",412,941,927,759,499,255,126,53,1353,3039,3972,4020]
["Other Modern Languages","Males",1372,1169,853,533,279,136,80,31,2541,3927,4453,4508,"Females",1731,1515,877,466,233,108,50,32,3246,4589,5012,5073,"All",3103,2684,1730,999,512,244,130,63,5787,8516,9465,9581]
["Classical Civilisation","Males",183,509,542,434,252,118,56,32,692,1668,2126,2145,"Females",344,547,448,310,180,80,38,15,891,1649,1962,1972,"All",527,1056,990,744,432,198,94,47,1583,3317,4088,4117]
["Classical Greek","Males",416,155,70,32,15,4,5,4,571,673,701,705,"Females",312,93,33,10,6,5,5,1,405,448,465,468,"All",728,248,103,42,21,9,10,5,976,1121,1166,1173]
["Latin","Males",1745,1187,646,355,197,85,41,25,2932,3933,4281,4298,"Females",2128,1244,571,347,155,67,31,9,3372,4290,4552,4565,"All",3873,2431,1217,702,352,152,72,34,6304,8223,8833,8863]
["Other Classical Studies","Males",109,169,156,103,72,62,30,20,278,537,721,749,"Females",116,225,174,151,77,45,16,15,341,666,819,842,"All",225,394,330,254,149,107,46,35,619,1203,1540,1591]
["Applied Art and Design","Males",5,18,62,137,77,32,19,9,23,222,359,366,"Females",15,72,134,166,66,21,8,0,87,387,482,489,"All",20,90,196,303,143,53,27,9,110,609,841,855]
["Art and Design","Males",2753,4626,10501,18964,9980,5702,3052,1428,7379,36844,57006,58060,"Females",12633,18770,30545,31310,11324,4639,2035,750,31403,93258,112006,112812,"All",15386,23396,41046,50274,21304,10341,5087,2178,38782,130102,169012,170872]
["Communication Studies","Males",94,389,790,1168,945,620,387,209,483,2441,4602,4783,"Females",416,832,1161,1093,713,389,237,121,1248,3502,4962,5054,"All",510,1221,1951,2261,1658,1009,624,330,1731,5943,9564,9837]
["Drama","Males",952,3613,6170,7047,4936,2566,1166,481,4565,17782,26931,27214,"Females",2795,8700,12004,10364,5759,2429,993,382,11495,33863,43426,43695,"All",3747,12313,18174,17411,10695,4995,2159,863,16060,51645,70357,70909]
["English Literature","Males",7155,25333,50469,53161,32848,14472,5722,2156,32488,136118,191316,193464,"Females",16282,46330,67896,49692,22004,7579,2500,899,62612,180200,213182,214494,"All",23437,71663,118365,102853,54852,22051,8222,3055,95100,316318,404498,407958]
["English Studies","Males",0,7,42,118,101,85,53,27,7,167,433,445,"Females",0,12,57,104,60,37,40,16,12,173,326,338,"All",0,19,99,222,161,122,93,43,19,340,759,783]
["General Studies","Males",73,274,518,729,831,697,574,457,347,1594,4153,4586,"Females",119,414,620,861,910,634,409,203,533,2014,4170,4412,"All",192,688,1138,1590,1741,1331,983,660,880,3608,8323,8998]
["Health and Social Care","Males",2,24,61,107,161,130,86,79,26,194,650,741,"Females",322,1138,2469,3130,2396,1523,991,533,1460,7059,12502,12910,"All",324,1162,2530,3237,2557,1653,1077,612,1486,7253,13152,13651]
["Hospitality and Catering","Males",2,42,138,219,253,135,71,10,44,401,870,880,"Females",43,188,341,337,226,143,52,7,231,909,1337,1358,"All",45,230,479,556,479,278,123,17,275,1310,2207,2238]
["Leisure and Tourism","Males",11,71,202,440,539,613,468,411,82,724,2755,3241,"Females",55,268,437,581,581,435,329,265,323,1341,2951,3185,"All",66,339,639,1021,1120,1048,797,676,405,2065,5706,6426]
["Manufacturing","Males",0,2,13,19,30,27,19,10,2,34,120,122,"Females",0,1,3,6,1,0,3,0,1,10,14,14,"All",0,3,16,25,31,27,22,10,3,44,134,136]
["Media/Film/TV","Males",388,1917,5017,7133,5531,3148,1777,790,2305,14455,25701,26275,"Females",1255,4550,6911,6250,3398,1455,659,318,5805,18966,24796,25020,"All",1643,6467,11928,13383,8929,4603,2436,1108,8110,33421,50497,51295]
["Music","Males",1787,4284,4939,4085,2674,1623,751,422,6071,15095,20565,20881,"Females",2004,5105,5749,4113,2388,1206,520,255,7109,16971,21340,21523,"All",3791,9389,10688,8198,5062,2829,1271,677,13180,32066,41905,42404]
["Performing Arts","Males",50,93,190,320,236,197,164,70,143,653,1320,1362,"Females",295,362,682,772,535,261,128,64,657,2111,3099,3140,"All",345,455,872,1092,771,458,292,134,800,2764,4419,4502]
["Physical Education","Males",1919,9602,16981,18447,12567,6277,2096,496,11521,46949,68385,68614,"Females",2669,8349,10816,10618,7508,3830,1478,426,11018,32452,45694,45887,"All",4588,17951,27797,29065,20075,10107,3574,922,22539,79401,114079,114501]
["Religious Studies","Males",8331,18304,26239,24496,16186,10940,7133,4733,26635,77370,116362,120332,"Females",20439,31447,32477,23337,13305,7981,4570,2693,51886,107700,136249,138413,"All",28770,49751,58716,47833,29491,18921,11703,7426,78521,185070,252611,258745]
["Statistics","Males",1242,4318,5934,7227,4031,1552,727,439,5560,18721,25470,26149,"Females",1214,4061,5616,6727,2959,1108,512,251,5275,17618,22448,22895,"All",2456,8379,11550,13954,6990,2660,1239,690,10835,36339,47918,49044]
["Vocational Studies","Males",196,1097,3121,5187,4669,2691,1235,500,1293,9601,18696,19025,"Females",709,2868,5085,5523,3775,1852,759,283,3577,14185,20854,21031,"All",905,3965,8206,10710,8444,4543,1994,783,4870,23786,39550,40056]
["All Subjects","Males",126111,292757,480889,612525,372240,192573,102797,54830,418868,1512282,2234722,2281942,"Females",202023,411082,573785,598162,306016,139327,69479,35885,613105,1785052,2335759,2369316,"All",328134,703839,1054674,1210687,678256,331900,172276,90715,1031973,3297334,4570481,4651258]

{"sheet":"2014Comparison DISC3 and DISC3B","index":13,"n_rows":61,"n_cols":41,"rows_kept":61,"cut":false,"hidden":true,"merged":[]}
["Subject","(No column name)","*","A","B","C","D","E","F","G","AstarA","AstarC","AstarG","Total","(No column name)","*","A","B","C","D","E","F","G","AstarA","AstarC","AstarG","Total","(No column name)","*","A","B","C","D","E","F","G","AstarA","AstarC","AstarG","Total"]
["English","Males",{"$f":"'2014 DISC3B'!C2-'2014 DISC3'!C2","v":21},{"$f":"'2014 DISC3B'!D2-'2014 DISC3'!D2","v":51},{"$f":"'2014 DISC3B'!E2-'2014 DISC3'!E2","v":150},{"$f":"'2014 DISC3B'!F2-'2014 DISC3'!F2","v":429},{"$f":"'2014 DISC3B'!G2-'2014 DISC3'!G2","v":479},{"$f":"'2014 DISC3B'!H2-'2014 DISC3'!H2","v":228},{"$f":"'2014 DISC3B'!I2-'2014 DISC3'!I2","v":99},{"$f":"'2014 DISC3B'!J2-'2014 DISC3'!J2","v":29},{"$f":"'2014 DISC3B'!K2-'2014 DISC3'!K2","v":72},{"$f":"'2014 DISC3B'!L2-'2014 DISC3'!L2","v":651},{"$f":"'2014 DISC3B'!M2-'2014 DISC3'!M2","v":1486},{"$f":"'2014 DISC3B'!N2-'2014 DISC3'!N2","v":1513},"Females",{"$f":"'2014 DISC3B'!AD2-'2014 DISC3'!P2","v":21},{"$f":"'2014 DISC3B'!AE2-'2014 DISC3'!Q2","v":103},{"$f":"'2014 DISC3B'!AF2-'2014 DISC3'!R2","v":225},{"$f":"'2014 DISC3B'!AG2-'2014 DISC3'!S2","v":386},{"$f":"'2014 DISC3B'!AH2-'2014 DISC3'!T2","v":305},{"$f":"'2014 DISC3B'!AI2-'2014 DISC3'!U2","v":106},{"$f":"'2014 DISC3B'!AJ2-'2014 DISC3'!V2","v":35},{"$f":"'2014 DISC3B'!AK2-'2014 DISC3'!W2","v":10},{"$f":"'2014 DISC3B'!AL2-'2014 DISC3'!X2","v":124},{"$f":"'2014 DISC3B'!AM2-'2014 DISC3'!Y2","v":735},{"$f":"'2014 DISC3B'!AN2-'2014 DISC3'!Z2","v":1191},{"$f":"'2014 DISC3B'!AO2-'2014 DISC3'!AA2","v":1208},"All",{"$f":"'2014 DISC3B'!AQ2-'2014 DISC3'!AC2","v":42},{"$f":"'2014 DISC3B'!AR2-'2014 DISC3'!AD2","v":154},{"$f":"'2014 DISC3B'!AS2-'2014 DISC3'!AE2","v":375},{"$f":"'2014 DISC3B'!AT2-'2014 DISC3'!AF2","v":815},{"$f":"'2014 DISC3B'!AU2-'2014 DISC3'!AG2","v":784},{"$f":"'2014 DISC3B'!AV2-'2014 DISC3'!AH2","v":334},{"$f":"'2014 DISC3B'!AW2-'2014 DISC3'!AI2","v":134},{"$f":"'2014 DISC3B'!AX2-'2014 DISC3'!AJ2","v":39},{"$f":"'2014 DISC3B'!AY2-'2014 DISC3'!AK2","v":196},{"$f":"'2014 DISC3B'!AZ2-'2014 DISC3'!AL2","v":1386},{"$f":"'2014 DISC3B'!BA2-'2014 DISC3'!AM2","v":2677},{"$f":"'2014 DISC3B'!BB2-'2014 DISC3'!AN2","v":2721}]
["Mathematics","Males",{"$f":"'2014 DISC3B'!C3-'2014 DISC3'!C3","v":182},{"$f":"'2014 DISC3B'!D3-'2014 DISC3'!D3","v":63},{"$f":"'2014 DISC3B'!E3-'2014 DISC3'!E3","v":4},{"$f":"'2014 DISC3B'!F3-'2014 DISC3'!F3","v":6},{"$f":"'2014 DISC3B'!G3-'2014 DISC3'!G3","v":1},{"$f":"'2014 DISC3B'!H3-'2014 DISC3'!H3","v":0},{"$f":"'2014 DISC3B'!I3-'2014 DISC3'!I3","v":0},{"$f":"'2014 DISC3B'!J3-'2014 DISC3'!J3","v":0},{"$f":"'2014 DISC3B'!K3-'2014 DISC3'!K3","v":245},{"$f":"'2014 DISC3B'!L3-'2014 DISC3'!L3","v":255},{"$f":"'2014 DISC3B'!M3-'2014 DISC3'!M3","v":256},{"$f":"'2014 DISC3B'!N3-'2014 DISC3'!N3","v":256},"Females",{"$f":"'2014 DISC3B'!AD3-'2014 DISC3'!P3","v":141},{"$f":"'2014 DISC3B'!AE3-'2014 DISC3'!Q3","v":37},{"$f":"'2014 DISC3B'!AF3-'2014 DISC3'!R3","v":3},{"$f":"'2014 DISC3B'!AG3-'2014 DISC3'!S3","v":2},{"$f":"'2014 DISC3B'!AH3-'2014 DISC3'!T3","v":0},{"$f":"'2014 DISC3B'!AI3-'2014 DISC3'!U3","v":0},{"$f":"'2014 DISC3B'!AJ3-'2014 DISC3'!V3","v":0},{"$f":"'2014 DISC3B'!AK3-'2014 DISC3'!W3","v":0},{"$f":"'2014 DISC3B'!AL3-'2014 DISC3'!X3","v":178},{"$f":"'2014 DISC3B'!AM3-'2014 DISC3'!Y3","v":183},{"$f":"'2014 DISC3B'!AN3-'2014 DISC3'!Z3","v":183},{"$f":"'2014 DISC3B'!AO3-'2014 DISC3'!AA3","v":183},"All",{"$f":"'2014 DISC3B'!AQ3-'2014 DISC3'!AC3","v":323},{"$f":"'2014 DISC3B'!AR3-'2014 DISC3'!AD3","v":100},{"$f":"'2014 DISC3B'!AS3-'2014 DISC3'!AE3","v":7},{"$f":"'2014 DISC3B'!AT3-'2014 DISC3'!AF3","v":8},{"$f":"'2014 DISC3B'!AU3-'2014 DISC3'!AG3","v":1},{"$f":"'2014 DISC3B'!AV3-'2014 DISC3'!AH3","v":0},{"$f":"'2014 DISC3B'!AW3-'2014 DISC3'!AI3","v":0},{"$f":"'2014 DISC3B'!AX3-'2014 DISC3'!AJ3","v":0},{"$f":"'2014 DISC3B'!AY3-'2014 DISC3'!AK3","v":423},{"$f":"'2014 DISC3B'!AZ3-'2014 DISC3'!AL3","v":438},{"$f":"'2014 DISC3B'!BA3-'2014 DISC3'!AM3","v":439},{"$f":"'2014 DISC3B'!BB3-'2014 DISC3'!AN3","v":439}]
["Core Science","Males",{"$f":"'2014 DISC3B'!C4-'2014 DISC3'!C4","v":0},{"$f":"'2014 DISC3B'!D4-'2014 DISC3'!D4","v":3},{"$f":"'2014 DISC3B'!E4-'2014 DISC3'!E4","v":1},{"$f":"'2014 DISC3B'!F4-'2014 DISC3'!F4","v":58},{"$f":"'2014 DISC3B'!G4-'2014 DISC3'!G4","v":1039},{"$f":"'2014 DISC3B'!H4-'2014 DISC3'!H4","v":1108},{"$f":"'2014 DISC3B'!I4-'2014 DISC3'!I4","v":712},{"$f":"'2014 DISC3B'!J4-'2014 DISC3'!J4","v":220},{"$f":"'2014 DISC3B'!K4-'2014 DISC3'!K4","v":3},{"$f":"'2014 DISC3B'!L4-'2014 DISC3'!L4","v":62},{"$f":"'2014 DISC3B'!M4-'2014 DISC3'!M4","v":3141},{"$f":"'2014 DISC3B'!N4-'2014 DISC3'!N4","v":3231},"Females",{"$f":"'2014 DISC3B'!AD4-'2014 DISC3'!P4","v":0},{"$f":"'2014 DISC3B'!AE4-'2014 DISC3'!Q4","v":1},{"$f":"'2014 DISC3B'!AF4-'2014 DISC3'!R4","v":2},{"$f":"'2014 DISC3B'!AG4-'2014 DISC3'!S4","v":62},{"$f":"'2014 DISC3B'!AH4-'2014 DISC3'!T4","v":1042},{"$f":"'2014 DISC3B'!AI4-'2014 DISC3'!U4","v":1123},{"$f":"'2014 DISC3B'!AJ4-'2014 DISC3'!V4","v":715},{"$f":"'2014 DISC3B'!AK4-'2014 DISC3'!W4","v":225},{"$f":"'2014 DISC3B'!AL4-'2014 DISC3'!X4","v":1},{"$f":"'2014 DISC3B'!AM4-'2014 DISC3'!Y4","v":65},{"$f":"'2014 DISC3B'!AN4-'2014 DISC3'!Z4","v":3170},{"$f":"'2014 DISC3B'!AO4-'2014 DISC3'!AA4","v":3257},"All",{"$f":"'2014 DISC3B'!AQ4-'2014 DISC3'!AC4","v":0},{"$f":"'2014 DISC3B'!AR4-'2014 DISC3'!AD4","v":4},{"$f":"'2014 DISC3B'!AS4-'2014 DISC3'!AE4","v":3},{"$f":"'2014 DISC3B'!AT4-'2014 DISC3'!AF4","v":120},{"$f":"'2014 DISC3B'!AU4-'2014 DISC3'!AG4","v":2081},{"$f":"'2014 DISC3B'!AV4-'2014 DISC3'!AH4","v":2231},{"$f":"'2014 DISC3B'!AW4-'2014 DISC3'!AI4","v":1427},{"$f":"'2014 DISC3B'!AX4-'2014 DISC3'!AJ4","v":445},{"$f":"'2014 DISC3B'!AY4-'2014 DISC3'!AK4","v":4},{"$f":"'2014 DISC3B'!AZ4-'2014 DISC3'!AL4","v":127},{"$f":"'2014 DISC3B'!BA4-'2014 DISC3'!AM4","v":6311},{"$f":"'2014 DISC3B'!BB4-'2014 DISC3'!AN4","v":6488}]
["Additional Science","Males",{"$f":"'2014 DISC3B'!C5-'2014 DISC3'!C5","v":0},{"$f":"'2014 DISC3B'!D5-'2014 DISC3'!D5","v":0},{"$f":"'2014 DISC3B'!E5-'2014 DISC3'!E5","v":0},{"$f":"'2014 DISC3B'!F5-'2014 DISC3'!F5","v":0},{"$f":"'2014 DISC3B'!G5-'2014 DISC3'!G5","v":0},{"$f":"'2014 DISC3B'!H5-'2014 DISC3'!H5","v":0},{"$f":"'2014 DISC3B'!I5-'2014 DISC3'!I5","v":0},{"$f":"'2014 DISC3B'!J5-'2014 DISC3'!J5","v":0},{"$f":"'2014 DISC3B'!K5-'2014 DISC3'!K5","v":0},{"$f":"'2014 DISC3B'!L5-'2014 DISC3'!L5","v":0},{"$f":"'2014 DISC3B'!M5-'2014 DISC3'!M5","v":0},{"$f":"'2014 DISC3B'!N5-'2014 DISC3'!N5","v":0},"Females",{"$f":"'2014 DISC3B'!AD5-'2014 DISC3'!P5","v":0},{"$f":"'2014 DISC3B'!AE5-'2014 DISC3'!Q5","v":0},{"$f":"'2014 DISC3B'!AF5-'2014 DISC3'!R5","v":0},{"$f":"'2014 DISC3B'!AG5-'2014 DISC3'!S5","v":0},{"$f":"'2014 DISC3B'!AH5-'2014 DISC3'!T5","v":0},{"$f":"'2014 DISC3B'!AI5-'2014 DISC3'!U5","v":0},{"$f":"'2014 DISC3B'!AJ5-'2014 DISC3'!V5","v":0},{"$f":"'2014 DISC3B'!AK5-'2014 DISC3'!W5","v":0},{"$f":"'2014 DISC3B'!AL5-'2014 DISC3'!X5","v":0},{"$f":"'2014 DISC3B'!AM5-'2014 DISC3'!Y5","v":0},{"$f":"'2014 DISC3B'!AN5-'2014 DISC3'!Z5","v":0},{"$f":"'2014 DISC3B'!AO5-'2014 DISC3'!AA5","v":0},"All",{"$f":"'2014 DISC3B'!AQ5-'2014 DISC3'!AC5","v":0},{"$f":"'2014 DISC3B'!AR5-'2014 DISC3'!AD5","v":0},{"$f":"'2014 DISC3B'!AS5-'2014 DISC3'!AE5","v":0},{"$f":"'2014 DISC3B'!AT5-'2014 DISC3'!AF5","v":0},{"$f":"'2014 DISC3B'!AU5-'2014 DISC3'!AG5","v":0},{"$f":"'2014 DISC3B'!AV5-'2014 DISC3'!AH5","v":0},{"$f":"'2014 DISC3B'!AW5-'2014 DISC3'!AI5","v":0},{"$f":"'2014 DISC3B'!AX5-'2014 DISC3'!AJ5","v":0},{"$f":"'2014 DISC3B'!AY5-'2014 DISC3'!AK5","v":0},{"$f":"'2014 DISC3B'!AZ5-'2014 DISC3'!AL5","v":0},{"$f":"'2014 DISC3B'!BA5-'2014 DISC3'!AM5","v":0},{"$f":"'2014 DISC3B'!BB5-'2014 DISC3'!AN5","v":0}]
["Further Additional Science","Males",{"$f":"'2014 DISC3B'!C6-'2014 DISC3'!C6","v":0},{"$f":"'2014 DISC3B'!D6-'2014 DISC3'!D6","v":0},{"$f":"'2014 DISC3B'!E6-'2014 DISC3'!E6","v":0},{"$f":"'2014 DISC3B'!F6-'2014 DISC3'!F6","v":0},{"$f":"'2014 DISC3B'!G6-'2014 DISC3'!G6","v":0},{"$f":"'2014 DISC3B'!H6-'2014 DISC3'!H6","v":0},{"$f":"'2014 DISC3B'!I6-'2014 DISC3'!I6","v":0},{"$f":"'2014 DISC3B'!J6-'2014 DISC3'!J6","v":0},{"$f":"'2014 DISC3B'!K6-'2014 DISC3'!K6","v":0},{"$f":"'2014 DISC3B'!L6-'2014 DISC3'!L6","v":0},{"$f":"'2014 DISC3B'!M6-'2014 DISC3'!M6","v":0},{"$f":"'2014 DISC3B'!N6-'2014 DISC3'!N6","v":0},"Females",{"$f":"'2014 DISC3B'!AD6-'2014 DISC3'!P6","v":0},{"$f":"'2014 DISC3B'!AE6-'2014 DISC3'!Q6","v":0},{"$f":"'2014 DISC3B'!AF6-'2014 DISC3'!R6","v":0},{"$f":"'2014 DISC3B'!AG6-'2014 DISC3'!S6","v":0},{"$f":"'2014 DISC3B'!AH6-'2014 DISC3'!T6","v":0},{"$f":"'2014 DISC3B'!AI6-'2014 DISC3'!U6","v":0},{"$f":"'2014 DISC3B'!AJ6-'2014 DISC3'!V6","v":0},{"$f":"'2014 DISC3B'!AK6-'2014 DISC3'!W6","v":0},{"$f":"'2014 DISC3B'!AL6-'2014 DISC3'!X6","v":0},{"$f":"'2014 DISC3B'!AM6-'2014 DISC3'!Y6","v":0},{"$f":"'2014 DISC3B'!AN6-'2014 DISC3'!Z6","v":0},{"$f":"'2014 DISC3B'!AO6-'2014 DISC3'!AA6","v":0},"All",{"$f":"'2014 DISC3B'!AQ6-'2014 DISC3'!AC6","v":0},{"$f":"'2014 DISC3B'!AR6-'2014 DISC3'!AD6","v":0},{"$f":"'2014 DISC3B'!AS6-'2014 DISC3'!AE6","v":0},{"$f":"'2014 DISC3B'!AT6-'2014 DISC3'!AF6","v":0},{"$f":"'2014 DISC3B'!AU6-'2014 DISC3'!AG6","v":0},{"$f":"'2014 DISC3B'!AV6-'2014 DISC3'!AH6","v":0},{"$f":"'2014 DISC3B'!AW6-'2014 DISC3'!AI6","v":0},{"$f":"'2014 DISC3B'!AX6-'2014 DISC3'!AJ6","v":0},{"$f":"'2014 DISC3B'!AY6-'2014 DISC3'!AK6","v":0},{"$f":"'2014 DISC3B'!AZ6-'2014 DISC3'!AL6","v":0},{"$f":"'2014 DISC3B'!BA6-'2014 DISC3'!AM6","v":0},{"$f":"'2014 DISC3B'!BB6-'2014 DISC3'!AN6","v":0}]
["Additional Applied Science","Males",{"$f":"'2014 DISC3B'!C7-'2014 DISC3'!C7","v":0},{"$f":"'2014 DISC3B'!D7-'2014 DISC3'!D7","v":0},{"$f":"'2014 DISC3B'!E7-'2014 DISC3'!E7","v":6},{"$f":"'2014 DISC3B'!F7-'2014 DISC3'!F7","v":71},{"$f":"'2014 DISC3B'!G7-'2014 DISC3'!G7","v":137},{"$f":"'2014 DISC3B'!H7-'2014 DISC3'!H7","v":146},{"$f":"'2014 DISC3B'!I7-'2014 DISC3'!I7","v":73},{"$f":"'2014 DISC3B'!J7-'2014 DISC3'!J7","v":26},{"$f":"'2014 DISC3B'!K7-'2014 DISC3'!K7","v":0},{"$f":"'2014 DISC3B'!L7-'2014 DISC3'!L7","v":77},{"$f":"'2014 DISC3B'!M7-'2014 DISC3'!M7","v":459},{"$f":"'2014 DISC3B'!N7-'2014 DISC3'!N7","v":466},"Females",{"$f":"'2014 DISC3B'!AD7-'2014 DISC3'!P7","v":0},{"$f":"'2014 DISC3B'!AE7-'2014 DISC3'!Q7","v":1},{"$f":"'2014 DISC3B'!AF7-'2014 DISC3'!R7","v":16},{"$f":"'2014 DISC3B'!AG7-'2014 DISC3'!S7","v":99},{"$f":"'2014 DISC3B'!AH7-'2014 DISC3'!T7","v":135},{"$f":"'2014 DISC3B'!AI7-'2014 DISC3'!U7","v":106},{"$f":"'2014 DISC3B'!AJ7-'2014 DISC3'!V7","v":46},{"$f":"'2014 DISC3B'!AK7-'2014 DISC3'!W7","v":10},{"$f":"'2014 DISC3B'!AL7-'2014 DISC3'!X7","v":1},{"$f":"'2014 DISC3B'!AM7-'2014 DISC3'!Y7","v":116},{"$f":"'2014 DISC3B'!AN7-'2014 DISC3'!Z7","v":413},{"$f":"'2014 DISC3B'!AO7-'2014 DISC3'!AA7","v":421},"All",{"$f":"'2014 DISC3B'!AQ7-'2014 DISC3'!AC7","v":0},{"$f":"'2014 DISC3B'!AR7-'2014 DISC3'!AD7","v":1},{"$f":"'2014 DISC3B'!AS7-'2014 DISC3'!AE7","v":22},{"$f":"'2014 DISC3B'!AT7-'2014 DISC3'!AF7","v":170},{"$f":"'2014 DISC3B'!AU7-'2014 DISC3'!AG7","v":272},{"$f":"'2014 DISC3B'!AV7-'2014 DISC3'!AH7","v":252},{"$f":"'2014 DISC3B'!AW7-'2014 DISC3'!AI7","v":119},{"$f":"'2014 DISC3B'!AX7-'2014 DISC3'!AJ7","v":36},{"$f":"'2014 DISC3B'!AY7-'2014 DISC3'!AK7","v":1},{"$f":"'2014 DISC3B'!AZ7-'2014 DISC3'!AL7","v":193},{"$f":"'2014 DISC3B'!BA7-'2014 DISC3'!AM7","v":872},{"$f":"'2014 DISC3B'!BB7-'2014 DISC3'!AN7","v":887}]
["Physics","Males",{"$f":"'2014 DISC3B'!C8-'2014 DISC3'!C8","v":5},{"$f":"'2014 DISC3B'!D8-'2014 DISC3'!D8","v":4},{"$f":"'2014 DISC3B'!E8-'2014 DISC3'!E8","v":3},{"$f":"'2014 DISC3B'!F8-'2014 DISC3'!F8","v":0},{"$f":"'2014 DISC3B'!G8-'2014 DISC3'!G8","v":0},{"$f":"'2014 DISC3B'!H8-'2014 DISC3'!H8","v":1},{"$f":"'2014 DISC3B'!I8-'2014 DISC3'!I8","v":1},{"$f":"'2014 DISC3B'!J8-'2014 DISC3'!J8","v":1},{"$f":"'2014 DISC3B'!K8-'2014 DISC3'!K8","v":9},{"$f":"'2014 DISC3B'!L8-'2014 DISC3'!L8","v":12},{"$f":"'2014 DISC3B'!M8-'2014 DISC3'!M8","v":15},{"$f":"'2014 DISC3B'!N8-'2014 DISC3'!N8","v":15},"Females",{"$f":"'2014 DISC3B'!AD8-'2014 DISC3'!P8","v":0},{"$f":"'2014 DISC3B'!AE8-'2014 DISC3'!Q8","v":0},{"$f":"'2014 DISC3B'!AF8-'2014 DISC3'!R8","v":0},{"$f":"'2014 DISC3B'!AG8-'2014 DISC3'!S8","v":0},{"$f":"'2014 DISC3B'!AH8-'2014 DISC3'!T8","v":2},{"$f":"'2014 DISC3B'!AI8-'2014 DISC3'!U8","v":0},{"$f":"'2014 DISC3B'!AJ8-'2014 DISC3'!V8","v":1},{"$f":"'2014 DISC3B'!AK8-'2014 DISC3'!W8","v":1},{"$f":"'2014 DISC3B'!AL8-'2014 DISC3'!X8","v":0},{"$f":"'2014 DISC3B'!AM8-'2014 DISC3'!Y8","v":0},{"$f":"'2014 DISC3B'!AN8-'2014 DISC3'!Z8","v":4},{"$f":"'2014 DISC3B'!AO8-'2014 DISC3'!AA8","v":4},"All",{"$f":"'2014 DISC3B'!AQ8-'2014 DISC3'!AC8","v":5},{"$f":"'2014 DISC3B'!AR8-'2014 DISC3'!AD8","v":4},{"$f":"'2014 DISC3B'!AS8-'2014 DISC3'!AE8","v":3},{"$f":"'2014 DISC3B'!AT8-'2014 DISC3'!AF8","v":0},{"$f":"'2014 DISC3B'!AU8-'2014 DISC3'!AG8","v":2},{"$f":"'2014 DISC3B'!AV8-'2014 DISC3'!AH8","v":1},{"$f":"'2014 DISC3B'!AW8-'2014 DISC3'!AI8","v":2},{"$f":"'2014 DISC3B'!AX8-'2014 DISC3'!AJ8","v":2},{"$f":"'2014 DISC3B'!AY8-'2014 DISC3'!AK8","v":9},{"$f":"'2014 DISC3B'!AZ8-'2014 DISC3'!AL8","v":12},{"$f":"'2014 DISC3B'!BA8-'2014 DISC3'!AM8","v":19},{"$f":"'2014 DISC3B'!BB8-'2014 DISC3'!AN8","v":19}," "]
["Chemistry","Males",{"$f":"'2014 DISC3B'!C9-'2014 DISC3'!C9","v":4},{"$f":"'2014 DISC3B'!D9-'2014 DISC3'!D9","v":5},{"$f":"'2014 DISC3B'!E9-'2014 DISC3'!E9","v":1},{"$f":"'2014 DISC3B'!F9-'2014 DISC3'!F9","v":0},{"$f":"'2014 DISC3B'!G9-'2014 DISC3'!G9","v":0},{"$f":"'2014 DISC3B'!H9-'2014 DISC3'!H9","v":1},{"$f":"'2014 DISC3B'!I9-'2014 DISC3'!I9","v":2},{"$f":"'2014 DISC3B'!J9-'2014 DISC3'!J9","v":1},{"$f":"'2014 DISC3B'!K9-'2014 DISC3'!K9","v":9},{"$f":"'2014 DISC3B'!L9-'2014 DISC3'!L9","v":10},{"$f":"'2014 DISC3B'!M9-'2014 DISC3'!M9","v":14},{"$f":"'2014 DISC3B'!N9-'2014 DISC3'!N9","v":14},"Females",{"$f":"'2014 DISC3B'!AD9-'2014 DISC3'!P9","v":2},{"$f":"'2014 DISC3B'!AE9-'2014 DISC3'!Q9","v":3},{"$f":"'2014 DISC3B'!AF9-'2014 DISC3'!R9","v":0},{"$f":"'2014 DISC3B'!AG9-'2014 DISC3'!S9","v":0},{"$f":"'2014 DISC3B'!AH9-'2014 DISC3'!T9","v":0},{"$f":"'2014 DISC3B'!AI9-'2014 DISC3'!U9","v":5},{"$f":"'2014 DISC3B'!AJ9-'2014 DISC3'!V9","v":4},{"$f":"'2014 DISC3B'!AK9-'2014 DISC3'!W9","v":1},{"$f":"'2014 DISC3B'!AL9-'2014 DISC3'!X9","v":5},{"$f":"'2014 DISC3B'!AM9-'2014 DISC3'!Y9","v":5},{"$f":"'2014 DISC3B'!AN9-'2014 DISC3'!Z9","v":15},{"$f":"'2014 DISC3B'!AO9-'2014 DISC3'!AA9","v":15},"All",{"$f":"'2014 DISC3B'!AQ9-'2014 DISC3'!AC9","v":6},{"$f":"'2014 DISC3B'!AR9-'2014 DISC3'!AD9","v":8},{"$f":"'2014 DISC3B'!AS9-'2014 DISC3'!AE9","v":1},{"$f":"'2014 DISC3B'!AT9-'2014 DISC3'!AF9","v":0},{"$f":"'2014 DISC3B'!AU9-'2014 DISC3'!AG9","v":0},{"$f":"'2014 DISC3B'!AV9-'2014 DISC3'!AH9","v":6},{"$f":"'2014 DISC3B'!AW9-'2014 DISC3'!AI9","v":6},{"$f":"'2014 DISC3B'!AX9-'2014 DISC3'!AJ9","v":2},{"$f":"'2014 DISC3B'!AY9-'2014 DISC3'!AK9","v":14},{"$f":"'2014 DISC3B'!AZ9-'2014 DISC3'!AL9","v":15},{"$f":"'2014 DISC3B'!BA9-'2014 DISC3'!AM9","v":29},{"$f":"'2014 DISC3B'!BB9-'2014 DISC3'!AN9","v":29}]
["Biological Sciences","Males",{"$f":"'2014 DISC3B'!C10-'2014 DISC3'!C10","v":3},{"$f":"'2014 DISC3B'!D10-'2014 DISC3'!D10","v":3},{"$f":"'2014 DISC3B'!E10-'2014 DISC3'!E10","v":4},{"$f":"'2014 DISC3B'!F10-'2014 DISC3'!F10","v":0},{"$f":"'2014 DISC3B'!G10-'2014 DISC3'!G10","v":3},{"$f":"'2014 DISC3B'!H10-'2014 DISC3'!H10","v":1},{"$f":"'2014 DISC3B'!I10-'2014 DISC3'!I10","v":2},{"$f":"'2014 DISC3B'!J10-'2014 DISC3'!J10","v":0},{"$f":"'2014 DISC3B'!K10-'2014 DISC3'!K10","v":6},{"$f":"'2014 DISC3B'!L10-'2014 DISC3'!L10","v":10},{"$f":"'2014 DISC3B'!M10-'2014 DISC3'!M10","v":16},{"$f":"'2014 DISC3B'!N10-'2014 DISC3'!N10","v":16},"Females",{"$f":"'2014 DISC3B'!AD10-'2014 DISC3'!P10","v":1},{"$f":"'2014 DISC3B'!AE10-'2014 DISC3'!Q10","v":5},{"$f":"'2014 DISC3B'!AF10-'2014 DISC3'!R10","v":0},{"$f":"'2014 DISC3B'!AG10-'2014 DISC3'!S10","v":0},{"$f":"'2014 DISC3B'!AH10-'2014 DISC3'!T10","v":2},{"$f":"'2014 DISC3B'!AI10-'2014 DISC3'!U10","v":3},{"$f":"'2014 DISC3B'!AJ10-'2014 DISC3'!V10","v":3},{"$f":"'2014 DISC3B'!AK10-'2014 DISC3'!W10","v":0},{"$f":"'2014 DISC3B'!AL10-'2014 DISC3'!X10","v":6},{"$f":"'2014 DISC3B'!AM10-'2014 DISC3'!Y10","v":6},{"$f":"'2014 DISC3B'!AN10-'2014 DISC3'!Z10","v":14},{"$f":"'2014 DISC3B'!AO10-'2014 DISC3'!AA10","v":14},"All",{"$f":"'2014 DISC3B'!AQ10-'2014 DISC3'!AC10","v":4},{"$f":"'2014 DISC3B'!AR10-'2014 DISC3'!AD10","v":8},{"$f":"'2014 DISC3B'!AS10-'2014 DISC3'!AE10","v":4},{"$f":"'2014 DISC3B'!AT10-'2014 DISC3'!AF10","v":0},{"$f":"'2014 DISC3B'!AU10-'2014 DISC3'!AG10","v":5},{"$f":"'2014 DISC3B'!AV10-'2014 DISC3'!AH10","v":4},{"$f":"'2014 DISC3B'!AW10-'2014 DISC3'!AI10","v":5},{"$f":"'2014 DISC3B'!AX10-'2014 DISC3'!AJ10","v":0},{"$f":"'2014 DISC3B'!AY10-'2014 DISC3'!AK10","v":12},{"$f":"'2014 DISC3B'!AZ10-'2014 DISC3'!AL10","v":16},{"$f":"'2014 DISC3B'!BA10-'2014 DISC3'!AM10","v":30},{"$f":"'2014 DISC3B'!BB10-'2014 DISC3'!AN10","v":30}]
["Computer Science","Males",{"$f":"'2014 DISC3B'!C11-'2014 DISC3'!C11","v":3},{"$f":"'2014 DISC3B'!D11-'2014 DISC3'!D11","v":2},{"$f":"'2014 DISC3B'!E11-'2014 DISC3'!E11","v":1},{"$f":"'2014 DISC3B'!F11-'2014 DISC3'!F11","v":2},{"$f":"'2014 DISC3B'!G11-'2014 DISC3'!G11","v":0},{"$f":"'2014 DISC3B'!H11-'2014 DISC3'!H11","v":0},{"$f":"'2014 DISC3B'!I11-'2014 DISC3'!I11","v":0},{"$f":"'2014 DISC3B'!J11-'2014 DISC3'!J11","v":0},{"$f":"'2014 DISC3B'!K11-'2014 DISC3'!K11","v":5},{"$f":"'2014 DISC3B'!L11-'2014 DISC3'!L11","v":8},{"$f":"'2014 DISC3B'!M11-'2014 DISC3'!M11","v":8},{"$f":"'2014 DISC3B'!N11-'2014 DISC3'!N11","v":8},"Females",{"$f":"'2014 DISC3B'!AD11-'2014 DISC3'!P11","v":0},{"$f":"'2014 DISC3B'!AE11-'2014 DISC3'!Q11","v":0},{"$f":"'2014 DISC3B'!AF11-'2014 DISC3'!R11","v":2},{"$f":"'2014 DISC3B'!AG11-'2014 DISC3'!S11","v":0},{"$f":"'2014 DISC3B'!AH11-'2014 DISC3'!T11","v":0},{"$f":"'2014 DISC3B'!AI11-'2014 DISC3'!U11","v":0},{"$f":"'2014 DISC3B'!AJ11-'2014 DISC3'!V11","v":0},{"$f":"'2014 DISC3B'!AK11-'2014 DISC3'!W11","v":0},{"$f":"'2014 DISC3B'!AL11-'2014 DISC3'!X11","v":0},{"$f":"'2014 DISC3B'!AM11-'2014 DISC3'!Y11","v":2},{"$f":"'2014 DISC3B'!AN11-'2014 DISC3'!Z11","v":2},{"$f":"'2014 DISC3B'!AO11-'2014 DISC3'!AA11","v":2},"All",{"$f":"'2014 DISC3B'!AQ11-'2014 DISC3'!AC11","v":3},{"$f":"'2014 DISC3B'!AR11-'2014 DISC3'!AD11","v":2},{"$f":"'2014 DISC3B'!AS11-'2014 DISC3'!AE11","v":3},{"$f":"'2014 DISC3B'!AT11-'2014 DISC3'!AF11","v":2},{"$f":"'2014 DISC3B'!AU11-'2014 DISC3'!AG11","v":0},{"$f":"'2014 DISC3B'!AV11-'2014 DISC3'!AH11","v":0},{"$f":"'2014 DISC3B'!AW11-'2014 DISC3'!AI11","v":0},{"$f":"'2014 DISC3B'!AX11-'2014 DISC3'!AJ11","v":0},{"$f":"'2014 DISC3B'!AY11-'2014 DISC3'!AK11","v":5},{"$f":"'2014 DISC3B'!AZ11-'2014 DISC3'!AL11","v":10},{"$f":"'2014 DISC3B'!BA11-'2014 DISC3'!AM11","v":10},{"$f":"'2014 DISC3B'!BB11-'2014 DISC3'!AN11","v":10}]
["Other Sciences","Males",{"$f":"'2014 DISC3B'!C12-'2014 DISC3'!C12","v":4},{"$f":"'2014 DISC3B'!D12-'2014 DISC3'!D12","v":1},{"$f":"'2014 DISC3B'!E12-'2014 DISC3'!E12","v":0},{"$f":"'2014 DISC3B'!F12-'2014 DISC3'!F12","v":0},{"$f":"'2014 DISC3B'!G12-'2014 DISC3'!G12","v":0},{"$f":"'2014 DISC3B'!H12-'2014 DISC3'!H12","v":0},{"$f":"'2014 DISC3B'!I12-'2014 DISC3'!I12","v":0},{"$f":"'2014 DISC3B'!J12-'2014 DISC3'!J12","v":0},{"$f":"'2014 DISC3B'!K12-'2014 DISC3'!K12","v":5},{"$f":"'2014 DISC3B'!L12-'2014 DISC3'!L12","v":5},{"$f":"'2014 DISC3B'!M12-'2014 DISC3'!M12","v":5},{"$f":"'2014 DISC3B'!N12-'2014 DISC3'!N12","v":5},"Females",{"$f":"'2014 DISC3B'!AD12-'2014 DISC3'!P12","v":0},{"$f":"'2014 DISC3B'!AE12-'2014 DISC3'!Q12","v":1},{"$f":"'2014 DISC3B'!AF12-'2014 DISC3'!R12","v":0},{"$f":"'2014 DISC3B'!AG12-'2014 DISC3'!S12","v":0},{"$f":"'2014 DISC3B'!AH12-'2014 DISC3'!T12","v":0},{"$f":"'2014 DISC3B'!AI12-'2014 DISC3'!U12","v":0},{"$f":"'2014 DISC3B'!AJ12-'2014 DISC3'!V12","v":0},{"$f":"'2014 DISC3B'!AK12-'2014 DISC3'!W12","v":0},{"$f":"'2014 DISC3B'!AL12-'2014 DISC3'!X12","v":1},{"$f":"'2014 DISC3B'!AM12-'2014 DISC3'!Y12","v":1},{"$f":"'2014 DISC3B'!AN12-'2014 DISC3'!Z12","v":1},{"$f":"'2014 DISC3B'!AO12-'2014 DISC3'!AA12","v":1},"All",{"$f":"'2014 DISC3B'!AQ12-'2014 DISC3'!AC12","v":4},{"$f":"'2014 DISC3B'!AR12-'2014 DISC3'!AD12","v":2},{"$f":"'2014 DISC3B'!AS12-'2014 DISC3'!AE12","v":0},{"$f":"'2014 DISC3B'!AT12-'2014 DISC3'!AF12","v":0},{"$f":"'2014 DISC3B'!AU12-'2014 DISC3'!AG12","v":0},{"$f":"'2014 DISC3B'!AV12-'2014 DISC3'!AH12","v":0},{"$f":"'2014 DISC3B'!AW12-'2014 DISC3'!AI12","v":0},{"$f":"'2014 DISC3B'!AX12-'2014 DISC3'!AJ12","v":0},{"$f":"'2014 DISC3B'!AY12-'2014 DISC3'!AK12","v":6},{"$f":"'2014 DISC3B'!AZ12-'2014 DISC3'!AL12","v":6},{"$f":"'2014 DISC3B'!BA12-'2014 DISC3'!AM12","v":6},{"$f":"'2014 DISC3B'!BB12-'2014 DISC3'!AN12","v":6}]
["D & T: Electronic Products","Males",{"$f":"'2014 DISC3B'!C13-'2014 DISC3'!C13","v":0},{"$f":"'2014 DISC3B'!D13-'2014 DISC3'!D13","v":0},{"$f":"'2014 DISC3B'!E13-'2014 DISC3'!E13","v":0},{"$f":"'2014 DISC3B'!F13-'2014 DISC3'!F13","v":0},{"$f":"'2014 DISC3B'!G13-'2014 DISC3'!G13","v":0},{"$f":"'2014 DISC3B'!H13-'2014 DISC3'!H13","v":0},{"$f":"'2014 DISC3B'!I13-'2014 DISC3'!I13","v":0},{"$f":"'2014 DISC3B'!J13-'2014 DISC3'!J13","v":0},{"$f":"'2014 DISC3B'!K13-'2014 DISC3'!K13","v":0},{"$f":"'2014 DISC3B'!L13-'2014 DISC3'!L13","v":0},{"$f":"'2014 DISC3B'!M13-'2014 DISC3'!M13","v":0},{"$f":"'2014 DISC3B'!N13-'2014 DISC3'!N13","v":0},"Females",{"$f":"'2014 DISC3B'!AD13-'2014 DISC3'!P13","v":0},{"$f":"'2014 DISC3B'!AE13-'2014 DISC3'!Q13","v":0},{"$f":"'2014 DISC3B'!AF13-'2014 DISC3'!R13","v":0},{"$f":"'2014 DISC3B'!AG13-'2014 DISC3'!S13","v":0},{"$f":"'2014 DISC3B'!AH13-'2014 DISC3'!T13","v":0},{"$f":"'2014 DISC3B'!AI13-'2014 DISC3'!U13","v":0},{"$f":"'2014 DISC3B'!AJ13-'2014 DISC3'!V13","v":0},{"$f":"'2014 DISC3B'!AK13-'2014 DISC3'!W13","v":0},{"$f":"'2014 DISC3B'!AL13-'2014 DISC3'!X13","v":0},{"$f":"'2014 DISC3B'!AM13-'2014 DISC3'!Y13","v":0},{"$f":"'2014 DISC3B'!AN13-'2014 DISC3'!Z13","v":0},{"$f":"'2014 DISC3B'!AO13-'2014 DISC3'!AA13","v":0},"All",{"$f":"'2014 DISC3B'!AQ13-'2014 DISC3'!AC13","v":0},{"$f":"'2014 DISC3B'!AR13-'2014 DISC3'!AD13","v":0},{"$f":"'2014 DISC3B'!AS13-'2014 DISC3'!AE13","v":0},{"$f":"'2014 DISC3B'!AT13-'2014 DISC3'!AF13","v":0},{"$f":"'2014 DISC3B'!AU13-'2014 DISC3'!AG13","v":0},{"$f":"'2014 DISC3B'!AV13-'2014 DISC3'!AH13","v":0},{"$f":"'2014 DISC3B'!AW13-'2014 DISC3'!AI13","v":0},{"$f":"'2014 DISC3B'!AX13-'2014 DISC3'!AJ13","v":0},{"$f":"'2014 DISC3B'!AY13-'2014 DISC3'!AK13","v":0},{"$f":"'2014 DISC3B'!AZ13-'2014 DISC3'!AL13","v":0},{"$f":"'2014 DISC3B'!BA13-'2014 DISC3'!AM13","v":0},{"$f":"'2014 DISC3B'!BB13-'2014 DISC3'!AN13","v":0}]
["D & T: Food Technology","Males",{"$f":"'2014 DISC3B'!C14-'2014 DISC3'!C14","v":0},{"$f":"'2014 DISC3B'!D14-'2014 DISC3'!D14","v":0},{"$f":"'2014 DISC3B'!E14-'2014 DISC3'!E14","v":0},{"$f":"'2014 DISC3B'!F14-'2014 DISC3'!F14","v":0},{"$f":"'2014 DISC3B'!G14-'2014 DISC3'!G14","v":0},{"$f":"'2014 DISC3B'!H14-'2014 DISC3'!H14","v":0},{"$f":"'2014 DISC3B'!I14-'2014 DISC3'!I14","v":0},{"$f":"'2014 DISC3B'!J14-'2014 DISC3'!J14","v":0},{"$f":"'2014 DISC3B'!K14-'2014 DISC3'!K14","v":0},{"$f":"'2014 DISC3B'!L14-'2014 DISC3'!L14","v":0},{"$f":"'2014 DISC3B'!M14-'2014 DISC3'!M14","v":0},{"$f":"'2014 DISC3B'!N14-'2014 DISC3'!N14","v":0},"Females",{"$f":"'2014 DISC3B'!AD14-'2014 DISC3'!P14","v":1},{"$f":"'2014 DISC3B'!AE14-'2014 DISC3'!Q14","v":1},{"$f":"'2014 DISC3B'!AF14-'2014 DISC3'!R14","v":1},{"$f":"'2014 DISC3B'!AG14-'2014 DISC3'!S14","v":1},{"$f":"'2014 DISC3B'!AH14-'2014 DISC3'!T14","v":0},{"$f":"'2014 DISC3B'!AI14-'2014 DISC3'!U14","v":0},{"$f":"'2014 DISC3B'!AJ14-'2014 DISC3'!V14","v":0},{"$f":"'2014 DISC3B'!AK14-'2014 DISC3'!W14","v":0},{"$f":"'2014 DISC3B'!AL14-'2014 DISC3'!X14","v":2},{"$f":"'2014 DISC3B'!AM14-'2014 DISC3'!Y14","v":4},{"$f":"'2014 DISC3B'!AN14-'2014 DISC3'!Z14","v":4},{"$f":"'2014 DISC3B'!AO14-'2014 DISC3'!AA14","v":4},"All",{"$f":"'2014 DISC3B'!AQ14-'2014 DISC3'!AC14","v":1},{"$f":"'2014 DISC3B'!AR14-'2014 DISC3'!AD14","v":1},{"$f":"'2014 DISC3B'!AS14-'2014 DISC3'!AE14","v":1},{"$f":"'2014 DISC3B'!AT14-'2014 DISC3'!AF14","v":1},{"$f":"'2014 DISC3B'!AU14-'2014 DISC3'!AG14","v":0},{"$f":"'2014 DISC3B'!AV14-'2014 DISC3'!AH14","v":0},{"$f":"'2014 DISC3B'!AW14-'2014 DISC3'!AI14","v":0},{"$f":"'2014 DISC3B'!AX14-'2014 DISC3'!AJ14","v":0},{"$f":"'2014 DISC3B'!AY14-'2014 DISC3'!AK14","v":2},{"$f":"'2014 DISC3B'!AZ14-'2014 DISC3'!AL14","v":4},{"$f":"'2014 DISC3B'!BA14-'2014 DISC3'!AM14","v":4},{"$f":"'2014 DISC3B'!BB14-'2014 DISC3'!AN14","v":4}]
["D & T: Graphic Products","Males",{"$f":"'2014 DISC3B'!C15-'2014 DISC3'!C15","v":0},{"$f":"'2014 DISC3B'!D15-'2014 DISC3'!D15","v":0},{"$f":"'2014 DISC3B'!E15-'2014 DISC3'!E15","v":0},{"$f":"'2014 DISC3B'!F15-'2014 DISC3'!F15","v":0},{"$f":"'2014 DISC3B'!G15-'2014 DISC3'!G15","v":0},{"$f":"'2014 DISC3B'!H15-'2014 DISC3'!H15","v":0},{"$f":"'2014 DISC3B'!I15-'2014 DISC3'!I15","v":0},{"$f":"'2014 DISC3B'!J15-'2014 DISC3'!J15","v":0},{"$f":"'2014 DISC3B'!K15-'2014 DISC3'!K15","v":0},{"$f":"'2014 DISC3B'!L15-'2014 DISC3'!L15","v":0},{"$f":"'2014 DISC3B'!M15-'2014 DISC3'!M15","v":0},{"$f":"'2014 DISC3B'!N15-'2014 DISC3'!N15","v":0},"Females",{"$f":"'2014 DISC3B'!AD15-'2014 DISC3'!P15","v":0},{"$f":"'2014 DISC3B'!AE15-'2014 DISC3'!Q15","v":0},{"$f":"'2014 DISC3B'!AF15-'2014 DISC3'!R15","v":0},{"$f":"'2014 DISC3B'!AG15-'2014 DISC3'!S15","v":0},{"$f":"'2014 DISC3B'!AH15-'2014 DISC3'!T15","v":0},{"$f":"'2014 DISC3B'!AI15-'2014 DISC3'!U15","v":0},{"$f":"'2014 DISC3B'!AJ15-'2014 DISC3'!V15","v":0},{"$f":"'2014 DISC3B'!AK15-'2014 DISC3'!W15","v":0},{"$f":"'2014 DISC3B'!AL15-'2014 DISC3'!X15","v":0},{"$f":"'2014 DISC3B'!AM15-'2014 DISC3'!Y15","v":0},{"$f":"'2014 DISC3B'!AN15-'2014 DISC3'!Z15","v":0},{"$f":"'2014 DISC3B'!AO15-'2014 DISC3'!AA15","v":0},"All",{"$f":"'2014 DISC3B'!AQ15-'2014 DISC3'!AC15","v":0},{"$f":"'2014 DISC3B'!AR15-'2014 DISC3'!AD15","v":0},{"$f":"'2014 DISC3B'!AS15-'2014 DISC3'!AE15","v":0},{"$f":"'2014 DISC3B'!AT15-'2014 DISC3'!AF15","v":0},{"$f":"'2014 DISC3B'!AU15-'2014 DISC3'!AG15","v":0},{"$f":"'2014 DISC3B'!AV15-'2014 DISC3'!AH15","v":0},{"$f":"'2014 DISC3B'!AW15-'2014 DISC3'!AI15","v":0},{"$f":"'2014 DISC3B'!AX15-'2014 DISC3'!AJ15","v":0},{"$f":"'2014 DISC3B'!AY15-'2014 DISC3'!AK15","v":0},{"$f":"'2014 DISC3B'!AZ15-'2014 DISC3'!AL15","v":0},{"$f":"'2014 DISC3B'!BA15-'2014 DISC3'!AM15","v":0},{"$f":"'2014 DISC3B'!BB15-'2014 DISC3'!AN15","v":0}]
["D & T: Resistant Materials","Males",{"$f":"'2014 DISC3B'!C16-'2014 DISC3'!C16","v":0},{"$f":"'2014 DISC3B'!D16-'2014 DISC3'!D16","v":0},{"$f":"'2014 DISC3B'!E16-'2014 DISC3'!E16","v":0},{"$f":"'2014 DISC3B'!F16-'2014 DISC3'!F16","v":0},{"$f":"'2014 DISC3B'!G16-'2014 DISC3'!G16","v":0},{"$f":"'2014 DISC3B'!H16-'2014 DISC3'!H16","v":0},{"$f":"'2014 DISC3B'!I16-'2014 DISC3'!I16","v":0},{"$f":"'2014 DISC3B'!J16-'2014 DISC3'!J16","v":0},{"$f":"'2014 DISC3B'!K16-'2014 DISC3'!K16","v":0},{"$f":"'2014 DISC3B'!L16-'2014 DISC3'!L16","v":0},{"$f":"'2014 DISC3B'!M16-'2014 DISC3'!M16","v":0},{"$f":"'2014 DISC3B'!N16-'2014 DISC3'!N16","v":0},"Females",{"$f":"'2014 DISC3B'!AD16-'2014 DISC3'!P16","v":0},{"$f":"'2014 DISC3B'!AE16-'2014 DISC3'!Q16","v":0},{"$f":"'2014 DISC3B'!AF16-'2014 DISC3'!R16","v":0},{"$f":"'2014 DISC3B'!AG16-'2014 DISC3'!S16","v":0},{"$f":"'2014 DISC3B'!AH16-'2014 DISC3'!T16","v":0},{"$f":"'2014 DISC3B'!AI16-'2014 DISC3'!U16","v":0},{"$f":"'2014 DISC3B'!AJ16-'2014 DISC3'!V16","v":0},{"$f":"'2014 DISC3B'!AK16-'2014 DISC3'!W16","v":0},{"$f":"'2014 DISC3B'!AL16-'2014 DISC3'!X16","v":0},{"$f":"'2014 DISC3B'!AM16-'2014 DISC3'!Y16","v":0},{"$f":"'2014 DISC3B'!AN16-'2014 DISC3'!Z16","v":0},{"$f":"'2014 DISC3B'!AO16-'2014 DISC3'!AA16","v":0},"All",{"$f":"'2014 DISC3B'!AQ16-'2014 DISC3'!AC16","v":0},{"$f":"'2014 DISC3B'!AR16-'2014 DISC3'!AD16","v":0},{"$f":"'2014 DISC3B'!AS16-'2014 DISC3'!AE16","v":0},{"$f":"'2014 DISC3B'!AT16-'2014 DISC3'!AF16","v":0},{"$f":"'2014 DISC3B'!AU16-'2014 DISC3'!AG16","v":0},{"$f":"'2014 DISC3B'!AV16-'2014 DISC3'!AH16","v":0},{"$f":"'2014 DISC3B'!AW16-'2014 DISC3'!AI16","v":0},{"$f":"'2014 DISC3B'!AX16-'2014 DISC3'!AJ16","v":0},{"$f":"'2014 DISC3B'!AY16-'2014 DISC3'!AK16","v":0},{"$f":"'2014 DISC3B'!AZ16-'2014 DISC3'!AL16","v":0},{"$f":"'2014 DISC3B'!BA16-'2014 DISC3'!AM16","v":0},{"$f":"'2014 DISC3B'!BB16-'2014 DISC3'!AN16","v":0}]
["D & T: Systems & Control","Males",{"$f":"'2014 DISC3B'!C17-'2014 DISC3'!C17","v":0},{"$f":"'2014 DISC3B'!D17-'2014 DISC3'!D17","v":0},{"$f":"'2014 DISC3B'!E17-'2014 DISC3'!E17","v":0},{"$f":"'2014 DISC3B'!F17-'2014 DISC3'!F17","v":0},{"$f":"'2014 DISC3B'!G17-'2014 DISC3'!G17","v":0},{"$f":"'2014 DISC3B'!H17-'2014 DISC3'!H17","v":0},{"$f":"'2014 DISC3B'!I17-'2014 DISC3'!I17","v":0},{"$f":"'2014 DISC3B'!J17-'2014 DISC3'!J17","v":0},{"$f":"'2014 DISC3B'!K17-'2014 DISC3'!K17","v":0},{"$f":"'2014 DISC3B'!L17-'2014 DISC3'!L17","v":0},{"$f":"'2014 DISC3B'!M17-'2014 DISC3'!M17","v":0},{"$f":"'2014 DISC3B'!N17-'2014 DISC3'!N17","v":0},"Females",{"$f":"'2014 DISC3B'!AD17-'2014 DISC3'!P17","v":0},{"$f":"'2014 DISC3B'!AE17-'2014 DISC3'!Q17","v":0},{"$f":"'2014 DISC3B'!AF17-'2014 DISC3'!R17","v":0},{"$f":"'2014 DISC3B'!AG17-'2014 DISC3'!S17","v":0},{"$f":"'2014 DISC3B'!AH17-'2014 DISC3'!T17","v":0},{"$f":"'2014 DISC3B'!AI17-'2014 DISC3'!U17","v":0},{"$f":"'2014 DISC3B'!AJ17-'2014 DISC3'!V17","v":0},{"$f":"'2014 DISC3B'!AK17-'2014 DISC3'!W17","v":0},{"$f":"'2014 DISC3B'!AL17-'2014 DISC3'!X17","v":0},{"$f":"'2014 DISC3B'!AM17-'2014 DISC3'!Y17","v":0},{"$f":"'2014 DISC3B'!AN17-'2014 DISC3'!Z17","v":0},{"$f":"'2014 DISC3B'!AO17-'2014 DISC3'!AA17","v":0},"All",{"$f":"'2014 DISC3B'!AQ17-'2014 DISC3'!AC17","v":0},{"$f":"'2014 DISC3B'!AR17-'2014 DISC3'!AD17","v":0},{"$f":"'2014 DISC3B'!AS17-'2014 DISC3'!AE17","v":0},{"$f":"'2014 DISC3B'!AT17-'2014 DISC3'!AF17","v":0},{"$f":"'2014 DISC3B'!AU17-'2014 DISC3'!AG17","v":0},{"$f":"'2014 DISC3B'!AV17-'2014 DISC3'!AH17","v":0},{"$f":"'2014 DISC3B'!AW17-'2014 DISC3'!AI17","v":0},{"$f":"'2014 DISC3B'!AX17-'2014 DISC3'!AJ17","v":0},{"$f":"'2014 DISC3B'!AY17-'2014 DISC3'!AK17","v":0},{"$f":"'2014 DISC3B'!AZ17-'2014 DISC3'!AL17","v":0},{"$f":"'2014 DISC3B'!BA17-'2014 DISC3'!AM17","v":0},{"$f":"'2014 DISC3B'!BB17-'2014 DISC3'!AN17","v":0}]
["D & T: Textiles Technology","Males",{"$f":"'2014 DISC3B'!C18-'2014 DISC3'!C18","v":0},{"$f":"'2014 DISC3B'!D18-'2014 DISC3'!D18","v":0},{"$f":"'2014 DISC3B'!E18-'2014 DISC3'!E18","v":0},{"$f":"'2014 DISC3B'!F18-'2014 DISC3'!F18","v":0},{"$f":"'2014 DISC3B'!G18-'2014 DISC3'!G18","v":0},{"$f":"'2014 DISC3B'!H18-'2014 DISC3'!H18","v":0},{"$f":"'2014 DISC3B'!I18-'2014 DISC3'!I18","v":0},{"$f":"'2014 DISC3B'!J18-'2014 DISC3'!J18","v":0},{"$f":"'2014 DISC3B'!K18-'2014 DISC3'!K18","v":0},{"$f":"'2014 DISC3B'!L18-'2014 DISC3'!L18","v":0},{"$f":"'2014 DISC3B'!M18-'2014 DISC3'!M18","v":0},{"$f":"'2014 DISC3B'!N18-'2014 DISC3'!N18","v":0},"Females",{"$f":"'2014 DISC3B'!AD18-'2014 DISC3'!P18","v":3},{"$f":"'2014 DISC3B'!AE18-'2014 DISC3'!Q18","v":2},{"$f":"'2014 DISC3B'!AF18-'2014 DISC3'!R18","v":1},{"$f":"'2014 DISC3B'!AG18-'2014 DISC3'!S18","v":0},{"$f":"'2014 DISC3B'!AH18-'2014 DISC3'!T18","v":0},{"$f":"'2014 DISC3B'!AI18-'2014 DISC3'!U18","v":0},{"$f":"'2014 DISC3B'!AJ18-'2014 DISC3'!V18","v":0},{"$f":"'2014 DISC3B'!AK18-'2014 DISC3'!W18","v":0},{"$f":"'2014 DISC3B'!AL18-'2014 DISC3'!X18","v":5},{"$f":"'2014 DISC3B'!AM18-'2014 DISC3'!Y18","v":6},{"$f":"'2014 DISC3B'!AN18-'2014 DISC3'!Z18","v":6},{"$f":"'2014 DISC3B'!AO18-'2014 DISC3'!AA18","v":6},"All",{"$f":"'2014 DISC3B'!AQ18-'2014 DISC3'!AC18","v":3},{"$f":"'2014 DISC3B'!AR18-'2014 DISC3'!AD18","v":2},{"$f":"'2014 DISC3B'!AS18-'2014 DISC3'!AE18","v":1},{"$f":"'2014 DISC3B'!AT18-'2014 DISC3'!AF18","v":0},{"$f":"'2014 DISC3B'!AU18-'2014 DISC3'!AG18","v":0},{"$f":"'2014 DISC3B'!AV18-'2014 DISC3'!AH18","v":0},{"$f":"'2014 DISC3B'!AW18-'2014 DISC3'!AI18","v":0},{"$f":"'2014 DISC3B'!AX18-'2014 DISC3'!AJ18","v":0},{"$f":"'2014 DISC3B'!AY18-'2014 DISC3'!AK18","v":5},{"$f":"'2014 DISC3B'!AZ18-'2014 DISC3'!AL18","v":6},{"$f":"'2014 DISC3B'!BA18-'2014 DISC3'!AM18","v":6},{"$f":"'2014 DISC3B'!BB18-'2014 DISC3'!AN18","v":6}]
["Other Design and Technology","Males",{"$f":"'2014 DISC3B'!C19-'2014 DISC3'!C19","v":3},{"$f":"'2014 DISC3B'!D19-'2014 DISC3'!D19","v":3},{"$f":"'2014 DISC3B'!E19-'2014 DISC3'!E19","v":4},{"$f":"'2014 DISC3B'!F19-'2014 DISC3'!F19","v":2},{"$f":"'2014 DISC3B'!G19-'2014 DISC3'!G19","v":0},{"$f":"'2014 DISC3B'!H19-'2014 DISC3'!H19","v":0},{"$f":"'2014 DISC3B'!I19-'2014 DISC3'!I19","v":0},{"$f":"'2014 DISC3B'!J19-'2014 DISC3'!J19","v":0},{"$f":"'2014 DISC3B'!K19-'2014 DISC3'!K19","v":6},{"$f":"'2014 DISC3B'!L19-'2014 DISC3'!L19","v":12},{"$f":"'2014 DISC3B'!M19-'2014 DISC3'!M19","v":12},{"$f":"'2014 DISC3B'!N19-'2014 DISC3'!N19","v":12},"Females",{"$f":"'2014 DISC3B'!AD19-'2014 DISC3'!P19","v":6},{"$f":"'2014 DISC3B'!AE19-'2014 DISC3'!Q19","v":17},{"$f":"'2014 DISC3B'!AF19-'2014 DISC3'!R19","v":4},{"$f":"'2014 DISC3B'!AG19-'2014 DISC3'!S19","v":0},{"$f":"'2014 DISC3B'!AH19-'2014 DISC3'!T19","v":0},{"$f":"'2014 DISC3B'!AI19-'2014 DISC3'!U19","v":0},{"$f":"'2014 DISC3B'!AJ19-'2014 DISC3'!V19","v":0},{"$f":"'2014 DISC3B'!AK19-'2014 DISC3'!W19","v":0},{"$f":"'2014 DISC3B'!AL19-'2014 DISC3'!X19","v":23},{"$f":"'2014 DISC3B'!AM19-'2014 DISC3'!Y19","v":27},{"$f":"'2014 DISC3B'!AN19-'2014 DISC3'!Z19","v":27},{"$f":"'2014 DISC3B'!AO19-'2014 DISC3'!AA19","v":27},"All",{"$f":"'2014 DISC3B'!AQ19-'2014 DISC3'!AC19","v":9},{"$f":"'2014 DISC3B'!AR19-'2014 DISC3'!AD19","v":20},{"$f":"'2014 DISC3B'!AS19-'2014 DISC3'!AE19","v":8},{"$f":"'2014 DISC3B'!AT19-'2014 DISC3'!AF19","v":2},{"$f":"'2014 DISC3B'!AU19-'2014 DISC3'!AG19","v":0},{"$f":"'2014 DISC3B'!AV19-'2014 DISC3'!AH19","v":0},{"$f":"'2014 DISC3B'!AW19-'2014 DISC3'!AI19","v":0},{"$f":"'2014 DISC3B'!AX19-'2014 DISC3'!AJ19","v":0},{"$f":"'2014 DISC3B'!AY19-'2014 DISC3'!AK19","v":29},{"$f":"'2014 DISC3B'!AZ19-'2014 DISC3'!AL19","v":39},{"$f":"'2014 DISC3B'!BA19-'2014 DISC3'!AM19","v":39},{"$f":"'2014 DISC3B'!BB19-'2014 DISC3'!AN19","v":39}]
["Applied Engineering","Males",{"$f":"'2014 DISC3B'!C20-'2014 DISC3'!C20","v":3},{"$f":"'2014 DISC3B'!D20-'2014 DISC3'!D20","v":7},{"$f":"'2014 DISC3B'!E20-'2014 DISC3'!E20","v":12},{"$f":"'2014 DISC3B'!F20-'2014 DISC3'!F20","v":26},{"$f":"'2014 DISC3B'!G20-'2014 DISC3'!G20","v":15},{"$f":"'2014 DISC3B'!H20-'2014 DISC3'!H20","v":10},{"$f":"'2014 DISC3B'!I20-'2014 DISC3'!I20","v":6},{"$f":"'2014 DISC3B'!J20-'2014 DISC3'!J20","v":1},{"$f":"'2014 DISC3B'!K20-'2014 DISC3'!K20","v":10},{"$f":"'2014 DISC3B'!L20-'2014 DISC3'!L20","v":48},{"$f":"'2014 DISC3B'!M20-'2014 DISC3'!M20","v":80},{"$f":"'2014 DISC3B'!N20-'2014 DISC3'!N20","v":81},"Females",{"$f":"'2014 DISC3B'!AD20-'2014 DISC3'!P20","v":1},{"$f":"'2014 DISC3B'!AE20-'2014 DISC3'!Q20","v":0},{"$f":"'2014 DISC3B'!AF20-'2014 DISC3'!R20","v":0},{"$f":"'2014 DISC3B'!AG20-'2014 DISC3'!S20","v":1},{"$f":"'2014 DISC3B'!AH20-'2014 DISC3'!T20","v":0},{"$f":"'2014 DISC3B'!AI20-'2014 DISC3'!U20","v":0},{"$f":"'2014 DISC3B'!AJ20-'2014 DISC3'!V20","v":0},{"$f":"'2014 DISC3B'!AK20-'2014 DISC3'!W20","v":0},{"$f":"'2014 DISC3B'!AL20-'2014 DISC3'!X20","v":1},{"$f":"'2014 DISC3B'!AM20-'2014 DISC3'!Y20","v":2},{"$f":"'2014 DISC3B'!AN20-'2014 DISC3'!Z20","v":2},{"$f":"'2014 DISC3B'!AO20-'2014 DISC3'!AA20","v":2},"All",{"$f":"'2014 DISC3B'!AQ20-'2014 DISC3'!AC20","v":4},{"$f":"'2014 DISC3B'!AR20-'2014 DISC3'!AD20","v":7},{"$f":"'2014 DISC3B'!AS20-'2014 DISC3'!AE20","v":12},{"$f":"'2014 DISC3B'!AT20-'2014 DISC3'!AF20","v":27},{"$f":"'2014 DISC3B'!AU20-'2014 DISC3'!AG20","v":15},{"$f":"'2014 DISC3B'!AV20-'2014 DISC3'!AH20","v":10},{"$f":"'2014 DISC3B'!AW20-'2014 DISC3'!AI20","v":6},{"$f":"'2014 DISC3B'!AX20-'2014 DISC3'!AJ20","v":1},{"$f":"'2014 DISC3B'!AY20-'2014 DISC3'!AK20","v":11},{"$f":"'2014 DISC3B'!AZ20-'2014 DISC3'!AL20","v":50},{"$f":"'2014 DISC3B'!BA20-'2014 DISC3'!AM20","v":82},{"$f":"'2014 DISC3B'!BB20-'2014 DISC3'!AN20","v":83}]
["Information Technology","Males",{"$f":"'2014 DISC3B'!C21-'2014 DISC3'!C21","v":4},{"$f":"'2014 DISC3B'!D21-'2014 DISC3'!D21","v":19},{"$f":"'2014 DISC3B'!E21-'2014 DISC3'!E21","v":3},{"$f":"'2014 DISC3B'!F21-'2014 DISC3'!F21","v":0},{"$f":"'2014 DISC3B'!G21-'2014 DISC3'!G21","v":1},{"$f":"'2014 DISC3B'!H21-'2014 DISC3'!H21","v":0},{"$f":"'2014 DISC3B'!I21-'2014 DISC3'!I21","v":0},{"$f":"'2014 DISC3B'!J21-'2014 DISC3'!J21","v":0},{"$f":"'2014 DISC3B'!K21-'2014 DISC3'!K21","v":23},{"$f":"'2014 DISC3B'!L21-'2014 DISC3'!L21","v":26},{"$f":"'2014 DISC3B'!M21-'2014 DISC3'!M21","v":27},{"$f":"'2014 DISC3B'!N21-'2014 DISC3'!N21","v":27},"Females",{"$f":"'2014 DISC3B'!AD21-'2014 DISC3'!P21","v":4},{"$f":"'2014 DISC3B'!AE21-'2014 DISC3'!Q21","v":29},{"$f":"'2014 DISC3B'!AF21-'2014 DISC3'!R21","v":9},{"$f":"'2014 DISC3B'!AG21-'2014 DISC3'!S21","v":0},{"$f":"'2014 DISC3B'!AH21-'2014 DISC3'!T21","v":0},{"$f":"'2014 DISC3B'!AI21-'2014 DISC3'!U21","v":0},{"$f":"'2014 DISC3B'!AJ21-'2014 DISC3'!V21","v":0},{"$f":"'2014 DISC3B'!AK21-'2014 DISC3'!W21","v":0},{"$f":"'2014 DISC3B'!AL21-'2014 DISC3'!X21","v":33},{"$f":"'2014 DISC3B'!AM21-'2014 DISC3'!Y21","v":42},{"$f":"'2014 DISC3B'!AN21-'2014 DISC3'!Z21","v":42},{"$f":"'2014 DISC3B'!AO21-'2014 DISC3'!AA21","v":42},"All",{"$f":"'2014 DISC3B'!AQ21-'2014 DISC3'!AC21","v":8},{"$f":"'2014 DISC3B'!AR21-'2014 DISC3'!AD21","v":48},{"$f":"'2014 DISC3B'!AS21-'2014 DISC3'!AE21","v":12},{"$f":"'2014 DISC3B'!AT21-'2014 DISC3'!AF21","v":0},{"$f":"'2014 DISC3B'!AU21-'2014 DISC3'!AG21","v":1},{"$f":"'2014 DISC3B'!AV21-'2014 DISC3'!AH21","v":0},{"$f":"'2014 DISC3B'!AW21-'2014 DISC3'!AI21","v":0},{"$f":"'2014 DISC3B'!AX21-'2014 DISC3'!AJ21","v":0},{"$f":"'2014 DISC3B'!AY21-'2014 DISC3'!AK21","v":56},{"$f":"'2014 DISC3B'!AZ21-'2014 DISC3'!AL21","v":68},{"$f":"'2014 DISC3B'!BA21-'2014 DISC3'!AM21","v":69},{"$f":"'2014 DISC3B'!BB21-'2014 DISC3'!AN21","v":69}]
["Business Studies","Males",{"$f":"'2014 DISC3B'!C22-'2014 DISC3'!C22","v":1},{"$f":"'2014 DISC3B'!D22-'2014 DISC3'!D22","v":13},{"$f":"'2014 DISC3B'!E22-'2014 DISC3'!E22","v":35},{"$f":"'2014 DISC3B'!F22-'2014 DISC3'!F22","v":52},{"$f":"'2014 DISC3B'!G22-'2014 DISC3'!G22","v":58},{"$f":"'2014 DISC3B'!H22-'2014 DISC3'!H22","v":42},{"$f":"'2014 DISC3B'!I22-'2014 DISC3'!I22","v":19},{"$f":"'2014 DISC3B'!J22-'2014 DISC3'!J22","v":10},{"$f":"'2014 DISC3B'!K22-'2014 DISC3'!K22","v":14},{"$f":"'2014 DISC3B'!L22-'2014 DISC3'!L22","v":101},{"$f":"'2014 DISC3B'!M22-'2014 DISC3'!M22","v":230},{"$f":"'2014 DISC3B'!N22-'2014 DISC3'!N22","v":234},"Females",{"$f":"'2014 DISC3B'!AD22-'2014 DISC3'!P22","v":1},{"$f":"'2014 DISC3B'!AE22-'2014 DISC3'!Q22","v":10},{"$f":"'2014 DISC3B'!AF22-'2014 DISC3'!R22","v":26},{"$f":"'2014 DISC3B'!AG22-'2014 DISC3'!S22","v":30},{"$f":"'2014 DISC3B'!AH22-'2014 DISC3'!T22","v":25},{"$f":"'2014 DISC3B'!AI22-'2014 DISC3'!U22","v":28},{"$f":"'2014 DISC3B'!AJ22-'2014 DISC3'!V22","v":10},{"$f":"'2014 DISC3B'!AK22-'2014 DISC3'!W22","v":5},{"$f":"'2014 DISC3B'!AL22-'2014 DISC3'!X22","v":11},{"$f":"'2014 DISC3B'!AM22-'2014 DISC3'!Y22","v":67},{"$f":"'2014 DISC3B'!AN22-'2014 DISC3'!Z22","v":135},{"$f":"'2014 DISC3B'!AO22-'2014 DISC3'!AA22","v":137},"All",{"$f":"'2014 DISC3B'!AQ22-'2014 DISC3'!AC22","v":2},{"$f":"'2014 DISC3B'!AR22-'2014 DISC3'!AD22","v":23},{"$f":"'2014 DISC3B'!AS22-'2014 DISC3'!AE22","v":61},{"$f":"'2014 DISC3B'!AT22-'2014 DISC3'!AF22","v":82},{"$f":"'2014 DISC3B'!AU22-'2014 DISC3'!AG22","v":83},{"$f":"'2014 DISC3B'!AV22-'2014 DISC3'!AH22","v":70},{"$f":"'2014 DISC3B'!AW22-'2014 DISC3'!AI22","v":29},{"$f":"'2014 DISC3B'!AX22-'2014 DISC3'!AJ22","v":15},{"$f":"'2014 DISC3B'!AY22-'2014 DISC3'!AK22","v":25},{"$f":"'2014 DISC3B'!AZ22-'2014 DISC3'!AL22","v":168},{"$f":"'2014 DISC3B'!BA22-'2014 DISC3'!AM22","v":365},{"$f":"'2014 DISC3B'!BB22-'2014 DISC3'!AN22","v":371}]
["Applied Business","Males",{"$f":"'2014 DISC3B'!C23-'2014 DISC3'!C23","v":0},{"$f":"'2014 DISC3B'!D23-'2014 DISC3'!D23","v":1},{"$f":"'2014 DISC3B'!E23-'2014 DISC3'!E23","v":9},{"$f":"'2014 DISC3B'!F23-'2014 DISC3'!F23","v":25},{"$f":"'2014 DISC3B'!G23-'2014 DISC3'!G23","v":23},{"$f":"'2014 DISC3B'!H23-'2014 DISC3'!H23","v":14},{"$f":"'2014 DISC3B'!I23-'2014 DISC3'!I23","v":10},{"$f":"'2014 DISC3B'!J23-'2014 DISC3'!J23","v":6},{"$f":"'2014 DISC3B'!K23-'2014 DISC3'!K23","v":1},{"$f":"'2014 DISC3B'!L23-'2014 DISC3'!L23","v":35},{"$f":"'2014 DISC3B'!M23-'2014 DISC3'!M23","v":88},{"$f":"'2014 DISC3B'!N23-'2014 DISC3'!N23","v":99},"Females",{"$f":"'2014 DISC3B'!AD23-'2014 DISC3'!P23","v":1},{"$f":"'2014 DISC3B'!AE23-'2014 DISC3'!Q23","v":6},{"$f":"'2014 DISC3B'!AF23-'2014 DISC3'!R23","v":9},{"$f":"'2014 DISC3B'!AG23-'2014 DISC3'!S23","v":11},{"$f":"'2014 DISC3B'!AH23-'2014 DISC3'!T23","v":15},{"$f":"'2014 DISC3B'!AI23-'2014 DISC3'!U23","v":11},{"$f":"'2014 DISC3B'!AJ23-'2014 DISC3'!V23","v":6},{"$f":"'2014 DISC3B'!AK23-'2014 DISC3'!W23","v":5},{"$f":"'2014 DISC3B'!AL23-'2014 DISC3'!X23","v":7},{"$f":"'2014 DISC3B'!AM23-'2014 DISC3'!Y23","v":27},{"$f":"'2014 DISC3B'!AN23-'2014 DISC3'!Z23","v":64},{"$f":"'2014 DISC3B'!AO23-'2014 DISC3'!AA23","v":69},"All",{"$f":"'2014 DISC3B'!AQ23-'2014 DISC3'!AC23","v":1},{"$f":"'2014 DISC3B'!AR23-'2014 DISC3'!AD23","v":7},{"$f":"'2014 DISC3B'!AS23-'2014 DISC3'!AE23","v":18},{"$f":"'2014 DISC3B'!AT23-'2014 DISC3'!AF23","v":36},{"$f":"'2014 DISC3B'!AU23-'2014 DISC3'!AG23","v":38},{"$f":"'2014 DISC3B'!AV23-'2014 DISC3'!AH23","v":25},{"$f":"'2014 DISC3B'!AW23-'2014 DISC3'!AI23","v":16},{"$f":"'2014 DISC3B'!AX23-'2014 DISC3'!AJ23","v":11},{"$f":"'2014 DISC3B'!AY23-'2014 DISC3'!AK23","v":8},{"$f":"'2014 DISC3B'!AZ23-'2014 DISC3'!AL23","v":62},{"$f":"'2014 DISC3B'!BA23-'2014 DISC3'!AM23","v":152},{"$f":"'2014 DISC3B'!BB23-'2014 DISC3'!AN23","v":168}]
["Home Economics","Males",{"$f":"'2014 DISC3B'!C24-'2014 DISC3'!C24","v":0},{"$f":"'2014 DISC3B'!D24-'2014 DISC3'!D24","v":0},{"$f":"'2014 DISC3B'!E24-'2014 DISC3'!E24","v":0},{"$f":"'2014 DISC3B'!F24-'2014 DISC3'!F24","v":0},{"$f":"'2014 DISC3B'!G24-'2014 DISC3'!G24","v":0},{"$f":"'2014 DISC3B'!H24-'2014 DISC3'!H24","v":0},{"$f":"'2014 DISC3B'!I24-'2014 DISC3'!I24","v":0},{"$f":"'2014 DISC3B'!J24-'2014 DISC3'!J24","v":0},{"$f":"'2014 DISC3B'!K24-'2014 DISC3'!K24","v":0},{"$f":"'2014 DISC3B'!L24-'2014 DISC3'!L24","v":0},{"$f":"'2014 DISC3B'!M24-'2014 DISC3'!M24","v":0},{"$f":"'2014 DISC3B'!N24-'2014 DISC3'!N24","v":0},"Females",{"$f":"'2014 DISC3B'!AD24-'2014 DISC3'!P24","v":0},{"$f":"'2014 DISC3B'!AE24-'2014 DISC3'!Q24","v":0},{"$f":"'2014 DISC3B'!AF24-'2014 DISC3'!R24","v":0},{"$f":"'2014 DISC3B'!AG24-'2014 DISC3'!S24","v":0},{"$f":"'2014 DISC3B'!AH24-'2014 DISC3'!T24","v":0},{"$f":"'2014 DISC3B'!AI24-'2014 DISC3'!U24","v":0},{"$f":"'2014 DISC3B'!AJ24-'2014 DISC3'!V24","v":0},{"$f":"'2014 DISC3B'!AK24-'2014 DISC3'!W24","v":0},{"$f":"'2014 DISC3B'!AL24-'2014 DISC3'!X24","v":0},{"$f":"'2014 DISC3B'!AM24-'2014 DISC3'!Y24","v":0},{"$f":"'2014 DISC3B'!AN24-'2014 DISC3'!Z24","v":0},{"$f":"'2014 DISC3B'!AO24-'2014 DISC3'!AA24","v":0},"All",{"$f":"'2014 DISC3B'!AQ24-'2014 DISC3'!AC24","v":0},{"$f":"'2014 DISC3B'!AR24-'2014 DISC3'!AD24","v":0},{"$f":"'2014 DISC3B'!AS24-'2014 DISC3'!AE24","v":0},{"$f":"'2014 DISC3B'!AT24-'2014 DISC3'!AF24","v":0},{"$f":"'2014 DISC3B'!AU24-'2014 DISC3'!AG24","v":0},{"$f":"'2014 DISC3B'!AV24-'2014 DISC3'!AH24","v":0},{"$f":"'2014 DISC3B'!AW24-'2014 DISC3'!AI24","v":0},{"$f":"'2014 DISC3B'!AX24-'2014 DISC3'!AJ24","v":0},{"$f":"'2014 DISC3B'!AY24-'2014 DISC3'!AK24","v":0},{"$f":"'2014 DISC3B'!AZ24-'2014 DISC3'!AL24","v":0},{"$f":"'2014 DISC3B'!BA24-'2014 DISC3'!AM24","v":0},{"$f":"'2014 DISC3B'!BB24-'2014 DISC3'!AN24","v":0}]
["Geography","Males",{"$f":"'2014 DISC3B'!C25-'2014 DISC3'!C25","v":8},{"$f":"'2014 DISC3B'!D25-'2014 DISC3'!D25","v":14},{"$f":"'2014 DISC3B'!E25-'2014 DISC3'!E25","v":10},{"$f":"'2014 DISC3B'!F25-'2014 DISC3'!F25","v":3},{"$f":"'2014 DISC3B'!G25-'2014 DISC3'!G25","v":0},{"$f":"'2014 DISC3B'!H25-'2014 DISC3'!H25","v":0},{"$f":"'2014 DISC3B'!I25-'2014 DISC3'!I25","v":0},{"$f":"'2014 DISC3B'!J25-'2014 DISC3'!J25","v":0},{"$f":"'2014 DISC3B'!K25-'2014 DISC3'!K25","v":22},{"$f":"'2014 DISC3B'!L25-'2014 DISC3'!L25","v":35},{"$f":"'2014 DISC3B'!M25-'2014 DISC3'!M25","v":35},{"$f":"'2014 DISC3B'!N25-'2014 DISC3'!N25","v":35},"Females",{"$f":"'2014 DISC3B'!AD25-'2014 DISC3'!P25","v":10},{"$f":"'2014 DISC3B'!AE25-'2014 DISC3'!Q25","v":17},{"$f":"'2014 DISC3B'!AF25-'2014 DISC3'!R25","v":12},{"$f":"'2014 DISC3B'!AG25-'2014 DISC3'!S25","v":2},{"$f":"'2014 DISC3B'!AH25-'2014 DISC3'!T25","v":0},{"$f":"'2014 DISC3B'!AI25-'2014 DISC3'!U25","v":0},{"$f":"'2014 DISC3B'!AJ25-'2014 DISC3'!V25","v":0},{"$f":"'2014 DISC3B'!AK25-'2014 DISC3'!W25","v":0},{"$f":"'2014 DISC3B'!AL25-'2014 DISC3'!X25","v":27},{"$f":"'2014 DISC3B'!AM25-'2014 DISC3'!Y25","v":41},{"$f":"'2014 DISC3B'!AN25-'2014 DISC3'!Z25","v":41},{"$f":"'2014 DISC3B'!AO25-'2014 DISC3'!AA25","v":41},"All",{"$f":"'2014 DISC3B'!AQ25-'2014 DISC3'!AC25","v":18},{"$f":"'2014 DISC3B'!AR25-'2014 DISC3'!AD25","v":31},{"$f":"'2014 DISC3B'!AS25-'2014 DISC3'!AE25","v":22},{"$f":"'2014 DISC3B'!AT25-'2014 DISC3'!AF25","v":5},{"$f":"'2014 DISC3B'!AU25-'2014 DISC3'!AG25","v":0},{"$f":"'2014 DISC3B'!AV25-'2014 DISC3'!AH25","v":0},{"$f":"'2014 DISC3B'!AW25-'2014 DISC3'!AI25","v":0},{"$f":"'2014 DISC3B'!AX25-'2014 DISC3'!AJ25","v":0},{"$f":"'2014 DISC3B'!AY25-'2014 DISC3'!AK25","v":49},{"$f":"'2014 DISC3B'!AZ25-'2014 DISC3'!AL25","v":76},{"$f":"'2014 DISC3B'!BA25-'2014 DISC3'!AM25","v":76},{"$f":"'2014 DISC3B'!BB25-'2014 DISC3'!AN25","v":76}]
["History","Males",{"$f":"'2014 DISC3B'!C26-'2014 DISC3'!C26","v":3},{"$f":"'2014 DISC3B'!D26-'2014 DISC3'!D26","v":13},{"$f":"'2014 DISC3B'!E26-'2014 DISC3'!E26","v":21},{"$f":"'2014 DISC3B'!F26-'2014 DISC3'!F26","v":14},{"$f":"'2014 DISC3B'!G26-'2014 DISC3'!G26","v":0},{"$f":"'2014 DISC3B'!H26-'2014 DISC3'!H26","v":0},{"$f":"'2014 DISC3B'!I26-'2014 DISC3'!I26","v":0},{"$f":"'2014 DISC3B'!J26-'2014 DISC3'!J26","v":0},{"$f":"'2014 DISC3B'!K26-'2014 DISC3'!K26","v":16},{"$f":"'2014 DISC3B'!L26-'2014 DISC3'!L26","v":51},{"$f":"'2014 DISC3B'!M26-'2014 DISC3'!M26","v":51},{"$f":"'2014 DISC3B'!N26-'2014 DISC3'!N26","v":51},"Females",{"$f":"'2014 DISC3B'!AD26-'2014 DISC3'!P26","v":17},{"$f":"'2014 DISC3B'!AE26-'2014 DISC3'!Q26","v":37},{"$f":"'2014 DISC3B'!AF26-'2014 DISC3'!R26","v":14},{"$f":"'2014 DISC3B'!AG26-'2014 DISC3'!S26","v":6},{"$f":"'2014 DISC3B'!AH26-'2014 DISC3'!T26","v":0},{"$f":"'2014 DISC3B'!AI26-'2014 DISC3'!U26","v":0},{"$f":"'2014 DISC3B'!AJ26-'2014 DISC3'!V26","v":0},{"$f":"'2014 DISC3B'!AK26-'2014 DISC3'!W26","v":0},{"$f":"'2014 DISC3B'!AL26-'2014 DISC3'!X26","v":54},{"$f":"'2014 DISC3B'!AM26-'2014 DISC3'!Y26","v":74},{"$f":"'2014 DISC3B'!AN26-'2014 DISC3'!Z26","v":74},{"$f":"'2014 DISC3B'!AO26-'2014 DISC3'!AA26","v":74},"All",{"$f":"'2014 DISC3B'!AQ26-'2014 DISC3'!AC26","v":20},{"$f":"'2014 DISC3B'!AR26-'2014 DISC3'!AD26","v":50},{"$f":"'2014 DISC3B'!AS26-'2014 DISC3'!AE26","v":35},{"$f":"'2014 DISC3B'!AT26-'2014 DISC3'!AF26","v":20},{"$f":"'2014 DISC3B'!AU26-'2014 DISC3'!AG26","v":0},{"$f":"'2014 DISC3B'!AV26-'2014 DISC3'!AH26","v":0},{"$f":"'2014 DISC3B'!AW26-'2014 DISC3'!AI26","v":0},{"$f":"'2014 DISC3B'!AX26-'2014 DISC3'!AJ26","v":0},{"$f":"'2014 DISC3B'!AY26-'2014 DISC3'!AK26","v":70},{"$f":"'2014 DISC3B'!AZ26-'2014 DISC3'!AL26","v":125},{"$f":"'2014 DISC3B'!BA26-'2014 DISC3'!AM26","v":125},{"$f":"'2014 DISC3B'!BB26-'2014 DISC3'!AN26","v":125}]
["Humanities","Males",{"$f":"'2014 DISC3B'!C27-'2014 DISC3'!C27","v":0},{"$f":"'2014 DISC3B'!D27-'2014 DISC3'!D27","v":0},{"$f":"'2014 DISC3B'!E27-'2014 DISC3'!E27","v":0},{"$f":"'2014 DISC3B'!F27-'2014 DISC3'!F27","v":0},{"$f":"'2014 DISC3B'!G27-'2014 DISC3'!G27","v":0},{"$f":"'2014 DISC3B'!H27-'2014 DISC3'!H27","v":0},{"$f":"'2014 DISC3B'!I27-'2014 DISC3'!I27","v":0},{"$f":"'2014 DISC3B'!J27-'2014 DISC3'!J27","v":0},{"$f":"'2014 DISC3B'!K27-'2014 DISC3'!K27","v":0},{"$f":"'2014 DISC3B'!L27-'2014 DISC3'!L27","v":0},{"$f":"'2014 DISC3B'!M27-'2014 DISC3'!M27","v":0},{"$f":"'2014 DISC3B'!N27-'2014 DISC3'!N27","v":0},"Females",{"$f":"'2014 DISC3B'!AD27-'2014 DISC3'!P27","v":0},{"$f":"'2014 DISC3B'!AE27-'2014 DISC3'!Q27","v":0},{"$f":"'2014 DISC3B'!AF27-'2014 DISC3'!R27","v":0},{"$f":"'2014 DISC3B'!AG27-'2014 DISC3'!S27","v":0},{"$f":"'2014 DISC3B'!AH27-'2014 DISC3'!T27","v":0},{"$f":"'2014 DISC3B'!AI27-'2014 DISC3'!U27","v":0},{"$f":"'2014 DISC3B'!AJ27-'2014 DISC3'!V27","v":0},{"$f":"'2014 DISC3B'!AK27-'2014 DISC3'!W27","v":0},{"$f":"'2014 DISC3B'!AL27-'2014 DISC3'!X27","v":0},{"$f":"'2014 DISC3B'!AM27-'2014 DISC3'!Y27","v":0},{"$f":"'2014 DISC3B'!AN27-'2014 DISC3'!Z27","v":0},{"$f":"'2014 DISC3B'!AO27-'2014 DISC3'!AA27","v":0},"All",{"$f":"'2014 DISC3B'!AQ27-'2014 DISC3'!AC27","v":0},{"$f":"'2014 DISC3B'!AR27-'2014 DISC3'!AD27","v":0},{"$f":"'2014 DISC3B'!AS27-'2014 DISC3'!AE27","v":0},{"$f":"'2014 DISC3B'!AT27-'2014 DISC3'!AF27","v":0},{"$f":"'2014 DISC3B'!AU27-'2014 DISC3'!AG27","v":0},{"$f":"'2014 DISC3B'!AV27-'2014 DISC3'!AH27","v":0},{"$f":"'2014 DISC3B'!AW27-'2014 DISC3'!AI27","v":0},{"$f":"'2014 DISC3B'!AX27-'2014 DISC3'!AJ27","v":0},{"$f":"'2014 DISC3B'!AY27-'2014 DISC3'!AK27","v":0},{"$f":"'2014 DISC3B'!AZ27-'2014 DISC3'!AL27","v":0},{"$f":"'2014 DISC3B'!BA27-'2014 DISC3'!AM27","v":0},{"$f":"'2014 DISC3B'!BB27-'2014 DISC3'!AN27","v":0}]
["Economics","Males",{"$f":"'2014 DISC3B'!C28-'2014 DISC3'!C28","v":0},{"$f":"'2014 DISC3B'!D28-'2014 DISC3'!D28","v":0},{"$f":"'2014 DISC3B'!E28-'2014 DISC3'!E28","v":1},{"$f":"'2014 DISC3B'!F28-'2014 DISC3'!F28","v":0},{"$f":"'2014 DISC3B'!G28-'2014 DISC3'!G28","v":0},{"$f":"'2014 DISC3B'!H28-'2014 DISC3'!H28","v":0},{"$f":"'2014 DISC3B'!I28-'2014 DISC3'!I28","v":0},{"$f":"'2014 DISC3B'!J28-'2014 DISC3'!J28","v":0},{"$f":"'2014 DISC3B'!K28-'2014 DISC3'!K28","v":0},{"$f":"'2014 DISC3B'!L28-'2014 DISC3'!L28","v":1},{"$f":"'2014 DISC3B'!M28-'2014 DISC3'!M28","v":1},{"$f":"'2014 DISC3B'!N28-'2014 DISC3'!N28","v":1},"Females",{"$f":"'2014 DISC3B'!AD28-'2014 DISC3'!P28","v":0},{"$f":"'2014 DISC3B'!AE28-'2014 DISC3'!Q28","v":1},{"$f":"'2014 DISC3B'!AF28-'2014 DISC3'!R28","v":0},{"$f":"'2014 DISC3B'!AG28-'2014 DISC3'!S28","v":0},{"$f":"'2014 DISC3B'!AH28-'2014 DISC3'!T28","v":0},{"$f":"'2014 DISC3B'!AI28-'2014 DISC3'!U28","v":0},{"$f":"'2014 DISC3B'!AJ28-'2014 DISC3'!V28","v":0},{"$f":"'2014 DISC3B'!AK28-'2014 DISC3'!W28","v":0},{"$f":"'2014 DISC3B'!AL28-'2014 DISC3'!X28","v":1},{"$f":"'2014 DISC3B'!AM28-'2014 DISC3'!Y28","v":1},{"$f":"'2014 DISC3B'!AN28-'2014 DISC3'!Z28","v":1},{"$f":"'2014 DISC3B'!AO28-'2014 DISC3'!AA28","v":1},"All",{"$f":"'2014 DISC3B'!AQ28-'2014 DISC3'!AC28","v":0},{"$f":"'2014 DISC3B'!AR28-'2014 DISC3'!AD28","v":1},{"$f":"'2014 DISC3B'!AS28-'2014 DISC3'!AE28","v":1},{"$f":"'2014 DISC3B'!AT28-'2014 DISC3'!AF28","v":0},{"$f":"'2014 DISC3B'!AU28-'2014 DISC3'!AG28","v":0},{"$f":"'2014 DISC3B'!AV28-'2014 DISC3'!AH28","v":0},{"$f":"'2014 DISC3B'!AW28-'2014 DISC3'!AI28","v":0},{"$f":"'2014 DISC3B'!AX28-'2014 DISC3'!AJ28","v":0},{"$f":"'2014 DISC3B'!AY28-'2014 DISC3'!AK28","v":1},{"$f":"'2014 DISC3B'!AZ28-'2014 DISC3'!AL28","v":2},{"$f":"'2014 DISC3B'!BA28-'2014 DISC3'!AM28","v":2},{"$f":"'2014 DISC3B'!BB28-'2014 DISC3'!AN28","v":2}]
["Social Studies","Males",{"$f":"'2014 DISC3B'!C29-'2014 DISC3'!C29","v":1},{"$f":"'2014 DISC3B'!D29-'2014 DISC3'!D29","v":3},{"$f":"'2014 DISC3B'!E29-'2014 DISC3'!E29","v":2},{"$f":"'2014 DISC3B'!F29-'2014 DISC3'!F29","v":0},{"$f":"'2014 DISC3B'!G29-'2014 DISC3'!G29","v":0},{"$f":"'2014 DISC3B'!H29-'2014 DISC3'!H29","v":0},{"$f":"'2014 DISC3B'!I29-'2014 DISC3'!I29","v":0},{"$f":"'2014 DISC3B'!J29-'2014 DISC3'!J29","v":0},{"$f":"'2014 DISC3B'!K29-'2014 DISC3'!K29","v":4},{"$f":"'2014 DISC3B'!L29-'2014 DISC3'!L29","v":6},{"$f":"'2014 DISC3B'!M29-'2014 DISC3'!M29","v":6},{"$f":"'2014 DISC3B'!N29-'2014 DISC3'!N29","v":6},"Females",{"$f":"'2014 DISC3B'!AD29-'2014 DISC3'!P29","v":4},{"$f":"'2014 DISC3B'!AE29-'2014 DISC3'!Q29","v":7},{"$f":"'2014 DISC3B'!AF29-'2014 DISC3'!R29","v":2},{"$f":"'2014 DISC3B'!AG29-'2014 DISC3'!S29","v":2},{"$f":"'2014 DISC3B'!AH29-'2014 DISC3'!T29","v":1},{"$f":"'2014 DISC3B'!AI29-'2014 DISC3'!U29","v":0},{"$f":"'2014 DISC3B'!AJ29-'2014 DISC3'!V29","v":0},{"$f":"'2014 DISC3B'!AK29-'2014 DISC3'!W29","v":0},{"$f":"'2014 DISC3B'!AL29-'2014 DISC3'!X29","v":11},{"$f":"'2014 DISC3B'!AM29-'2014 DISC3'!Y29","v":15},{"$f":"'2014 DISC3B'!AN29-'2014 DISC3'!Z29","v":16},{"$f":"'2014 DISC3B'!AO29-'2014 DISC3'!AA29","v":16},"All",{"$f":"'2014 DISC3B'!AQ29-'2014 DISC3'!AC29","v":5},{"$f":"'2014 DISC3B'!AR29-'2014 DISC3'!AD29","v":10},{"$f":"'2014 DISC3B'!AS29-'2014 DISC3'!AE29","v":4},{"$f":"'2014 DISC3B'!AT29-'2014 DISC3'!AF29","v":2},{"$f":"'2014 DISC3B'!AU29-'2014 DISC3'!AG29","v":1},{"$f":"'2014 DISC3B'!AV29-'2014 DISC3'!AH29","v":0},{"$f":"'2014 DISC3B'!AW29-'2014 DISC3'!AI29","v":0},{"$f":"'2014 DISC3B'!AX29-'2014 DISC3'!AJ29","v":0},{"$f":"'2014 DISC3B'!AY29-'2014 DISC3'!AK29","v":15},{"$f":"'2014 DISC3B'!AZ29-'2014 DISC3'!AL29","v":21},{"$f":"'2014 DISC3B'!BA29-'2014 DISC3'!AM29","v":22},{"$f":"'2014 DISC3B'!BB29-'2014 DISC3'!AN29","v":22}]
["Arabic","Males",{"$f":"'2014 DISC3B'!C30-'2014 DISC3'!C30","v":52},{"$f":"'2014 DISC3B'!D30-'2014 DISC3'!D30","v":12},{"$f":"'2014 DISC3B'!E30-'2014 DISC3'!E30","v":2},{"$f":"'2014 DISC3B'!F30-'2014 DISC3'!F30","v":1},{"$f":"'2014 DISC3B'!G30-'2014 DISC3'!G30","v":0},{"$f":"'2014 DISC3B'!H30-'2014 DISC3'!H30","v":0},{"$f":"'2014 DISC3B'!I30-'2014 DISC3'!I30","v":1},{"$f":"'2014 DISC3B'!J30-'2014 DISC3'!J30","v":0},{"$f":"'2014 DISC3B'!K30-'2014 DISC3'!K30","v":64},{"$f":"'2014 DISC3B'!L30-'2014 DISC3'!L30","v":67},{"$f":"'2014 DISC3B'!M30-'2014 DISC3'!M30","v":68},{"$f":"'2014 DISC3B'!N30-'2014 DISC3'!N30","v":68},"Females",{"$f":"'2014 DISC3B'!AD30-'2014 DISC3'!P30","v":79},{"$f":"'2014 DISC3B'!AE30-'2014 DISC3'!Q30","v":19},{"$f":"'2014 DISC3B'!AF30-'2014 DISC3'!R30","v":6},{"$f":"'2014 DISC3B'!AG30-'2014 DISC3'!S30","v":0},{"$f":"'2014 DISC3B'!AH30-'2014 DISC3'!T30","v":1},{"$f":"'2014 DISC3B'!AI30-'2014 DISC3'!U30","v":0},{"$f":"'2014 DISC3B'!AJ30-'2014 DISC3'!V30","v":0},{"$f":"'2014 DISC3B'!AK30-'2014 DISC3'!W30","v":0},{"$f":"'2014 DISC3B'!AL30-'2014 DISC3'!X30","v":98},{"$f":"'2014 DISC3B'!AM30-'2014 DISC3'!Y30","v":104},{"$f":"'2014 DISC3B'!AN30-'2014 DISC3'!Z30","v":105},{"$f":"'2014 DISC3B'!AO30-'2014 DISC3'!AA30","v":105},"All",{"$f":"'2014 DISC3B'!AQ30-'2014 DISC3'!AC30","v":131},{"$f":"'2014 DISC3B'!AR30-'2014 DISC3'!AD30","v":31},{"$f":"'2014 DISC3B'!AS30-'2014 DISC3'!AE30","v":8},{"$f":"'2014 DISC3B'!AT30-'2014 DISC3'!AF30","v":1},{"$f":"'2014 DISC3B'!AU30-'2014 DISC3'!AG30","v":1},{"$f":"'2014 DISC3B'!AV30-'2014 DISC3'!AH30","v":0},{"$f":"'2014 DISC3B'!AW30-'2014 DISC3'!AI30","v":1},{"$f":"'2014 DISC3B'!AX30-'2014 DISC3'!AJ30","v":0},{"$f":"'2014 DISC3B'!AY30-'2014 DISC3'!AK30","v":162},{"$f":"'2014 DISC3B'!AZ30-'2014 DISC3'!AL30","v":171},{"$f":"'2014 DISC3B'!BA30-'2014 DISC3'!AM30","v":173},{"$f":"'2014 DISC3B'!BB30-'2014 DISC3'!AN30","v":173}]
["Chinese","Males",{"$f":"'2014 DISC3B'!C31-'2014 DISC3'!C31","v":96},{"$f":"'2014 DISC3B'!D31-'2014 DISC3'!D31","v":7},{"$f":"'2014 DISC3B'!E31-'2014 DISC3'!E31","v":0},{"$f":"'2014 DISC3B'!F31-'2014 DISC3'!F31","v":0},{"$f":"'2014 DISC3B'!G31-'2014 DISC3'!G31","v":0},{"$f":"'2014 DISC3B'!H31-'2014 DISC3'!H31","v":0},{"$f":"'2014 DISC3B'!I31-'2014 DISC3'!I31","v":0},{"$f":"'2014 DISC3B'!J31-'2014 DISC3'!J31","v":0},{"$f":"'2014 DISC3B'!K31-'2014 DISC3'!K31","v":103},{"$f":"'2014 DISC3B'!L31-'2014 DISC3'!L31","v":103},{"$f":"'2014 DISC3B'!M31-'2014 DISC3'!M31","v":103},{"$f":"'2014 DISC3B'!N31-'2014 DISC3'!N31","v":103},"Females",{"$f":"'2014 DISC3B'!AD31-'2014 DISC3'!P31","v":117},{"$f":"'2014 DISC3B'!AE31-'2014 DISC3'!Q31","v":4},{"$f":"'2014 DISC3B'!AF31-'2014 DISC3'!R31","v":1},{"$f":"'2014 DISC3B'!AG31-'2014 DISC3'!S31","v":0},{"$f":"'2014 DISC3B'!AH31-'2014 DISC3'!T31","v":0},{"$f":"'2014 DISC3B'!AI31-'2014 DISC3'!U31","v":0},{"$f":"'2014 DISC3B'!AJ31-'2014 DISC3'!V31","v":0},{"$f":"'2014 DISC3B'!AK31-'2014 DISC3'!W31","v":0},{"$f":"'2014 DISC3B'!AL31-'2014 DISC3'!X31","v":121},{"$f":"'2014 DISC3B'!AM31-'2014 DISC3'!Y31","v":122},{"$f":"'2014 DISC3B'!AN31-'2014 DISC3'!Z31","v":122},{"$f":"'2014 DISC3B'!AO31-'2014 DISC3'!AA31","v":122},"All",{"$f":"'2014 DISC3B'!AQ31-'2014 DISC3'!AC31","v":213},{"$f":"'2014 DISC3B'!AR31-'2014 DISC3'!AD31","v":11},{"$f":"'2014 DISC3B'!AS31-'2014 DISC3'!AE31","v":1},{"$f":"'2014 DISC3B'!AT31-'2014 DISC3'!AF31","v":0},{"$f":"'2014 DISC3B'!AU31-'2014 DISC3'!AG31","v":0},{"$f":"'2014 DISC3B'!AV31-'2014 DISC3'!AH31","v":0},{"$f":"'2014 DISC3B'!AW31-'2014 DISC3'!AI31","v":0},{"$f":"'2014 DISC3B'!AX31-'2014 DISC3'!AJ31","v":0},{"$f":"'2014 DISC3B'!AY31-'2014 DISC3'!AK31","v":224},{"$f":"'2014 DISC3B'!AZ31-'2014 DISC3'!AL31","v":225},{"$f":"'2014 DISC3B'!BA31-'2014 DISC3'!AM31","v":225},{"$f":"'2014 DISC3B'!BB31-'2014 DISC3'!AN31","v":225}]
["French","Males",{"$f":"'2014 DISC3B'!C32-'2014 DISC3'!C32","v":82},{"$f":"'2014 DISC3B'!D32-'2014 DISC3'!D32","v":50},{"$f":"'2014 DISC3B'!E32-'2014 DISC3'!E32","v":8},{"$f":"'2014 DISC3B'!F32-'2014 DISC3'!F32","v":1},{"$f":"'2014 DISC3B'!G32-'2014 DISC3'!G32","v":0},{"$f":"'2014 DISC3B'!H32-'2014 DISC3'!H32","v":2},{"$f":"'2014 DISC3B'!I32-'2014 DISC3'!I32","v":1},{"$f":"'2014 DISC3B'!J32-'2014 DISC3'!J32","v":0},{"$f":"'2014 DISC3B'!K32-'2014 DISC3'!K32","v":132},{"$f":"'2014 DISC3B'!L32-'2014 DISC3'!L32","v":141},{"$f":"'2014 DISC3B'!M32-'2014 DISC3'!M32","v":144},{"$f":"'2014 DISC3B'!N32-'2014 DISC3'!N32","v":144},"Females",{"$f":"'2014 DISC3B'!AD32-'2014 DISC3'!P32","v":117},{"$f":"'2014 DISC3B'!AE32-'2014 DISC3'!Q32","v":51},{"$f":"'2014 DISC3B'!AF32-'2014 DISC3'!R32","v":12},{"$f":"'2014 DISC3B'!AG32-'2014 DISC3'!S32","v":2},{"$f":"'2014 DISC3B'!AH32-'2014 DISC3'!T32","v":0},{"$f":"'2014 DISC3B'!AI32-'2014 DISC3'!U32","v":0},{"$f":"'2014 DISC3B'!AJ32-'2014 DISC3'!V32","v":0},{"$f":"'2014 DISC3B'!AK32-'2014 DISC3'!W32","v":0},{"$f":"'2014 DISC3B'!AL32-'2014 DISC3'!X32","v":168},{"$f":"'2014 DISC3B'!AM32-'2014 DISC3'!Y32","v":182},{"$f":"'2014 DISC3B'!AN32-'2014 DISC3'!Z32","v":182},{"$f":"'2014 DISC3B'!AO32-'2014 DISC3'!AA32","v":182},"All",{"$f":"'2014 DISC3B'!AQ32-'2014 DISC3'!AC32","v":199},{"$f":"'2014 DISC3B'!AR32-'2014 DISC3'!AD32","v":101},{"$f":"'2014 DISC3B'!AS32-'2014 DISC3'!AE32","v":20},{"$f":"'2014 DISC3B'!AT32-'2014 DISC3'!AF32","v":3},{"$f":"'2014 DISC3B'!AU32-'2014 DISC3'!AG32","v":0},{"$f":"'2014 DISC3B'!AV32-'2014 DISC3'!AH32","v":2},{"$f":"'2014 DISC3B'!AW32-'2014 DISC3'!AI32","v":1},{"$f":"'2014 DISC3B'!AX32-'2014 DISC3'!AJ32","v":0},{"$f":"'2014 DISC3B'!AY32-'2014 DISC3'!AK32","v":300},{"$f":"'2014 DISC3B'!AZ32-'2014 DISC3'!AL32","v":323},{"$f":"'2014 DISC3B'!BA32-'2014 DISC3'!AM32","v":326},{"$f":"'2014 DISC3B'!BB32-'2014 DISC3'!AN32","v":326}]
["German","Males",{"$f":"'2014 DISC3B'!C33-'2014 DISC3'!C33","v":77},{"$f":"'2014 DISC3B'!D33-'2014 DISC3'!D33","v":35},{"$f":"'2014 DISC3B'!E33-'2014 DISC3'!E33","v":7},{"$f":"'2014 DISC3B'!F33-'2014 DISC3'!F33","v":2},{"$f":"'2014 DISC3B'!G33-'2014 DISC3'!G33","v":0},{"$f":"'2014 DISC3B'!H33-'2014 DISC3'!H33","v":0},{"$f":"'2014 DISC3B'!I33-'2014 DISC3'!I33","v":0},{"$f":"'2014 DISC3B'!J33-'2014 DISC3'!J33","v":0},{"$f":"'2014 DISC3B'!K33-'2014 DISC3'!K33","v":112},{"$f":"'2014 DISC3B'!L33-'2014 DISC3'!L33","v":121},{"$f":"'2014 DISC3B'!M33-'2014 DISC3'!M33","v":121},{"$f":"'2014 DISC3B'!N33-'2014 DISC3'!N33","v":121},"Females",{"$f":"'2014 DISC3B'!AD33-'2014 DISC3'!P33","v":82},{"$f":"'2014 DISC3B'!AE33-'2014 DISC3'!Q33","v":15},{"$f":"'2014 DISC3B'!AF33-'2014 DISC3'!R33","v":6},{"$f":"'2014 DISC3B'!AG33-'2014 DISC3'!S33","v":0},{"$f":"'2014 DISC3B'!AH33-'2014 DISC3'!T33","v":0},{"$f":"'2014 DISC3B'!AI33-'2014 DISC3'!U33","v":0},{"$f":"'2014 DISC3B'!AJ33-'2014 DISC3'!V33","v":0},{"$f":"'2014 DISC3B'!AK33-'2014 DISC3'!W33","v":0},{"$f":"'2014 DISC3B'!AL33-'2014 DISC3'!X33","v":97},{"$f":"'2014 DISC3B'!AM33-'2014 DISC3'!Y33","v":103},{"$f":"'2014 DISC3B'!AN33-'2014 DISC3'!Z33","v":103},{"$f":"'2014 DISC3B'!AO33-'2014 DISC3'!AA33","v":103},"All",{"$f":"'2014 DISC3B'!AQ33-'2014 DISC3'!AC33","v":159},{"$f":"'2014 DISC3B'!AR33-'2014 DISC3'!AD33","v":50},{"$f":"'2014 DISC3B'!AS33-'2014 DISC3'!AE33","v":13},{"$f":"'2014 DISC3B'!AT33-'2014 DISC3'!AF33","v":2},{"$f":"'2014 DISC3B'!AU33-'2014 DISC3'!AG33","v":0},{"$f":"'2014 DISC3B'!AV33-'2014 DISC3'!AH33","v":0},{"$f":"'2014 DISC3B'!AW33-'2014 DISC3'!AI33","v":0},{"$f":"'2014 DISC3B'!AX33-'2014 DISC3'!AJ33","v":0},{"$f":"'2014 DISC3B'!AY33-'2014 DISC3'!AK33","v":209},{"$f":"'2014 DISC3B'!AZ33-'2014 DISC3'!AL33","v":224},{"$f":"'2014 DISC3B'!BA33-'2014 DISC3'!AM33","v":224},{"$f":"'2014 DISC3B'!BB33-'2014 DISC3'!AN33","v":224}]
["Italian","Males",{"$f":"'2014 DISC3B'!C34-'2014 DISC3'!C34","v":41},{"$f":"'2014 DISC3B'!D34-'2014 DISC3'!D34","v":4},{"$f":"'2014 DISC3B'!E34-'2014 DISC3'!E34","v":0},{"$f":"'2014 DISC3B'!F34-'2014 DISC3'!F34","v":1},{"$f":"'2014 DISC3B'!G34-'2014 DISC3'!G34","v":0},{"$f":"'2014 DISC3B'!H34-'2014 DISC3'!H34","v":0},{"$f":"'2014 DISC3B'!I34-'2014 DISC3'!I34","v":0},{"$f":"'2014 DISC3B'!J34-'2014 DISC3'!J34","v":0},{"$f":"'2014 DISC3B'!K34-'2014 DISC3'!K34","v":45},{"$f":"'2014 DISC3B'!L34-'2014 DISC3'!L34","v":46},{"$f":"'2014 DISC3B'!M34-'2014 DISC3'!M34","v":46},{"$f":"'2014 DISC3B'!N34-'2014 DISC3'!N34","v":46},"Females",{"$f":"'2014 DISC3B'!AD34-'2014 DISC3'!P34","v":48},{"$f":"'2014 DISC3B'!AE34-'2014 DISC3'!Q34","v":1},{"$f":"'2014 DISC3B'!AF34-'2014 DISC3'!R34","v":1},{"$f":"'2014 DISC3B'!AG34-'2014 DISC3'!S34","v":1},{"$f":"'2014 DISC3B'!AH34-'2014 DISC3'!T34","v":0},{"$f":"'2014 DISC3B'!AI34-'2014 DISC3'!U34","v":0},{"$f":"'2014 DISC3B'!AJ34-'2014 DISC3'!V34","v":0},{"$f":"'2014 DISC3B'!AK34-'2014 DISC3'!W34","v":0},{"$f":"'2014 DISC3B'!AL34-'2014 DISC3'!X34","v":49},{"$f":"'2014 DISC3B'!AM34-'2014 DISC3'!Y34","v":51},{"$f":"'2014 DISC3B'!AN34-'2014 DISC3'!Z34","v":51},{"$f":"'2014 DISC3B'!AO34-'2014 DISC3'!AA34","v":51},"All",{"$f":"'2014 DISC3B'!AQ34-'2014 DISC3'!AC34","v":89},{"$f":"'2014 DISC3B'!AR34-'2014 DISC3'!AD34","v":5},{"$f":"'2014 DISC3B'!AS34-'2014 DISC3'!AE34","v":1},{"$f":"'2014 DISC3B'!AT34-'2014 DISC3'!AF34","v":2},{"$f":"'2014 DISC3B'!AU34-'2014 DISC3'!AG34","v":0},{"$f":"'2014 DISC3B'!AV34-'2014 DISC3'!AH34","v":0},{"$f":"'2014 DISC3B'!AW34-'2014 DISC3'!AI34","v":0},{"$f":"'2014 DISC3B'!AX34-'2014 DISC3'!AJ34","v":0},{"$f":"'2014 DISC3B'!AY34-'2014 DISC3'!AK34","v":94},{"$f":"'2014 DISC3B'!AZ34-'2014 DISC3'!AL34","v":97},{"$f":"'2014 DISC3B'!BA34-'2014 DISC3'!AM34","v":97},{"$f":"'2014 DISC3B'!BB34-'2014 DISC3'!AN34","v":97}]
["Polish","Males",{"$f":"'2014 DISC3B'!C35-'2014 DISC3'!C35","v":93},{"$f":"'2014 DISC3B'!D35-'2014 DISC3'!D35","v":106},{"$f":"'2014 DISC3B'!E35-'2014 DISC3'!E35","v":24},{"$f":"'2014 DISC3B'!F35-'2014 DISC3'!F35","v":5},{"$f":"'2014 DISC3B'!G35-'2014 DISC3'!G35","v":0},{"$f":"'2014 DISC3B'!H35-'2014 DISC3'!H35","v":0},{"$f":"'2014 DISC3B'!I35-'2014 DISC3'!I35","v":0},{"$f":"'2014 DISC3B'!J35-'2014 DISC3'!J35","v":1},{"$f":"'2014 DISC3B'!K35-'2014 DISC3'!K35","v":199},{"$f":"'2014 DISC3B'!L35-'2014 DISC3'!L35","v":228},{"$f":"'2014 DISC3B'!M35-'2014 DISC3'!M35","v":229},{"$f":"'2014 DISC3B'!N35-'2014 DISC3'!N35","v":229},"Females",{"$f":"'2014 DISC3B'!AD35-'2014 DISC3'!P35","v":205},{"$f":"'2014 DISC3B'!AE35-'2014 DISC3'!Q35","v":142},{"$f":"'2014 DISC3B'!AF35-'2014 DISC3'!R35","v":22},{"$f":"'2014 DISC3B'!AG35-'2014 DISC3'!S35","v":5},{"$f":"'2014 DISC3B'!AH35-'2014 DISC3'!T35","v":0},{"$f":"'2014 DISC3B'!AI35-'2014 DISC3'!U35","v":0},{"$f":"'2014 DISC3B'!AJ35-'2014 DISC3'!V35","v":0},{"$f":"'2014 DISC3B'!AK35-'2014 DISC3'!W35","v":0},{"$f":"'2014 DISC3B'!AL35-'2014 DISC3'!X35","v":347},{"$f":"'2014 DISC3B'!AM35-'2014 DISC3'!Y35","v":374},{"$f":"'2014 DISC3B'!AN35-'2014 DISC3'!Z35","v":374},{"$f":"'2014 DISC3B'!AO35-'2014 DISC3'!AA35","v":375},"All",{"$f":"'2014 DISC3B'!AQ35-'2014 DISC3'!AC35","v":298},{"$f":"'2014 DISC3B'!AR35-'2014 DISC3'!AD35","v":248},{"$f":"'2014 DISC3B'!AS35-'2014 DISC3'!AE35","v":46},{"$f":"'2014 DISC3B'!AT35-'2014 DISC3'!AF35","v":10},{"$f":"'2014 DISC3B'!AU35-'2014 DISC3'!AG35","v":0},{"$f":"'2014 DISC3B'!AV35-'2014 DISC3'!AH35","v":0},{"$f":"'2014 DISC3B'!AW35-'2014 DISC3'!AI35","v":0},{"$f":"'2014 DISC3B'!AX35-'2014 DISC3'!AJ35","v":1},{"$f":"'2014 DISC3B'!AY35-'2014 DISC3'!AK35","v":546},{"$f":"'2014 DISC3B'!AZ35-'2014 DISC3'!AL35","v":602},{"$f":"'2014 DISC3B'!BA35-'2014 DISC3'!AM35","v":603},{"$f":"'2014 DISC3B'!BB35-'2014 DISC3'!AN35","v":604}]
["Spanish","Males",{"$f":"'2014 DISC3B'!C36-'2014 DISC3'!C36","v":71},{"$f":"'2014 DISC3B'!D36-'2014 DISC3'!D36","v":13},{"$f":"'2014 DISC3B'!E36-'2014 DISC3'!E36","v":5},{"$f":"'2014 DISC3B'!F36-'2014 DISC3'!F36","v":2},{"$f":"'2014 DISC3B'!G36-'2014 DISC3'!G36","v":2},{"$f":"'2014 DISC3B'!H36-'2014 DISC3'!H36","v":3},{"$f":"'2014 DISC3B'!I36-'2014 DISC3'!I36","v":0},{"$f":"'2014 DISC3B'!J36-'2014 DISC3'!J36","v":1},{"$f":"'2014 DISC3B'!K36-'2014 DISC3'!K36","v":84},{"$f":"'2014 DISC3B'!L36-'2014 DISC3'!L36","v":91},{"$f":"'2014 DISC3B'!M36-'2014 DISC3'!M36","v":97},{"$f":"'2014 DISC3B'!N36-'2014 DISC3'!N36","v":97},"Females",{"$f":"'2014 DISC3B'!AD36-'2014 DISC3'!P36","v":152},{"$f":"'2014 DISC3B'!AE36-'2014 DISC3'!Q36","v":36},{"$f":"'2014 DISC3B'!AF36-'2014 DISC3'!R36","v":5},{"$f":"'2014 DISC3B'!AG36-'2014 DISC3'!S36","v":1},{"$f":"'2014 DISC3B'!AH36-'2014 DISC3'!T36","v":1},{"$f":"'2014 DISC3B'!AI36-'2014 DISC3'!U36","v":0},{"$f":"'2014 DISC3B'!AJ36-'2014 DISC3'!V36","v":0},{"$f":"'2014 DISC3B'!AK36-'2014 DISC3'!W36","v":0},{"$f":"'2014 DISC3B'!AL36-'2014 DISC3'!X36","v":188},{"$f":"'2014 DISC3B'!AM36-'2014 DISC3'!Y36","v":194},{"$f":"'2014 DISC3B'!AN36-'2014 DISC3'!Z36","v":195},{"$f":"'2014 DISC3B'!AO36-'2014 DISC3'!AA36","v":195},"All",{"$f":"'2014 DISC3B'!AQ36-'2014 DISC3'!AC36","v":223},{"$f":"'2014 DISC3B'!AR36-'2014 DISC3'!AD36","v":49},{"$f":"'2014 DISC3B'!AS36-'2014 DISC3'!AE36","v":10},{"$f":"'2014 DISC3B'!AT36-'2014 DISC3'!AF36","v":3},{"$f":"'2014 DISC3B'!AU36-'2014 DISC3'!AG36","v":3},{"$f":"'2014 DISC3B'!AV36-'2014 DISC3'!AH36","v":3},{"$f":"'2014 DISC3B'!AW36-'2014 DISC3'!AI36","v":0},{"$f":"'2014 DISC3B'!AX36-'2014 DISC3'!AJ36","v":1},{"$f":"'2014 DISC3B'!AY36-'2014 DISC3'!AK36","v":272},{"$f":"'2014 DISC3B'!AZ36-'2014 DISC3'!AL36","v":285},{"$f":"'2014 DISC3B'!BA36-'2014 DISC3'!AM36","v":292},{"$f":"'2014 DISC3B'!BB36-'2014 DISC3'!AN36","v":292}]
["Urdu","Males",{"$f":"'2014 DISC3B'!C37-'2014 DISC3'!C37","v":9},{"$f":"'2014 DISC3B'!D37-'2014 DISC3'!D37","v":13},{"$f":"'2014 DISC3B'!E37-'2014 DISC3'!E37","v":10},{"$f":"'2014 DISC3B'!F37-'2014 DISC3'!F37","v":1},{"$f":"'2014 DISC3B'!G37-'2014 DISC3'!G37","v":0},{"$f":"'2014 DISC3B'!H37-'2014 DISC3'!H37","v":0},{"$f":"'2014 DISC3B'!I37-'2014 DISC3'!I37","v":0},{"$f":"'2014 DISC3B'!J37-'2014 DISC3'!J37","v":0},{"$f":"'2014 DISC3B'!K37-'2014 DISC3'!K37","v":22},{"$f":"'2014 DISC3B'!L37-'2014 DISC3'!L37","v":33},{"$f":"'2014 DISC3B'!M37-'2014 DISC3'!M37","v":33},{"$f":"'2014 DISC3B'!N37-'2014 DISC3'!N37","v":33},"Females",{"$f":"'2014 DISC3B'!AD37-'2014 DISC3'!P37","v":31},{"$f":"'2014 DISC3B'!AE37-'2014 DISC3'!Q37","v":14},{"$f":"'2014 DISC3B'!AF37-'2014 DISC3'!R37","v":9},{"$f":"'2014 DISC3B'!AG37-'2014 DISC3'!S37","v":2},{"$f":"'2014 DISC3B'!AH37-'2014 DISC3'!T37","v":1},{"$f":"'2014 DISC3B'!AI37-'2014 DISC3'!U37","v":1},{"$f":"'2014 DISC3B'!AJ37-'2014 DISC3'!V37","v":0},{"$f":"'2014 DISC3B'!AK37-'2014 DISC3'!W37","v":0},{"$f":"'2014 DISC3B'!AL37-'2014 DISC3'!X37","v":45},{"$f":"'2014 DISC3B'!AM37-'2014 DISC3'!Y37","v":56},{"$f":"'2014 DISC3B'!AN37-'2014 DISC3'!Z37","v":58},{"$f":"'2014 DISC3B'!AO37-'2014 DISC3'!AA37","v":58},"All",{"$f":"'2014 DISC3B'!AQ37-'2014 DISC3'!AC37","v":40},{"$f":"'2014 DISC3B'!AR37-'2014 DISC3'!AD37","v":27},{"$f":"'2014 DISC3B'!AS37-'2014 DISC3'!AE37","v":19},{"$f":"'2014 DISC3B'!AT37-'2014 DISC3'!AF37","v":3},{"$f":"'2014 DISC3B'!AU37-'2014 DISC3'!AG37","v":1},{"$f":"'2014 DISC3B'!AV37-'2014 DISC3'!AH37","v":1},{"$f":"'2014 DISC3B'!AW37-'2014 DISC3'!AI37","v":0},{"$f":"'2014 DISC3B'!AX37-'2014 DISC3'!AJ37","v":0},{"$f":"'2014 DISC3B'!AY37-'2014 DISC3'!AK37","v":67},{"$f":"'2014 DISC3B'!AZ37-'2014 DISC3'!AL37","v":89},{"$f":"'2014 DISC3B'!BA37-'2014 DISC3'!AM37","v":91},{"$f":"'2014 DISC3B'!BB37-'2014 DISC3'!AN37","v":91}]
["Other Modern Languages","Males",{"$f":"'2014 DISC3B'!C38-'2014 DISC3'!C38","v":161},{"$f":"'2014 DISC3B'!D38-'2014 DISC3'!D38","v":85},{"$f":"'2014 DISC3B'!E38-'2014 DISC3'!E38","v":28},{"$f":"'2014 DISC3B'!F38-'2014 DISC3'!F38","v":9},{"$f":"'2014 DISC3B'!G38-'2014 DISC3'!G38","v":0},{"$f":"'2014 DISC3B'!H38-'2014 DISC3'!H38","v":0},{"$f":"'2014 DISC3B'!I38-'2014 DISC3'!I38","v":0},{"$f":"'2014 DISC3B'!J38-'2014 DISC3'!J38","v":0},{"$f":"'2014 DISC3B'!K38-'2014 DISC3'!K38","v":246},{"$f":"'2014 DISC3B'!L38-'2014 DISC3'!L38","v":283},{"$f":"'2014 DISC3B'!M38-'2014 DISC3'!M38","v":283},{"$f":"'2014 DISC3B'!N38-'2014 DISC3'!N38","v":283},"Females",{"$f":"'2014 DISC3B'!AD38-'2014 DISC3'!P38","v":301},{"$f":"'2014 DISC3B'!AE38-'2014 DISC3'!Q38","v":141},{"$f":"'2014 DISC3B'!AF38-'2014 DISC3'!R38","v":35},{"$f":"'2014 DISC3B'!AG38-'2014 DISC3'!S38","v":11},{"$f":"'2014 DISC3B'!AH38-'2014 DISC3'!T38","v":1},{"$f":"'2014 DISC3B'!AI38-'2014 DISC3'!U38","v":1},{"$f":"'2014 DISC3B'!AJ38-'2014 DISC3'!V38","v":0},{"$f":"'2014 DISC3B'!AK38-'2014 DISC3'!W38","v":0},{"$f":"'2014 DISC3B'!AL38-'2014 DISC3'!X38","v":442},{"$f":"'2014 DISC3B'!AM38-'2014 DISC3'!Y38","v":488},{"$f":"'2014 DISC3B'!AN38-'2014 DISC3'!Z38","v":490},{"$f":"'2014 DISC3B'!AO38-'2014 DISC3'!AA38","v":490},"All",{"$f":"'2014 DISC3B'!AQ38-'2014 DISC3'!AC38","v":462},{"$f":"'2014 DISC3B'!AR38-'2014 DISC3'!AD38","v":226},{"$f":"'2014 DISC3B'!AS38-'2014 DISC3'!AE38","v":63},{"$f":"'2014 DISC3B'!AT38-'2014 DISC3'!AF38","v":20},{"$f":"'2014 DISC3B'!AU38-'2014 DISC3'!AG38","v":1},{"$f":"'2014 DISC3B'!AV38-'2014 DISC3'!AH38","v":1},{"$f":"'2014 DISC3B'!AW38-'2014 DISC3'!AI38","v":0},{"$f":"'2014 DISC3B'!AX38-'2014 DISC3'!AJ38","v":0},{"$f":"'2014 DISC3B'!AY38-'2014 DISC3'!AK38","v":688},{"$f":"'2014 DISC3B'!AZ38-'2014 DISC3'!AL38","v":771},{"$f":"'2014 DISC3B'!BA38-'2014 DISC3'!AM38","v":773},{"$f":"'2014 DISC3B'!BB38-'2014 DISC3'!AN38","v":773}]
["Classical Civilisation","Males",{"$f":"'2014 DISC3B'!C39-'2014 DISC3'!C39","v":0},{"$f":"'2014 DISC3B'!D39-'2014 DISC3'!D39","v":0},{"$f":"'2014 DISC3B'!E39-'2014 DISC3'!E39","v":0},{"$f":"'2014 DISC3B'!F39-'2014 DISC3'!F39","v":0},{"$f":"'2014 DISC3B'!G39-'2014 DISC3'!G39","v":0},{"$f":"'2014 DISC3B'!H39-'2014 DISC3'!H39","v":0},{"$f":"'2014 DISC3B'!I39-'2014 DISC3'!I39","v":0},{"$f":"'2014 DISC3B'!J39-'2014 DISC3'!J39","v":0},{"$f":"'2014 DISC3B'!K39-'2014 DISC3'!K39","v":0},{"$f":"'2014 DISC3B'!L39-'2014 DISC3'!L39","v":0},{"$f":"'2014 DISC3B'!M39-'2014 DISC3'!M39","v":0},{"$f":"'2014 DISC3B'!N39-'2014 DISC3'!N39","v":0},"Females",{"$f":"'2014 DISC3B'!AD39-'2014 DISC3'!P39","v":0},{"$f":"'2014 DISC3B'!AE39-'2014 DISC3'!Q39","v":0},{"$f":"'2014 DISC3B'!AF39-'2014 DISC3'!R39","v":0},{"$f":"'2014 DISC3B'!AG39-'2014 DISC3'!S39","v":0},{"$f":"'2014 DISC3B'!AH39-'2014 DISC3'!T39","v":0},{"$f":"'2014 DISC3B'!AI39-'2014 DISC3'!U39","v":0},{"$f":"'2014 DISC3B'!AJ39-'2014 DISC3'!V39","v":0},{"$f":"'2014 DISC3B'!AK39-'2014 DISC3'!W39","v":0},{"$f":"'2014 DISC3B'!AL39-'2014 DISC3'!X39","v":0},{"$f":"'2014 DISC3B'!AM39-'2014 DISC3'!Y39","v":0},{"$f":"'2014 DISC3B'!AN39-'2014 DISC3'!Z39","v":0},{"$f":"'2014 DISC3B'!AO39-'2014 DISC3'!AA39","v":0},"All",{"$f":"'2014 DISC3B'!AQ39-'2014 DISC3'!AC39","v":0},{"$f":"'2014 DISC3B'!AR39-'2014 DISC3'!AD39","v":0},{"$f":"'2014 DISC3B'!AS39-'2014 DISC3'!AE39","v":0},{"$f":"'2014 DISC3B'!AT39-'2014 DISC3'!AF39","v":0},{"$f":"'2014 DISC3B'!AU39-'2014 DISC3'!AG39","v":0},{"$f":"'2014 DISC3B'!AV39-'2014 DISC3'!AH39","v":0},{"$f":"'2014 DISC3B'!AW39-'2014 DISC3'!AI39","v":0},{"$f":"'2014 DISC3B'!AX39-'2014 DISC3'!AJ39","v":0},{"$f":"'2014 DISC3B'!AY39-'2014 DISC3'!AK39","v":0},{"$f":"'2014 DISC3B'!AZ39-'2014 DISC3'!AL39","v":0},{"$f":"'2014 DISC3B'!BA39-'2014 DISC3'!AM39","v":0},{"$f":"'2014 DISC3B'!BB39-'2014 DISC3'!AN39","v":0}]
["Classical Greek","Males",{"$f":"'2014 DISC3B'!C40-'2014 DISC3'!C40","v":0},{"$f":"'2014 DISC3B'!D40-'2014 DISC3'!D40","v":0},{"$f":"'2014 DISC3B'!E40-'2014 DISC3'!E40","v":0},{"$f":"'2014 DISC3B'!F40-'2014 DISC3'!F40","v":0},{"$f":"'2014 DISC3B'!G40-'2014 DISC3'!G40","v":0},{"$f":"'2014 DISC3B'!H40-'2014 DISC3'!H40","v":0},{"$f":"'2014 DISC3B'!I40-'2014 DISC3'!I40","v":0},{"$f":"'2014 DISC3B'!J40-'2014 DISC3'!J40","v":0},{"$f":"'2014 DISC3B'!K40-'2014 DISC3'!K40","v":0},{"$f":"'2014 DISC3B'!L40-'2014 DISC3'!L40","v":0},{"$f":"'2014 DISC3B'!M40-'2014 DISC3'!M40","v":0},{"$f":"'2014 DISC3B'!N40-'2014 DISC3'!N40","v":0},"Females",{"$f":"'2014 DISC3B'!AD40-'2014 DISC3'!P40","v":0},{"$f":"'2014 DISC3B'!AE40-'2014 DISC3'!Q40","v":0},{"$f":"'2014 DISC3B'!AF40-'2014 DISC3'!R40","v":0},{"$f":"'2014 DISC3B'!AG40-'2014 DISC3'!S40","v":0},{"$f":"'2014 DISC3B'!AH40-'2014 DISC3'!T40","v":0},{"$f":"'2014 DISC3B'!AI40-'2014 DISC3'!U40","v":0},{"$f":"'2014 DISC3B'!AJ40-'2014 DISC3'!V40","v":0},{"$f":"'2014 DISC3B'!AK40-'2014 DISC3'!W40","v":0},{"$f":"'2014 DISC3B'!AL40-'2014 DISC3'!X40","v":0},{"$f":"'2014 DISC3B'!AM40-'2014 DISC3'!Y40","v":0},{"$f":"'2014 DISC3B'!AN40-'2014 DISC3'!Z40","v":0},{"$f":"'2014 DISC3B'!AO40-'2014 DISC3'!AA40","v":0},"All",{"$f":"'2014 DISC3B'!AQ40-'2014 DISC3'!AC40","v":0},{"$f":"'2014 DISC3B'!AR40-'2014 DISC3'!AD40","v":0},{"$f":"'2014 DISC3B'!AS40-'2014 DISC3'!AE40","v":0},{"$f":"'2014 DISC3B'!AT40-'2014 DISC3'!AF40","v":0},{"$f":"'2014 DISC3B'!AU40-'2014 DISC3'!AG40","v":0},{"$f":"'2014 DISC3B'!AV40-'2014 DISC3'!AH40","v":0},{"$f":"'2014 DISC3B'!AW40-'2014 DISC3'!AI40","v":0},{"$f":"'2014 DISC3B'!AX40-'2014 DISC3'!AJ40","v":0},{"$f":"'2014 DISC3B'!AY40-'2014 DISC3'!AK40","v":0},{"$f":"'2014 DISC3B'!AZ40-'2014 DISC3'!AL40","v":0},{"$f":"'2014 DISC3B'!BA40-'2014 DISC3'!AM40","v":0},{"$f":"'2014 DISC3B'!BB40-'2014 DISC3'!AN40","v":0}]
["Latin","Males",{"$f":"'2014 DISC3B'!C41-'2014 DISC3'!C41","v":2},{"$f":"'2014 DISC3B'!D41-'2014 DISC3'!D41","v":8},{"$f":"'2014 DISC3B'!E41-'2014 DISC3'!E41","v":10},{"$f":"'2014 DISC3B'!F41-'2014 DISC3'!F41","v":3},{"$f":"'2014 DISC3B'!G41-'2014 DISC3'!G41","v":5},{"$f":"'2014 DISC3B'!H41-'2014 DISC3'!H41","v":3},{"$f":"'2014 DISC3B'!I41-'2014 DISC3'!I41","v":0},{"$f":"'2014 DISC3B'!J41-'2014 DISC3'!J41","v":0},{"$f":"'2014 DISC3B'!K41-'2014 DISC3'!K41","v":10},{"$f":"'2014 DISC3B'!L41-'2014 DISC3'!L41","v":23},{"$f":"'2014 DISC3B'!M41-'2014 DISC3'!M41","v":31},{"$f":"'2014 DISC3B'!N41-'2014 DISC3'!N41","v":31},"Females",{"$f":"'2014 DISC3B'!AD41-'2014 DISC3'!P41","v":6},{"$f":"'2014 DISC3B'!AE41-'2014 DISC3'!Q41","v":3},{"$f":"'2014 DISC3B'!AF41-'2014 DISC3'!R41","v":3},{"$f":"'2014 DISC3B'!AG41-'2014 DISC3'!S41","v":3},{"$f":"'2014 DISC3B'!AH41-'2014 DISC3'!T41","v":2},{"$f":"'2014 DISC3B'!AI41-'2014 DISC3'!U41","v":1},{"$f":"'2014 DISC3B'!AJ41-'2014 DISC3'!V41","v":0},{"$f":"'2014 DISC3B'!AK41-'2014 DISC3'!W41","v":0},{"$f":"'2014 DISC3B'!AL41-'2014 DISC3'!X41","v":9},{"$f":"'2014 DISC3B'!AM41-'2014 DISC3'!Y41","v":15},{"$f":"'2014 DISC3B'!AN41-'2014 DISC3'!Z41","v":18},{"$f":"'2014 DISC3B'!AO41-'2014 DISC3'!AA41","v":18},"All",{"$f":"'2014 DISC3B'!AQ41-'2014 DISC3'!AC41","v":8},{"$f":"'2014 DISC3B'!AR41-'2014 DISC3'!AD41","v":11},{"$f":"'2014 DISC3B'!AS41-'2014 DISC3'!AE41","v":13},{"$f":"'2014 DISC3B'!AT41-'2014 DISC3'!AF41","v":6},{"$f":"'2014 DISC3B'!AU41-'2014 DISC3'!AG41","v":7},{"$f":"'2014 DISC3B'!AV41-'2014 DISC3'!AH41","v":4},{"$f":"'2014 DISC3B'!AW41-'2014 DISC3'!AI41","v":0},{"$f":"'2014 DISC3B'!AX41-'2014 DISC3'!AJ41","v":0},{"$f":"'2014 DISC3B'!AY41-'2014 DISC3'!AK41","v":19},{"$f":"'2014 DISC3B'!AZ41-'2014 DISC3'!AL41","v":38},{"$f":"'2014 DISC3B'!BA41-'2014 DISC3'!AM41","v":49},{"$f":"'2014 DISC3B'!BB41-'2014 DISC3'!AN41","v":49}]
["Other Classical Studies","Males",{"$f":"'2014 DISC3B'!C42-'2014 DISC3'!C42","v":4},{"$f":"'2014 DISC3B'!D42-'2014 DISC3'!D42","v":5},{"$f":"'2014 DISC3B'!E42-'2014 DISC3'!E42","v":7},{"$f":"'2014 DISC3B'!F42-'2014 DISC3'!F42","v":4},{"$f":"'2014 DISC3B'!G42-'2014 DISC3'!G42","v":0},{"$f":"'2014 DISC3B'!H42-'2014 DISC3'!H42","v":0},{"$f":"'2014 DISC3B'!I42-'2014 DISC3'!I42","v":0},{"$f":"'2014 DISC3B'!J42-'2014 DISC3'!J42","v":0},{"$f":"'2014 DISC3B'!K42-'2014 DISC3'!K42","v":9},{"$f":"'2014 DISC3B'!L42-'2014 DISC3'!L42","v":20},{"$f":"'2014 DISC3B'!M42-'2014 DISC3'!M42","v":20},{"$f":"'2014 DISC3B'!N42-'2014 DISC3'!N42","v":20},"Females",{"$f":"'2014 DISC3B'!AD42-'2014 DISC3'!P42","v":10},{"$f":"'2014 DISC3B'!AE42-'2014 DISC3'!Q42","v":5},{"$f":"'2014 DISC3B'!AF42-'2014 DISC3'!R42","v":2},{"$f":"'2014 DISC3B'!AG42-'2014 DISC3'!S42","v":0},{"$f":"'2014 DISC3B'!AH42-'2014 DISC3'!T42","v":0},{"$f":"'2014 DISC3B'!AI42-'2014 DISC3'!U42","v":0},{"$f":"'2014 DISC3B'!AJ42-'2014 DISC3'!V42","v":0},{"$f":"'2014 DISC3B'!AK42-'2014 DISC3'!W42","v":0},{"$f":"'2014 DISC3B'!AL42-'2014 DISC3'!X42","v":15},{"$f":"'2014 DISC3B'!AM42-'2014 DISC3'!Y42","v":17},{"$f":"'2014 DISC3B'!AN42-'2014 DISC3'!Z42","v":17},{"$f":"'2014 DISC3B'!AO42-'2014 DISC3'!AA42","v":17},"All",{"$f":"'2014 DISC3B'!AQ42-'2014 DISC3'!AC42","v":14},{"$f":"'2014 DISC3B'!AR42-'2014 DISC3'!AD42","v":10},{"$f":"'2014 DISC3B'!AS42-'2014 DISC3'!AE42","v":9},{"$f":"'2014 DISC3B'!AT42-'2014 DISC3'!AF42","v":4},{"$f":"'2014 DISC3B'!AU42-'2014 DISC3'!AG42","v":0},{"$f":"'2014 DISC3B'!AV42-'2014 DISC3'!AH42","v":0},{"$f":"'2014 DISC3B'!AW42-'2014 DISC3'!AI42","v":0},{"$f":"'2014 DISC3B'!AX42-'2014 DISC3'!AJ42","v":0},{"$f":"'2014 DISC3B'!AY42-'2014 DISC3'!AK42","v":24},{"$f":"'2014 DISC3B'!AZ42-'2014 DISC3'!AL42","v":37},{"$f":"'2014 DISC3B'!BA42-'2014 DISC3'!AM42","v":37},{"$f":"'2014 DISC3B'!BB42-'2014 DISC3'!AN42","v":37}]
["Applied Art and Design","Males",{"$f":"'2014 DISC3B'!C43-'2014 DISC3'!C43","v":0},{"$f":"'2014 DISC3B'!D43-'2014 DISC3'!D43","v":1},{"$f":"'2014 DISC3B'!E43-'2014 DISC3'!E43","v":0},{"$f":"'2014 DISC3B'!F43-'2014 DISC3'!F43","v":1},{"$f":"'2014 DISC3B'!G43-'2014 DISC3'!G43","v":0},{"$f":"'2014 DISC3B'!H43-'2014 DISC3'!H43","v":1},{"$f":"'2014 DISC3B'!I43-'2014 DISC3'!I43","v":0},{"$f":"'2014 DISC3B'!J43-'2014 DISC3'!J43","v":0},{"$f":"'2014 DISC3B'!K43-'2014 DISC3'!K43","v":1},{"$f":"'2014 DISC3B'!L43-'2014 DISC3'!L43","v":2},{"$f":"'2014 DISC3B'!M43-'2014 DISC3'!M43","v":3},{"$f":"'2014 DISC3B'!N43-'2014 DISC3'!N43","v":3},"Females",{"$f":"'2014 DISC3B'!AD43-'2014 DISC3'!P43","v":0},{"$f":"'2014 DISC3B'!AE43-'2014 DISC3'!Q43","v":0},{"$f":"'2014 DISC3B'!AF43-'2014 DISC3'!R43","v":0},{"$f":"'2014 DISC3B'!AG43-'2014 DISC3'!S43","v":0},{"$f":"'2014 DISC3B'!AH43-'2014 DISC3'!T43","v":2},{"$f":"'2014 DISC3B'!AI43-'2014 DISC3'!U43","v":1},{"$f":"'2014 DISC3B'!AJ43-'2014 DISC3'!V43","v":0},{"$f":"'2014 DISC3B'!AK43-'2014 DISC3'!W43","v":0},{"$f":"'2014 DISC3B'!AL43-'2014 DISC3'!X43","v":0},{"$f":"'2014 DISC3B'!AM43-'2014 DISC3'!Y43","v":0},{"$f":"'2014 DISC3B'!AN43-'2014 DISC3'!Z43","v":3},{"$f":"'2014 DISC3B'!AO43-'2014 DISC3'!AA43","v":3},"All",{"$f":"'2014 DISC3B'!AQ43-'2014 DISC3'!AC43","v":0},{"$f":"'2014 DISC3B'!AR43-'2014 DISC3'!AD43","v":1},{"$f":"'2014 DISC3B'!AS43-'2014 DISC3'!AE43","v":0},{"$f":"'2014 DISC3B'!AT43-'2014 DISC3'!AF43","v":1},{"$f":"'2014 DISC3B'!AU43-'2014 DISC3'!AG43","v":2},{"$f":"'2014 DISC3B'!AV43-'2014 DISC3'!AH43","v":2},{"$f":"'2014 DISC3B'!AW43-'2014 DISC3'!AI43","v":0},{"$f":"'2014 DISC3B'!AX43-'2014 DISC3'!AJ43","v":0},{"$f":"'2014 DISC3B'!AY43-'2014 DISC3'!AK43","v":1},{"$f":"'2014 DISC3B'!AZ43-'2014 DISC3'!AL43","v":2},{"$f":"'2014 DISC3B'!BA43-'2014 DISC3'!AM43","v":6},{"$f":"'2014 DISC3B'!BB43-'2014 DISC3'!AN43","v":6}]
["Art and Design","Males",{"$f":"'2014 DISC3B'!C44-'2014 DISC3'!C44","v":13},{"$f":"'2014 DISC3B'!D44-'2014 DISC3'!D44","v":31},{"$f":"'2014 DISC3B'!E44-'2014 DISC3'!E44","v":109},{"$f":"'2014 DISC3B'!F44-'2014 DISC3'!F44","v":277},{"$f":"'2014 DISC3B'!G44-'2014 DISC3'!G44","v":200},{"$f":"'2014 DISC3B'!H44-'2014 DISC3'!H44","v":116},{"$f":"'2014 DISC3B'!I44-'2014 DISC3'!I44","v":56},{"$f":"'2014 DISC3B'!J44-'2014 DISC3'!J44","v":23},{"$f":"'2014 DISC3B'!K44-'2014 DISC3'!K44","v":44},{"$f":"'2014 DISC3B'!L44-'2014 DISC3'!L44","v":430},{"$f":"'2014 DISC3B'!M44-'2014 DISC3'!M44","v":825},{"$f":"'2014 DISC3B'!N44-'2014 DISC3'!N44","v":834},"Females",{"$f":"'2014 DISC3B'!AD44-'2014 DISC3'!P44","v":70},{"$f":"'2014 DISC3B'!AE44-'2014 DISC3'!Q44","v":182},{"$f":"'2014 DISC3B'!AF44-'2014 DISC3'!R44","v":356},{"$f":"'2014 DISC3B'!AG44-'2014 DISC3'!S44","v":552},{"$f":"'2014 DISC3B'!AH44-'2014 DISC3'!T44","v":250},{"$f":"'2014 DISC3B'!AI44-'2014 DISC3'!U44","v":124},{"$f":"'2014 DISC3B'!AJ44-'2014 DISC3'!V44","v":52},{"$f":"'2014 DISC3B'!AK44-'2014 DISC3'!W44","v":14},{"$f":"'2014 DISC3B'!AL44-'2014 DISC3'!X44","v":252},{"$f":"'2014 DISC3B'!AM44-'2014 DISC3'!Y44","v":1160},{"$f":"'2014 DISC3B'!AN44-'2014 DISC3'!Z44","v":1600},{"$f":"'2014 DISC3B'!AO44-'2014 DISC3'!AA44","v":1610},"All",{"$f":"'2014 DISC3B'!AQ44-'2014 DISC3'!AC44","v":83},{"$f":"'2014 DISC3B'!AR44-'2014 DISC3'!AD44","v":213},{"$f":"'2014 DISC3B'!AS44-'2014 DISC3'!AE44","v":465},{"$f":"'2014 DISC3B'!AT44-'2014 DISC3'!AF44","v":829},{"$f":"'2014 DISC3B'!AU44-'2014 DISC3'!AG44","v":450},{"$f":"'2014 DISC3B'!AV44-'2014 DISC3'!AH44","v":240},{"$f":"'2014 DISC3B'!AW44-'2014 DISC3'!AI44","v":108},{"$f":"'2014 DISC3B'!AX44-'2014 DISC3'!AJ44","v":37},{"$f":"'2014 DISC3B'!AY44-'2014 DISC3'!AK44","v":296},{"$f":"'2014 DISC3B'!AZ44-'2014 DISC3'!AL44","v":1590},{"$f":"'2014 DISC3B'!BA44-'2014 DISC3'!AM44","v":2425},{"$f":"'2014 DISC3B'!BB44-'2014 DISC3'!AN44","v":2444}]
["Communication Studies","Males",{"$f":"'2014 DISC3B'!C45-'2014 DISC3'!C45","v":1},{"$f":"'2014 DISC3B'!D45-'2014 DISC3'!D45","v":13},{"$f":"'2014 DISC3B'!E45-'2014 DISC3'!E45","v":24},{"$f":"'2014 DISC3B'!F45-'2014 DISC3'!F45","v":50},{"$f":"'2014 DISC3B'!G45-'2014 DISC3'!G45","v":43},{"$f":"'2014 DISC3B'!H45-'2014 DISC3'!H45","v":30},{"$f":"'2014 DISC3B'!I45-'2014 DISC3'!I45","v":13},{"$f":"'2014 DISC3B'!J45-'2014 DISC3'!J45","v":10},{"$f":"'2014 DISC3B'!K45-'2014 DISC3'!K45","v":14},{"$f":"'2014 DISC3B'!L45-'2014 DISC3'!L45","v":88},{"$f":"'2014 DISC3B'!M45-'2014 DISC3'!M45","v":184},{"$f":"'2014 DISC3B'!N45-'2014 DISC3'!N45","v":186},"Females",{"$f":"'2014 DISC3B'!AD45-'2014 DISC3'!P45","v":4},{"$f":"'2014 DISC3B'!AE45-'2014 DISC3'!Q45","v":15},{"$f":"'2014 DISC3B'!AF45-'2014 DISC3'!R45","v":31},{"$f":"'2014 DISC3B'!AG45-'2014 DISC3'!S45","v":38},{"$f":"'2014 DISC3B'!AH45-'2014 DISC3'!T45","v":26},{"$f":"'2014 DISC3B'!AI45-'2014 DISC3'!U45","v":11},{"$f":"'2014 DISC3B'!AJ45-'2014 DISC3'!V45","v":12},{"$f":"'2014 DISC3B'!AK45-'2014 DISC3'!W45","v":4},{"$f":"'2014 DISC3B'!AL45-'2014 DISC3'!X45","v":19},{"$f":"'2014 DISC3B'!AM45-'2014 DISC3'!Y45","v":88},{"$f":"'2014 DISC3B'!AN45-'2014 DISC3'!Z45","v":141},{"$f":"'2014 DISC3B'!AO45-'2014 DISC3'!AA45","v":143},"All",{"$f":"'2014 DISC3B'!AQ45-'2014 DISC3'!AC45","v":5},{"$f":"'2014 DISC3B'!AR45-'2014 DISC3'!AD45","v":28},{"$f":"'2014 DISC3B'!AS45-'2014 DISC3'!AE45","v":55},{"$f":"'2014 DISC3B'!AT45-'2014 DISC3'!AF45","v":88},{"$f":"'2014 DISC3B'!AU45-'2014 DISC3'!AG45","v":69},{"$f":"'2014 DISC3B'!AV45-'2014 DISC3'!AH45","v":41},{"$f":"'2014 DISC3B'!AW45-'2014 DISC3'!AI45","v":25},{"$f":"'2014 DISC3B'!AX45-'2014 DISC3'!AJ45","v":14},{"$f":"'2014 DISC3B'!AY45-'2014 DISC3'!AK45","v":33},{"$f":"'2014 DISC3B'!AZ45-'2014 DISC3'!AL45","v":176},{"$f":"'2014 DISC3B'!BA45-'2014 DISC3'!AM45","v":325},{"$f":"'2014 DISC3B'!BB45-'2014 DISC3'!AN45","v":329}]
["Drama","Males",{"$f":"'2014 DISC3B'!C46-'2014 DISC3'!C46","v":5},{"$f":"'2014 DISC3B'!D46-'2014 DISC3'!D46","v":46},{"$f":"'2014 DISC3B'!E46-'2014 DISC3'!E46","v":93},{"$f":"'2014 DISC3B'!F46-'2014 DISC3'!F46","v":153},{"$f":"'2014 DISC3B'!G46-'2014 DISC3'!G46","v":115},{"$f":"'2014 DISC3B'!H46-'2014 DISC3'!H46","v":56},{"$f":"'2014 DISC3B'!I46-'2014 DISC3'!I46","v":28},{"$f":"'2014 DISC3B'!J46-'2014 DISC3'!J46","v":3},{"$f":"'2014 DISC3B'!K46-'2014 DISC3'!K46","v":51},{"$f":"'2014 DISC3B'!L46-'2014 DISC3'!L46","v":297},{"$f":"'2014 DISC3B'!M46-'2014 DISC3'!M46","v":499},{"$f":"'2014 DISC3B'!N46-'2014 DISC3'!N46","v":505},"Females",{"$f":"'2014 DISC3B'!AD46-'2014 DISC3'!P46","v":23},{"$f":"'2014 DISC3B'!AE46-'2014 DISC3'!Q46","v":142},{"$f":"'2014 DISC3B'!AF46-'2014 DISC3'!R46","v":238},{"$f":"'2014 DISC3B'!AG46-'2014 DISC3'!S46","v":279},{"$f":"'2014 DISC3B'!AH46-'2014 DISC3'!T46","v":200},{"$f":"'2014 DISC3B'!AI46-'2014 DISC3'!U46","v":71},{"$f":"'2014 DISC3B'!AJ46-'2014 DISC3'!V46","v":21},{"$f":"'2014 DISC3B'!AK46-'2014 DISC3'!W46","v":13},{"$f":"'2014 DISC3B'!AL46-'2014 DISC3'!X46","v":165},{"$f":"'2014 DISC3B'!AM46-'2014 DISC3'!Y46","v":682},{"$f":"'2014 DISC3B'!AN46-'2014 DISC3'!Z46","v":987},{"$f":"'2014 DISC3B'!AO46-'2014 DISC3'!AA46","v":993},"All",{"$f":"'2014 DISC3B'!AQ46-'2014 DISC3'!AC46","v":28},{"$f":"'2014 DISC3B'!AR46-'2014 DISC3'!AD46","v":188},{"$f":"'2014 DISC3B'!AS46-'2014 DISC3'!AE46","v":331},{"$f":"'2014 DISC3B'!AT46-'2014 DISC3'!AF46","v":432},{"$f":"'2014 DISC3B'!AU46-'2014 DISC3'!AG46","v":315},{"$f":"'2014 DISC3B'!AV46-'2014 DISC3'!AH46","v":127},{"$f":"'2014 DISC3B'!AW46-'2014 DISC3'!AI46","v":49},{"$f":"'2014 DISC3B'!AX46-'2014 DISC3'!AJ46","v":16},{"$f":"'2014 DISC3B'!AY46-'2014 DISC3'!AK46","v":216},{"$f":"'2014 DISC3B'!AZ46-'2014 DISC3'!AL46","v":979},{"$f":"'2014 DISC3B'!BA46-'2014 DISC3'!AM46","v":1486},{"$f":"'2014 DISC3B'!BB46-'2014 DISC3'!AN46","v":1498}]
["English Literature","Males",{"$f":"'2014 DISC3B'!C47-'2014 DISC3'!C47","v":3},{"$f":"'2014 DISC3B'!D47-'2014 DISC3'!D47","v":25},{"$f":"'2014 DISC3B'!E47-'2014 DISC3'!E47","v":46},{"$f":"'2014 DISC3B'!F47-'2014 DISC3'!F47","v":56},{"$f":"'2014 DISC3B'!G47-'2014 DISC3'!G47","v":80},{"$f":"'2014 DISC3B'!H47-'2014 DISC3'!H47","v":13},{"$f":"'2014 DISC3B'!I47-'2014 DISC3'!I47","v":1},{"$f":"'2014 DISC3B'!J47-'2014 DISC3'!J47","v":0},{"$f":"'2014 DISC3B'!K47-'2014 DISC3'!K47","v":28},{"$f":"'2014 DISC3B'!L47-'2014 DISC3'!L47","v":130},{"$f":"'2014 DISC3B'!M47-'2014 DISC3'!M47","v":224},{"$f":"'2014 DISC3B'!N47-'2014 DISC3'!N47","v":230},"Females",{"$f":"'2014 DISC3B'!AD47-'2014 DISC3'!P47","v":14},{"$f":"'2014 DISC3B'!AE47-'2014 DISC3'!Q47","v":27},{"$f":"'2014 DISC3B'!AF47-'2014 DISC3'!R47","v":40},{"$f":"'2014 DISC3B'!AG47-'2014 DISC3'!S47","v":26},{"$f":"'2014 DISC3B'!AH47-'2014 DISC3'!T47","v":31},{"$f":"'2014 DISC3B'!AI47-'2014 DISC3'!U47","v":6},{"$f":"'2014 DISC3B'!AJ47-'2014 DISC3'!V47","v":4},{"$f":"'2014 DISC3B'!AK47-'2014 DISC3'!W47","v":1},{"$f":"'2014 DISC3B'!AL47-'2014 DISC3'!X47","v":41},{"$f":"'2014 DISC3B'!AM47-'2014 DISC3'!Y47","v":107},{"$f":"'2014 DISC3B'!AN47-'2014 DISC3'!Z47","v":149},{"$f":"'2014 DISC3B'!AO47-'2014 DISC3'!AA47","v":157},"All",{"$f":"'2014 DISC3B'!AQ47-'2014 DISC3'!AC47","v":17},{"$f":"'2014 DISC3B'!AR47-'2014 DISC3'!AD47","v":52},{"$f":"'2014 DISC3B'!AS47-'2014 DISC3'!AE47","v":86},{"$f":"'2014 DISC3B'!AT47-'2014 DISC3'!AF47","v":82},{"$f":"'2014 DISC3B'!AU47-'2014 DISC3'!AG47","v":111},{"$f":"'2014 DISC3B'!AV47-'2014 DISC3'!AH47","v":19},{"$f":"'2014 DISC3B'!AW47-'2014 DISC3'!AI47","v":5},{"$f":"'2014 DISC3B'!AX47-'2014 DISC3'!AJ47","v":1},{"$f":"'2014 DISC3B'!AY47-'2014 DISC3'!AK47","v":69},{"$f":"'2014 DISC3B'!AZ47-'2014 DISC3'!AL47","v":237},{"$f":"'2014 DISC3B'!BA47-'2014 DISC3'!AM47","v":373},{"$f":"'2014 DISC3B'!BB47-'2014 DISC3'!AN47","v":387}]
["English Studies","Males",{"$f":"'2014 DISC3B'!C48-'2014 DISC3'!C48","v":0},{"$f":"'2014 DISC3B'!D48-'2014 DISC3'!D48","v":0},{"$f":"'2014 DISC3B'!E48-'2014 DISC3'!E48","v":0},{"$f":"'2014 DISC3B'!F48-'2014 DISC3'!F48","v":0},{"$f":"'2014 DISC3B'!G48-'2014 DISC3'!G48","v":0},{"$f":"'2014 DISC3B'!H48-'2014 DISC3'!H48","v":0},{"$f":"'2014 DISC3B'!I48-'2014 DISC3'!I48","v":0},{"$f":"'2014 DISC3B'!J48-'2014 DISC3'!J48","v":0},{"$f":"'2014 DISC3B'!K48-'2014 DISC3'!K48","v":0},{"$f":"'2014 DISC3B'!L48-'2014 DISC3'!L48","v":0},{"$f":"'2014 DISC3B'!M48-'2014 DISC3'!M48","v":0},{"$f":"'2014 DISC3B'!N48-'2014 DISC3'!N48","v":0},"Females",{"$f":"'2014 DISC3B'!AD48-'2014 DISC3'!P48","v":0},{"$f":"'2014 DISC3B'!AE48-'2014 DISC3'!Q48","v":0},{"$f":"'2014 DISC3B'!AF48-'2014 DISC3'!R48","v":0},{"$f":"'2014 DISC3B'!AG48-'2014 DISC3'!S48","v":0},{"$f":"'2014 DISC3B'!AH48-'2014 DISC3'!T48","v":0},{"$f":"'2014 DISC3B'!AI48-'2014 DISC3'!U48","v":0},{"$f":"'2014 DISC3B'!AJ48-'2014 DISC3'!V48","v":0},{"$f":"'2014 DISC3B'!AK48-'2014 DISC3'!W48","v":0},{"$f":"'2014 DISC3B'!AL48-'2014 DISC3'!X48","v":0},{"$f":"'2014 DISC3B'!AM48-'2014 DISC3'!Y48","v":0},{"$f":"'2014 DISC3B'!AN48-'2014 DISC3'!Z48","v":0},{"$f":"'2014 DISC3B'!AO48-'2014 DISC3'!AA48","v":0},"All",{"$f":"'2014 DISC3B'!AQ48-'2014 DISC3'!AC48","v":0},{"$f":"'2014 DISC3B'!AR48-'2014 DISC3'!AD48","v":0},{"$f":"'2014 DISC3B'!AS48-'2014 DISC3'!AE48","v":0},{"$f":"'2014 DISC3B'!AT48-'2014 DISC3'!AF48","v":0},{"$f":"'2014 DISC3B'!AU48-'2014 DISC3'!AG48","v":0},{"$f":"'2014 DISC3B'!AV48-'2014 DISC3'!AH48","v":0},{"$f":"'2014 DISC3B'!AW48-'2014 DISC3'!AI48","v":0},{"$f":"'2014 DISC3B'!AX48-'2014 DISC3'!AJ48","v":0},{"$f":"'2014 DISC3B'!AY48-'2014 DISC3'!AK48","v":0},{"$f":"'2014 DISC3B'!AZ48-'2014 DISC3'!AL48","v":0},{"$f":"'2014 DISC3B'!BA48-'2014 DISC3'!AM48","v":0},{"$f":"'2014 DISC3B'!BB48-'2014 DISC3'!AN48","v":0}]
["General Studies","Males",{"$f":"'2014 DISC3B'!C49-'2014 DISC3'!C49","v":0},{"$f":"'2014 DISC3B'!D49-'2014 DISC3'!D49","v":1},{"$f":"'2014 DISC3B'!E49-'2014 DISC3'!E49","v":4},{"$f":"'2014 DISC3B'!F49-'2014 DISC3'!F49","v":4},{"$f":"'2014 DISC3B'!G49-'2014 DISC3'!G49","v":0},{"$f":"'2014 DISC3B'!H49-'2014 DISC3'!H49","v":0},{"$f":"'2014 DISC3B'!I49-'2014 DISC3'!I49","v":0},{"$f":"'2014 DISC3B'!J49-'2014 DISC3'!J49","v":0},{"$f":"'2014 DISC3B'!K49-'2014 DISC3'!K49","v":1},{"$f":"'2014 DISC3B'!L49-'2014 DISC3'!L49","v":9},{"$f":"'2014 DISC3B'!M49-'2014 DISC3'!M49","v":9},{"$f":"'2014 DISC3B'!N49-'2014 DISC3'!N49","v":9},"Females",{"$f":"'2014 DISC3B'!AD49-'2014 DISC3'!P49","v":0},{"$f":"'2014 DISC3B'!AE49-'2014 DISC3'!Q49","v":4},{"$f":"'2014 DISC3B'!AF49-'2014 DISC3'!R49","v":3},{"$f":"'2014 DISC3B'!AG49-'2014 DISC3'!S49","v":1},{"$f":"'2014 DISC3B'!AH49-'2014 DISC3'!T49","v":1},{"$f":"'2014 DISC3B'!AI49-'2014 DISC3'!U49","v":0},{"$f":"'2014 DISC3B'!AJ49-'2014 DISC3'!V49","v":0},{"$f":"'2014 DISC3B'!AK49-'2014 DISC3'!W49","v":0},{"$f":"'2014 DISC3B'!AL49-'2014 DISC3'!X49","v":4},{"$f":"'2014 DISC3B'!AM49-'2014 DISC3'!Y49","v":8},{"$f":"'2014 DISC3B'!AN49-'2014 DISC3'!Z49","v":9},{"$f":"'2014 DISC3B'!AO49-'2014 DISC3'!AA49","v":9},"All",{"$f":"'2014 DISC3B'!AQ49-'2014 DISC3'!AC49","v":0},{"$f":"'2014 DISC3B'!AR49-'2014 DISC3'!AD49","v":5},{"$f":"'2014 DISC3B'!AS49-'2014 DISC3'!AE49","v":7},{"$f":"'2014 DISC3B'!AT49-'2014 DISC3'!AF49","v":5},{"$f":"'2014 DISC3B'!AU49-'2014 DISC3'!AG49","v":1},{"$f":"'2014 DISC3B'!AV49-'2014 DISC3'!AH49","v":0},{"$f":"'2014 DISC3B'!AW49-'2014 DISC3'!AI49","v":0},{"$f":"'2014 DISC3B'!AX49-'2014 DISC3'!AJ49","v":0},{"$f":"'2014 DISC3B'!AY49-'2014 DISC3'!AK49","v":5},{"$f":"'2014 DISC3B'!AZ49-'2014 DISC3'!AL49","v":17},{"$f":"'2014 DISC3B'!BA49-'2014 DISC3'!AM49","v":18},{"$f":"'2014 DISC3B'!BB49-'2014 DISC3'!AN49","v":18}]
["Health and Social Care","Males",{"$f":"'2014 DISC3B'!C50-'2014 DISC3'!C50","v":0},{"$f":"'2014 DISC3B'!D50-'2014 DISC3'!D50","v":0},{"$f":"'2014 DISC3B'!E50-'2014 DISC3'!E50","v":1},{"$f":"'2014 DISC3B'!F50-'2014 DISC3'!F50","v":1},{"$f":"'2014 DISC3B'!G50-'2014 DISC3'!G50","v":6},{"$f":"'2014 DISC3B'!H50-'2014 DISC3'!H50","v":2},{"$f":"'2014 DISC3B'!I50-'2014 DISC3'!I50","v":2},{"$f":"'2014 DISC3B'!J50-'2014 DISC3'!J50","v":0},{"$f":"'2014 DISC3B'!K50-'2014 DISC3'!K50","v":0},{"$f":"'2014 DISC3B'!L50-'2014 DISC3'!L50","v":2},{"$f":"'2014 DISC3B'!M50-'2014 DISC3'!M50","v":12},{"$f":"'2014 DISC3B'!N50-'2014 DISC3'!N50","v":14},"Females",{"$f":"'2014 DISC3B'!AD50-'2014 DISC3'!P50","v":0},{"$f":"'2014 DISC3B'!AE50-'2014 DISC3'!Q50","v":3},{"$f":"'2014 DISC3B'!AF50-'2014 DISC3'!R50","v":34},{"$f":"'2014 DISC3B'!AG50-'2014 DISC3'!S50","v":64},{"$f":"'2014 DISC3B'!AH50-'2014 DISC3'!T50","v":100},{"$f":"'2014 DISC3B'!AI50-'2014 DISC3'!U50","v":50},{"$f":"'2014 DISC3B'!AJ50-'2014 DISC3'!V50","v":48},{"$f":"'2014 DISC3B'!AK50-'2014 DISC3'!W50","v":27},{"$f":"'2014 DISC3B'!AL50-'2014 DISC3'!X50","v":3},{"$f":"'2014 DISC3B'!AM50-'2014 DISC3'!Y50","v":101},{"$f":"'2014 DISC3B'!AN50-'2014 DISC3'!Z50","v":326},{"$f":"'2014 DISC3B'!AO50-'2014 DISC3'!AA50","v":336},"All",{"$f":"'2014 DISC3B'!AQ50-'2014 DISC3'!AC50","v":0},{"$f":"'2014 DISC3B'!AR50-'2014 DISC3'!AD50","v":3},{"$f":"'2014 DISC3B'!AS50-'2014 DISC3'!AE50","v":35},{"$f":"'2014 DISC3B'!AT50-'2014 DISC3'!AF50","v":65},{"$f":"'2014 DISC3B'!AU50-'2014 DISC3'!AG50","v":106},{"$f":"'2014 DISC3B'!AV50-'2014 DISC3'!AH50","v":52},{"$f":"'2014 DISC3B'!AW50-'2014 DISC3'!AI50","v":50},{"$f":"'2014 DISC3B'!AX50-'2014 DISC3'!AJ50","v":27},{"$f":"'2014 DISC3B'!AY50-'2014 DISC3'!AK50","v":3},{"$f":"'2014 DISC3B'!AZ50-'2014 DISC3'!AL50","v":103},{"$f":"'2014 DISC3B'!BA50-'2014 DISC3'!AM50","v":338},{"$f":"'2014 DISC3B'!BB50-'2014 DISC3'!AN50","v":350}]
["Hospitality and Catering","Males",{"$f":"'2014 DISC3B'!C51-'2014 DISC3'!C51","v":0},{"$f":"'2014 DISC3B'!D51-'2014 DISC3'!D51","v":0},{"$f":"'2014 DISC3B'!E51-'2014 DISC3'!E51","v":0},{"$f":"'2014 DISC3B'!F51-'2014 DISC3'!F51","v":0},{"$f":"'2014 DISC3B'!G51-'2014 DISC3'!G51","v":0},{"$f":"'2014 DISC3B'!H51-'2014 DISC3'!H51","v":0},{"$f":"'2014 DISC3B'!I51-'2014 DISC3'!I51","v":0},{"$f":"'2014 DISC3B'!J51-'2014 DISC3'!J51","v":0},{"$f":"'2014 DISC3B'!K51-'2014 DISC3'!K51","v":0},{"$f":"'2014 DISC3B'!L51-'2014 DISC3'!L51","v":0},{"$f":"'2014 DISC3B'!M51-'2014 DISC3'!M51","v":0},{"$f":"'2014 DISC3B'!N51-'2014 DISC3'!N51","v":0},"Females",{"$f":"'2014 DISC3B'!AD51-'2014 DISC3'!P51","v":0},{"$f":"'2014 DISC3B'!AE51-'2014 DISC3'!Q51","v":0},{"$f":"'2014 DISC3B'!AF51-'2014 DISC3'!R51","v":0},{"$f":"'2014 DISC3B'!AG51-'2014 DISC3'!S51","v":0},{"$f":"'2014 DISC3B'!AH51-'2014 DISC3'!T51","v":0},{"$f":"'2014 DISC3B'!AI51-'2014 DISC3'!U51","v":0},{"$f":"'2014 DISC3B'!AJ51-'2014 DISC3'!V51","v":0},{"$f":"'2014 DISC3B'!AK51-'2014 DISC3'!W51","v":0},{"$f":"'2014 DISC3B'!AL51-'2014 DISC3'!X51","v":0},{"$f":"'2014 DISC3B'!AM51-'2014 DISC3'!Y51","v":0},{"$f":"'2014 DISC3B'!AN51-'2014 DISC3'!Z51","v":0},{"$f":"'2014 DISC3B'!AO51-'2014 DISC3'!AA51","v":0},"All",{"$f":"'2014 DISC3B'!AQ51-'2014 DISC3'!AC51","v":0},{"$f":"'2014 DISC3B'!AR51-'2014 DISC3'!AD51","v":0},{"$f":"'2014 DISC3B'!AS51-'2014 DISC3'!AE51","v":0},{"$f":"'2014 DISC3B'!AT51-'2014 DISC3'!AF51","v":0},{"$f":"'2014 DISC3B'!AU51-'2014 DISC3'!AG51","v":0},{"$f":"'2014 DISC3B'!AV51-'2014 DISC3'!AH51","v":0},{"$f":"'2014 DISC3B'!AW51-'2014 DISC3'!AI51","v":0},{"$f":"'2014 DISC3B'!AX51-'2014 DISC3'!AJ51","v":0},{"$f":"'2014 DISC3B'!AY51-'2014 DISC3'!AK51","v":0},{"$f":"'2014 DISC3B'!AZ51-'2014 DISC3'!AL51","v":0},{"$f":"'2014 DISC3B'!BA51-'2014 DISC3'!AM51","v":0},{"$f":"'2014 DISC3B'!BB51-'2014 DISC3'!AN51","v":0}]
["Leisure and Tourism","Males",{"$f":"'2014 DISC3B'!C52-'2014 DISC3'!C52","v":0},{"$f":"'2014 DISC3B'!D52-'2014 DISC3'!D52","v":5},{"$f":"'2014 DISC3B'!E52-'2014 DISC3'!E52","v":1},{"$f":"'2014 DISC3B'!F52-'2014 DISC3'!F52","v":11},{"$f":"'2014 DISC3B'!G52-'2014 DISC3'!G52","v":10},{"$f":"'2014 DISC3B'!H52-'2014 DISC3'!H52","v":6},{"$f":"'2014 DISC3B'!I52-'2014 DISC3'!I52","v":7},{"$f":"'2014 DISC3B'!J52-'2014 DISC3'!J52","v":3},{"$f":"'2014 DISC3B'!K52-'2014 DISC3'!K52","v":5},{"$f":"'2014 DISC3B'!L52-'2014 DISC3'!L52","v":17},{"$f":"'2014 DISC3B'!M52-'2014 DISC3'!M52","v":43},{"$f":"'2014 DISC3B'!N52-'2014 DISC3'!N52","v":45},"Females",{"$f":"'2014 DISC3B'!AD52-'2014 DISC3'!P52","v":1},{"$f":"'2014 DISC3B'!AE52-'2014 DISC3'!Q52","v":4},{"$f":"'2014 DISC3B'!AF52-'2014 DISC3'!R52","v":4},{"$f":"'2014 DISC3B'!AG52-'2014 DISC3'!S52","v":13},{"$f":"'2014 DISC3B'!AH52-'2014 DISC3'!T52","v":10},{"$f":"'2014 DISC3B'!AI52-'2014 DISC3'!U52","v":11},{"$f":"'2014 DISC3B'!AJ52-'2014 DISC3'!V52","v":10},{"$f":"'2014 DISC3B'!AK52-'2014 DISC3'!W52","v":4},{"$f":"'2014 DISC3B'!AL52-'2014 DISC3'!X52","v":5},{"$f":"'2014 DISC3B'!AM52-'2014 DISC3'!Y52","v":22},{"$f":"'2014 DISC3B'!AN52-'2014 DISC3'!Z52","v":57},{"$f":"'2014 DISC3B'!AO52-'2014 DISC3'!AA52","v":63},"All",{"$f":"'2014 DISC3B'!AQ52-'2014 DISC3'!AC52","v":1},{"$f":"'2014 DISC3B'!AR52-'2014 DISC3'!AD52","v":9},{"$f":"'2014 DISC3B'!AS52-'2014 DISC3'!AE52","v":5},{"$f":"'2014 DISC3B'!AT52-'2014 DISC3'!AF52","v":24},{"$f":"'2014 DISC3B'!AU52-'2014 DISC3'!AG52","v":20},{"$f":"'2014 DISC3B'!AV52-'2014 DISC3'!AH52","v":17},{"$f":"'2014 DISC3B'!AW52-'2014 DISC3'!AI52","v":17},{"$f":"'2014 DISC3B'!AX52-'2014 DISC3'!AJ52","v":7},{"$f":"'2014 DISC3B'!AY52-'2014 DISC3'!AK52","v":10},{"$f":"'2014 DISC3B'!AZ52-'2014 DISC3'!AL52","v":39},{"$f":"'2014 DISC3B'!BA52-'2014 DISC3'!AM52","v":100},{"$f":"'2014 DISC3B'!BB52-'2014 DISC3'!AN52","v":108}]
["Manufacturing","Males",{"$f":"'2014 DISC3B'!C53-'2014 DISC3'!C53","v":0},{"$f":"'2014 DISC3B'!D53-'2014 DISC3'!D53","v":0},{"$f":"'2014 DISC3B'!E53-'2014 DISC3'!E53","v":0},{"$f":"'2014 DISC3B'!F53-'2014 DISC3'!F53","v":0},{"$f":"'2014 DISC3B'!G53-'2014 DISC3'!G53","v":0},{"$f":"'2014 DISC3B'!H53-'2014 DISC3'!H53","v":0},{"$f":"'2014 DISC3B'!I53-'2014 DISC3'!I53","v":0},{"$f":"'2014 DISC3B'!J53-'2014 DISC3'!J53","v":0},{"$f":"'2014 DISC3B'!K53-'2014 DISC3'!K53","v":0},{"$f":"'2014 DISC3B'!L53-'2014 DISC3'!L53","v":0},{"$f":"'2014 DISC3B'!M53-'2014 DISC3'!M53","v":0},{"$f":"'2014 DISC3B'!N53-'2014 DISC3'!N53","v":0},"Females",{"$f":"'2014 DISC3B'!AD53-'2014 DISC3'!P53","v":0},{"$f":"'2014 DISC3B'!AE53-'2014 DISC3'!Q53","v":0},{"$f":"'2014 DISC3B'!AF53-'2014 DISC3'!R53","v":0},{"$f":"'2014 DISC3B'!AG53-'2014 DISC3'!S53","v":0},{"$f":"'2014 DISC3B'!AH53-'2014 DISC3'!T53","v":0},{"$f":"'2014 DISC3B'!AI53-'2014 DISC3'!U53","v":0},{"$f":"'2014 DISC3B'!AJ53-'2014 DISC3'!V53","v":0},{"$f":"'2014 DISC3B'!AK53-'2014 DISC3'!W53","v":0},{"$f":"'2014 DISC3B'!AL53-'2014 DISC3'!X53","v":0},{"$f":"'2014 DISC3B'!AM53-'2014 DISC3'!Y53","v":0},{"$f":"'2014 DISC3B'!AN53-'2014 DISC3'!Z53","v":0},{"$f":"'2014 DISC3B'!AO53-'2014 DISC3'!AA53","v":0},"All",{"$f":"'2014 DISC3B'!AQ53-'2014 DISC3'!AC53","v":0},{"$f":"'2014 DISC3B'!AR53-'2014 DISC3'!AD53","v":0},{"$f":"'2014 DISC3B'!AS53-'2014 DISC3'!AE53","v":0},{"$f":"'2014 DISC3B'!AT53-'2014 DISC3'!AF53","v":0},{"$f":"'2014 DISC3B'!AU53-'2014 DISC3'!AG53","v":0},{"$f":"'2014 DISC3B'!AV53-'2014 DISC3'!AH53","v":0},{"$f":"'2014 DISC3B'!AW53-'2014 DISC3'!AI53","v":0},{"$f":"'2014 DISC3B'!AX53-'2014 DISC3'!AJ53","v":0},{"$f":"'2014 DISC3B'!AY53-'2014 DISC3'!AK53","v":0},{"$f":"'2014 DISC3B'!AZ53-'2014 DISC3'!AL53","v":0},{"$f":"'2014 DISC3B'!BA53-'2014 DISC3'!AM53","v":0},{"$f":"'2014 DISC3B'!BB53-'2014 DISC3'!AN53","v":0}]
["Media/Film/TV","Males",{"$f":"'2014 DISC3B'!C54-'2014 DISC3'!C54","v":2},{"$f":"'2014 DISC3B'!D54-'2014 DISC3'!D54","v":8},{"$f":"'2014 DISC3B'!E54-'2014 DISC3'!E54","v":32},{"$f":"'2014 DISC3B'!F54-'2014 DISC3'!F54","v":67},{"$f":"'2014 DISC3B'!G54-'2014 DISC3'!G54","v":82},{"$f":"'2014 DISC3B'!H54-'2014 DISC3'!H54","v":31},{"$f":"'2014 DISC3B'!I54-'2014 DISC3'!I54","v":11},{"$f":"'2014 DISC3B'!J54-'2014 DISC3'!J54","v":4},{"$f":"'2014 DISC3B'!K54-'2014 DISC3'!K54","v":10},{"$f":"'2014 DISC3B'!L54-'2014 DISC3'!L54","v":109},{"$f":"'2014 DISC3B'!M54-'2014 DISC3'!M54","v":237},{"$f":"'2014 DISC3B'!N54-'2014 DISC3'!N54","v":240},"Females",{"$f":"'2014 DISC3B'!AD54-'2014 DISC3'!P54","v":6},{"$f":"'2014 DISC3B'!AE54-'2014 DISC3'!Q54","v":15},{"$f":"'2014 DISC3B'!AF54-'2014 DISC3'!R54","v":16},{"$f":"'2014 DISC3B'!AG54-'2014 DISC3'!S54","v":46},{"$f":"'2014 DISC3B'!AH54-'2014 DISC3'!T54","v":25},{"$f":"'2014 DISC3B'!AI54-'2014 DISC3'!U54","v":8},{"$f":"'2014 DISC3B'!AJ54-'2014 DISC3'!V54","v":3},{"$f":"'2014 DISC3B'!AK54-'2014 DISC3'!W54","v":1},{"$f":"'2014 DISC3B'!AL54-'2014 DISC3'!X54","v":21},{"$f":"'2014 DISC3B'!AM54-'2014 DISC3'!Y54","v":83},{"$f":"'2014 DISC3B'!AN54-'2014 DISC3'!Z54","v":120},{"$f":"'2014 DISC3B'!AO54-'2014 DISC3'!AA54","v":121},"All",{"$f":"'2014 DISC3B'!AQ54-'2014 DISC3'!AC54","v":8},{"$f":"'2014 DISC3B'!AR54-'2014 DISC3'!AD54","v":23},{"$f":"'2014 DISC3B'!AS54-'2014 DISC3'!AE54","v":48},{"$f":"'2014 DISC3B'!AT54-'2014 DISC3'!AF54","v":113},{"$f":"'2014 DISC3B'!AU54-'2014 DISC3'!AG54","v":107},{"$f":"'2014 DISC3B'!AV54-'2014 DISC3'!AH54","v":39},{"$f":"'2014 DISC3B'!AW54-'2014 DISC3'!AI54","v":14},{"$f":"'2014 DISC3B'!AX54-'2014 DISC3'!AJ54","v":5},{"$f":"'2014 DISC3B'!AY54-'2014 DISC3'!AK54","v":31},{"$f":"'2014 DISC3B'!AZ54-'2014 DISC3'!AL54","v":192},{"$f":"'2014 DISC3B'!BA54-'2014 DISC3'!AM54","v":357},{"$f":"'2014 DISC3B'!BB54-'2014 DISC3'!AN54","v":361}]
["Music","Males",{"$f":"'2014 DISC3B'!C55-'2014 DISC3'!C55","v":21},{"$f":"'2014 DISC3B'!D55-'2014 DISC3'!D55","v":55},{"$f":"'2014 DISC3B'!E55-'2014 DISC3'!E55","v":74},{"$f":"'2014 DISC3B'!F55-'2014 DISC3'!F55","v":83},{"$f":"'2014 DISC3B'!G55-'2014 DISC3'!G55","v":64},{"$f":"'2014 DISC3B'!H55-'2014 DISC3'!H55","v":30},{"$f":"'2014 DISC3B'!I55-'2014 DISC3'!I55","v":17},{"$f":"'2014 DISC3B'!J55-'2014 DISC3'!J55","v":8},{"$f":"'2014 DISC3B'!K55-'2014 DISC3'!K55","v":76},{"$f":"'2014 DISC3B'!L55-'2014 DISC3'!L55","v":233},{"$f":"'2014 DISC3B'!M55-'2014 DISC3'!M55","v":352},{"$f":"'2014 DISC3B'!N55-'2014 DISC3'!N55","v":353},"Females",{"$f":"'2014 DISC3B'!AD55-'2014 DISC3'!P55","v":16},{"$f":"'2014 DISC3B'!AE55-'2014 DISC3'!Q55","v":58},{"$f":"'2014 DISC3B'!AF55-'2014 DISC3'!R55","v":99},{"$f":"'2014 DISC3B'!AG55-'2014 DISC3'!S55","v":61},{"$f":"'2014 DISC3B'!AH55-'2014 DISC3'!T55","v":50},{"$f":"'2014 DISC3B'!AI55-'2014 DISC3'!U55","v":18},{"$f":"'2014 DISC3B'!AJ55-'2014 DISC3'!V55","v":12},{"$f":"'2014 DISC3B'!AK55-'2014 DISC3'!W55","v":3},{"$f":"'2014 DISC3B'!AL55-'2014 DISC3'!X55","v":74},{"$f":"'2014 DISC3B'!AM55-'2014 DISC3'!Y55","v":234},{"$f":"'2014 DISC3B'!AN55-'2014 DISC3'!Z55","v":317},{"$f":"'2014 DISC3B'!AO55-'2014 DISC3'!AA55","v":318},"All",{"$f":"'2014 DISC3B'!AQ55-'2014 DISC3'!AC55","v":37},{"$f":"'2014 DISC3B'!AR55-'2014 DISC3'!AD55","v":113},{"$f":"'2014 DISC3B'!AS55-'2014 DISC3'!AE55","v":173},{"$f":"'2014 DISC3B'!AT55-'2014 DISC3'!AF55","v":144},{"$f":"'2014 DISC3B'!AU55-'2014 DISC3'!AG55","v":114},{"$f":"'2014 DISC3B'!AV55-'2014 DISC3'!AH55","v":48},{"$f":"'2014 DISC3B'!AW55-'2014 DISC3'!AI55","v":29},{"$f":"'2014 DISC3B'!AX55-'2014 DISC3'!AJ55","v":11},{"$f":"'2014 DISC3B'!AY55-'2014 DISC3'!AK55","v":150},{"$f":"'2014 DISC3B'!AZ55-'2014 DISC3'!AL55","v":467},{"$f":"'2014 DISC3B'!BA55-'2014 DISC3'!AM55","v":669},{"$f":"'2014 DISC3B'!BB55-'2014 DISC3'!AN55","v":671}]
["Performing Arts","Males",{"$f":"'2014 DISC3B'!C56-'2014 DISC3'!C56","v":3},{"$f":"'2014 DISC3B'!D56-'2014 DISC3'!D56","v":1},{"$f":"'2014 DISC3B'!E56-'2014 DISC3'!E56","v":8},{"$f":"'2014 DISC3B'!F56-'2014 DISC3'!F56","v":14},{"$f":"'2014 DISC3B'!G56-'2014 DISC3'!G56","v":8},{"$f":"'2014 DISC3B'!H56-'2014 DISC3'!H56","v":6},{"$f":"'2014 DISC3B'!I56-'2014 DISC3'!I56","v":3},{"$f":"'2014 DISC3B'!J56-'2014 DISC3'!J56","v":0},{"$f":"'2014 DISC3B'!K56-'2014 DISC3'!K56","v":4},{"$f":"'2014 DISC3B'!L56-'2014 DISC3'!L56","v":26},{"$f":"'2014 DISC3B'!M56-'2014 DISC3'!M56","v":43},{"$f":"'2014 DISC3B'!N56-'2014 DISC3'!N56","v":43},"Females",{"$f":"'2014 DISC3B'!AD56-'2014 DISC3'!P56","v":5},{"$f":"'2014 DISC3B'!AE56-'2014 DISC3'!Q56","v":17},{"$f":"'2014 DISC3B'!AF56-'2014 DISC3'!R56","v":26},{"$f":"'2014 DISC3B'!AG56-'2014 DISC3'!S56","v":28},{"$f":"'2014 DISC3B'!AH56-'2014 DISC3'!T56","v":13},{"$f":"'2014 DISC3B'!AI56-'2014 DISC3'!U56","v":7},{"$f":"'2014 DISC3B'!AJ56-'2014 DISC3'!V56","v":0},{"$f":"'2014 DISC3B'!AK56-'2014 DISC3'!W56","v":0},{"$f":"'2014 DISC3B'!AL56-'2014 DISC3'!X56","v":22},{"$f":"'2014 DISC3B'!AM56-'2014 DISC3'!Y56","v":76},{"$f":"'2014 DISC3B'!AN56-'2014 DISC3'!Z56","v":96},{"$f":"'2014 DISC3B'!AO56-'2014 DISC3'!AA56","v":96},"All",{"$f":"'2014 DISC3B'!AQ56-'2014 DISC3'!AC56","v":8},{"$f":"'2014 DISC3B'!AR56-'2014 DISC3'!AD56","v":18},{"$f":"'2014 DISC3B'!AS56-'2014 DISC3'!AE56","v":34},{"$f":"'2014 DISC3B'!AT56-'2014 DISC3'!AF56","v":42},{"$f":"'2014 DISC3B'!AU56-'2014 DISC3'!AG56","v":21},{"$f":"'2014 DISC3B'!AV56-'2014 DISC3'!AH56","v":13},{"$f":"'2014 DISC3B'!AW56-'2014 DISC3'!AI56","v":3},{"$f":"'2014 DISC3B'!AX56-'2014 DISC3'!AJ56","v":0},{"$f":"'2014 DISC3B'!AY56-'2014 DISC3'!AK56","v":26},{"$f":"'2014 DISC3B'!AZ56-'2014 DISC3'!AL56","v":102},{"$f":"'2014 DISC3B'!BA56-'2014 DISC3'!AM56","v":139},{"$f":"'2014 DISC3B'!BB56-'2014 DISC3'!AN56","v":139}]
["Physical Education","Males",{"$f":"'2014 DISC3B'!C57-'2014 DISC3'!C57","v":32},{"$f":"'2014 DISC3B'!D57-'2014 DISC3'!D57","v":271},{"$f":"'2014 DISC3B'!E57-'2014 DISC3'!E57","v":798},{"$f":"'2014 DISC3B'!F57-'2014 DISC3'!F57","v":1535},{"$f":"'2014 DISC3B'!G57-'2014 DISC3'!G57","v":1249},{"$f":"'2014 DISC3B'!H57-'2014 DISC3'!H57","v":730},{"$f":"'2014 DISC3B'!I57-'2014 DISC3'!I57","v":256},{"$f":"'2014 DISC3B'!J57-'2014 DISC3'!J57","v":62},{"$f":"'2014 DISC3B'!K57-'2014 DISC3'!K57","v":303},{"$f":"'2014 DISC3B'!L57-'2014 DISC3'!L57","v":2636},{"$f":"'2014 DISC3B'!M57-'2014 DISC3'!M57","v":4933},{"$f":"'2014 DISC3B'!N57-'2014 DISC3'!N57","v":4960},"Females",{"$f":"'2014 DISC3B'!AD57-'2014 DISC3'!P57","v":52},{"$f":"'2014 DISC3B'!AE57-'2014 DISC3'!Q57","v":265},{"$f":"'2014 DISC3B'!AF57-'2014 DISC3'!R57","v":474},{"$f":"'2014 DISC3B'!AG57-'2014 DISC3'!S57","v":650},{"$f":"'2014 DISC3B'!AH57-'2014 DISC3'!T57","v":529},{"$f":"'2014 DISC3B'!AI57-'2014 DISC3'!U57","v":282},{"$f":"'2014 DISC3B'!AJ57-'2014 DISC3'!V57","v":119},{"$f":"'2014 DISC3B'!AK57-'2014 DISC3'!W57","v":28},{"$f":"'2014 DISC3B'!AL57-'2014 DISC3'!X57","v":317},{"$f":"'2014 DISC3B'!AM57-'2014 DISC3'!Y57","v":1441},{"$f":"'2014 DISC3B'!AN57-'2014 DISC3'!Z57","v":2399},{"$f":"'2014 DISC3B'!AO57-'2014 DISC3'!AA57","v":2413},"All",{"$f":"'2014 DISC3B'!AQ57-'2014 DISC3'!AC57","v":84},{"$f":"'2014 DISC3B'!AR57-'2014 DISC3'!AD57","v":536},{"$f":"'2014 DISC3B'!AS57-'2014 DISC3'!AE57","v":1272},{"$f":"'2014 DISC3B'!AT57-'2014 DISC3'!AF57","v":2185},{"$f":"'2014 DISC3B'!AU57-'2014 DISC3'!AG57","v":1778},{"$f":"'2014 DISC3B'!AV57-'2014 DISC3'!AH57","v":1012},{"$f":"'2014 DISC3B'!AW57-'2014 DISC3'!AI57","v":375},{"$f":"'2014 DISC3B'!AX57-'2014 DISC3'!AJ57","v":90},{"$f":"'2014 DISC3B'!AY57-'2014 DISC3'!AK57","v":620},{"$f":"'2014 DISC3B'!AZ57-'2014 DISC3'!AL57","v":4077},{"$f":"'2014 DISC3B'!BA57-'2014 DISC3'!AM57","v":7332},{"$f":"'2014 DISC3B'!BB57-'2014 DISC3'!AN57","v":7373}]
["Religious Studies","Males",{"$f":"'2014 DISC3B'!C58-'2014 DISC3'!C58","v":74},{"$f":"'2014 DISC3B'!D58-'2014 DISC3'!D58","v":89},{"$f":"'2014 DISC3B'!E58-'2014 DISC3'!E58","v":49},{"$f":"'2014 DISC3B'!F58-'2014 DISC3'!F58","v":21},{"$f":"'2014 DISC3B'!G58-'2014 DISC3'!G58","v":0},{"$f":"'2014 DISC3B'!H58-'2014 DISC3'!H58","v":1},{"$f":"'2014 DISC3B'!I58-'2014 DISC3'!I58","v":0},{"$f":"'2014 DISC3B'!J58-'2014 DISC3'!J58","v":0},{"$f":"'2014 DISC3B'!K58-'2014 DISC3'!K58","v":163},{"$f":"'2014 DISC3B'!L58-'2014 DISC3'!L58","v":233},{"$f":"'2014 DISC3B'!M58-'2014 DISC3'!M58","v":234},{"$f":"'2014 DISC3B'!N58-'2014 DISC3'!N58","v":234},"Females",{"$f":"'2014 DISC3B'!AD58-'2014 DISC3'!P58","v":152},{"$f":"'2014 DISC3B'!AE58-'2014 DISC3'!Q58","v":136},{"$f":"'2014 DISC3B'!AF58-'2014 DISC3'!R58","v":68},{"$f":"'2014 DISC3B'!AG58-'2014 DISC3'!S58","v":24},{"$f":"'2014 DISC3B'!AH58-'2014 DISC3'!T58","v":0},{"$f":"'2014 DISC3B'!AI58-'2014 DISC3'!U58","v":0},{"$f":"'2014 DISC3B'!AJ58-'2014 DISC3'!V58","v":0},{"$f":"'2014 DISC3B'!AK58-'2014 DISC3'!W58","v":0},{"$f":"'2014 DISC3B'!AL58-'2014 DISC3'!X58","v":288},{"$f":"'2014 DISC3B'!AM58-'2014 DISC3'!Y58","v":380},{"$f":"'2014 DISC3B'!AN58-'2014 DISC3'!Z58","v":380},{"$f":"'2014 DISC3B'!AO58-'2014 DISC3'!AA58","v":380},"All",{"$f":"'2014 DISC3B'!AQ58-'2014 DISC3'!AC58","v":226},{"$f":"'2014 DISC3B'!AR58-'2014 DISC3'!AD58","v":225},{"$f":"'2014 DISC3B'!AS58-'2014 DISC3'!AE58","v":117},{"$f":"'2014 DISC3B'!AT58-'2014 DISC3'!AF58","v":45},{"$f":"'2014 DISC3B'!AU58-'2014 DISC3'!AG58","v":0},{"$f":"'2014 DISC3B'!AV58-'2014 DISC3'!AH58","v":1},{"$f":"'2014 DISC3B'!AW58-'2014 DISC3'!AI58","v":0},{"$f":"'2014 DISC3B'!AX58-'2014 DISC3'!AJ58","v":0},{"$f":"'2014 DISC3B'!AY58-'2014 DISC3'!AK58","v":451},{"$f":"'2014 DISC3B'!AZ58-'2014 DISC3'!AL58","v":613},{"$f":"'2014 DISC3B'!BA58-'2014 DISC3'!AM58","v":614},{"$f":"'2014 DISC3B'!BB58-'2014 DISC3'!AN58","v":614}]
["Statistics","Males",{"$f":"'2014 DISC3B'!C59-'2014 DISC3'!C59","v":2},{"$f":"'2014 DISC3B'!D59-'2014 DISC3'!D59","v":1},{"$f":"'2014 DISC3B'!E59-'2014 DISC3'!E59","v":0},{"$f":"'2014 DISC3B'!F59-'2014 DISC3'!F59","v":0},{"$f":"'2014 DISC3B'!G59-'2014 DISC3'!G59","v":0},{"$f":"'2014 DISC3B'!H59-'2014 DISC3'!H59","v":0},{"$f":"'2014 DISC3B'!I59-'2014 DISC3'!I59","v":0},{"$f":"'2014 DISC3B'!J59-'2014 DISC3'!J59","v":0},{"$f":"'2014 DISC3B'!K59-'2014 DISC3'!K59","v":3},{"$f":"'2014 DISC3B'!L59-'2014 DISC3'!L59","v":3},{"$f":"'2014 DISC3B'!M59-'2014 DISC3'!M59","v":3},{"$f":"'2014 DISC3B'!N59-'2014 DISC3'!N59","v":3},"Females",{"$f":"'2014 DISC3B'!AD59-'2014 DISC3'!P59","v":5},{"$f":"'2014 DISC3B'!AE59-'2014 DISC3'!Q59","v":2},{"$f":"'2014 DISC3B'!AF59-'2014 DISC3'!R59","v":0},{"$f":"'2014 DISC3B'!AG59-'2014 DISC3'!S59","v":0},{"$f":"'2014 DISC3B'!AH59-'2014 DISC3'!T59","v":0},{"$f":"'2014 DISC3B'!AI59-'2014 DISC3'!U59","v":0},{"$f":"'2014 DISC3B'!AJ59-'2014 DISC3'!V59","v":0},{"$f":"'2014 DISC3B'!AK59-'2014 DISC3'!W59","v":0},{"$f":"'2014 DISC3B'!AL59-'2014 DISC3'!X59","v":7},{"$f":"'2014 DISC3B'!AM59-'2014 DISC3'!Y59","v":7},{"$f":"'2014 DISC3B'!AN59-'2014 DISC3'!Z59","v":7},{"$f":"'2014 DISC3B'!AO59-'2014 DISC3'!AA59","v":7},"All",{"$f":"'2014 DISC3B'!AQ59-'2014 DISC3'!AC59","v":7},{"$f":"'2014 DISC3B'!AR59-'2014 DISC3'!AD59","v":3},{"$f":"'2014 DISC3B'!AS59-'2014 DISC3'!AE59","v":0},{"$f":"'2014 DISC3B'!AT59-'2014 DISC3'!AF59","v":0},{"$f":"'2014 DISC3B'!AU59-'2014 DISC3'!AG59","v":0},{"$f":"'2014 DISC3B'!AV59-'2014 DISC3'!AH59","v":0},{"$f":"'2014 DISC3B'!AW59-'2014 DISC3'!AI59","v":0},{"$f":"'2014 DISC3B'!AX59-'2014 DISC3'!AJ59","v":0},{"$f":"'2014 DISC3B'!AY59-'2014 DISC3'!AK59","v":10},{"$f":"'2014 DISC3B'!AZ59-'2014 DISC3'!AL59","v":10},{"$f":"'2014 DISC3B'!BA59-'2014 DISC3'!AM59","v":10},{"$f":"'2014 DISC3B'!BB59-'2014 DISC3'!AN59","v":10}]
["Vocational Studies","Males",{"$f":"'2014 DISC3B'!C60-'2014 DISC3'!C60","v":2},{"$f":"'2014 DISC3B'!D60-'2014 DISC3'!D60","v":1},{"$f":"'2014 DISC3B'!E60-'2014 DISC3'!E60","v":19},{"$f":"'2014 DISC3B'!F60-'2014 DISC3'!F60","v":55},{"$f":"'2014 DISC3B'!G60-'2014 DISC3'!G60","v":59},{"$f":"'2014 DISC3B'!H60-'2014 DISC3'!H60","v":45},{"$f":"'2014 DISC3B'!I60-'2014 DISC3'!I60","v":45},{"$f":"'2014 DISC3B'!J60-'2014 DISC3'!J60","v":25},{"$f":"'2014 DISC3B'!K60-'2014 DISC3'!K60","v":3},{"$f":"'2014 DISC3B'!L60-'2014 DISC3'!L60","v":77},{"$f":"'2014 DISC3B'!M60-'2014 DISC3'!M60","v":251},{"$f":"'2014 DISC3B'!N60-'2014 DISC3'!N60","v":264},"Females",{"$f":"'2014 DISC3B'!AD60-'2014 DISC3'!P60","v":1},{"$f":"'2014 DISC3B'!AE60-'2014 DISC3'!Q60","v":9},{"$f":"'2014 DISC3B'!AF60-'2014 DISC3'!R60","v":18},{"$f":"'2014 DISC3B'!AG60-'2014 DISC3'!S60","v":33},{"$f":"'2014 DISC3B'!AH60-'2014 DISC3'!T60","v":34},{"$f":"'2014 DISC3B'!AI60-'2014 DISC3'!U60","v":26},{"$f":"'2014 DISC3B'!AJ60-'2014 DISC3'!V60","v":17},{"$f":"'2014 DISC3B'!AK60-'2014 DISC3'!W60","v":7},{"$f":"'2014 DISC3B'!AL60-'2014 DISC3'!X60","v":10},{"$f":"'2014 DISC3B'!AM60-'2014 DISC3'!Y60","v":61},{"$f":"'2014 DISC3B'!AN60-'2014 DISC3'!Z60","v":145},{"$f":"'2014 DISC3B'!AO60-'2014 DISC3'!AA60","v":151},"All",{"$f":"'2014 DISC3B'!AQ60-'2014 DISC3'!AC60","v":3},{"$f":"'2014 DISC3B'!AR60-'2014 DISC3'!AD60","v":10},{"$f":"'2014 DISC3B'!AS60-'2014 DISC3'!AE60","v":37},{"$f":"'2014 DISC3B'!AT60-'2014 DISC3'!AF60","v":88},{"$f":"'2014 DISC3B'!AU60-'2014 DISC3'!AG60","v":93},{"$f":"'2014 DISC3B'!AV60-'2014 DISC3'!AH60","v":71},{"$f":"'2014 DISC3B'!AW60-'2014 DISC3'!AI60","v":62},{"$f":"'2014 DISC3B'!AX60-'2014 DISC3'!AJ60","v":32},{"$f":"'2014 DISC3B'!AY60-'2014 DISC3'!AK60","v":13},{"$f":"'2014 DISC3B'!AZ60-'2014 DISC3'!AL60","v":138},{"$f":"'2014 DISC3B'!BA60-'2014 DISC3'!AM60","v":396},{"$f":"'2014 DISC3B'!BB60-'2014 DISC3'!AN60","v":415}]
["All Subjects","Males",{"$f":"'2014 DISC3B'!C61-'2014 DISC3'!C61","v":1091},{"$f":"'2014 DISC3B'!D61-'2014 DISC3'!D61","v":1091},{"$f":"'2014 DISC3B'!E61-'2014 DISC3'!E61","v":1626},{"$f":"'2014 DISC3B'!F61-'2014 DISC3'!F61","v":3045},{"$f":"'2014 DISC3B'!G61-'2014 DISC3'!G61","v":3679},{"$f":"'2014 DISC3B'!H61-'2014 DISC3'!H61","v":2626},{"$f":"'2014 DISC3B'!I61-'2014 DISC3'!I61","v":1365},{"$f":"'2014 DISC3B'!J61-'2014 DISC3'!J61","v":434},{"$f":"'2014 DISC3B'!K61-'2014 DISC3'!K61","v":2182},{"$f":"'2014 DISC3B'!L61-'2014 DISC3'!L61","v":6853},{"$f":"'2014 DISC3B'!M61-'2014 DISC3'!M61","v":14957},{"$f":"'2014 DISC3B'!N61-'2014 DISC3'!N61","v":15168},"Females",{"$f":"'2014 DISC3B'!AD61-'2014 DISC3'!P61","v":1710},{"$f":"'2014 DISC3B'!AE61-'2014 DISC3'!Q61","v":1588},{"$f":"'2014 DISC3B'!AF61-'2014 DISC3'!R61","v":1835},{"$f":"'2014 DISC3B'!AG61-'2014 DISC3'!S61","v":2442},{"$f":"'2014 DISC3B'!AH61-'2014 DISC3'!T61","v":2804},{"$f":"'2014 DISC3B'!AI61-'2014 DISC3'!U61","v":2000},{"$f":"'2014 DISC3B'!AJ61-'2014 DISC3'!V61","v":1118},{"$f":"'2014 DISC3B'!AK61-'2014 DISC3'!W61","v":359},{"$f":"'2014 DISC3B'!AL61-'2014 DISC3'!X61","v":3298},{"$f":"'2014 DISC3B'!AM61-'2014 DISC3'!Y61","v":7575},{"$f":"'2014 DISC3B'!AN61-'2014 DISC3'!Z61","v":13856},{"$f":"'2014 DISC3B'!AO61-'2014 DISC3'!AA61","v":14040},"All",{"$f":"'2014 DISC3B'!AQ61-'2014 DISC3'!AC61","v":2801},{"$f":"'2014 DISC3B'!AR61-'2014 DISC3'!AD61","v":2679},{"$f":"'2014 DISC3B'!AS61-'2014 DISC3'!AE61","v":3461},{"$f":"'2014 DISC3B'!AT61-'2014 DISC3'!AF61","v":5487},{"$f":"'2014 DISC3B'!AU61-'2014 DISC3'!AG61","v":6483},{"$f":"'2014 DISC3B'!AV61-'2014 DISC3'!AH61","v":4626},{"$f":"'2014 DISC3B'!AW61-'2014 DISC3'!AI61","v":2483},{"$f":"'2014 DISC3B'!AX61-'2014 DISC3'!AJ61","v":793},{"$f":"'2014 DISC3B'!AY61-'2014 DISC3'!AK61","v":5480},{"$f":"'2014 DISC3B'!AZ61-'2014 DISC3'!AL61","v":14428},{"$f":"'2014 DISC3B'!BA61-'2014 DISC3'!AM61","v":28813},{"$f":"'2014 DISC3B'!BB61-'2014 DISC3'!AN61","v":29208}]

{"sheet":"2015 DISC3C","index":14,"n_rows":61,"n_cols":40,"rows_kept":61,"cut":false,"hidden":true,"merged":[]}
["Subject","(No column name)","*","A","B","C","D","E","F","G","AstarA","AstarC","AstarG","Total","(No column name)","*","A","B","C","D","E","F","G","AstarA","AstarC","AstarG","Total","(No column name)","*","A","B","C","D","E","F","G","AstarA","AstarC","AstarG","Total"]
["English","Males",4269,17759,41401,55394,33941,14136,5823,2397,22028,118823,175120,176787,"Females",10519,34334,56485,51459,22566,7002,2351,963,44853,152797,185679,186451,"All",14788,52093,97886,106853,56507,21138,8174,3360,66881,271620,360799,363238]
["Mathematics","Males",23070,35679,56785,86859,39500,15875,10700,9026,58749,202393,277494,290206,"Females",19617,34638,57976,86945,39794,14450,9578,7924,54255,199176,270922,281781,"All",42687,70317,114761,173804,79294,30325,20278,16950,113004,401569,548416,571987]
["Core Science","Males",1726,11034,32863,57039,41246,20954,11182,4485,12760,102662,180529,183836,"Females",2964,16304,39365,57236,37669,17907,8409,3155,19268,115869,183009,185373,"All",4690,27338,72228,114275,78915,38861,19591,7640,32028,218531,363538,369209]
["Additional Science","Males",2423,11957,29734,47765,33003,14199,6253,2321,14380,91879,147655,148778,"Females",3712,16296,35830,49362,31359,12555,4645,1563,20008,105200,155322,156190,"All",6135,28253,65564,97127,64362,26754,10898,3884,34388,197079,302977,304968]
["Further Additional Science","Males",1340,2197,2690,2702,1738,561,147,29,3537,8929,11404,11421,"Females",1751,2402,2797,2471,1461,458,87,26,4153,9421,11453,11474,"All",3091,4599,5487,5173,3199,1019,234,55,7690,18350,22857,22895]
["Additional Applied Science","Males",9,60,346,1379,1915,1572,786,319,69,1794,6386,6554,"Females",3,93,581,1682,1999,1147,566,210,96,2359,6281,6378,"All",12,153,927,3061,3914,2719,1352,529,165,4153,12667,12932]
["Physics","Males",9217,17525,18130,12511,3986,630,141,40,26742,57383,62180,62228,"Females",9419,17017,17329,12011,3860,560,94,39,26436,55776,60329,60368,"All",18636,34542,35459,24522,7846,1190,235,79,53178,113159,122509,122596]
["Chemistry","Males",8704,16435,18373,13324,4766,960,180,53,25139,56836,62795,62847,"Females",11125,17250,16851,10889,3589,634,106,44,28375,56115,60488,60531,"All",19829,33685,35224,24213,8355,1594,286,97,53514,112951,123283,123378]
["Biological Sciences","Males",6915,17176,19759,13746,4743,960,287,123,24091,57596,63709,63874,"Females",10278,19459,17711,10433,3260,695,179,106,29737,57881,62121,62245,"All",17193,36635,37470,24179,8003,1655,466,229,53828,115477,125830,126119]
["Computer Science","Males",1707,4163,5962,6188,4193,2471,1539,1023,5870,18020,27246,28087,"Females",475,1040,1280,1147,715,392,183,94,1515,3942,5326,5431,"All",2182,5203,7242,7335,4908,2863,1722,1117,7385,21962,32572,33518]
["Other Sciences","Males",439,560,606,722,565,488,309,164,999,2327,3853,3968,"Females",99,285,407,543,372,259,153,83,384,1334,2201,2252,"All",538,845,1013,1265,937,747,462,247,1383,3661,6054,6220]
["D & T: Electronic Products","Males",486,1157,1602,1463,1137,729,396,206,1643,4708,7176,7327,"Females",89,155,138,89,51,19,13,11,244,471,565,568,"All",575,1312,1740,1552,1188,748,409,217,1887,5179,7741,7895]
["D & T: Food Technology","Males",214,784,2046,3376,3274,2140,1330,582,998,6420,13746,14090,"Females",1720,4068,5701,5667,3700,1981,959,345,5788,17156,24141,24326,"All",1934,4852,7747,9043,6974,4121,2289,927,6786,23576,37887,38416]
["D & T: Graphic Products","Males",600,1755,3204,4573,3849,2736,1601,953,2355,10132,19271,19958,"Females",1139,2099,2673,2614,1625,934,466,203,3238,8525,11753,11901,"All",1739,3854,5877,7187,5474,3670,2067,1156,5593,18657,31024,31859]
["D & T: Resistant Materials","Males",1384,3757,7548,10761,8715,5545,3252,1545,5141,23450,42507,43489,"Females",686,1389,1685,1681,1073,580,289,139,2075,5441,7522,7607,"All",2070,5146,9233,12442,9788,6125,3541,1684,7216,28891,50029,51096]
["D & T: Systems & Control","Males",208,353,573,670,499,281,129,68,561,1804,2781,2811,"Females",11,40,34,40,26,10,3,3,51,125,167,168,"All",219,393,607,710,525,291,132,71,612,1929,2948,2979]
["D & T: Textiles Technology","Males",10,41,94,144,149,141,99,46,51,289,724,752,"Females",2234,4138,5710,4948,3259,1747,854,357,6372,17030,23247,23446,"All",2244,4179,5804,5092,3408,1888,953,403,6423,17319,23971,24198]
["Other Design and Technology","Males",702,2164,4831,6761,5420,3552,2311,1110,2866,14458,26851,27499,"Females",800,1941,2701,2270,1439,792,411,209,2741,7712,10563,10708,"All",1502,4105,7532,9031,6859,4344,2722,1319,5607,22170,37414,38207]
["Applied Engineering","Males",45,234,664,1252,1254,924,699,442,279,2195,5514,5817,"Females",18,85,87,100,78,49,29,17,103,290,463,473,"All",63,319,751,1352,1332,973,728,459,382,2485,5977,6290]
["Information Technology","Males",1827,7551,13436,14010,8551,4772,3264,2128,9378,36824,55539,56986,"Females",2412,7689,10452,9556,5783,3030,1757,1060,10101,30109,41739,42505,"All",4239,15240,23888,23566,14334,7802,5021,3188,19479,66933,97278,99491]
["Business Studies","Males",1146,5511,10199,10530,6906,4010,2358,1355,6657,27386,42015,42775,"Females",1322,5115,7879,7245,4633,2551,1411,703,6437,21561,30859,31214,"All",2468,10626,18078,17775,11539,6561,3769,2058,13094,48947,72874,73989]
["Applied Business","Males",113,630,1309,1540,1141,860,475,327,743,3592,6395,6829,"Females",134,723,1089,1028,744,528,240,163,857,2974,4649,4815,"All",247,1353,2398,2568,1885,1388,715,490,1600,6566,11044,11644]
["Home Economics","Males",24,138,373,755,790,606,379,155,162,1290,3220,3307,"Females",731,2581,4655,5687,4736,2872,1524,707,3312,13654,23493,23846,"All",755,2719,5028,6442,5526,3478,1903,862,3474,14944,26713,27153]
["Geography","Males",8306,17548,22637,25918,18312,10834,5748,2815,25854,74409,112118,113329,"Females",12011,19589,20940,19685,12552,7183,3679,1690,31600,72225,97329,98019,"All",20317,37137,43577,45603,30864,18017,9427,4505,57454,146634,209447,211348]
["History","Males",8074,18426,23513,21823,15234,9952,6602,4115,26500,71836,107739,110691,"Females",14357,25152,26032,20772,13368,8637,5376,2980,39509,86313,116674,118356,"All",22431,43578,49545,42595,28602,18589,11978,7095,66009,158149,224413,229047]
["Humanities","Males",46,231,586,884,827,688,473,362,277,1747,4097,4362,"Females",113,456,749,896,706,464,316,183,569,2214,3883,4038,"All",159,687,1335,1780,1533,1152,789,545,846,3961,7980,8400]
["Economics","Males",405,1415,1845,1246,727,360,186,103,1820,4911,6287,6378,"Females",173,713,876,615,343,183,89,40,886,2377,3032,3076,"All",578,2128,2721,1861,1070,543,275,143,2706,7288,9319,9454]
["Social Studies","Males",354,2020,4395,5333,3976,2521,1569,935,2374,12102,21103,21911,"Females",1582,6248,9908,8627,5467,3215,1698,967,7830,26365,37712,38397,"All",1936,8268,14303,13960,9443,5736,3267,1902,10204,38467,58815,60308]
["Arabic","Males",386,281,183,158,90,68,44,49,667,1008,1259,1334,"Females",546,326,249,200,118,83,70,53,872,1321,1645,1691,"All",932,607,432,358,208,151,114,102,1539,2329,2904,3025]
["Chinese","Males",961,295,189,136,68,20,9,1,1256,1581,1679,1685,"Females",958,195,127,99,22,8,0,1,1153,1379,1410,1411,"All",1919,490,316,235,90,28,9,2,2409,2960,3089,3096]
["French","Males",4741,6894,10888,18116,14228,5983,2281,727,11635,40639,63858,64154,"Females",9821,13305,17901,23815,15050,4694,1541,424,23126,64842,86551,86755,"All",14562,20199,28789,41931,29278,10677,3822,1151,34761,105481,150409,150909]
["German","Males",1692,3070,5306,7535,5196,1756,589,209,4762,17603,25353,25419,"Females",2612,4529,6763,7667,4120,1064,333,97,7141,21571,27185,27228,"All",4304,7599,12069,15202,9316,2820,922,306,11903,39174,52538,52647]
["Italian","Males",678,319,236,235,150,54,19,9,997,1468,1700,1713,"Females",902,432,334,297,158,48,14,4,1334,1965,2189,2196,"All",1580,751,570,532,308,102,33,13,2331,3433,3889,3909]
["Polish","Males",376,710,331,153,75,21,10,17,1086,1570,1693,1718,"Females",698,731,223,86,30,18,4,9,1429,1738,1799,1821,"All",1074,1441,554,239,105,39,14,26,2515,3308,3492,3539]
["Spanish","Males",3734,4736,6476,9440,7123,3035,1353,569,8470,24386,36466,36749,"Females",7417,8056,9864,11662,7206,2600,979,359,15473,36999,48143,48361,"All",11151,12792,16340,21102,14329,5635,2332,928,23943,61385,84609,85110]
["Urdu","Males",124,305,362,361,214,129,75,22,429,1152,1592,1605,"Females",364,610,610,469,268,119,51,13,974,2053,2504,2520,"All",488,915,972,830,482,248,126,35,1403,3205,4096,4125]
["Other Modern Languages","Males",1377,1253,904,539,284,193,88,37,2630,4073,4675,4739,"Females",1752,1472,897,469,243,108,30,24,3224,4590,4995,5046,"All",3129,2725,1801,1008,527,301,118,61,5854,8663,9670,9785]
["Classical Civilisation","Males",209,464,523,446,236,112,46,19,673,1642,2055,2068,"Females",346,545,419,297,165,77,24,19,891,1607,1892,1898,"All",555,1009,942,743,401,189,70,38,1564,3249,3947,3966]
["Classical Greek","Males",510,125,44,17,6,4,1,0,635,696,707,708,"Females",337,85,34,17,10,5,1,1,422,473,490,490,"All",847,210,78,34,16,9,2,1,1057,1169,1197,1198]
["Latin","Males",1984,977,549,341,164,73,30,13,2961,3851,4131,4148,"Females",2214,1026,505,247,110,62,24,11,3240,3992,4199,4206,"All",4198,2003,1054,588,274,135,54,24,6201,7843,8330,8354]
["Other Classical Studies","Males",100,135,136,97,65,42,27,19,235,468,621,645,"Females",103,233,199,113,84,36,20,16,336,648,804,815,"All",203,368,335,210,149,78,47,35,571,1116,1425,1460]
["Applied Art and Design","Males",9,24,59,153,62,48,28,9,33,245,392,399,"Females",33,58,95,138,57,30,6,4,91,324,421,424,"All",42,82,154,291,119,78,34,13,124,569,813,823]
["Art and Design","Males",2863,4777,10441,20123,10513,5625,3225,1443,7640,38204,59010,59934,"Females",12873,19506,29752,33627,11955,4666,2133,824,32379,95758,115336,116130,"All",15736,24283,40193,53750,22468,10291,5358,2267,40019,133962,174346,176064]
["Communication Studies","Males",94,353,773,1064,928,617,378,200,447,2284,4407,4582,"Females",305,742,1111,1085,739,415,211,110,1047,3243,4718,4827,"All",399,1095,1884,2149,1667,1032,589,310,1494,5527,9125,9409]
["Drama","Males",1068,3575,6116,7061,5112,2457,1105,452,4643,17820,26946,27223,"Females",2909,8815,11916,10383,5741,2341,923,343,11724,34023,43371,43580,"All",3977,12390,18032,17444,10853,4798,2028,795,16367,51843,70317,70803]
["English Literature","Males",6312,24090,50980,52353,33971,16172,6652,2610,30402,133735,193140,195532,"Females",14273,44847,66512,48417,23177,8520,2991,1152,59120,174049,209889,211368,"All",20585,68937,117492,100770,57148,24692,9643,3762,89522,307784,403029,406900]
["English Studies","Males",0,5,52,103,88,71,27,6,5,160,352,353,"Females",3,14,90,104,102,36,15,3,17,211,367,368,"All",3,19,142,207,190,107,42,9,22,371,719,721]
["General Studies","Males",85,329,572,808,926,793,569,428,414,1794,4510,4962,"Females",106,349,626,882,1041,673,403,232,455,1963,4312,4563,"All",191,678,1198,1690,1967,1466,972,660,869,3757,8822,9525]
["Health and Social Care","Males",1,30,103,205,235,214,180,125,31,339,1093,1200,"Females",316,1629,3386,4372,3205,1948,1151,700,1945,9703,16707,17170,"All",317,1659,3489,4577,3440,2162,1331,825,1976,10042,17800,18370]
["Hospitality and Catering","Males",1,21,121,270,272,199,121,26,22,413,1031,1055,"Females",42,158,308,374,274,151,46,16,200,882,1369,1394,"All",43,179,429,644,546,350,167,42,222,1295,2400,2449]
["Leisure and Tourism","Males",16,95,261,471,558,505,400,337,111,843,2643,2918,"Females",82,262,484,622,584,443,285,204,344,1450,2966,3107,"All",98,357,745,1093,1142,948,685,541,455,2293,5609,6025]
["Manufacturing","Males",1,5,15,18,18,20,13,4,6,39,94,94,"Females",1,5,11,12,8,3,0,0,6,29,40,40,"All",2,10,26,30,26,23,13,4,12,68,134,134]
["Media/Film/TV","Males",400,1881,4890,7286,5510,3143,1684,787,2281,14457,25581,26218,"Females",1378,4507,7059,6369,3291,1507,638,301,5885,19313,25050,25352,"All",1778,6388,11949,13655,8801,4650,2322,1088,8166,33770,50631,51570]
["Music","Males",1813,3998,4853,4022,2654,1595,739,385,5811,14686,20059,20368,"Females",2133,5359,6090,4566,2626,1424,611,295,7492,18148,23104,23286,"All",3946,9357,10943,8588,5280,3019,1350,680,13303,32834,43163,43654]
["Performing Arts","Males",58,102,264,400,390,209,140,57,160,824,1620,1665,"Females",381,535,890,1113,732,399,167,65,916,2919,4282,4332,"All",439,637,1154,1513,1122,608,307,122,1076,3743,5902,5997]
["Physical Education","Males",2093,10195,17403,21105,13773,6656,2125,579,12288,50796,73929,74218,"Females",3160,9008,10851,11661,7890,3894,1352,447,12168,34680,48263,48552,"All",5253,19203,28254,32766,21663,10550,3477,1026,24456,85476,122192,122770]
["Religious Studies","Males",8615,18755,27891,26024,17210,11328,7122,4318,27370,81285,121263,124932,"Females",21102,32223,34710,24723,13933,8168,4777,2582,53325,112758,142218,144175,"All",29717,50978,62601,50747,31143,19496,11899,6900,80695,194043,263481,269107]
["Statistics","Males",1147,4241,5799,7859,4817,2029,1053,567,5388,19046,27512,28126,"Females",1038,3858,5462,7086,3530,1449,652,360,4896,17444,23435,23918,"All",2185,8099,11261,14945,8347,3478,1705,927,10284,36490,50947,52044]
["Vocational Studies","Males",222,1273,3288,5403,4633,2920,1356,498,1495,10186,19593,19943,"Females",760,3332,5703,5791,3728,1828,761,279,4092,15586,22182,22372,"All",982,4605,8991,11194,8361,4748,2117,777,5587,25772,41775,42315]
["All Subjects","Males",125433,291573,485512,600970,379926,189548,99707,51749,417006,1503488,2224418,2267304,"Females",198459,408051,571102,582461,316424,137651,65678,32932,606510,1760073,2312758,2341333,"All",323892,699624,1056614,1183431,696350,327199,165385,84681,1023516,3263561,4537176,4608637]

{"sheet":"2015 DISC3B","index":15,"n_rows":61,"n_cols":40,"rows_kept":61,"cut":false,"hidden":true,"merged":[]}
["Subject","(No column name)","*","A","B","C","D","E","F","G","AstarA","AstarC","AstarG","Total","(No column name)","*","A","B","C","D","E","F","G","AstarA","AstarC","AstarG","Total","(No column name)","*","A","B","C","D","E","F","G","AstarA","AstarC","AstarG","Total"]
["English","Males",4282,17781,41424,55394,33941,14136,5823,2397,22063,118881,175178,176845,"Females",10552,34385,56507,51463,22567,7002,2351,963,44937,152907,185790,186562,"All",14834,52166,97931,106857,56508,21138,8174,3360,67000,271788,360968,363407]
["Mathematics","Males",23228,35710,56791,86860,39500,15875,10700,9026,58938,202589,277690,290402,"Females",19712,34656,57976,86945,39794,14450,9578,7924,54368,199289,271035,281894,"All",42940,70366,114767,173805,79294,30325,20278,16950,113306,401878,548725,572296]
["Core Science","Males",1726,11034,32863,57039,41246,20954,11182,4485,12760,102662,180529,183836,"Females",2964,16304,39364,57236,37669,17907,8409,3155,19268,115868,183008,185372,"All",4690,27338,72227,114275,78915,38861,19591,7640,32028,218530,363537,369208]
["Additional Science","Males",2423,11957,29734,47765,33003,14199,6253,2321,14380,91879,147655,148778,"Females",3712,16296,35829,49362,31359,12555,4645,1563,20008,105199,155321,156189,"All",6135,28253,65563,97127,64362,26754,10898,3884,34388,197078,302976,304967]
["Further Additional Science","Males",1340,2197,2690,2702,1738,561,147,29,3537,8929,11404,11421,"Females",1751,2402,2797,2471,1461,458,87,26,4153,9421,11453,11474,"All",3091,4599,5487,5173,3199,1019,234,55,7690,18350,22857,22895]
["Additional Applied Science","Males",9,60,346,1379,1915,1572,786,319,69,1794,6386,6554,"Females",3,93,581,1682,1999,1147,566,210,96,2359,6281,6378,"All",12,153,927,3061,3914,2719,1352,529,165,4153,12667,12932]
["Physics","Males",9217,17525,18130,12511,3986,630,141,40,26742,57383,62180,62228,"Females",9420,17017,17329,12011,3860,560,94,39,26437,55777,60330,60369,"All",18637,34542,35459,24522,7846,1190,235,79,53179,113160,122510,122597]
["Chemistry","Males",8706,16436,18374,13324,4766,960,180,53,25142,56840,62799,62851,"Females",11127,17250,16851,10889,3589,634,106,44,28377,56117,60490,60533,"All",19833,33686,35225,24213,8355,1594,286,97,53519,112957,123289,123384]
["Biological Sciences","Males",6917,17177,19759,13746,4743,960,287,123,24094,57599,63712,63877,"Females",10279,19459,17711,10433,3260,695,179,106,29738,57882,62122,62246,"All",17196,36636,37470,24179,8003,1655,466,229,53832,115481,125834,126123]
["Computer Science","Males",1713,4169,5963,6189,4193,2471,1539,1023,5882,18034,27260,28101,"Females",476,1040,1280,1147,715,392,183,94,1516,3943,5327,5432,"All",2189,5209,7243,7336,4908,2863,1722,1117,7398,21977,32587,33533]
["Other Sciences","Males",439,561,608,722,565,488,309,164,1000,2330,3856,3971,"Females",99,285,407,543,372,259,153,83,384,1334,2201,2252,"All",538,846,1015,1265,937,747,462,247,1384,3664,6057,6223]
["D & T: Electronic Products","Males",486,1157,1602,1463,1137,729,396,206,1643,4708,7176,7327,"Females",89,155,138,89,51,19,13,11,244,471,565,568,"All",575,1312,1740,1552,1188,748,409,217,1887,5179,7741,7895]
["D & T: Food Technology","Males",214,785,2046,3376,3274,2140,1330,582,999,6421,13747,14091,"Females",1721,4073,5702,5667,3700,1981,959,345,5794,17163,24148,24333,"All",1935,4858,7748,9043,6974,4121,2289,927,6793,23584,37895,38424]
["D & T: Graphic Products","Males",600,1755,3204,4573,3849,2736,1601,953,2355,10132,19271,19958,"Females",1139,2099,2673,2614,1625,934,466,203,3238,8525,11753,11901,"All",1739,3854,5877,7187,5474,3670,2067,1156,5593,18657,31024,31859]
["D & T: Resistant Materials","Males",1384,3757,7548,10761,8715,5545,3252,1545,5141,23450,42507,43489,"Females",686,1389,1685,1681,1073,580,289,139,2075,5441,7522,7607,"All",2070,5146,9233,12442,9788,6125,3541,1684,7216,28891,50029,51096]
["D & T: Systems & Control","Males",208,353,573,670,499,281,129,68,561,1804,2781,2811,"Females",11,40,34,40,26,10,3,3,51,125,167,168,"All",219,393,607,710,525,291,132,71,612,1929,2948,2979]
["D & T: Textiles Technology","Males",10,41,94,144,149,141,99,46,51,289,724,752,"Females",2235,4140,5711,4948,3259,1747,854,357,6375,17034,23251,23450,"All",2245,4181,5805,5092,3408,1888,953,403,6426,17323,23975,24202]
["Other Design and Technology","Males",704,2166,4831,6761,5420,3552,2311,1110,2870,14462,26855,27503,"Females",803,1947,2704,2271,1439,792,411,209,2750,7725,10576,10721,"All",1507,4113,7535,9032,6859,4344,2722,1319,5620,22187,37431,38224]
["Applied Engineering","Males",45,234,664,1252,1254,924,699,442,279,2195,5514,5817,"Females",18,85,87,100,78,49,29,17,103,290,463,473,"All",63,319,751,1352,1332,973,728,459,382,2485,5977,6290]
["Information Technology","Males",1830,7562,13446,14010,8551,4772,3264,2128,9392,36848,55563,57010,"Females",2422,7708,10465,9559,5783,3030,1757,1060,10130,30154,41784,42550,"All",4252,15270,23911,23569,14334,7802,5021,3188,19522,67002,97347,99560]
["Business Studies","Males",1149,5519,10212,10533,6909,4010,2358,1355,6668,27413,42045,42806,"Females",1322,5115,7880,7245,4633,2551,1411,703,6437,21562,30860,31215,"All",2471,10634,18092,17778,11542,6561,3769,2058,13105,48975,72905,74021]
["Applied Business","Males",113,630,1309,1540,1141,860,475,327,743,3592,6395,6829,"Females",134,723,1089,1028,744,528,240,163,857,2974,4649,4815,"All",247,1353,2398,2568,1885,1388,715,490,1600,6566,11044,11644]
["Home Economics","Males",24,138,373,755,790,606,379,155,162,1290,3220,3307,"Females",731,2581,4655,5687,4736,2872,1524,707,3312,13654,23493,23846,"All",755,2719,5028,6442,5526,3478,1903,862,3474,14944,26713,27153]
["Geography","Males",8313,17556,22645,25918,18312,10834,5748,2815,25869,74432,112141,113352,"Females",12019,19601,20946,19687,12552,7183,3679,1690,31620,72253,97357,98047,"All",20332,37157,43591,45605,30864,18017,9427,4505,57489,146685,209498,211399]
["History","Males",8080,18427,23515,21823,15234,9952,6602,4116,26507,71845,107749,110701,"Females",14358,25155,26033,20774,13368,8637,5376,2980,39513,86320,116681,118363,"All",22438,43582,49548,42597,28602,18589,11978,7096,66020,158165,224430,229064]
["Humanities","Males",46,231,586,884,827,688,473,362,277,1747,4097,4362,"Females",113,456,749,896,706,464,316,183,569,2214,3883,4038,"All",159,687,1335,1780,1533,1152,789,545,846,3961,7980,8400]
["Economics","Males",405,1415,1845,1246,727,360,186,103,1820,4911,6287,6378,"Females",173,713,876,615,343,183,89,40,886,2377,3032,3076,"All",578,2128,2721,1861,1070,543,275,143,2706,7288,9319,9454]
["Social Studies","Males",356,2021,4396,5334,3976,2521,1569,935,2377,12107,21108,21916,"Females",1585,6254,9910,8628,5467,3215,1698,967,7839,26377,37724,38409,"All",1941,8275,14306,13962,9443,5736,3267,1902,10216,38484,58832,60325]
["Arabic","Males",437,288,184,160,90,68,44,49,725,1069,1320,1395,"Females",633,345,255,201,120,83,70,54,978,1434,1761,1807,"All",1070,633,439,361,210,151,114,103,1703,2503,3081,3202]
["Chinese","Males",1034,297,189,137,68,20,9,1,1331,1657,1755,1761,"Females",1066,199,127,99,22,8,0,1,1265,1491,1522,1523,"All",2100,496,316,236,90,28,9,2,2596,3148,3277,3284]
["French","Males",4781,6912,10889,18116,14228,5983,2281,727,11693,40698,63917,64213,"Females",9911,13330,17906,23815,15050,4694,1541,424,23241,64962,86671,86875,"All",14692,20242,28795,41931,29278,10677,3822,1151,34934,105660,150588,151088]
["German","Males",1727,3075,5313,7535,5196,1756,589,209,4802,17650,25400,25466,"Females",2648,4539,6767,7667,4120,1064,333,97,7187,21621,27235,27278,"All",4375,7614,12080,15202,9316,2820,922,306,11989,39271,52635,52744]
["Italian","Males",715,320,236,235,151,54,19,9,1035,1506,1739,1752,"Females",955,435,334,297,158,48,14,4,1390,2021,2245,2252,"All",1670,755,570,532,309,102,33,13,2425,3527,3984,4004]
["Polish","Males",464,801,352,158,75,21,10,17,1265,1775,1898,1923,"Females",894,835,249,88,30,20,4,10,1729,2066,2130,2152,"All",1358,1636,601,246,105,41,14,27,2994,3841,4028,4075]
["Spanish","Males",3788,4750,6480,9440,7123,3035,1353,569,8538,24458,36538,36821,"Females",7543,8082,9868,11663,7206,2601,979,359,15625,37156,48301,48519,"All",11331,12832,16348,21103,14329,5636,2332,928,24163,61614,84839,85340]
["Urdu","Males",136,311,364,362,214,129,75,22,447,1173,1613,1626,"Females",377,627,616,471,269,119,51,13,1004,2091,2543,2559,"All",513,938,980,833,483,248,126,35,1451,3264,4156,4185]
["Other Modern Languages","Males",1510,1330,933,548,284,193,88,37,2840,4321,4923,4987,"Females",2064,1626,924,481,244,108,30,24,3690,5095,5501,5552,"All",3574,2956,1857,1029,528,301,118,61,6530,9416,10424,10539]
["Classical Civilisation","Males",209,464,523,446,236,112,46,19,673,1642,2055,2068,"Females",346,546,419,297,165,77,24,19,892,1608,1893,1899,"All",555,1010,942,743,401,189,70,38,1565,3250,3948,3967]
["Classical Greek","Males",512,126,44,17,6,4,1,0,638,699,710,711,"Females",337,85,34,17,10,5,1,1,422,473,490,490,"All",849,211,78,34,16,9,2,1,1060,1172,1200,1201]
["Latin","Males",1985,979,549,341,164,73,30,13,2964,3854,4134,4151,"Females",2215,1026,505,247,110,62,24,11,3241,3993,4200,4207,"All",4200,2005,1054,588,274,135,54,24,6205,7847,8334,8358]
["Other Classical Studies","Males",105,142,140,97,65,42,27,19,247,484,637,661,"Females",108,241,199,113,84,36,20,16,349,661,817,828,"All",213,383,339,210,149,78,47,35,596,1145,1454,1489]
["Applied Art and Design","Males",9,24,59,153,62,48,28,9,33,245,392,399,"Females",33,58,95,138,57,30,6,4,91,324,421,424,"All",42,82,154,291,119,78,34,13,124,569,813,823]
["Art and Design","Males",2872,4790,10448,20126,10514,5625,3225,1443,7662,38236,59043,59967,"Females",12905,19536,29772,33640,11955,4666,2133,824,32441,95853,115431,116225,"All",15777,24326,40220,53766,22469,10291,5358,2267,40103,134089,174474,176192]
["Communication Studies","Males",94,354,774,1064,928,617,378,200,448,2286,4409,4584,"Females",305,742,1112,1085,739,415,211,110,1047,3244,4719,4828,"All",399,1096,1886,2149,1667,1032,589,310,1495,5530,9128,9412]
["Drama","Males",1071,3579,6121,7062,5112,2457,1105,452,4650,17833,26959,27236,"Females",2911,8823,11928,10388,5746,2342,923,343,11734,34050,43404,43613,"All",3982,12402,18049,17450,10858,4799,2028,795,16384,51883,70363,70849]
["English Literature","Males",6315,24106,50993,52356,33971,16172,6652,2610,30421,133770,193175,195567,"Females",14306,44896,66542,48418,23177,8520,2991,1152,59202,174162,210002,211481,"All",20621,69002,117535,100774,57148,24692,9643,3762,89623,307932,403177,407048]
["English Studies","Males",0,5,52,103,88,71,27,6,5,160,352,353,"Females",3,14,90,104,102,36,15,3,17,211,367,368,"All",3,19,142,207,190,107,42,9,22,371,719,721]
["General Studies","Males",85,329,572,808,926,793,569,428,414,1794,4510,4962,"Females",106,349,626,882,1041,673,403,232,455,1963,4312,4563,"All",191,678,1198,1690,1967,1466,972,660,869,3757,8822,9525]
["Health and Social Care","Males",1,30,103,205,235,214,180,125,31,339,1093,1200,"Females",316,1629,3386,4372,3205,1948,1151,700,1945,9703,16707,17170,"All",317,1659,3489,4577,3440,2162,1331,825,1976,10042,17800,18370]
["Hospitality and Catering","Males",1,21,121,270,272,199,121,26,22,413,1031,1055,"Females",42,158,308,374,274,151,46,16,200,882,1369,1394,"All",43,179,429,644,546,350,167,42,222,1295,2400,2449]
["Leisure and Tourism","Males",16,95,261,471,558,505,400,337,111,843,2643,2918,"Females",82,262,484,622,584,443,285,204,344,1450,2966,3107,"All",98,357,745,1093,1142,948,685,541,455,2293,5609,6025]
["Manufacturing","Males",1,5,15,18,18,20,13,4,6,39,94,94,"Females",1,5,11,12,8,3,0,0,6,29,40,40,"All",2,10,26,30,26,23,13,4,12,68,134,134]
["Media/Film/TV","Males",400,1888,4894,7288,5510,3143,1684,787,2288,14470,25594,26231,"Females",1380,4510,7063,6370,3292,1507,638,301,5890,19323,25061,25363,"All",1780,6398,11957,13658,8802,4650,2322,1088,8178,33793,50655,51594]
["Music","Males",1824,4011,4853,4022,2654,1595,739,385,5835,14710,20083,20392,"Females",2141,5364,6091,4566,2626,1424,611,295,7505,18162,23118,23300,"All",3965,9375,10944,8588,5280,3019,1350,680,13340,32872,43201,43692]
["Performing Arts","Males",58,102,264,400,390,209,140,57,160,824,1620,1665,"Females",382,535,890,1113,732,399,167,65,917,2920,4283,4333,"All",440,637,1154,1513,1122,608,307,122,1077,3744,5903,5998]
["Physical Education","Males",2093,10197,17403,21106,13773,6656,2125,579,12290,50799,73932,74221,"Females",3165,9018,10858,11662,7890,3894,1352,447,12183,34703,48286,48575,"All",5258,19215,28261,32768,21663,10550,3477,1026,24473,85502,122218,122796]
["Religious Studies","Males",8658,18822,27930,26030,17210,11328,7122,4318,27480,81440,121418,125087,"Females",21206,32322,34752,24736,13935,8168,4777,2582,53528,113016,142478,144435,"All",29864,51144,62682,50766,31145,19496,11899,6900,81008,194456,263896,269522]
["Statistics","Males",1151,4245,5799,7859,4817,2029,1053,567,5396,19054,27520,28134,"Females",1040,3861,5462,7086,3530,1449,652,360,4901,17449,23440,23923,"All",2191,8106,11261,14945,8347,3478,1705,927,10297,36503,50960,52057]
["Vocational Studies","Males",222,1274,3293,5403,4634,2920,1356,498,1496,10192,19600,19950,"Females",760,3334,5708,5791,3728,1828,761,279,4094,15593,22189,22379,"All",982,4608,9001,11194,8362,4748,2117,777,5590,25785,41789,42329]
["All Subjects","Males",126241,292026,485722,601010,379932,189548,99707,51750,418267,1504999,2225936,2268823,"Females",199835,408753,571350,582526,316437,137655,65678,32934,608588,1762464,2315168,2343743,"All",326076,700779,1057072,1183536,696369,327203,165385,84684,1026855,3267463,4541104,4612566]

{"sheet":"2015 Comparison","index":16,"n_rows":61,"n_cols":42,"rows_kept":61,"cut":false,"hidden":true,"merged":[]}
["Subject","(No column name)","*","A","B","C","D","E","F","G","AstarA","AstarC","AstarG","Total","(No column name)","*","A","B","C","D","E","F","G","AstarA","AstarC","AstarG","Total","(No column name)","*","A","B","C","D","E","F","G","AstarA","AstarC","AstarG","Total"]
["English","Males",{"$f":"'2015 DISC3C'!C2-'2015 DISC3B'!C2","v":-13},{"$f":"'2015 DISC3C'!D2-'2015 DISC3B'!D2","v":-22},{"$f":"'2015 DISC3C'!E2-'2015 DISC3B'!E2","v":-23},{"$f":"'2015 DISC3C'!F2-'2015 DISC3B'!F2","v":0},{"$f":"'2015 DISC3C'!G2-'2015 DISC3B'!G2","v":0},{"$f":"'2015 DISC3C'!H2-'2015 DISC3B'!H2","v":0},{"$f":"'2015 DISC3C'!I2-'2015 DISC3B'!I2","v":0},{"$f":"'2015 DISC3C'!J2-'2015 DISC3B'!J2","v":0},{"$f":"'2015 DISC3C'!K2-'2015 DISC3B'!K2","v":-35},{"$f":"'2015 DISC3C'!L2-'2015 DISC3B'!L2","v":-58},{"$f":"'2015 DISC3C'!M2-'2015 DISC3B'!M2","v":-58},{"$f":"'2015 DISC3C'!N2-'2015 DISC3B'!N2","v":-58},"Females",{"$f":"'2015 DISC3C'!P2-'2015 DISC3B'!P2","v":-33},{"$f":"'2015 DISC3C'!Q2-'2015 DISC3B'!Q2","v":-51},{"$f":"'2015 DISC3C'!R2-'2015 DISC3B'!R2","v":-22},{"$f":"'2015 DISC3C'!S2-'2015 DISC3B'!S2","v":-4},{"$f":"'2015 DISC3C'!T2-'2015 DISC3B'!T2","v":-1},{"$f":"'2015 DISC3C'!U2-'2015 DISC3B'!U2","v":0},{"$f":"'2015 DISC3C'!V2-'2015 DISC3B'!V2","v":0},{"$f":"'2015 DISC3C'!W2-'2015 DISC3B'!W2","v":0},{"$f":"'2015 DISC3C'!X2-'2015 DISC3B'!X2","v":-84},{"$f":"'2015 DISC3C'!Y2-'2015 DISC3B'!Y2","v":-110},{"$f":"'2015 DISC3C'!Z2-'2015 DISC3B'!Z2","v":-111},{"$f":"'2015 DISC3C'!AA2-'2015 DISC3B'!AA2","v":-111},"All",{"$f":"'2015 DISC3C'!AC2-'2015 DISC3B'!AC2","v":-46},{"$f":"'2015 DISC3C'!AD2-'2015 DISC3B'!AD2","v":-73},{"$f":"'2015 DISC3C'!AE2-'2015 DISC3B'!AE2","v":-45},{"$f":"'2015 DISC3C'!AF2-'2015 DISC3B'!AF2","v":-4},{"$f":"'2015 DISC3C'!AG2-'2015 DISC3B'!AG2","v":-1},{"$f":"'2015 DISC3C'!AH2-'2015 DISC3B'!AH2","v":0},{"$f":"'2015 DISC3C'!AI2-'2015 DISC3B'!AI2","v":0},{"$f":"'2015 DISC3C'!AJ2-'2015 DISC3B'!AJ2","v":0},{"$f":"'2015 DISC3C'!AK2-'2015 DISC3B'!AK2","v":-119},{"$f":"'2015 DISC3C'!AL2-'2015 DISC3B'!AL2","v":-168},{"$f":"'2015 DISC3C'!AM2-'2015 DISC3B'!AM2","v":-169},{"$f":"'2015 DISC3C'!AN2-'2015 DISC3B'!AN2","v":-169}]
["Mathematics","Males",{"$f":"'2015 DISC3C'!C3-'2015 DISC3B'!C3","v":-158},{"$f":"'2015 DISC3C'!D3-'2015 DISC3B'!D3","v":-31},{"$f":"'2015 DISC3C'!E3-'2015 DISC3B'!E3","v":-6},{"$f":"'2015 DISC3C'!F3-'2015 DISC3B'!F3","v":-1},{"$f":"'2015 DISC3C'!G3-'2015 DISC3B'!G3","v":0},{"$f":"'2015 DISC3C'!H3-'2015 DISC3B'!H3","v":0},{"$f":"'2015 DISC3C'!I3-'2015 DISC3B'!I3","v":0},{"$f":"'2015 DISC3C'!J3-'2015 DISC3B'!J3","v":0},{"$f":"'2015 DISC3C'!K3-'2015 DISC3B'!K3","v":-189},{"$f":"'2015 DISC3C'!L3-'2015 DISC3B'!L3","v":-196},{"$f":"'2015 DISC3C'!M3-'2015 DISC3B'!M3","v":-196},{"$f":"'2015 DISC3C'!N3-'2015 DISC3B'!N3","v":-196},"Females",{"$f":"'2015 DISC3C'!P3-'2015 DISC3B'!P3","v":-95},{"$f":"'2015 DISC3C'!Q3-'2015 DISC3B'!Q3","v":-18},{"$f":"'2015 DISC3C'!R3-'2015 DISC3B'!R3","v":0},{"$f":"'2015 DISC3C'!S3-'2015 DISC3B'!S3","v":0},{"$f":"'2015 DISC3C'!T3-'2015 DISC3B'!T3","v":0},{"$f":"'2015 DISC3C'!U3-'2015 DISC3B'!U3","v":0},{"$f":"'2015 DISC3C'!V3-'2015 DISC3B'!V3","v":0},{"$f":"'2015 DISC3C'!W3-'2015 DISC3B'!W3","v":0},{"$f":"'2015 DISC3C'!X3-'2015 DISC3B'!X3","v":-113},{"$f":"'2015 DISC3C'!Y3-'2015 DISC3B'!Y3","v":-113},{"$f":"'2015 DISC3C'!Z3-'2015 DISC3B'!Z3","v":-113},{"$f":"'2015 DISC3C'!AA3-'2015 DISC3B'!AA3","v":-113},"All",{"$f":"'2015 DISC3C'!AC3-'2015 DISC3B'!AC3","v":-253},{"$f":"'2015 DISC3C'!AD3-'2015 DISC3B'!AD3","v":-49},{"$f":"'2015 DISC3C'!AE3-'2015 DISC3B'!AE3","v":-6},{"$f":"'2015 DISC3C'!AF3-'2015 DISC3B'!AF3","v":-1},{"$f":"'2015 DISC3C'!AG3-'2015 DISC3B'!AG3","v":0},{"$f":"'2015 DISC3C'!AH3-'2015 DISC3B'!AH3","v":0},{"$f":"'2015 DISC3C'!AI3-'2015 DISC3B'!AI3","v":0},{"$f":"'2015 DISC3C'!AJ3-'2015 DISC3B'!AJ3","v":0},{"$f":"'2015 DISC3C'!AK3-'2015 DISC3B'!AK3","v":-302},{"$f":"'2015 DISC3C'!AL3-'2015 DISC3B'!AL3","v":-309},{"$f":"'2015 DISC3C'!AM3-'2015 DISC3B'!AM3","v":-309},{"$f":"'2015 DISC3C'!AN3-'2015 DISC3B'!AN3","v":-309}]
["Core Science","Males",{"$f":"'2015 DISC3C'!C4-'2015 DISC3B'!C4","v":0},{"$f":"'2015 DISC3C'!D4-'2015 DISC3B'!D4","v":0},{"$f":"'2015 DISC3C'!E4-'2015 DISC3B'!E4","v":0},{"$f":"'2015 DISC3C'!F4-'2015 DISC3B'!F4","v":0},{"$f":"'2015 DISC3C'!G4-'2015 DISC3B'!G4","v":0},{"$f":"'2015 DISC3C'!H4-'2015 DISC3B'!H4","v":0},{"$f":"'2015 DISC3C'!I4-'2015 DISC3B'!I4","v":0},{"$f":"'2015 DISC3C'!J4-'2015 DISC3B'!J4","v":0},{"$f":"'2015 DISC3C'!K4-'2015 DISC3B'!K4","v":0},{"$f":"'2015 DISC3C'!L4-'2015 DISC3B'!L4","v":0},{"$f":"'2015 DISC3C'!M4-'2015 DISC3B'!M4","v":0},{"$f":"'2015 DISC3C'!N4-'2015 DISC3B'!N4","v":0},"Females",{"$f":"'2015 DISC3C'!P4-'2015 DISC3B'!P4","v":0},{"$f":"'2015 DISC3C'!Q4-'2015 DISC3B'!Q4","v":0},{"$f":"'2015 DISC3C'!R4-'2015 DISC3B'!R4","v":1},{"$f":"'2015 DISC3C'!S4-'2015 DISC3B'!S4","v":0},{"$f":"'2015 DISC3C'!T4-'2015 DISC3B'!T4","v":0},{"$f":"'2015 DISC3C'!U4-'2015 DISC3B'!U4","v":0},{"$f":"'2015 DISC3C'!V4-'2015 DISC3B'!V4","v":0},{"$f":"'2015 DISC3C'!W4-'2015 DISC3B'!W4","v":0},{"$f":"'2015 DISC3C'!X4-'2015 DISC3B'!X4","v":0},{"$f":"'2015 DISC3C'!Y4-'2015 DISC3B'!Y4","v":1},{"$f":"'2015 DISC3C'!Z4-'2015 DISC3B'!Z4","v":1},{"$f":"'2015 DISC3C'!AA4-'2015 DISC3B'!AA4","v":1},"All",{"$f":"'2015 DISC3C'!AC4-'2015 DISC3B'!AC4","v":0},{"$f":"'2015 DISC3C'!AD4-'2015 DISC3B'!AD4","v":0},{"$f":"'2015 DISC3C'!AE4-'2015 DISC3B'!AE4","v":1},{"$f":"'2015 DISC3C'!AF4-'2015 DISC3B'!AF4","v":0},{"$f":"'2015 DISC3C'!AG4-'2015 DISC3B'!AG4","v":0},{"$f":"'2015 DISC3C'!AH4-'2015 DISC3B'!AH4","v":0},{"$f":"'2015 DISC3C'!AI4-'2015 DISC3B'!AI4","v":0},{"$f":"'2015 DISC3C'!AJ4-'2015 DISC3B'!AJ4","v":0},{"$f":"'2015 DISC3C'!AK4-'2015 DISC3B'!AK4","v":0},{"$f":"'2015 DISC3C'!AL4-'2015 DISC3B'!AL4","v":1},{"$f":"'2015 DISC3C'!AM4-'2015 DISC3B'!AM4","v":1},{"$f":"'2015 DISC3C'!AN4-'2015 DISC3B'!AN4","v":1}]
["Additional Science","Males",{"$f":"'2015 DISC3C'!C5-'2015 DISC3B'!C5","v":0},{"$f":"'2015 DISC3C'!D5-'2015 DISC3B'!D5","v":0},{"$f":"'2015 DISC3C'!E5-'2015 DISC3B'!E5","v":0},{"$f":"'2015 DISC3C'!F5-'2015 DISC3B'!F5","v":0},{"$f":"'2015 DISC3C'!G5-'2015 DISC3B'!G5","v":0},{"$f":"'2015 DISC3C'!H5-'2015 DISC3B'!H5","v":0},{"$f":"'2015 DISC3C'!I5-'2015 DISC3B'!I5","v":0},{"$f":"'2015 DISC3C'!J5-'2015 DISC3B'!J5","v":0},{"$f":"'2015 DISC3C'!K5-'2015 DISC3B'!K5","v":0},{"$f":"'2015 DISC3C'!L5-'2015 DISC3B'!L5","v":0},{"$f":"'2015 DISC3C'!M5-'2015 DISC3B'!M5","v":0},{"$f":"'2015 DISC3C'!N5-'2015 DISC3B'!N5","v":0},"Females",{"$f":"'2015 DISC3C'!P5-'2015 DISC3B'!P5","v":0},{"$f":"'2015 DISC3C'!Q5-'2015 DISC3B'!Q5","v":0},{"$f":"'2015 DISC3C'!R5-'2015 DISC3B'!R5","v":1},{"$f":"'2015 DISC3C'!S5-'2015 DISC3B'!S5","v":0},{"$f":"'2015 DISC3C'!T5-'2015 DISC3B'!T5","v":0},{"$f":"'2015 DISC3C'!U5-'2015 DISC3B'!U5","v":0},{"$f":"'2015 DISC3C'!V5-'2015 DISC3B'!V5","v":0},{"$f":"'2015 DISC3C'!W5-'2015 DISC3B'!W5","v":0},{"$f":"'2015 DISC3C'!X5-'2015 DISC3B'!X5","v":0},{"$f":"'2015 DISC3C'!Y5-'2015 DISC3B'!Y5","v":1},{"$f":"'2015 DISC3C'!Z5-'2015 DISC3B'!Z5","v":1},{"$f":"'2015 DISC3C'!AA5-'2015 DISC3B'!AA5","v":1},"All",{"$f":"'2015 DISC3C'!AC5-'2015 DISC3B'!AC5","v":0},{"$f":"'2015 DISC3C'!AD5-'2015 DISC3B'!AD5","v":0},{"$f":"'2015 DISC3C'!AE5-'2015 DISC3B'!AE5","v":1},{"$f":"'2015 DISC3C'!AF5-'2015 DISC3B'!AF5","v":0},{"$f":"'2015 DISC3C'!AG5-'2015 DISC3B'!AG5","v":0},{"$f":"'2015 DISC3C'!AH5-'2015 DISC3B'!AH5","v":0},{"$f":"'2015 DISC3C'!AI5-'2015 DISC3B'!AI5","v":0},{"$f":"'2015 DISC3C'!AJ5-'2015 DISC3B'!AJ5","v":0},{"$f":"'2015 DISC3C'!AK5-'2015 DISC3B'!AK5","v":0},{"$f":"'2015 DISC3C'!AL5-'2015 DISC3B'!AL5","v":1},{"$f":"'2015 DISC3C'!AM5-'2015 DISC3B'!AM5","v":1},{"$f":"'2015 DISC3C'!AN5-'2015 DISC3B'!AN5","v":1}]
["Further Additional Science","Males",{"$f":"'2015 DISC3C'!C6-'2015 DISC3B'!C6","v":0},{"$f":"'2015 DISC3C'!D6-'2015 DISC3B'!D6","v":0},{"$f":"'2015 DISC3C'!E6-'2015 DISC3B'!E6","v":0},{"$f":"'2015 DISC3C'!F6-'2015 DISC3B'!F6","v":0},{"$f":"'2015 DISC3C'!G6-'2015 DISC3B'!G6","v":0},{"$f":"'2015 DISC3C'!H6-'2015 DISC3B'!H6","v":0},{"$f":"'2015 DISC3C'!I6-'2015 DISC3B'!I6","v":0},{"$f":"'2015 DISC3C'!J6-'2015 DISC3B'!J6","v":0},{"$f":"'2015 DISC3C'!K6-'2015 DISC3B'!K6","v":0},{"$f":"'2015 DISC3C'!L6-'2015 DISC3B'!L6","v":0},{"$f":"'2015 DISC3C'!M6-'2015 DISC3B'!M6","v":0},{"$f":"'2015 DISC3C'!N6-'2015 DISC3B'!N6","v":0},"Females",{"$f":"'2015 DISC3C'!P6-'2015 DISC3B'!P6","v":0},{"$f":"'2015 DISC3C'!Q6-'2015 DISC3B'!Q6","v":0},{"$f":"'2015 DISC3C'!R6-'2015 DISC3B'!R6","v":0},{"$f":"'2015 DISC3C'!S6-'2015 DISC3B'!S6","v":0},{"$f":"'2015 DISC3C'!T6-'2015 DISC3B'!T6","v":0},{"$f":"'2015 DISC3C'!U6-'2015 DISC3B'!U6","v":0},{"$f":"'2015 DISC3C'!V6-'2015 DISC3B'!V6","v":0},{"$f":"'2015 DISC3C'!W6-'2015 DISC3B'!W6","v":0},{"$f":"'2015 DISC3C'!X6-'2015 DISC3B'!X6","v":0},{"$f":"'2015 DISC3C'!Y6-'2015 DISC3B'!Y6","v":0},{"$f":"'2015 DISC3C'!Z6-'2015 DISC3B'!Z6","v":0},{"$f":"'2015 DISC3C'!AA6-'2015 DISC3B'!AA6","v":0},"All",{"$f":"'2015 DISC3C'!AC6-'2015 DISC3B'!AC6","v":0},{"$f":"'2015 DISC3C'!AD6-'2015 DISC3B'!AD6","v":0},{"$f":"'2015 DISC3C'!AE6-'2015 DISC3B'!AE6","v":0},{"$f":"'2015 DISC3C'!AF6-'2015 DISC3B'!AF6","v":0},{"$f":"'2015 DISC3C'!AG6-'2015 DISC3B'!AG6","v":0},{"$f":"'2015 DISC3C'!AH6-'2015 DISC3B'!AH6","v":0},{"$f":"'2015 DISC3C'!AI6-'2015 DISC3B'!AI6","v":0},{"$f":"'2015 DISC3C'!AJ6-'2015 DISC3B'!AJ6","v":0},{"$f":"'2015 DISC3C'!AK6-'2015 DISC3B'!AK6","v":0},{"$f":"'2015 DISC3C'!AL6-'2015 DISC3B'!AL6","v":0},{"$f":"'2015 DISC3C'!AM6-'2015 DISC3B'!AM6","v":0},{"$f":"'2015 DISC3C'!AN6-'2015 DISC3B'!AN6","v":0}]
["Additional Applied Science","Males",{"$f":"'2015 DISC3C'!C7-'2015 DISC3B'!C7","v":0},{"$f":"'2015 DISC3C'!D7-'2015 DISC3B'!D7","v":0},{"$f":"'2015 DISC3C'!E7-'2015 DISC3B'!E7","v":0},{"$f":"'2015 DISC3C'!F7-'2015 DISC3B'!F7","v":0},{"$f":"'2015 DISC3C'!G7-'2015 DISC3B'!G7","v":0},{"$f":"'2015 DISC3C'!H7-'2015 DISC3B'!H7","v":0},{"$f":"'2015 DISC3C'!I7-'2015 DISC3B'!I7","v":0},{"$f":"'2015 DISC3C'!J7-'2015 DISC3B'!J7","v":0},{"$f":"'2015 DISC3C'!K7-'2015 DISC3B'!K7","v":0},{"$f":"'2015 DISC3C'!L7-'2015 DISC3B'!L7","v":0},{"$f":"'2015 DISC3C'!M7-'2015 DISC3B'!M7","v":0},{"$f":"'2015 DISC3C'!N7-'2015 DISC3B'!N7","v":0},"Females",{"$f":"'2015 DISC3C'!P7-'2015 DISC3B'!P7","v":0},{"$f":"'2015 DISC3C'!Q7-'2015 DISC3B'!Q7","v":0},{"$f":"'2015 DISC3C'!R7-'2015 DISC3B'!R7","v":0},{"$f":"'2015 DISC3C'!S7-'2015 DISC3B'!S7","v":0},{"$f":"'2015 DISC3C'!T7-'2015 DISC3B'!T7","v":0},{"$f":"'2015 DISC3C'!U7-'2015 DISC3B'!U7","v":0},{"$f":"'2015 DISC3C'!V7-'2015 DISC3B'!V7","v":0},{"$f":"'2015 DISC3C'!W7-'2015 DISC3B'!W7","v":0},{"$f":"'2015 DISC3C'!X7-'2015 DISC3B'!X7","v":0},{"$f":"'2015 DISC3C'!Y7-'2015 DISC3B'!Y7","v":0},{"$f":"'2015 DISC3C'!Z7-'2015 DISC3B'!Z7","v":0},{"$f":"'2015 DISC3C'!AA7-'2015 DISC3B'!AA7","v":0},"All",{"$f":"'2015 DISC3C'!AC7-'2015 DISC3B'!AC7","v":0},{"$f":"'2015 DISC3C'!AD7-'2015 DISC3B'!AD7","v":0},{"$f":"'2015 DISC3C'!AE7-'2015 DISC3B'!AE7","v":0},{"$f":"'2015 DISC3C'!AF7-'2015 DISC3B'!AF7","v":0},{"$f":"'2015 DISC3C'!AG7-'2015 DISC3B'!AG7","v":0},{"$f":"'2015 DISC3C'!AH7-'2015 DISC3B'!AH7","v":0},{"$f":"'2015 DISC3C'!AI7-'2015 DISC3B'!AI7","v":0},{"$f":"'2015 DISC3C'!AJ7-'2015 DISC3B'!AJ7","v":0},{"$f":"'2015 DISC3C'!AK7-'2015 DISC3B'!AK7","v":0},{"$f":"'2015 DISC3C'!AL7-'2015 DISC3B'!AL7","v":0},{"$f":"'2015 DISC3C'!AM7-'2015 DISC3B'!AM7","v":0},{"$f":"'2015 DISC3C'!AN7-'2015 DISC3B'!AN7","v":0}]
["Physics","Males",{"$f":"'2015 DISC3C'!C8-'2015 DISC3B'!C8","v":0},{"$f":"'2015 DISC3C'!D8-'2015 DISC3B'!D8","v":0},{"$f":"'2015 DISC3C'!E8-'2015 DISC3B'!E8","v":0},{"$f":"'2015 DISC3C'!F8-'2015 DISC3B'!F8","v":0},{"$f":"'2015 DISC3C'!G8-'2015 DISC3B'!G8","v":0},{"$f":"'2015 DISC3C'!H8-'2015 DISC3B'!H8","v":0},{"$f":"'2015 DISC3C'!I8-'2015 DISC3B'!I8","v":0},{"$f":"'2015 DISC3C'!J8-'2015 DISC3B'!J8","v":0},{"$f":"'2015 DISC3C'!K8-'2015 DISC3B'!K8","v":0},{"$f":"'2015 DISC3C'!L8-'2015 DISC3B'!L8","v":0},{"$f":"'2015 DISC3C'!M8-'2015 DISC3B'!M8","v":0},{"$f":"'2015 DISC3C'!N8-'2015 DISC3B'!N8","v":0},"Females",{"$f":"'2015 DISC3C'!P8-'2015 DISC3B'!P8","v":-1},{"$f":"'2015 DISC3C'!Q8-'2015 DISC3B'!Q8","v":0},{"$f":"'2015 DISC3C'!R8-'2015 DISC3B'!R8","v":0},{"$f":"'2015 DISC3C'!S8-'2015 DISC3B'!S8","v":0},{"$f":"'2015 DISC3C'!T8-'2015 DISC3B'!T8","v":0},{"$f":"'2015 DISC3C'!U8-'2015 DISC3B'!U8","v":0},{"$f":"'2015 DISC3C'!V8-'2015 DISC3B'!V8","v":0},{"$f":"'2015 DISC3C'!W8-'2015 DISC3B'!W8","v":0},{"$f":"'2015 DISC3C'!X8-'2015 DISC3B'!X8","v":-1},{"$f":"'2015 DISC3C'!Y8-'2015 DISC3B'!Y8","v":-1},{"$f":"'2015 DISC3C'!Z8-'2015 DISC3B'!Z8","v":-1},{"$f":"'2015 DISC3C'!AA8-'2015 DISC3B'!AA8","v":-1},"All",{"$f":"'2015 DISC3C'!AC8-'2015 DISC3B'!AC8","v":-1},{"$f":"'2015 DISC3C'!AD8-'2015 DISC3B'!AD8","v":0},{"$f":"'2015 DISC3C'!AE8-'2015 DISC3B'!AE8","v":0},{"$f":"'2015 DISC3C'!AF8-'2015 DISC3B'!AF8","v":0},{"$f":"'2015 DISC3C'!AG8-'2015 DISC3B'!AG8","v":0},{"$f":"'2015 DISC3C'!AH8-'2015 DISC3B'!AH8","v":0},{"$f":"'2015 DISC3C'!AI8-'2015 DISC3B'!AI8","v":0},{"$f":"'2015 DISC3C'!AJ8-'2015 DISC3B'!AJ8","v":0},{"$f":"'2015 DISC3C'!AK8-'2015 DISC3B'!AK8","v":-1},{"$f":"'2015 DISC3C'!AL8-'2015 DISC3B'!AL8","v":-1},{"$f":"'2015 DISC3C'!AM8-'2015 DISC3B'!AM8","v":-1},{"$f":"'2015 DISC3C'!AN8-'2015 DISC3B'!AN8","v":-1}]
["Chemistry","Males",{"$f":"'2015 DISC3C'!C9-'2015 DISC3B'!C9","v":-2},{"$f":"'2015 DISC3C'!D9-'2015 DISC3B'!D9","v":-1},{"$f":"'2015 DISC3C'!E9-'2015 DISC3B'!E9","v":-1},{"$f":"'2015 DISC3C'!F9-'2015 DISC3B'!F9","v":0},{"$f":"'2015 DISC3C'!G9-'2015 DISC3B'!G9","v":0},{"$f":"'2015 DISC3C'!H9-'2015 DISC3B'!H9","v":0},{"$f":"'2015 DISC3C'!I9-'2015 DISC3B'!I9","v":0},{"$f":"'2015 DISC3C'!J9-'2015 DISC3B'!J9","v":0},{"$f":"'2015 DISC3C'!K9-'2015 DISC3B'!K9","v":-3},{"$f":"'2015 DISC3C'!L9-'2015 DISC3B'!L9","v":-4},{"$f":"'2015 DISC3C'!M9-'2015 DISC3B'!M9","v":-4},{"$f":"'2015 DISC3C'!N9-'2015 DISC3B'!N9","v":-4},"Females",{"$f":"'2015 DISC3C'!P9-'2015 DISC3B'!P9","v":-2},{"$f":"'2015 DISC3C'!Q9-'2015 DISC3B'!Q9","v":0},{"$f":"'2015 DISC3C'!R9-'2015 DISC3B'!R9","v":0},{"$f":"'2015 DISC3C'!S9-'2015 DISC3B'!S9","v":0},{"$f":"'2015 DISC3C'!T9-'2015 DISC3B'!T9","v":0},{"$f":"'2015 DISC3C'!U9-'2015 DISC3B'!U9","v":0},{"$f":"'2015 DISC3C'!V9-'2015 DISC3B'!V9","v":0},{"$f":"'2015 DISC3C'!W9-'2015 DISC3B'!W9","v":0},{"$f":"'2015 DISC3C'!X9-'2015 DISC3B'!X9","v":-2},{"$f":"'2015 DISC3C'!Y9-'2015 DISC3B'!Y9","v":-2},{"$f":"'2015 DISC3C'!Z9-'2015 DISC3B'!Z9","v":-2},{"$f":"'2015 DISC3C'!AA9-'2015 DISC3B'!AA9","v":-2},"All",{"$f":"'2015 DISC3C'!AC9-'2015 DISC3B'!AC9","v":-4},{"$f":"'2015 DISC3C'!AD9-'2015 DISC3B'!AD9","v":-1},{"$f":"'2015 DISC3C'!AE9-'2015 DISC3B'!AE9","v":-1},{"$f":"'2015 DISC3C'!AF9-'2015 DISC3B'!AF9","v":0},{"$f":"'2015 DISC3C'!AG9-'2015 DISC3B'!AG9","v":0},{"$f":"'2015 DISC3C'!AH9-'2015 DISC3B'!AH9","v":0},{"$f":"'2015 DISC3C'!AI9-'2015 DISC3B'!AI9","v":0},{"$f":"'2015 DISC3C'!AJ9-'2015 DISC3B'!AJ9","v":0},{"$f":"'2015 DISC3C'!AK9-'2015 DISC3B'!AK9","v":-5},{"$f":"'2015 DISC3C'!AL9-'2015 DISC3B'!AL9","v":-6},{"$f":"'2015 DISC3C'!AM9-'2015 DISC3B'!AM9","v":-6},{"$f":"'2015 DISC3C'!AN9-'2015 DISC3B'!AN9","v":-6}]
["Biological Sciences","Males",{"$f":"'2015 DISC3C'!C10-'2015 DISC3B'!C10","v":-2},{"$f":"'2015 DISC3C'!D10-'2015 DISC3B'!D10","v":-1},{"$f":"'2015 DISC3C'!E10-'2015 DISC3B'!E10","v":0},{"$f":"'2015 DISC3C'!F10-'2015 DISC3B'!F10","v":0},{"$f":"'2015 DISC3C'!G10-'2015 DISC3B'!G10","v":0},{"$f":"'2015 DISC3C'!H10-'2015 DISC3B'!H10","v":0},{"$f":"'2015 DISC3C'!I10-'2015 DISC3B'!I10","v":0},{"$f":"'2015 DISC3C'!J10-'2015 DISC3B'!J10","v":0},{"$f":"'2015 DISC3C'!K10-'2015 DISC3B'!K10","v":-3},{"$f":"'2015 DISC3C'!L10-'2015 DISC3B'!L10","v":-3},{"$f":"'2015 DISC3C'!M10-'2015 DISC3B'!M10","v":-3},{"$f":"'2015 DISC3C'!N10-'2015 DISC3B'!N10","v":-3},"Females",{"$f":"'2015 DISC3C'!P10-'2015 DISC3B'!P10","v":-1},{"$f":"'2015 DISC3C'!Q10-'2015 DISC3B'!Q10","v":0},{"$f":"'2015 DISC3C'!R10-'2015 DISC3B'!R10","v":0},{"$f":"'2015 DISC3C'!S10-'2015 DISC3B'!S10","v":0},{"$f":"'2015 DISC3C'!T10-'2015 DISC3B'!T10","v":0},{"$f":"'2015 DISC3C'!U10-'2015 DISC3B'!U10","v":0},{"$f":"'2015 DISC3C'!V10-'2015 DISC3B'!V10","v":0},{"$f":"'2015 DISC3C'!W10-'2015 DISC3B'!W10","v":0},{"$f":"'2015 DISC3C'!X10-'2015 DISC3B'!X10","v":-1},{"$f":"'2015 DISC3C'!Y10-'2015 DISC3B'!Y10","v":-1},{"$f":"'2015 DISC3C'!Z10-'2015 DISC3B'!Z10","v":-1},{"$f":"'2015 DISC3C'!AA10-'2015 DISC3B'!AA10","v":-1},"All",{"$f":"'2015 DISC3C'!AC10-'2015 DISC3B'!AC10","v":-3},{"$f":"'2015 DISC3C'!AD10-'2015 DISC3B'!AD10","v":-1},{"$f":"'2015 DISC3C'!AE10-'2015 DISC3B'!AE10","v":0},{"$f":"'2015 DISC3C'!AF10-'2015 DISC3B'!AF10","v":0},{"$f":"'2015 DISC3C'!AG10-'2015 DISC3B'!AG10","v":0},{"$f":"'2015 DISC3C'!AH10-'2015 DISC3B'!AH10","v":0},{"$f":"'2015 DISC3C'!AI10-'2015 DISC3B'!AI10","v":0},{"$f":"'2015 DISC3C'!AJ10-'2015 DISC3B'!AJ10","v":0},{"$f":"'2015 DISC3C'!AK10-'2015 DISC3B'!AK10","v":-4},{"$f":"'2015 DISC3C'!AL10-'2015 DISC3B'!AL10","v":-4},{"$f":"'2015 DISC3C'!AM10-'2015 DISC3B'!AM10","v":-4},{"$f":"'2015 DISC3C'!AN10-'2015 DISC3B'!AN10","v":-4}]
["Computer Science","Males",{"$f":"'2015 DISC3C'!C11-'2015 DISC3B'!C11","v":-6},{"$f":"'2015 DISC3C'!D11-'2015 DISC3B'!D11","v":-6},{"$f":"'2015 DISC3C'!E11-'2015 DISC3B'!E11","v":-1},{"$f":"'2015 DISC3C'!F11-'2015 DISC3B'!F11","v":-1},{"$f":"'2015 DISC3C'!G11-'2015 DISC3B'!G11","v":0},{"$f":"'2015 DISC3C'!H11-'2015 DISC3B'!H11","v":0},{"$f":"'2015 DISC3C'!I11-'2015 DISC3B'!I11","v":0},{"$f":"'2015 DISC3C'!J11-'2015 DISC3B'!J11","v":0},{"$f":"'2015 DISC3C'!K11-'2015 DISC3B'!K11","v":-12},{"$f":"'2015 DISC3C'!L11-'2015 DISC3B'!L11","v":-14},{"$f":"'2015 DISC3C'!M11-'2015 DISC3B'!M11","v":-14},{"$f":"'2015 DISC3C'!N11-'2015 DISC3B'!N11","v":-14},"Females",{"$f":"'2015 DISC3C'!P11-'2015 DISC3B'!P11","v":-1},{"$f":"'2015 DISC3C'!Q11-'2015 DISC3B'!Q11","v":0},{"$f":"'2015 DISC3C'!R11-'2015 DISC3B'!R11","v":0},{"$f":"'2015 DISC3C'!S11-'2015 DISC3B'!S11","v":0},{"$f":"'2015 DISC3C'!T11-'2015 DISC3B'!T11","v":0},{"$f":"'2015 DISC3C'!U11-'2015 DISC3B'!U11","v":0},{"$f":"'2015 DISC3C'!V11-'2015 DISC3B'!V11","v":0},{"$f":"'2015 DISC3C'!W11-'2015 DISC3B'!W11","v":0},{"$f":"'2015 DISC3C'!X11-'2015 DISC3B'!X11","v":-1},{"$f":"'2015 DISC3C'!Y11-'2015 DISC3B'!Y11","v":-1},{"$f":"'2015 DISC3C'!Z11-'2015 DISC3B'!Z11","v":-1},{"$f":"'2015 DISC3C'!AA11-'2015 DISC3B'!AA11","v":-1},"All",{"$f":"'2015 DISC3C'!AC11-'2015 DISC3B'!AC11","v":-7},{"$f":"'2015 DISC3C'!AD11-'2015 DISC3B'!AD11","v":-6},{"$f":"'2015 DISC3C'!AE11-'2015 DISC3B'!AE11","v":-1},{"$f":"'2015 DISC3C'!AF11-'2015 DISC3B'!AF11","v":-1},{"$f":"'2015 DISC3C'!AG11-'2015 DISC3B'!AG11","v":0},{"$f":"'2015 DISC3C'!AH11-'2015 DISC3B'!AH11","v":0},{"$f":"'2015 DISC3C'!AI11-'2015 DISC3B'!AI11","v":0},{"$f":"'2015 DISC3C'!AJ11-'2015 DISC3B'!AJ11","v":0},{"$f":"'2015 DISC3C'!AK11-'2015 DISC3B'!AK11","v":-13},{"$f":"'2015 DISC3C'!AL11-'2015 DISC3B'!AL11","v":-15},{"$f":"'2015 DISC3C'!AM11-'2015 DISC3B'!AM11","v":-15},{"$f":"'2015 DISC3C'!AN11-'2015 DISC3B'!AN11","v":-15}]
["Other Sciences","Males",{"$f":"'2015 DISC3C'!C12-'2015 DISC3B'!C12","v":0},{"$f":"'2015 DISC3C'!D12-'2015 DISC3B'!D12","v":-1},{"$f":"'2015 DISC3C'!E12-'2015 DISC3B'!E12","v":-2},{"$f":"'2015 DISC3C'!F12-'2015 DISC3B'!F12","v":0},{"$f":"'2015 DISC3C'!G12-'2015 DISC3B'!G12","v":0},{"$f":"'2015 DISC3C'!H12-'2015 DISC3B'!H12","v":0},{"$f":"'2015 DISC3C'!I12-'2015 DISC3B'!I12","v":0},{"$f":"'2015 DISC3C'!J12-'2015 DISC3B'!J12","v":0},{"$f":"'2015 DISC3C'!K12-'2015 DISC3B'!K12","v":-1},{"$f":"'2015 DISC3C'!L12-'2015 DISC3B'!L12","v":-3},{"$f":"'2015 DISC3C'!M12-'2015 DISC3B'!M12","v":-3},{"$f":"'2015 DISC3C'!N12-'2015 DISC3B'!N12","v":-3},"Females",{"$f":"'2015 DISC3C'!P12-'2015 DISC3B'!P12","v":0},{"$f":"'2015 DISC3C'!Q12-'2015 DISC3B'!Q12","v":0},{"$f":"'2015 DISC3C'!R12-'2015 DISC3B'!R12","v":0},{"$f":"'2015 DISC3C'!S12-'2015 DISC3B'!S12","v":0},{"$f":"'2015 DISC3C'!T12-'2015 DISC3B'!T12","v":0},{"$f":"'2015 DISC3C'!U12-'2015 DISC3B'!U12","v":0},{"$f":"'2015 DISC3C'!V12-'2015 DISC3B'!V12","v":0},{"$f":"'2015 DISC3C'!W12-'2015 DISC3B'!W12","v":0},{"$f":"'2015 DISC3C'!X12-'2015 DISC3B'!X12","v":0},{"$f":"'2015 DISC3C'!Y12-'2015 DISC3B'!Y12","v":0},{"$f":"'2015 DISC3C'!Z12-'2015 DISC3B'!Z12","v":0},{"$f":"'2015 DISC3C'!AA12-'2015 DISC3B'!AA12","v":0},"All",{"$f":"'2015 DISC3C'!AC12-'2015 DISC3B'!AC12","v":0},{"$f":"'2015 DISC3C'!AD12-'2015 DISC3B'!AD12","v":-1},{"$f":"'2015 DISC3C'!AE12-'2015 DISC3B'!AE12","v":-2},{"$f":"'2015 DISC3C'!AF12-'2015 DISC3B'!AF12","v":0},{"$f":"'2015 DISC3C'!AG12-'2015 DISC3B'!AG12","v":0},{"$f":"'2015 DISC3C'!AH12-'2015 DISC3B'!AH12","v":0},{"$f":"'2015 DISC3C'!AI12-'2015 DISC3B'!AI12","v":0},{"$f":"'2015 DISC3C'!AJ12-'2015 DISC3B'!AJ12","v":0},{"$f":"'2015 DISC3C'!AK12-'2015 DISC3B'!AK12","v":-1},{"$f":"'2015 DISC3C'!AL12-'2015 DISC3B'!AL12","v":-3},{"$f":"'2015 DISC3C'!AM12-'2015 DISC3B'!AM12","v":-3},{"$f":"'2015 DISC3C'!AN12-'2015 DISC3B'!AN12","v":-3}]
["D & T: Electronic Products","Males",{"$f":"'2015 DISC3C'!C13-'2015 DISC3B'!C13","v":0},{"$f":"'2015 DISC3C'!D13-'2015 DISC3B'!D13","v":0},{"$f":"'2015 DISC3C'!E13-'2015 DISC3B'!E13","v":0},{"$f":"'2015 DISC3C'!F13-'2015 DISC3B'!F13","v":0},{"$f":"'2015 DISC3C'!G13-'2015 DISC3B'!G13","v":0},{"$f":"'2015 DISC3C'!H13-'2015 DISC3B'!H13","v":0},{"$f":"'2015 DISC3C'!I13-'2015 DISC3B'!I13","v":0},{"$f":"'2015 DISC3C'!J13-'2015 DISC3B'!J13","v":0},{"$f":"'2015 DISC3C'!K13-'2015 DISC3B'!K13","v":0},{"$f":"'2015 DISC3C'!L13-'2015 DISC3B'!L13","v":0},{"$f":"'2015 DISC3C'!M13-'2015 DISC3B'!M13","v":0},{"$f":"'2015 DISC3C'!N13-'2015 DISC3B'!N13","v":0},"Females",{"$f":"'2015 DISC3C'!P13-'2015 DISC3B'!P13","v":0},{"$f":"'2015 DISC3C'!Q13-'2015 DISC3B'!Q13","v":0},{"$f":"'2015 DISC3C'!R13-'2015 DISC3B'!R13","v":0},{"$f":"'2015 DISC3C'!S13-'2015 DISC3B'!S13","v":0},{"$f":"'2015 DISC3C'!T13-'2015 DISC3B'!T13","v":0},{"$f":"'2015 DISC3C'!U13-'2015 DISC3B'!U13","v":0},{"$f":"'2015 DISC3C'!V13-'2015 DISC3B'!V13","v":0},{"$f":"'2015 DISC3C'!W13-'2015 DISC3B'!W13","v":0},{"$f":"'2015 DISC3C'!X13-'2015 DISC3B'!X13","v":0},{"$f":"'2015 DISC3C'!Y13-'2015 DISC3B'!Y13","v":0},{"$f":"'2015 DISC3C'!Z13-'2015 DISC3B'!Z13","v":0},{"$f":"'2015 DISC3C'!AA13-'2015 DISC3B'!AA13","v":0},"All",{"$f":"'2015 DISC3C'!AC13-'2015 DISC3B'!AC13","v":0},{"$f":"'2015 DISC3C'!AD13-'2015 DISC3B'!AD13","v":0},{"$f":"'2015 DISC3C'!AE13-'2015 DISC3B'!AE13","v":0},{"$f":"'2015 DISC3C'!AF13-'2015 DISC3B'!AF13","v":0},{"$f":"'2015 DISC3C'!AG13-'2015 DISC3B'!AG13","v":0},{"$f":"'2015 DISC3C'!AH13-'2015 DISC3B'!AH13","v":0},{"$f":"'2015 DISC3C'!AI13-'2015 DISC3B'!AI13","v":0},{"$f":"'2015 DISC3C'!AJ13-'2015 DISC3B'!AJ13","v":0},{"$f":"'2015 DISC3C'!AK13-'2015 DISC3B'!AK13","v":0},{"$f":"'2015 DISC3C'!AL13-'2015 DISC3B'!AL13","v":0},{"$f":"'2015 DISC3C'!AM13-'2015 DISC3B'!AM13","v":0},{"$f":"'2015 DISC3C'!AN13-'2015 DISC3B'!AN13","v":0}]
["D & T: Food Technology","Males",{"$f":"'2015 DISC3C'!C14-'2015 DISC3B'!C14","v":0},{"$f":"'2015 DISC3C'!D14-'2015 DISC3B'!D14","v":-1},{"$f":"'2015 DISC3C'!E14-'2015 DISC3B'!E14","v":0},{"$f":"'2015 DISC3C'!F14-'2015 DISC3B'!F14","v":0},{"$f":"'2015 DISC3C'!G14-'2015 DISC3B'!G14","v":0},{"$f":"'2015 DISC3C'!H14-'2015 DISC3B'!H14","v":0},{"$f":"'2015 DISC3C'!I14-'2015 DISC3B'!I14","v":0},{"$f":"'2015 DISC3C'!J14-'2015 DISC3B'!J14","v":0},{"$f":"'2015 DISC3C'!K14-'2015 DISC3B'!K14","v":-1},{"$f":"'2015 DISC3C'!L14-'2015 DISC3B'!L14","v":-1},{"$f":"'2015 DISC3C'!M14-'2015 DISC3B'!M14","v":-1},{"$f":"'2015 DISC3C'!N14-'2015 DISC3B'!N14","v":-1},"Females",{"$f":"'2015 DISC3C'!P14-'2015 DISC3B'!P14","v":-1},{"$f":"'2015 DISC3C'!Q14-'2015 DISC3B'!Q14","v":-5},{"$f":"'2015 DISC3C'!R14-'2015 DISC3B'!R14","v":-1},{"$f":"'2015 DISC3C'!S14-'2015 DISC3B'!S14","v":0},{"$f":"'2015 DISC3C'!T14-'2015 DISC3B'!T14","v":0},{"$f":"'2015 DISC3C'!U14-'2015 DISC3B'!U14","v":0},{"$f":"'2015 DISC3C'!V14-'2015 DISC3B'!V14","v":0},{"$f":"'2015 DISC3C'!W14-'2015 DISC3B'!W14","v":0},{"$f":"'2015 DISC3C'!X14-'2015 DISC3B'!X14","v":-6},{"$f":"'2015 DISC3C'!Y14-'2015 DISC3B'!Y14","v":-7},{"$f":"'2015 DISC3C'!Z14-'2015 DISC3B'!Z14","v":-7},{"$f":"'2015 DISC3C'!AA14-'2015 DISC3B'!AA14","v":-7},"All",{"$f":"'2015 DISC3C'!AC14-'2015 DISC3B'!AC14","v":-1},{"$f":"'2015 DISC3C'!AD14-'2015 DISC3B'!AD14","v":-6},{"$f":"'2015 DISC3C'!AE14-'2015 DISC3B'!AE14","v":-1},{"$f":"'2015 DISC3C'!AF14-'2015 DISC3B'!AF14","v":0},{"$f":"'2015 DISC3C'!AG14-'2015 DISC3B'!AG14","v":0},{"$f":"'2015 DISC3C'!AH14-'2015 DISC3B'!AH14","v":0},{"$f":"'2015 DISC3C'!AI14-'2015 DISC3B'!AI14","v":0},{"$f":"'2015 DISC3C'!AJ14-'2015 DISC3B'!AJ14","v":0},{"$f":"'2015 DISC3C'!AK14-'2015 DISC3B'!AK14","v":-7},{"$f":"'2015 DISC3C'!AL14-'2015 DISC3B'!AL14","v":-8},{"$f":"'2015 DISC3C'!AM14-'2015 DISC3B'!AM14","v":-8},{"$f":"'2015 DISC3C'!AN14-'2015 DISC3B'!AN14","v":-8}]
["D & T: Graphic Products","Males",{"$f":"'2015 DISC3C'!C15-'2015 DISC3B'!C15","v":0},{"$f":"'2015 DISC3C'!D15-'2015 DISC3B'!D15","v":0},{"$f":"'2015 DISC3C'!E15-'2015 DISC3B'!E15","v":0},{"$f":"'2015 DISC3C'!F15-'2015 DISC3B'!F15","v":0},{"$f":"'2015 DISC3C'!G15-'2015 DISC3B'!G15","v":0},{"$f":"'2015 DISC3C'!H15-'2015 DISC3B'!H15","v":0},{"$f":"'2015 DISC3C'!I15-'2015 DISC3B'!I15","v":0},{"$f":"'2015 DISC3C'!J15-'2015 DISC3B'!J15","v":0},{"$f":"'2015 DISC3C'!K15-'2015 DISC3B'!K15","v":0},{"$f":"'2015 DISC3C'!L15-'2015 DISC3B'!L15","v":0},{"$f":"'2015 DISC3C'!M15-'2015 DISC3B'!M15","v":0},{"$f":"'2015 DISC3C'!N15-'2015 DISC3B'!N15","v":0},"Females",{"$f":"'2015 DISC3C'!P15-'2015 DISC3B'!P15","v":0},{"$f":"'2015 DISC3C'!Q15-'2015 DISC3B'!Q15","v":0},{"$f":"'2015 DISC3C'!R15-'2015 DISC3B'!R15","v":0},{"$f":"'2015 DISC3C'!S15-'2015 DISC3B'!S15","v":0},{"$f":"'2015 DISC3C'!T15-'2015 DISC3B'!T15","v":0},{"$f":"'2015 DISC3C'!U15-'2015 DISC3B'!U15","v":0},{"$f":"'2015 DISC3C'!V15-'2015 DISC3B'!V15","v":0},{"$f":"'2015 DISC3C'!W15-'2015 DISC3B'!W15","v":0},{"$f":"'2015 DISC3C'!X15-'2015 DISC3B'!X15","v":0},{"$f":"'2015 DISC3C'!Y15-'2015 DISC3B'!Y15","v":0},{"$f":"'2015 DISC3C'!Z15-'2015 DISC3B'!Z15","v":0},{"$f":"'2015 DISC3C'!AA15-'2015 DISC3B'!AA15","v":0},"All",{"$f":"'2015 DISC3C'!AC15-'2015 DISC3B'!AC15","v":0},{"$f":"'2015 DISC3C'!AD15-'2015 DISC3B'!AD15","v":0},{"$f":"'2015 DISC3C'!AE15-'2015 DISC3B'!AE15","v":0},{"$f":"'2015 DISC3C'!AF15-'2015 DISC3B'!AF15","v":0},{"$f":"'2015 DISC3C'!AG15-'2015 DISC3B'!AG15","v":0},{"$f":"'2015 DISC3C'!AH15-'2015 DISC3B'!AH15","v":0},{"$f":"'2015 DISC3C'!AI15-'2015 DISC3B'!AI15","v":0},{"$f":"'2015 DISC3C'!AJ15-'2015 DISC3B'!AJ15","v":0},{"$f":"'2015 DISC3C'!AK15-'2015 DISC3B'!AK15","v":0},{"$f":"'2015 DISC3C'!AL15-'2015 DISC3B'!AL15","v":0},{"$f":"'2015 DISC3C'!AM15-'2015 DISC3B'!AM15","v":0},{"$f":"'2015 DISC3C'!AN15-'2015 DISC3B'!AN15","v":0}]
["D & T: Resistant Materials","Males",{"$f":"'2015 DISC3C'!C16-'2015 DISC3B'!C16","v":0},{"$f":"'2015 DISC3C'!D16-'2015 DISC3B'!D16","v":0},{"$f":"'2015 DISC3C'!E16-'2015 DISC3B'!E16","v":0},{"$f":"'2015 DISC3C'!F16-'2015 DISC3B'!F16","v":0},{"$f":"'2015 DISC3C'!G16-'2015 DISC3B'!G16","v":0},{"$f":"'2015 DISC3C'!H16-'2015 DISC3B'!H16","v":0},{"$f":"'2015 DISC3C'!I16-'2015 DISC3B'!I16","v":0},{"$f":"'2015 DISC3C'!J16-'2015 DISC3B'!J16","v":0},{"$f":"'2015 DISC3C'!K16-'2015 DISC3B'!K16","v":0},{"$f":"'2015 DISC3C'!L16-'2015 DISC3B'!L16","v":0},{"$f":"'2015 DISC3C'!M16-'2015 DISC3B'!M16","v":0},{"$f":"'2015 DISC3C'!N16-'2015 DISC3B'!N16","v":0},"Females",{"$f":"'2015 DISC3C'!P16-'2015 DISC3B'!P16","v":0},{"$f":"'2015 DISC3C'!Q16-'2015 DISC3B'!Q16","v":0},{"$f":"'2015 DISC3C'!R16-'2015 DISC3B'!R16","v":0},{"$f":"'2015 DISC3C'!S16-'2015 DISC3B'!S16","v":0},{"$f":"'2015 DISC3C'!T16-'2015 DISC3B'!T16","v":0},{"$f":"'2015 DISC3C'!U16-'2015 DISC3B'!U16","v":0},{"$f":"'2015 DISC3C'!V16-'2015 DISC3B'!V16","v":0},{"$f":"'2015 DISC3C'!W16-'2015 DISC3B'!W16","v":0},{"$f":"'2015 DISC3C'!X16-'2015 DISC3B'!X16","v":0},{"$f":"'2015 DISC3C'!Y16-'2015 DISC3B'!Y16","v":0},{"$f":"'2015 DISC3C'!Z16-'2015 DISC3B'!Z16","v":0},{"$f":"'2015 DISC3C'!AA16-'2015 DISC3B'!AA16","v":0},"All",{"$f":"'2015 DISC3C'!AC16-'2015 DISC3B'!AC16","v":0},{"$f":"'2015 DISC3C'!AD16-'2015 DISC3B'!AD16","v":0},{"$f":"'2015 DISC3C'!AE16-'2015 DISC3B'!AE16","v":0},{"$f":"'2015 DISC3C'!AF16-'2015 DISC3B'!AF16","v":0},{"$f":"'2015 DISC3C'!AG16-'2015 DISC3B'!AG16","v":0},{"$f":"'2015 DISC3C'!AH16-'2015 DISC3B'!AH16","v":0},{"$f":"'2015 DISC3C'!AI16-'2015 DISC3B'!AI16","v":0},{"$f":"'2015 DISC3C'!AJ16-'2015 DISC3B'!AJ16","v":0},{"$f":"'2015 DISC3C'!AK16-'2015 DISC3B'!AK16","v":0},{"$f":"'2015 DISC3C'!AL16-'2015 DISC3B'!AL16","v":0},{"$f":"'2015 DISC3C'!AM16-'2015 DISC3B'!AM16","v":0},{"$f":"'2015 DISC3C'!AN16-'2015 DISC3B'!AN16","v":0}]
["D & T: Systems & Control","Males",{"$f":"'2015 DISC3C'!C17-'2015 DISC3B'!C17","v":0},{"$f":"'2015 DISC3C'!D17-'2015 DISC3B'!D17","v":0},{"$f":"'2015 DISC3C'!E17-'2015 DISC3B'!E17","v":0},{"$f":"'2015 DISC3C'!F17-'2015 DISC3B'!F17","v":0},{"$f":"'2015 DISC3C'!G17-'2015 DISC3B'!G17","v":0},{"$f":"'2015 DISC3C'!H17-'2015 DISC3B'!H17","v":0},{"$f":"'2015 DISC3C'!I17-'2015 DISC3B'!I17","v":0},{"$f":"'2015 DISC3C'!J17-'2015 DISC3B'!J17","v":0},{"$f":"'2015 DISC3C'!K17-'2015 DISC3B'!K17","v":0},{"$f":"'2015 DISC3C'!L17-'2015 DISC3B'!L17","v":0},{"$f":"'2015 DISC3C'!M17-'2015 DISC3B'!M17","v":0},{"$f":"'2015 DISC3C'!N17-'2015 DISC3B'!N17","v":0},"Females",{"$f":"'2015 DISC3C'!P17-'2015 DISC3B'!P17","v":0},{"$f":"'2015 DISC3C'!Q17-'2015 DISC3B'!Q17","v":0},{"$f":"'2015 DISC3C'!R17-'2015 DISC3B'!R17","v":0},{"$f":"'2015 DISC3C'!S17-'2015 DISC3B'!S17","v":0},{"$f":"'2015 DISC3C'!T17-'2015 DISC3B'!T17","v":0},{"$f":"'2015 DISC3C'!U17-'2015 DISC3B'!U17","v":0},{"$f":"'2015 DISC3C'!V17-'2015 DISC3B'!V17","v":0},{"$f":"'2015 DISC3C'!W17-'2015 DISC3B'!W17","v":0},{"$f":"'2015 DISC3C'!X17-'2015 DISC3B'!X17","v":0},{"$f":"'2015 DISC3C'!Y17-'2015 DISC3B'!Y17","v":0},{"$f":"'2015 DISC3C'!Z17-'2015 DISC3B'!Z17","v":0},{"$f":"'2015 DISC3C'!AA17-'2015 DISC3B'!AA17","v":0},"All",{"$f":"'2015 DISC3C'!AC17-'2015 DISC3B'!AC17","v":0},{"$f":"'2015 DISC3C'!AD17-'2015 DISC3B'!AD17","v":0},{"$f":"'2015 DISC3C'!AE17-'2015 DISC3B'!AE17","v":0},{"$f":"'2015 DISC3C'!AF17-'2015 DISC3B'!AF17","v":0},{"$f":"'2015 DISC3C'!AG17-'2015 DISC3B'!AG17","v":0},{"$f":"'2015 DISC3C'!AH17-'2015 DISC3B'!AH17","v":0},{"$f":"'2015 DISC3C'!AI17-'2015 DISC3B'!AI17","v":0},{"$f":"'2015 DISC3C'!AJ17-'2015 DISC3B'!AJ17","v":0},{"$f":"'2015 DISC3C'!AK17-'2015 DISC3B'!AK17","v":0},{"$f":"'2015 DISC3C'!AL17-'2015 DISC3B'!AL17","v":0},{"$f":"'2015 DISC3C'!AM17-'2015 DISC3B'!AM17","v":0},{"$f":"'2015 DISC3C'!AN17-'2015 DISC3B'!AN17","v":0}]
["D & T: Textiles Technology","Males",{"$f":"'2015 DISC3C'!C18-'2015 DISC3B'!C18","v":0},{"$f":"'2015 DISC3C'!D18-'2015 DISC3B'!D18","v":0},{"$f":"'2015 DISC3C'!E18-'2015 DISC3B'!E18","v":0},{"$f":"'2015 DISC3C'!F18-'2015 DISC3B'!F18","v":0},{"$f":"'2015 DISC3C'!G18-'2015 DISC3B'!G18","v":0},{"$f":"'2015 DISC3C'!H18-'2015 DISC3B'!H18","v":0},{"$f":"'2015 DISC3C'!I18-'2015 DISC3B'!I18","v":0},{"$f":"'2015 DISC3C'!J18-'2015 DISC3B'!J18","v":0},{"$f":"'2015 DISC3C'!K18-'2015 DISC3B'!K18","v":0},{"$f":"'2015 DISC3C'!L18-'2015 DISC3B'!L18","v":0},{"$f":"'2015 DISC3C'!M18-'2015 DISC3B'!M18","v":0},{"$f":"'2015 DISC3C'!N18-'2015 DISC3B'!N18","v":0},"Females",{"$f":"'2015 DISC3C'!P18-'2015 DISC3B'!P18","v":-1},{"$f":"'2015 DISC3C'!Q18-'2015 DISC3B'!Q18","v":-2},{"$f":"'2015 DISC3C'!R18-'2015 DISC3B'!R18","v":-1},{"$f":"'2015 DISC3C'!S18-'2015 DISC3B'!S18","v":0},{"$f":"'2015 DISC3C'!T18-'2015 DISC3B'!T18","v":0},{"$f":"'2015 DISC3C'!U18-'2015 DISC3B'!U18","v":0},{"$f":"'2015 DISC3C'!V18-'2015 DISC3B'!V18","v":0},{"$f":"'2015 DISC3C'!W18-'2015 DISC3B'!W18","v":0},{"$f":"'2015 DISC3C'!X18-'2015 DISC3B'!X18","v":-3},{"$f":"'2015 DISC3C'!Y18-'2015 DISC3B'!Y18","v":-4},{"$f":"'2015 DISC3C'!Z18-'2015 DISC3B'!Z18","v":-4},{"$f":"'2015 DISC3C'!AA18-'2015 DISC3B'!AA18","v":-4},"All",{"$f":"'2015 DISC3C'!AC18-'2015 DISC3B'!AC18","v":-1},{"$f":"'2015 DISC3C'!AD18-'2015 DISC3B'!AD18","v":-2},{"$f":"'2015 DISC3C'!AE18-'2015 DISC3B'!AE18","v":-1},{"$f":"'2015 DISC3C'!AF18-'2015 DISC3B'!AF18","v":0},{"$f":"'2015 DISC3C'!AG18-'2015 DISC3B'!AG18","v":0},{"$f":"'2015 DISC3C'!AH18-'2015 DISC3B'!AH18","v":0},{"$f":"'2015 DISC3C'!AI18-'2015 DISC3B'!AI18","v":0},{"$f":"'2015 DISC3C'!AJ18-'2015 DISC3B'!AJ18","v":0},{"$f":"'2015 DISC3C'!AK18-'2015 DISC3B'!AK18","v":-3},{"$f":"'2015 DISC3C'!AL18-'2015 DISC3B'!AL18","v":-4},{"$f":"'2015 DISC3C'!AM18-'2015 DISC3B'!AM18","v":-4},{"$f":"'2015 DISC3C'!AN18-'2015 DISC3B'!AN18","v":-4}]
["Other Design and Technology","Males",{"$f":"'2015 DISC3C'!C19-'2015 DISC3B'!C19","v":-2},{"$f":"'2015 DISC3C'!D19-'2015 DISC3B'!D19","v":-2},{"$f":"'2015 DISC3C'!E19-'2015 DISC3B'!E19","v":0},{"$f":"'2015 DISC3C'!F19-'2015 DISC3B'!F19","v":0},{"$f":"'2015 DISC3C'!G19-'2015 DISC3B'!G19","v":0},{"$f":"'2015 DISC3C'!H19-'2015 DISC3B'!H19","v":0},{"$f":"'2015 DISC3C'!I19-'2015 DISC3B'!I19","v":0},{"$f":"'2015 DISC3C'!J19-'2015 DISC3B'!J19","v":0},{"$f":"'2015 DISC3C'!K19-'2015 DISC3B'!K19","v":-4},{"$f":"'2015 DISC3C'!L19-'2015 DISC3B'!L19","v":-4},{"$f":"'2015 DISC3C'!M19-'2015 DISC3B'!M19","v":-4},{"$f":"'2015 DISC3C'!N19-'2015 DISC3B'!N19","v":-4},"Females",{"$f":"'2015 DISC3C'!P19-'2015 DISC3B'!P19","v":-3},{"$f":"'2015 DISC3C'!Q19-'2015 DISC3B'!Q19","v":-6},{"$f":"'2015 DISC3C'!R19-'2015 DISC3B'!R19","v":-3},{"$f":"'2015 DISC3C'!S19-'2015 DISC3B'!S19","v":-1},{"$f":"'2015 DISC3C'!T19-'2015 DISC3B'!T19","v":0},{"$f":"'2015 DISC3C'!U19-'2015 DISC3B'!U19","v":0},{"$f":"'2015 DISC3C'!V19-'2015 DISC3B'!V19","v":0},{"$f":"'2015 DISC3C'!W19-'2015 DISC3B'!W19","v":0},{"$f":"'2015 DISC3C'!X19-'2015 DISC3B'!X19","v":-9},{"$f":"'2015 DISC3C'!Y19-'2015 DISC3B'!Y19","v":-13},{"$f":"'2015 DISC3C'!Z19-'2015 DISC3B'!Z19","v":-13},{"$f":"'2015 DISC3C'!AA19-'2015 DISC3B'!AA19","v":-13},"All",{"$f":"'2015 DISC3C'!AC19-'2015 DISC3B'!AC19","v":-5},{"$f":"'2015 DISC3C'!AD19-'2015 DISC3B'!AD19","v":-8},{"$f":"'2015 DISC3C'!AE19-'2015 DISC3B'!AE19","v":-3},{"$f":"'2015 DISC3C'!AF19-'2015 DISC3B'!AF19","v":-1},{"$f":"'2015 DISC3C'!AG19-'2015 DISC3B'!AG19","v":0},{"$f":"'2015 DISC3C'!AH19-'2015 DISC3B'!AH19","v":0},{"$f":"'2015 DISC3C'!AI19-'2015 DISC3B'!AI19","v":0},{"$f":"'2015 DISC3C'!AJ19-'2015 DISC3B'!AJ19","v":0},{"$f":"'2015 DISC3C'!AK19-'2015 DISC3B'!AK19","v":-13},{"$f":"'2015 DISC3C'!AL19-'2015 DISC3B'!AL19","v":-17},{"$f":"'2015 DISC3C'!AM19-'2015 DISC3B'!AM19","v":-17},{"$f":"'2015 DISC3C'!AN19-'2015 DISC3B'!AN19","v":-17}]
["Applied Engineering","Males",{"$f":"'2015 DISC3C'!C20-'2015 DISC3B'!C20","v":0},{"$f":"'2015 DISC3C'!D20-'2015 DISC3B'!D20","v":0},{"$f":"'2015 DISC3C'!E20-'2015 DISC3B'!E20","v":0},{"$f":"'2015 DISC3C'!F20-'2015 DISC3B'!F20","v":0},{"$f":"'2015 DISC3C'!G20-'2015 DISC3B'!G20","v":0},{"$f":"'2015 DISC3C'!H20-'2015 DISC3B'!H20","v":0},{"$f":"'2015 DISC3C'!I20-'2015 DISC3B'!I20","v":0},{"$f":"'2015 DISC3C'!J20-'2015 DISC3B'!J20","v":0},{"$f":"'2015 DISC3C'!K20-'2015 DISC3B'!K20","v":0},{"$f":"'2015 DISC3C'!L20-'2015 DISC3B'!L20","v":0},{"$f":"'2015 DISC3C'!M20-'2015 DISC3B'!M20","v":0},{"$f":"'2015 DISC3C'!N20-'2015 DISC3B'!N20","v":0},"Females",{"$f":"'2015 DISC3C'!P20-'2015 DISC3B'!P20","v":0},{"$f":"'2015 DISC3C'!Q20-'2015 DISC3B'!Q20","v":0},{"$f":"'2015 DISC3C'!R20-'2015 DISC3B'!R20","v":0},{"$f":"'2015 DISC3C'!S20-'2015 DISC3B'!S20","v":0},{"$f":"'2015 DISC3C'!T20-'2015 DISC3B'!T20","v":0},{"$f":"'2015 DISC3C'!U20-'2015 DISC3B'!U20","v":0},{"$f":"'2015 DISC3C'!V20-'2015 DISC3B'!V20","v":0},{"$f":"'2015 DISC3C'!W20-'2015 DISC3B'!W20","v":0},{"$f":"'2015 DISC3C'!X20-'2015 DISC3B'!X20","v":0},{"$f":"'2015 DISC3C'!Y20-'2015 DISC3B'!Y20","v":0},{"$f":"'2015 DISC3C'!Z20-'2015 DISC3B'!Z20","v":0},{"$f":"'2015 DISC3C'!AA20-'2015 DISC3B'!AA20","v":0},"All",{"$f":"'2015 DISC3C'!AC20-'2015 DISC3B'!AC20","v":0},{"$f":"'2015 DISC3C'!AD20-'2015 DISC3B'!AD20","v":0},{"$f":"'2015 DISC3C'!AE20-'2015 DISC3B'!AE20","v":0},{"$f":"'2015 DISC3C'!AF20-'2015 DISC3B'!AF20","v":0},{"$f":"'2015 DISC3C'!AG20-'2015 DISC3B'!AG20","v":0},{"$f":"'2015 DISC3C'!AH20-'2015 DISC3B'!AH20","v":0},{"$f":"'2015 DISC3C'!AI20-'2015 DISC3B'!AI20","v":0},{"$f":"'2015 DISC3C'!AJ20-'2015 DISC3B'!AJ20","v":0},{"$f":"'2015 DISC3C'!AK20-'2015 DISC3B'!AK20","v":0},{"$f":"'2015 DISC3C'!AL20-'2015 DISC3B'!AL20","v":0},{"$f":"'2015 DISC3C'!AM20-'2015 DISC3B'!AM20","v":0},{"$f":"'2015 DISC3C'!AN20-'2015 DISC3B'!AN20","v":0}]
["Information Technology","Males",{"$f":"'2015 DISC3C'!C21-'2015 DISC3B'!C21","v":-3},{"$f":"'2015 DISC3C'!D21-'2015 DISC3B'!D21","v":-11},{"$f":"'2015 DISC3C'!E21-'2015 DISC3B'!E21","v":-10},{"$f":"'2015 DISC3C'!F21-'2015 DISC3B'!F21","v":0},{"$f":"'2015 DISC3C'!G21-'2015 DISC3B'!G21","v":0},{"$f":"'2015 DISC3C'!H21-'2015 DISC3B'!H21","v":0},{"$f":"'2015 DISC3C'!I21-'2015 DISC3B'!I21","v":0},{"$f":"'2015 DISC3C'!J21-'2015 DISC3B'!J21","v":0},{"$f":"'2015 DISC3C'!K21-'2015 DISC3B'!K21","v":-14},{"$f":"'2015 DISC3C'!L21-'2015 DISC3B'!L21","v":-24},{"$f":"'2015 DISC3C'!M21-'2015 DISC3B'!M21","v":-24},{"$f":"'2015 DISC3C'!N21-'2015 DISC3B'!N21","v":-24},"Females",{"$f":"'2015 DISC3C'!P21-'2015 DISC3B'!P21","v":-10},{"$f":"'2015 DISC3C'!Q21-'2015 DISC3B'!Q21","v":-19},{"$f":"'2015 DISC3C'!R21-'2015 DISC3B'!R21","v":-13},{"$f":"'2015 DISC3C'!S21-'2015 DISC3B'!S21","v":-3},{"$f":"'2015 DISC3C'!T21-'2015 DISC3B'!T21","v":0},{"$f":"'2015 DISC3C'!U21-'2015 DISC3B'!U21","v":0},{"$f":"'2015 DISC3C'!V21-'2015 DISC3B'!V21","v":0},{"$f":"'2015 DISC3C'!W21-'2015 DISC3B'!W21","v":0},{"$f":"'2015 DISC3C'!X21-'2015 DISC3B'!X21","v":-29},{"$f":"'2015 DISC3C'!Y21-'2015 DISC3B'!Y21","v":-45},{"$f":"'2015 DISC3C'!Z21-'2015 DISC3B'!Z21","v":-45},{"$f":"'2015 DISC3C'!AA21-'2015 DISC3B'!AA21","v":-45},"All",{"$f":"'2015 DISC3C'!AC21-'2015 DISC3B'!AC21","v":-13},{"$f":"'2015 DISC3C'!AD21-'2015 DISC3B'!AD21","v":-30},{"$f":"'2015 DISC3C'!AE21-'2015 DISC3B'!AE21","v":-23},{"$f":"'2015 DISC3C'!AF21-'2015 DISC3B'!AF21","v":-3},{"$f":"'2015 DISC3C'!AG21-'2015 DISC3B'!AG21","v":0},{"$f":"'2015 DISC3C'!AH21-'2015 DISC3B'!AH21","v":0},{"$f":"'2015 DISC3C'!AI21-'2015 DISC3B'!AI21","v":0},{"$f":"'2015 DISC3C'!AJ21-'2015 DISC3B'!AJ21","v":0},{"$f":"'2015 DISC3C'!AK21-'2015 DISC3B'!AK21","v":-43},{"$f":"'2015 DISC3C'!AL21-'2015 DISC3B'!AL21","v":-69},{"$f":"'2015 DISC3C'!AM21-'2015 DISC3B'!AM21","v":-69},{"$f":"'2015 DISC3C'!AN21-'2015 DISC3B'!AN21","v":-69},null," "]
["Business Studies","Males",{"$f":"'2015 DISC3C'!C22-'2015 DISC3B'!C22","v":-3},{"$f":"'2015 DISC3C'!D22-'2015 DISC3B'!D22","v":-8},{"$f":"'2015 DISC3C'!E22-'2015 DISC3B'!E22","v":-13},{"$f":"'2015 DISC3C'!F22-'2015 DISC3B'!F22","v":-3},{"$f":"'2015 DISC3C'!G22-'2015 DISC3B'!G22","v":-3},{"$f":"'2015 DISC3C'!H22-'2015 DISC3B'!H22","v":0},{"$f":"'2015 DISC3C'!I22-'2015 DISC3B'!I22","v":0},{"$f":"'2015 DISC3C'!J22-'2015 DISC3B'!J22","v":0},{"$f":"'2015 DISC3C'!K22-'2015 DISC3B'!K22","v":-11},{"$f":"'2015 DISC3C'!L22-'2015 DISC3B'!L22","v":-27},{"$f":"'2015 DISC3C'!M22-'2015 DISC3B'!M22","v":-30},{"$f":"'2015 DISC3C'!N22-'2015 DISC3B'!N22","v":-31},"Females",{"$f":"'2015 DISC3C'!P22-'2015 DISC3B'!P22","v":0},{"$f":"'2015 DISC3C'!Q22-'2015 DISC3B'!Q22","v":0},{"$f":"'2015 DISC3C'!R22-'2015 DISC3B'!R22","v":-1},{"$f":"'2015 DISC3C'!S22-'2015 DISC3B'!S22","v":0},{"$f":"'2015 DISC3C'!T22-'2015 DISC3B'!T22","v":0},{"$f":"'2015 DISC3C'!U22-'2015 DISC3B'!U22","v":0},{"$f":"'2015 DISC3C'!V22-'2015 DISC3B'!V22","v":0},{"$f":"'2015 DISC3C'!W22-'2015 DISC3B'!W22","v":0},{"$f":"'2015 DISC3C'!X22-'2015 DISC3B'!X22","v":0},{"$f":"'2015 DISC3C'!Y22-'2015 DISC3B'!Y22","v":-1},{"$f":"'2015 DISC3C'!Z22-'2015 DISC3B'!Z22","v":-1},{"$f":"'2015 DISC3C'!AA22-'2015 DISC3B'!AA22","v":-1},"All",{"$f":"'2015 DISC3C'!AC22-'2015 DISC3B'!AC22","v":-3},{"$f":"'2015 DISC3C'!AD22-'2015 DISC3B'!AD22","v":-8},{"$f":"'2015 DISC3C'!AE22-'2015 DISC3B'!AE22","v":-14},{"$f":"'2015 DISC3C'!AF22-'2015 DISC3B'!AF22","v":-3},{"$f":"'2015 DISC3C'!AG22-'2015 DISC3B'!AG22","v":-3},{"$f":"'2015 DISC3C'!AH22-'2015 DISC3B'!AH22","v":0},{"$f":"'2015 DISC3C'!AI22-'2015 DISC3B'!AI22","v":0},{"$f":"'2015 DISC3C'!AJ22-'2015 DISC3B'!AJ22","v":0},{"$f":"'2015 DISC3C'!AK22-'2015 DISC3B'!AK22","v":-11},{"$f":"'2015 DISC3C'!AL22-'2015 DISC3B'!AL22","v":-28},{"$f":"'2015 DISC3C'!AM22-'2015 DISC3B'!AM22","v":-31},{"$f":"'2015 DISC3C'!AN22-'2015 DISC3B'!AN22","v":-32}]
["Applied Business","Males",{"$f":"'2015 DISC3C'!C23-'2015 DISC3B'!C23","v":0},{"$f":"'2015 DISC3C'!D23-'2015 DISC3B'!D23","v":0},{"$f":"'2015 DISC3C'!E23-'2015 DISC3B'!E23","v":0},{"$f":"'2015 DISC3C'!F23-'2015 DISC3B'!F23","v":0},{"$f":"'2015 DISC3C'!G23-'2015 DISC3B'!G23","v":0},{"$f":"'2015 DISC3C'!H23-'2015 DISC3B'!H23","v":0},{"$f":"'2015 DISC3C'!I23-'2015 DISC3B'!I23","v":0},{"$f":"'2015 DISC3C'!J23-'2015 DISC3B'!J23","v":0},{"$f":"'2015 DISC3C'!K23-'2015 DISC3B'!K23","v":0},{"$f":"'2015 DISC3C'!L23-'2015 DISC3B'!L23","v":0},{"$f":"'2015 DISC3C'!M23-'2015 DISC3B'!M23","v":0},{"$f":"'2015 DISC3C'!N23-'2015 DISC3B'!N23","v":0},"Females",{"$f":"'2015 DISC3C'!P23-'2015 DISC3B'!P23","v":0},{"$f":"'2015 DISC3C'!Q23-'2015 DISC3B'!Q23","v":0},{"$f":"'2015 DISC3C'!R23-'2015 DISC3B'!R23","v":0},{"$f":"'2015 DISC3C'!S23-'2015 DISC3B'!S23","v":0},{"$f":"'2015 DISC3C'!T23-'2015 DISC3B'!T23","v":0},{"$f":"'2015 DISC3C'!U23-'2015 DISC3B'!U23","v":0},{"$f":"'2015 DISC3C'!V23-'2015 DISC3B'!V23","v":0},{"$f":"'2015 DISC3C'!W23-'2015 DISC3B'!W23","v":0},{"$f":"'2015 DISC3C'!X23-'2015 DISC3B'!X23","v":0},{"$f":"'2015 DISC3C'!Y23-'2015 DISC3B'!Y23","v":0},{"$f":"'2015 DISC3C'!Z23-'2015 DISC3B'!Z23","v":0},{"$f":"'2015 DISC3C'!AA23-'2015 DISC3B'!AA23","v":0},"All",{"$f":"'2015 DISC3C'!AC23-'2015 DISC3B'!AC23","v":0},{"$f":"'2015 DISC3C'!AD23-'2015 DISC3B'!AD23","v":0},{"$f":"'2015 DISC3C'!AE23-'2015 DISC3B'!AE23","v":0},{"$f":"'2015 DISC3C'!AF23-'2015 DISC3B'!AF23","v":0},{"$f":"'2015 DISC3C'!AG23-'2015 DISC3B'!AG23","v":0},{"$f":"'2015 DISC3C'!AH23-'2015 DISC3B'!AH23","v":0},{"$f":"'2015 DISC3C'!AI23-'2015 DISC3B'!AI23","v":0},{"$f":"'2015 DISC3C'!AJ23-'2015 DISC3B'!AJ23","v":0},{"$f":"'2015 DISC3C'!AK23-'2015 DISC3B'!AK23","v":0},{"$f":"'2015 DISC3C'!AL23-'2015 DISC3B'!AL23","v":0},{"$f":"'2015 DISC3C'!AM23-'2015 DISC3B'!AM23","v":0},{"$f":"'2015 DISC3C'!AN23-'2015 DISC3B'!AN23","v":0}]
["Home Economics","Males",{"$f":"'2015 DISC3C'!C24-'2015 DISC3B'!C24","v":0},{"$f":"'2015 DISC3C'!D24-'2015 DISC3B'!D24","v":0},{"$f":"'2015 DISC3C'!E24-'2015 DISC3B'!E24","v":0},{"$f":"'2015 DISC3C'!F24-'2015 DISC3B'!F24","v":0},{"$f":"'2015 DISC3C'!G24-'2015 DISC3B'!G24","v":0},{"$f":"'2015 DISC3C'!H24-'2015 DISC3B'!H24","v":0},{"$f":"'2015 DISC3C'!I24-'2015 DISC3B'!I24","v":0},{"$f":"'2015 DISC3C'!J24-'2015 DISC3B'!J24","v":0},{"$f":"'2015 DISC3C'!K24-'2015 DISC3B'!K24","v":0},{"$f":"'2015 DISC3C'!L24-'2015 DISC3B'!L24","v":0},{"$f":"'2015 DISC3C'!M24-'2015 DISC3B'!M24","v":0},{"$f":"'2015 DISC3C'!N24-'2015 DISC3B'!N24","v":0},"Females",{"$f":"'2015 DISC3C'!P24-'2015 DISC3B'!P24","v":0},{"$f":"'2015 DISC3C'!Q24-'2015 DISC3B'!Q24","v":0},{"$f":"'2015 DISC3C'!R24-'2015 DISC3B'!R24","v":0},{"$f":"'2015 DISC3C'!S24-'2015 DISC3B'!S24","v":0},{"$f":"'2015 DISC3C'!T24-'2015 DISC3B'!T24","v":0},{"$f":"'2015 DISC3C'!U24-'2015 DISC3B'!U24","v":0},{"$f":"'2015 DISC3C'!V24-'2015 DISC3B'!V24","v":0},{"$f":"'2015 DISC3C'!W24-'2015 DISC3B'!W24","v":0},{"$f":"'2015 DISC3C'!X24-'2015 DISC3B'!X24","v":0},{"$f":"'2015 DISC3C'!Y24-'2015 DISC3B'!Y24","v":0},{"$f":"'2015 DISC3C'!Z24-'2015 DISC3B'!Z24","v":0},{"$f":"'2015 DISC3C'!AA24-'2015 DISC3B'!AA24","v":0},"All",{"$f":"'2015 DISC3C'!AC24-'2015 DISC3B'!AC24","v":0},{"$f":"'2015 DISC3C'!AD24-'2015 DISC3B'!AD24","v":0},{"$f":"'2015 DISC3C'!AE24-'2015 DISC3B'!AE24","v":0},{"$f":"'2015 DISC3C'!AF24-'2015 DISC3B'!AF24","v":0},{"$f":"'2015 DISC3C'!AG24-'2015 DISC3B'!AG24","v":0},{"$f":"'2015 DISC3C'!AH24-'2015 DISC3B'!AH24","v":0},{"$f":"'2015 DISC3C'!AI24-'2015 DISC3B'!AI24","v":0},{"$f":"'2015 DISC3C'!AJ24-'2015 DISC3B'!AJ24","v":0},{"$f":"'2015 DISC3C'!AK24-'2015 DISC3B'!AK24","v":0},{"$f":"'2015 DISC3C'!AL24-'2015 DISC3B'!AL24","v":0},{"$f":"'2015 DISC3C'!AM24-'2015 DISC3B'!AM24","v":0},{"$f":"'2015 DISC3C'!AN24-'2015 DISC3B'!AN24","v":0}]
["Geography","Males",{"$f":"'2015 DISC3C'!C25-'2015 DISC3B'!C25","v":-7},{"$f":"'2015 DISC3C'!D25-'2015 DISC3B'!D25","v":-8},{"$f":"'2015 DISC3C'!E25-'2015 DISC3B'!E25","v":-8},{"$f":"'2015 DISC3C'!F25-'2015 DISC3B'!F25","v":0},{"$f":"'2015 DISC3C'!G25-'2015 DISC3B'!G25","v":0},{"$f":"'2015 DISC3C'!H25-'2015 DISC3B'!H25","v":0},{"$f":"'2015 DISC3C'!I25-'2015 DISC3B'!I25","v":0},{"$f":"'2015 DISC3C'!J25-'2015 DISC3B'!J25","v":0},{"$f":"'2015 DISC3C'!K25-'2015 DISC3B'!K25","v":-15},{"$f":"'2015 DISC3C'!L25-'2015 DISC3B'!L25","v":-23},{"$f":"'2015 DISC3C'!M25-'2015 DISC3B'!M25","v":-23},{"$f":"'2015 DISC3C'!N25-'2015 DISC3B'!N25","v":-23},"Females",{"$f":"'2015 DISC3C'!P25-'2015 DISC3B'!P25","v":-8},{"$f":"'2015 DISC3C'!Q25-'2015 DISC3B'!Q25","v":-12},{"$f":"'2015 DISC3C'!R25-'2015 DISC3B'!R25","v":-6},{"$f":"'2015 DISC3C'!S25-'2015 DISC3B'!S25","v":-2},{"$f":"'2015 DISC3C'!T25-'2015 DISC3B'!T25","v":0},{"$f":"'2015 DISC3C'!U25-'2015 DISC3B'!U25","v":0},{"$f":"'2015 DISC3C'!V25-'2015 DISC3B'!V25","v":0},{"$f":"'2015 DISC3C'!W25-'2015 DISC3B'!W25","v":0},{"$f":"'2015 DISC3C'!X25-'2015 DISC3B'!X25","v":-20},{"$f":"'2015 DISC3C'!Y25-'2015 DISC3B'!Y25","v":-28},{"$f":"'2015 DISC3C'!Z25-'2015 DISC3B'!Z25","v":-28},{"$f":"'2015 DISC3C'!AA25-'2015 DISC3B'!AA25","v":-28},"All",{"$f":"'2015 DISC3C'!AC25-'2015 DISC3B'!AC25","v":-15},{"$f":"'2015 DISC3C'!AD25-'2015 DISC3B'!AD25","v":-20},{"$f":"'2015 DISC3C'!AE25-'2015 DISC3B'!AE25","v":-14},{"$f":"'2015 DISC3C'!AF25-'2015 DISC3B'!AF25","v":-2},{"$f":"'2015 DISC3C'!AG25-'2015 DISC3B'!AG25","v":0},{"$f":"'2015 DISC3C'!AH25-'2015 DISC3B'!AH25","v":0},{"$f":"'2015 DISC3C'!AI25-'2015 DISC3B'!AI25","v":0},{"$f":"'2015 DISC3C'!AJ25-'2015 DISC3B'!AJ25","v":0},{"$f":"'2015 DISC3C'!AK25-'2015 DISC3B'!AK25","v":-35},{"$f":"'2015 DISC3C'!AL25-'2015 DISC3B'!AL25","v":-51},{"$f":"'2015 DISC3C'!AM25-'2015 DISC3B'!AM25","v":-51},{"$f":"'2015 DISC3C'!AN25-'2015 DISC3B'!AN25","v":-51}]
["History","Males",{"$f":"'2015 DISC3C'!C26-'2015 DISC3B'!C26","v":-6},{"$f":"'2015 DISC3C'!D26-'2015 DISC3B'!D26","v":-1},{"$f":"'2015 DISC3C'!E26-'2015 DISC3B'!E26","v":-2},{"$f":"'2015 DISC3C'!F26-'2015 DISC3B'!F26","v":0},{"$f":"'2015 DISC3C'!G26-'2015 DISC3B'!G26","v":0},{"$f":"'2015 DISC3C'!H26-'2015 DISC3B'!H26","v":0},{"$f":"'2015 DISC3C'!I26-'2015 DISC3B'!I26","v":0},{"$f":"'2015 DISC3C'!J26-'2015 DISC3B'!J26","v":-1},{"$f":"'2015 DISC3C'!K26-'2015 DISC3B'!K26","v":-7},{"$f":"'2015 DISC3C'!L26-'2015 DISC3B'!L26","v":-9},{"$f":"'2015 DISC3C'!M26-'2015 DISC3B'!M26","v":-10},{"$f":"'2015 DISC3C'!N26-'2015 DISC3B'!N26","v":-10},"Females",{"$f":"'2015 DISC3C'!P26-'2015 DISC3B'!P26","v":-1},{"$f":"'2015 DISC3C'!Q26-'2015 DISC3B'!Q26","v":-3},{"$f":"'2015 DISC3C'!R26-'2015 DISC3B'!R26","v":-1},{"$f":"'2015 DISC3C'!S26-'2015 DISC3B'!S26","v":-2},{"$f":"'2015 DISC3C'!T26-'2015 DISC3B'!T26","v":0},{"$f":"'2015 DISC3C'!U26-'2015 DISC3B'!U26","v":0},{"$f":"'2015 DISC3C'!V26-'2015 DISC3B'!V26","v":0},{"$f":"'2015 DISC3C'!W26-'2015 DISC3B'!W26","v":0},{"$f":"'2015 DISC3C'!X26-'2015 DISC3B'!X26","v":-4},{"$f":"'2015 DISC3C'!Y26-'2015 DISC3B'!Y26","v":-7},{"$f":"'2015 DISC3C'!Z26-'2015 DISC3B'!Z26","v":-7},{"$f":"'2015 DISC3C'!AA26-'2015 DISC3B'!AA26","v":-7},"All",{"$f":"'2015 DISC3C'!AC26-'2015 DISC3B'!AC26","v":-7},{"$f":"'2015 DISC3C'!AD26-'2015 DISC3B'!AD26","v":-4},{"$f":"'2015 DISC3C'!AE26-'2015 DISC3B'!AE26","v":-3},{"$f":"'2015 DISC3C'!AF26-'2015 DISC3B'!AF26","v":-2},{"$f":"'2015 DISC3C'!AG26-'2015 DISC3B'!AG26","v":0},{"$f":"'2015 DISC3C'!AH26-'2015 DISC3B'!AH26","v":0},{"$f":"'2015 DISC3C'!AI26-'2015 DISC3B'!AI26","v":0},{"$f":"'2015 DISC3C'!AJ26-'2015 DISC3B'!AJ26","v":-1},{"$f":"'2015 DISC3C'!AK26-'2015 DISC3B'!AK26","v":-11},{"$f":"'2015 DISC3C'!AL26-'2015 DISC3B'!AL26","v":-16},{"$f":"'2015 DISC3C'!AM26-'2015 DISC3B'!AM26","v":-17},{"$f":"'2015 DISC3C'!AN26-'2015 DISC3B'!AN26","v":-17}]
["Humanities","Males",{"$f":"'2015 DISC3C'!C27-'2015 DISC3B'!C27","v":0},{"$f":"'2015 DISC3C'!D27-'2015 DISC3B'!D27","v":0},{"$f":"'2015 DISC3C'!E27-'2015 DISC3B'!E27","v":0},{"$f":"'2015 DISC3C'!F27-'2015 DISC3B'!F27","v":0},{"$f":"'2015 DISC3C'!G27-'2015 DISC3B'!G27","v":0},{"$f":"'2015 DISC3C'!H27-'2015 DISC3B'!H27","v":0},{"$f":"'2015 DISC3C'!I27-'2015 DISC3B'!I27","v":0},{"$f":"'2015 DISC3C'!J27-'2015 DISC3B'!J27","v":0},{"$f":"'2015 DISC3C'!K27-'2015 DISC3B'!K27","v":0},{"$f":"'2015 DISC3C'!L27-'2015 DISC3B'!L27","v":0},{"$f":"'2015 DISC3C'!M27-'2015 DISC3B'!M27","v":0},{"$f":"'2015 DISC3C'!N27-'2015 DISC3B'!N27","v":0},"Females",{"$f":"'2015 DISC3C'!P27-'2015 DISC3B'!P27","v":0},{"$f":"'2015 DISC3C'!Q27-'2015 DISC3B'!Q27","v":0},{"$f":"'2015 DISC3C'!R27-'2015 DISC3B'!R27","v":0},{"$f":"'2015 DISC3C'!S27-'2015 DISC3B'!S27","v":0},{"$f":"'2015 DISC3C'!T27-'2015 DISC3B'!T27","v":0},{"$f":"'2015 DISC3C'!U27-'2015 DISC3B'!U27","v":0},{"$f":"'2015 DISC3C'!V27-'2015 DISC3B'!V27","v":0},{"$f":"'2015 DISC3C'!W27-'2015 DISC3B'!W27","v":0},{"$f":"'2015 DISC3C'!X27-'2015 DISC3B'!X27","v":0},{"$f":"'2015 DISC3C'!Y27-'2015 DISC3B'!Y27","v":0},{"$f":"'2015 DISC3C'!Z27-'2015 DISC3B'!Z27","v":0},{"$f":"'2015 DISC3C'!AA27-'2015 DISC3B'!AA27","v":0},"All",{"$f":"'2015 DISC3C'!AC27-'2015 DISC3B'!AC27","v":0},{"$f":"'2015 DISC3C'!AD27-'2015 DISC3B'!AD27","v":0},{"$f":"'2015 DISC3C'!AE27-'2015 DISC3B'!AE27","v":0},{"$f":"'2015 DISC3C'!AF27-'2015 DISC3B'!AF27","v":0},{"$f":"'2015 DISC3C'!AG27-'2015 DISC3B'!AG27","v":0},{"$f":"'2015 DISC3C'!AH27-'2015 DISC3B'!AH27","v":0},{"$f":"'2015 DISC3C'!AI27-'2015 DISC3B'!AI27","v":0},{"$f":"'2015 DISC3C'!AJ27-'2015 DISC3B'!AJ27","v":0},{"$f":"'2015 DISC3C'!AK27-'2015 DISC3B'!AK27","v":0},{"$f":"'2015 DISC3C'!AL27-'2015 DISC3B'!AL27","v":0},{"$f":"'2015 DISC3C'!AM27-'2015 DISC3B'!AM27","v":0},{"$f":"'2015 DISC3C'!AN27-'2015 DISC3B'!AN27","v":0}]
["Economics","Males",{"$f":"'2015 DISC3C'!C28-'2015 DISC3B'!C28","v":0},{"$f":"'2015 DISC3C'!D28-'2015 DISC3B'!D28","v":0},{"$f":"'2015 DISC3C'!E28-'2015 DISC3B'!E28","v":0},{"$f":"'2015 DISC3C'!F28-'2015 DISC3B'!F28","v":0},{"$f":"'2015 DISC3C'!G28-'2015 DISC3B'!G28","v":0},{"$f":"'2015 DISC3C'!H28-'2015 DISC3B'!H28","v":0},{"$f":"'2015 DISC3C'!I28-'2015 DISC3B'!I28","v":0},{"$f":"'2015 DISC3C'!J28-'2015 DISC3B'!J28","v":0},{"$f":"'2015 DISC3C'!K28-'2015 DISC3B'!K28","v":0},{"$f":"'2015 DISC3C'!L28-'2015 DISC3B'!L28","v":0},{"$f":"'2015 DISC3C'!M28-'2015 DISC3B'!M28","v":0},{"$f":"'2015 DISC3C'!N28-'2015 DISC3B'!N28","v":0},"Females",{"$f":"'2015 DISC3C'!P28-'2015 DISC3B'!P28","v":0},{"$f":"'2015 DISC3C'!Q28-'2015 DISC3B'!Q28","v":0},{"$f":"'2015 DISC3C'!R28-'2015 DISC3B'!R28","v":0},{"$f":"'2015 DISC3C'!S28-'2015 DISC3B'!S28","v":0},{"$f":"'2015 DISC3C'!T28-'2015 DISC3B'!T28","v":0},{"$f":"'2015 DISC3C'!U28-'2015 DISC3B'!U28","v":0},{"$f":"'2015 DISC3C'!V28-'2015 DISC3B'!V28","v":0},{"$f":"'2015 DISC3C'!W28-'2015 DISC3B'!W28","v":0},{"$f":"'2015 DISC3C'!X28-'2015 DISC3B'!X28","v":0},{"$f":"'2015 DISC3C'!Y28-'2015 DISC3B'!Y28","v":0},{"$f":"'2015 DISC3C'!Z28-'2015 DISC3B'!Z28","v":0},{"$f":"'2015 DISC3C'!AA28-'2015 DISC3B'!AA28","v":0},"All",{"$f":"'2015 DISC3C'!AC28-'2015 DISC3B'!AC28","v":0},{"$f":"'2015 DISC3C'!AD28-'2015 DISC3B'!AD28","v":0},{"$f":"'2015 DISC3C'!AE28-'2015 DISC3B'!AE28","v":0},{"$f":"'2015 DISC3C'!AF28-'2015 DISC3B'!AF28","v":0},{"$f":"'2015 DISC3C'!AG28-'2015 DISC3B'!AG28","v":0},{"$f":"'2015 DISC3C'!AH28-'2015 DISC3B'!AH28","v":0},{"$f":"'2015 DISC3C'!AI28-'2015 DISC3B'!AI28","v":0},{"$f":"'2015 DISC3C'!AJ28-'2015 DISC3B'!AJ28","v":0},{"$f":"'2015 DISC3C'!AK28-'2015 DISC3B'!AK28","v":0},{"$f":"'2015 DISC3C'!AL28-'2015 DISC3B'!AL28","v":0},{"$f":"'2015 DISC3C'!AM28-'2015 DISC3B'!AM28","v":0},{"$f":"'2015 DISC3C'!AN28-'2015 DISC3B'!AN28","v":0}]
["Social Studies","Males",{"$f":"'2015 DISC3C'!C29-'2015 DISC3B'!C29","v":-2},{"$f":"'2015 DISC3C'!D29-'2015 DISC3B'!D29","v":-1},{"$f":"'2015 DISC3C'!E29-'2015 DISC3B'!E29","v":-1},{"$f":"'2015 DISC3C'!F29-'2015 DISC3B'!F29","v":-1},{"$f":"'2015 DISC3C'!G29-'2015 DISC3B'!G29","v":0},{"$f":"'2015 DISC3C'!H29-'2015 DISC3B'!H29","v":0},{"$f":"'2015 DISC3C'!I29-'2015 DISC3B'!I29","v":0},{"$f":"'2015 DISC3C'!J29-'2015 DISC3B'!J29","v":0},{"$f":"'2015 DISC3C'!K29-'2015 DISC3B'!K29","v":-3},{"$f":"'2015 DISC3C'!L29-'2015 DISC3B'!L29","v":-5},{"$f":"'2015 DISC3C'!M29-'2015 DISC3B'!M29","v":-5},{"$f":"'2015 DISC3C'!N29-'2015 DISC3B'!N29","v":-5},"Females",{"$f":"'2015 DISC3C'!P29-'2015 DISC3B'!P29","v":-3},{"$f":"'2015 DISC3C'!Q29-'2015 DISC3B'!Q29","v":-6},{"$f":"'2015 DISC3C'!R29-'2015 DISC3B'!R29","v":-2},{"$f":"'2015 DISC3C'!S29-'2015 DISC3B'!S29","v":-1},{"$f":"'2015 DISC3C'!T29-'2015 DISC3B'!T29","v":0},{"$f":"'2015 DISC3C'!U29-'2015 DISC3B'!U29","v":0},{"$f":"'2015 DISC3C'!V29-'2015 DISC3B'!V29","v":0},{"$f":"'2015 DISC3C'!W29-'2015 DISC3B'!W29","v":0},{"$f":"'2015 DISC3C'!X29-'2015 DISC3B'!X29","v":-9},{"$f":"'2015 DISC3C'!Y29-'2015 DISC3B'!Y29","v":-12},{"$f":"'2015 DISC3C'!Z29-'2015 DISC3B'!Z29","v":-12},{"$f":"'2015 DISC3C'!AA29-'2015 DISC3B'!AA29","v":-12},"All",{"$f":"'2015 DISC3C'!AC29-'2015 DISC3B'!AC29","v":-5},{"$f":"'2015 DISC3C'!AD29-'2015 DISC3B'!AD29","v":-7},{"$f":"'2015 DISC3C'!AE29-'2015 DISC3B'!AE29","v":-3},{"$f":"'2015 DISC3C'!AF29-'2015 DISC3B'!AF29","v":-2},{"$f":"'2015 DISC3C'!AG29-'2015 DISC3B'!AG29","v":0},{"$f":"'2015 DISC3C'!AH29-'2015 DISC3B'!AH29","v":0},{"$f":"'2015 DISC3C'!AI29-'2015 DISC3B'!AI29","v":0},{"$f":"'2015 DISC3C'!AJ29-'2015 DISC3B'!AJ29","v":0},{"$f":"'2015 DISC3C'!AK29-'2015 DISC3B'!AK29","v":-12},{"$f":"'2015 DISC3C'!AL29-'2015 DISC3B'!AL29","v":-17},{"$f":"'2015 DISC3C'!AM29-'2015 DISC3B'!AM29","v":-17},{"$f":"'2015 DISC3C'!AN29-'2015 DISC3B'!AN29","v":-17}]
["Arabic","Males",{"$f":"'2015 DISC3C'!C30-'2015 DISC3B'!C30","v":-51},{"$f":"'2015 DISC3C'!D30-'2015 DISC3B'!D30","v":-7},{"$f":"'2015 DISC3C'!E30-'2015 DISC3B'!E30","v":-1},{"$f":"'2015 DISC3C'!F30-'2015 DISC3B'!F30","v":-2},{"$f":"'2015 DISC3C'!G30-'2015 DISC3B'!G30","v":0},{"$f":"'2015 DISC3C'!H30-'2015 DISC3B'!H30","v":0},{"$f":"'2015 DISC3C'!I30-'2015 DISC3B'!I30","v":0},{"$f":"'2015 DISC3C'!J30-'2015 DISC3B'!J30","v":0},{"$f":"'2015 DISC3C'!K30-'2015 DISC3B'!K30","v":-58},{"$f":"'2015 DISC3C'!L30-'2015 DISC3B'!L30","v":-61},{"$f":"'2015 DISC3C'!M30-'2015 DISC3B'!M30","v":-61},{"$f":"'2015 DISC3C'!N30-'2015 DISC3B'!N30","v":-61},"Females",{"$f":"'2015 DISC3C'!P30-'2015 DISC3B'!P30","v":-87},{"$f":"'2015 DISC3C'!Q30-'2015 DISC3B'!Q30","v":-19},{"$f":"'2015 DISC3C'!R30-'2015 DISC3B'!R30","v":-6},{"$f":"'2015 DISC3C'!S30-'2015 DISC3B'!S30","v":-1},{"$f":"'2015 DISC3C'!T30-'2015 DISC3B'!T30","v":-2},{"$f":"'2015 DISC3C'!U30-'2015 DISC3B'!U30","v":0},{"$f":"'2015 DISC3C'!V30-'2015 DISC3B'!V30","v":0},{"$f":"'2015 DISC3C'!W30-'2015 DISC3B'!W30","v":-1},{"$f":"'2015 DISC3C'!X30-'2015 DISC3B'!X30","v":-106},{"$f":"'2015 DISC3C'!Y30-'2015 DISC3B'!Y30","v":-113},{"$f":"'2015 DISC3C'!Z30-'2015 DISC3B'!Z30","v":-116},{"$f":"'2015 DISC3C'!AA30-'2015 DISC3B'!AA30","v":-116},"All",{"$f":"'2015 DISC3C'!AC30-'2015 DISC3B'!AC30","v":-138},{"$f":"'2015 DISC3C'!AD30-'2015 DISC3B'!AD30","v":-26},{"$f":"'2015 DISC3C'!AE30-'2015 DISC3B'!AE30","v":-7},{"$f":"'2015 DISC3C'!AF30-'2015 DISC3B'!AF30","v":-3},{"$f":"'2015 DISC3C'!AG30-'2015 DISC3B'!AG30","v":-2},{"$f":"'2015 DISC3C'!AH30-'2015 DISC3B'!AH30","v":0},{"$f":"'2015 DISC3C'!AI30-'2015 DISC3B'!AI30","v":0},{"$f":"'2015 DISC3C'!AJ30-'2015 DISC3B'!AJ30","v":-1},{"$f":"'2015 DISC3C'!AK30-'2015 DISC3B'!AK30","v":-164},{"$f":"'2015 DISC3C'!AL30-'2015 DISC3B'!AL30","v":-174},{"$f":"'2015 DISC3C'!AM30-'2015 DISC3B'!AM30","v":-177},{"$f":"'2015 DISC3C'!AN30-'2015 DISC3B'!AN30","v":-177}]
["Chinese","Males",{"$f":"'2015 DISC3C'!C31-'2015 DISC3B'!C31","v":-73},{"$f":"'2015 DISC3C'!D31-'2015 DISC3B'!D31","v":-2},{"$f":"'2015 DISC3C'!E31-'2015 DISC3B'!E31","v":0},{"$f":"'2015 DISC3C'!F31-'2015 DISC3B'!F31","v":-1},{"$f":"'2015 DISC3C'!G31-'2015 DISC3B'!G31","v":0},{"$f":"'2015 DISC3C'!H31-'2015 DISC3B'!H31","v":0},{"$f":"'2015 DISC3C'!I31-'2015 DISC3B'!I31","v":0},{"$f":"'2015 DISC3C'!J31-'2015 DISC3B'!J31","v":0},{"$f":"'2015 DISC3C'!K31-'2015 DISC3B'!K31","v":-75},{"$f":"'2015 DISC3C'!L31-'2015 DISC3B'!L31","v":-76},{"$f":"'2015 DISC3C'!M31-'2015 DISC3B'!M31","v":-76},{"$f":"'2015 DISC3C'!N31-'2015 DISC3B'!N31","v":-76},"Females",{"$f":"'2015 DISC3C'!P31-'2015 DISC3B'!P31","v":-108},{"$f":"'2015 DISC3C'!Q31-'2015 DISC3B'!Q31","v":-4},{"$f":"'2015 DISC3C'!R31-'2015 DISC3B'!R31","v":0},{"$f":"'2015 DISC3C'!S31-'2015 DISC3B'!S31","v":0},{"$f":"'2015 DISC3C'!T31-'2015 DISC3B'!T31","v":0},{"$f":"'2015 DISC3C'!U31-'2015 DISC3B'!U31","v":0},{"$f":"'2015 DISC3C'!V31-'2015 DISC3B'!V31","v":0},{"$f":"'2015 DISC3C'!W31-'2015 DISC3B'!W31","v":0},{"$f":"'2015 DISC3C'!X31-'2015 DISC3B'!X31","v":-112},{"$f":"'2015 DISC3C'!Y31-'2015 DISC3B'!Y31","v":-112},{"$f":"'2015 DISC3C'!Z31-'2015 DISC3B'!Z31","v":-112},{"$f":"'2015 DISC3C'!AA31-'2015 DISC3B'!AA31","v":-112},"All",{"$f":"'2015 DISC3C'!AC31-'2015 DISC3B'!AC31","v":-181},{"$f":"'2015 DISC3C'!AD31-'2015 DISC3B'!AD31","v":-6},{"$f":"'2015 DISC3C'!AE31-'2015 DISC3B'!AE31","v":0},{"$f":"'2015 DISC3C'!AF31-'2015 DISC3B'!AF31","v":-1},{"$f":"'2015 DISC3C'!AG31-'2015 DISC3B'!AG31","v":0},{"$f":"'2015 DISC3C'!AH31-'2015 DISC3B'!AH31","v":0},{"$f":"'2015 DISC3C'!AI31-'2015 DISC3B'!AI31","v":0},{"$f":"'2015 DISC3C'!AJ31-'2015 DISC3B'!AJ31","v":0},{"$f":"'2015 DISC3C'!AK31-'2015 DISC3B'!AK31","v":-187},{"$f":"'2015 DISC3C'!AL31-'2015 DISC3B'!AL31","v":-188},{"$f":"'2015 DISC3C'!AM31-'2015 DISC3B'!AM31","v":-188},{"$f":"'2015 DISC3C'!AN31-'2015 DISC3B'!AN31","v":-188}]
["French","Males",{"$f":"'2015 DISC3C'!C32-'2015 DISC3B'!C32","v":-40},{"$f":"'2015 DISC3C'!D32-'2015 DISC3B'!D32","v":-18},{"$f":"'2015 DISC3C'!E32-'2015 DISC3B'!E32","v":-1},{"$f":"'2015 DISC3C'!F32-'2015 DISC3B'!F32","v":0},{"$f":"'2015 DISC3C'!G32-'2015 DISC3B'!G32","v":0},{"$f":"'2015 DISC3C'!H32-'2015 DISC3B'!H32","v":0},{"$f":"'2015 DISC3C'!I32-'2015 DISC3B'!I32","v":0},{"$f":"'2015 DISC3C'!J32-'2015 DISC3B'!J32","v":0},{"$f":"'2015 DISC3C'!K32-'2015 DISC3B'!K32","v":-58},{"$f":"'2015 DISC3C'!L32-'2015 DISC3B'!L32","v":-59},{"$f":"'2015 DISC3C'!M32-'2015 DISC3B'!M32","v":-59},{"$f":"'2015 DISC3C'!N32-'2015 DISC3B'!N32","v":-59},"Females",{"$f":"'2015 DISC3C'!P32-'2015 DISC3B'!P32","v":-90},{"$f":"'2015 DISC3C'!Q32-'2015 DISC3B'!Q32","v":-25},{"$f":"'2015 DISC3C'!R32-'2015 DISC3B'!R32","v":-5},{"$f":"'2015 DISC3C'!S32-'2015 DISC3B'!S32","v":0},{"$f":"'2015 DISC3C'!T32-'2015 DISC3B'!T32","v":0},{"$f":"'2015 DISC3C'!U32-'2015 DISC3B'!U32","v":0},{"$f":"'2015 DISC3C'!V32-'2015 DISC3B'!V32","v":0},{"$f":"'2015 DISC3C'!W32-'2015 DISC3B'!W32","v":0},{"$f":"'2015 DISC3C'!X32-'2015 DISC3B'!X32","v":-115},{"$f":"'2015 DISC3C'!Y32-'2015 DISC3B'!Y32","v":-120},{"$f":"'2015 DISC3C'!Z32-'2015 DISC3B'!Z32","v":-120},{"$f":"'2015 DISC3C'!AA32-'2015 DISC3B'!AA32","v":-120},"All",{"$f":"'2015 DISC3C'!AC32-'2015 DISC3B'!AC32","v":-130},{"$f":"'2015 DISC3C'!AD32-'2015 DISC3B'!AD32","v":-43},{"$f":"'2015 DISC3C'!AE32-'2015 DISC3B'!AE32","v":-6},{"$f":"'2015 DISC3C'!AF32-'2015 DISC3B'!AF32","v":0},{"$f":"'2015 DISC3C'!AG32-'2015 DISC3B'!AG32","v":0},{"$f":"'2015 DISC3C'!AH32-'2015 DISC3B'!AH32","v":0},{"$f":"'2015 DISC3C'!AI32-'2015 DISC3B'!AI32","v":0},{"$f":"'2015 DISC3C'!AJ32-'2015 DISC3B'!AJ32","v":0},{"$f":"'2015 DISC3C'!AK32-'2015 DISC3B'!AK32","v":-173},{"$f":"'2015 DISC3C'!AL32-'2015 DISC3B'!AL32","v":-179},{"$f":"'2015 DISC3C'!AM32-'2015 DISC3B'!AM32","v":-179},{"$f":"'2015 DISC3C'!AN32-'2015 DISC3B'!AN32","v":-179}]
["German","Males",{"$f":"'2015 DISC3C'!C33-'2015 DISC3B'!C33","v":-35},{"$f":"'2015 DISC3C'!D33-'2015 DISC3B'!D33","v":-5},{"$f":"'2015 DISC3C'!E33-'2015 DISC3B'!E33","v":-7},{"$f":"'2015 DISC3C'!F33-'2015 DISC3B'!F33","v":0},{"$f":"'2015 DISC3C'!G33-'2015 DISC3B'!G33","v":0},{"$f":"'2015 DISC3C'!H33-'2015 DISC3B'!H33","v":0},{"$f":"'2015 DISC3C'!I33-'2015 DISC3B'!I33","v":0},{"$f":"'2015 DISC3C'!J33-'2015 DISC3B'!J33","v":0},{"$f":"'2015 DISC3C'!K33-'2015 DISC3B'!K33","v":-40},{"$f":"'2015 DISC3C'!L33-'2015 DISC3B'!L33","v":-47},{"$f":"'2015 DISC3C'!M33-'2015 DISC3B'!M33","v":-47},{"$f":"'2015 DISC3C'!N33-'2015 DISC3B'!N33","v":-47},"Females",{"$f":"'2015 DISC3C'!P33-'2015 DISC3B'!P33","v":-36},{"$f":"'2015 DISC3C'!Q33-'2015 DISC3B'!Q33","v":-10},{"$f":"'2015 DISC3C'!R33-'2015 DISC3B'!R33","v":-4},{"$f":"'2015 DISC3C'!S33-'2015 DISC3B'!S33","v":0},{"$f":"'2015 DISC3C'!T33-'2015 DISC3B'!T33","v":0},{"$f":"'2015 DISC3C'!U33-'2015 DISC3B'!U33","v":0},{"$f":"'2015 DISC3C'!V33-'2015 DISC3B'!V33","v":0},{"$f":"'2015 DISC3C'!W33-'2015 DISC3B'!W33","v":0},{"$f":"'2015 DISC3C'!X33-'2015 DISC3B'!X33","v":-46},{"$f":"'2015 DISC3C'!Y33-'2015 DISC3B'!Y33","v":-50},{"$f":"'2015 DISC3C'!Z33-'2015 DISC3B'!Z33","v":-50},{"$f":"'2015 DISC3C'!AA33-'2015 DISC3B'!AA33","v":-50},"All",{"$f":"'2015 DISC3C'!AC33-'2015 DISC3B'!AC33","v":-71},{"$f":"'2015 DISC3C'!AD33-'2015 DISC3B'!AD33","v":-15},{"$f":"'2015 DISC3C'!AE33-'2015 DISC3B'!AE33","v":-11},{"$f":"'2015 DISC3C'!AF33-'2015 DISC3B'!AF33","v":0},{"$f":"'2015 DISC3C'!AG33-'2015 DISC3B'!AG33","v":0},{"$f":"'2015 DISC3C'!AH33-'2015 DISC3B'!AH33","v":0},{"$f":"'2015 DISC3C'!AI33-'2015 DISC3B'!AI33","v":0},{"$f":"'2015 DISC3C'!AJ33-'2015 DISC3B'!AJ33","v":0},{"$f":"'2015 DISC3C'!AK33-'2015 DISC3B'!AK33","v":-86},{"$f":"'2015 DISC3C'!AL33-'2015 DISC3B'!AL33","v":-97},{"$f":"'2015 DISC3C'!AM33-'2015 DISC3B'!AM33","v":-97},{"$f":"'2015 DISC3C'!AN33-'2015 DISC3B'!AN33","v":-97}]
["Italian","Males",{"$f":"'2015 DISC3C'!C34-'2015 DISC3B'!C34","v":-37},{"$f":"'2015 DISC3C'!D34-'2015 DISC3B'!D34","v":-1},{"$f":"'2015 DISC3C'!E34-'2015 DISC3B'!E34","v":0},{"$f":"'2015 DISC3C'!F34-'2015 DISC3B'!F34","v":0},{"$f":"'2015 DISC3C'!G34-'2015 DISC3B'!G34","v":-1},{"$f":"'2015 DISC3C'!H34-'2015 DISC3B'!H34","v":0},{"$f":"'2015 DISC3C'!I34-'2015 DISC3B'!I34","v":0},{"$f":"'2015 DISC3C'!J34-'2015 DISC3B'!J34","v":0},{"$f":"'2015 DISC3C'!K34-'2015 DISC3B'!K34","v":-38},{"$f":"'2015 DISC3C'!L34-'2015 DISC3B'!L34","v":-38},{"$f":"'2015 DISC3C'!M34-'2015 DISC3B'!M34","v":-39},{"$f":"'2015 DISC3C'!N34-'2015 DISC3B'!N34","v":-39},"Females",{"$f":"'2015 DISC3C'!P34-'2015 DISC3B'!P34","v":-53},{"$f":"'2015 DISC3C'!Q34-'2015 DISC3B'!Q34","v":-3},{"$f":"'2015 DISC3C'!R34-'2015 DISC3B'!R34","v":0},{"$f":"'2015 DISC3C'!S34-'2015 DISC3B'!S34","v":0},{"$f":"'2015 DISC3C'!T34-'2015 DISC3B'!T34","v":0},{"$f":"'2015 DISC3C'!U34-'2015 DISC3B'!U34","v":0},{"$f":"'2015 DISC3C'!V34-'2015 DISC3B'!V34","v":0},{"$f":"'2015 DISC3C'!W34-'2015 DISC3B'!W34","v":0},{"$f":"'2015 DISC3C'!X34-'2015 DISC3B'!X34","v":-56},{"$f":"'2015 DISC3C'!Y34-'2015 DISC3B'!Y34","v":-56},{"$f":"'2015 DISC3C'!Z34-'2015 DISC3B'!Z34","v":-56},{"$f":"'2015 DISC3C'!AA34-'2015 DISC3B'!AA34","v":-56},"All",{"$f":"'2015 DISC3C'!AC34-'2015 DISC3B'!AC34","v":-90},{"$f":"'2015 DISC3C'!AD34-'2015 DISC3B'!AD34","v":-4},{"$f":"'2015 DISC3C'!AE34-'2015 DISC3B'!AE34","v":0},{"$f":"'2015 DISC3C'!AF34-'2015 DISC3B'!AF34","v":0},{"$f":"'2015 DISC3C'!AG34-'2015 DISC3B'!AG34","v":-1},{"$f":"'2015 DISC3C'!AH34-'2015 DISC3B'!AH34","v":0},{"$f":"'2015 DISC3C'!AI34-'2015 DISC3B'!AI34","v":0},{"$f":"'2015 DISC3C'!AJ34-'2015 DISC3B'!AJ34","v":0},{"$f":"'2015 DISC3C'!AK34-'2015 DISC3B'!AK34","v":-94},{"$f":"'2015 DISC3C'!AL34-'2015 DISC3B'!AL34","v":-94},{"$f":"'2015 DISC3C'!AM34-'2015 DISC3B'!AM34","v":-95},{"$f":"'2015 DISC3C'!AN34-'2015 DISC3B'!AN34","v":-95}]
["Polish","Males",{"$f":"'2015 DISC3C'!C35-'2015 DISC3B'!C35","v":-88},{"$f":"'2015 DISC3C'!D35-'2015 DISC3B'!D35","v":-91},{"$f":"'2015 DISC3C'!E35-'2015 DISC3B'!E35","v":-21},{"$f":"'2015 DISC3C'!F35-'2015 DISC3B'!F35","v":-5},{"$f":"'2015 DISC3C'!G35-'2015 DISC3B'!G35","v":0},{"$f":"'2015 DISC3C'!H35-'2015 DISC3B'!H35","v":0},{"$f":"'2015 DISC3C'!I35-'2015 DISC3B'!I35","v":0},{"$f":"'2015 DISC3C'!J35-'2015 DISC3B'!J35","v":0},{"$f":"'2015 DISC3C'!K35-'2015 DISC3B'!K35","v":-179},{"$f":"'2015 DISC3C'!L35-'2015 DISC3B'!L35","v":-205},{"$f":"'2015 DISC3C'!M35-'2015 DISC3B'!M35","v":-205},{"$f":"'2015 DISC3C'!N35-'2015 DISC3B'!N35","v":-205},"Females",{"$f":"'2015 DISC3C'!P35-'2015 DISC3B'!P35","v":-196},{"$f":"'2015 DISC3C'!Q35-'2015 DISC3B'!Q35","v":-104},{"$f":"'2015 DISC3C'!R35-'2015 DISC3B'!R35","v":-26},{"$f":"'2015 DISC3C'!S35-'2015 DISC3B'!S35","v":-2},{"$f":"'2015 DISC3C'!T35-'2015 DISC3B'!T35","v":0},{"$f":"'2015 DISC3C'!U35-'2015 DISC3B'!U35","v":-2},{"$f":"'2015 DISC3C'!V35-'2015 DISC3B'!V35","v":0},{"$f":"'2015 DISC3C'!W35-'2015 DISC3B'!W35","v":-1},{"$f":"'2015 DISC3C'!X35-'2015 DISC3B'!X35","v":-300},{"$f":"'2015 DISC3C'!Y35-'2015 DISC3B'!Y35","v":-328},{"$f":"'2015 DISC3C'!Z35-'2015 DISC3B'!Z35","v":-331},{"$f":"'2015 DISC3C'!AA35-'2015 DISC3B'!AA35","v":-331},"All",{"$f":"'2015 DISC3C'!AC35-'2015 DISC3B'!AC35","v":-284},{"$f":"'2015 DISC3C'!AD35-'2015 DISC3B'!AD35","v":-195},{"$f":"'2015 DISC3C'!AE35-'2015 DISC3B'!AE35","v":-47},{"$f":"'2015 DISC3C'!AF35-'2015 DISC3B'!AF35","v":-7},{"$f":"'2015 DISC3C'!AG35-'2015 DISC3B'!AG35","v":0},{"$f":"'2015 DISC3C'!AH35-'2015 DISC3B'!AH35","v":-2},{"$f":"'2015 DISC3C'!AI35-'2015 DISC3B'!AI35","v":0},{"$f":"'2015 DISC3C'!AJ35-'2015 DISC3B'!AJ35","v":-1},{"$f":"'2015 DISC3C'!AK35-'2015 DISC3B'!AK35","v":-479},{"$f":"'2015 DISC3C'!AL35-'2015 DISC3B'!AL35","v":-533},{"$f":"'2015 DISC3C'!AM35-'2015 DISC3B'!AM35","v":-536},{"$f":"'2015 DISC3C'!AN35-'2015 DISC3B'!AN35","v":-536}]
["Spanish","Males",{"$f":"'2015 DISC3C'!C36-'2015 DISC3B'!C36","v":-54},{"$f":"'2015 DISC3C'!D36-'2015 DISC3B'!D36","v":-14},{"$f":"'2015 DISC3C'!E36-'2015 DISC3B'!E36","v":-4},{"$f":"'2015 DISC3C'!F36-'2015 DISC3B'!F36","v":0},{"$f":"'2015 DISC3C'!G36-'2015 DISC3B'!G36","v":0},{"$f":"'2015 DISC3C'!H36-'2015 DISC3B'!H36","v":0},{"$f":"'2015 DISC3C'!I36-'2015 DISC3B'!I36","v":0},{"$f":"'2015 DISC3C'!J36-'2015 DISC3B'!J36","v":0},{"$f":"'2015 DISC3C'!K36-'2015 DISC3B'!K36","v":-68},{"$f":"'2015 DISC3C'!L36-'2015 DISC3B'!L36","v":-72},{"$f":"'2015 DISC3C'!M36-'2015 DISC3B'!M36","v":-72},{"$f":"'2015 DISC3C'!N36-'2015 DISC3B'!N36","v":-72},"Females",{"$f":"'2015 DISC3C'!P36-'2015 DISC3B'!P36","v":-126},{"$f":"'2015 DISC3C'!Q36-'2015 DISC3B'!Q36","v":-26},{"$f":"'2015 DISC3C'!R36-'2015 DISC3B'!R36","v":-4},{"$f":"'2015 DISC3C'!S36-'2015 DISC3B'!S36","v":-1},{"$f":"'2015 DISC3C'!T36-'2015 DISC3B'!T36","v":0},{"$f":"'2015 DISC3C'!U36-'2015 DISC3B'!U36","v":-1},{"$f":"'2015 DISC3C'!V36-'2015 DISC3B'!V36","v":0},{"$f":"'2015 DISC3C'!W36-'2015 DISC3B'!W36","v":0},{"$f":"'2015 DISC3C'!X36-'2015 DISC3B'!X36","v":-152},{"$f":"'2015 DISC3C'!Y36-'2015 DISC3B'!Y36","v":-157},{"$f":"'2015 DISC3C'!Z36-'2015 DISC3B'!Z36","v":-158},{"$f":"'2015 DISC3C'!AA36-'2015 DISC3B'!AA36","v":-158},"All",{"$f":"'2015 DISC3C'!AC36-'2015 DISC3B'!AC36","v":-180},{"$f":"'2015 DISC3C'!AD36-'2015 DISC3B'!AD36","v":-40},{"$f":"'2015 DISC3C'!AE36-'2015 DISC3B'!AE36","v":-8},{"$f":"'2015 DISC3C'!AF36-'2015 DISC3B'!AF36","v":-1},{"$f":"'2015 DISC3C'!AG36-'2015 DISC3B'!AG36","v":0},{"$f":"'2015 DISC3C'!AH36-'2015 DISC3B'!AH36","v":-1},{"$f":"'2015 DISC3C'!AI36-'2015 DISC3B'!AI36","v":0},{"$f":"'2015 DISC3C'!AJ36-'2015 DISC3B'!AJ36","v":0},{"$f":"'2015 DISC3C'!AK36-'2015 DISC3B'!AK36","v":-220},{"$f":"'2015 DISC3C'!AL36-'2015 DISC3B'!AL36","v":-229},{"$f":"'2015 DISC3C'!AM36-'2015 DISC3B'!AM36","v":-230},{"$f":"'2015 DISC3C'!AN36-'2015 DISC3B'!AN36","v":-230}]
["Urdu","Males",{"$f":"'2015 DISC3C'!C37-'2015 DISC3B'!C37","v":-12},{"$f":"'2015 DISC3C'!D37-'2015 DISC3B'!D37","v":-6},{"$f":"'2015 DISC3C'!E37-'2015 DISC3B'!E37","v":-2},{"$f":"'2015 DISC3C'!F37-'2015 DISC3B'!F37","v":-1},{"$f":"'2015 DISC3C'!G37-'2015 DISC3B'!G37","v":0},{"$f":"'2015 DISC3C'!H37-'2015 DISC3B'!H37","v":0},{"$f":"'2015 DISC3C'!I37-'2015 DISC3B'!I37","v":0},{"$f":"'2015 DISC3C'!J37-'2015 DISC3B'!J37","v":0},{"$f":"'2015 DISC3C'!K37-'2015 DISC3B'!K37","v":-18},{"$f":"'2015 DISC3C'!L37-'2015 DISC3B'!L37","v":-21},{"$f":"'2015 DISC3C'!M37-'2015 DISC3B'!M37","v":-21},{"$f":"'2015 DISC3C'!N37-'2015 DISC3B'!N37","v":-21},"Females",{"$f":"'2015 DISC3C'!P37-'2015 DISC3B'!P37","v":-13},{"$f":"'2015 DISC3C'!Q37-'2015 DISC3B'!Q37","v":-17},{"$f":"'2015 DISC3C'!R37-'2015 DISC3B'!R37","v":-6},{"$f":"'2015 DISC3C'!S37-'2015 DISC3B'!S37","v":-2},{"$f":"'2015 DISC3C'!T37-'2015 DISC3B'!T37","v":-1},{"$f":"'2015 DISC3C'!U37-'2015 DISC3B'!U37","v":0},{"$f":"'2015 DISC3C'!V37-'2015 DISC3B'!V37","v":0},{"$f":"'2015 DISC3C'!W37-'2015 DISC3B'!W37","v":0},{"$f":"'2015 DISC3C'!X37-'2015 DISC3B'!X37","v":-30},{"$f":"'2015 DISC3C'!Y37-'2015 DISC3B'!Y37","v":-38},{"$f":"'2015 DISC3C'!Z37-'2015 DISC3B'!Z37","v":-39},{"$f":"'2015 DISC3C'!AA37-'2015 DISC3B'!AA37","v":-39},"All",{"$f":"'2015 DISC3C'!AC37-'2015 DISC3B'!AC37","v":-25},{"$f":"'2015 DISC3C'!AD37-'2015 DISC3B'!AD37","v":-23},{"$f":"'2015 DISC3C'!AE37-'2015 DISC3B'!AE37","v":-8},{"$f":"'2015 DISC3C'!AF37-'2015 DISC3B'!AF37","v":-3},{"$f":"'2015 DISC3C'!AG37-'2015 DISC3B'!AG37","v":-1},{"$f":"'2015 DISC3C'!AH37-'2015 DISC3B'!AH37","v":0},{"$f":"'2015 DISC3C'!AI37-'2015 DISC3B'!AI37","v":0},{"$f":"'2015 DISC3C'!AJ37-'2015 DISC3B'!AJ37","v":0},{"$f":"'2015 DISC3C'!AK37-'2015 DISC3B'!AK37","v":-48},{"$f":"'2015 DISC3C'!AL37-'2015 DISC3B'!AL37","v":-59},{"$f":"'2015 DISC3C'!AM37-'2015 DISC3B'!AM37","v":-60},{"$f":"'2015 DISC3C'!AN37-'2015 DISC3B'!AN37","v":-60}]
["Other Modern Languages","Males",{"$f":"'2015 DISC3C'!C38-'2015 DISC3B'!C38","v":-133},{"$f":"'2015 DISC3C'!D38-'2015 DISC3B'!D38","v":-77},{"$f":"'2015 DISC3C'!E38-'2015 DISC3B'!E38","v":-29},{"$f":"'2015 DISC3C'!F38-'2015 DISC3B'!F38","v":-9},{"$f":"'2015 DISC3C'!G38-'2015 DISC3B'!G38","v":0},{"$f":"'2015 DISC3C'!H38-'2015 DISC3B'!H38","v":0},{"$f":"'2015 DISC3C'!I38-'2015 DISC3B'!I38","v":0},{"$f":"'2015 DISC3C'!J38-'2015 DISC3B'!J38","v":0},{"$f":"'2015 DISC3C'!K38-'2015 DISC3B'!K38","v":-210},{"$f":"'2015 DISC3C'!L38-'2015 DISC3B'!L38","v":-248},{"$f":"'2015 DISC3C'!M38-'2015 DISC3B'!M38","v":-248},{"$f":"'2015 DISC3C'!N38-'2015 DISC3B'!N38","v":-248},"Females",{"$f":"'2015 DISC3C'!P38-'2015 DISC3B'!P38","v":-312},{"$f":"'2015 DISC3C'!Q38-'2015 DISC3B'!Q38","v":-154},{"$f":"'2015 DISC3C'!R38-'2015 DISC3B'!R38","v":-27},{"$f":"'2015 DISC3C'!S38-'2015 DISC3B'!S38","v":-12},{"$f":"'2015 DISC3C'!T38-'2015 DISC3B'!T38","v":-1},{"$f":"'2015 DISC3C'!U38-'2015 DISC3B'!U38","v":0},{"$f":"'2015 DISC3C'!V38-'2015 DISC3B'!V38","v":0},{"$f":"'2015 DISC3C'!W38-'2015 DISC3B'!W38","v":0},{"$f":"'2015 DISC3C'!X38-'2015 DISC3B'!X38","v":-466},{"$f":"'2015 DISC3C'!Y38-'2015 DISC3B'!Y38","v":-505},{"$f":"'2015 DISC3C'!Z38-'2015 DISC3B'!Z38","v":-506},{"$f":"'2015 DISC3C'!AA38-'2015 DISC3B'!AA38","v":-506},"All",{"$f":"'2015 DISC3C'!AC38-'2015 DISC3B'!AC38","v":-445},{"$f":"'2015 DISC3C'!AD38-'2015 DISC3B'!AD38","v":-231},{"$f":"'2015 DISC3C'!AE38-'2015 DISC3B'!AE38","v":-56},{"$f":"'2015 DISC3C'!AF38-'2015 DISC3B'!AF38","v":-21},{"$f":"'2015 DISC3C'!AG38-'2015 DISC3B'!AG38","v":-1},{"$f":"'2015 DISC3C'!AH38-'2015 DISC3B'!AH38","v":0},{"$f":"'2015 DISC3C'!AI38-'2015 DISC3B'!AI38","v":0},{"$f":"'2015 DISC3C'!AJ38-'2015 DISC3B'!AJ38","v":0},{"$f":"'2015 DISC3C'!AK38-'2015 DISC3B'!AK38","v":-676},{"$f":"'2015 DISC3C'!AL38-'2015 DISC3B'!AL38","v":-753},{"$f":"'2015 DISC3C'!AM38-'2015 DISC3B'!AM38","v":-754},{"$f":"'2015 DISC3C'!AN38-'2015 DISC3B'!AN38","v":-754}]
["Classical Civilisation","Males",{"$f":"'2015 DISC3C'!C39-'2015 DISC3B'!C39","v":0},{"$f":"'2015 DISC3C'!D39-'2015 DISC3B'!D39","v":0},{"$f":"'2015 DISC3C'!E39-'2015 DISC3B'!E39","v":0},{"$f":"'2015 DISC3C'!F39-'2015 DISC3B'!F39","v":0},{"$f":"'2015 DISC3C'!G39-'2015 DISC3B'!G39","v":0},{"$f":"'2015 DISC3C'!H39-'2015 DISC3B'!H39","v":0},{"$f":"'2015 DISC3C'!I39-'2015 DISC3B'!I39","v":0},{"$f":"'2015 DISC3C'!J39-'2015 DISC3B'!J39","v":0},{"$f":"'2015 DISC3C'!K39-'2015 DISC3B'!K39","v":0},{"$f":"'2015 DISC3C'!L39-'2015 DISC3B'!L39","v":0},{"$f":"'2015 DISC3C'!M39-'2015 DISC3B'!M39","v":0},{"$f":"'2015 DISC3C'!N39-'2015 DISC3B'!N39","v":0},"Females",{"$f":"'2015 DISC3C'!P39-'2015 DISC3B'!P39","v":0},{"$f":"'2015 DISC3C'!Q39-'2015 DISC3B'!Q39","v":-1},{"$f":"'2015 DISC3C'!R39-'2015 DISC3B'!R39","v":0},{"$f":"'2015 DISC3C'!S39-'2015 DISC3B'!S39","v":0},{"$f":"'2015 DISC3C'!T39-'2015 DISC3B'!T39","v":0},{"$f":"'2015 DISC3C'!U39-'2015 DISC3B'!U39","v":0},{"$f":"'2015 DISC3C'!V39-'2015 DISC3B'!V39","v":0},{"$f":"'2015 DISC3C'!W39-'2015 DISC3B'!W39","v":0},{"$f":"'2015 DISC3C'!X39-'2015 DISC3B'!X39","v":-1},{"$f":"'2015 DISC3C'!Y39-'2015 DISC3B'!Y39","v":-1},{"$f":"'2015 DISC3C'!Z39-'2015 DISC3B'!Z39","v":-1},{"$f":"'2015 DISC3C'!AA39-'2015 DISC3B'!AA39","v":-1},"All",{"$f":"'2015 DISC3C'!AC39-'2015 DISC3B'!AC39","v":0},{"$f":"'2015 DISC3C'!AD39-'2015 DISC3B'!AD39","v":-1},{"$f":"'2015 DISC3C'!AE39-'2015 DISC3B'!AE39","v":0},{"$f":"'2015 DISC3C'!AF39-'2015 DISC3B'!AF39","v":0},{"$f":"'2015 DISC3C'!AG39-'2015 DISC3B'!AG39","v":0},{"$f":"'2015 DISC3C'!AH39-'2015 DISC3B'!AH39","v":0},{"$f":"'2015 DISC3C'!AI39-'2015 DISC3B'!AI39","v":0},{"$f":"'2015 DISC3C'!AJ39-'2015 DISC3B'!AJ39","v":0},{"$f":"'2015 DISC3C'!AK39-'2015 DISC3B'!AK39","v":-1},{"$f":"'2015 DISC3C'!AL39-'2015 DISC3B'!AL39","v":-1},{"$f":"'2015 DISC3C'!AM39-'2015 DISC3B'!AM39","v":-1},{"$f":"'2015 DISC3C'!AN39-'2015 DISC3B'!AN39","v":-1}]
["Classical Greek","Males",{"$f":"'2015 DISC3C'!C40-'2015 DISC3B'!C40","v":-2},{"$f":"'2015 DISC3C'!D40-'2015 DISC3B'!D40","v":-1},{"$f":"'2015 DISC3C'!E40-'2015 DISC3B'!E40","v":0},{"$f":"'2015 DISC3C'!F40-'2015 DISC3B'!F40","v":0},{"$f":"'2015 DISC3C'!G40-'2015 DISC3B'!G40","v":0},{"$f":"'2015 DISC3C'!H40-'2015 DISC3B'!H40","v":0},{"$f":"'2015 DISC3C'!I40-'2015 DISC3B'!I40","v":0},{"$f":"'2015 DISC3C'!J40-'2015 DISC3B'!J40","v":0},{"$f":"'2015 DISC3C'!K40-'2015 DISC3B'!K40","v":-3},{"$f":"'2015 DISC3C'!L40-'2015 DISC3B'!L40","v":-3},{"$f":"'2015 DISC3C'!M40-'2015 DISC3B'!M40","v":-3},{"$f":"'2015 DISC3C'!N40-'2015 DISC3B'!N40","v":-3},"Females",{"$f":"'2015 DISC3C'!P40-'2015 DISC3B'!P40","v":0},{"$f":"'2015 DISC3C'!Q40-'2015 DISC3B'!Q40","v":0},{"$f":"'2015 DISC3C'!R40-'2015 DISC3B'!R40","v":0},{"$f":"'2015 DISC3C'!S40-'2015 DISC3B'!S40","v":0},{"$f":"'2015 DISC3C'!T40-'2015 DISC3B'!T40","v":0},{"$f":"'2015 DISC3C'!U40-'2015 DISC3B'!U40","v":0},{"$f":"'2015 DISC3C'!V40-'2015 DISC3B'!V40","v":0},{"$f":"'2015 DISC3C'!W40-'2015 DISC3B'!W40","v":0},{"$f":"'2015 DISC3C'!X40-'2015 DISC3B'!X40","v":0},{"$f":"'2015 DISC3C'!Y40-'2015 DISC3B'!Y40","v":0},{"$f":"'2015 DISC3C'!Z40-'2015 DISC3B'!Z40","v":0},{"$f":"'2015 DISC3C'!AA40-'2015 DISC3B'!AA40","v":0},"All",{"$f":"'2015 DISC3C'!AC40-'2015 DISC3B'!AC40","v":-2},{"$f":"'2015 DISC3C'!AD40-'2015 DISC3B'!AD40","v":-1},{"$f":"'2015 DISC3C'!AE40-'2015 DISC3B'!AE40","v":0},{"$f":"'2015 DISC3C'!AF40-'2015 DISC3B'!AF40","v":0},{"$f":"'2015 DISC3C'!AG40-'2015 DISC3B'!AG40","v":0},{"$f":"'2015 DISC3C'!AH40-'2015 DISC3B'!AH40","v":0},{"$f":"'2015 DISC3C'!AI40-'2015 DISC3B'!AI40","v":0},{"$f":"'2015 DISC3C'!AJ40-'2015 DISC3B'!AJ40","v":0},{"$f":"'2015 DISC3C'!AK40-'2015 DISC3B'!AK40","v":-3},{"$f":"'2015 DISC3C'!AL40-'2015 DISC3B'!AL40","v":-3},{"$f":"'2015 DISC3C'!AM40-'2015 DISC3B'!AM40","v":-3},{"$f":"'2015 DISC3C'!AN40-'2015 DISC3B'!AN40","v":-3}]
["Latin","Males",{"$f":"'2015 DISC3C'!C41-'2015 DISC3B'!C41","v":-1},{"$f":"'2015 DISC3C'!D41-'2015 DISC3B'!D41","v":-2},{"$f":"'2015 DISC3C'!E41-'2015 DISC3B'!E41","v":0},{"$f":"'2015 DISC3C'!F41-'2015 DISC3B'!F41","v":0},{"$f":"'2015 DISC3C'!G41-'2015 DISC3B'!G41","v":0},{"$f":"'2015 DISC3C'!H41-'2015 DISC3B'!H41","v":0},{"$f":"'2015 DISC3C'!I41-'2015 DISC3B'!I41","v":0},{"$f":"'2015 DISC3C'!J41-'2015 DISC3B'!J41","v":0},{"$f":"'2015 DISC3C'!K41-'2015 DISC3B'!K41","v":-3},{"$f":"'2015 DISC3C'!L41-'2015 DISC3B'!L41","v":-3},{"$f":"'2015 DISC3C'!M41-'2015 DISC3B'!M41","v":-3},{"$f":"'2015 DISC3C'!N41-'2015 DISC3B'!N41","v":-3},"Females",{"$f":"'2015 DISC3C'!P41-'2015 DISC3B'!P41","v":-1},{"$f":"'2015 DISC3C'!Q41-'2015 DISC3B'!Q41","v":0},{"$f":"'2015 DISC3C'!R41-'2015 DISC3B'!R41","v":0},{"$f":"'2015 DISC3C'!S41-'2015 DISC3B'!S41","v":0},{"$f":"'2015 DISC3C'!T41-'2015 DISC3B'!T41","v":0},{"$f":"'2015 DISC3C'!U41-'2015 DISC3B'!U41","v":0},{"$f":"'2015 DISC3C'!V41-'2015 DISC3B'!V41","v":0},{"$f":"'2015 DISC3C'!W41-'2015 DISC3B'!W41","v":0},{"$f":"'2015 DISC3C'!X41-'2015 DISC3B'!X41","v":-1},{"$f":"'2015 DISC3C'!Y41-'2015 DISC3B'!Y41","v":-1},{"$f":"'2015 DISC3C'!Z41-'2015 DISC3B'!Z41","v":-1},{"$f":"'2015 DISC3C'!AA41-'2015 DISC3B'!AA41","v":-1},"All",{"$f":"'2015 DISC3C'!AC41-'2015 DISC3B'!AC41","v":-2},{"$f":"'2015 DISC3C'!AD41-'2015 DISC3B'!AD41","v":-2},{"$f":"'2015 DISC3C'!AE41-'2015 DISC3B'!AE41","v":0},{"$f":"'2015 DISC3C'!AF41-'2015 DISC3B'!AF41","v":0},{"$f":"'2015 DISC3C'!AG41-'2015 DISC3B'!AG41","v":0},{"$f":"'2015 DISC3C'!AH41-'2015 DISC3B'!AH41","v":0},{"$f":"'2015 DISC3C'!AI41-'2015 DISC3B'!AI41","v":0},{"$f":"'2015 DISC3C'!AJ41-'2015 DISC3B'!AJ41","v":0},{"$f":"'2015 DISC3C'!AK41-'2015 DISC3B'!AK41","v":-4},{"$f":"'2015 DISC3C'!AL41-'2015 DISC3B'!AL41","v":-4},{"$f":"'2015 DISC3C'!AM41-'2015 DISC3B'!AM41","v":-4},{"$f":"'2015 DISC3C'!AN41-'2015 DISC3B'!AN41","v":-4}]
["Other Classical Studies","Males",{"$f":"'2015 DISC3C'!C42-'2015 DISC3B'!C42","v":-5},{"$f":"'2015 DISC3C'!D42-'2015 DISC3B'!D42","v":-7},{"$f":"'2015 DISC3C'!E42-'2015 DISC3B'!E42","v":-4},{"$f":"'2015 DISC3C'!F42-'2015 DISC3B'!F42","v":0},{"$f":"'2015 DISC3C'!G42-'2015 DISC3B'!G42","v":0},{"$f":"'2015 DISC3C'!H42-'2015 DISC3B'!H42","v":0},{"$f":"'2015 DISC3C'!I42-'2015 DISC3B'!I42","v":0},{"$f":"'2015 DISC3C'!J42-'2015 DISC3B'!J42","v":0},{"$f":"'2015 DISC3C'!K42-'2015 DISC3B'!K42","v":-12},{"$f":"'2015 DISC3C'!L42-'2015 DISC3B'!L42","v":-16},{"$f":"'2015 DISC3C'!M42-'2015 DISC3B'!M42","v":-16},{"$f":"'2015 DISC3C'!N42-'2015 DISC3B'!N42","v":-16},"Females",{"$f":"'2015 DISC3C'!P42-'2015 DISC3B'!P42","v":-5},{"$f":"'2015 DISC3C'!Q42-'2015 DISC3B'!Q42","v":-8},{"$f":"'2015 DISC3C'!R42-'2015 DISC3B'!R42","v":0},{"$f":"'2015 DISC3C'!S42-'2015 DISC3B'!S42","v":0},{"$f":"'2015 DISC3C'!T42-'2015 DISC3B'!T42","v":0},{"$f":"'2015 DISC3C'!U42-'2015 DISC3B'!U42","v":0},{"$f":"'2015 DISC3C'!V42-'2015 DISC3B'!V42","v":0},{"$f":"'2015 DISC3C'!W42-'2015 DISC3B'!W42","v":0},{"$f":"'2015 DISC3C'!X42-'2015 DISC3B'!X42","v":-13},{"$f":"'2015 DISC3C'!Y42-'2015 DISC3B'!Y42","v":-13},{"$f":"'2015 DISC3C'!Z42-'2015 DISC3B'!Z42","v":-13},{"$f":"'2015 DISC3C'!AA42-'2015 DISC3B'!AA42","v":-13},"All",{"$f":"'2015 DISC3C'!AC42-'2015 DISC3B'!AC42","v":-10},{"$f":"'2015 DISC3C'!AD42-'2015 DISC3B'!AD42","v":-15},{"$f":"'2015 DISC3C'!AE42-'2015 DISC3B'!AE42","v":-4},{"$f":"'2015 DISC3C'!AF42-'2015 DISC3B'!AF42","v":0},{"$f":"'2015 DISC3C'!AG42-'2015 DISC3B'!AG42","v":0},{"$f":"'2015 DISC3C'!AH42-'2015 DISC3B'!AH42","v":0},{"$f":"'2015 DISC3C'!AI42-'2015 DISC3B'!AI42","v":0},{"$f":"'2015 DISC3C'!AJ42-'2015 DISC3B'!AJ42","v":0},{"$f":"'2015 DISC3C'!AK42-'2015 DISC3B'!AK42","v":-25},{"$f":"'2015 DISC3C'!AL42-'2015 DISC3B'!AL42","v":-29},{"$f":"'2015 DISC3C'!AM42-'2015 DISC3B'!AM42","v":-29},{"$f":"'2015 DISC3C'!AN42-'2015 DISC3B'!AN42","v":-29}]
["Applied Art and Design","Males",{"$f":"'2015 DISC3C'!C43-'2015 DISC3B'!C43","v":0},{"$f":"'2015 DISC3C'!D43-'2015 DISC3B'!D43","v":0},{"$f":"'2015 DISC3C'!E43-'2015 DISC3B'!E43","v":0},{"$f":"'2015 DISC3C'!F43-'2015 DISC3B'!F43","v":0},{"$f":"'2015 DISC3C'!G43-'2015 DISC3B'!G43","v":0},{"$f":"'2015 DISC3C'!H43-'2015 DISC3B'!H43","v":0},{"$f":"'2015 DISC3C'!I43-'2015 DISC3B'!I43","v":0},{"$f":"'2015 DISC3C'!J43-'2015 DISC3B'!J43","v":0},{"$f":"'2015 DISC3C'!K43-'2015 DISC3B'!K43","v":0},{"$f":"'2015 DISC3C'!L43-'2015 DISC3B'!L43","v":0},{"$f":"'2015 DISC3C'!M43-'2015 DISC3B'!M43","v":0},{"$f":"'2015 DISC3C'!N43-'2015 DISC3B'!N43","v":0},"Females",{"$f":"'2015 DISC3C'!P43-'2015 DISC3B'!P43","v":0},{"$f":"'2015 DISC3C'!Q43-'2015 DISC3B'!Q43","v":0},{"$f":"'2015 DISC3C'!R43-'2015 DISC3B'!R43","v":0},{"$f":"'2015 DISC3C'!S43-'2015 DISC3B'!S43","v":0},{"$f":"'2015 DISC3C'!T43-'2015 DISC3B'!T43","v":0},{"$f":"'2015 DISC3C'!U43-'2015 DISC3B'!U43","v":0},{"$f":"'2015 DISC3C'!V43-'2015 DISC3B'!V43","v":0},{"$f":"'2015 DISC3C'!W43-'2015 DISC3B'!W43","v":0},{"$f":"'2015 DISC3C'!X43-'2015 DISC3B'!X43","v":0},{"$f":"'2015 DISC3C'!Y43-'2015 DISC3B'!Y43","v":0},{"$f":"'2015 DISC3C'!Z43-'2015 DISC3B'!Z43","v":0},{"$f":"'2015 DISC3C'!AA43-'2015 DISC3B'!AA43","v":0},"All",{"$f":"'2015 DISC3C'!AC43-'2015 DISC3B'!AC43","v":0},{"$f":"'2015 DISC3C'!AD43-'2015 DISC3B'!AD43","v":0},{"$f":"'2015 DISC3C'!AE43-'2015 DISC3B'!AE43","v":0},{"$f":"'2015 DISC3C'!AF43-'2015 DISC3B'!AF43","v":0},{"$f":"'2015 DISC3C'!AG43-'2015 DISC3B'!AG43","v":0},{"$f":"'2015 DISC3C'!AH43-'2015 DISC3B'!AH43","v":0},{"$f":"'2015 DISC3C'!AI43-'2015 DISC3B'!AI43","v":0},{"$f":"'2015 DISC3C'!AJ43-'2015 DISC3B'!AJ43","v":0},{"$f":"'2015 DISC3C'!AK43-'2015 DISC3B'!AK43","v":0},{"$f":"'2015 DISC3C'!AL43-'2015 DISC3B'!AL43","v":0},{"$f":"'2015 DISC3C'!AM43-'2015 DISC3B'!AM43","v":0},{"$f":"'2015 DISC3C'!AN43-'2015 DISC3B'!AN43","v":0}]
["Art and Design","Males",{"$f":"'2015 DISC3C'!C44-'2015 DISC3B'!C44","v":-9},{"$f":"'2015 DISC3C'!D44-'2015 DISC3B'!D44","v":-13},{"$f":"'2015 DISC3C'!E44-'2015 DISC3B'!E44","v":-7},{"$f":"'2015 DISC3C'!F44-'2015 DISC3B'!F44","v":-3},{"$f":"'2015 DISC3C'!G44-'2015 DISC3B'!G44","v":-1},{"$f":"'2015 DISC3C'!H44-'2015 DISC3B'!H44","v":0},{"$f":"'2015 DISC3C'!I44-'2015 DISC3B'!I44","v":0},{"$f":"'2015 DISC3C'!J44-'2015 DISC3B'!J44","v":0},{"$f":"'2015 DISC3C'!K44-'2015 DISC3B'!K44","v":-22},{"$f":"'2015 DISC3C'!L44-'2015 DISC3B'!L44","v":-32},{"$f":"'2015 DISC3C'!M44-'2015 DISC3B'!M44","v":-33},{"$f":"'2015 DISC3C'!N44-'2015 DISC3B'!N44","v":-33},"Females",{"$f":"'2015 DISC3C'!P44-'2015 DISC3B'!P44","v":-32},{"$f":"'2015 DISC3C'!Q44-'2015 DISC3B'!Q44","v":-30},{"$f":"'2015 DISC3C'!R44-'2015 DISC3B'!R44","v":-20},{"$f":"'2015 DISC3C'!S44-'2015 DISC3B'!S44","v":-13},{"$f":"'2015 DISC3C'!T44-'2015 DISC3B'!T44","v":0},{"$f":"'2015 DISC3C'!U44-'2015 DISC3B'!U44","v":0},{"$f":"'2015 DISC3C'!V44-'2015 DISC3B'!V44","v":0},{"$f":"'2015 DISC3C'!W44-'2015 DISC3B'!W44","v":0},{"$f":"'2015 DISC3C'!X44-'2015 DISC3B'!X44","v":-62},{"$f":"'2015 DISC3C'!Y44-'2015 DISC3B'!Y44","v":-95},{"$f":"'2015 DISC3C'!Z44-'2015 DISC3B'!Z44","v":-95},{"$f":"'2015 DISC3C'!AA44-'2015 DISC3B'!AA44","v":-95},"All",{"$f":"'2015 DISC3C'!AC44-'2015 DISC3B'!AC44","v":-41},{"$f":"'2015 DISC3C'!AD44-'2015 DISC3B'!AD44","v":-43},{"$f":"'2015 DISC3C'!AE44-'2015 DISC3B'!AE44","v":-27},{"$f":"'2015 DISC3C'!AF44-'2015 DISC3B'!AF44","v":-16},{"$f":"'2015 DISC3C'!AG44-'2015 DISC3B'!AG44","v":-1},{"$f":"'2015 DISC3C'!AH44-'2015 DISC3B'!AH44","v":0},{"$f":"'2015 DISC3C'!AI44-'2015 DISC3B'!AI44","v":0},{"$f":"'2015 DISC3C'!AJ44-'2015 DISC3B'!AJ44","v":0},{"$f":"'2015 DISC3C'!AK44-'2015 DISC3B'!AK44","v":-84},{"$f":"'2015 DISC3C'!AL44-'2015 DISC3B'!AL44","v":-127},{"$f":"'2015 DISC3C'!AM44-'2015 DISC3B'!AM44","v":-128},{"$f":"'2015 DISC3C'!AN44-'2015 DISC3B'!AN44","v":-128}]
["Communication Studies","Males",{"$f":"'2015 DISC3C'!C45-'2015 DISC3B'!C45","v":0},{"$f":"'2015 DISC3C'!D45-'2015 DISC3B'!D45","v":-1},{"$f":"'2015 DISC3C'!E45-'2015 DISC3B'!E45","v":-1},{"$f":"'2015 DISC3C'!F45-'2015 DISC3B'!F45","v":0},{"$f":"'2015 DISC3C'!G45-'2015 DISC3B'!G45","v":0},{"$f":"'2015 DISC3C'!H45-'2015 DISC3B'!H45","v":0},{"$f":"'2015 DISC3C'!I45-'2015 DISC3B'!I45","v":0},{"$f":"'2015 DISC3C'!J45-'2015 DISC3B'!J45","v":0},{"$f":"'2015 DISC3C'!K45-'2015 DISC3B'!K45","v":-1},{"$f":"'2015 DISC3C'!L45-'2015 DISC3B'!L45","v":-2},{"$f":"'2015 DISC3C'!M45-'2015 DISC3B'!M45","v":-2},{"$f":"'2015 DISC3C'!N45-'2015 DISC3B'!N45","v":-2},"Females",{"$f":"'2015 DISC3C'!P45-'2015 DISC3B'!P45","v":0},{"$f":"'2015 DISC3C'!Q45-'2015 DISC3B'!Q45","v":0},{"$f":"'2015 DISC3C'!R45-'2015 DISC3B'!R45","v":-1},{"$f":"'2015 DISC3C'!S45-'2015 DISC3B'!S45","v":0},{"$f":"'2015 DISC3C'!T45-'2015 DISC3B'!T45","v":0},{"$f":"'2015 DISC3C'!U45-'2015 DISC3B'!U45","v":0},{"$f":"'2015 DISC3C'!V45-'2015 DISC3B'!V45","v":0},{"$f":"'2015 DISC3C'!W45-'2015 DISC3B'!W45","v":0},{"$f":"'2015 DISC3C'!X45-'2015 DISC3B'!X45","v":0},{"$f":"'2015 DISC3C'!Y45-'2015 DISC3B'!Y45","v":-1},{"$f":"'2015 DISC3C'!Z45-'2015 DISC3B'!Z45","v":-1},{"$f":"'2015 DISC3C'!AA45-'2015 DISC3B'!AA45","v":-1},"All",{"$f":"'2015 DISC3C'!AC45-'2015 DISC3B'!AC45","v":0},{"$f":"'2015 DISC3C'!AD45-'2015 DISC3B'!AD45","v":-1},{"$f":"'2015 DISC3C'!AE45-'2015 DISC3B'!AE45","v":-2},{"$f":"'2015 DISC3C'!AF45-'2015 DISC3B'!AF45","v":0},{"$f":"'2015 DISC3C'!AG45-'2015 DISC3B'!AG45","v":0},{"$f":"'2015 DISC3C'!AH45-'2015 DISC3B'!AH45","v":0},{"$f":"'2015 DISC3C'!AI45-'2015 DISC3B'!AI45","v":0},{"$f":"'2015 DISC3C'!AJ45-'2015 DISC3B'!AJ45","v":0},{"$f":"'2015 DISC3C'!AK45-'2015 DISC3B'!AK45","v":-1},{"$f":"'2015 DISC3C'!AL45-'2015 DISC3B'!AL45","v":-3},{"$f":"'2015 DISC3C'!AM45-'2015 DISC3B'!AM45","v":-3},{"$f":"'2015 DISC3C'!AN45-'2015 DISC3B'!AN45","v":-3}]
["Drama","Males",{"$f":"'2015 DISC3C'!C46-'2015 DISC3B'!C46","v":-3},{"$f":"'2015 DISC3C'!D46-'2015 DISC3B'!D46","v":-4},{"$f":"'2015 DISC3C'!E46-'2015 DISC3B'!E46","v":-5},{"$f":"'2015 DISC3C'!F46-'2015 DISC3B'!F46","v":-1},{"$f":"'2015 DISC3C'!G46-'2015 DISC3B'!G46","v":0},{"$f":"'2015 DISC3C'!H46-'2015 DISC3B'!H46","v":0},{"$f":"'2015 DISC3C'!I46-'2015 DISC3B'!I46","v":0},{"$f":"'2015 DISC3C'!J46-'2015 DISC3B'!J46","v":0},{"$f":"'2015 DISC3C'!K46-'2015 DISC3B'!K46","v":-7},{"$f":"'2015 DISC3C'!L46-'2015 DISC3B'!L46","v":-13},{"$f":"'2015 DISC3C'!M46-'2015 DISC3B'!M46","v":-13},{"$f":"'2015 DISC3C'!N46-'2015 DISC3B'!N46","v":-13},"Females",{"$f":"'2015 DISC3C'!P46-'2015 DISC3B'!P46","v":-2},{"$f":"'2015 DISC3C'!Q46-'2015 DISC3B'!Q46","v":-8},{"$f":"'2015 DISC3C'!R46-'2015 DISC3B'!R46","v":-12},{"$f":"'2015 DISC3C'!S46-'2015 DISC3B'!S46","v":-5},{"$f":"'2015 DISC3C'!T46-'2015 DISC3B'!T46","v":-5},{"$f":"'2015 DISC3C'!U46-'2015 DISC3B'!U46","v":-1},{"$f":"'2015 DISC3C'!V46-'2015 DISC3B'!V46","v":0},{"$f":"'2015 DISC3C'!W46-'2015 DISC3B'!W46","v":0},{"$f":"'2015 DISC3C'!X46-'2015 DISC3B'!X46","v":-10},{"$f":"'2015 DISC3C'!Y46-'2015 DISC3B'!Y46","v":-27},{"$f":"'2015 DISC3C'!Z46-'2015 DISC3B'!Z46","v":-33},{"$f":"'2015 DISC3C'!AA46-'2015 DISC3B'!AA46","v":-33},"All",{"$f":"'2015 DISC3C'!AC46-'2015 DISC3B'!AC46","v":-5},{"$f":"'2015 DISC3C'!AD46-'2015 DISC3B'!AD46","v":-12},{"$f":"'2015 DISC3C'!AE46-'2015 DISC3B'!AE46","v":-17},{"$f":"'2015 DISC3C'!AF46-'2015 DISC3B'!AF46","v":-6},{"$f":"'2015 DISC3C'!AG46-'2015 DISC3B'!AG46","v":-5},{"$f":"'2015 DISC3C'!AH46-'2015 DISC3B'!AH46","v":-1},{"$f":"'2015 DISC3C'!AI46-'2015 DISC3B'!AI46","v":0},{"$f":"'2015 DISC3C'!AJ46-'2015 DISC3B'!AJ46","v":0},{"$f":"'2015 DISC3C'!AK46-'2015 DISC3B'!AK46","v":-17},{"$f":"'2015 DISC3C'!AL46-'2015 DISC3B'!AL46","v":-40},{"$f":"'2015 DISC3C'!AM46-'2015 DISC3B'!AM46","v":-46},{"$f":"'2015 DISC3C'!AN46-'2015 DISC3B'!AN46","v":-46}]
["English Literature","Males",{"$f":"'2015 DISC3C'!C47-'2015 DISC3B'!C47","v":-3},{"$f":"'2015 DISC3C'!D47-'2015 DISC3B'!D47","v":-16},{"$f":"'2015 DISC3C'!E47-'2015 DISC3B'!E47","v":-13},{"$f":"'2015 DISC3C'!F47-'2015 DISC3B'!F47","v":-3},{"$f":"'2015 DISC3C'!G47-'2015 DISC3B'!G47","v":0},{"$f":"'2015 DISC3C'!H47-'2015 DISC3B'!H47","v":0},{"$f":"'2015 DISC3C'!I47-'2015 DISC3B'!I47","v":0},{"$f":"'2015 DISC3C'!J47-'2015 DISC3B'!J47","v":0},{"$f":"'2015 DISC3C'!K47-'2015 DISC3B'!K47","v":-19},{"$f":"'2015 DISC3C'!L47-'2015 DISC3B'!L47","v":-35},{"$f":"'2015 DISC3C'!M47-'2015 DISC3B'!M47","v":-35},{"$f":"'2015 DISC3C'!N47-'2015 DISC3B'!N47","v":-35},"Females",{"$f":"'2015 DISC3C'!P47-'2015 DISC3B'!P47","v":-33},{"$f":"'2015 DISC3C'!Q47-'2015 DISC3B'!Q47","v":-49},{"$f":"'2015 DISC3C'!R47-'2015 DISC3B'!R47","v":-30},{"$f":"'2015 DISC3C'!S47-'2015 DISC3B'!S47","v":-1},{"$f":"'2015 DISC3C'!T47-'2015 DISC3B'!T47","v":0},{"$f":"'2015 DISC3C'!U47-'2015 DISC3B'!U47","v":0},{"$f":"'2015 DISC3C'!V47-'2015 DISC3B'!V47","v":0},{"$f":"'2015 DISC3C'!W47-'2015 DISC3B'!W47","v":0},{"$f":"'2015 DISC3C'!X47-'2015 DISC3B'!X47","v":-82},{"$f":"'2015 DISC3C'!Y47-'2015 DISC3B'!Y47","v":-113},{"$f":"'2015 DISC3C'!Z47-'2015 DISC3B'!Z47","v":-113},{"$f":"'2015 DISC3C'!AA47-'2015 DISC3B'!AA47","v":-113},"All",{"$f":"'2015 DISC3C'!AC47-'2015 DISC3B'!AC47","v":-36},{"$f":"'2015 DISC3C'!AD47-'2015 DISC3B'!AD47","v":-65},{"$f":"'2015 DISC3C'!AE47-'2015 DISC3B'!AE47","v":-43},{"$f":"'2015 DISC3C'!AF47-'2015 DISC3B'!AF47","v":-4},{"$f":"'2015 DISC3C'!AG47-'2015 DISC3B'!AG47","v":0},{"$f":"'2015 DISC3C'!AH47-'2015 DISC3B'!AH47","v":0},{"$f":"'2015 DISC3C'!AI47-'2015 DISC3B'!AI47","v":0},{"$f":"'2015 DISC3C'!AJ47-'2015 DISC3B'!AJ47","v":0},{"$f":"'2015 DISC3C'!AK47-'2015 DISC3B'!AK47","v":-101},{"$f":"'2015 DISC3C'!AL47-'2015 DISC3B'!AL47","v":-148},{"$f":"'2015 DISC3C'!AM47-'2015 DISC3B'!AM47","v":-148},{"$f":"'2015 DISC3C'!AN47-'2015 DISC3B'!AN47","v":-148}]
["English Studies","Males",{"$f":"'2015 DISC3C'!C48-'2015 DISC3B'!C48","v":0},{"$f":"'2015 DISC3C'!D48-'2015 DISC3B'!D48","v":0},{"$f":"'2015 DISC3C'!E48-'2015 DISC3B'!E48","v":0},{"$f":"'2015 DISC3C'!F48-'2015 DISC3B'!F48","v":0},{"$f":"'2015 DISC3C'!G48-'2015 DISC3B'!G48","v":0},{"$f":"'2015 DISC3C'!H48-'2015 DISC3B'!H48","v":0},{"$f":"'2015 DISC3C'!I48-'2015 DISC3B'!I48","v":0},{"$f":"'2015 DISC3C'!J48-'2015 DISC3B'!J48","v":0},{"$f":"'2015 DISC3C'!K48-'2015 DISC3B'!K48","v":0},{"$f":"'2015 DISC3C'!L48-'2015 DISC3B'!L48","v":0},{"$f":"'2015 DISC3C'!M48-'2015 DISC3B'!M48","v":0},{"$f":"'2015 DISC3C'!N48-'2015 DISC3B'!N48","v":0},"Females",{"$f":"'2015 DISC3C'!P48-'2015 DISC3B'!P48","v":0},{"$f":"'2015 DISC3C'!Q48-'2015 DISC3B'!Q48","v":0},{"$f":"'2015 DISC3C'!R48-'2015 DISC3B'!R48","v":0},{"$f":"'2015 DISC3C'!S48-'2015 DISC3B'!S48","v":0},{"$f":"'2015 DISC3C'!T48-'2015 DISC3B'!T48","v":0},{"$f":"'2015 DISC3C'!U48-'2015 DISC3B'!U48","v":0},{"$f":"'2015 DISC3C'!V48-'2015 DISC3B'!V48","v":0},{"$f":"'2015 DISC3C'!W48-'2015 DISC3B'!W48","v":0},{"$f":"'2015 DISC3C'!X48-'2015 DISC3B'!X48","v":0},{"$f":"'2015 DISC3C'!Y48-'2015 DISC3B'!Y48","v":0},{"$f":"'2015 DISC3C'!Z48-'2015 DISC3B'!Z48","v":0},{"$f":"'2015 DISC3C'!AA48-'2015 DISC3B'!AA48","v":0},"All",{"$f":"'2015 DISC3C'!AC48-'2015 DISC3B'!AC48","v":0},{"$f":"'2015 DISC3C'!AD48-'2015 DISC3B'!AD48","v":0},{"$f":"'2015 DISC3C'!AE48-'2015 DISC3B'!AE48","v":0},{"$f":"'2015 DISC3C'!AF48-'2015 DISC3B'!AF48","v":0},{"$f":"'2015 DISC3C'!AG48-'2015 DISC3B'!AG48","v":0},{"$f":"'2015 DISC3C'!AH48-'2015 DISC3B'!AH48","v":0},{"$f":"'2015 DISC3C'!AI48-'2015 DISC3B'!AI48","v":0},{"$f":"'2015 DISC3C'!AJ48-'2015 DISC3B'!AJ48","v":0},{"$f":"'2015 DISC3C'!AK48-'2015 DISC3B'!AK48","v":0},{"$f":"'2015 DISC3C'!AL48-'2015 DISC3B'!AL48","v":0},{"$f":"'2015 DISC3C'!AM48-'2015 DISC3B'!AM48","v":0},{"$f":"'2015 DISC3C'!AN48-'2015 DISC3B'!AN48","v":0}]
["General Studies","Males",{"$f":"'2015 DISC3C'!C49-'2015 DISC3B'!C49","v":0},{"$f":"'2015 DISC3C'!D49-'2015 DISC3B'!D49","v":0},{"$f":"'2015 DISC3C'!E49-'2015 DISC3B'!E49","v":0},{"$f":"'2015 DISC3C'!F49-'2015 DISC3B'!F49","v":0},{"$f":"'2015 DISC3C'!G49-'2015 DISC3B'!G49","v":0},{"$f":"'2015 DISC3C'!H49-'2015 DISC3B'!H49","v":0},{"$f":"'2015 DISC3C'!I49-'2015 DISC3B'!I49","v":0},{"$f":"'2015 DISC3C'!J49-'2015 DISC3B'!J49","v":0},{"$f":"'2015 DISC3C'!K49-'2015 DISC3B'!K49","v":0},{"$f":"'2015 DISC3C'!L49-'2015 DISC3B'!L49","v":0},{"$f":"'2015 DISC3C'!M49-'2015 DISC3B'!M49","v":0},{"$f":"'2015 DISC3C'!N49-'2015 DISC3B'!N49","v":0},"Females",{"$f":"'2015 DISC3C'!P49-'2015 DISC3B'!P49","v":0},{"$f":"'2015 DISC3C'!Q49-'2015 DISC3B'!Q49","v":0},{"$f":"'2015 DISC3C'!R49-'2015 DISC3B'!R49","v":0},{"$f":"'2015 DISC3C'!S49-'2015 DISC3B'!S49","v":0},{"$f":"'2015 DISC3C'!T49-'2015 DISC3B'!T49","v":0},{"$f":"'2015 DISC3C'!U49-'2015 DISC3B'!U49","v":0},{"$f":"'2015 DISC3C'!V49-'2015 DISC3B'!V49","v":0},{"$f":"'2015 DISC3C'!W49-'2015 DISC3B'!W49","v":0},{"$f":"'2015 DISC3C'!X49-'2015 DISC3B'!X49","v":0},{"$f":"'2015 DISC3C'!Y49-'2015 DISC3B'!Y49","v":0},{"$f":"'2015 DISC3C'!Z49-'2015 DISC3B'!Z49","v":0},{"$f":"'2015 DISC3C'!AA49-'2015 DISC3B'!AA49","v":0},"All",{"$f":"'2015 DISC3C'!AC49-'2015 DISC3B'!AC49","v":0},{"$f":"'2015 DISC3C'!AD49-'2015 DISC3B'!AD49","v":0},{"$f":"'2015 DISC3C'!AE49-'2015 DISC3B'!AE49","v":0},{"$f":"'2015 DISC3C'!AF49-'2015 DISC3B'!AF49","v":0},{"$f":"'2015 DISC3C'!AG49-'2015 DISC3B'!AG49","v":0},{"$f":"'2015 DISC3C'!AH49-'2015 DISC3B'!AH49","v":0},{"$f":"'2015 DISC3C'!AI49-'2015 DISC3B'!AI49","v":0},{"$f":"'2015 DISC3C'!AJ49-'2015 DISC3B'!AJ49","v":0},{"$f":"'2015 DISC3C'!AK49-'2015 DISC3B'!AK49","v":0},{"$f":"'2015 DISC3C'!AL49-'2015 DISC3B'!AL49","v":0},{"$f":"'2015 DISC3C'!AM49-'2015 DISC3B'!AM49","v":0},{"$f":"'2015 DISC3C'!AN49-'2015 DISC3B'!AN49","v":0}]
["Health and Social Care","Males",{"$f":"'2015 DISC3C'!C50-'2015 DISC3B'!C50","v":0},{"$f":"'2015 DISC3C'!D50-'2015 DISC3B'!D50","v":0},{"$f":"'2015 DISC3C'!E50-'2015 DISC3B'!E50","v":0},{"$f":"'2015 DISC3C'!F50-'2015 DISC3B'!F50","v":0},{"$f":"'2015 DISC3C'!G50-'2015 DISC3B'!G50","v":0},{"$f":"'2015 DISC3C'!H50-'2015 DISC3B'!H50","v":0},{"$f":"'2015 DISC3C'!I50-'2015 DISC3B'!I50","v":0},{"$f":"'2015 DISC3C'!J50-'2015 DISC3B'!J50","v":0},{"$f":"'2015 DISC3C'!K50-'2015 DISC3B'!K50","v":0},{"$f":"'2015 DISC3C'!L50-'2015 DISC3B'!L50","v":0},{"$f":"'2015 DISC3C'!M50-'2015 DISC3B'!M50","v":0},{"$f":"'2015 DISC3C'!N50-'2015 DISC3B'!N50","v":0},"Females",{"$f":"'2015 DISC3C'!P50-'2015 DISC3B'!P50","v":0},{"$f":"'2015 DISC3C'!Q50-'2015 DISC3B'!Q50","v":0},{"$f":"'2015 DISC3C'!R50-'2015 DISC3B'!R50","v":0},{"$f":"'2015 DISC3C'!S50-'2015 DISC3B'!S50","v":0},{"$f":"'2015 DISC3C'!T50-'2015 DISC3B'!T50","v":0},{"$f":"'2015 DISC3C'!U50-'2015 DISC3B'!U50","v":0},{"$f":"'2015 DISC3C'!V50-'2015 DISC3B'!V50","v":0},{"$f":"'2015 DISC3C'!W50-'2015 DISC3B'!W50","v":0},{"$f":"'2015 DISC3C'!X50-'2015 DISC3B'!X50","v":0},{"$f":"'2015 DISC3C'!Y50-'2015 DISC3B'!Y50","v":0},{"$f":"'2015 DISC3C'!Z50-'2015 DISC3B'!Z50","v":0},{"$f":"'2015 DISC3C'!AA50-'2015 DISC3B'!AA50","v":0},"All",{"$f":"'2015 DISC3C'!AC50-'2015 DISC3B'!AC50","v":0},{"$f":"'2015 DISC3C'!AD50-'2015 DISC3B'!AD50","v":0},{"$f":"'2015 DISC3C'!AE50-'2015 DISC3B'!AE50","v":0},{"$f":"'2015 DISC3C'!AF50-'2015 DISC3B'!AF50","v":0},{"$f":"'2015 DISC3C'!AG50-'2015 DISC3B'!AG50","v":0},{"$f":"'2015 DISC3C'!AH50-'2015 DISC3B'!AH50","v":0},{"$f":"'2015 DISC3C'!AI50-'2015 DISC3B'!AI50","v":0},{"$f":"'2015 DISC3C'!AJ50-'2015 DISC3B'!AJ50","v":0},{"$f":"'2015 DISC3C'!AK50-'2015 DISC3B'!AK50","v":0},{"$f":"'2015 DISC3C'!AL50-'2015 DISC3B'!AL50","v":0},{"$f":"'2015 DISC3C'!AM50-'2015 DISC3B'!AM50","v":0},{"$f":"'2015 DISC3C'!AN50-'2015 DISC3B'!AN50","v":0}]
["Hospitality and Catering","Males",{"$f":"'2015 DISC3C'!C51-'2015 DISC3B'!C51","v":0},{"$f":"'2015 DISC3C'!D51-'2015 DISC3B'!D51","v":0},{"$f":"'2015 DISC3C'!E51-'2015 DISC3B'!E51","v":0},{"$f":"'2015 DISC3C'!F51-'2015 DISC3B'!F51","v":0},{"$f":"'2015 DISC3C'!G51-'2015 DISC3B'!G51","v":0},{"$f":"'2015 DISC3C'!H51-'2015 DISC3B'!H51","v":0},{"$f":"'2015 DISC3C'!I51-'2015 DISC3B'!I51","v":0},{"$f":"'2015 DISC3C'!J51-'2015 DISC3B'!J51","v":0},{"$f":"'2015 DISC3C'!K51-'2015 DISC3B'!K51","v":0},{"$f":"'2015 DISC3C'!L51-'2015 DISC3B'!L51","v":0},{"$f":"'2015 DISC3C'!M51-'2015 DISC3B'!M51","v":0},{"$f":"'2015 DISC3C'!N51-'2015 DISC3B'!N51","v":0},"Females",{"$f":"'2015 DISC3C'!P51-'2015 DISC3B'!P51","v":0},{"$f":"'2015 DISC3C'!Q51-'2015 DISC3B'!Q51","v":0},{"$f":"'2015 DISC3C'!R51-'2015 DISC3B'!R51","v":0},{"$f":"'2015 DISC3C'!S51-'2015 DISC3B'!S51","v":0},{"$f":"'2015 DISC3C'!T51-'2015 DISC3B'!T51","v":0},{"$f":"'2015 DISC3C'!U51-'2015 DISC3B'!U51","v":0},{"$f":"'2015 DISC3C'!V51-'2015 DISC3B'!V51","v":0},{"$f":"'2015 DISC3C'!W51-'2015 DISC3B'!W51","v":0},{"$f":"'2015 DISC3C'!X51-'2015 DISC3B'!X51","v":0},{"$f":"'2015 DISC3C'!Y51-'2015 DISC3B'!Y51","v":0},{"$f":"'2015 DISC3C'!Z51-'2015 DISC3B'!Z51","v":0},{"$f":"'2015 DISC3C'!AA51-'2015 DISC3B'!AA51","v":0},"All",{"$f":"'2015 DISC3C'!AC51-'2015 DISC3B'!AC51","v":0},{"$f":"'2015 DISC3C'!AD51-'2015 DISC3B'!AD51","v":0},{"$f":"'2015 DISC3C'!AE51-'2015 DISC3B'!AE51","v":0},{"$f":"'2015 DISC3C'!AF51-'2015 DISC3B'!AF51","v":0},{"$f":"'2015 DISC3C'!AG51-'2015 DISC3B'!AG51","v":0},{"$f":"'2015 DISC3C'!AH51-'2015 DISC3B'!AH51","v":0},{"$f":"'2015 DISC3C'!AI51-'2015 DISC3B'!AI51","v":0},{"$f":"'2015 DISC3C'!AJ51-'2015 DISC3B'!AJ51","v":0},{"$f":"'2015 DISC3C'!AK51-'2015 DISC3B'!AK51","v":0},{"$f":"'2015 DISC3C'!AL51-'2015 DISC3B'!AL51","v":0},{"$f":"'2015 DISC3C'!AM51-'2015 DISC3B'!AM51","v":0},{"$f":"'2015 DISC3C'!AN51-'2015 DISC3B'!AN51","v":0}]
["Leisure and Tourism","Males",{"$f":"'2015 DISC3C'!C52-'2015 DISC3B'!C52","v":0},{"$f":"'2015 DISC3C'!D52-'2015 DISC3B'!D52","v":0},{"$f":"'2015 DISC3C'!E52-'2015 DISC3B'!E52","v":0},{"$f":"'2015 DISC3C'!F52-'2015 DISC3B'!F52","v":0},{"$f":"'2015 DISC3C'!G52-'2015 DISC3B'!G52","v":0},{"$f":"'2015 DISC3C'!H52-'2015 DISC3B'!H52","v":0},{"$f":"'2015 DISC3C'!I52-'2015 DISC3B'!I52","v":0},{"$f":"'2015 DISC3C'!J52-'2015 DISC3B'!J52","v":0},{"$f":"'2015 DISC3C'!K52-'2015 DISC3B'!K52","v":0},{"$f":"'2015 DISC3C'!L52-'2015 DISC3B'!L52","v":0},{"$f":"'2015 DISC3C'!M52-'2015 DISC3B'!M52","v":0},{"$f":"'2015 DISC3C'!N52-'2015 DISC3B'!N52","v":0},"Females",{"$f":"'2015 DISC3C'!P52-'2015 DISC3B'!P52","v":0},{"$f":"'2015 DISC3C'!Q52-'2015 DISC3B'!Q52","v":0},{"$f":"'2015 DISC3C'!R52-'2015 DISC3B'!R52","v":0},{"$f":"'2015 DISC3C'!S52-'2015 DISC3B'!S52","v":0},{"$f":"'2015 DISC3C'!T52-'2015 DISC3B'!T52","v":0},{"$f":"'2015 DISC3C'!U52-'2015 DISC3B'!U52","v":0},{"$f":"'2015 DISC3C'!V52-'2015 DISC3B'!V52","v":0},{"$f":"'2015 DISC3C'!W52-'2015 DISC3B'!W52","v":0},{"$f":"'2015 DISC3C'!X52-'2015 DISC3B'!X52","v":0},{"$f":"'2015 DISC3C'!Y52-'2015 DISC3B'!Y52","v":0},{"$f":"'2015 DISC3C'!Z52-'2015 DISC3B'!Z52","v":0},{"$f":"'2015 DISC3C'!AA52-'2015 DISC3B'!AA52","v":0},"All",{"$f":"'2015 DISC3C'!AC52-'2015 DISC3B'!AC52","v":0},{"$f":"'2015 DISC3C'!AD52-'2015 DISC3B'!AD52","v":0},{"$f":"'2015 DISC3C'!AE52-'2015 DISC3B'!AE52","v":0},{"$f":"'2015 DISC3C'!AF52-'2015 DISC3B'!AF52","v":0},{"$f":"'2015 DISC3C'!AG52-'2015 DISC3B'!AG52","v":0},{"$f":"'2015 DISC3C'!AH52-'2015 DISC3B'!AH52","v":0},{"$f":"'2015 DISC3C'!AI52-'2015 DISC3B'!AI52","v":0},{"$f":"'2015 DISC3C'!AJ52-'2015 DISC3B'!AJ52","v":0},{"$f":"'2015 DISC3C'!AK52-'2015 DISC3B'!AK52","v":0},{"$f":"'2015 DISC3C'!AL52-'2015 DISC3B'!AL52","v":0},{"$f":"'2015 DISC3C'!AM52-'2015 DISC3B'!AM52","v":0},{"$f":"'2015 DISC3C'!AN52-'2015 DISC3B'!AN52","v":0}]
["Manufacturing","Males",{"$f":"'2015 DISC3C'!C53-'2015 DISC3B'!C53","v":0},{"$f":"'2015 DISC3C'!D53-'2015 DISC3B'!D53","v":0},{"$f":"'2015 DISC3C'!E53-'2015 DISC3B'!E53","v":0},{"$f":"'2015 DISC3C'!F53-'2015 DISC3B'!F53","v":0},{"$f":"'2015 DISC3C'!G53-'2015 DISC3B'!G53","v":0},{"$f":"'2015 DISC3C'!H53-'2015 DISC3B'!H53","v":0},{"$f":"'2015 DISC3C'!I53-'2015 DISC3B'!I53","v":0},{"$f":"'2015 DISC3C'!J53-'2015 DISC3B'!J53","v":0},{"$f":"'2015 DISC3C'!K53-'2015 DISC3B'!K53","v":0},{"$f":"'2015 DISC3C'!L53-'2015 DISC3B'!L53","v":0},{"$f":"'2015 DISC3C'!M53-'2015 DISC3B'!M53","v":0},{"$f":"'2015 DISC3C'!N53-'2015 DISC3B'!N53","v":0},"Females",{"$f":"'2015 DISC3C'!P53-'2015 DISC3B'!P53","v":0},{"$f":"'2015 DISC3C'!Q53-'2015 DISC3B'!Q53","v":0},{"$f":"'2015 DISC3C'!R53-'2015 DISC3B'!R53","v":0},{"$f":"'2015 DISC3C'!S53-'2015 DISC3B'!S53","v":0},{"$f":"'2015 DISC3C'!T53-'2015 DISC3B'!T53","v":0},{"$f":"'2015 DISC3C'!U53-'2015 DISC3B'!U53","v":0},{"$f":"'2015 DISC3C'!V53-'2015 DISC3B'!V53","v":0},{"$f":"'2015 DISC3C'!W53-'2015 DISC3B'!W53","v":0},{"$f":"'2015 DISC3C'!X53-'2015 DISC3B'!X53","v":0},{"$f":"'2015 DISC3C'!Y53-'2015 DISC3B'!Y53","v":0},{"$f":"'2015 DISC3C'!Z53-'2015 DISC3B'!Z53","v":0},{"$f":"'2015 DISC3C'!AA53-'2015 DISC3B'!AA53","v":0},"All",{"$f":"'2015 DISC3C'!AC53-'2015 DISC3B'!AC53","v":0},{"$f":"'2015 DISC3C'!AD53-'2015 DISC3B'!AD53","v":0},{"$f":"'2015 DISC3C'!AE53-'2015 DISC3B'!AE53","v":0},{"$f":"'2015 DISC3C'!AF53-'2015 DISC3B'!AF53","v":0},{"$f":"'2015 DISC3C'!AG53-'2015 DISC3B'!AG53","v":0},{"$f":"'2015 DISC3C'!AH53-'2015 DISC3B'!AH53","v":0},{"$f":"'2015 DISC3C'!AI53-'2015 DISC3B'!AI53","v":0},{"$f":"'2015 DISC3C'!AJ53-'2015 DISC3B'!AJ53","v":0},{"$f":"'2015 DISC3C'!AK53-'2015 DISC3B'!AK53","v":0},{"$f":"'2015 DISC3C'!AL53-'2015 DISC3B'!AL53","v":0},{"$f":"'2015 DISC3C'!AM53-'2015 DISC3B'!AM53","v":0},{"$f":"'2015 DISC3C'!AN53-'2015 DISC3B'!AN53","v":0}]
["Media/Film/TV","Males",{"$f":"'2015 DISC3C'!C54-'2015 DISC3B'!C54","v":0},{"$f":"'2015 DISC3C'!D54-'2015 DISC3B'!D54","v":-7},{"$f":"'2015 DISC3C'!E54-'2015 DISC3B'!E54","v":-4},{"$f":"'2015 DISC3C'!F54-'2015 DISC3B'!F54","v":-2},{"$f":"'2015 DISC3C'!G54-'2015 DISC3B'!G54","v":0},{"$f":"'2015 DISC3C'!H54-'2015 DISC3B'!H54","v":0},{"$f":"'2015 DISC3C'!I54-'2015 DISC3B'!I54","v":0},{"$f":"'2015 DISC3C'!J54-'2015 DISC3B'!J54","v":0},{"$f":"'2015 DISC3C'!K54-'2015 DISC3B'!K54","v":-7},{"$f":"'2015 DISC3C'!L54-'2015 DISC3B'!L54","v":-13},{"$f":"'2015 DISC3C'!M54-'2015 DISC3B'!M54","v":-13},{"$f":"'2015 DISC3C'!N54-'2015 DISC3B'!N54","v":-13},"Females",{"$f":"'2015 DISC3C'!P54-'2015 DISC3B'!P54","v":-2},{"$f":"'2015 DISC3C'!Q54-'2015 DISC3B'!Q54","v":-3},{"$f":"'2015 DISC3C'!R54-'2015 DISC3B'!R54","v":-4},{"$f":"'2015 DISC3C'!S54-'2015 DISC3B'!S54","v":-1},{"$f":"'2015 DISC3C'!T54-'2015 DISC3B'!T54","v":-1},{"$f":"'2015 DISC3C'!U54-'2015 DISC3B'!U54","v":0},{"$f":"'2015 DISC3C'!V54-'2015 DISC3B'!V54","v":0},{"$f":"'2015 DISC3C'!W54-'2015 DISC3B'!W54","v":0},{"$f":"'2015 DISC3C'!X54-'2015 DISC3B'!X54","v":-5},{"$f":"'2015 DISC3C'!Y54-'2015 DISC3B'!Y54","v":-10},{"$f":"'2015 DISC3C'!Z54-'2015 DISC3B'!Z54","v":-11},{"$f":"'2015 DISC3C'!AA54-'2015 DISC3B'!AA54","v":-11},"All",{"$f":"'2015 DISC3C'!AC54-'2015 DISC3B'!AC54","v":-2},{"$f":"'2015 DISC3C'!AD54-'2015 DISC3B'!AD54","v":-10},{"$f":"'2015 DISC3C'!AE54-'2015 DISC3B'!AE54","v":-8},{"$f":"'2015 DISC3C'!AF54-'2015 DISC3B'!AF54","v":-3},{"$f":"'2015 DISC3C'!AG54-'2015 DISC3B'!AG54","v":-1},{"$f":"'2015 DISC3C'!AH54-'2015 DISC3B'!AH54","v":0},{"$f":"'2015 DISC3C'!AI54-'2015 DISC3B'!AI54","v":0},{"$f":"'2015 DISC3C'!AJ54-'2015 DISC3B'!AJ54","v":0},{"$f":"'2015 DISC3C'!AK54-'2015 DISC3B'!AK54","v":-12},{"$f":"'2015 DISC3C'!AL54-'2015 DISC3B'!AL54","v":-23},{"$f":"'2015 DISC3C'!AM54-'2015 DISC3B'!AM54","v":-24},{"$f":"'2015 DISC3C'!AN54-'2015 DISC3B'!AN54","v":-24}]
["Music","Males",{"$f":"'2015 DISC3C'!C55-'2015 DISC3B'!C55","v":-11},{"$f":"'2015 DISC3C'!D55-'2015 DISC3B'!D55","v":-13},{"$f":"'2015 DISC3C'!E55-'2015 DISC3B'!E55","v":0},{"$f":"'2015 DISC3C'!F55-'2015 DISC3B'!F55","v":0},{"$f":"'2015 DISC3C'!G55-'2015 DISC3B'!G55","v":0},{"$f":"'2015 DISC3C'!H55-'2015 DISC3B'!H55","v":0},{"$f":"'2015 DISC3C'!I55-'2015 DISC3B'!I55","v":0},{"$f":"'2015 DISC3C'!J55-'2015 DISC3B'!J55","v":0},{"$f":"'2015 DISC3C'!K55-'2015 DISC3B'!K55","v":-24},{"$f":"'2015 DISC3C'!L55-'2015 DISC3B'!L55","v":-24},{"$f":"'2015 DISC3C'!M55-'2015 DISC3B'!M55","v":-24},{"$f":"'2015 DISC3C'!N55-'2015 DISC3B'!N55","v":-24},"Females",{"$f":"'2015 DISC3C'!P55-'2015 DISC3B'!P55","v":-8},{"$f":"'2015 DISC3C'!Q55-'2015 DISC3B'!Q55","v":-5},{"$f":"'2015 DISC3C'!R55-'2015 DISC3B'!R55","v":-1},{"$f":"'2015 DISC3C'!S55-'2015 DISC3B'!S55","v":0},{"$f":"'2015 DISC3C'!T55-'2015 DISC3B'!T55","v":0},{"$f":"'2015 DISC3C'!U55-'2015 DISC3B'!U55","v":0},{"$f":"'2015 DISC3C'!V55-'2015 DISC3B'!V55","v":0},{"$f":"'2015 DISC3C'!W55-'2015 DISC3B'!W55","v":0},{"$f":"'2015 DISC3C'!X55-'2015 DISC3B'!X55","v":-13},{"$f":"'2015 DISC3C'!Y55-'2015 DISC3B'!Y55","v":-14},{"$f":"'2015 DISC3C'!Z55-'2015 DISC3B'!Z55","v":-14},{"$f":"'2015 DISC3C'!AA55-'2015 DISC3B'!AA55","v":-14},"All",{"$f":"'2015 DISC3C'!AC55-'2015 DISC3B'!AC55","v":-19},{"$f":"'2015 DISC3C'!AD55-'2015 DISC3B'!AD55","v":-18},{"$f":"'2015 DISC3C'!AE55-'2015 DISC3B'!AE55","v":-1},{"$f":"'2015 DISC3C'!AF55-'2015 DISC3B'!AF55","v":0},{"$f":"'2015 DISC3C'!AG55-'2015 DISC3B'!AG55","v":0},{"$f":"'2015 DISC3C'!AH55-'2015 DISC3B'!AH55","v":0},{"$f":"'2015 DISC3C'!AI55-'2015 DISC3B'!AI55","v":0},{"$f":"'2015 DISC3C'!AJ55-'2015 DISC3B'!AJ55","v":0},{"$f":"'2015 DISC3C'!AK55-'2015 DISC3B'!AK55","v":-37},{"$f":"'2015 DISC3C'!AL55-'2015 DISC3B'!AL55","v":-38},{"$f":"'2015 DISC3C'!AM55-'2015 DISC3B'!AM55","v":-38},{"$f":"'2015 DISC3C'!AN55-'2015 DISC3B'!AN55","v":-38}]
["Performing Arts","Males",{"$f":"'2015 DISC3C'!C56-'2015 DISC3B'!C56","v":0},{"$f":"'2015 DISC3C'!D56-'2015 DISC3B'!D56","v":0},{"$f":"'2015 DISC3C'!E56-'2015 DISC3B'!E56","v":0},{"$f":"'2015 DISC3C'!F56-'2015 DISC3B'!F56","v":0},{"$f":"'2015 DISC3C'!G56-'2015 DISC3B'!G56","v":0},{"$f":"'2015 DISC3C'!H56-'2015 DISC3B'!H56","v":0},{"$f":"'2015 DISC3C'!I56-'2015 DISC3B'!I56","v":0},{"$f":"'2015 DISC3C'!J56-'2015 DISC3B'!J56","v":0},{"$f":"'2015 DISC3C'!K56-'2015 DISC3B'!K56","v":0},{"$f":"'2015 DISC3C'!L56-'2015 DISC3B'!L56","v":0},{"$f":"'2015 DISC3C'!M56-'2015 DISC3B'!M56","v":0},{"$f":"'2015 DISC3C'!N56-'2015 DISC3B'!N56","v":0},"Females",{"$f":"'2015 DISC3C'!P56-'2015 DISC3B'!P56","v":-1},{"$f":"'2015 DISC3C'!Q56-'2015 DISC3B'!Q56","v":0},{"$f":"'2015 DISC3C'!R56-'2015 DISC3B'!R56","v":0},{"$f":"'2015 DISC3C'!S56-'2015 DISC3B'!S56","v":0},{"$f":"'2015 DISC3C'!T56-'2015 DISC3B'!T56","v":0},{"$f":"'2015 DISC3C'!U56-'2015 DISC3B'!U56","v":0},{"$f":"'2015 DISC3C'!V56-'2015 DISC3B'!V56","v":0},{"$f":"'2015 DISC3C'!W56-'2015 DISC3B'!W56","v":0},{"$f":"'2015 DISC3C'!X56-'2015 DISC3B'!X56","v":-1},{"$f":"'2015 DISC3C'!Y56-'2015 DISC3B'!Y56","v":-1},{"$f":"'2015 DISC3C'!Z56-'2015 DISC3B'!Z56","v":-1},{"$f":"'2015 DISC3C'!AA56-'2015 DISC3B'!AA56","v":-1},"All",{"$f":"'2015 DISC3C'!AC56-'2015 DISC3B'!AC56","v":-1},{"$f":"'2015 DISC3C'!AD56-'2015 DISC3B'!AD56","v":0},{"$f":"'2015 DISC3C'!AE56-'2015 DISC3B'!AE56","v":0},{"$f":"'2015 DISC3C'!AF56-'2015 DISC3B'!AF56","v":0},{"$f":"'2015 DISC3C'!AG56-'2015 DISC3B'!AG56","v":0},{"$f":"'2015 DISC3C'!AH56-'2015 DISC3B'!AH56","v":0},{"$f":"'2015 DISC3C'!AI56-'2015 DISC3B'!AI56","v":0},{"$f":"'2015 DISC3C'!AJ56-'2015 DISC3B'!AJ56","v":0},{"$f":"'2015 DISC3C'!AK56-'2015 DISC3B'!AK56","v":-1},{"$f":"'2015 DISC3C'!AL56-'2015 DISC3B'!AL56","v":-1},{"$f":"'2015 DISC3C'!AM56-'2015 DISC3B'!AM56","v":-1},{"$f":"'2015 DISC3C'!AN56-'2015 DISC3B'!AN56","v":-1}]
["Physical Education","Males",{"$f":"'2015 DISC3C'!C57-'2015 DISC3B'!C57","v":0},{"$f":"'2015 DISC3C'!D57-'2015 DISC3B'!D57","v":-2},{"$f":"'2015 DISC3C'!E57-'2015 DISC3B'!E57","v":0},{"$f":"'2015 DISC3C'!F57-'2015 DISC3B'!F57","v":-1},{"$f":"'2015 DISC3C'!G57-'2015 DISC3B'!G57","v":0},{"$f":"'2015 DISC3C'!H57-'2015 DISC3B'!H57","v":0},{"$f":"'2015 DISC3C'!I57-'2015 DISC3B'!I57","v":0},{"$f":"'2015 DISC3C'!J57-'2015 DISC3B'!J57","v":0},{"$f":"'2015 DISC3C'!K57-'2015 DISC3B'!K57","v":-2},{"$f":"'2015 DISC3C'!L57-'2015 DISC3B'!L57","v":-3},{"$f":"'2015 DISC3C'!M57-'2015 DISC3B'!M57","v":-3},{"$f":"'2015 DISC3C'!N57-'2015 DISC3B'!N57","v":-3},"Females",{"$f":"'2015 DISC3C'!P57-'2015 DISC3B'!P57","v":-5},{"$f":"'2015 DISC3C'!Q57-'2015 DISC3B'!Q57","v":-10},{"$f":"'2015 DISC3C'!R57-'2015 DISC3B'!R57","v":-7},{"$f":"'2015 DISC3C'!S57-'2015 DISC3B'!S57","v":-1},{"$f":"'2015 DISC3C'!T57-'2015 DISC3B'!T57","v":0},{"$f":"'2015 DISC3C'!U57-'2015 DISC3B'!U57","v":0},{"$f":"'2015 DISC3C'!V57-'2015 DISC3B'!V57","v":0},{"$f":"'2015 DISC3C'!W57-'2015 DISC3B'!W57","v":0},{"$f":"'2015 DISC3C'!X57-'2015 DISC3B'!X57","v":-15},{"$f":"'2015 DISC3C'!Y57-'2015 DISC3B'!Y57","v":-23},{"$f":"'2015 DISC3C'!Z57-'2015 DISC3B'!Z57","v":-23},{"$f":"'2015 DISC3C'!AA57-'2015 DISC3B'!AA57","v":-23},"All",{"$f":"'2015 DISC3C'!AC57-'2015 DISC3B'!AC57","v":-5},{"$f":"'2015 DISC3C'!AD57-'2015 DISC3B'!AD57","v":-12},{"$f":"'2015 DISC3C'!AE57-'2015 DISC3B'!AE57","v":-7},{"$f":"'2015 DISC3C'!AF57-'2015 DISC3B'!AF57","v":-2},{"$f":"'2015 DISC3C'!AG57-'2015 DISC3B'!AG57","v":0},{"$f":"'2015 DISC3C'!AH57-'2015 DISC3B'!AH57","v":0},{"$f":"'2015 DISC3C'!AI57-'2015 DISC3B'!AI57","v":0},{"$f":"'2015 DISC3C'!AJ57-'2015 DISC3B'!AJ57","v":0},{"$f":"'2015 DISC3C'!AK57-'2015 DISC3B'!AK57","v":-17},{"$f":"'2015 DISC3C'!AL57-'2015 DISC3B'!AL57","v":-26},{"$f":"'2015 DISC3C'!AM57-'2015 DISC3B'!AM57","v":-26},{"$f":"'2015 DISC3C'!AN57-'2015 DISC3B'!AN57","v":-26}]
["Religious Studies","Males",{"$f":"'2015 DISC3C'!C58-'2015 DISC3B'!C58","v":-43},{"$f":"'2015 DISC3C'!D58-'2015 DISC3B'!D58","v":-67},{"$f":"'2015 DISC3C'!E58-'2015 DISC3B'!E58","v":-39},{"$f":"'2015 DISC3C'!F58-'2015 DISC3B'!F58","v":-6},{"$f":"'2015 DISC3C'!G58-'2015 DISC3B'!G58","v":0},{"$f":"'2015 DISC3C'!H58-'2015 DISC3B'!H58","v":0},{"$f":"'2015 DISC3C'!I58-'2015 DISC3B'!I58","v":0},{"$f":"'2015 DISC3C'!J58-'2015 DISC3B'!J58","v":0},{"$f":"'2015 DISC3C'!K58-'2015 DISC3B'!K58","v":-110},{"$f":"'2015 DISC3C'!L58-'2015 DISC3B'!L58","v":-155},{"$f":"'2015 DISC3C'!M58-'2015 DISC3B'!M58","v":-155},{"$f":"'2015 DISC3C'!N58-'2015 DISC3B'!N58","v":-155},"Females",{"$f":"'2015 DISC3C'!P58-'2015 DISC3B'!P58","v":-104},{"$f":"'2015 DISC3C'!Q58-'2015 DISC3B'!Q58","v":-99},{"$f":"'2015 DISC3C'!R58-'2015 DISC3B'!R58","v":-42},{"$f":"'2015 DISC3C'!S58-'2015 DISC3B'!S58","v":-13},{"$f":"'2015 DISC3C'!T58-'2015 DISC3B'!T58","v":-2},{"$f":"'2015 DISC3C'!U58-'2015 DISC3B'!U58","v":0},{"$f":"'2015 DISC3C'!V58-'2015 DISC3B'!V58","v":0},{"$f":"'2015 DISC3C'!W58-'2015 DISC3B'!W58","v":0},{"$f":"'2015 DISC3C'!X58-'2015 DISC3B'!X58","v":-203},{"$f":"'2015 DISC3C'!Y58-'2015 DISC3B'!Y58","v":-258},{"$f":"'2015 DISC3C'!Z58-'2015 DISC3B'!Z58","v":-260},{"$f":"'2015 DISC3C'!AA58-'2015 DISC3B'!AA58","v":-260},"All",{"$f":"'2015 DISC3C'!AC58-'2015 DISC3B'!AC58","v":-147},{"$f":"'2015 DISC3C'!AD58-'2015 DISC3B'!AD58","v":-166},{"$f":"'2015 DISC3C'!AE58-'2015 DISC3B'!AE58","v":-81},{"$f":"'2015 DISC3C'!AF58-'2015 DISC3B'!AF58","v":-19},{"$f":"'2015 DISC3C'!AG58-'2015 DISC3B'!AG58","v":-2},{"$f":"'2015 DISC3C'!AH58-'2015 DISC3B'!AH58","v":0},{"$f":"'2015 DISC3C'!AI58-'2015 DISC3B'!AI58","v":0},{"$f":"'2015 DISC3C'!AJ58-'2015 DISC3B'!AJ58","v":0},{"$f":"'2015 DISC3C'!AK58-'2015 DISC3B'!AK58","v":-313},{"$f":"'2015 DISC3C'!AL58-'2015 DISC3B'!AL58","v":-413},{"$f":"'2015 DISC3C'!AM58-'2015 DISC3B'!AM58","v":-415},{"$f":"'2015 DISC3C'!AN58-'2015 DISC3B'!AN58","v":-415}]
["Statistics","Males",{"$f":"'2015 DISC3C'!C59-'2015 DISC3B'!C59","v":-4},{"$f":"'2015 DISC3C'!D59-'2015 DISC3B'!D59","v":-4},{"$f":"'2015 DISC3C'!E59-'2015 DISC3B'!E59","v":0},{"$f":"'2015 DISC3C'!F59-'2015 DISC3B'!F59","v":0},{"$f":"'2015 DISC3C'!G59-'2015 DISC3B'!G59","v":0},{"$f":"'2015 DISC3C'!H59-'2015 DISC3B'!H59","v":0},{"$f":"'2015 DISC3C'!I59-'2015 DISC3B'!I59","v":0},{"$f":"'2015 DISC3C'!J59-'2015 DISC3B'!J59","v":0},{"$f":"'2015 DISC3C'!K59-'2015 DISC3B'!K59","v":-8},{"$f":"'2015 DISC3C'!L59-'2015 DISC3B'!L59","v":-8},{"$f":"'2015 DISC3C'!M59-'2015 DISC3B'!M59","v":-8},{"$f":"'2015 DISC3C'!N59-'2015 DISC3B'!N59","v":-8},"Females",{"$f":"'2015 DISC3C'!P59-'2015 DISC3B'!P59","v":-2},{"$f":"'2015 DISC3C'!Q59-'2015 DISC3B'!Q59","v":-3},{"$f":"'2015 DISC3C'!R59-'2015 DISC3B'!R59","v":0},{"$f":"'2015 DISC3C'!S59-'2015 DISC3B'!S59","v":0},{"$f":"'2015 DISC3C'!T59-'2015 DISC3B'!T59","v":0},{"$f":"'2015 DISC3C'!U59-'2015 DISC3B'!U59","v":0},{"$f":"'2015 DISC3C'!V59-'2015 DISC3B'!V59","v":0},{"$f":"'2015 DISC3C'!W59-'2015 DISC3B'!W59","v":0},{"$f":"'2015 DISC3C'!X59-'2015 DISC3B'!X59","v":-5},{"$f":"'2015 DISC3C'!Y59-'2015 DISC3B'!Y59","v":-5},{"$f":"'2015 DISC3C'!Z59-'2015 DISC3B'!Z59","v":-5},{"$f":"'2015 DISC3C'!AA59-'2015 DISC3B'!AA59","v":-5},"All",{"$f":"'2015 DISC3C'!AC59-'2015 DISC3B'!AC59","v":-6},{"$f":"'2015 DISC3C'!AD59-'2015 DISC3B'!AD59","v":-7},{"$f":"'2015 DISC3C'!AE59-'2015 DISC3B'!AE59","v":0},{"$f":"'2015 DISC3C'!AF59-'2015 DISC3B'!AF59","v":0},{"$f":"'2015 DISC3C'!AG59-'2015 DISC3B'!AG59","v":0},{"$f":"'2015 DISC3C'!AH59-'2015 DISC3B'!AH59","v":0},{"$f":"'2015 DISC3C'!AI59-'2015 DISC3B'!AI59","v":0},{"$f":"'2015 DISC3C'!AJ59-'2015 DISC3B'!AJ59","v":0},{"$f":"'2015 DISC3C'!AK59-'2015 DISC3B'!AK59","v":-13},{"$f":"'2015 DISC3C'!AL59-'2015 DISC3B'!AL59","v":-13},{"$f":"'2015 DISC3C'!AM59-'2015 DISC3B'!AM59","v":-13},{"$f":"'2015 DISC3C'!AN59-'2015 DISC3B'!AN59","v":-13}]
["Vocational Studies","Males",{"$f":"'2015 DISC3C'!C60-'2015 DISC3B'!C60","v":0},{"$f":"'2015 DISC3C'!D60-'2015 DISC3B'!D60","v":-1},{"$f":"'2015 DISC3C'!E60-'2015 DISC3B'!E60","v":-5},{"$f":"'2015 DISC3C'!F60-'2015 DISC3B'!F60","v":0},{"$f":"'2015 DISC3C'!G60-'2015 DISC3B'!G60","v":-1},{"$f":"'2015 DISC3C'!H60-'2015 DISC3B'!H60","v":0},{"$f":"'2015 DISC3C'!I60-'2015 DISC3B'!I60","v":0},{"$f":"'2015 DISC3C'!J60-'2015 DISC3B'!J60","v":0},{"$f":"'2015 DISC3C'!K60-'2015 DISC3B'!K60","v":-1},{"$f":"'2015 DISC3C'!L60-'2015 DISC3B'!L60","v":-6},{"$f":"'2015 DISC3C'!M60-'2015 DISC3B'!M60","v":-7},{"$f":"'2015 DISC3C'!N60-'2015 DISC3B'!N60","v":-7},"Females",{"$f":"'2015 DISC3C'!P60-'2015 DISC3B'!P60","v":0},{"$f":"'2015 DISC3C'!Q60-'2015 DISC3B'!Q60","v":-2},{"$f":"'2015 DISC3C'!R60-'2015 DISC3B'!R60","v":-5},{"$f":"'2015 DISC3C'!S60-'2015 DISC3B'!S60","v":0},{"$f":"'2015 DISC3C'!T60-'2015 DISC3B'!T60","v":0},{"$f":"'2015 DISC3C'!U60-'2015 DISC3B'!U60","v":0},{"$f":"'2015 DISC3C'!V60-'2015 DISC3B'!V60","v":0},{"$f":"'2015 DISC3C'!W60-'2015 DISC3B'!W60","v":0},{"$f":"'2015 DISC3C'!X60-'2015 DISC3B'!X60","v":-2},{"$f":"'2015 DISC3C'!Y60-'2015 DISC3B'!Y60","v":-7},{"$f":"'2015 DISC3C'!Z60-'2015 DISC3B'!Z60","v":-7},{"$f":"'2015 DISC3C'!AA60-'2015 DISC3B'!AA60","v":-7},"All",{"$f":"'2015 DISC3C'!AC60-'2015 DISC3B'!AC60","v":0},{"$f":"'2015 DISC3C'!AD60-'2015 DISC3B'!AD60","v":-3},{"$f":"'2015 DISC3C'!AE60-'2015 DISC3B'!AE60","v":-10},{"$f":"'2015 DISC3C'!AF60-'2015 DISC3B'!AF60","v":0},{"$f":"'2015 DISC3C'!AG60-'2015 DISC3B'!AG60","v":-1},{"$f":"'2015 DISC3C'!AH60-'2015 DISC3B'!AH60","v":0},{"$f":"'2015 DISC3C'!AI60-'2015 DISC3B'!AI60","v":0},{"$f":"'2015 DISC3C'!AJ60-'2015 DISC3B'!AJ60","v":0},{"$f":"'2015 DISC3C'!AK60-'2015 DISC3B'!AK60","v":-3},{"$f":"'2015 DISC3C'!AL60-'2015 DISC3B'!AL60","v":-13},{"$f":"'2015 DISC3C'!AM60-'2015 DISC3B'!AM60","v":-14},{"$f":"'2015 DISC3C'!AN60-'2015 DISC3B'!AN60","v":-14}]
["All Subjects","Males",{"$f":"'2015 DISC3C'!C61-'2015 DISC3B'!C61","v":-808},{"$f":"'2015 DISC3C'!D61-'2015 DISC3B'!D61","v":-453},{"$f":"'2015 DISC3C'!E61-'2015 DISC3B'!E61","v":-210},{"$f":"'2015 DISC3C'!F61-'2015 DISC3B'!F61","v":-40},{"$f":"'2015 DISC3C'!G61-'2015 DISC3B'!G61","v":-6},{"$f":"'2015 DISC3C'!H61-'2015 DISC3B'!H61","v":0},{"$f":"'2015 DISC3C'!I61-'2015 DISC3B'!I61","v":0},{"$f":"'2015 DISC3C'!J61-'2015 DISC3B'!J61","v":-1},{"$f":"'2015 DISC3C'!K61-'2015 DISC3B'!K61","v":-1261},{"$f":"'2015 DISC3C'!L61-'2015 DISC3B'!L61","v":-1511},{"$f":"'2015 DISC3C'!M61-'2015 DISC3B'!M61","v":-1518},{"$f":"'2015 DISC3C'!N61-'2015 DISC3B'!N61","v":-1519},"Females",{"$f":"'2015 DISC3C'!P61-'2015 DISC3B'!P61","v":-1376},{"$f":"'2015 DISC3C'!Q61-'2015 DISC3B'!Q61","v":-702},{"$f":"'2015 DISC3C'!R61-'2015 DISC3B'!R61","v":-248},{"$f":"'2015 DISC3C'!S61-'2015 DISC3B'!S61","v":-65},{"$f":"'2015 DISC3C'!T61-'2015 DISC3B'!T61","v":-13},{"$f":"'2015 DISC3C'!U61-'2015 DISC3B'!U61","v":-4},{"$f":"'2015 DISC3C'!V61-'2015 DISC3B'!V61","v":0},{"$f":"'2015 DISC3C'!W61-'2015 DISC3B'!W61","v":-2},{"$f":"'2015 DISC3C'!X61-'2015 DISC3B'!X61","v":-2078},{"$f":"'2015 DISC3C'!Y61-'2015 DISC3B'!Y61","v":-2391},{"$f":"'2015 DISC3C'!Z61-'2015 DISC3B'!Z61","v":-2410},{"$f":"'2015 DISC3C'!AA61-'2015 DISC3B'!AA61","v":-2410},"All",{"$f":"'2015 DISC3C'!AC61-'2015 DISC3B'!AC61","v":-2184},{"$f":"'2015 DISC3C'!AD61-'2015 DISC3B'!AD61","v":-1155},{"$f":"'2015 DISC3C'!AE61-'2015 DISC3B'!AE61","v":-458},{"$f":"'2015 DISC3C'!AF61-'2015 DISC3B'!AF61","v":-105},{"$f":"'2015 DISC3C'!AG61-'2015 DISC3B'!AG61","v":-19},{"$f":"'2015 DISC3C'!AH61-'2015 DISC3B'!AH61","v":-4},{"$f":"'2015 DISC3C'!AI61-'2015 DISC3B'!AI61","v":0},{"$f":"'2015 DISC3C'!AJ61-'2015 DISC3B'!AJ61","v":-3},{"$f":"'2015 DISC3C'!AK61-'2015 DISC3B'!AK61","v":-3339},{"$f":"'2015 DISC3C'!AL61-'2015 DISC3B'!AL61","v":-3902},{"$f":"'2015 DISC3C'!AM61-'2015 DISC3B'!AM61","v":-3928},{"$f":"'2015 DISC3C'!AN61-'2015 DISC3B'!AN61","v":-3929}]

{"sheet":"2015","index":17,"n_rows":132,"n_cols":40,"rows_kept":132,"cut":false,"hidden":true,"merged":[]}
[1,{"$f":"A1+1","v":2},{"$f":"B1+1","v":3},4,5,6,7,8,9,10,11,12,13,14,15,16,17,18,19,20,21,22,23,24,25,26,27,28,29,30,31,32,33,34,35,36,37,38,39,40]
["Subjects",null,"*","A","B","C","D","E","F","G","AstarA","AstarC","AstarG","Total","(No column name)","*","A","B","C","D","E","F","G","AstarA","AstarC","AstarG","Total","(No column name)","*","A","B","C","D","E","F","G","AstarA","AstarC","AstarG","Total"]
[{"$f":"A71","v":"English"},"Males",{"$f":"IF(OR(C71=1,C71=2,P71=1,P71=2),\"x\",ROUND(C71/$N3*100,1))","v":2.4},{"$f":"IF(OR(D71=1,D71=2,Q71=1,Q71=2),\"x\",ROUND(D71/$N3*100,1))","v":10.1},23.4,31.3,19.2,8,3.3,1.4,12.5,67.2,99.1,{"$f":"N71","v":176842},"Females",{"$f":"IF(OR(P71=1,P71=2,C71=1,C71=2),\"x\",ROUND(P71/$AA3*100,1))","v":5.7},{"$f":"IF(OR(Q71=1,Q71=2,D71=1,D71=2),\"x\",ROUND(Q71/$AA3*100,1))","v":18.399999999999999},30.3,27.6,12.1,3.8,1.3,0.5,24.1,82,99.6,{"$f":"AA71","v":186560},"All",{"$f":"IF(OR(AC71=1,AC71=2),\"x\",ROUND(AC71/$AN3*100,1))","v":4.0999999999999996},{"$f":"IF(OR(AD71=1,AD71=2),\"x\",ROUND(AD71/$AN3*100,1))","v":14.4},26.9,29.4,15.5,5.8,2.2000000000000002,0.9,18.399999999999999,74.8,99.3,{"$f":"AN71","v":363402}]
[{"$f":"A72","v":"Mathematics"},"Males",{"$f":"IF(OR(C72=1,C72=2,P72=1,P72=2),\"x\",ROUND(C72/$N4*100,1))","v":8},{"$f":"IF(OR(D72=1,D72=2,Q72=1,Q72=2),\"x\",ROUND(D72/$N4*100,1))","v":12.3},{"$f":"IF(OR(E72=1,E72=2,R72=1,R72=2),\"x\",ROUND(E72/$N4*100,1))","v":19.600000000000001},{"$f":"IF(OR(F72=1,F72=2,S72=1,S72=2),\"x\",ROUND(F72/$N4*100,1))","v":29.9},{"$f":"IF(OR(G72=1,G72=2,T72=1,T72=2),\"x\",ROUND(G72/$N4*100,1))","v":13.6},{"$f":"IF(OR(H72=1,H72=2,U72=1,U72=2),\"x\",ROUND(H72/$N4*100,1))","v":5.5},{"$f":"IF(OR(I72=1,I72=2,V72=1,V72=2),\"x\",ROUND(I72/$N4*100,1))","v":3.7},{"$f":"IF(OR(J72=1,J72=2,W72=1,W72=2),\"x\",ROUND(J72/$N4*100,1))","v":3.1},{"$f":"IF(OR(K72=1,K72=2,X72=1,X72=2),\"x\",ROUND(K72/$N4*100,1))","v":20.3},{"$f":"IF(OR(L72=1,L72=2,Y72=1,Y72=2),\"x\",ROUND(L72/$N4*100,1))","v":69.8},{"$f":"IF(OR(M72=1,M72=2,Z72=1,Z72=2),\"x\",ROUND(M72/$N4*100,1))","v":95.6},{"$f":"N72","v":290391},"Females",{"$f":"IF(OR(P72=1,P72=2,C72=1,C72=2),\"x\",ROUND(P72/$AA4*100,1))","v":7},{"$f":"IF(OR(Q72=1,Q72=2,D72=1,D72=2),\"x\",ROUND(Q72/$AA4*100,1))","v":12.3},{"$f":"IF(OR(R72=1,R72=2,E72=1,E72=2),\"x\",ROUND(R72/$AA4*100,1))","v":20.6},{"$f":"IF(OR(S72=1,S72=2,F72=1,F72=2),\"x\",ROUND(S72/$AA4*100,1))","v":30.8},{"$f":"IF(OR(T72=1,T72=2,G72=1,G72=2),\"x\",ROUND(T72/$AA4*100,1))","v":14.1},{"$f":"IF(OR(U72=1,U72=2,H72=1,H72=2),\"x\",ROUND(U72/$AA4*100,1))","v":5.0999999999999996},{"$f":"IF(OR(V72=1,V72=2,I72=1,I72=2),\"x\",ROUND(V72/$AA4*100,1))","v":3.4},{"$f":"IF(OR(W72=1,W72=2,J72=1,J72=2),\"x\",ROUND(W72/$AA4*100,1))","v":2.8},{"$f":"IF(OR(X72=1,X72=2,K72=1,K72=2),\"x\",ROUND(X72/$AA4*100,1))","v":19.3},{"$f":"IF(OR(Y72=1,Y72=2,L72=1,L72=2),\"x\",ROUND(Y72/$AA4*100,1))","v":70.7},{"$f":"IF(OR(Z72=1,Z72=2,M72=1,M72=2),\"x\",ROUND(Z72/$AA4*100,1))","v":96.1},{"$f":"AA72","v":281881},"All",{"$f":"IF(OR(AC72=1,AC72=2),\"x\",ROUND(AC72/$AN4*100,1))","v":7.5},12.3,20.100000000000001,30.4,13.9,5.3,3.5,3,19.8,70.2,95.9,{"$f":"AN72","v":572272}]
["Core Science","Males",0.9,6,17.899999999999999,31,22.4,11.4,6.1,2.4,6.9,55.8,98.2,183841,"Females",1.6,8.8000000000000007,21.2,30.9,20.3,9.6999999999999993,4.5,1.7,10.4,62.5,98.7,185357,"All",{"$f":"IF(OR(AC73=1,AC73=2),\"x\",ROUND(AC73/$AN5*100,1))","v":1.3},7.4,19.600000000000001,31,21.4,10.5,5.3,2.1,8.6999999999999993,59.2,98.5,369198]
["Additional Science","Males",1.6,8,20,32.1,22.2,9.5,4.2,1.6,9.6999999999999993,61.8,99.2,148776,"Females",2.4,10.4,22.9,31.6,20.100000000000001,8,3,1,12.8,67.400000000000006,99.4,156188,"All",{"$f":"IF(OR(AC74=1,AC74=2),\"x\",ROUND(AC74/$AN6*100,1))","v":2},9.3000000000000007,21.5,31.8,21.1,8.8000000000000007,3.6,1.3,11.3,64.599999999999994,99.3,304964]
["Further Additional Science","Males",11.7,19.2,23.6,23.7,15.2,4.9000000000000004,1.3,0.3,31,78.2,99.9,11420,"Females",15.3,20.9,24.4,21.5,12.7,4,0.8,0.2,36.200000000000003,82.1,99.8,11474,"All",{"$f":"IF(OR(AC75=1,AC75=2),\"x\",ROUND(AC75/$AN7*100,1))","v":13.5},20.100000000000001,24,22.6,14,4.5,1,0.2,33.6,80.2,99.8,22894]
["Additional Applied Science","Males",0.1,0.9,5.3,21,29.2,24,12,4.9000000000000004,1.1000000000000001,27.4,97.4,6554,"Females",0,1.5,9.1,26.4,31.3,18,8.9,3.3,1.5,37,98.5,6378,"All",{"$f":"IF(OR(AC76=1,AC76=2),\"x\",ROUND(AC76/$AN8*100,1))","v":0.1},1.2,7.2,23.7,30.3,21,10.5,4.0999999999999996,1.3,32.1,98,12932]
["Physics","Males",14.8,28.2,29.1,20.100000000000001,6.4,1,0.2,0.1,43,92.2,99.9,62238,"Females",15.6,28.2,28.7,19.899999999999999,6.4,0.9,0.2,0.1,43.8,92.4,99.9,60374,"All",{"$f":"IF(OR(AC77=1,AC77=2),\"x\",ROUND(AC77/$AN9*100,1))","v":15.2},28.2,28.9,20,6.4,1,0.2,0.1,43.4,92.3,99.9,122612]
["Chemistry","Males",13.9,26.2,29.2,21.2,7.6,1.5,0.3,0.1,40,90.4,99.9,62852,"Females",18.399999999999999,28.5,27.8,18,5.9,1,0.2,0.1,46.9,92.7,99.9,60538,"All",{"$f":"IF(OR(AC78=1,AC78=2),\"x\",ROUND(AC78/$AN10*100,1))","v":16.100000000000001},27.3,28.5,19.600000000000001,6.8,1.3,0.2,0.1,43.4,91.5,99.9,123390]
["Biological Sciences","Males",10.8,26.9,30.9,21.5,7.4,1.5,0.4,0.2,37.700000000000003,90.2,99.7,63877,"Females",16.5,31.3,28.5,16.8,5.2,1.1000000000000001,0.3,0.2,47.8,93,99.8,62252,"All",{"$f":"IF(OR(AC79=1,AC79=2),\"x\",ROUND(AC79/$AN11*100,1))","v":13.6},29,29.7,19.2,6.3,1.3,0.4,0.2,42.7,91.6,99.8,126129]
["Computer Science","Males",6.1,14.8,21.2,22,14.9,8.8000000000000007,5.5,3.6,20.9,64.2,97,28101,"Females",8.8000000000000007,19.100000000000001,23.6,21.1,13.2,7.2,3.4,1.7,27.9,72.599999999999994,98.1,5432,"All",{"$f":"IF(OR(AC80=1,AC80=2),\"x\",ROUND(AC80/$AN12*100,1))","v":6.5},15.5,21.6,21.9,14.6,8.5,5.0999999999999996,3.3,22.1,65.5,97.2,33533]
["Other Sciences","Males",11.1,14.1,15.3,18.2,14.2,12.3,7.8,4.0999999999999996,25.2,58.7,97.1,3971,"Females",4.4000000000000004,12.7,18.100000000000001,24.1,16.5,11.5,6.8,3.7,17.100000000000001,59.2,97.7,2252,"All",{"$f":"IF(OR(AC81=1,AC81=2),\"x\",ROUND(AC81/$AN13*100,1))","v":8.6},13.6,16.3,20.3,15.1,12,7.4,4,22.2,58.9,97.3,6223]
["D & T: Electronic Products","Males",6.6,15.8,21.9,20,15.5,9.9,5.4,2.8,22.4,64.3,97.9,7327,"Females",15.7,27.3,24.3,15.7,9,3.3,2.2999999999999998,1.9,43,82.9,99.5,568,"All",{"$f":"IF(OR(AC82=1,AC82=2),\"x\",ROUND(AC82/$AN14*100,1))","v":7.3},16.600000000000001,22,19.7,15,9.5,5.2,2.7,23.9,65.599999999999994,98,7895]
["D & T: Food Technology","Males",1.5,5.6,14.5,24,23.2,15.2,9.4,4.0999999999999996,7.1,45.6,97.6,14091,"Females",7.1,16.7,23.4,23.3,15.2,8.1,3.9,1.4,23.8,70.5,99.2,24332,"All",{"$f":"IF(OR(AC83=1,AC83=2),\"x\",ROUND(AC83/$AN15*100,1))","v":5},12.6,20.2,23.5,18.2,10.7,6,2.4,17.7,61.4,98.6,38423]
["D & T: Graphic Products","Males",3,8.8000000000000007,16.100000000000001,22.9,19.3,13.7,8,4.8,11.8,50.8,96.6,19958,"Females",9.6,17.600000000000001,22.5,22,13.7,7.8,3.9,1.7,27.2,71.599999999999994,98.8,11901,"All",{"$f":"IF(OR(AC84=1,AC84=2),\"x\",ROUND(AC84/$AN16*100,1))","v":5.5},12.1,18.399999999999999,22.6,17.2,11.5,6.5,3.6,17.600000000000001,58.6,97.4,31859]
["D & T: Resistant Materials","Males",3.2,8.6,17.399999999999999,24.7,20,12.8,7.5,3.6,11.8,53.9,97.7,43489,"Females",9,18.3,22.1,22.1,14.1,7.6,3.8,1.8,27.3,71.5,98.9,7608,"All",{"$f":"IF(OR(AC85=1,AC85=2),\"x\",ROUND(AC85/$AN17*100,1))","v":4.0999999999999996},10.1,18.100000000000001,24.4,19.2,12,6.9,3.3,14.1,56.5,97.9,51097]
["D & T: Systems & Control","Males",7.4,12.6,20.399999999999999,23.8,17.8,10,4.5999999999999996,2.4,20,64.2,98.9,2811,"Females",6.5,23.8,20.2,23.8,15.5,6,1.8,1.8,30.4,74.400000000000006,99.4,168,"All",{"$f":"IF(OR(AC86=1,AC86=2),\"x\",ROUND(AC86/$AN18*100,1))","v":7.4},13.2,20.399999999999999,23.8,17.600000000000001,9.8000000000000007,4.4000000000000004,2.4,20.5,64.8,99,2979]
["D & T: Textiles Technology","Males",1.3,5.5,12.5,19.100000000000001,19.8,18.8,13.2,6.1,6.8,38.4,96.3,752,"Females",9.5,17.7,24.4,21.1,13.9,7.4,3.6,1.5,27.2,72.599999999999994,99.2,23450,"All",{"$f":"IF(OR(AC87=1,AC87=2),\"x\",ROUND(AC87/$AN19*100,1))","v":9.3000000000000007},17.3,24,21,14.1,7.8,3.9,1.7,26.6,71.599999999999994,99.1,24202]
["Other Design and Technology","Males",2.6,7.9,17.600000000000001,24.6,19.7,12.9,8.4,4,10.4,52.6,97.6,27501,"Females",7.5,18.2,25.2,21.2,13.4,7.4,3.8,1.9,25.6,72.099999999999994,98.6,10722,"All",{"$f":"IF(OR(AC88=1,AC88=2),\"x\",ROUND(AC88/$AN20*100,1))","v":3.9},10.8,19.7,23.6,17.899999999999999,11.4,7.1,3.5,14.7,58.1,97.9,38223]
["Applied Engineering","Males",0.8,4,11.4,21.5,21.6,15.9,12,7.6,4.8,37.700000000000003,94.8,5817,"Females",3.8,18,18.399999999999999,21.1,16.5,10.4,6.1,3.6,21.8,61.3,97.9,473,"All",{"$f":"IF(OR(AC89=1,AC89=2),\"x\",ROUND(AC89/$AN21*100,1))","v":1},5.0999999999999996,11.9,21.5,21.2,15.5,11.6,7.3,6.1,39.5,95,6290]
["Information Technology","Males",3.2,13.3,23.6,24.6,15,8.4,5.7,3.7,16.5,64.599999999999994,97.5,57010,"Females",5.7,18.100000000000001,24.6,22.5,13.6,7.1,4.0999999999999996,2.5,23.8,70.900000000000006,98.2,42551,"All",{"$f":"IF(OR(AC90=1,AC90=2),\"x\",ROUND(AC90/$AN22*100,1))","v":4.3},15.3,24,23.7,14.4,7.8,5,3.2,19.600000000000001,67.3,97.8,99561]
["Business Studies","Males",2.7,12.9,23.9,24.6,16.100000000000001,9.4,5.5,3.2,15.6,64,98.2,42806,"Females",4.2,16.399999999999999,25.2,23.2,14.8,8.1999999999999993,4.5,2.2999999999999998,20.6,69.099999999999994,98.9,31215,"All",{"$f":"IF(OR(AC91=1,AC91=2),\"x\",ROUND(AC91/$AN23*100,1))","v":3.3},14.4,24.4,24,15.6,8.9,5.0999999999999996,2.8,17.7,66.2,98.5,74021]
["Applied Business","Males",1.7,9.1999999999999993,19.2,22.6,16.7,12.6,7,4.8,10.9,52.6,93.6,6829,"Females",2.8,15,22.6,21.3,15.5,11,5,3.4,17.8,61.8,96.6,4815,"All",{"$f":"IF(OR(AC92=1,AC92=2),\"x\",ROUND(AC92/$AN24*100,1))","v":2.1},11.6,20.6,22.1,16.2,11.9,6.1,4.2,13.7,56.4,94.8,11644]
["Home Economics","Males",0.7,4.2,11.3,22.8,23.9,18.3,11.5,4.7,4.9000000000000004,39,97.4,3307,"Females",3.1,10.8,19.5,23.9,19.899999999999999,12,6.4,3,13.9,57.3,98.5,23847,"All",{"$f":"IF(OR(AC93=1,AC93=2),\"x\",ROUND(AC93/$AN25*100,1))","v":2.8},10,18.5,23.7,20.399999999999999,12.8,7,3.2,12.8,55,98.4,27154]
["Ancient History","Males",17,21.3,19.899999999999999,14.9,10.9,6.5,3.3,2.7,38.299999999999997,73.2,96.6,522,"Females",13.8,22.8,24.1,16.399999999999999,12.5,5,2.6,1.8,36.6,77.2,99.1,456,"All",{"$f":"IF(OR(AC94=1,AC94=2),\"x\",ROUND(AC94/$AN26*100,1))","v":15.5},22,21.9,15.6,11.7,5.8,3,2.2000000000000002,37.5,75.099999999999994,97.8,978]
["Geography","Males",7.3,15.5,20,22.9,16.2,9.6,5.0999999999999996,2.5,22.8,65.7,98.9,113351,"Females",12.3,20,21.4,20.100000000000001,12.8,7.3,3.8,1.7,32.299999999999997,73.7,99.3,98046,"All",{"$f":"IF(OR(AC95=1,AC95=2),\"x\",ROUND(AC95/$AN27*100,1))","v":9.6},17.600000000000001,20.6,21.6,14.6,8.5,4.5,2.1,27.2,69.400000000000006,99.1,211397]
["History","Males",7.3,16.600000000000001,21.2,19.7,13.8,9,6,3.7,23.9,64.900000000000006,97.3,110702,"Females",12.1,21.3,22,17.600000000000001,11.3,7.3,4.5,2.5,33.4,72.900000000000006,98.6,118367,"All",{"$f":"IF(OR(AC96=1,AC96=2),\"x\",ROUND(AC96/$AN28*100,1))","v":9.8000000000000007},19,21.6,18.600000000000001,12.5,8.1,5.2,3.1,28.8,69,98,229069]
["Humanities","Males",1.1000000000000001,5.3,13.4,20.3,19,15.8,10.8,8.3000000000000007,6.4,40.1,93.9,4362,"Females",2.8,11.3,18.5,22.2,17.5,11.5,7.8,4.5,14.1,54.8,96.2,4038,"All",{"$f":"IF(OR(AC97=1,AC97=2),\"x\",ROUND(AC97/$AN29*100,1))","v":1.9},8.1999999999999993,15.9,21.2,18.3,13.7,9.4,6.5,10.1,47.2,95,8400]
["Economics","Males",6.3,22.2,28.9,19.5,11.4,5.6,2.9,1.6,28.5,77,98.6,6378,"Females",5.6,23.2,28.5,20,11.2,5.9,2.9,1.3,28.8,77.3,98.6,3076,"All",{"$f":"IF(OR(AC98=1,AC98=2),\"x\",ROUND(AC98/$AN30*100,1))","v":6.1},22.5,28.8,19.7,11.3,5.7,2.9,1.5,28.6,77.099999999999994,98.6,9454]
["Social Studies","Males",1.6,9.1999999999999993,20.100000000000001,24.3,18.100000000000001,11.5,7.2,4.3,10.8,55.2,96.3,21916,"Females",4.0999999999999996,16.3,25.8,22.5,14.2,8.4,4.4000000000000004,2.5,20.399999999999999,68.7,98.2,38414,"All",{"$f":"IF(OR(AC99=1,AC99=2),\"x\",ROUND(AC99/$AN31*100,1))","v":3.2},13.7,23.7,23.1,15.7,9.5,5.4,3.2,16.899999999999999,63.8,97.5,60330]
["Other Classical Studies","Males",11.5,20.9,25,14.9,6.8,6.8,6.8,3.4,32.4,72.3,95.9,148,"Females",11.3,36.700000000000003,24,10.5,7.5,3.6,2.2000000000000002,2.2000000000000002,48.1,82.6,98.1,362,"All",{"$f":"IF(OR(AC100=1,AC100=2),\"x\",ROUND(AC100/$AN32*100,1))","v":11.4},32.200000000000003,24.3,11.8,7.3,4.5,3.5,2.5,43.5,79.599999999999994,97.5,510]
["Arabic","Males",31.3,20.6,13.2,11.5,6.5,4.9000000000000004,3.2,3.5,52,76.599999999999994,94.6,1395,"Females",35,19,14.1,11.1,6.6,4.5999999999999996,3.9,3,54.1,79.3,97.5,1806,"All",{"$f":"IF(OR(AC101=1,AC101=2),\"x\",ROUND(AC101/$AN33*100,1))","v":33.4},19.7,13.7,11.3,6.6,4.7,3.6,3.2,53.2,78.2,96.2,3201]
["Chinese","Males",58.7,16.899999999999999,10.7,7.8,3.9,1.1000000000000001,0.5,"x",75.599999999999994,94.1,99.7,1761,"Females",70,13,8.3000000000000007,6.6,1.4,0.5,0,"x",83,97.9,99.9,1525,"All",{"$f":"IF(OR(AC102=1,AC102=2),\"x\",ROUND(AC102/$AN34*100,1))","v":63.9},15.1,9.6,7.2,2.7,0.9,0.3,"x",79,95.9,99.8,3286]
["French","Males",7.4,10.8,17,28.2,22.2,9.3000000000000007,3.6,1.1000000000000001,18.2,63.4,99.5,64214,"Females",11.4,15.3,20.6,27.4,17.3,5.4,1.8,0.5,26.8,74.8,99.8,86881,"All",{"$f":"IF(OR(AC103=1,AC103=2),\"x\",ROUND(AC103/$AN35*100,1))","v":9.6999999999999993},13.4,19.100000000000001,27.8,19.399999999999999,7.1,2.5,0.8,23.1,69.900000000000006,99.7,151095]
["German","Males",6.8,12.1,20.9,29.6,20.399999999999999,6.9,2.2999999999999998,0.8,18.899999999999999,69.3,99.7,25466,"Females",9.6999999999999993,16.600000000000001,24.8,28.1,15.1,3.9,1.2,0.4,26.4,79.3,99.8,27280,"All",{"$f":"IF(OR(AC104=1,AC104=2),\"x\",ROUND(AC104/$AN36*100,1))","v":8.3000000000000007},14.4,22.9,28.8,17.7,5.3,1.7,0.6,22.7,74.5,99.8,52746]
["Italian","Males",40.799999999999997,18.3,13.5,13.4,8.6,3.1,1.1000000000000001,0.5,59.1,86,99.3,1752,"Females",42.4,19.3,14.8,13.2,7,2.1,0.6,0.2,61.7,89.7,99.7,2252,"All",{"$f":"IF(OR(AC105=1,AC105=2),\"x\",ROUND(AC105/$AN37*100,1))","v":41.7},18.899999999999999,14.2,13.3,7.7,2.5,0.8,0.3,60.6,88.1,99.5,4004]
["Polish","Males",24.1,41.7,18.3,8.1999999999999993,3.9,1.1000000000000001,0.5,0.9,65.8,92.3,98.7,1923,"Females",41.5,38.799999999999997,11.6,4.0999999999999996,1.4,0.9,0.2,0.5,80.3,96,99,2152,"All",{"$f":"IF(OR(AC106=1,AC106=2),\"x\",ROUND(AC106/$AN38*100,1))","v":33.299999999999997},40.1,14.7,6,2.6,1,0.3,0.7,73.5,94.3,98.8,4075]
["Spanish","Males",10.3,12.9,17.600000000000001,25.6,19.3,8.1999999999999993,3.7,1.5,23.2,66.400000000000006,99.2,36821,"Females",15.5,16.7,20.3,24,14.9,5.4,2,0.7,32.200000000000003,76.599999999999994,99.6,48521,"All",{"$f":"IF(OR(AC107=1,AC107=2),\"x\",ROUND(AC107/$AN39*100,1))","v":13.3},15,19.2,24.7,16.8,6.6,2.7,1.1000000000000001,28.3,72.2,99.4,85342]
["Urdu","Males",8.4,19.100000000000001,22.4,22.3,13.2,7.9,4.5999999999999996,1.4,27.5,72.099999999999994,99.2,1626,"Females",14.7,24.5,24.1,18.399999999999999,10.5,4.7,2,0.5,39.200000000000003,81.7,99.4,2559,"All",{"$f":"IF(OR(AC108=1,AC108=2),\"x\",ROUND(AC108/$AN40*100,1))","v":12.3},22.4,23.4,19.899999999999999,11.5,5.9,3,0.8,34.700000000000003,78,99.3,4185]
["Other Modern Languages","Males",30.3,26.7,18.7,11,5.7,3.9,1.8,0.7,56.9,86.6,98.7,4987,"Females",37.1,29.3,16.7,8.6999999999999993,4.4000000000000004,1.9,0.5,0.4,66.400000000000006,91.8,99.1,5542,"All",{"$f":"IF(OR(AC109=1,AC109=2),\"x\",ROUND(AC109/$AN41*100,1))","v":33.9},28,17.600000000000001,9.8000000000000007,5,2.9,1.1000000000000001,0.6,61.9,89.3,98.9,10529]
["Classical Civilisation","Males",10.1,22.4,25.3,21.6,11.4,5.4,2.2000000000000002,0.9,32.5,79.400000000000006,99.4,2068,"Females",18.2,28.8,22.1,15.6,8.6999999999999993,4.0999999999999996,1.3,1,47,84.7,99.7,1899,"All",{"$f":"IF(OR(AC110=1,AC110=2),\"x\",ROUND(AC110/$AN42*100,1))","v":14},25.5,23.7,18.7,10.1,4.8,1.8,1,39.5,81.900000000000006,99.5,3967]
["Classical Greek","Males",72,17.7,6.2,2.4,0.8,0.6,"x","x",89.7,98.3,99.9,711,"Females",68.8,17.3,6.9,3.5,2,1,"x","x",86.1,96.5,100,490,"All",{"$f":"IF(OR(AC111=1,AC111=2),\"x\",ROUND(AC111/$AN43*100,1))","v":70.7},17.600000000000001,6.5,2.8,1.3,0.7,"x","x",88.3,97.6,99.9,1201]
["Latin","Males",47.8,23.6,13.2,8.1999999999999993,4,1.8,0.7,0.3,71.400000000000006,92.8,99.6,4150,"Females",52.7,24.4,12,5.9,2.6,1.5,0.6,0.3,77.099999999999994,94.9,99.8,4211,"All",{"$f":"IF(OR(AC112=1,AC112=2),\"x\",ROUND(AC112/$AN44*100,1))","v":50.3},24,12.6,7,3.3,1.6,0.6,0.3,74.3,93.9,99.7,8361]
["Applied Art and Design","Males",2.2999999999999998,6,14.8,38.299999999999997,15.5,12,7,2.2999999999999998,8.3000000000000007,61.4,98.2,399,"Females",7.8,13.7,22.4,32.5,13.4,7.1,1.4,0.9,21.5,76.400000000000006,99.3,424,"All",{"$f":"IF(OR(AC113=1,AC113=2),\"x\",ROUND(AC113/$AN45*100,1))","v":5.0999999999999996},10,18.7,35.4,14.5,9.5,4.0999999999999996,1.6,15.1,69.099999999999994,98.8,823]
["Art and Design","Males",4.8,8,17.399999999999999,33.6,17.5,9.4,5.4,2.4,12.8,63.8,98.5,59965,"Females",11.1,16.8,25.6,28.9,10.3,4,1.8,0.7,27.9,82.5,99.3,116222,"All",{"$f":"IF(OR(AC114=1,AC114=2),\"x\",ROUND(AC114/$AN46*100,1))","v":9},13.8,22.8,30.5,12.7,5.8,3,1.3,22.8,76.099999999999994,99,176187]
["Communication Studies","Males",2.1,7.7,16.899999999999999,23.2,20.2,13.5,8.1999999999999993,4.4000000000000004,9.8000000000000007,49.9,96.2,4584,"Females",6.3,15.4,23,22.5,15.3,8.6,4.4000000000000004,2.2999999999999998,21.7,67.2,97.7,4828,"All",{"$f":"IF(OR(AC115=1,AC115=2),\"x\",ROUND(AC115/$AN47*100,1))","v":4.2},11.6,20,22.8,17.7,11,6.3,3.3,15.9,58.8,97,9412]
["Dance","Males",2.7,15.3,18.2,25.1,18.8,12.6,4.5,1.7,18.100000000000001,61.3,98.8,842,"Females",5.4,16.8,20.8,23.9,17.3,9.4,3.9,1.5,22.2,67,99,11164,"All",{"$f":"IF(OR(AC116=1,AC116=2),\"x\",ROUND(AC116/$AN48*100,1))","v":5.2},16.7,20.6,24,17.399999999999999,9.6,3.9,1.5,21.9,66.599999999999994,99,12006]
["Drama","Males",3.9,13.1,22.5,25.9,18.8,9,4.0999999999999996,1.7,17.100000000000001,65.5,99,27237,"Females",6.7,20.2,27.3,23.8,13.2,5.4,2.1,0.8,26.9,78.099999999999994,99.5,43614,"All",{"$f":"IF(OR(AC117=1,AC117=2),\"x\",ROUND(AC117/$AN49*100,1))","v":5.6},17.5,25.5,24.6,15.3,6.8,2.9,1.1000000000000001,23.1,73.2,99.3,70851]
["English Literature","Males",3.2,12.3,26.1,26.8,17.399999999999999,8.3000000000000007,3.4,1.3,15.6,68.400000000000006,98.8,195575,"Females",6.8,21.2,31.5,22.9,11,4,1.4,0.5,28,82.4,99.3,211491,"All",{"$f":"IF(OR(AC118=1,AC118=2),\"x\",ROUND(AC118/$AN50*100,1))","v":5.0999999999999996},17,28.9,24.8,14,6.1,2.4,0.9,22,75.7,99,407066]
["English Studies","Males",0,1.4,14.7,29.2,24.9,20.100000000000001,7.6,1.7,1.4,45.3,99.7,353,"Females",0.8,3.8,24.5,28.3,27.7,9.8000000000000007,4.0999999999999996,0.8,4.5999999999999996,57.3,99.7,368,"All",{"$f":"IF(OR(AC119=1,AC119=2),\"x\",ROUND(AC119/$AN51*100,1))","v":0.4},2.6,19.7,28.7,26.4,14.8,5.8,1.2,3.1,51.5,99.7,721]
["General Studies","Males",1.7,6.6,11.5,16.3,18.600000000000001,16,11.5,8.6,8.3000000000000007,36.200000000000003,90.9,4961,"Females",2.2999999999999998,7.7,13.7,19.3,22.8,14.8,8.8000000000000007,5.0999999999999996,10,43,94.5,4562,"All",{"$f":"IF(OR(AC120=1,AC120=2),\"x\",ROUND(AC120/$AN52*100,1))","v":2},7.1,12.6,17.7,20.6,15.4,10.199999999999999,6.9,9.1,39.5,92.6,9523]
["Health and Social Care","Males","x",2.5,8.6,17.100000000000001,19.600000000000001,17.8,15,10.4,2.6,28.3,91.1,1200,"Females","x",9.5,19.7,25.5,18.7,11.3,6.7,4.0999999999999996,11.3,56.5,97.3,17170,"All",{"$f":"IF(OR(AC121=1,AC121=2),\"x\",ROUND(AC121/$AN53*100,1))","v":1.7},9,19,24.9,18.7,11.8,7.2,4.5,10.8,54.7,96.9,18370]
["Hospitality and Catering","Males","x",2,11.5,25.6,25.8,18.899999999999999,11.5,2.5,2.1,39.1,97.7,1055,"Females","x",11.3,22.1,26.8,19.7,10.8,3.3,1.1000000000000001,14.3,63.3,98.2,1394,"All",{"$f":"IF(OR(AC122=1,AC122=2),\"x\",ROUND(AC122/$AN54*100,1))","v":1.8},7.3,17.5,26.3,22.3,14.3,6.8,1.7,9.1,52.9,98,2449]
["Leisure and Tourism","Males",0.5,3.3,8.9,16.100000000000001,19.100000000000001,17.3,13.7,11.6,3.8,28.9,90.6,2917,"Females",2.6,8.4,15.6,20,18.8,14.3,9.1999999999999993,6.6,11.1,46.7,95.5,3107,"All",{"$f":"IF(OR(AC123=1,AC123=2),\"x\",ROUND(AC123/$AN55*100,1))","v":1.6},5.9,12.4,18.100000000000001,19,15.7,11.4,9,7.6,38.1,93.1,6024]
["Manufacturing","Males","x",5.3,16,19.100000000000001,19.100000000000001,21.3,13.8,4.3,6.4,41.5,100,94,"Females","x",12.5,27.5,30,20,7.5,0,0,15,72.5,100,40,"All",{"$f":"IF(OR(AC124=1,AC124=2),\"x\",ROUND(AC124/$AN56*100,1))","v":"x"},7.5,19.399999999999999,22.4,19.399999999999999,17.2,9.6999999999999993,3,9,50.7,100,134]
["Media/Film/TV","Males",1.5,7.2,18.7,27.8,21,12,6.4,3,8.6999999999999993,55.2,97.6,26234,"Females",5.4,17.8,27.8,25.1,13,5.9,2.5,1.2,23.2,76.2,98.8,25368,"All",{"$f":"IF(OR(AC125=1,AC125=2),\"x\",ROUND(AC125/$AN57*100,1))","v":3.4},12.4,23.2,26.5,17.100000000000001,9,4.5,2.1,15.8,65.5,98.2,51602]
["Music","Males",8.9,19.7,23.8,19.7,13,7.8,3.6,1.9,28.6,72.099999999999994,98.5,20393,"Females",9.1999999999999993,23,26.1,19.600000000000001,11.3,6.1,2.6,1.3,32.200000000000003,78,99.2,23305,"All",{"$f":"IF(OR(AC126=1,AC126=2),\"x\",ROUND(AC126/$AN58*100,1))","v":9.1},21.5,25,19.7,12.1,6.9,3.1,1.6,30.5,75.2,98.9,43698]
["Performing Arts","Males",3.5,6.1,15.9,24,23.4,12.6,8.4,3.4,9.6,49.5,97.3,1665,"Females",8.8000000000000007,12.3,20.5,25.7,16.899999999999999,9.1999999999999993,3.9,1.5,21.2,67.400000000000006,98.8,4333,"All",{"$f":"IF(OR(AC127=1,AC127=2),\"x\",ROUND(AC127/$AN59*100,1))","v":7.3},10.6,19.2,25.2,18.7,10.1,5.0999999999999996,2,18,62.4,98.4,5998]
["Physical Education","Males",2.8,13.7,23.5,28.5,18.600000000000001,8.9,2.8,0.8,16.5,68.5,99.6,73377,"Females",6.8,19.100000000000001,22.8,24,15.9,7.6,2.5,0.8,25.9,72.8,99.5,37413,"All",{"$f":"IF(OR(AC128=1,AC128=2),\"x\",ROUND(AC128/$AN60*100,1))","v":4.2},15.5,23.3,27,17.7,8.5,2.7,0.8,19.7,70,99.6,110790]
["Religious Studies","Males",6.9,15,22.3,20.8,13.8,9.1,5.7,3.5,22,65.099999999999994,97.1,125085,"Females",14.7,22.4,24.1,17.100000000000001,9.6,5.7,3.3,1.8,37.1,78.2,98.6,144426,"All",{"$f":"IF(OR(AC129=1,AC129=2),\"x\",ROUND(AC129/$AN61*100,1))","v":11.1},19,23.3,18.8,11.6,7.2,4.4000000000000004,2.6,30.1,72.099999999999994,97.9,269511]
["Statistics","Males",4.0999999999999996,15.1,20.6,27.9,17.100000000000001,7.2,3.7,2,19.2,67.7,97.8,28134,"Females",4.3,16.100000000000001,22.8,29.6,14.8,6.1,2.7,1.5,20.5,72.900000000000006,98,23924,"All",{"$f":"IF(OR(AC130=1,AC130=2),\"x\",ROUND(AC130/$AN62*100,1))","v":4.2},15.6,21.6,28.7,16,6.7,3.3,1.8,19.8,70.099999999999994,97.9,52058]
["Vocational Studies","Males",1.1000000000000001,6.4,16.5,27.1,23.2,14.6,6.8,2.5,7.5,51.1,98.2,19950,"Females",3.4,14.9,25.5,25.9,16.7,8.1999999999999993,3.4,1.2,18.3,69.7,99.2,22372,"All",{"$f":"IF(OR(AC131=1,AC131=2),\"x\",ROUND(AC131/$AN63*100,1))","v":2.2999999999999998},10.9,21.3,26.4,19.8,11.2,5,1.8,13.2,60.9,98.7,42322]
["All Subjects","Males",5.6,12.9,21.4,26.5,16.7,8.4,4.4000000000000004,2.2999999999999998,18.399999999999999,66.3,98.1,2268834,"Females",8.5,17.399999999999999,24.4,24.9,13.5,5.9,2.8,1.4,26,75.2,98.8,2343738,"All",{"$f":"IF(OR(AC132=1,AC132=2),\"x\",ROUND(AC132/$AN64*100,1))","v":7.1},15.2,22.9,25.7,15.1,7.1,3.6,1.8,22.3,70.8,98.5,4612572]
[]
[]
[]
[" ",null,null,null,null,null,null,null,null,null,null,null,null,null,null,null,null,null,null,null,null,null,null,null,null,null,null,null,null,null,null,null,null,null," "]
["DISC3B"]
["Subject","(No column name)","*","A","B","C","D","E","F","G","AstarA","AstarC","AstarG","Total","(No column name)","*","A","B","C","D","E","F","G","AstarA","AstarC","AstarG","Total","(No column name)","*","A","B","C","D","E","F","G","AstarA","AstarC","AstarG","Total"]
["English","Males",4284,17793,41422,55388,33933,14135,5823,2397,22077,118887,175175,176842,"Females",10560,34393,56502,51458,22561,7002,2350,963,44953,152913,185789,186560,"All",14844,52186,97924,106846,56494,21137,8173,3360,67030,271800,360964,363402]
["Mathematics","Males",23228,35710,56796,86861,39497,15877,10695,9023,58938,202595,277687,290391,"Females",19709,34659,57976,86952,39786,14449,9575,7920,54368,199296,271026,281881,"All",42937,70369,114772,173813,79283,30326,20270,16943,113306,401891,548713,572272]
["Core Science","Males",1726,11034,32864,57037,41248,20957,11184,4485,12760,102661,180535,183841,"Females",2962,16296,39365,57239,37662,17907,8408,3154,19258,115862,182993,185357,"All",4688,27330,72229,114276,78910,38864,19592,7639,32018,218523,363528,369198]
["Additional Science","Males",2423,11957,29736,47761,33003,14199,6253,2321,14380,91877,147653,148776,"Females",3711,16296,35830,49363,31359,12555,4644,1562,20007,105200,155320,156188,"All",6134,28253,65566,97124,64362,26754,10897,3883,34387,197077,302973,304964]
["Further Additional Science","Males",1340,2197,2690,2702,1737,561,147,29,3537,8929,11403,11420,"Females",1751,2402,2797,2471,1461,458,87,26,4153,9421,11453,11474,"All",3091,4599,5487,5173,3198,1019,234,55,7690,18350,22856,22894]
["Additional Applied Science","Males",9,60,346,1379,1915,1572,786,319,69,1794,6386,6554,"Females",3,93,581,1682,1999,1147,566,210,96,2359,6281,6378,"All",12,153,927,3061,3914,2719,1352,529,165,4153,12667,12932]
["Physics","Males",9218,17526,18133,12513,3988,631,141,40,26744,57390,62190,62238,"Females",9423,17019,17329,12011,3860,560,94,39,26442,55782,60335,60374,"All",18641,34545,35462,24524,7848,1191,235,79,53186,113172,122525,122612]
["Chemistry","Males",8706,16436,18375,13324,4766,960,180,53,25142,56841,62800,62852,"Females",11130,17252,16851,10889,3589,634,106,44,28382,56122,60495,60538,"All",19836,33688,35226,24213,8355,1594,286,97,53524,112963,123295,123390]
["Biological Sciences","Males",6917,17177,19759,13746,4743,960,287,123,24094,57599,63712,63877,"Females",10283,19460,17712,10433,3260,695,179,106,29743,57888,62128,62252,"All",17200,36637,37471,24179,8003,1655,466,229,53837,115487,125840,126129]
["Computer Science","Males",1713,4169,5963,6189,4193,2471,1539,1023,5882,18034,27260,28101,"Females",476,1040,1280,1147,715,392,183,94,1516,3943,5327,5432,"All",2189,5209,7243,7336,4908,2863,1722,1117,7398,21977,32587,33533]
["Other Sciences","Males",439,561,608,722,565,488,309,164,1000,2330,3856,3971,"Females",99,285,407,543,372,259,153,83,384,1334,2201,2252,"All",538,846,1015,1265,937,747,462,247,1384,3664,6057,6223]
["D & T: Electronic Products","Males",486,1157,1602,1463,1137,729,396,206,1643,4708,7176,7327,"Females",89,155,138,89,51,19,13,11,244,471,565,568,"All",575,1312,1740,1552,1188,748,409,217,1887,5179,7741,7895]
["D & T: Food Technology","Males",214,785,2046,3376,3274,2140,1330,582,999,6421,13747,14091,"Females",1721,4073,5702,5666,3700,1981,959,345,5794,17162,24147,24332,"All",1935,4858,7748,9042,6974,4121,2289,927,6793,23583,37894,38423]
["D & T: Graphic Products","Males",600,1755,3204,4573,3849,2736,1601,953,2355,10132,19271,19958,"Females",1139,2099,2673,2614,1625,934,466,203,3238,8525,11753,11901,"All",1739,3854,5877,7187,5474,3670,2067,1156,5593,18657,31024,31859]
["D & T: Resistant Materials","Males",1384,3757,7548,10762,8714,5545,3252,1545,5141,23451,42507,43489,"Females",686,1390,1685,1681,1073,580,289,139,2076,5442,7523,7608,"All",2070,5147,9233,12443,9787,6125,3541,1684,7217,28893,50030,51097]
["D & T: Systems & Control","Males",208,353,573,670,499,281,129,68,561,1804,2781,2811,"Females",11,40,34,40,26,10,3,3,51,125,167,168,"All",219,393,607,710,525,291,132,71,612,1929,2948,2979]
["D & T: Textiles Technology","Males",10,41,94,144,149,141,99,46,51,289,724,752,"Females",2235,4140,5711,4948,3259,1747,854,357,6375,17034,23251,23450,"All",2245,4181,5805,5092,3408,1888,953,403,6426,17323,23975,24202]
["Other Design and Technology","Males",704,2166,4831,6762,5419,3551,2311,1110,2870,14463,26854,27501,"Females",803,1947,2705,2271,1439,793,410,209,2750,7726,10577,10722,"All",1507,4113,7536,9033,6858,4344,2721,1319,5620,22189,37431,38223]
["Applied Engineering","Males",45,234,664,1252,1254,924,699,442,279,2195,5514,5817,"Females",18,85,87,100,78,49,29,17,103,290,463,473,"All",63,319,751,1352,1332,973,728,459,382,2485,5977,6290]
["Information Technology","Males",1830,7562,13446,14010,8551,4773,3264,2128,9392,36848,55564,57010,"Females",2422,7710,10465,9559,5783,3030,1757,1060,10132,30156,41786,42551,"All",4252,15272,23911,23569,14334,7803,5021,3188,19524,67004,97350,99561]
["Business Studies","Males",1149,5519,10212,10533,6909,4010,2358,1355,6668,27413,42045,42806,"Females",1322,5115,7880,7246,4633,2551,1410,703,6437,21563,30860,31215,"All",2471,10634,18092,17779,11542,6561,3768,2058,13105,48976,72905,74021]
["Applied Business","Males",113,630,1309,1540,1141,860,475,327,743,3592,6395,6829,"Females",134,723,1089,1028,744,528,240,163,857,2974,4649,4815,"All",247,1353,2398,2568,1885,1388,715,490,1600,6566,11044,11644]
["Home Economics","Males",24,138,373,755,790,606,379,155,162,1290,3220,3307,"Females",731,2581,4655,5688,4736,2872,1524,707,3312,13655,23494,23847,"All",755,2719,5028,6443,5526,3478,1903,862,3474,14945,26714,27154]
["Ancient History","Males",89,111,104,78,57,34,17,14,200,382,504,522,"Females",63,104,110,75,57,23,12,8,167,352,452,456,"All",152,215,214,153,114,57,29,22,367,734,956,978]
["Geography","Males",8313,17561,22642,25915,18312,10834,5748,2815,25874,74431,112140,113351,"Females",12021,19601,20946,19687,12552,7183,3678,1690,31622,72255,97358,98046,"All",20334,37162,43588,45602,30864,18017,9426,4505,57496,146686,209498,211397]
["History","Males",8080,18428,23515,21823,15234,9952,6602,4116,26508,71846,107750,110702,"Females",14361,25155,26033,20775,13368,8637,5376,2980,39516,86324,116685,118367,"All",22441,43583,49548,42598,28602,18589,11978,7096,66024,158170,224435,229069]
["Humanities","Males",46,231,586,884,827,688,473,362,277,1747,4097,4362,"Females",113,456,749,896,706,464,316,183,569,2214,3883,4038,"All",159,687,1335,1780,1533,1152,789,545,846,3961,7980,8400]
["Economics","Males",405,1415,1845,1246,727,360,186,103,1820,4911,6287,6378,"Females",173,713,876,615,343,183,89,40,886,2377,3032,3076,"All",578,2128,2721,1861,1070,543,275,143,2706,7288,9319,9454]
["Social Studies","Males",356,2021,4396,5334,3976,2521,1569,935,2377,12107,21108,21916,"Females",1588,6256,9911,8628,5467,3215,1698,967,7844,26383,37730,38414,"All",1944,8277,14307,13962,9443,5736,3267,1902,10221,38490,58838,60330]
["Other Classical Studies","Males",17,31,37,22,10,10,10,5,48,107,142,148,"Females",41,133,87,38,27,13,8,8,174,299,355,362,"All",58,164,124,60,37,23,18,13,222,406,497,510]
["Arabic","Males",437,288,184,160,90,68,44,49,725,1069,1320,1395,"Females",633,344,255,201,120,83,70,54,977,1433,1760,1806,"All",1070,632,439,361,210,151,114,103,1702,2502,3080,3201]
["Chinese","Males",1034,297,189,137,68,20,9,1,1331,1657,1755,1761,"Females",1067,199,127,100,22,8,0,1,1266,1493,1524,1525,"All",2101,496,316,237,90,28,9,2,2597,3150,3279,3286]
["French","Males",4782,6913,10889,18117,14226,5983,2281,727,11695,40701,63918,64214,"Females",9918,13330,17906,23815,15049,4694,1541,424,23248,64969,86677,86881,"All",14700,20243,28795,41932,29275,10677,3822,1151,34943,105670,150595,151095]
["German","Males",1727,3075,5313,7535,5196,1756,589,209,4802,17650,25400,25466,"Females",2650,4539,6767,7668,4119,1064,333,97,7189,21624,27237,27280,"All",4377,7614,12080,15203,9315,2820,922,306,11991,39274,52637,52746]
["Italian","Males",715,320,236,235,151,54,19,9,1035,1506,1739,1752,"Females",955,435,334,297,158,48,14,4,1390,2021,2245,2252,"All",1670,755,570,532,309,102,33,13,2425,3527,3984,4004]
["Polish","Males",464,801,352,158,75,21,10,17,1265,1775,1898,1923,"Females",894,835,249,88,30,20,4,10,1729,2066,2130,2152,"All",1358,1636,601,246,105,41,14,27,2994,3841,4028,4075]
["Spanish","Males",3788,4750,6480,9440,7123,3035,1353,569,8538,24458,36538,36821,"Females",7544,8083,9868,11663,7206,2601,979,359,15627,37158,48303,48521,"All",11332,12833,16348,21103,14329,5636,2332,928,24165,61616,84841,85342]
["Urdu","Males",136,311,364,362,214,129,75,22,447,1173,1613,1626,"Females",377,627,616,471,269,119,51,13,1004,2091,2543,2559,"All",513,938,980,833,483,248,126,35,1451,3264,4156,4185]
["Other Modern Languages","Males",1510,1330,933,548,284,193,88,37,2840,4321,4923,4987,"Females",2057,1622,925,481,244,108,30,24,3679,5085,5491,5542,"All",3567,2952,1858,1029,528,301,118,61,6519,9406,10414,10529]
["Classical Civilisation","Males",209,464,523,446,236,112,46,19,673,1642,2055,2068,"Females",346,546,419,297,165,77,24,19,892,1608,1893,1899,"All",555,1010,942,743,401,189,70,38,1565,3250,3948,3967]
["Classical Greek","Males",512,126,44,17,6,4,1,0,638,699,710,711,"Females",337,85,34,17,10,5,1,1,422,473,490,490,"All",849,211,78,34,16,9,2,1,1060,1172,1200,1201]
["Latin","Males",1985,979,548,341,164,73,30,13,2964,3853,4133,4150,"Females",2219,1026,505,247,110,62,24,11,3245,3997,4204,4211,"All",4204,2005,1053,588,274,135,54,24,6209,7850,8337,8361]
["Applied Art and Design","Males",9,24,59,153,62,48,28,9,33,245,392,399,"Females",33,58,95,138,57,30,6,4,91,324,421,424,"All",42,82,154,291,119,78,34,13,124,569,813,823]
["Art and Design","Males",2872,4790,10447,20130,10511,5623,3225,1443,7662,38239,59041,59965,"Females",12905,19534,29772,33642,11952,4666,2133,824,32439,95853,115428,116222,"All",15777,24324,40219,53772,22463,10289,5358,2267,40101,134092,174469,176187]
["Communication Studies","Males",94,354,774,1064,928,617,378,200,448,2286,4409,4584,"Females",305,742,1112,1085,739,415,211,110,1047,3244,4719,4828,"All",399,1096,1886,2149,1667,1032,589,310,1495,5530,9128,9412]
["Dance","Males",23,129,153,211,158,106,38,14,152,516,832,842,"Females",605,1877,2324,2669,1929,1045,432,167,2482,7475,11048,11164,"All",628,2006,2477,2880,2087,1151,470,181,2634,7991,11880,12006]
["Drama","Males",1071,3580,6121,7062,5112,2457,1105,452,4651,17834,26960,27237,"Females",2912,8823,11928,10388,5746,2342,923,343,11735,34051,43405,43614,"All",3983,12403,18049,17450,10858,4799,2028,795,16386,51885,70365,70851]
["English Literature","Males",6316,24112,50995,52352,33973,16174,6652,2610,30428,133775,193184,195575,"Females",14311,44903,66549,48413,23176,8519,2990,1152,59214,174176,210013,211491,"All",20627,69015,117544,100765,57149,24693,9642,3762,89642,307951,403197,407066]
["English Studies","Males",0,5,52,103,88,71,27,6,5,160,352,353,"Females",3,14,90,104,102,36,15,3,17,211,367,368,"All",3,19,142,207,190,107,42,9,22,371,719,721]
["General Studies","Males",85,329,572,808,925,793,569,428,414,1794,4509,4961,"Females",106,349,626,882,1041,673,403,232,455,1963,4312,4562,"All",191,678,1198,1690,1966,1466,972,660,869,3757,8821,9523]
["Health and Social Care","Males",1,30,103,205,235,214,180,125,31,339,1093,1200,"Females",316,1629,3386,4372,3205,1948,1151,700,1945,9703,16707,17170,"All",317,1659,3489,4577,3440,2162,1331,825,1976,10042,17800,18370]
["Hospitality and Catering","Males",1,21,121,270,272,199,121,26,22,413,1031,1055,"Females",42,158,308,374,274,151,46,16,200,882,1369,1394,"All",43,179,429,644,546,350,167,42,222,1295,2400,2449]
["Leisure and Tourism","Males",16,95,261,471,558,504,400,337,111,843,2642,2917,"Females",82,262,484,622,584,443,285,204,344,1450,2966,3107,"All",98,357,745,1093,1142,947,685,541,455,2293,5608,6024]
["Manufacturing","Males",1,5,15,18,18,20,13,4,6,39,94,94,"Females",1,5,11,12,8,3,0,0,6,29,40,40,"All",2,10,26,30,26,23,13,4,12,68,134,134]
["Media/Film/TV","Males",400,1888,4894,7288,5511,3144,1684,788,2288,14470,25597,26234,"Females",1380,4510,7063,6370,3294,1509,639,301,5890,19323,25066,25368,"All",1780,6398,11957,13658,8805,4653,2323,1089,8178,33793,50663,51602]
["Music","Males",1824,4012,4853,4022,2654,1595,739,385,5836,14711,20084,20393,"Females",2145,5365,6091,4566,2626,1424,611,295,7510,18167,23123,23305,"All",3969,9377,10944,8588,5280,3019,1350,680,13346,32878,43207,43698]
["Performing Arts","Males",58,102,264,400,390,209,140,57,160,824,1620,1665,"Females",382,535,890,1113,732,399,167,65,917,2920,4283,4333,"All",440,637,1154,1513,1122,608,307,122,1077,3744,5903,5998]
["Physical Education","Males",2070,10068,17250,20894,13614,6550,2087,565,12138,50282,73098,73377,"Females",2560,7141,8534,8994,5961,2849,920,281,9701,27229,37240,37413,"All",4630,17209,25784,29888,19575,9399,3007,846,21839,77511,110338,110790]
["Religious Studies","Males",8658,18820,27930,26030,17210,11328,7122,4318,27478,81438,121416,125085,"Females",21208,32320,34748,24733,13935,8168,4776,2581,53528,113009,142469,144426,"All",29866,51140,62678,50763,31145,19496,11898,6899,81006,194447,263885,269511]
["Statistics","Males",1151,4245,5800,7858,4817,2029,1053,567,5396,19054,27520,28134,"Females",1040,3861,5462,7087,3530,1449,652,360,4901,17450,23441,23924,"All",2191,8106,11262,14945,8347,3478,1705,927,10297,36504,50961,52058]
["Vocational Studies","Males",222,1274,3293,5403,4634,2920,1356,498,1496,10192,19600,19950,"Females",758,3331,5707,5791,3728,1828,761,279,4089,15587,22183,22372,"All",980,4605,9000,11194,8362,4748,2117,777,5585,25779,41783,42322]
["All Subjects","Males",126247,292052,485731,601002,379920,189555,99704,51748,418299,1505032,2225959,2268834,"Females",199869,408759,571351,582532,316412,137656,65668,32928,608628,1762511,2315175,2343738,"All",326116,700811,1057082,1183534,696332,327211,165372,84676,1026927,3267543,4541134,4612572]

{"sheet":"2016","index":18,"n_rows":132,"n_cols":40,"rows_kept":132,"cut":false,"hidden":true,"merged":[]}
[1,{"$f":"A1+1","v":2},{"$f":"B1+1","v":3},4,5,6,7,8,9,10,11,12,13,14,15,16,17,18,19,20,21,22,23,24,25,26,27,28,29,30,31,32,33,34,35,36,37,38,39,40]
["Subjects",null,"*","A","B","C","D","E","F","G","AstarA","AstarC","AstarG","Total","(No column name)","*","A","B","C","D","E","F","G","AstarA","AstarC","AstarG","Total","(No column name)","*","A","B","C","D","E","F","G","AstarA","AstarC","AstarG","Total"]
[{"$f":"A71","v":"English"},"Males",{"$f":"IF(OR(C71=1,C71=2,P71=1,P71=2),\"x\",ROUND(C71/$N3*100,1))","v":2.8},{"$f":"IF(OR(D71=1,D71=2,Q71=1,Q71=2),\"x\",ROUND(D71/$N3*100,1))","v":9.6},{"$f":"IF(OR(E71=1,E71=2,R71=1,R71=2),\"x\",ROUND(E71/$N3*100,1))","v":21.9},{"$f":"IF(OR(F71=1,F71=2,S71=1,S71=2),\"x\",ROUND(F71/$N3*100,1))","v":30.8},{"$f":"IF(OR(G71=1,G71=2,T71=1,T71=2),\"x\",ROUND(G71/$N3*100,1))","v":20.2},{"$f":"IF(OR(H71=1,H71=2,U71=1,U71=2),\"x\",ROUND(H71/$N3*100,1))","v":8.6},{"$f":"IF(OR(I71=1,I71=2,V71=1,V71=2),\"x\",ROUND(I71/$N3*100,1))","v":3.7},{"$f":"IF(OR(J71=1,J71=2,W71=1,W71=2),\"x\",ROUND(J71/$N3*100,1))","v":1.5},{"$f":"IF(OR(K71=1,K71=2,X71=1,X71=2),\"x\",ROUND(K71/$N3*100,1))","v":12.4},{"$f":"IF(OR(L71=1,L71=2,Y71=1,Y71=2),\"x\",ROUND(L71/$N3*100,1))","v":65},{"$f":"IF(OR(M71=1,M71=2,Z71=1,Z71=2),\"x\",ROUND(M71/$N3*100,1))","v":99.1},{"$f":"N71","v":164983},"Females",{"$f":"IF(OR(P71=1,P71=2,C71=1,C71=2),\"x\",ROUND(P71/$AA3*100,1))","v":6.4},{"$f":"IF(OR(Q71=1,Q71=2,D71=1,D71=2),\"x\",ROUND(Q71/$AA3*100,1))","v":17.600000000000001},{"$f":"IF(OR(R71=1,R71=2,E71=1,E71=2),\"x\",ROUND(R71/$AA3*100,1))","v":28.7},{"$f":"IF(OR(S71=1,S71=2,F71=1,F71=2),\"x\",ROUND(S71/$AA3*100,1))","v":27.5},{"$f":"IF(OR(T71=1,T71=2,G71=1,G71=2),\"x\",ROUND(T71/$AA3*100,1))","v":13.2},{"$f":"IF(OR(U71=1,U71=2,H71=1,H71=2),\"x\",ROUND(U71/$AA3*100,1))","v":4.2},{"$f":"IF(OR(V71=1,V71=2,I71=1,I71=2),\"x\",ROUND(V71/$AA3*100,1))","v":1.4},{"$f":"IF(OR(W71=1,W71=2,J71=1,J71=2),\"x\",ROUND(W71/$AA3*100,1))","v":0.6},{"$f":"IF(OR(X71=1,X71=2,K71=1,K71=2),\"x\",ROUND(X71/$AA3*100,1))","v":24},{"$f":"IF(OR(Y71=1,Y71=2,L71=1,L71=2),\"x\",ROUND(Y71/$AA3*100,1))","v":80.2},{"$f":"IF(OR(Z71=1,Z71=2,M71=1,M71=2),\"x\",ROUND(Z71/$AA3*100,1))","v":99.6},{"$f":"AA71","v":173088},"All",{"$f":"IF(OR(AC71=1,AC71=2),\"x\",ROUND(AC71/$AN3*100,1))","v":4.7},13.7,25.4,29.1,16.600000000000001,6.3,2.5,1.1000000000000001,18.399999999999999,72.8,99.3,{"$f":"AN71","v":338071}]
["Mathematics","Males",8.1,12.8,20.100000000000001,29.8,13.8,5.2,3.4,2.8,20.9,70.8,96,275827,"Females",7.5,13.5,21.4,30.2,13.7,4.9000000000000004,3.1,2.5,21,72.599999999999994,96.8,268280,"All",{"$f":"IF(OR(AC72=1,AC72=2),\"x\",ROUND(AC72/$AN4*100,1))","v":7.8},13.1,20.7,30,13.8,5.0999999999999996,3.2,2.6,21,71.7,96.4,544107]
["Core Science","Males",0.5,4.8,16.5,29.7,23.7,13.2,7.2,2.9,5.3,51.5,98.4,198126,"Females",1,7.5,20.3,29.9,21.4,11.3,5.7,2,8.4,58.6,98.9,196156,"All",{"$f":"IF(OR(AC73=1,AC73=2),\"x\",ROUND(AC73/$AN5*100,1))","v":0.7},6.1,18.399999999999999,29.8,22.5,12.2,6.5,2.5,6.9,55,98.7,394282]
["Additional Science","Males",1.3,6.7,18.8,30,21.3,11.6,6.4,2.6,8,56.7,98.7,172682,"Females",1.9,8.9,21.9,30.2,19.8,10.1,4.8,1.6,10.8,62.9,99.2,176347,"All",{"$f":"IF(OR(AC74=1,AC74=2),\"x\",ROUND(AC74/$AN6*100,1))","v":1.6},7.8,20.3,30.1,20.6,10.9,5.6,2.1,9.4,59.8,99,349029]
["Further Additional Science","Males",14.6,19,22.1,20,14.2,7.3,2.2000000000000002,0.5,33.6,75.599999999999994,99.8,8567,"Females",16.8,21,21.4,20.100000000000001,12.8,5.6,1.7,0.4,37.700000000000003,79.3,99.8,8407,"All",{"$f":"IF(OR(AC75=1,AC75=2),\"x\",ROUND(AC75/$AN7*100,1))","v":15.7},20,21.8,20,13.5,6.5,2,0.5,35.6,77.400000000000006,99.8,16974]
["Additional Applied Science","Males",0,0.2,4.2,19.7,30.8,24.5,12.3,5.9,0.2,24.1,97.6,1765,"Females",0.2,0.8,7.7,24.4,31.8,21,10,2.4,1,33.200000000000003,98.4,1652,"All",{"$f":"IF(OR(AC76=1,AC76=2),\"x\",ROUND(AC76/$AN8*100,1))","v":0.1},0.5,5.9,22,31.3,22.8,11.2,4.2,0.6,28.5,98,3417]
["Physics","Males",15.1,26.9,28.4,20.6,7.1,1.4,0.3,0.1,42,91,99.9,65071,"Females",15.3,26.8,28.5,20.5,7.2,1.4,0.2,0.1,42,91.1,99.9,64374,"All",{"$f":"IF(OR(AC77=1,AC77=2),\"x\",ROUND(AC77/$AN9*100,1))","v":15.2},26.8,28.5,20.6,7.1,1.4,0.3,0.1,42,91,99.9,129445]
["Chemistry","Males",12.6,26.3,28.6,21.7,8.3000000000000007,1.8,0.5,0.1,38.9,89.2,99.9,65410,"Females",16.7,29.4,27.8,18,6.4,1.3,0.3,0.1,46,91.9,99.9,64837,"All",{"$f":"IF(OR(AC78=1,AC78=2),\"x\",ROUND(AC78/$AN10*100,1))","v":14.6},27.8,28.2,19.899999999999999,7.3,1.5,0.4,0.1,42.5,90.6,99.9,130247]
["Biological Sciences","Males",11.2,26.5,30.8,21.1,7.8,1.6,0.5,0.2,37.700000000000003,89.7,99.8,66083,"Females",15.9,30.5,28.9,17.100000000000001,5.7,1.3,0.4,0.1,46.4,92.3,99.8,65983,"All",{"$f":"IF(OR(AC79=1,AC79=2),\"x\",ROUND(AC79/$AN11*100,1))","v":13.6},28.5,29.9,19.100000000000001,6.7,1.5,0.4,0.2,42.1,91,99.8,132066]
["Computer Science","Males",5.3,14.2,19.8,20.2,15,10,6.8,4.4000000000000004,19.5,59.5,95.7,49463,"Females",7.5,16.8,19.2,18.7,13.9,9.6,6.3,4.0999999999999996,24.3,62.3,96.3,12673,"All",{"$f":"IF(OR(AC80=1,AC80=2),\"x\",ROUND(AC80/$AN12*100,1))","v":5.7},14.8,19.7,19.899999999999999,14.8,9.9,6.7,4.4000000000000004,20.5,60.1,95.8,62136]
["Other Sciences","Males",13.9,15.9,19,16.899999999999999,11.3,10.199999999999999,6.2,3.7,29.8,65.8,97.1,3200,"Females",7,13.8,19.899999999999999,20.399999999999999,16.5,11.6,5.7,2.6,20.8,61.2,97.5,1589,"All",{"$f":"IF(OR(AC81=1,AC81=2),\"x\",ROUND(AC81/$AN13*100,1))","v":11.6},15.2,19.3,18,13,10.6,6,3.3,26.9,64.2,97.2,4789]
["D & T: Electronic Products","Males",6.9,15.1,20.2,21.9,14.6,10,5.8,3.3,22,64.099999999999994,97.8,6125,"Females",16,27.3,23.8,16.3,7.7,5,2.5,0.8,43.3,83.3,99.4,480,"All",{"$f":"IF(OR(AC82=1,AC82=2),\"x\",ROUND(AC82/$AN14*100,1))","v":7.6},16,20.399999999999999,21.5,14.1,9.6,5.6,3.1,23.6,65.5,97.9,6605]
["D & T: Food Technology","Males",1.1000000000000001,5.5,13.6,24.2,23.7,16.600000000000001,8.9,4.2,6.6,44.4,97.8,12143,"Females",7.1,17.2,23.6,22.8,15.3,8,3.8,1.4,24.3,70.7,99.2,21305,"All",{"$f":"IF(OR(AC83=1,AC83=2),\"x\",ROUND(AC83/$AN15*100,1))","v":4.9000000000000004},12.9,20,23.3,18.399999999999999,11.1,5.6,2.4,17.899999999999999,61.2,98.7,33448]
["D & T: Graphic Products","Males",2.4,8.6999999999999993,16.399999999999999,22,19.8,14,8.6999999999999993,4.8,11.1,49.4,96.7,16160,"Females",8.9,19.5,23.6,21.1,13.8,6.9,3.4,1.7,28.4,73.099999999999994,98.9,9714,"All",{"$f":"IF(OR(AC84=1,AC84=2),\"x\",ROUND(AC84/$AN16*100,1))","v":4.8},12.8,19.100000000000001,21.6,17.5,11.3,6.7,3.6,17.600000000000001,58.3,97.5,25874]
["D & T: Resistant Materials","Males",2.9,8.9,17.600000000000001,24.3,20,13.2,7.6,3.6,11.8,53.8,98.1,40346,"Females",9.1,19,24,21.2,13,7.3,3.8,1.7,28.1,73.3,99.1,7183,"All",{"$f":"IF(OR(AC85=1,AC85=2),\"x\",ROUND(AC85/$AN17*100,1))","v":3.9},10.4,18.600000000000001,23.8,19,12.3,7,3.3,14.3,56.7,98.2,47529]
["D & T: Systems & Control","Males",6.7,16.899999999999999,21.1,22.4,16.3,10,4,"x",23.6,67.099999999999994,99.2,2323,"Females",8.3000000000000007,22.4,31.3,19.3,11.5,3.1,3.1,"x",30.7,81.3,99.5,192,"All",{"$f":"IF(OR(AC86=1,AC86=2),\"x\",ROUND(AC86/$AN18*100,1))","v":6.8},17.3,21.9,22.1,15.9,9.5,4,1.7,24.1,68.2,99.2,2515]
["D & T: Textiles Technology","Males",2.9,6.1,12.3,16.2,21,15.8,13.4,7.7,9,37.4,95.3,767,"Females",9.5,18.3,24,21.9,13.4,6.8,3.7,1.6,27.9,73.8,99.2,20831,"All",{"$f":"IF(OR(AC87=1,AC87=2),\"x\",ROUND(AC87/$AN19*100,1))","v":9.3000000000000007},17.899999999999999,23.6,21.7,13.6,7.1,4,1.8,27.2,72.5,99.1,21598]
["Other Design and Technology","Males",2.4,8.3000000000000007,17.399999999999999,23.7,20.7,13,7.8,4.0999999999999996,10.7,51.9,97.5,27343,"Females",8.4,18.100000000000001,24,22.1,13.6,7.4,3.9,1.4,26.5,72.599999999999994,98.9,10151,"All",{"$f":"IF(OR(AC88=1,AC88=2),\"x\",ROUND(AC88/$AN20*100,1))","v":4},11,19.2,23.3,18.8,11.5,6.8,3.4,15,57.5,97.9,37494]
["Applied Engineering","Males",0.7,4.4000000000000004,10.8,23,23.1,16.600000000000001,10.1,7.1,5.0999999999999996,38.9,95.9,6242,"Females",6.5,14.7,20.2,24.2,16.600000000000001,8.1,5.6,2.8,21.2,65.599999999999994,98.7,604,"All",{"$f":"IF(OR(AC89=1,AC89=2),\"x\",ROUND(AC89/$AN21*100,1))","v":1.2},5.3,11.7,23.1,22.6,15.8,9.6999999999999993,6.7,6.6,41.3,96.1,6846]
["Information Technology","Males",2.9,13,23.4,23.8,15.1,8.8000000000000007,5.8,4,16,63.2,97,43189,"Females",6.1,18.899999999999999,25.3,21.9,12.9,6.8,3.9,2.4,25,72.2,98.2,29673,"All",{"$f":"IF(OR(AC90=1,AC90=2),\"x\",ROUND(AC90/$AN22*100,1))","v":4.2},15.4,24.2,23,14.2,8,5.0999999999999996,3.4,19.600000000000001,66.8,97.5,72862]
["Business Studies","Males",2.8,12.6,23.5,23.9,16.2,9.6999999999999993,5.9,3.4,15.4,62.7,97.9,42858,"Females",4.3,15.6,24.4,22,15.6,9.3000000000000007,4.8,2.6,19.899999999999999,66.3,98.6,30207,"All",{"$f":"IF(OR(AC91=1,AC91=2),\"x\",ROUND(AC91/$AN23*100,1))","v":3.4},13.8,23.9,23.1,15.9,9.5,5.4,3.1,17.3,64.2,98.2,73065]
["Applied Business","Males",0.9,9.3000000000000007,20.399999999999999,22.8,16.899999999999999,12,6.6,4.8,10.199999999999999,53.5,93.8,6125,"Females",2.2000000000000002,15.8,24.7,20.7,14.9,10.7,4.9000000000000004,3.2,18,63.5,97,4366,"All",{"$f":"IF(OR(AC92=1,AC92=2),\"x\",ROUND(AC92/$AN24*100,1))","v":1.5},12,22.2,22,16,11.5,5.9,4.0999999999999996,13.5,57.6,95.2,10491]
["Home Economics","Males",0.5,4.3,12.9,22,23.5,18.899999999999999,11.4,4,4.7,39.6,97.3,2959,"Females",2.7,11.2,19.8,23.9,19.8,12.2,6.3,2.6,13.9,57.6,98.6,21328,"All",{"$f":"IF(OR(AC93=1,AC93=2),\"x\",ROUND(AC93/$AN25*100,1))","v":2.4},10.4,18.899999999999999,23.7,20.2,13,6.9,2.8,12.8,55.4,98.4,24287]
["Ancient History","Males",13.5,20,18.3,19.600000000000001,11,8.8000000000000007,4.3,1.9,33.5,71.400000000000006,97.4,535,"Females",15,15.2,22.7,18,13.8,8.5,3.2,2.5,30.1,70.8,98.9,528,"All",{"$f":"IF(OR(AC94=1,AC94=2),\"x\",ROUND(AC94/$AN26*100,1))","v":14.2},17.600000000000001,20.5,18.8,12.4,8.6999999999999993,3.8,2.2000000000000002,31.8,71.099999999999994,98.1,1063]
["Geography","Males",6.1,13.9,19.2,22.7,16.7,10.4,6.1,3.2,20,61.9,98.4,120920,"Females",11.1,18.600000000000001,20.7,20,13.3,8.1,4.9000000000000004,2.4,29.7,70.400000000000006,99.1,107697,"All",{"$f":"IF(OR(AC95=1,AC95=2),\"x\",ROUND(AC95/$AN27*100,1))","v":8.5},16.100000000000001,19.899999999999999,21.5,15.1,9.3000000000000007,5.5,2.8,24.6,65.900000000000006,98.7,228617]
["History","Males",6.7,15.3,20.2,19.399999999999999,14.4,9.6,6.6,4.4000000000000004,22,61.6,96.6,116276,"Females",10.9,19.7,21.4,17.600000000000001,12.3,8.1999999999999993,5.3,2.9,30.5,69.5,98.2,126802,"All",{"$f":"IF(OR(AC96=1,AC96=2),\"x\",ROUND(AC96/$AN28*100,1))","v":8.9},17.600000000000001,20.8,18.399999999999999,13.3,8.9,5.9,3.6,26.5,65.7,97.4,243078]
["Humanities","Males",0.7,6.3,14.4,20,19,13.2,10.9,8.3000000000000007,7,41.4,92.9,2829,"Females",2.6,9.3000000000000007,19.8,22.5,17.600000000000001,12.5,7.5,4.8,11.9,54.3,96.7,2464,"All",{"$f":"IF(OR(AC97=1,AC97=2),\"x\",ROUND(AC97/$AN29*100,1))","v":1.6},7.7,16.899999999999999,21.2,18.399999999999999,12.9,9.3000000000000007,6.7,9.3000000000000007,47.4,94.6,5293]
["Economics","Males",6.7,21,28,20.5,11.5,5.9,2.9,2,27.7,76.3,98.5,6459,"Females",7,21.1,30.3,20,10.5,5.9,3.1,1.3,28,78.400000000000006,99.2,3039,"All",{"$f":"IF(OR(AC98=1,AC98=2),\"x\",ROUND(AC98/$AN30*100,1))","v":6.8},21,28.8,20.399999999999999,11.2,5.9,3,1.8,27.8,77,98.8,9498]
["Social Studies","Males",1.5,9.1,20.5,23.9,18.100000000000001,12.4,7.1,4.0999999999999996,10.6,54.9,96.7,19975,"Females",3.8,17.600000000000001,25.3,21.6,14.7,8.6,4.7,2.2999999999999998,21.4,68.3,98.5,36509,"All",{"$f":"IF(OR(AC99=1,AC99=2),\"x\",ROUND(AC99/$AN31*100,1))","v":3},14.6,23.6,22.4,15.9,9.9,5.5,2.9,17.600000000000001,63.6,97.9,56484]
["Other Classical Studies","Males",9.8000000000000007,30.3,26.5,18.2,12.1,"x",0,0,40.200000000000003,84.8,98.5,132,"Females",13.9,36.299999999999997,24.6,11.2,4.5999999999999996,"x",2,1.2,50.2,86.1,96.8,410,"All",{"$f":"IF(OR(AC100=1,AC100=2),\"x\",ROUND(AC100/$AN32*100,1))","v":12.9},34.9,25.1,12.9,6.5,2.6,1.5,0.9,47.8,85.8,97.2,542]
["Arabic","Males",31.3,21.8,12.7,10,7.2,4.3,3.6,4.2,53.2,75.8,95.1,1548,"Females",36.9,20.8,14.7,8.4,6.6,5.5,3.1,2.2000000000000002,57.7,80.8,98.2,1932,"All",{"$f":"IF(OR(AC101=1,AC101=2),\"x\",ROUND(AC101/$AN33*100,1))","v":34.4},21.3,13.8,9.1,6.9,5,3.3,3.1,55.7,78.599999999999994,96.8,3480]
["Chinese","Males",57.5,17.5,11.3,8.1999999999999993,3.5,1.1000000000000001,0.7,"x",74.900000000000006,94.4,99.8,1844,"Females",67.7,14.7,9,4.7,2.1,1.1000000000000001,0.4,"x",82.4,96.1,99.8,1731,"All",{"$f":"IF(OR(AC102=1,AC102=2),\"x\",ROUND(AC102/$AN34*100,1))","v":62.4},16.100000000000001,10.199999999999999,6.5,2.8,1.1000000000000001,0.5,0.2,78.5,95.2,99.8,3575]
[{"$f":"A103","v":"French"},"Males",{"$f":"IF(OR(C103=1,C103=2,P103=1,P103=2),\"x\",ROUND(C103/$N35*100,1))","v":7.6},{"$f":"IF(OR(D103=1,D103=2,Q103=1,Q103=2),\"x\",ROUND(D103/$N35*100,1))","v":10.4},{"$f":"IF(OR(E103=1,E103=2,R103=1,R103=2),\"x\",ROUND(E103/$N35*100,1))","v":16.5},{"$f":"IF(OR(F103=1,F103=2,S103=1,S103=2),\"x\",ROUND(F103/$N35*100,1))","v":28.1},{"$f":"IF(OR(G103=1,G103=2,T103=1,T103=2),\"x\",ROUND(G103/$N35*100,1))","v":23.2},{"$f":"IF(OR(H103=1,H103=2,U103=1,U103=2),\"x\",ROUND(H103/$N35*100,1))","v":9.1},{"$f":"IF(OR(I103=1,I103=2,V103=1,V103=2),\"x\",ROUND(I103/$N35*100,1))","v":3.4},{"$f":"IF(OR(J103=1,J103=2,W103=1,W103=2),\"x\",ROUND(J103/$N35*100,1))","v":1.2},{"$f":"IF(OR(K103=1,K103=2,X103=1,X103=2),\"x\",ROUND(K103/$N35*100,1))","v":18},{"$f":"IF(OR(L103=1,L103=2,Y103=1,Y103=2),\"x\",ROUND(L103/$N35*100,1))","v":62.6},{"$f":"IF(OR(M103=1,M103=2,Z103=1,Z103=2),\"x\",ROUND(M103/$N35*100,1))","v":99.5},{"$f":"N103","v":56940},"Females",{"$f":"IF(OR(P103=1,P103=2,C103=1,C103=2),\"x\",ROUND(P103/$AA35*100,1))","v":11.5},{"$f":"IF(OR(Q103=1,Q103=2,D103=1,D103=2),\"x\",ROUND(Q103/$AA35*100,1))","v":14.5},{"$f":"IF(OR(R103=1,R103=2,E103=1,E103=2),\"x\",ROUND(R103/$AA35*100,1))","v":19.899999999999999},{"$f":"IF(OR(S103=1,S103=2,F103=1,F103=2),\"x\",ROUND(S103/$AA35*100,1))","v":27.9},{"$f":"IF(OR(T103=1,T103=2,G103=1,G103=2),\"x\",ROUND(T103/$AA35*100,1))","v":17.899999999999999},{"$f":"IF(OR(U103=1,U103=2,H103=1,H103=2),\"x\",ROUND(U103/$AA35*100,1))","v":5.6},{"$f":"IF(OR(V103=1,V103=2,I103=1,I103=2),\"x\",ROUND(V103/$AA35*100,1))","v":1.9},{"$f":"IF(OR(W103=1,W103=2,J103=1,J103=2),\"x\",ROUND(W103/$AA35*100,1))","v":0.6},{"$f":"IF(OR(X103=1,X103=2,K103=1,K103=2),\"x\",ROUND(X103/$AA35*100,1))","v":26},{"$f":"IF(OR(Y103=1,Y103=2,L103=1,L103=2),\"x\",ROUND(Y103/$AA35*100,1))","v":73.900000000000006},{"$f":"IF(OR(Z103=1,Z103=2,M103=1,M103=2),\"x\",ROUND(Z103/$AA35*100,1))","v":99.7},{"$f":"AA103","v":79922},"All",{"$f":"IF(OR(AC103=1,AC103=2),\"x\",ROUND(AC103/$AN35*100,1))","v":9.9},12.8,18.5,28,20.100000000000001,7,2.5,0.8,22.7,69.2,99.6,{"$f":"AN103","v":136862}]
["German","Males",6.3,12.1,20.8,29.2,20.6,7.5,2.4,0.8,18.5,68.5,99.7,22883,"Females",9.5,16.8,24.9,27.5,15.1,4.5,1.2,0.3,26.3,78.7,99.8,25253,"All",{"$f":"IF(OR(AC104=1,AC104=2),\"x\",ROUND(AC104/$AN36*100,1))","v":8},14.6,23,28.3,17.7,5.9,1.8,0.5,22.6,73.8,99.8,48136]
["Italian","Males",45.3,16.3,14.6,12.3,7.2,2.7,0.9,0.4,61.6,88.5,99.7,1835,"Females",47.1,17.600000000000001,13.9,13.2,5.0999999999999996,2.2999999999999998,0.4,0.2,64.7,91.8,99.8,2246,"All",{"$f":"IF(OR(AC105=1,AC105=2),\"x\",ROUND(AC105/$AN37*100,1))","v":46.3},17.100000000000001,14.2,12.8,6.1,2.5,0.6,0.3,63.3,90.3,99.7,4081]
["Polish","Males",25.4,41.9,17.7,7.7,3.3,2,0.6,0.7,67.3,92.7,99.3,2296,"Females",43.5,38,10.7,3.9,1,1.1000000000000001,0.4,0.6,81.5,96.1,99.2,2430,"All",{"$f":"IF(OR(AC106=1,AC106=2),\"x\",ROUND(AC106/$AN38*100,1))","v":34.700000000000003},39.9,14.1,5.7,2.1,1.6,0.5,0.7,74.599999999999994,94.4,99.2,4726]
["Spanish","Males",9.6999999999999993,11.7,17.100000000000001,25.4,19.899999999999999,9.1999999999999993,4.2,1.9,21.5,63.9,99.1,37601,"Females",14.7,15.9,20.399999999999999,23.8,15.7,5.9,2.2999999999999998,0.9,30.5,74.7,99.6,49918,"All",{"$f":"IF(OR(AC107=1,AC107=2),\"x\",ROUND(AC107/$AN39*100,1))","v":12.6},14.1,19,24.5,17.5,7.3,3.1,1.3,26.6,70.099999999999994,99.4,87519]
["Urdu","Males",9.1999999999999993,17.600000000000001,19,22.4,15.4,8.6999999999999993,5.3,1.2,26.8,68.2,98.8,1451,"Females",15.9,24.6,24.4,16.7,9.9,5.5,1.9,0.5,40.6,81.599999999999994,99.5,2554,"All",{"$f":"IF(OR(AC108=1,AC108=2),\"x\",ROUND(AC108/$AN40*100,1))","v":13.5},22.1,22.4,18.8,11.9,6.6,3.1,0.8,35.6,76.8,99.2,4005]
["Other Modern Languages","Males",29.3,28.6,18.600000000000001,10,5.6,3.4,1.9,1.2,58,86.6,98.8,4993,"Females",38.6,30,16,8.1,3.6,1.6,1,0.4,68.599999999999994,92.7,99.4,5715,"All",{"$f":"IF(OR(AC109=1,AC109=2),\"x\",ROUND(AC109/$AN41*100,1))","v":34.299999999999997},29.3,17.2,9,4.5,2.5,1.5,0.8,63.6,89.8,99.1,10708]
["Classical Civilisation","Males",11.5,21.5,25.6,21.8,11.5,4.8,2.5,0.7,33,80.400000000000006,99.8,1930,"Females",16.8,28.2,23.7,15.7,9.1,3.9,1.7,0.5,45,84.4,99.7,2104,"All",{"$f":"IF(OR(AC110=1,AC110=2),\"x\",ROUND(AC110/$AN42*100,1))","v":14.3},25,24.6,18.600000000000001,10.199999999999999,4.4000000000000004,2.1,0.6,39.299999999999997,82.5,99.8,4034]
["Classical Greek","Males",74.8,15.8,5.0999999999999996,2.4,0.8,0.8,"x",0,90.5,98.1,99.7,622,"Females",75.599999999999994,13.1,5.0999999999999996,2.4,1.9,1.5,"x",0,88.7,96.1,99.8,467,"All",{"$f":"IF(OR(AC111=1,AC111=2),\"x\",ROUND(AC111/$AN43*100,1))","v":75.099999999999994},14.6,5.0999999999999996,2.4,1.3,1.1000000000000001,"x",0,89.7,97.2,99.7,1089]
["Latin","Males",52.1,22.7,11.7,7.7,3.3,1.9,0.3,0.2,74.8,94.2,99.9,3915,"Females",57.1,23,9.8000000000000007,5.7,2.7,0.8,0.5,0.2,80.099999999999994,95.7,99.9,4060,"All",{"$f":"IF(OR(AC112=1,AC112=2),\"x\",ROUND(AC112/$AN44*100,1))","v":54.6},22.9,10.7,6.7,3,1.4,0.4,0.2,77.5,94.9,99.9,7975]
["Applied Art and Design","Males",1.6,3.4,16.7,34.700000000000003,20.6,13.3,5.5,"x",5,56.4,97.4,383,"Females",4.8,10.4,31.4,32.799999999999997,10.4,6,2.5,"x",15.2,79.400000000000006,98.8,433,"All",{"$f":"IF(OR(AC113=1,AC113=2),\"x\",ROUND(AC113/$AN45*100,1))","v":3.3},7.1,24.5,33.700000000000003,15.2,9.4,3.9,1,10.4,68.599999999999994,98.2,816]
["Art and Design","Males",4.5999999999999996,7.9,18.399999999999999,32.200000000000003,18.100000000000001,10.1,5.2,2.1,12.5,63.1,98.6,55718,"Females",11.1,16.8,26.9,27.1,10.7,4.3,1.8,0.6,28,81.900000000000006,99.4,110945,"All",{"$f":"IF(OR(AC114=1,AC114=2),\"x\",ROUND(AC114/$AN46*100,1))","v":8.9},13.9,24,28.8,13.2,6.3,2.9,1.1000000000000001,22.8,75.599999999999994,99.1,166663]
["Communication Studies","Males",1.7,8.5,16.100000000000001,24.4,22.2,13.5,6.8,3.8,10.199999999999999,50.7,96.9,3213,"Females",7.5,18.399999999999999,24.8,20.7,14.3,6.8,4.3,1.7,25.9,71.400000000000006,98.4,3199,"All",{"$f":"IF(OR(AC115=1,AC115=2),\"x\",ROUND(AC115/$AN47*100,1))","v":4.5999999999999996},13.4,20.399999999999999,22.6,18.2,10.1,5.6,2.7,18.100000000000001,61,97.7,6412]
["Dance","Males",3.7,13.7,18.899999999999999,25.2,19.3,10.199999999999999,6.5,1.5,17.399999999999999,61.4,98.8,679,"Females",5.8,16.899999999999999,22.6,24.3,16.5,8.1,3.4,1.4,22.7,69.599999999999994,99,9860,"All",{"$f":"IF(OR(AC116=1,AC116=2),\"x\",ROUND(AC116/$AN48*100,1))","v":5.7},16.7,22.4,24.3,16.7,8.1999999999999993,3.6,1.4,22.3,69,99,10539]
["Drama","Males",3.2,12.5,21.7,26.7,19.5,9.9,4.0999999999999996,1.5,15.7,64.099999999999994,99,26212,"Females",6,20.6,27.7,24,13,5.3,2.1,0.8,26.6,78.3,99.5,41678,"All",{"$f":"IF(OR(AC117=1,AC117=2),\"x\",ROUND(AC117/$AN49*100,1))","v":4.9000000000000004},17.5,25.4,25,15.5,7.1,2.9,1.1000000000000001,22.4,72.8,99.3,67890]
["English Literature","Males",3,11.1,24.3,27.7,18.7,9,3.6,1.4,14.1,66.099999999999994,98.8,198795,"Females",6.9,19.899999999999999,30.3,24.3,11.8,4.2,1.4,0.5,26.8,81.400000000000006,99.4,210047,"All",{"$f":"IF(OR(AC118=1,AC118=2),\"x\",ROUND(AC118/$AN50*100,1))","v":5},15.7,27.4,25.9,15.1,6.5,2.5,1,20.7,74,99.1,408842]
["English Studies","Males",0,"x",17.899999999999999,23.2,35.700000000000003,12.5,8,0,"x",42,98.2,112,"Females",0,"x",23.2,38.700000000000003,25.4,9.9,0,0,"x",64.8,100,142,"All",{"$f":"IF(OR(AC119=1,AC119=2),\"x\",ROUND(AC119/$AN51*100,1))","v":0},2,20.9,31.9,29.9,11,3.5,0,2,54.7,99.2,254]
["General Studies","Males",1.4,6.1,10.3,16.2,19.2,15.2,12.5,9,7.4,34,89.9,4079,"Females",1.9,9,16.2,17.2,21.1,14.7,8.6,5.5,10.9,44.3,94.3,3765,"All",{"$f":"IF(OR(AC120=1,AC120=2),\"x\",ROUND(AC120/$AN52*100,1))","v":1.6},7.5,13.1,16.7,20.100000000000001,14.9,10.6,7.4,9.1,38.9,92,7844]
["Health and Social Care","Males",0.7,2.2000000000000002,7.8,16.399999999999999,23.3,16.399999999999999,13.1,11.4,2.9,27.2,91.4,1274,"Females",2.8,8.6999999999999993,19.100000000000001,24.8,19.3,11.8,7,4,11.4,55.3,97.5,18452,"All",{"$f":"IF(OR(AC121=1,AC121=2),\"x\",ROUND(AC121/$AN53*100,1))","v":2.6},8.3000000000000007,18.3,24.3,19.5,12.1,7.4,4.5,10.9,53.5,97.1,19726]
["Hospitality and Catering","Males","x",3.1,11.9,25.2,25.2,21,10,2.5,3.3,40.5,99.1,1105,"Females","x",13.6,22.1,23.8,16.7,13.2,5.0999999999999996,1.2,17.3,63.1,99.4,1446,"All",{"$f":"IF(OR(AC122=1,AC122=2),\"x\",ROUND(AC122/$AN54*100,1))","v":2.2000000000000002},9,17.7,24.4,20.399999999999999,16.600000000000001,7.2,1.8,11.2,53.3,99.3,2551]
["Leisure and Tourism","Males",0.6,3,7.9,14.9,16.899999999999999,18,16.100000000000001,12.1,3.6,26.4,89.5,2124,"Females",2.2000000000000002,9.4,16.5,20.6,16.399999999999999,13.4,10.5,6.8,11.6,48.7,95.7,2400,"All",{"$f":"IF(OR(AC123=1,AC123=2),\"x\",ROUND(AC123/$AN55*100,1))","v":1.4},6.4,12.4,17.899999999999999,16.600000000000001,15.6,13.1,9.1999999999999993,7.8,38.200000000000003,92.7,4524]
["Manufacturing","Males","x","x",11.3,9.6999999999999993,14.5,32.299999999999997,19.399999999999999,"x","x",24.2,98.4,62,"Females","x","x",19.100000000000001,25,13.2,8.8000000000000007,7.4,"x","x",67.599999999999994,98.5,68,"All",{"$f":"IF(OR(AC124=1,AC124=2),\"x\",ROUND(AC124/$AN56*100,1))","v":"x"},12.3,15.4,17.7,13.8,20,13.1,4.5999999999999996,13.8,46.9,98.5,130]
["Media/Film/TV","Males",1.5,7.5,20.2,27.8,20.6,11.7,6,2.8,8.9,56.9,98,24241,"Females",5.4,19.3,28.7,24,12.4,5.8,2.6,1,24.7,77.400000000000006,99.3,22589,"All",{"$f":"IF(OR(AC125=1,AC125=2),\"x\",ROUND(AC125/$AN57*100,1))","v":3.4},13.2,24.3,26,16.600000000000001,8.9,4.4000000000000004,2,16.600000000000001,66.8,98.6,46830]
["Music","Males",8.4,19.7,23.2,19.3,14,8.1,3.8,2.1,28.1,70.599999999999994,98.6,18902,"Females",9.4,22.6,25.4,19.600000000000001,11.4,6.6,2.8,1.3,32.1,77,99.2,22747,"All",{"$f":"IF(OR(AC126=1,AC126=2),\"x\",ROUND(AC126/$AN58*100,1))","v":9},21.3,24.4,19.399999999999999,12.6,7.3,3.3,1.6,30.3,74.099999999999994,98.9,41649]
["Performing Arts","Males",5.2,6,16.600000000000001,27,22.6,12.7,5.4,3,11.2,54.7,98.3,1454,"Females",10.9,11.7,22.9,25.8,16,7.3,3.1,0.7,22.5,71.2,98.4,3854,"All",{"$f":"IF(OR(AC127=1,AC127=2),\"x\",ROUND(AC127/$AN59*100,1))","v":9.3000000000000007},10.1,21.1,26.1,17.8,8.8000000000000007,3.7,1.3,19.399999999999999,66.7,98.4,5308]
["Physical Education","Males",3.2,11.7,22,29.3,20.3,9.5,2.9,0.6,14.9,66.2,99.7,74881,"Females",7.3,16.899999999999999,23,24.8,16.899999999999999,7.8,2.2999999999999998,0.6,24.2,72,99.7,39067,"All",{"$f":"IF(OR(AC128=1,AC128=2),\"x\",ROUND(AC128/$AN60*100,1))","v":4.5999999999999996},13.5,22.3,27.8,19.2,9,2.7,0.6,18.100000000000001,68.2,99.7,113948]
["Religious Studies","Males",6.8,14.9,22.3,20.2,13.9,9,5.9,3.8,21.7,64.2,96.8,124358,"Females",14.2,22.6,24.2,17.100000000000001,9.9,5.6,3.2,1.8,36.700000000000003,78,98.6,144403,"All",{"$f":"IF(OR(AC129=1,AC129=2),\"x\",ROUND(AC129/$AN61*100,1))","v":10.8},19,23.3,18.5,11.7,7.2,4.5,2.7,29.8,71.599999999999994,97.8,268761]
["Statistics","Males",3.7,14.7,22,28.7,16.399999999999999,7.2,3.4,1.8,18.399999999999999,69.099999999999994,97.8,26008,"Females",3.7,15.9,24,30.2,14.6,5.9,2.7,1.2,19.600000000000001,73.8,98.3,22952,"All",{"$f":"IF(OR(AC130=1,AC130=2),\"x\",ROUND(AC130/$AN62*100,1))","v":3.7},15.3,22.9,29.4,15.5,6.6,3.1,1.5,18.899999999999999,71.3,98,48960]
["Vocational Studies","Males",1,6,16.600000000000001,25.6,23.8,15.2,7.3,2.7,7,49.2,98.3,18219,"Females",2.9,14.2,24.8,25.3,17.8,9.1999999999999993,3.8,1.2,17.100000000000001,67.2,99.1,21009,"All",{"$f":"IF(OR(AC131=1,AC131=2),\"x\",ROUND(AC131/$AN63*100,1))","v":2},10.4,21,25.4,20.6,12,5.4,1.9,12.4,58.9,98.8,39228]
["All Subjects","Males",5.4,12.3,20.9,26.1,17.2,8.9,4.8,2.5,17.7,64.7,98.1,2264560,"Females",8.4,17,24.1,24.5,13.9,6.4,3.1,1.5,25.4,74,98.9,2324257,"All",{"$f":"IF(OR(AC132=1,AC132=2),\"x\",ROUND(AC132/$AN64*100,1))","v":6.9},14.7,22.5,25.3,15.5,7.6,3.9,2,21.6,69.400000000000006,98.5,4588817]
[]
[]
[]
[" ",null,null,null,null,null,null,null,null,null,null,null,null,null,null,null,null,null,null,null,null,null,null,null,null,null,null,null,null,null,null,null,null,null," "]
["DISC3B"]
["Subject","(No column name)","*","A","B","C","D","E","F","G","AstarA","AstarC","AstarG","Total","(No column name)","*","A","B","C","D","E","F","G","AstarA","AstarC","AstarG","Total","(No column name)","*","A","B","C","D","E","F","G","AstarA","AstarC","AstarG","Total"]
["English","Males",4692,15780,36079,50741,33261,14151,6179,2551,20472,107292,163434,164983,"Females",11104,30488,49665,47536,22836,7310,2419,1023,41592,138793,172381,173088,"All",15796,46268,85744,98277,56097,21461,8598,3574,62064,246085,335815,338071]
["Mathematics","Males",22372,35333,55524,82157,38033,14348,9353,7708,57705,195386,264828,275827,"Females",20222,36148,57309,81137,36807,13184,8274,6665,56370,194816,259746,268280,"All",42594,71481,112833,163294,74840,27532,17627,14373,114075,390202,524574,544107]
["Core Science","Males",1074,9481,32636,58811,46892,26097,14211,5771,10555,102002,194973,198126,"Females",1864,14640,39807,58597,41892,22087,11231,3911,16504,114908,194029,196156,"All",2938,24121,72443,117408,88784,48184,25442,9682,27059,216910,389002,394282]
["Additional Science","Males",2222,11563,32388,51737,36846,20111,11131,4506,13785,97910,170504,172682,"Females",3273,15751,38533,53310,34986,17782,8448,2830,19024,110867,174913,176347,"All",5495,27314,70921,105047,71832,37893,19579,7336,32809,208777,345417,349029]
["Further Additional Science","Males",1251,1626,1893,1710,1214,623,189,47,2877,6480,8553,8567,"Females",1411,1762,1803,1687,1077,472,147,30,3173,6663,8389,8407,"All",2662,3388,3696,3397,2291,1095,336,77,6050,13143,16942,16974]
["Additional Applied Science","Males",0,3,74,348,544,432,217,105,3,425,1723,1765,"Females",3,14,128,403,525,347,166,39,17,548,1625,1652,"All",3,17,202,751,1069,779,383,144,20,973,3348,3417]
["Physics","Males",9799,17508,18489,13430,4613,918,203,72,27307,59226,65032,65071,"Females",9823,17236,18344,13214,4613,888,153,46,27059,58617,64317,64374,"All",19622,34744,36833,26644,9226,1806,356,118,54366,117843,129349,129445]
["Chemistry","Males",8233,17212,18725,14208,5416,1181,301,89,25445,58378,65365,65410,"Females",10810,19038,18025,11689,4128,825,200,61,29848,59562,64776,64837,"All",19043,36250,36750,25897,9544,2006,501,150,55293,117940,130141,130247]
["Biological Sciences","Males",7423,17521,20360,13974,5130,1085,312,141,24944,59278,65946,66083,"Females",10502,20094,19065,11273,3781,830,246,93,30596,60934,65884,65983,"All",17925,37615,39425,25247,8911,1915,558,234,55540,120212,131830,132066]
["Computer Science","Males",2602,7032,9787,10008,7407,4961,3359,2198,9634,29429,47354,49463,"Females",946,2135,2439,2375,1763,1216,804,522,3081,7895,12200,12673,"All",3548,9167,12226,12383,9170,6177,4163,2720,12715,37324,59554,62136]
["Other Sciences","Males",446,509,609,540,361,325,199,118,955,2104,3107,3200,"Females",111,220,317,324,262,185,90,41,331,972,1550,1589,"All",557,729,926,864,623,510,289,159,1286,3076,4657,4789]
["D & T: Electronic Products","Males",423,927,1235,1343,897,611,355,201,1350,3928,5992,6125,"Females",77,131,114,78,37,24,12,4,208,400,477,480,"All",500,1058,1349,1421,934,635,367,205,1558,4328,6469,6605]
["D & T: Food Technology","Males",134,662,1653,2938,2880,2017,1080,513,796,5387,11877,12143,"Females",1518,3666,5030,4858,3266,1707,805,293,5184,15072,21143,21305,"All",1652,4328,6683,7796,6146,3724,1885,806,5980,20459,33020,33448]
["D & T: Graphic Products","Males",381,1410,2647,3548,3198,2257,1408,780,1791,7986,15629,16160,"Females",862,1899,2295,2048,1342,672,326,164,2761,7104,9608,9714,"All",1243,3309,4942,5596,4540,2929,1734,944,4552,15090,25237,25874]
["D & T: Resistant Materials","Males",1188,3592,7105,9804,8077,5307,3056,1436,4780,21689,39565,40346,"Females",656,1364,1725,1523,933,524,275,119,2020,5268,7119,7183,"All",1844,4956,8830,11327,9010,5831,3331,1555,6800,26957,46684,47529]
["D & T: Systems & Control","Males",155,393,490,520,379,232,94,41,548,1558,2304,2323,"Females",16,43,60,37,22,6,6,1,59,156,191,192,"All",171,436,550,557,401,238,100,42,607,1714,2495,2515]
["D & T: Textiles Technology","Males",22,47,94,124,161,121,103,59,69,287,731,767,"Females",1985,3821,5009,4557,2785,1422,767,323,5806,15372,20669,20831,"All",2007,3868,5103,4681,2946,1543,870,382,5875,15659,21400,21598]
["Other Design and Technology","Males",652,2275,4760,6492,5660,3566,2140,1122,2927,14179,26667,27343,"Females",849,1836,2440,2243,1381,754,392,140,2685,7368,10035,10151,"All",1501,4111,7200,8735,7041,4320,2532,1262,5612,21547,36702,37494]
["Applied Engineering","Males",45,276,677,1433,1445,1034,632,444,321,2431,5986,6242,"Females",39,89,122,146,100,49,34,17,128,396,596,604,"All",84,365,799,1579,1545,1083,666,461,449,2827,6582,6846]
["Information Technology","Males",1268,5627,10104,10296,6541,3807,2514,1744,6895,27295,41901,43189,"Females",1810,5609,7504,6487,3819,2011,1166,723,7419,21410,29129,29673,"All",3078,11236,17608,16783,10360,5818,3680,2467,14314,48705,71030,72862]
["Business Studies","Males",1209,5388,10054,10225,6936,4154,2512,1466,6597,26876,41944,42858,"Females",1305,4702,7375,6640,4717,2797,1442,795,6007,20022,29773,30207,"All",2514,10090,17429,16865,11653,6951,3954,2261,12604,46898,71717,73065]
["Applied Business","Males",57,570,1249,1398,1034,737,405,296,627,3274,5746,6125,"Females",96,690,1080,905,649,466,212,139,786,2771,4237,4366,"All",153,1260,2329,2303,1683,1203,617,435,1413,6045,9983,10491]
["Home Economics","Males",14,126,381,652,694,558,336,119,140,1173,2880,2959,"Females",580,2393,4219,5098,4220,2604,1351,558,2973,12290,21023,21328,"All",594,2519,4600,5750,4914,3162,1687,677,3113,13463,23903,24287]
["Ancient History","Males",72,107,98,105,59,47,23,10,179,382,521,535,"Females",79,80,120,95,73,45,17,13,159,374,522,528,"All",151,187,218,200,132,92,40,23,338,756,1043,1063]
["Geography","Males",7407,16837,23177,27483,20200,12600,7400,3905,24244,74904,119009,120920,"Females",11947,20073,22260,21584,14358,8691,5237,2560,32020,75864,106710,107697,"All",19354,36910,45437,49067,34558,21291,12637,6465,56264,150768,225719,228617]
["History","Males",7772,17819,23493,22526,16754,11203,7637,5069,25591,71610,112273,116276,"Females",13773,24950,27082,22288,15550,10451,6666,3739,38723,88093,124499,126802,"All",21545,42769,50575,44814,32304,21654,14303,8808,64314,159703,236772,243078]
["Humanities","Males",21,178,406,566,538,373,309,236,199,1171,2627,2829,"Females",63,230,489,555,434,308,185,118,293,1337,2382,2464,"All",84,408,895,1121,972,681,494,354,492,2508,5009,5293]
["Economics","Males",434,1355,1811,1327,740,381,190,127,1789,4927,6365,6459,"Females",212,640,922,608,320,180,93,40,852,2382,3015,3039,"All",646,1995,2733,1935,1060,561,283,167,2641,7309,9380,9498]
["Social Studies","Males",302,1809,4087,4776,3623,2478,1415,825,2111,10974,19315,19975,"Females",1395,6420,9226,7887,5364,3135,1703,838,7815,24928,35968,36509,"All",1697,8229,13313,12663,8987,5613,3118,1663,9926,35902,55283,56484]
["Other Classical Studies","Males",13,40,35,24,16,2,0,0,53,112,130,132,"Females",57,149,101,46,19,12,8,5,206,353,397,410,"All",70,189,136,70,35,14,8,5,259,465,527,542]
["Arabic","Males",485,338,196,155,112,66,55,65,823,1174,1472,1548,"Females",713,402,284,163,127,107,59,42,1115,1562,1897,1932,"All",1198,740,480,318,239,173,114,107,1938,2736,3369,3480]
["Chinese","Males",1060,322,208,151,64,20,12,4,1382,1741,1841,1844,"Females",1172,254,156,82,36,19,7,2,1426,1664,1728,1731,"All",2232,576,364,233,100,39,19,6,2808,3405,3569,3575]
["French","Males",4299,5948,9416,15990,13186,5198,1945,663,10247,35653,56645,56940,"Females",9209,11605,15918,22308,14272,4439,1510,450,20814,59040,79711,79922,"All",13508,17553,25334,38298,27458,9637,3455,1113,31061,94693,136356,136862]
["German","Males",1442,2780,4767,6676,4703,1725,557,175,4222,15665,22825,22883,"Females",2391,4251,6282,6950,3822,1135,298,85,6642,19874,25214,25253,"All",3833,7031,11049,13626,8525,2860,855,260,10864,35539,48039,48136]
["Italian","Males",831,300,268,225,133,49,16,7,1131,1624,1829,1835,"Females",1057,396,312,296,114,51,10,5,1453,2061,2241,2246,"All",1888,696,580,521,247,100,26,12,2584,3685,4070,4081]
["Polish","Males",584,961,406,177,75,47,13,17,1545,2128,2280,2296,"Females",1057,923,261,94,24,27,9,15,1980,2335,2410,2430,"All",1641,1884,667,271,99,74,22,32,3525,4463,4690,4726]
["Spanish","Males",3659,4410,6415,9547,7493,3466,1572,718,8069,24031,37280,37601,"Females",7326,7922,10188,11876,7853,2936,1139,458,15248,37312,49698,49918,"All",10985,12332,16603,21423,15346,6402,2711,1176,23317,61343,86978,87519]
["Urdu","Males",133,256,276,325,223,126,77,18,389,990,1434,1451,"Females",407,629,622,426,254,140,48,14,1036,2084,2540,2554,"All",540,885,898,751,477,266,125,32,1425,3074,3974,4005]
["Other Modern Languages","Males",1465,1429,928,500,280,172,97,60,2894,4322,4931,4993,"Females",2208,1713,916,462,204,93,60,24,3921,5299,5680,5715,"All",3673,3142,1844,962,484,265,157,84,6815,9621,10611,10708]
["Classical Civilisation","Males",222,415,494,420,222,93,48,13,637,1551,1927,1930,"Females",353,594,498,331,191,83,36,11,947,1776,2097,2104,"All",575,1009,992,751,413,176,84,24,1584,3327,4024,4034]
["Classical Greek","Males",465,98,32,15,5,5,0,0,563,610,620,622,"Females",353,61,24,11,9,7,1,0,414,449,466,467,"All",818,159,56,26,14,12,1,0,977,1059,1086,1089]
["Latin","Males",2038,890,457,301,130,76,10,9,2928,3686,3911,3915,"Females",2320,934,399,233,108,34,20,8,3254,3886,4056,4060,"All",4358,1824,856,534,238,110,30,17,6182,7572,7967,7975]
["Applied Art and Design","Males",6,13,64,133,79,51,21,6,19,216,373,383,"Females",21,45,136,142,45,26,11,2,66,344,428,433,"All",27,58,200,275,124,77,32,8,85,560,801,816]
["Art and Design","Males",2562,4426,10237,17929,10061,5654,2894,1165,6988,35154,54928,55718,"Females",12323,18688,29790,30106,11860,4814,1998,693,31011,90907,110272,110945,"All",14885,23114,40027,48035,21921,10468,4892,1858,37999,126061,165200,166663]
["Communication Studies","Males",56,272,516,785,712,433,220,121,328,1629,3115,3213,"Females",240,590,794,661,456,217,136,54,830,2285,3148,3199,"All",296,862,1310,1446,1168,650,356,175,1158,3914,6263,6412]
["Dance","Males",25,93,128,171,131,69,44,10,118,417,671,679,"Females",575,1662,2229,2394,1630,800,335,139,2237,6860,9764,9860,"All",600,1755,2357,2565,1761,869,379,149,2355,7277,10435,10539]
["Drama","Males",834,3275,5695,6994,5103,2592,1073,393,4109,16798,25959,26212,"Females",2513,8577,11535,10010,5428,2218,869,332,11090,32635,41482,41678,"All",3347,11852,17230,17004,10531,4810,1942,725,15199,49433,67441,67890]
["English Literature","Males",5957,22164,48316,55023,37145,17851,7191,2836,28121,131460,196483,198795,"Females",14440,41880,63691,51038,24783,8851,3022,1109,56320,171049,208814,210047,"All",20397,64044,112007,106061,61928,26702,10213,3945,84441,302509,405297,408842]
["English Studies","Males",0,1,20,26,40,14,9,0,1,47,110,112,"Females",0,4,33,55,36,14,0,0,4,92,142,142,"All",0,5,53,81,76,28,9,0,5,139,252,254]
["General Studies","Males",56,247,421,662,782,618,511,369,303,1386,3666,4079,"Females",72,339,610,648,796,553,324,208,411,1669,3550,3765,"All",128,586,1031,1310,1578,1171,835,577,714,3055,7216,7844]
["Health and Social Care","Males",9,28,100,209,297,209,167,145,37,346,1164,1274,"Females",509,1601,3516,4585,3557,2181,1299,734,2110,10211,17982,18452,"All",518,1629,3616,4794,3854,2390,1466,879,2147,10557,19146,19726]
["Hospitality and Catering","Males",2,34,132,279,278,232,110,28,36,447,1095,1105,"Females",54,196,319,344,242,191,74,17,250,913,1437,1446,"All",56,230,451,623,520,423,184,45,286,1360,2532,2551]
["Leisure and Tourism","Males",12,64,167,317,360,382,342,256,76,560,1900,2124,"Females",53,226,395,494,393,322,251,162,279,1168,2296,2400,"All",65,290,562,811,753,704,593,418,355,1728,4196,4524]
["Manufacturing","Males",0,2,7,6,9,20,12,5,2,15,61,62,"Females",2,14,13,17,9,6,5,1,16,46,67,68,"All",2,16,20,23,18,26,17,6,18,61,128,130]
["Media/Film/TV","Males",362,1806,4888,6738,4991,2842,1454,687,2168,13794,23768,24241,"Females",1219,4370,6473,5431,2799,1319,584,232,5589,17493,22427,22589,"All",1581,6176,11361,12169,7790,4161,2038,919,7757,31287,46195,46830]
["Music","Males",1597,3719,4393,3644,2638,1526,725,388,5316,13353,18630,18902,"Females",2142,5150,5774,4452,2596,1508,639,299,7292,17518,22560,22747,"All",3739,8869,10167,8096,5234,3034,1364,687,12608,30871,41190,41649]
["Performing Arts","Males",76,87,241,392,328,184,79,43,163,796,1430,1454,"Females",419,450,881,995,617,283,120,28,869,2745,3793,3854,"All",495,537,1122,1387,945,467,199,71,1032,3541,5223,5308]
["Physical Education","Males",2384,8736,16490,21975,15234,7151,2207,484,11120,49585,74661,74881,"Females",2853,6597,8971,9705,6611,3063,916,238,9450,28126,38954,39067,"All",5237,15333,25461,31680,21845,10214,3123,722,20570,77711,113615,113948]
["Religious Studies","Males",8459,18557,27748,25109,17235,11217,7310,4729,27016,79873,120364,124358,"Females",20469,32586,34983,24621,14314,8083,4674,2653,53055,112659,142383,144403,"All",28928,51143,62731,49730,31549,19300,11984,7382,80071,192532,262747,268761]
["Statistics","Males",953,3832,5720,7471,4254,1863,878,467,4785,17976,25438,26008,"Females",847,3643,5514,6933,3359,1359,630,279,4490,16937,22564,22952,"All",1800,7475,11234,14404,7613,3222,1508,746,9275,34913,48002,48960]
["Vocational Studies","Males",183,1098,3028,4656,4341,2775,1337,499,1281,8965,17917,18219,"Females",609,2993,5208,5314,3736,1927,788,252,3602,14124,20827,21009,"All",792,4091,8236,9970,8077,4702,2125,751,4883,23089,38744,39228]
["All Subjects","Males",121899,279607,472294,590245,390193,202443,108249,56079,401506,1464045,2221009,2264560,"Females",195314,395606,559333,570405,322340,147790,72747,34396,590920,1720658,2297931,2324257,"All",317213,675213,1031627,1160650,712533,350233,180996,90475,992426,3184703,4518940,4588817]