{"text_format":"1","workbook":"xlsx","n_sheets":43,"sheets":["Contents","SUPP_1a","Table 1a","SUPP_1b","Table 1b","List of A and AS level subjects","SUPP_2a","Table 2a","SUPP_2b","Table 2b","SUPP_2c","Table 2c","SUPP_2d","Table 2d","SUPP_3a","Table 3a","SUPP_3c","SUPP_3c_2015","3c_all_2015","3c_females_2015","3c_males_2015","Table 3b","SUPP_4a","Table 4a","SUPP_4b","Table 4b","SUPP_5a","Table 5a","SUPP_5b","Table 5b","Table 6","Table 7","Table 8a","Table 8b","Table 10a_10b working_all","Table 10a_10b working_male","Table 10a_10b working_female","Table 10a all","Table 10a female","Table 10a male","Table 10b all","Table 10b female","Table 10b male"],"not_rendered":{"charts":0,"images":16,"macros":1,"external_links":0,"defined_names":8,"comments":0,"pivot_tables":0},"unopened":[],"bounds":{"document_bytes":16777216,"sheet_cells":100000,"rows_first":2000,"rows_last":500,"rows_between":2000,"halvings":0,"cell_chars":16384,"cell_head_chars":4096},"cells_cut":0,"cells_raw":0,"read":"whole","date_system":"1900"}

{"sheet":"Contents","index":0,"n_rows":50,"n_cols":3,"rows_kept":50,"cut":false,"hidden":false,"merged":[[19,1,19,2],[9,1,9,2]]}
[]
[]
[]
[]
[]
[]
[null,"A level and other 16-18 results (provisional): 2015/16"]
[null,"Coverage: England"]
[]
[null,"The full statistical first release is available at  GOV.UK"]
[]
[null,"National tables"]
[]
[null,"Student-level results"]
[null,"Table Number","Title"]
[null,"1a","Attainment of level 3 students aged 16 to 18 by institution type, cohort and gender "]
[null,"1b","Attainment of level 3 state-funded school students aged 16 to 18 by admissions basis, cohort and gender "]
[]
[null,"A level and AS level examination results"]
[null,"List of A and AS level subjects"]
[]
[null,"Table Number","Title"]
[null,"2a","A level results by subject, grade and gender"]
[null,"2b","A level results by institution type, grade and gender"]
[null,"2c","A level results by subject, grade and institution type"]
[null,"2d","A level results of state-funded school students by admissions basis, grade and gender"]
[null,"3a","AS level results by subject, grade and gender"]
[null,"3b","Decoupled AS level results of 16 year old students by subject, grade and gender"]
[]
[null,"Applied A level and AS level examination results"]
[null,"Table Number","Title"]
[null,"4a","Applied single A level results by subject, grade and gender"]
[null,"4b","Applied single AS level results by subject, grade and gender"]
[null,"5a","Applied double A level results by subject, grade and gender"]
[null,"5b","Applied double AS level results by subject, grade and gender"]
[]
[null,"Applied general and tech level entries"]
[null,6,"Applied general entries by subject and gender"]
[null,7,"Tech level entries by subject and gender"]
[]
[null,"Below level 3 English and math results"]
[null,"Table Number","Title"]
[null,"8a","GCSE English and other below level 3 English qualification entries and results by qualification type, grade and gender"]
[null,"8b","GCSE mathematics and other below level 3 mathematics qualification entries and results by qualification type, grade and gender"]
[]
[]
[null,"Enquiries"]
[null,"Media","Press Office News Desk, Department for Education, Sanctuary Buildings, 20 Great Smith St, London SW1P 3BT. Telephone: 020 7783 8300"]
[null,"Non-media","School Performance Data Unit, Education Data Division, Department for Education, Sanctuary Buildings, 20 Great Smith St, London SW1P 3BT.  "]
[null,null,"Attainment.STATISTICS@education.gov.uk  "]

{"sheet":"SUPP_1a","index":1,"n_rows":69,"n_cols":45,"rows_kept":69,"cut":false,"hidden":true,"merged":[]}
["Paste table 1a output into cell A2, paste totals output into cell A55"]
["rectype","gender","SCHOOL_TYPE_SFR","TALLPUP_LEV3_SFR","TALLPUP_LEV3_SFR_distinct","TALLENT_LEV3_SFR","TALLSCR_LEV3_SFR","TALLPPE_LEV3_SFR","TALLPUP_ALEV_1618","TALLPUP_ALEV_SFR_distinct","TALLENT_ALEV_1618","TALLSCR_ALEV_1618","TALLPPE_ALEV_1618","TALLPPEGRD_ALEV","TINCLUDE_B3","TB3PTS","TB3PTSE","TB3PTSE_GRD","PTGRADE_A3_ALL","PTGRADE_AAB_ALL","TINCLUDE_AAB_2FAC","PTAAB_2FAC","TALLPUP_ACAD_1618","TALLPUP_ACAD_SFR_distinct","TALLENT_ACAD_1618","TALLSCR_ACAD_1618","TALLPPE_ACAD_1618","TALLPPEGRD_ACAD","TALLPUP_TLEV","TALLPUP_TLEV_SFR_distinct","TALLENT_TLEV","TALLSCR_TLEV","TALLPPE_TLEV","TALLPPEGRD_TLEV","TALLPUP_AGEN","TALLPUP_AGEN_SFR_distinct","TALLENT_AGEN","TALLSCR_AGEN","TALLPPE_AGEN","TALLPPEGRD_AGEN","TTECH_BACC","TTECH_BACC_distinct",null,null,"concatenate_name"]
[1,"ALL","ALL_INDEPENDENT_SCHOOLS",41269,40967,141982.23000000001,5806840.0999999996,40.9,38720,38437,125618.5,5093395,40.549999999999997,"B",32563,4087220,41.84,"B+",29.1,43.1,32476,35.4,40992,40707,139859.70000000001,5726567.9000000004,40.950000000000003,"B",197,197,325.25,11938.1,36.700000000000003,"Dist+",1097,1088,1797.25,68334,38.020000000000003,"Dist+",0,0,null,null,"AllALL_INDEPENDENT_SCHOOLS"]
[1,"ALL","ALL_SCHOOLS",267331,261839,863171.24,28841812.699999999,33.409999999999997,244807,239914,717677.5,23246305,32.39,"C+",167158,17871480,35.64,"B-",14.7,24.1,165796,19.3,249175,244234,747512.6,24473868.699999999,32.74,"C+",12610,12597,21745.25,803795.3,36.96,"Dist+",55693,55205,93912,3564132.8,37.950000000000003,"Dist+",130,130,null,null,"AllALL_SCHOOLS"]
[1,"ALL","ALL_STATE_FUNDED_SCHOOLS",226048,221494,721169.71,23034277.699999999,31.94,206076,202088,592043,18152260,30.66,"C",134591,13783910,34.14,"C+",11.3,19.5,133316,15.4,208171,204143,607636.6,18746650.800000001,30.85,"C",12413,12400,21420,791857.2,36.97,"Dist+",54594,54116,92111.75,3495753.8,37.950000000000003,"Dist+",130,130,null,null,"AllALL_STATE_FUNDED_SCHOOLS"]
[1,"ALL","CONVERTER_ACADEMIES",127708,126612,421356.19,13817171.9,32.79,120231,119219,364965,11648415,31.92,"C+",85679,9024850,35.11,"B-",12.7,21.7,85066,17.100000000000001,121552,120535,376167.1,12096060.4,32.159999999999997,"C+",4630,4630,7613.25,283564.7,37.25,"Dist+",23595,23501,37575.5,1437538.5,38.26,"Dist+",39,39,null,null,"AllCONVERTER_ACADEMIES"]
[1,"ALL","FE_SECTOR_COLLEGES",208004,203788,562054.40000000002,16958445.399999999,30.17,99835,98336,272277,7843057.5,28.81,"C",61494,5928765,32.14,"C+",8,15.1,61062,9.8000000000000007,100802,99281,277007.40000000002,8020917.0999999996,28.96,"C",57719,57457,130105,3876633.5,29.8,"Merit+",77180,76539,154934.5,5060862.5,32.659999999999997,"Dist-",107,107,null,null,"AllFE_SECTOR_COLLEGES"]
[1,"ALL","FREE_SCHOOLS",637,637,1960.85,55780.800000000003,28.45,541,541,1619.5,43695,26.98,"C-",403,35940,29.73,"C",4,10.7,400,9,544,544,1641.1,44337,27.02,"C-",36,36,105.25,3716.3,35.31,"Dist",90,90,214.5,7727.5,36.03,"Dist","x",1,null,null,"AllFREE_SCHOOLS"]
[1,"ALL","FREE_SCHOOLS_1619",1434,1434,4445.53,148437.79999999999,33.39,1127,1127,3222,108085,33.549999999999997,"C+",808,87040,35.909999999999997,"B-",16.7,27.1,808,24.8,1155,1155,3342,112984.2,33.81,"C+",124,124,308.5,9754.4,31.62,"Dist-",370,370,794.5,25693,32.340000000000003,"Dist-",0,0,null,null,"AllFREE_SCHOOLS_1619"]
[1,"ALL","INDEPENDENT_SCHOOLS",41077,40778,141588.74,5796462.2999999998,40.94,38564,38283,125343.5,5086645,40.58,"B",32505,4082940,41.87,"B+",29.2,43.2,32419,35.4,40833,40550,139575.5,5719463.9000000004,40.98,"B",167,167,280,10604.4,37.869999999999997,"Dist+",1044,1036,1733.25,66394,38.31,"Dist+",0,0,null,null,"AllINDEPENDENT_SCHOOLS"]
[1,"ALL","INDEPENDENT_SPECIAL_SCHOOLS_NON_MAINTAINED_SPECIAL_SCHOOLS",192,191,393.49,10377.799999999999,26.37,156,156,275,6750,24.55,"D+",58,4280,24.6,"D+",5.2,8.6,57,7,159,159,284.2,7104,24.99,"D+",30,30,45.25,1333.8,29.48,"Merit+",53,52,64,1940,30.31,"Dist-",0,0,null,null,"AllINDEPENDENT_SPECIAL_SCHOOLS_NON_MAINTAINED_SPECIAL_SCHOOLS"]
[1,"ALL","LA_MAINTAINED_MAINSTREAM_SCHOOLS",65567,65053,203052.99,6289506.5,30.97,60181,59725,167168.5,4921497.5,29.44,"C",37028,3674020,33.07,"C+",9.3000000000000007,16.8,36635,13.1,60441,59981,169586.9,5006640,29.52,"C",3412,3408,5360.25,201687.8,37.630000000000003,"Dist+",16807,16749,28105.5,1081178.8,38.47,"Dist+",25,25,null,null,"AllLA_MAINTAINED_MAINSTREAM_SCHOOLS"]
[1,"ALL","OTHER_FE_SECTOR_COLLEGES",129867,128402,316744.51,9195961.1999999993,29.03,33140,32870,81133.5,2090885,25.77,"C-",17224,1502285,29.07,"C",4.8,9.9,17127,5.9,33798,33522,82726.899999999994,2144194.7999999998,25.92,"C-",50801,50566,116564,3385550.7,29.04,"Merit+",55235,54845,117446.5,3666188.3,31.22,"Dist-",49,49,null,null,"AllOTHER_FE_SECTOR_COLLEGES"]
[1,"ALL","SIXTH_FORM_COLLEGES",78137,77559,245309.89,7762484.2999999998,31.64,66695,66222,191143.5,5752172.5,30.09,"C",44270,4426480,33.33,"C+",9.3000000000000007,17.2,43935,11.3,67004,66526,194280.6,5876722.2999999998,30.25,"C",6918,6917,13541,491082.8,36.270000000000003,"Dist",21945,21924,37488,1394674.3,37.200000000000003,"Dist+",58,58,null,null,"AllSIXTH_FORM_COLLEGES"]
[1,"ALL","SPONSORED_ACADEMIES",27611,27288,81090.05,2426054.4,29.92,21950,21691,51425,1335552.5,25.97,"C-",10057,902450,29.91,"C",5.6,11.2,9808,8.5,22326,22066,53122.1,1387914.2,26.13,"C-",2885,2885,5022.25,185054,36.85,"Dist+",12519,12427,22945.75,853086.3,37.18,"Dist+",8,8,null,null,"AllSPONSORED_ACADEMIES"]
[1,"ALL","STUDIO_SCHOOLS",712,712,1982.1,60113.4,30.33,304,304,508.5,12315,24.22,"D+",82,6360,25.85,"C-",3.7,9.8000000000000007,82,7.3,343,343,535.6,13016,24.3,"D+",269,269,614.5,20101.900000000001,32.71,"Dist-",379,379,832,26995.5,32.450000000000003,"Dist-","x",2,null,null,"AllSTUDIO_SCHOOLS"]
[1,"ALL","UTCS",1594,1587,4602.3999999999996,130049.5,28.26,1185,1180,1921.5,38015,19.78,"D",269,21900,27.14,"C-",5.6,9.6999999999999993,266,9.4,1252,1247,2026.7,40938.1,20.2,"D",897,895,1921,68560.600000000006,35.69,"Dist",447,447,654.5,20549.3,31.4,"Dist-",55,55,null,null,"AllUTCS"]
[1,"F","ALL_INDEPENDENT_SCHOOLS",20380,20230,70851.490000000005,2953884.3,41.69,19164,19025,62882,2598885,41.33,"B",16417,2099650,42.63,"B+",30.2,45.1,16356,35.5,20283,20142,70019.5,2920653.2,41.71,"B+",73,73,134.75,5393.1,40.020000000000003,"Dist+",406,403,697.25,27838,39.93,"Dist+",0,0,null,null,"FemalesALL_INDEPENDENT_SCHOOLS"]
[1,"F","ALL_SCHOOLS",138665,135951,453897.39,15579165.800000001,34.32,129364,126857,385599,12823577.5,33.26,"C+",91616,9936760,36.15,"B-",13.9,23.8,90780,17.7,131598,129076,401892.1,13505695.9,33.61,"C+",4760,4754,7583.5,290997.7,38.369999999999997,"Dist+",26458,26272,44421.5,1782464,40.130000000000003,"Dist+",14,14,null,null,"FemalesALL_SCHOOLS"]
[1,"F","ALL_STATE_FUNDED_SCHOOLS",118275,116048,383034.6,12624946.5,32.96,110193,108155,322709,10224402.5,31.68,"C+",75198,7837070,34.74,"C+",10.4,19.2,74423,13.8,111307,109258,331864.3,10584752.699999999,31.89,"C+",4687,4681,7448.75,285604.59999999998,38.340000000000003,"Dist+",26050,25867,43721.25,1754581,40.130000000000003,"Dist+",14,14,null,null,"FemalesALL_STATE_FUNDED_SCHOOLS"]
[1,"F","CONVERTER_ACADEMIES",67735,67189,226316.94,7645545.7999999998,33.78,64544,64028,198985.5,6545205,32.89,"C+",47774,5116670,35.700000000000003,"B-",11.8,21.3,47392,15.4,65325,64806,205708.5,6819438.9000000004,33.15,"C+",1882,1882,2966.25,112525.7,37.94,"Dist+",11187,11130,17642,713573,40.450000000000003,"Dist+",4,4,null,null,"FemalesCONVERTER_ACADEMIES"]
[1,"F","FE_SECTOR_COLLEGES",107651,105614,297614.88,9403347.4000000004,31.6,56927,56154,158523,4751310,29.97,"C",36790,3629455,32.880000000000003,"C+",7.6,15.2,36485,8.6,57380,56597,161568.29999999999,4870102.7,30.14,"C",24990,24881,54604,1691237,30.97,"Dist-",39171,38891,81441.25,2842007.8,34.9,"Dist",20,20,null,null,"FemalesFE_SECTOR_COLLEGES"]
[1,"F","FREE_SCHOOLS",261,261,828.5,23992,28.96,232,232,726.5,20360,28.02,"C-",184,16990,30.78,"C",4.3,12,182,9.3000000000000007,232,232,737,20717,28.11,"C-",0,0,0,0,0,"U",38,38,91.5,3275,35.79,"Dist",0,0,null,null,"FemalesFREE_SCHOOLS"]
[1,"F","FREE_SCHOOLS_1619",683,683,2176.0700000000002,74620.7,34.29,567,567,1623.5,55025,33.89,"C+",401,43390,36.07,"B-",14.7,27.2,401,23.2,576,576,1706.1,58534,34.31,"C+",32,32,84.5,2788.8,33,"Dist-",172,172,385.5,13298,34.5,"Dist",0,0,null,null,"FemalesFREE_SCHOOLS_1619"]
[1,"F","INDEPENDENT_SCHOOLS",20316,20166,70718.990000000005,2950703.8,41.72,19111,18972,62782,2596730,41.36,"B",16399,2098460,42.65,"B+",30.2,45.1,16338,35.5,20229,20088,69913,2918207.7,41.74,"B+",67,67,125.25,5135.6000000000004,41,"Dist+",390,387,680.75,27360.5,40.19,"Dist+",0,0,null,null,"FemalesINDEPENDENT_SCHOOLS"]
[1,"F","INDEPENDENT_SPECIAL_SCHOOLS_NON_MAINTAINED_SPECIAL_SCHOOLS",64,64,132.5,3180.5,24,53,53,100,2155,21.55,"D",18,1190,22.04,"D+",0,5.6,18,5.6,54,54,106.5,2445.5,22.96,"D+",6,6,9.5,257.5,27.11,"Merit+",16,16,16.5,477.5,28.94,"Merit+",0,0,null,null,"FemalesINDEPENDENT_SPECIAL_SCHOOLS_NON_MAINTAINED_SPECIAL_SCHOOLS"]
[1,"F","LA_MAINTAINED_MAINSTREAM_SCHOOLS",34908,34649,109789.23,3507129.7,31.94,32686,32451,92821.5,2831330,30.5,"C",21200,2140685,33.659999999999997,"C+",8.5,16.399999999999999,20941,11.6,32814,32578,94198.8,2881827.8,30.59,"C",1409,1409,2042.5,79233.2,38.79,"Dist+",8202,8192,13547.75,546068.80000000005,40.31,"Dist+","x",2,null,null,"FemalesLA_MAINTAINED_MAINSTREAM_SCHOOLS"]
[1,"F","OTHER_FE_SECTOR_COLLEGES",64540,63834,160423.97,4904689.5,30.57,19247,19093,48239,1294865,26.84,"C-",10599,942920,29.65,"C",4.2,9.6,10529,4.7,19540,19384,49272.4,1331357.3999999999,27.02,"C-",21822,21725,48949.25,1481708.8,30.27,"Dist-",28171,28009,62201,2091623.3,33.630000000000003,"Dist",5,5,null,null,"FemalesOTHER_FE_SECTOR_COLLEGES"]
[1,"F","SIXTH_FORM_COLLEGES",43111,42839,137190.91,4498657.9000000004,32.79,37680,37459,110284,3456445,31.34,"C",26191,2686535,34.19,"C+",8.9,17.399999999999999,25956,10.199999999999999,37840,37617,112295.9,3538745.3,31.51,"C",3168,3167,5654.75,209528.2,37.049999999999997,"Dist+",11000,10988,19240.25,750384.5,39,"Dist+",15,15,null,null,"FemalesSIXTH_FORM_COLLEGES"]
[1,"F","SPONSORED_ACADEMIES",13608,13458,40554.06,1253717.1000000001,30.91,11431,11291,27128,729522.5,26.89,"C-",5369,491765,30.53,"C",4.9000000000000004,10.5,5246,6.6,11610,11469,28064.6,760492.1,27.1,"C-",1093,1093,1737,66736.3,38.42,"Dist+",5897,5870,10752.5,426488.8,39.659999999999997,"Dist+","x",1,null,null,"FemalesSPONSORED_ACADEMIES"]
[1,"F","STUDIO_SCHOOLS",309,309,850.1,27651.599999999999,32.53,135,135,211,5515,26.14,"C-",33,2820,28.48,"C",3,9.1,33,3,150,150,221.6,5810,26.22,"C-",70,70,145,4848.1000000000004,33.44,"Dist",200,200,483.5,16993.5,35.15,"Dist",0,0,null,null,"FemalesSTUDIO_SCHOOLS"]
[1,"F","UTCS",346,345,1048.4000000000001,31065.3,29.63,289,289,546.5,12825,23.47,"D+",96,7920,27.5,"C-",6.3,10.4,96,9.4,291,291,560.9,13295,23.7,"D+",116,115,218.5,8252.5,37.770000000000003,"Dist+",138,138,269,9517.7999999999993,35.380000000000003,"Dist",7,7,null,null,"FemalesUTCS"]
[1,"M","ALL_INDEPENDENT_SCHOOLS",20889,20737,71130.740000000005,2852955.8,40.11,19556,19412,62736.5,2494510,39.76,"B",16146,1987570,41.03,"B",28.1,41.2,16120,35.200000000000003,20709,20565,69840.2,2805914.8,40.18,"B",124,124,190.5,6545,34.36,"Dist",691,685,1100,40496,36.81,"Dist+",0,0,null,null,"MalesALL_INDEPENDENT_SCHOOLS"]
[1,"M","ALL_SCHOOLS",128666,125896,409273.85,13262646.9,32.409999999999997,115443,113065,332078.5,10422727.5,31.39,"C",75542,7934720,35.01,"B-",15.7,24.5,75016,21.3,117577,115166,345620.6,10968172.800000001,31.73,"C+",7850,7843,14161.75,512797.6,36.21,"Dist",29235,28933,49490.5,1781668.8,36,"Dist",116,116,null,null,"MalesALL_SCHOOLS"]
[1,"M","ALL_STATE_FUNDED_SCHOOLS",107773,105454,338135.11,10409331.199999999,30.78,95883,93941,269334,7927857.5,29.44,"C",59393,5946840,33.380000000000003,"C+",12.4,20,58893,17.5,96864,94893,275772.3,8161898.0999999996,29.6,"C",7726,7719,13971.25,506252.6,36.24,"Dist",28544,28249,48390.5,1741172.8,35.979999999999997,"Dist",116,116,null,null,"MalesALL_STATE_FUNDED_SCHOOLS"]
[1,"M","CONVERTER_ACADEMIES",59973,59425,195039.25,6171626.0999999996,31.64,55687,55193,165979.5,5103210,30.75,"C",37905,3908180,34.369999999999997,"C+",13.9,22.1,37674,19.3,56227,55731,170458.6,5276621.5,30.96,"C",2748,2748,4647,171039,36.81,"Dist+",12408,12371,19933.5,723965.5,36.32,"Dist",35,35,null,null,"MalesCONVERTER_ACADEMIES"]
[1,"M","FE_SECTOR_COLLEGES",100353,98192,264439.52,7555098,28.57,42908,42189,113754,3091747.5,27.18,"C-",24704,2299310,31.02,"C",8.6999999999999993,15,24577,11.4,43422,42691,115439.2,3150814.5,27.29,"C-",32729,32580,75501,2185396.6,28.95,"Merit+",38009,37650,73493.25,2218854.7999999998,30.19,"Dist-",87,87,null,null,"MalesFE_SECTOR_COLLEGES"]
[1,"M","FREE_SCHOOLS",376,376,1132.3499999999999,31788.799999999999,28.07,309,309,893,23335,26.13,"C-",219,18950,28.84,"C",3.7,9.6,218,8.6999999999999993,312,312,904.1,23620,26.13,"C-",36,36,105.25,3716.3,35.31,"Dist",52,52,123,4452.5,36.200000000000003,"Dist","x",1,null,null,"MalesFREE_SCHOOLS"]
[1,"M","FREE_SCHOOLS_1619",751,751,2269.46,73817.100000000006,32.53,560,560,1598.5,53060,33.19,"C+",407,43650,35.75,"B-",18.7,27,407,26.3,579,579,1636,54450.2,33.28,"C+",92,92,224,6965.6,31.1,"Dist-",198,198,409,12395,30.31,"Dist-",0,0,null,null,"MalesFREE_SCHOOLS_1619"]
[1,"M","INDEPENDENT_SCHOOLS",20761,20612,70869.75,2845758.5,40.15,19453,19311,62561.5,2489915,39.799999999999997,"B",16106,1984480,41.07,"B",28.1,41.3,16081,35.299999999999997,20604,20462,69662.5,2801256.2,40.21,"B",100,100,154.75,5468.8,35.340000000000003,"Dist",654,649,1052.5,39033.5,37.090000000000003,"Dist+",0,0,null,null,"MalesINDEPENDENT_SCHOOLS"]
[1,"M","INDEPENDENT_SPECIAL_SCHOOLS_NON_MAINTAINED_SPECIAL_SCHOOLS",128,127,260.99,7197.3,27.58,103,103,175,4595,26.26,"C-",40,3090,25.75,"C-",7.5,10,39,7.7,105,105,177.7,4658.5,26.21,"C-",24,24,35.75,1076.3,30.1,"Dist-",37,36,47.5,1462.5,30.79,"Dist-",0,0,null,null,"MalesINDEPENDENT_SPECIAL_SCHOOLS_NON_MAINTAINED_SPECIAL_SCHOOLS"]
[1,"M","LA_MAINTAINED_MAINSTREAM_SCHOOLS",30659,30406,93263.76,2782376.7,29.83,27495,27276,74347,2090167.5,28.11,"C-",15828,1533335,32.29,"C+",10.5,17.3,15694,15,27627,27405,75388.100000000006,2124812.2000000002,28.18,"C-",2003,1999,3317.75,122454.6,36.909999999999997,"Dist+",8605,8557,14557.75,535110,36.76,"Dist+","x",23,null,null,"MalesLA_MAINTAINED_MAINSTREAM_SCHOOLS"]
[1,"M","OTHER_FE_SECTOR_COLLEGES",65327,64573,156320.54,4291271.7,27.45,13893,13777,32894.5,796020,24.2,"D+",6625,559365,28.14,"C-",5.6,10.3,6598,7.7,14258,14138,33454.5,812837.4,24.3,"D+",28979,28845,67614.75,1903841.9,28.16,"Merit+",27064,26837,55245.5,1574565,28.5,"Merit+",44,44,null,null,"MalesOTHER_FE_SECTOR_COLLEGES"]
[1,"M","SIXTH_FORM_COLLEGES",35026,34723,108118.98,3263826.3,30.19,29015,28766,80859.5,2295727.5,28.39,"C",18079,1739945,32.08,"C+",9.8000000000000007,16.8,17979,12.8,29164,28912,81984.600000000006,2337977.1,28.52,"C",3750,3750,7886.25,281554.7,35.700000000000003,"Dist",10945,10936,18247.75,644289.80000000005,35.31,"Dist",43,43,null,null,"MalesSIXTH_FORM_COLLEGES"]
[1,"M","SPONSORED_ACADEMIES",14003,13830,40535.99,1172337.3,28.92,10519,10400,24297,606030,24.94,"D+",4688,410685,29.2,"C",6.5,12.1,4562,10.7,10716,10597,25057.5,627422.1,25.04,"C-",1792,1792,3285.25,118317.7,36.01,"Dist",6622,6557,12193.25,426597.5,34.99,"Dist","x",7,null,null,"MalesSPONSORED_ACADEMIES"]
[1,"M","STUDIO_SCHOOLS",403,403,1132,32461.8,28.68,169,169,297.5,6800,22.86,"D+",49,3540,24.08,"D+",4.0999999999999996,10.199999999999999,49,10.199999999999999,193,193,314,7206,22.95,"D+",199,199,469.5,15253.8,32.49,"Dist-",179,179,348.5,10002,28.7,"Merit+","x",2,null,null,"MalesSTUDIO_SCHOOLS"]
[1,"M","UTCS",1248,1242,3554,98984.2,27.85,896,891,1375,25190,18.32,"D-",173,13980,26.94,"C-",5.2,9.1999999999999993,170,9.4,961,956,1465.8,27643.1,18.86,"D",781,780,1702.5,60308.1,35.42,"Dist",309,309,385.5,11031.5,28.62,"Merit+",48,48,null,null,"MalesUTCS"]
[5,"ALL","NULL",454116,454116,1413002.56,45535907.100000001,32.229999999999997,333392,333392,979390,30870437.5,31.52,"C",229341,23836045,34.64,"C+",12.9,21.6,227625,16.7,338563,338563,1013955.8,32275894.399999999,31.83,"C+",70015,70015,151584.25,4673675.0999999996,30.83,"Dist-",130906,130906,247454.5,8586295.8000000007,34.700000000000003,"Dist",243,243,null,null,"AllNULL"]
[5,"F","NULL",236287,236287,745472.98,24841635.899999999,33.32,180597,180597,538676.5,17451212.5,32.4,"C+",128803,13587845,35.159999999999997,"B-",12.1,21.3,127705,15,183225,183225,558013.80000000005,18252142.800000001,32.71,"C+",29620,29620,62074.75,1979258.4,31.89,"Dist-",64850,64850,125382.75,4610226.5,36.770000000000003,"Dist+",35,35,null,null,"FemalesNULL"]
[5,"M","NULL",217829,217829,667529.57999999996,20694271.100000001,31,152795,152795,440713.5,13419225,30.45,"C",100538,10248200,33.979999999999997,"C+",14,22.1,99920,18.8,155338,155338,455942,14023751.6,30.76,"C",40395,40395,89509.5,2694416.6,30.1,"Dist-",66056,66056,122071.75,3976069.3,32.57,"Dist-",208,208,null,null,"MalesNULL"]
[7,"ALL","NULL",414144,414144,1271789.55,39742785.5,31.25,295799,295799,854553,25791297.5,30.18,"C",196484,19722565,33.46,"C+",10.199999999999999,18.100000000000001,194852,13.6,298710,298710,874856.8,26562839.199999999,30.36,"C",69822,69822,151262.5,4661824.4000000004,30.82,"Dist-",129823,129823,245662.25,8518080,34.67,"Dist",243,243,null,null,"AllNULL"]
[7,"F","NULL",216599,216599,675173.43,21901413.100000001,32.44,162047,162047,476349.5,14866167.5,31.21,"C",112273,11478735,34.08,"C+",9.4,17.8,111234,12,163562,163562,488544.2,15345087.4,31.41,"C",29547,29547,61940,1973865.3,31.87,"Dist-",64449,64449,124687.5,4582452.3,36.75,"Dist+",35,35,null,null,"FemalesNULL"]
[7,"M","NULL",197545,197545,596616.12,17841372.399999999,29.9,133752,133752,378203.5,10925130,28.89,"C",84211,8243830,32.630000000000003,"C+",11.3,18.5,83618,15.6,135148,135148,386312.6,11217751.9,29.04,"C",40275,40275,89322.5,2687959.1,30.09,"Dist-",65374,65374,120974.75,3935627.8,32.53,"Dist-",208,208,null,null,"MalesNULL"]
[null,null,null,0,0,0,0,0,0,0,0,0,0,0,0,0,0,0,0,0,0,0,0,0,0,0,0,0,0,0,0,0,0,0,0,0,0,0,0,0,0,0,null,null,"0"]
["rectype","gender","SCHOOL_TYPE_SFR",0,0,0,0,0,0,0,0,0,0,0,0,0,0,0,0,0,0,0,0,0,0,0,0,0,0,0,0,0,0,0,0,0,0,0,0,0,0,0,"TTECH_BACC","TTECH_BACC_distinct","0SCHOOL_TYPE_SFR"]
["rectype","gender","SCHOOL_TYPE_SFR","TALLPUP_LEV3_SFR","TALLPUP_LEV3_SFR_distinct",{"$error":"#VALUE!"},{"$error":"#VALUE!"},{"$error":"#VALUE!"},"TALLPUP_ALEV_1618","TALLPUP_ALEV_SFR_distinct",{"$error":"#VALUE!"},"TALLSCR_ALEV_1618",{"$error":"#VALUE!"},"TALLPPEGRD_ALEV","TINCLUDE_B3","TINCLUDE_B3_distinct",{"$error":"#VALUE!"},{"$error":"#VALUE!"},"TB3PTSE_GRD",{"$error":"#VALUE!"},{"$error":"#VALUE!"},"TINCLUDE_AAB_2FAC","TINCLUDE_AAB_distinct",{"$error":"#VALUE!"},"TALLPUP_ACAD_1618",{"$error":"#VALUE!"},{"$error":"#VALUE!"},{"$error":"#VALUE!"},{"$error":"#VALUE!"},"TALLPPEGRD_ACAD","TALLPUP_TLEV","TALLPUP_TLEV_SFR_distinct",{"$error":"#VALUE!"},{"$error":"#VALUE!"},{"$error":"#VALUE!"},"TALLPPEGRD_TLEV","TALLPUP_AGEN",{"$error":"#VALUE!"},{"$error":"#VALUE!"},"TALLSCR_AGEN",{"$error":"#VALUE!"},"TALLPPEGRD_AGEN","TTECH_BACC","TTECH_BACC_distinct","0SCHOOL_TYPE_SFR"]
[1,"ALL","ALL_SCHOOLS_AND_FE_SECTOR_COLLEGES",475335,454116,1425225.6,45800258.100000001,32.14,344642,333392,989954.5,31089362.5,31.4,"C",228652,228622,23800245,34.700000000000003,"C+",12.9,21.7,226858,226828,16.7,349977,338563,1024520.1,32494785.800000001,31.72,"C+",70329,70023,151850.29999999999,4680428.8,30.82,"Dist-",132873,131040,248846.5,8624995.25,34.659999999999997,"Dist",237,237]
[1,"ALL","ALL_STATE_FUNDED_SCHOOLS_AND_FE_SECTOR_COLLEGES",433892,414144,1282647.2,39971794.100000001,31.16,305751,295799,863762,25975057.5,30.07,"C",195933,195910,19695625,33.51,"C+",10.199999999999999,18.100000000000001,194226,194203,13.6,308813,298710,884067.1,26746638.899999999,30.25,"C",70132,69830,151525,4668490.7,30.81,"Dist-",131774,129957,247046.3,8556616.25,34.64,"Dist",237,237]
[1,"F","ALL_SCHOOLS_AND_FE_SECTOR_COLLEGES",246316,236324,751512.3,24982513.199999999,33.24,186291,180620,544122,17574887.5,32.299999999999997,"C+",128406,128391,13566215,35.22,"B-",12.1,21.3,127265,127250,15.1,188978,183248,563460.30000000005,18375798.5,32.61,"C+",29750,29627,62187.5,1982234.7,31.88,"Dist-",65629,64890,125862.8,4624471.75,36.74,"Dist+",34,34]
[1,"F","ALL_STATE_FUNDED_SCHOOLS_AND_FE_SECTOR_COLLEGES",225888,216635,680515.3,22023218.899999999,32.36,167082,162069,481102,14970832.5,31.12,"C",111952,111942,11462415,34.130000000000003,"C+",9.4,17.899999999999999,110872,110862,12.1,168649,163584,493298.3,15449780.4,31.32,"C",29677,29554,62052.800000000003,1976841.6,31.86,"Dist-",65221,64489,125162.5,4596588.75,36.72,"Dist+",34,34]
[1,"M","ALL_SCHOOLS_AND_FE_SECTOR_COLLEGES",229019,217843,673713.4,20817745,30.9,158351,152798,445832.5,13514475,30.31,"C",100246,100231,10234030,34.03,"C+",14,22.2,99593,99578,18.899999999999999,160999,155341,461059.7,14118987.300000001,30.62,"C",40579,40400,89662.8,2698194.1,30.09,"Dist-",67244,66155,122983.8,4000523.5,32.53,"Dist-",203,203]
[1,"M","ALL_STATE_FUNDED_SCHOOLS_AND_FE_SECTOR_COLLEGES",208004,197559,602131.9,17948575.199999999,29.81,138669,133755,382660,11004225,28.76,"C",83981,83968,8233210,32.68,"C+",11.3,18.5,83354,83341,15.7,140164,135151,390768.8,11296858.5,28.91,"C",40455,40280,89472.3,2691649.1,30.08,"Dist-",66553,65473,121883.8,3960027.5,32.49,"Dist-",203,203]
[5,"ALL","NULL",454116,454116,1413002.6,45535907.100000001,32.229999999999997,333392,333392,979390,30870437.5,31.52,"C",229341,229341,23836045,34.64,"C+",12.9,21.6,227625,227625,16.7,338563,338563,1013955.8,32275894.399999999,31.83,"C+",70015,70015,151584.29999999999,4673675.0999999996,30.83,"Dist-",130906,130906,247454.5,8586295.75,34.700000000000003,"Dist",243,243,"AllALL_SCHOOLS_AND_FE_SECTOR_COLLEGES"]
[5,"F","NULL",236287,236287,745473,24841635.899999999,33.32,180597,180597,538676.5,17451212.5,32.4,"C+",128803,128803,13587845,35.159999999999997,"B-",12.1,21.3,127705,127705,15,183225,183225,558013.80000000005,18252142.800000001,32.71,"C+",29620,29620,62074.8,1979258.4,31.89,"Dist-",64850,64850,125382.8,4610226.5,36.770000000000003,"Dist+",35,35,"FemalesALL_SCHOOLS_AND_FE_SECTOR_COLLEGES"]
[5,"M","NULL",217829,217829,667529.6,20694271.100000001,31,152795,152795,440713.5,13419225,30.45,"C",100538,100538,10248200,33.979999999999997,"C+",14,22.1,99920,99920,18.8,155338,155338,455942,14023751.6,30.76,"C",40395,40395,89509.5,2694416.6,30.1,"Dist-",66056,66056,122071.8,3976069.25,32.57,"Dist-",208,208,"MalesALL_SCHOOLS_AND_FE_SECTOR_COLLEGES"]
["5-PT","ALL","NULL",454116,454116,1413002.6,45535907.100000001,32.229999999999997,333392,333392,979390,30870437.5,31.52,"C",229341,229341,23836045,34.64,"C+",12.9,21.6,227625,227625,16.7,338563,338563,1013955.8,32275894.399999999,31.83,"C+",70015,70015,151584.29999999999,4673675.0999999996,30.83,"Dist-",130906,130906,247454.5,8586295.75,34.700000000000003,"Dist",243,243,"AllNULL"]
[7,"ALL","NULL",414144,414144,1271789.6000000001,39742785.5,31.25,295799,295799,854553,25791297.5,30.18,"C",196484,196484,19722565,33.46,"C+",10.199999999999999,18.100000000000001,194852,194852,13.6,298710,298710,874856.8,26562839.199999999,30.36,"C",69822,69822,151262.5,4661824.4000000004,30.82,"Dist-",129823,129823,245662.3,8518080,34.67,"Dist",243,243,"AllALL_STATE_FUNDED_SCHOOLS_AND_FE_SECTOR_COLLEGES"]
[7,"F","NULL",216599,216599,675173.4,21901413.100000001,32.44,162047,162047,476349.5,14866167.5,31.21,"C",112273,112273,11478735,34.08,"C+",9.4,17.8,111234,111234,12,163562,163562,488544.2,15345087.4,31.41,"C",29547,29547,61940,1973865.3,31.87,"Dist-",64449,64449,124687.5,4582452.25,36.75,"Dist+",35,35,"FemalesALL_STATE_FUNDED_SCHOOLS_AND_FE_SECTOR_COLLEGES"]
[7,"M","NULL",197545,197545,596616.1,17841372.399999999,29.9,133752,133752,378203.5,10925130,28.89,"C",84211,84211,8243830,32.630000000000003,"C+",11.3,18.5,83618,83618,15.6,135148,135148,386312.6,11217751.9,29.04,"C",40275,40275,89322.5,2687959.1,30.09,"Dist-",65374,65374,120974.8,3935627.75,32.53,"Dist-",208,208,"MalesALL_STATE_FUNDED_SCHOOLS_AND_FE_SECTOR_COLLEGES"]

{"sheet":"Table 1a","index":2,"n_rows":71,"n_cols":46,"rows_kept":71,"cut":false,"hidden":false,"merged":[[59,0,60,18],[6,5,7,5],[6,8,7,8],[6,15,7,15],[6,16,7,16],[4,3,7,3],[4,5,4,33],[5,21,5,23],[5,25,5,27],[5,29,5,31],[5,5,5,6],[5,8,5,19],[6,33,7,33],[6,31,7,31],[6,30,7,30],[6,29,7,29],[6,27,7,27],[6,26,7,26],[6,6,7,6],[6,14,7,14],[6,13,7,13],[6,10,7,10],[6,9,7,9],[6,12,7,12],[6,25,7,25],[6,23,7,23],[6,22,7,22],[6,21,7,21],[6,18,7,18],[6,19,7,19]]}
["Table 1a: Attainment of level 3 students1,2 aged 16 to 183 by institution type, cohort and gender "]
["Year: 2015/16 (provisional)"]
["Coverage: England"]
[]
[null,null,null,"Number of institutions 4",null,"All"]
[null,"Select gender:",null,null,null,"Level 3 students2",null,null,"A level students5",null,null,null,null,null,null,null,null,null,null,null,null,"Academic students6",null,null,null,"Tech level students7",null,null,null,"Applied General students8",null,null,null,"TechBacc9"]
[null,null,null,null,null,"Number of students ","APS10 per entry",null,"Number of students5","APS per entry","APS per entry as a grade",null,"Number of students entered for one or more  A level or applied A level 11","APS per entry, best 311,12","APS per entry, best 3 as a grade","Percentage of students achieving 3 A*-A grades or better at A level11,13","Percentage of students achieving grades AAB or better at A level11,13",null,"Number of students entered for 1 or more A level14","Percentage of students achieving grades AAB or better at A level, of which at least two are in facilitating subjects14,15",null,"Number of students","APS per entry","APS per entry as a grade",null,"Number of students","APS per entry","APS per entry as a grade",null,"Number of students","APS per entry","APS per entry as a grade",null,"Number of students achieving TechBacc"]
["Institution type"]
[]
["All state-funded schools16",null,null,2781,null,{"$f":"INDEX(SUPP_1a!D$3:D$69,MATCH((CONCATENATE($F$5,$AT10)),SUPP_1a!$AS$3:$AS$69,0))","v":226048},{"$f":"INDEX(SUPP_1a!H$3:H$69,MATCH((CONCATENATE($F$5,$AT10)),SUPP_1a!$AS$3:$AS$69,0))","v":31.94},null,{"$f":"INDEX(SUPP_1a!I$3:I$69,MATCH((CONCATENATE($F$5,$AT10)),SUPP_1a!$AS$3:$AS$69,0))","v":206076},{"$f":"INDEX(SUPP_1a!M$3:M$69,MATCH((CONCATENATE($F$5,$AT10)),SUPP_1a!$AS$3:$AS$69,0))","v":30.66},{"$f":"INDEX(SUPP_1a!N$3:N$69,MATCH((CONCATENATE($F$5,$AT10)),SUPP_1a!$AS$3:$AS$69,0))","v":"C"},null,{"$f":"INDEX(SUPP_1a!O$3:O$69,MATCH((CONCATENATE($F$5,$AT10)),SUPP_1a!$AS$3:$AS$69,0))","v":134591},{"$f":"INDEX(SUPP_1a!Q$3:Q$69,MATCH((CONCATENATE($F$5,$AT10)),SUPP_1a!$AS$3:$AS$69,0))","v":34.14},{"$f":"INDEX(SUPP_1a!R$3:R$69,MATCH((CONCATENATE($F$5,$AT10)),SUPP_1a!$AS$3:$AS$69,0))","v":"C+"},{"$f":"INDEX(SUPP_1a!S$3:S$69,MATCH((CONCATENATE($F$5,$AT10)),SUPP_1a!$AS$3:$AS$69,0))","v":11.3},{"$f":"INDEX(SUPP_1a!T$3:T$69,MATCH((CONCATENATE($F$5,$AT10)),SUPP_1a!$AS$3:$AS$69,0))","v":19.5},null,{"$f":"INDEX(SUPP_1a!U$3:U$69,MATCH((CONCATENATE($F$5,$AT10)),SUPP_1a!$AS$3:$AS$69,0))","v":133316},{"$f":"INDEX(SUPP_1a!V$3:V$69,MATCH((CONCATENATE($F$5,$AT10)),SUPP_1a!$AS$3:$AS$69,0))","v":15.4},null,{"$f":"INDEX(SUPP_1a!W$3:W$69,MATCH((CONCATENATE($F$5,$AT10)),SUPP_1a!$AS$3:$AS$69,0))","v":208171},{"$f":"INDEX(SUPP_1a!AA$3:AA$69,MATCH((CONCATENATE($F$5,$AT10)),SUPP_1a!$AS$3:$AS$69,0))","v":30.85},{"$f":"INDEX(SUPP_1a!AB$3:AB$69,MATCH((CONCATENATE($F$5,$AT10)),SUPP_1a!$AS$3:$AS$69,0))","v":"C"},null,{"$f":"INDEX(SUPP_1a!AC$3:AC$69,MATCH((CONCATENATE($F$5,$AT10)),SUPP_1a!$AS$3:$AS$69,0))","v":12413},{"$f":"INDEX(SUPP_1a!AG$3:AG$69,MATCH((CONCATENATE($F$5,$AT10)),SUPP_1a!$AS$3:$AS$69,0))","v":36.97},{"$f":"INDEX(SUPP_1a!AH$3:AH$69,MATCH((CONCATENATE($F$5,$AT10)),SUPP_1a!$AS$3:$AS$69,0))","v":"Dist+"},null,{"$f":"INDEX(SUPP_1a!AI$3:AI$69,MATCH((CONCATENATE($F$5,$AT10)),SUPP_1a!$AS$3:$AS$69,0))","v":54594},{"$f":"INDEX(SUPP_1a!AM$3:AM$69,MATCH((CONCATENATE($F$5,$AT10)),SUPP_1a!$AS$3:$AS$69,0))","v":37.950000000000003},{"$f":"INDEX(SUPP_1a!AN$3:AN$69,MATCH((CONCATENATE($F$5,$AT10)),SUPP_1a!$AS$3:$AS$69,0))","v":"Dist+"},null,{"$f":"INDEX(SUPP_1a!AO$3:AO$69,MATCH((CONCATENATE($F$5,$AT10)),SUPP_1a!$AS$3:$AS$69,0))","v":130},null,null,null,null,null,null,null,null,null,null,null,"ALL_STATE_FUNDED_SCHOOLS"]
["of which:"]
["  Local authority maintained mainstream schools17",null,null,714,null,{"$f":"INDEX(SUPP_1a!D$3:D$69,MATCH((CONCATENATE($F$5,$AT12)),SUPP_1a!$AS$3:$AS$69,0))","v":65567},{"$f":"INDEX(SUPP_1a!H$3:H$69,MATCH((CONCATENATE($F$5,$AT12)),SUPP_1a!$AS$3:$AS$69,0))","v":30.97},null,{"$f":"INDEX(SUPP_1a!I$3:I$69,MATCH((CONCATENATE($F$5,$AT12)),SUPP_1a!$AS$3:$AS$69,0))","v":60181},{"$f":"INDEX(SUPP_1a!M$3:M$69,MATCH((CONCATENATE($F$5,$AT12)),SUPP_1a!$AS$3:$AS$69,0))","v":29.44},{"$f":"INDEX(SUPP_1a!N$3:N$69,MATCH((CONCATENATE($F$5,$AT12)),SUPP_1a!$AS$3:$AS$69,0))","v":"C"},null,{"$f":"INDEX(SUPP_1a!O$3:O$69,MATCH((CONCATENATE($F$5,$AT12)),SUPP_1a!$AS$3:$AS$69,0))","v":37028},{"$f":"INDEX(SUPP_1a!Q$3:Q$69,MATCH((CONCATENATE($F$5,$AT12)),SUPP_1a!$AS$3:$AS$69,0))","v":33.07},{"$f":"INDEX(SUPP_1a!R$3:R$69,MATCH((CONCATENATE($F$5,$AT12)),SUPP_1a!$AS$3:$AS$69,0))","v":"C+"},{"$f":"INDEX(SUPP_1a!S$3:S$69,MATCH((CONCATENATE($F$5,$AT12)),SUPP_1a!$AS$3:$AS$69,0))","v":9.3000000000000007},{"$f":"INDEX(SUPP_1a!T$3:T$69,MATCH((CONCATENATE($F$5,$AT12)),SUPP_1a!$AS$3:$AS$69,0))","v":16.8},null,{"$f":"INDEX(SUPP_1a!U$3:U$69,MATCH((CONCATENATE($F$5,$AT12)),SUPP_1a!$AS$3:$AS$69,0))","v":36635},{"$f":"INDEX(SUPP_1a!V$3:V$69,MATCH((CONCATENATE($F$5,$AT12)),SUPP_1a!$AS$3:$AS$69,0))","v":13.1},null,{"$f":"INDEX(SUPP_1a!W$3:W$69,MATCH((CONCATENATE($F$5,$AT12)),SUPP_1a!$AS$3:$AS$69,0))","v":60441},{"$f":"INDEX(SUPP_1a!AA$3:AA$69,MATCH((CONCATENATE($F$5,$AT12)),SUPP_1a!$AS$3:$AS$69,0))","v":29.52},{"$f":"INDEX(SUPP_1a!AB$3:AB$69,MATCH((CONCATENATE($F$5,$AT12)),SUPP_1a!$AS$3:$AS$69,0))","v":"C"},null,{"$f":"INDEX(SUPP_1a!AC$3:AC$69,MATCH((CONCATENATE($F$5,$AT12)),SUPP_1a!$AS$3:$AS$69,0))","v":3412},{"$f":"INDEX(SUPP_1a!AG$3:AG$69,MATCH((CONCATENATE($F$5,$AT12)),SUPP_1a!$AS$3:$AS$69,0))","v":37.630000000000003},{"$f":"INDEX(SUPP_1a!AH$3:AH$69,MATCH((CONCATENATE($F$5,$AT12)),SUPP_1a!$AS$3:$AS$69,0))","v":"Dist+"},null,{"$f":"INDEX(SUPP_1a!AI$3:AI$69,MATCH((CONCATENATE($F$5,$AT12)),SUPP_1a!$AS$3:$AS$69,0))","v":16807},{"$f":"INDEX(SUPP_1a!AM$3:AM$69,MATCH((CONCATENATE($F$5,$AT12)),SUPP_1a!$AS$3:$AS$69,0))","v":38.47},{"$f":"INDEX(SUPP_1a!AN$3:AN$69,MATCH((CONCATENATE($F$5,$AT12)),SUPP_1a!$AS$3:$AS$69,0))","v":"Dist+"},null,{"$f":"INDEX(SUPP_1a!AO$3:AO$69,MATCH((CONCATENATE($F$5,$AT12)),SUPP_1a!$AS$3:$AS$69,0))","v":25},null,null,null,null,null,null,null,null,null,null,null,"LA_MAINTAINED_MAINSTREAM_SCHOOLS"]
["  Sponsored academies - mainstream18",null,null,415,null,{"$f":"INDEX(SUPP_1a!D$3:D$69,MATCH((CONCATENATE($F$5,$AT13)),SUPP_1a!$AS$3:$AS$69,0))","v":27611},{"$f":"INDEX(SUPP_1a!H$3:H$69,MATCH((CONCATENATE($F$5,$AT13)),SUPP_1a!$AS$3:$AS$69,0))","v":29.92},null,{"$f":"INDEX(SUPP_1a!I$3:I$69,MATCH((CONCATENATE($F$5,$AT13)),SUPP_1a!$AS$3:$AS$69,0))","v":21950},{"$f":"INDEX(SUPP_1a!M$3:M$69,MATCH((CONCATENATE($F$5,$AT13)),SUPP_1a!$AS$3:$AS$69,0))","v":25.97},{"$f":"INDEX(SUPP_1a!N$3:N$69,MATCH((CONCATENATE($F$5,$AT13)),SUPP_1a!$AS$3:$AS$69,0))","v":"C-"},null,{"$f":"INDEX(SUPP_1a!O$3:O$69,MATCH((CONCATENATE($F$5,$AT13)),SUPP_1a!$AS$3:$AS$69,0))","v":10057},{"$f":"INDEX(SUPP_1a!Q$3:Q$69,MATCH((CONCATENATE($F$5,$AT13)),SUPP_1a!$AS$3:$AS$69,0))","v":29.91},{"$f":"INDEX(SUPP_1a!R$3:R$69,MATCH((CONCATENATE($F$5,$AT13)),SUPP_1a!$AS$3:$AS$69,0))","v":"C"},{"$f":"INDEX(SUPP_1a!S$3:S$69,MATCH((CONCATENATE($F$5,$AT13)),SUPP_1a!$AS$3:$AS$69,0))","v":5.6},{"$f":"INDEX(SUPP_1a!T$3:T$69,MATCH((CONCATENATE($F$5,$AT13)),SUPP_1a!$AS$3:$AS$69,0))","v":11.2},null,{"$f":"INDEX(SUPP_1a!U$3:U$69,MATCH((CONCATENATE($F$5,$AT13)),SUPP_1a!$AS$3:$AS$69,0))","v":9808},{"$f":"INDEX(SUPP_1a!V$3:V$69,MATCH((CONCATENATE($F$5,$AT13)),SUPP_1a!$AS$3:$AS$69,0))","v":8.5},null,{"$f":"INDEX(SUPP_1a!W$3:W$69,MATCH((CONCATENATE($F$5,$AT13)),SUPP_1a!$AS$3:$AS$69,0))","v":22326},{"$f":"INDEX(SUPP_1a!AA$3:AA$69,MATCH((CONCATENATE($F$5,$AT13)),SUPP_1a!$AS$3:$AS$69,0))","v":26.13},{"$f":"INDEX(SUPP_1a!AB$3:AB$69,MATCH((CONCATENATE($F$5,$AT13)),SUPP_1a!$AS$3:$AS$69,0))","v":"C-"},null,{"$f":"INDEX(SUPP_1a!AC$3:AC$69,MATCH((CONCATENATE($F$5,$AT13)),SUPP_1a!$AS$3:$AS$69,0))","v":2885},{"$f":"INDEX(SUPP_1a!AG$3:AG$69,MATCH((CONCATENATE($F$5,$AT13)),SUPP_1a!$AS$3:$AS$69,0))","v":36.85},{"$f":"INDEX(SUPP_1a!AH$3:AH$69,MATCH((CONCATENATE($F$5,$AT13)),SUPP_1a!$AS$3:$AS$69,0))","v":"Dist+"},null,{"$f":"INDEX(SUPP_1a!AI$3:AI$69,MATCH((CONCATENATE($F$5,$AT13)),SUPP_1a!$AS$3:$AS$69,0))","v":12519},{"$f":"INDEX(SUPP_1a!AM$3:AM$69,MATCH((CONCATENATE($F$5,$AT13)),SUPP_1a!$AS$3:$AS$69,0))","v":37.18},{"$f":"INDEX(SUPP_1a!AN$3:AN$69,MATCH((CONCATENATE($F$5,$AT13)),SUPP_1a!$AS$3:$AS$69,0))","v":"Dist+"},null,{"$f":"INDEX(SUPP_1a!AO$3:AO$69,MATCH((CONCATENATE($F$5,$AT13)),SUPP_1a!$AS$3:$AS$69,0))","v":8},null,null,null,null,null,null,null,null,null,null,null,"SPONSORED_ACADEMIES"]
["  Converter academies - mainstream19",null,null,1039,null,{"$f":"INDEX(SUPP_1a!D$3:D$69,MATCH((CONCATENATE($F$5,$AT14)),SUPP_1a!$AS$3:$AS$69,0))","v":127708},{"$f":"INDEX(SUPP_1a!H$3:H$69,MATCH((CONCATENATE($F$5,$AT14)),SUPP_1a!$AS$3:$AS$69,0))","v":32.79},null,{"$f":"INDEX(SUPP_1a!I$3:I$69,MATCH((CONCATENATE($F$5,$AT14)),SUPP_1a!$AS$3:$AS$69,0))","v":120231},{"$f":"INDEX(SUPP_1a!M$3:M$69,MATCH((CONCATENATE($F$5,$AT14)),SUPP_1a!$AS$3:$AS$69,0))","v":31.92},{"$f":"INDEX(SUPP_1a!N$3:N$69,MATCH((CONCATENATE($F$5,$AT14)),SUPP_1a!$AS$3:$AS$69,0))","v":"C+"},null,{"$f":"INDEX(SUPP_1a!O$3:O$69,MATCH((CONCATENATE($F$5,$AT14)),SUPP_1a!$AS$3:$AS$69,0))","v":85679},{"$f":"INDEX(SUPP_1a!Q$3:Q$69,MATCH((CONCATENATE($F$5,$AT14)),SUPP_1a!$AS$3:$AS$69,0))","v":35.11},{"$f":"INDEX(SUPP_1a!R$3:R$69,MATCH((CONCATENATE($F$5,$AT14)),SUPP_1a!$AS$3:$AS$69,0))","v":"B-"},{"$f":"INDEX(SUPP_1a!S$3:S$69,MATCH((CONCATENATE($F$5,$AT14)),SUPP_1a!$AS$3:$AS$69,0))","v":12.7},{"$f":"INDEX(SUPP_1a!T$3:T$69,MATCH((CONCATENATE($F$5,$AT14)),SUPP_1a!$AS$3:$AS$69,0))","v":21.7},null,{"$f":"INDEX(SUPP_1a!U$3:U$69,MATCH((CONCATENATE($F$5,$AT14)),SUPP_1a!$AS$3:$AS$69,0))","v":85066},{"$f":"INDEX(SUPP_1a!V$3:V$69,MATCH((CONCATENATE($F$5,$AT14)),SUPP_1a!$AS$3:$AS$69,0))","v":17.100000000000001},null,{"$f":"INDEX(SUPP_1a!W$3:W$69,MATCH((CONCATENATE($F$5,$AT14)),SUPP_1a!$AS$3:$AS$69,0))","v":121552},{"$f":"INDEX(SUPP_1a!AA$3:AA$69,MATCH((CONCATENATE($F$5,$AT14)),SUPP_1a!$AS$3:$AS$69,0))","v":32.159999999999997},{"$f":"INDEX(SUPP_1a!AB$3:AB$69,MATCH((CONCATENATE($F$5,$AT14)),SUPP_1a!$AS$3:$AS$69,0))","v":"C+"},null,{"$f":"INDEX(SUPP_1a!AC$3:AC$69,MATCH((CONCATENATE($F$5,$AT14)),SUPP_1a!$AS$3:$AS$69,0))","v":4630},{"$f":"INDEX(SUPP_1a!AG$3:AG$69,MATCH((CONCATENATE($F$5,$AT14)),SUPP_1a!$AS$3:$AS$69,0))","v":37.25},{"$f":"INDEX(SUPP_1a!AH$3:AH$69,MATCH((CONCATENATE($F$5,$AT14)),SUPP_1a!$AS$3:$AS$69,0))","v":"Dist+"},null,{"$f":"INDEX(SUPP_1a!AI$3:AI$69,MATCH((CONCATENATE($F$5,$AT14)),SUPP_1a!$AS$3:$AS$69,0))","v":23595},{"$f":"INDEX(SUPP_1a!AM$3:AM$69,MATCH((CONCATENATE($F$5,$AT14)),SUPP_1a!$AS$3:$AS$69,0))","v":38.26},{"$f":"INDEX(SUPP_1a!AN$3:AN$69,MATCH((CONCATENATE($F$5,$AT14)),SUPP_1a!$AS$3:$AS$69,0))","v":"Dist+"},null,{"$f":"INDEX(SUPP_1a!AO$3:AO$69,MATCH((CONCATENATE($F$5,$AT14)),SUPP_1a!$AS$3:$AS$69,0))","v":39},null,null,null,null,null,null,null,null,null,null,null,"CONVERTER_ACADEMIES"]
["  Free schools",null,null,21,null,{"$f":"INDEX(SUPP_1a!D$3:D$69,MATCH((CONCATENATE($F$5,$AT15)),SUPP_1a!$AS$3:$AS$69,0))","v":637},{"$f":"INDEX(SUPP_1a!H$3:H$69,MATCH((CONCATENATE($F$5,$AT15)),SUPP_1a!$AS$3:$AS$69,0))","v":28.45},null,{"$f":"INDEX(SUPP_1a!I$3:I$69,MATCH((CONCATENATE($F$5,$AT15)),SUPP_1a!$AS$3:$AS$69,0))","v":541},{"$f":"INDEX(SUPP_1a!M$3:M$69,MATCH((CONCATENATE($F$5,$AT15)),SUPP_1a!$AS$3:$AS$69,0))","v":26.98},{"$f":"INDEX(SUPP_1a!N$3:N$69,MATCH((CONCATENATE($F$5,$AT15)),SUPP_1a!$AS$3:$AS$69,0))","v":"C-"},null,{"$f":"INDEX(SUPP_1a!O$3:O$69,MATCH((CONCATENATE($F$5,$AT15)),SUPP_1a!$AS$3:$AS$69,0))","v":403},{"$f":"INDEX(SUPP_1a!Q$3:Q$69,MATCH((CONCATENATE($F$5,$AT15)),SUPP_1a!$AS$3:$AS$69,0))","v":29.73},{"$f":"INDEX(SUPP_1a!R$3:R$69,MATCH((CONCATENATE($F$5,$AT15)),SUPP_1a!$AS$3:$AS$69,0))","v":"C"},{"$f":"INDEX(SUPP_1a!S$3:S$69,MATCH((CONCATENATE($F$5,$AT15)),SUPP_1a!$AS$3:$AS$69,0))","v":4},{"$f":"INDEX(SUPP_1a!T$3:T$69,MATCH((CONCATENATE($F$5,$AT15)),SUPP_1a!$AS$3:$AS$69,0))","v":10.7},null,{"$f":"INDEX(SUPP_1a!U$3:U$69,MATCH((CONCATENATE($F$5,$AT15)),SUPP_1a!$AS$3:$AS$69,0))","v":400},{"$f":"INDEX(SUPP_1a!V$3:V$69,MATCH((CONCATENATE($F$5,$AT15)),SUPP_1a!$AS$3:$AS$69,0))","v":9},null,{"$f":"INDEX(SUPP_1a!W$3:W$69,MATCH((CONCATENATE($F$5,$AT15)),SUPP_1a!$AS$3:$AS$69,0))","v":544},{"$f":"INDEX(SUPP_1a!AA$3:AA$69,MATCH((CONCATENATE($F$5,$AT15)),SUPP_1a!$AS$3:$AS$69,0))","v":27.02},{"$f":"INDEX(SUPP_1a!AB$3:AB$69,MATCH((CONCATENATE($F$5,$AT15)),SUPP_1a!$AS$3:$AS$69,0))","v":"C-"},null,{"$f":"INDEX(SUPP_1a!AC$3:AC$69,MATCH((CONCATENATE($F$5,$AT15)),SUPP_1a!$AS$3:$AS$69,0))","v":36},{"$f":"INDEX(SUPP_1a!AG$3:AG$69,MATCH((CONCATENATE($F$5,$AT15)),SUPP_1a!$AS$3:$AS$69,0))","v":35.31},{"$f":"INDEX(SUPP_1a!AH$3:AH$69,MATCH((CONCATENATE($F$5,$AT15)),SUPP_1a!$AS$3:$AS$69,0))","v":"Dist"},null,{"$f":"INDEX(SUPP_1a!AI$3:AI$69,MATCH((CONCATENATE($F$5,$AT15)),SUPP_1a!$AS$3:$AS$69,0))","v":90},{"$f":"INDEX(SUPP_1a!AM$3:AM$69,MATCH((CONCATENATE($F$5,$AT15)),SUPP_1a!$AS$3:$AS$69,0))","v":36.03},{"$f":"INDEX(SUPP_1a!AN$3:AN$69,MATCH((CONCATENATE($F$5,$AT15)),SUPP_1a!$AS$3:$AS$69,0))","v":"Dist"},null,{"$f":"INDEX(SUPP_1a!AO$3:AO$69,MATCH((CONCATENATE($F$5,$AT15)),SUPP_1a!$AS$3:$AS$69,0))","v":"x"},null,null,null,null,null,null,null,null,null,null,null,"FREE_SCHOOLS"]
["  Free schools (16-19)",null,null,15,null,{"$f":"INDEX(SUPP_1a!D$3:D$69,MATCH((CONCATENATE($F$5,$AT16)),SUPP_1a!$AS$3:$AS$69,0))","v":1434},{"$f":"INDEX(SUPP_1a!H$3:H$69,MATCH((CONCATENATE($F$5,$AT16)),SUPP_1a!$AS$3:$AS$69,0))","v":33.39},null,{"$f":"INDEX(SUPP_1a!I$3:I$69,MATCH((CONCATENATE($F$5,$AT16)),SUPP_1a!$AS$3:$AS$69,0))","v":1127},{"$f":"INDEX(SUPP_1a!M$3:M$69,MATCH((CONCATENATE($F$5,$AT16)),SUPP_1a!$AS$3:$AS$69,0))","v":33.549999999999997},{"$f":"INDEX(SUPP_1a!N$3:N$69,MATCH((CONCATENATE($F$5,$AT16)),SUPP_1a!$AS$3:$AS$69,0))","v":"C+"},null,{"$f":"INDEX(SUPP_1a!O$3:O$69,MATCH((CONCATENATE($F$5,$AT16)),SUPP_1a!$AS$3:$AS$69,0))","v":808},{"$f":"INDEX(SUPP_1a!Q$3:Q$69,MATCH((CONCATENATE($F$5,$AT16)),SUPP_1a!$AS$3:$AS$69,0))","v":35.909999999999997},{"$f":"INDEX(SUPP_1a!R$3:R$69,MATCH((CONCATENATE($F$5,$AT16)),SUPP_1a!$AS$3:$AS$69,0))","v":"B-"},{"$f":"INDEX(SUPP_1a!S$3:S$69,MATCH((CONCATENATE($F$5,$AT16)),SUPP_1a!$AS$3:$AS$69,0))","v":16.7},{"$f":"INDEX(SUPP_1a!T$3:T$69,MATCH((CONCATENATE($F$5,$AT16)),SUPP_1a!$AS$3:$AS$69,0))","v":27.1},null,{"$f":"INDEX(SUPP_1a!U$3:U$69,MATCH((CONCATENATE($F$5,$AT16)),SUPP_1a!$AS$3:$AS$69,0))","v":808},{"$f":"INDEX(SUPP_1a!V$3:V$69,MATCH((CONCATENATE($F$5,$AT16)),SUPP_1a!$AS$3:$AS$69,0))","v":24.8},null,{"$f":"INDEX(SUPP_1a!W$3:W$69,MATCH((CONCATENATE($F$5,$AT16)),SUPP_1a!$AS$3:$AS$69,0))","v":1155},{"$f":"INDEX(SUPP_1a!AA$3:AA$69,MATCH((CONCATENATE($F$5,$AT16)),SUPP_1a!$AS$3:$AS$69,0))","v":33.81},{"$f":"INDEX(SUPP_1a!AB$3:AB$69,MATCH((CONCATENATE($F$5,$AT16)),SUPP_1a!$AS$3:$AS$69,0))","v":"C+"},null,{"$f":"INDEX(SUPP_1a!AC$3:AC$69,MATCH((CONCATENATE($F$5,$AT16)),SUPP_1a!$AS$3:$AS$69,0))","v":124},{"$f":"INDEX(SUPP_1a!AG$3:AG$69,MATCH((CONCATENATE($F$5,$AT16)),SUPP_1a!$AS$3:$AS$69,0))","v":31.62},{"$f":"INDEX(SUPP_1a!AH$3:AH$69,MATCH((CONCATENATE($F$5,$AT16)),SUPP_1a!$AS$3:$AS$69,0))","v":"Dist-"},null,{"$f":"INDEX(SUPP_1a!AI$3:AI$69,MATCH((CONCATENATE($F$5,$AT16)),SUPP_1a!$AS$3:$AS$69,0))","v":370},{"$f":"INDEX(SUPP_1a!AM$3:AM$69,MATCH((CONCATENATE($F$5,$AT16)),SUPP_1a!$AS$3:$AS$69,0))","v":32.340000000000003},{"$f":"INDEX(SUPP_1a!AN$3:AN$69,MATCH((CONCATENATE($F$5,$AT16)),SUPP_1a!$AS$3:$AS$69,0))","v":"Dist-"},null,{"$f":"INDEX(SUPP_1a!AO$3:AO$69,MATCH((CONCATENATE($F$5,$AT16)),SUPP_1a!$AS$3:$AS$69,0))","v":0},null,null,null,null,null,null,null,null,null,null,null,"FREE_SCHOOLS_1619"]
["  University techical colleges (UTCs)",null,null,32,null,{"$f":"INDEX(SUPP_1a!D$3:D$69,MATCH((CONCATENATE($F$5,$AT17)),SUPP_1a!$AS$3:$AS$69,0))","v":1594},{"$f":"INDEX(SUPP_1a!H$3:H$69,MATCH((CONCATENATE($F$5,$AT17)),SUPP_1a!$AS$3:$AS$69,0))","v":28.26},null,{"$f":"INDEX(SUPP_1a!I$3:I$69,MATCH((CONCATENATE($F$5,$AT17)),SUPP_1a!$AS$3:$AS$69,0))","v":1185},{"$f":"INDEX(SUPP_1a!M$3:M$69,MATCH((CONCATENATE($F$5,$AT17)),SUPP_1a!$AS$3:$AS$69,0))","v":19.78},{"$f":"INDEX(SUPP_1a!N$3:N$69,MATCH((CONCATENATE($F$5,$AT17)),SUPP_1a!$AS$3:$AS$69,0))","v":"D"},null,{"$f":"INDEX(SUPP_1a!O$3:O$69,MATCH((CONCATENATE($F$5,$AT17)),SUPP_1a!$AS$3:$AS$69,0))","v":269},{"$f":"INDEX(SUPP_1a!Q$3:Q$69,MATCH((CONCATENATE($F$5,$AT17)),SUPP_1a!$AS$3:$AS$69,0))","v":27.14},{"$f":"INDEX(SUPP_1a!R$3:R$69,MATCH((CONCATENATE($F$5,$AT17)),SUPP_1a!$AS$3:$AS$69,0))","v":"C-"},{"$f":"INDEX(SUPP_1a!S$3:S$69,MATCH((CONCATENATE($F$5,$AT17)),SUPP_1a!$AS$3:$AS$69,0))","v":5.6},{"$f":"INDEX(SUPP_1a!T$3:T$69,MATCH((CONCATENATE($F$5,$AT17)),SUPP_1a!$AS$3:$AS$69,0))","v":9.6999999999999993},null,{"$f":"INDEX(SUPP_1a!U$3:U$69,MATCH((CONCATENATE($F$5,$AT17)),SUPP_1a!$AS$3:$AS$69,0))","v":266},{"$f":"INDEX(SUPP_1a!V$3:V$69,MATCH((CONCATENATE($F$5,$AT17)),SUPP_1a!$AS$3:$AS$69,0))","v":9.4},null,{"$f":"INDEX(SUPP_1a!W$3:W$69,MATCH((CONCATENATE($F$5,$AT17)),SUPP_1a!$AS$3:$AS$69,0))","v":1252},{"$f":"INDEX(SUPP_1a!AA$3:AA$69,MATCH((CONCATENATE($F$5,$AT17)),SUPP_1a!$AS$3:$AS$69,0))","v":20.2},{"$f":"INDEX(SUPP_1a!AB$3:AB$69,MATCH((CONCATENATE($F$5,$AT17)),SUPP_1a!$AS$3:$AS$69,0))","v":"D"},null,{"$f":"INDEX(SUPP_1a!AC$3:AC$69,MATCH((CONCATENATE($F$5,$AT17)),SUPP_1a!$AS$3:$AS$69,0))","v":897},{"$f":"INDEX(SUPP_1a!AG$3:AG$69,MATCH((CONCATENATE($F$5,$AT17)),SUPP_1a!$AS$3:$AS$69,0))","v":35.69},{"$f":"INDEX(SUPP_1a!AH$3:AH$69,MATCH((CONCATENATE($F$5,$AT17)),SUPP_1a!$AS$3:$AS$69,0))","v":"Dist"},null,{"$f":"INDEX(SUPP_1a!AI$3:AI$69,MATCH((CONCATENATE($F$5,$AT17)),SUPP_1a!$AS$3:$AS$69,0))","v":447},{"$f":"INDEX(SUPP_1a!AM$3:AM$69,MATCH((CONCATENATE($F$5,$AT17)),SUPP_1a!$AS$3:$AS$69,0))","v":31.4},{"$f":"INDEX(SUPP_1a!AN$3:AN$69,MATCH((CONCATENATE($F$5,$AT17)),SUPP_1a!$AS$3:$AS$69,0))","v":"Dist-"},null,{"$f":"INDEX(SUPP_1a!AO$3:AO$69,MATCH((CONCATENATE($F$5,$AT17)),SUPP_1a!$AS$3:$AS$69,0))","v":55},null,null,null,null,null,null,null,null,null,null,null,"UTCS"]
["  Studio schools",null,null,35,null,{"$f":"INDEX(SUPP_1a!D$3:D$69,MATCH((CONCATENATE($F$5,$AT18)),SUPP_1a!$AS$3:$AS$69,0))","v":712},{"$f":"INDEX(SUPP_1a!H$3:H$69,MATCH((CONCATENATE($F$5,$AT18)),SUPP_1a!$AS$3:$AS$69,0))","v":30.33},null,{"$f":"INDEX(SUPP_1a!I$3:I$69,MATCH((CONCATENATE($F$5,$AT18)),SUPP_1a!$AS$3:$AS$69,0))","v":304},{"$f":"INDEX(SUPP_1a!M$3:M$69,MATCH((CONCATENATE($F$5,$AT18)),SUPP_1a!$AS$3:$AS$69,0))","v":24.22},{"$f":"INDEX(SUPP_1a!N$3:N$69,MATCH((CONCATENATE($F$5,$AT18)),SUPP_1a!$AS$3:$AS$69,0))","v":"D+"},null,{"$f":"INDEX(SUPP_1a!O$3:O$69,MATCH((CONCATENATE($F$5,$AT18)),SUPP_1a!$AS$3:$AS$69,0))","v":82},{"$f":"INDEX(SUPP_1a!Q$3:Q$69,MATCH((CONCATENATE($F$5,$AT18)),SUPP_1a!$AS$3:$AS$69,0))","v":25.85},{"$f":"INDEX(SUPP_1a!R$3:R$69,MATCH((CONCATENATE($F$5,$AT18)),SUPP_1a!$AS$3:$AS$69,0))","v":"C-"},{"$f":"INDEX(SUPP_1a!S$3:S$69,MATCH((CONCATENATE($F$5,$AT18)),SUPP_1a!$AS$3:$AS$69,0))","v":3.7},{"$f":"INDEX(SUPP_1a!T$3:T$69,MATCH((CONCATENATE($F$5,$AT18)),SUPP_1a!$AS$3:$AS$69,0))","v":9.8000000000000007},null,{"$f":"INDEX(SUPP_1a!U$3:U$69,MATCH((CONCATENATE($F$5,$AT18)),SUPP_1a!$AS$3:$AS$69,0))","v":82},{"$f":"INDEX(SUPP_1a!V$3:V$69,MATCH((CONCATENATE($F$5,$AT18)),SUPP_1a!$AS$3:$AS$69,0))","v":7.3},null,{"$f":"INDEX(SUPP_1a!W$3:W$69,MATCH((CONCATENATE($F$5,$AT18)),SUPP_1a!$AS$3:$AS$69,0))","v":343},{"$f":"INDEX(SUPP_1a!AA$3:AA$69,MATCH((CONCATENATE($F$5,$AT18)),SUPP_1a!$AS$3:$AS$69,0))","v":24.3},{"$f":"INDEX(SUPP_1a!AB$3:AB$69,MATCH((CONCATENATE($F$5,$AT18)),SUPP_1a!$AS$3:$AS$69,0))","v":"D+"},null,{"$f":"INDEX(SUPP_1a!AC$3:AC$69,MATCH((CONCATENATE($F$5,$AT18)),SUPP_1a!$AS$3:$AS$69,0))","v":269},{"$f":"INDEX(SUPP_1a!AG$3:AG$69,MATCH((CONCATENATE($F$5,$AT18)),SUPP_1a!$AS$3:$AS$69,0))","v":32.71},{"$f":"INDEX(SUPP_1a!AH$3:AH$69,MATCH((CONCATENATE($F$5,$AT18)),SUPP_1a!$AS$3:$AS$69,0))","v":"Dist-"},null,{"$f":"INDEX(SUPP_1a!AI$3:AI$69,MATCH((CONCATENATE($F$5,$AT18)),SUPP_1a!$AS$3:$AS$69,0))","v":379},{"$f":"INDEX(SUPP_1a!AM$3:AM$69,MATCH((CONCATENATE($F$5,$AT18)),SUPP_1a!$AS$3:$AS$69,0))","v":32.450000000000003},{"$f":"INDEX(SUPP_1a!AN$3:AN$69,MATCH((CONCATENATE($F$5,$AT18)),SUPP_1a!$AS$3:$AS$69,0))","v":"Dist-"},null,{"$f":"INDEX(SUPP_1a!AO$3:AO$69,MATCH((CONCATENATE($F$5,$AT18)),SUPP_1a!$AS$3:$AS$69,0))","v":"x"},null,null,null,null,null,null,null,null,null,null,null,"STUDIO_SCHOOLS"]
[]
["Independent schools",null,null,926,null,{"$f":"INDEX(SUPP_1a!D$3:D$69,MATCH((CONCATENATE($F$5,$AT20)),SUPP_1a!$AS$3:$AS$69,0))","v":41269},{"$f":"INDEX(SUPP_1a!H$3:H$69,MATCH((CONCATENATE($F$5,$AT20)),SUPP_1a!$AS$3:$AS$69,0))","v":40.9},null,{"$f":"INDEX(SUPP_1a!I$3:I$69,MATCH((CONCATENATE($F$5,$AT20)),SUPP_1a!$AS$3:$AS$69,0))","v":38720},{"$f":"INDEX(SUPP_1a!M$3:M$69,MATCH((CONCATENATE($F$5,$AT20)),SUPP_1a!$AS$3:$AS$69,0))","v":40.549999999999997},{"$f":"INDEX(SUPP_1a!N$3:N$69,MATCH((CONCATENATE($F$5,$AT20)),SUPP_1a!$AS$3:$AS$69,0))","v":"B"},null,{"$f":"INDEX(SUPP_1a!O$3:O$69,MATCH((CONCATENATE($F$5,$AT20)),SUPP_1a!$AS$3:$AS$69,0))","v":32563},{"$f":"INDEX(SUPP_1a!Q$3:Q$69,MATCH((CONCATENATE($F$5,$AT20)),SUPP_1a!$AS$3:$AS$69,0))","v":41.84},{"$f":"INDEX(SUPP_1a!R$3:R$69,MATCH((CONCATENATE($F$5,$AT20)),SUPP_1a!$AS$3:$AS$69,0))","v":"B+"},{"$f":"INDEX(SUPP_1a!S$3:S$69,MATCH((CONCATENATE($F$5,$AT20)),SUPP_1a!$AS$3:$AS$69,0))","v":29.1},{"$f":"INDEX(SUPP_1a!T$3:T$69,MATCH((CONCATENATE($F$5,$AT20)),SUPP_1a!$AS$3:$AS$69,0))","v":43.1},null,{"$f":"INDEX(SUPP_1a!U$3:U$69,MATCH((CONCATENATE($F$5,$AT20)),SUPP_1a!$AS$3:$AS$69,0))","v":32476},{"$f":"INDEX(SUPP_1a!V$3:V$69,MATCH((CONCATENATE($F$5,$AT20)),SUPP_1a!$AS$3:$AS$69,0))","v":35.4},null,{"$f":"INDEX(SUPP_1a!W$3:W$69,MATCH((CONCATENATE($F$5,$AT20)),SUPP_1a!$AS$3:$AS$69,0))","v":40992},{"$f":"INDEX(SUPP_1a!AA$3:AA$69,MATCH((CONCATENATE($F$5,$AT20)),SUPP_1a!$AS$3:$AS$69,0))","v":40.950000000000003},{"$f":"INDEX(SUPP_1a!AB$3:AB$69,MATCH((CONCATENATE($F$5,$AT20)),SUPP_1a!$AS$3:$AS$69,0))","v":"B"},null,{"$f":"INDEX(SUPP_1a!AC$3:AC$69,MATCH((CONCATENATE($F$5,$AT20)),SUPP_1a!$AS$3:$AS$69,0))","v":197},{"$f":"INDEX(SUPP_1a!AG$3:AG$69,MATCH((CONCATENATE($F$5,$AT20)),SUPP_1a!$AS$3:$AS$69,0))","v":36.700000000000003},{"$f":"INDEX(SUPP_1a!AH$3:AH$69,MATCH((CONCATENATE($F$5,$AT20)),SUPP_1a!$AS$3:$AS$69,0))","v":"Dist+"},null,{"$f":"INDEX(SUPP_1a!AI$3:AI$69,MATCH((CONCATENATE($F$5,$AT20)),SUPP_1a!$AS$3:$AS$69,0))","v":1097},{"$f":"INDEX(SUPP_1a!AM$3:AM$69,MATCH((CONCATENATE($F$5,$AT20)),SUPP_1a!$AS$3:$AS$69,0))","v":38.020000000000003},{"$f":"INDEX(SUPP_1a!AN$3:AN$69,MATCH((CONCATENATE($F$5,$AT20)),SUPP_1a!$AS$3:$AS$69,0))","v":"Dist+"},null,{"$f":"INDEX(SUPP_1a!AO$3:AO$69,MATCH((CONCATENATE($F$5,$AT20)),SUPP_1a!$AS$3:$AS$69,0))","v":0},null,null,null,null,null,null,null,null,null,null,null,"ALL_INDEPENDENT_SCHOOLS"]
["of which:"]
["  Independent schools",null,null,716,null,{"$f":"INDEX(SUPP_1a!D$3:D$69,MATCH((CONCATENATE($F$5,$AT22)),SUPP_1a!$AS$3:$AS$69,0))","v":41077},{"$f":"INDEX(SUPP_1a!H$3:H$69,MATCH((CONCATENATE($F$5,$AT22)),SUPP_1a!$AS$3:$AS$69,0))","v":40.94},null,{"$f":"INDEX(SUPP_1a!I$3:I$69,MATCH((CONCATENATE($F$5,$AT22)),SUPP_1a!$AS$3:$AS$69,0))","v":38564},{"$f":"INDEX(SUPP_1a!M$3:M$69,MATCH((CONCATENATE($F$5,$AT22)),SUPP_1a!$AS$3:$AS$69,0))","v":40.58},{"$f":"INDEX(SUPP_1a!N$3:N$69,MATCH((CONCATENATE($F$5,$AT22)),SUPP_1a!$AS$3:$AS$69,0))","v":"B"},null,{"$f":"INDEX(SUPP_1a!O$3:O$69,MATCH((CONCATENATE($F$5,$AT22)),SUPP_1a!$AS$3:$AS$69,0))","v":32505},{"$f":"INDEX(SUPP_1a!Q$3:Q$69,MATCH((CONCATENATE($F$5,$AT22)),SUPP_1a!$AS$3:$AS$69,0))","v":41.87},{"$f":"INDEX(SUPP_1a!R$3:R$69,MATCH((CONCATENATE($F$5,$AT22)),SUPP_1a!$AS$3:$AS$69,0))","v":"B+"},{"$f":"INDEX(SUPP_1a!S$3:S$69,MATCH((CONCATENATE($F$5,$AT22)),SUPP_1a!$AS$3:$AS$69,0))","v":29.2},{"$f":"INDEX(SUPP_1a!T$3:T$69,MATCH((CONCATENATE($F$5,$AT22)),SUPP_1a!$AS$3:$AS$69,0))","v":43.2},null,{"$f":"INDEX(SUPP_1a!U$3:U$69,MATCH((CONCATENATE($F$5,$AT22)),SUPP_1a!$AS$3:$AS$69,0))","v":32419},{"$f":"INDEX(SUPP_1a!V$3:V$69,MATCH((CONCATENATE($F$5,$AT22)),SUPP_1a!$AS$3:$AS$69,0))","v":35.4},null,{"$f":"INDEX(SUPP_1a!W$3:W$69,MATCH((CONCATENATE($F$5,$AT22)),SUPP_1a!$AS$3:$AS$69,0))","v":40833},{"$f":"INDEX(SUPP_1a!AA$3:AA$69,MATCH((CONCATENATE($F$5,$AT22)),SUPP_1a!$AS$3:$AS$69,0))","v":40.98},{"$f":"INDEX(SUPP_1a!AB$3:AB$69,MATCH((CONCATENATE($F$5,$AT22)),SUPP_1a!$AS$3:$AS$69,0))","v":"B"},null,{"$f":"INDEX(SUPP_1a!AC$3:AC$69,MATCH((CONCATENATE($F$5,$AT22)),SUPP_1a!$AS$3:$AS$69,0))","v":167},{"$f":"INDEX(SUPP_1a!AG$3:AG$69,MATCH((CONCATENATE($F$5,$AT22)),SUPP_1a!$AS$3:$AS$69,0))","v":37.869999999999997},{"$f":"INDEX(SUPP_1a!AH$3:AH$69,MATCH((CONCATENATE($F$5,$AT22)),SUPP_1a!$AS$3:$AS$69,0))","v":"Dist+"},null,{"$f":"INDEX(SUPP_1a!AI$3:AI$69,MATCH((CONCATENATE($F$5,$AT22)),SUPP_1a!$AS$3:$AS$69,0))","v":1044},{"$f":"INDEX(SUPP_1a!AM$3:AM$69,MATCH((CONCATENATE($F$5,$AT22)),SUPP_1a!$AS$3:$AS$69,0))","v":38.31},{"$f":"INDEX(SUPP_1a!AN$3:AN$69,MATCH((CONCATENATE($F$5,$AT22)),SUPP_1a!$AS$3:$AS$69,0))","v":"Dist+"},null,{"$f":"INDEX(SUPP_1a!AO$3:AO$69,MATCH((CONCATENATE($F$5,$AT22)),SUPP_1a!$AS$3:$AS$69,0))","v":0},null,null,null,null,null,null,null,null,null,null,null,"INDEPENDENT_SCHOOLS"]
["  Independent special schools and non-maintained special schools20",null,null,210,null,{"$f":"INDEX(SUPP_1a!D$3:D$69,MATCH((CONCATENATE($F$5,$AT23)),SUPP_1a!$AS$3:$AS$69,0))","v":192},{"$f":"INDEX(SUPP_1a!H$3:H$69,MATCH((CONCATENATE($F$5,$AT23)),SUPP_1a!$AS$3:$AS$69,0))","v":26.37},null,{"$f":"INDEX(SUPP_1a!I$3:I$69,MATCH((CONCATENATE($F$5,$AT23)),SUPP_1a!$AS$3:$AS$69,0))","v":156},{"$f":"INDEX(SUPP_1a!M$3:M$69,MATCH((CONCATENATE($F$5,$AT23)),SUPP_1a!$AS$3:$AS$69,0))","v":24.55},{"$f":"INDEX(SUPP_1a!N$3:N$69,MATCH((CONCATENATE($F$5,$AT23)),SUPP_1a!$AS$3:$AS$69,0))","v":"D+"},null,{"$f":"INDEX(SUPP_1a!O$3:O$69,MATCH((CONCATENATE($F$5,$AT23)),SUPP_1a!$AS$3:$AS$69,0))","v":58},{"$f":"INDEX(SUPP_1a!Q$3:Q$69,MATCH((CONCATENATE($F$5,$AT23)),SUPP_1a!$AS$3:$AS$69,0))","v":24.6},{"$f":"INDEX(SUPP_1a!R$3:R$69,MATCH((CONCATENATE($F$5,$AT23)),SUPP_1a!$AS$3:$AS$69,0))","v":"D+"},{"$f":"INDEX(SUPP_1a!S$3:S$69,MATCH((CONCATENATE($F$5,$AT23)),SUPP_1a!$AS$3:$AS$69,0))","v":5.2},{"$f":"INDEX(SUPP_1a!T$3:T$69,MATCH((CONCATENATE($F$5,$AT23)),SUPP_1a!$AS$3:$AS$69,0))","v":8.6},null,{"$f":"INDEX(SUPP_1a!U$3:U$69,MATCH((CONCATENATE($F$5,$AT23)),SUPP_1a!$AS$3:$AS$69,0))","v":57},{"$f":"INDEX(SUPP_1a!V$3:V$69,MATCH((CONCATENATE($F$5,$AT23)),SUPP_1a!$AS$3:$AS$69,0))","v":7},null,{"$f":"INDEX(SUPP_1a!W$3:W$69,MATCH((CONCATENATE($F$5,$AT23)),SUPP_1a!$AS$3:$AS$69,0))","v":159},{"$f":"INDEX(SUPP_1a!AA$3:AA$69,MATCH((CONCATENATE($F$5,$AT23)),SUPP_1a!$AS$3:$AS$69,0))","v":24.99},{"$f":"INDEX(SUPP_1a!AB$3:AB$69,MATCH((CONCATENATE($F$5,$AT23)),SUPP_1a!$AS$3:$AS$69,0))","v":"D+"},null,{"$f":"INDEX(SUPP_1a!AC$3:AC$69,MATCH((CONCATENATE($F$5,$AT23)),SUPP_1a!$AS$3:$AS$69,0))","v":30},{"$f":"INDEX(SUPP_1a!AG$3:AG$69,MATCH((CONCATENATE($F$5,$AT23)),SUPP_1a!$AS$3:$AS$69,0))","v":29.48},{"$f":"INDEX(SUPP_1a!AH$3:AH$69,MATCH((CONCATENATE($F$5,$AT23)),SUPP_1a!$AS$3:$AS$69,0))","v":"Merit+"},null,{"$f":"INDEX(SUPP_1a!AI$3:AI$69,MATCH((CONCATENATE($F$5,$AT23)),SUPP_1a!$AS$3:$AS$69,0))","v":53},{"$f":"INDEX(SUPP_1a!AM$3:AM$69,MATCH((CONCATENATE($F$5,$AT23)),SUPP_1a!$AS$3:$AS$69,0))","v":30.31},{"$f":"INDEX(SUPP_1a!AN$3:AN$69,MATCH((CONCATENATE($F$5,$AT23)),SUPP_1a!$AS$3:$AS$69,0))","v":"Dist-"},null,{"$f":"INDEX(SUPP_1a!AO$3:AO$69,MATCH((CONCATENATE($F$5,$AT23)),SUPP_1a!$AS$3:$AS$69,0))","v":0},null,null,null,null,null,null,null,null,null,null,null,"INDEPENDENT_SPECIAL_SCHOOLS_NON_MAINTAINED_SPECIAL_SCHOOLS"]
[]
["All schools21",null,null,3807,null,{"$f":"INDEX(SUPP_1a!D$3:D$69,MATCH((CONCATENATE($F$5,$AT25)),SUPP_1a!$AS$3:$AS$69,0))","v":267331},{"$f":"INDEX(SUPP_1a!H$3:H$69,MATCH((CONCATENATE($F$5,$AT25)),SUPP_1a!$AS$3:$AS$69,0))","v":33.409999999999997},null,{"$f":"INDEX(SUPP_1a!I$3:I$69,MATCH((CONCATENATE($F$5,$AT25)),SUPP_1a!$AS$3:$AS$69,0))","v":244807},{"$f":"INDEX(SUPP_1a!M$3:M$69,MATCH((CONCATENATE($F$5,$AT25)),SUPP_1a!$AS$3:$AS$69,0))","v":32.39},{"$f":"INDEX(SUPP_1a!N$3:N$69,MATCH((CONCATENATE($F$5,$AT25)),SUPP_1a!$AS$3:$AS$69,0))","v":"C+"},null,{"$f":"INDEX(SUPP_1a!O$3:O$69,MATCH((CONCATENATE($F$5,$AT25)),SUPP_1a!$AS$3:$AS$69,0))","v":167158},{"$f":"INDEX(SUPP_1a!Q$3:Q$69,MATCH((CONCATENATE($F$5,$AT25)),SUPP_1a!$AS$3:$AS$69,0))","v":35.64},{"$f":"INDEX(SUPP_1a!R$3:R$69,MATCH((CONCATENATE($F$5,$AT25)),SUPP_1a!$AS$3:$AS$69,0))","v":"B-"},{"$f":"INDEX(SUPP_1a!S$3:S$69,MATCH((CONCATENATE($F$5,$AT25)),SUPP_1a!$AS$3:$AS$69,0))","v":14.7},{"$f":"INDEX(SUPP_1a!T$3:T$69,MATCH((CONCATENATE($F$5,$AT25)),SUPP_1a!$AS$3:$AS$69,0))","v":24.1},null,{"$f":"INDEX(SUPP_1a!U$3:U$69,MATCH((CONCATENATE($F$5,$AT25)),SUPP_1a!$AS$3:$AS$69,0))","v":165796},{"$f":"INDEX(SUPP_1a!V$3:V$69,MATCH((CONCATENATE($F$5,$AT25)),SUPP_1a!$AS$3:$AS$69,0))","v":19.3},null,{"$f":"INDEX(SUPP_1a!W$3:W$69,MATCH((CONCATENATE($F$5,$AT25)),SUPP_1a!$AS$3:$AS$69,0))","v":249175},{"$f":"INDEX(SUPP_1a!AA$3:AA$69,MATCH((CONCATENATE($F$5,$AT25)),SUPP_1a!$AS$3:$AS$69,0))","v":32.74},{"$f":"INDEX(SUPP_1a!AB$3:AB$69,MATCH((CONCATENATE($F$5,$AT25)),SUPP_1a!$AS$3:$AS$69,0))","v":"C+"},null,{"$f":"INDEX(SUPP_1a!AC$3:AC$69,MATCH((CONCATENATE($F$5,$AT25)),SUPP_1a!$AS$3:$AS$69,0))","v":12610},{"$f":"INDEX(SUPP_1a!AG$3:AG$69,MATCH((CONCATENATE($F$5,$AT25)),SUPP_1a!$AS$3:$AS$69,0))","v":36.96},{"$f":"INDEX(SUPP_1a!AH$3:AH$69,MATCH((CONCATENATE($F$5,$AT25)),SUPP_1a!$AS$3:$AS$69,0))","v":"Dist+"},null,{"$f":"INDEX(SUPP_1a!AI$3:AI$69,MATCH((CONCATENATE($F$5,$AT25)),SUPP_1a!$AS$3:$AS$69,0))","v":55693},{"$f":"INDEX(SUPP_1a!AM$3:AM$69,MATCH((CONCATENATE($F$5,$AT25)),SUPP_1a!$AS$3:$AS$69,0))","v":37.950000000000003},{"$f":"INDEX(SUPP_1a!AN$3:AN$69,MATCH((CONCATENATE($F$5,$AT25)),SUPP_1a!$AS$3:$AS$69,0))","v":"Dist+"},null,{"$f":"INDEX(SUPP_1a!AO$3:AO$69,MATCH((CONCATENATE($F$5,$AT25)),SUPP_1a!$AS$3:$AS$69,0))","v":130},null,null,null,null,null,null,null,null,null,null,null,"ALL_SCHOOLS"]
[]
["FE sector colleges",null,null,337,null,{"$f":"INDEX(SUPP_1a!D$3:D$69,MATCH((CONCATENATE($F$5,$AT27)),SUPP_1a!$AS$3:$AS$69,0))","v":208004},{"$f":"INDEX(SUPP_1a!H$3:H$69,MATCH((CONCATENATE($F$5,$AT27)),SUPP_1a!$AS$3:$AS$69,0))","v":30.17},null,{"$f":"INDEX(SUPP_1a!I$3:I$69,MATCH((CONCATENATE($F$5,$AT27)),SUPP_1a!$AS$3:$AS$69,0))","v":99835},{"$f":"INDEX(SUPP_1a!M$3:M$69,MATCH((CONCATENATE($F$5,$AT27)),SUPP_1a!$AS$3:$AS$69,0))","v":28.81},{"$f":"INDEX(SUPP_1a!N$3:N$69,MATCH((CONCATENATE($F$5,$AT27)),SUPP_1a!$AS$3:$AS$69,0))","v":"C"},null,{"$f":"INDEX(SUPP_1a!O$3:O$69,MATCH((CONCATENATE($F$5,$AT27)),SUPP_1a!$AS$3:$AS$69,0))","v":61494},{"$f":"INDEX(SUPP_1a!Q$3:Q$69,MATCH((CONCATENATE($F$5,$AT27)),SUPP_1a!$AS$3:$AS$69,0))","v":32.14},{"$f":"INDEX(SUPP_1a!R$3:R$69,MATCH((CONCATENATE($F$5,$AT27)),SUPP_1a!$AS$3:$AS$69,0))","v":"C+"},{"$f":"INDEX(SUPP_1a!S$3:S$69,MATCH((CONCATENATE($F$5,$AT27)),SUPP_1a!$AS$3:$AS$69,0))","v":8},{"$f":"INDEX(SUPP_1a!T$3:T$69,MATCH((CONCATENATE($F$5,$AT27)),SUPP_1a!$AS$3:$AS$69,0))","v":15.1},null,{"$f":"INDEX(SUPP_1a!U$3:U$69,MATCH((CONCATENATE($F$5,$AT27)),SUPP_1a!$AS$3:$AS$69,0))","v":61062},{"$f":"INDEX(SUPP_1a!V$3:V$69,MATCH((CONCATENATE($F$5,$AT27)),SUPP_1a!$AS$3:$AS$69,0))","v":9.8000000000000007},null,{"$f":"INDEX(SUPP_1a!W$3:W$69,MATCH((CONCATENATE($F$5,$AT27)),SUPP_1a!$AS$3:$AS$69,0))","v":100802},{"$f":"INDEX(SUPP_1a!AA$3:AA$69,MATCH((CONCATENATE($F$5,$AT27)),SUPP_1a!$AS$3:$AS$69,0))","v":28.96},{"$f":"INDEX(SUPP_1a!AB$3:AB$69,MATCH((CONCATENATE($F$5,$AT27)),SUPP_1a!$AS$3:$AS$69,0))","v":"C"},null,{"$f":"INDEX(SUPP_1a!AC$3:AC$69,MATCH((CONCATENATE($F$5,$AT27)),SUPP_1a!$AS$3:$AS$69,0))","v":57719},{"$f":"INDEX(SUPP_1a!AG$3:AG$69,MATCH((CONCATENATE($F$5,$AT27)),SUPP_1a!$AS$3:$AS$69,0))","v":29.8},{"$f":"INDEX(SUPP_1a!AH$3:AH$69,MATCH((CONCATENATE($F$5,$AT27)),SUPP_1a!$AS$3:$AS$69,0))","v":"Merit+"},null,{"$f":"INDEX(SUPP_1a!AI$3:AI$69,MATCH((CONCATENATE($F$5,$AT27)),SUPP_1a!$AS$3:$AS$69,0))","v":77180},{"$f":"INDEX(SUPP_1a!AM$3:AM$69,MATCH((CONCATENATE($F$5,$AT27)),SUPP_1a!$AS$3:$AS$69,0))","v":32.659999999999997},{"$f":"INDEX(SUPP_1a!AN$3:AN$69,MATCH((CONCATENATE($F$5,$AT27)),SUPP_1a!$AS$3:$AS$69,0))","v":"Dist-"},null,{"$f":"INDEX(SUPP_1a!AO$3:AO$69,MATCH((CONCATENATE($F$5,$AT27)),SUPP_1a!$AS$3:$AS$69,0))","v":107},null,null,null,null,null,null,null,null,null,null,null,"FE_SECTOR_COLLEGES"]
["of which:"]
["  Sixth form colleges",null,null,93,null,{"$f":"INDEX(SUPP_1a!D$3:D$69,MATCH((CONCATENATE($F$5,$AT29)),SUPP_1a!$AS$3:$AS$69,0))","v":78137},{"$f":"INDEX(SUPP_1a!H$3:H$69,MATCH((CONCATENATE($F$5,$AT29)),SUPP_1a!$AS$3:$AS$69,0))","v":31.64},null,{"$f":"INDEX(SUPP_1a!I$3:I$69,MATCH((CONCATENATE($F$5,$AT29)),SUPP_1a!$AS$3:$AS$69,0))","v":66695},{"$f":"INDEX(SUPP_1a!M$3:M$69,MATCH((CONCATENATE($F$5,$AT29)),SUPP_1a!$AS$3:$AS$69,0))","v":30.09},{"$f":"INDEX(SUPP_1a!N$3:N$69,MATCH((CONCATENATE($F$5,$AT29)),SUPP_1a!$AS$3:$AS$69,0))","v":"C"},null,{"$f":"INDEX(SUPP_1a!O$3:O$69,MATCH((CONCATENATE($F$5,$AT29)),SUPP_1a!$AS$3:$AS$69,0))","v":44270},{"$f":"INDEX(SUPP_1a!Q$3:Q$69,MATCH((CONCATENATE($F$5,$AT29)),SUPP_1a!$AS$3:$AS$69,0))","v":33.33},{"$f":"INDEX(SUPP_1a!R$3:R$69,MATCH((CONCATENATE($F$5,$AT29)),SUPP_1a!$AS$3:$AS$69,0))","v":"C+"},{"$f":"INDEX(SUPP_1a!S$3:S$69,MATCH((CONCATENATE($F$5,$AT29)),SUPP_1a!$AS$3:$AS$69,0))","v":9.3000000000000007},{"$f":"INDEX(SUPP_1a!T$3:T$69,MATCH((CONCATENATE($F$5,$AT29)),SUPP_1a!$AS$3:$AS$69,0))","v":17.2},null,{"$f":"INDEX(SUPP_1a!U$3:U$69,MATCH((CONCATENATE($F$5,$AT29)),SUPP_1a!$AS$3:$AS$69,0))","v":43935},{"$f":"INDEX(SUPP_1a!V$3:V$69,MATCH((CONCATENATE($F$5,$AT29)),SUPP_1a!$AS$3:$AS$69,0))","v":11.3},null,{"$f":"INDEX(SUPP_1a!W$3:W$69,MATCH((CONCATENATE($F$5,$AT29)),SUPP_1a!$AS$3:$AS$69,0))","v":67004},{"$f":"INDEX(SUPP_1a!AA$3:AA$69,MATCH((CONCATENATE($F$5,$AT29)),SUPP_1a!$AS$3:$AS$69,0))","v":30.25},{"$f":"INDEX(SUPP_1a!AB$3:AB$69,MATCH((CONCATENATE($F$5,$AT29)),SUPP_1a!$AS$3:$AS$69,0))","v":"C"},null,{"$f":"INDEX(SUPP_1a!AC$3:AC$69,MATCH((CONCATENATE($F$5,$AT29)),SUPP_1a!$AS$3:$AS$69,0))","v":6918},{"$f":"INDEX(SUPP_1a!AG$3:AG$69,MATCH((CONCATENATE($F$5,$AT29)),SUPP_1a!$AS$3:$AS$69,0))","v":36.270000000000003},{"$f":"INDEX(SUPP_1a!AH$3:AH$69,MATCH((CONCATENATE($F$5,$AT29)),SUPP_1a!$AS$3:$AS$69,0))","v":"Dist"},null,{"$f":"INDEX(SUPP_1a!AI$3:AI$69,MATCH((CONCATENATE($F$5,$AT29)),SUPP_1a!$AS$3:$AS$69,0))","v":21945},{"$f":"INDEX(SUPP_1a!AM$3:AM$69,MATCH((CONCATENATE($F$5,$AT29)),SUPP_1a!$AS$3:$AS$69,0))","v":37.200000000000003},{"$f":"INDEX(SUPP_1a!AN$3:AN$69,MATCH((CONCATENATE($F$5,$AT29)),SUPP_1a!$AS$3:$AS$69,0))","v":"Dist+"},null,{"$f":"INDEX(SUPP_1a!AO$3:AO$69,MATCH((CONCATENATE($F$5,$AT29)),SUPP_1a!$AS$3:$AS$69,0))","v":58},null,null,null,null,null,null,null,null,null,null,null,"SIXTH_FORM_COLLEGES"]
["  Other FE sector colleges22",null,null,244,null,{"$f":"INDEX(SUPP_1a!D$3:D$69,MATCH((CONCATENATE($F$5,$AT30)),SUPP_1a!$AS$3:$AS$69,0))","v":129867},{"$f":"INDEX(SUPP_1a!H$3:H$69,MATCH((CONCATENATE($F$5,$AT30)),SUPP_1a!$AS$3:$AS$69,0))","v":29.03},null,{"$f":"INDEX(SUPP_1a!I$3:I$69,MATCH((CONCATENATE($F$5,$AT30)),SUPP_1a!$AS$3:$AS$69,0))","v":33140},{"$f":"INDEX(SUPP_1a!M$3:M$69,MATCH((CONCATENATE($F$5,$AT30)),SUPP_1a!$AS$3:$AS$69,0))","v":25.77},{"$f":"INDEX(SUPP_1a!N$3:N$69,MATCH((CONCATENATE($F$5,$AT30)),SUPP_1a!$AS$3:$AS$69,0))","v":"C-"},null,{"$f":"INDEX(SUPP_1a!O$3:O$69,MATCH((CONCATENATE($F$5,$AT30)),SUPP_1a!$AS$3:$AS$69,0))","v":17224},{"$f":"INDEX(SUPP_1a!Q$3:Q$69,MATCH((CONCATENATE($F$5,$AT30)),SUPP_1a!$AS$3:$AS$69,0))","v":29.07},{"$f":"INDEX(SUPP_1a!R$3:R$69,MATCH((CONCATENATE($F$5,$AT30)),SUPP_1a!$AS$3:$AS$69,0))","v":"C"},{"$f":"INDEX(SUPP_1a!S$3:S$69,MATCH((CONCATENATE($F$5,$AT30)),SUPP_1a!$AS$3:$AS$69,0))","v":4.8},{"$f":"INDEX(SUPP_1a!T$3:T$69,MATCH((CONCATENATE($F$5,$AT30)),SUPP_1a!$AS$3:$AS$69,0))","v":9.9},null,{"$f":"INDEX(SUPP_1a!U$3:U$69,MATCH((CONCATENATE($F$5,$AT30)),SUPP_1a!$AS$3:$AS$69,0))","v":17127},{"$f":"INDEX(SUPP_1a!V$3:V$69,MATCH((CONCATENATE($F$5,$AT30)),SUPP_1a!$AS$3:$AS$69,0))","v":5.9},null,{"$f":"INDEX(SUPP_1a!W$3:W$69,MATCH((CONCATENATE($F$5,$AT30)),SUPP_1a!$AS$3:$AS$69,0))","v":33798},{"$f":"INDEX(SUPP_1a!AA$3:AA$69,MATCH((CONCATENATE($F$5,$AT30)),SUPP_1a!$AS$3:$AS$69,0))","v":25.92},{"$f":"INDEX(SUPP_1a!AB$3:AB$69,MATCH((CONCATENATE($F$5,$AT30)),SUPP_1a!$AS$3:$AS$69,0))","v":"C-"},null,{"$f":"INDEX(SUPP_1a!AC$3:AC$69,MATCH((CONCATENATE($F$5,$AT30)),SUPP_1a!$AS$3:$AS$69,0))","v":50801},{"$f":"INDEX(SUPP_1a!AG$3:AG$69,MATCH((CONCATENATE($F$5,$AT30)),SUPP_1a!$AS$3:$AS$69,0))","v":29.04},{"$f":"INDEX(SUPP_1a!AH$3:AH$69,MATCH((CONCATENATE($F$5,$AT30)),SUPP_1a!$AS$3:$AS$69,0))","v":"Merit+"},null,{"$f":"INDEX(SUPP_1a!AI$3:AI$69,MATCH((CONCATENATE($F$5,$AT30)),SUPP_1a!$AS$3:$AS$69,0))","v":55235},{"$f":"INDEX(SUPP_1a!AM$3:AM$69,MATCH((CONCATENATE($F$5,$AT30)),SUPP_1a!$AS$3:$AS$69,0))","v":31.22},{"$f":"INDEX(SUPP_1a!AN$3:AN$69,MATCH((CONCATENATE($F$5,$AT30)),SUPP_1a!$AS$3:$AS$69,0))","v":"Dist-"},null,{"$f":"INDEX(SUPP_1a!AO$3:AO$69,MATCH((CONCATENATE($F$5,$AT30)),SUPP_1a!$AS$3:$AS$69,0))","v":49},null,null,null,null,null,null,null,null,null,null,null,"OTHER_FE_SECTOR_COLLEGES"]
[]
["State-funded schools and colleges23",null,null,3117,null,{"$f":"INDEX(SUPP_1a!D$3:D$69,MATCH((CONCATENATE($F$5,$AT32)),SUPP_1a!$AS$3:$AS$69,0))","v":414144},{"$f":"INDEX(SUPP_1a!H$3:H$69,MATCH((CONCATENATE($F$5,$AT32)),SUPP_1a!$AS$3:$AS$69,0))","v":31.25},null,{"$f":"INDEX(SUPP_1a!I$3:I$69,MATCH((CONCATENATE($F$5,$AT32)),SUPP_1a!$AS$3:$AS$69,0))","v":295799},{"$f":"INDEX(SUPP_1a!M$3:M$69,MATCH((CONCATENATE($F$5,$AT32)),SUPP_1a!$AS$3:$AS$69,0))","v":30.18},{"$f":"INDEX(SUPP_1a!N$3:N$69,MATCH((CONCATENATE($F$5,$AT32)),SUPP_1a!$AS$3:$AS$69,0))","v":"C"},null,{"$f":"INDEX(SUPP_1a!O$3:O$69,MATCH((CONCATENATE($F$5,$AT32)),SUPP_1a!$AS$3:$AS$69,0))","v":196484},{"$f":"INDEX(SUPP_1a!R$3:R$69,MATCH((CONCATENATE($F$5,$AT32)),SUPP_1a!$AS$3:$AS$69,0))","v":33.46},{"$f":"INDEX(SUPP_1a!S$3:S$69,MATCH((CONCATENATE($F$5,$AT32)),SUPP_1a!$AS$3:$AS$69,0))","v":"C+"},{"$f":"INDEX(SUPP_1a!T$3:T$69,MATCH((CONCATENATE($F$5,$AT32)),SUPP_1a!$AS$3:$AS$69,0))","v":10.199999999999999},{"$f":"INDEX(SUPP_1a!U$3:U$69,MATCH((CONCATENATE($F$5,$AT32)),SUPP_1a!$AS$3:$AS$69,0))","v":18.100000000000001},null,{"$f":"INDEX(SUPP_1a!V$3:V$69,MATCH((CONCATENATE($F$5,$AT32)),SUPP_1a!$AS$3:$AS$69,0))","v":194852},{"$f":"INDEX(SUPP_1a!X$3:X$69,MATCH((CONCATENATE($F$5,$AT32)),SUPP_1a!$AS$3:$AS$69,0))","v":13.6},null,{"$f":"INDEX(SUPP_1a!Y$3:Y$69,MATCH((CONCATENATE($F$5,$AT32)),SUPP_1a!$AS$3:$AS$69,0))","v":298710},{"$f":"INDEX(SUPP_1a!AC$3:AC$69,MATCH((CONCATENATE($F$5,$AT32)),SUPP_1a!$AS$3:$AS$69,0))","v":30.36},{"$f":"INDEX(SUPP_1a!AD$3:AD$69,MATCH((CONCATENATE($F$5,$AT32)),SUPP_1a!$AS$3:$AS$69,0))","v":"C"},null,{"$f":"INDEX(SUPP_1a!AE$3:AE$69,MATCH((CONCATENATE($F$5,$AT32)),SUPP_1a!$AS$3:$AS$69,0))","v":69822},{"$f":"INDEX(SUPP_1a!AI$3:AI$69,MATCH((CONCATENATE($F$5,$AT32)),SUPP_1a!$AS$3:$AS$69,0))","v":30.82},{"$f":"INDEX(SUPP_1a!AJ$3:AJ$69,MATCH((CONCATENATE($F$5,$AT32)),SUPP_1a!$AS$3:$AS$69,0))","v":"Dist-"},null,{"$f":"INDEX(SUPP_1a!AK$3:AK$69,MATCH((CONCATENATE($F$5,$AT32)),SUPP_1a!$AS$3:$AS$69,0))","v":129823},{"$f":"INDEX(SUPP_1a!AO$3:AO$69,MATCH((CONCATENATE($F$5,$AT32)),SUPP_1a!$AS$3:$AS$69,0))","v":34.67},{"$f":"INDEX(SUPP_1a!AP$3:AP$69,MATCH((CONCATENATE($F$5,$AT32)),SUPP_1a!$AS$3:$AS$69,0))","v":"Dist"},null,{"$f":"INDEX(SUPP_1a!AQ$3:AQ$69,MATCH((CONCATENATE($F$5,$AT32)),SUPP_1a!$AS$3:$AS$69,0))","v":243},null,null,null,null,null,null,null,null,null,null,null,"ALL_STATE_FUNDED_SCHOOLS_AND_FE_SECTOR_COLLEGES"]
[]
["All schools and FE sector colleges24",null,null,4144,null,{"$f":"INDEX(SUPP_1a!D$3:D$69,MATCH((CONCATENATE($F$5,$AT34)),SUPP_1a!$AS$3:$AS$69,0))","v":454116},{"$f":"INDEX(SUPP_1a!H$3:H$69,MATCH((CONCATENATE($F$5,$AT34)),SUPP_1a!$AS$3:$AS$69,0))","v":32.229999999999997},null,{"$f":"INDEX(SUPP_1a!I$3:I$69,MATCH((CONCATENATE($F$5,$AT34)),SUPP_1a!$AS$3:$AS$69,0))","v":333392},{"$f":"INDEX(SUPP_1a!M$3:M$69,MATCH((CONCATENATE($F$5,$AT34)),SUPP_1a!$AS$3:$AS$69,0))","v":31.52},{"$f":"INDEX(SUPP_1a!N$3:N$69,MATCH((CONCATENATE($F$5,$AT34)),SUPP_1a!$AS$3:$AS$69,0))","v":"C"},null,{"$f":"INDEX(SUPP_1a!O$3:O$69,MATCH((CONCATENATE($F$5,$AT34)),SUPP_1a!$AS$3:$AS$69,0))","v":229341},{"$f":"INDEX(SUPP_1a!R$3:R$69,MATCH((CONCATENATE($F$5,$AT34)),SUPP_1a!$AS$3:$AS$69,0))","v":34.64},{"$f":"INDEX(SUPP_1a!S$3:S$69,MATCH((CONCATENATE($F$5,$AT34)),SUPP_1a!$AS$3:$AS$69,0))","v":"C+"},{"$f":"INDEX(SUPP_1a!T$3:T$69,MATCH((CONCATENATE($F$5,$AT34)),SUPP_1a!$AS$3:$AS$69,0))","v":12.9},{"$f":"INDEX(SUPP_1a!U$3:U$69,MATCH((CONCATENATE($F$5,$AT34)),SUPP_1a!$AS$3:$AS$69,0))","v":21.6},null,{"$f":"INDEX(SUPP_1a!V$3:V$69,MATCH((CONCATENATE($F$5,$AT34)),SUPP_1a!$AS$3:$AS$69,0))","v":227625},{"$f":"INDEX(SUPP_1a!X$3:X$69,MATCH((CONCATENATE($F$5,$AT34)),SUPP_1a!$AS$3:$AS$69,0))","v":16.7},null,{"$f":"INDEX(SUPP_1a!Y$3:Y$69,MATCH((CONCATENATE($F$5,$AT34)),SUPP_1a!$AS$3:$AS$69,0))","v":338563},{"$f":"INDEX(SUPP_1a!AC$3:AC$69,MATCH((CONCATENATE($F$5,$AT34)),SUPP_1a!$AS$3:$AS$69,0))","v":31.83},{"$f":"INDEX(SUPP_1a!AD$3:AD$69,MATCH((CONCATENATE($F$5,$AT34)),SUPP_1a!$AS$3:$AS$69,0))","v":"C+"},null,{"$f":"INDEX(SUPP_1a!AE$3:AE$69,MATCH((CONCATENATE($F$5,$AT34)),SUPP_1a!$AS$3:$AS$69,0))","v":70015},{"$f":"INDEX(SUPP_1a!AI$3:AI$69,MATCH((CONCATENATE($F$5,$AT34)),SUPP_1a!$AS$3:$AS$69,0))","v":30.83},{"$f":"INDEX(SUPP_1a!AJ$3:AJ$69,MATCH((CONCATENATE($F$5,$AT34)),SUPP_1a!$AS$3:$AS$69,0))","v":"Dist-"},null,{"$f":"INDEX(SUPP_1a!AK$3:AK$69,MATCH((CONCATENATE($F$5,$AT34)),SUPP_1a!$AS$3:$AS$69,0))","v":130906},{"$f":"INDEX(SUPP_1a!AO$3:AO$69,MATCH((CONCATENATE($F$5,$AT34)),SUPP_1a!$AS$3:$AS$69,0))","v":34.700000000000003},{"$f":"INDEX(SUPP_1a!AP$3:AP$69,MATCH((CONCATENATE($F$5,$AT34)),SUPP_1a!$AS$3:$AS$69,0))","v":"Dist"},null,{"$f":"INDEX(SUPP_1a!AQ$3:AQ$69,MATCH((CONCATENATE($F$5,$AT34)),SUPP_1a!$AS$3:$AS$69,0))","v":243},null,null,null,null,null,null,null,null,null,null,null,"ALL_SCHOOLS_AND_FE_SECTOR_COLLEGES"]
[]
[null,null,null,null,null,null,null,null,null,null,null,null,null,null,null,null,null,null,null,null,null,null,null,null,null,null,null,null,null,null,null,null,null,"Source: 2015/16 16-18 attainment data (provisional)"]
[]
["1. Covers results achieved during all years of 16-18 study (up to three years, ie the 2013/14, 2014/15 or 2015/16 academic years)."]
["2. Covers students at the end of advanced level study who were entered for at least one academic qualification equal in size to at least half (0.5) an A level or an extended project (size 0.3), or applied general or tech level qualification during their 16-18 study."]
["3. Covers students aged 16, 17 or 18 at the start of the 2015/16 academic year, ie 31 August 2015."]
["4. The total number of institutions in the 2015/16 academic year that have students at the end of 16-18 study."]
["5. Covers students at the end of advanced level study who were entered for at least one A/AS level, applied single A/AS level, applied double A/AS level or combined A/AS level during 16-18 study."]
["6. Covers students at the end of advanced level study who were entered for at least one academic qualification at least half (0.5) the size of an A level (180 Guided Learning Hours) or an Extended Project Qualification (size 0.3) during 16-18 study."]
["7. Covers students at the end of advanced level study who were entered for at least one tech level qualification during 16-18 study."]
["8. Covers students at the end of advanced level study who were entered for at least one applied general qualification during 16-18 study."]
["9. The TechBacc is awarded to students taking advanced programmes of study who achieve a Tech Level, level 3 maths and Extended Project Qualification."]
["10. APS: Average Point Score"]
["11. Covers students at the end of advanced level study who were entered for at least one A level, applied single A level, applied double A level or combined A/AS level during 16-18 study, excluding critical thinking and general studies. This measure only includes A level students who have entered less than a total of size 1 in other academic, applied general and tech level qualifications. "]
["12. Refer to the Quality and Methodology document for more information on the methodology used to calculate the best 3 indicators."]
["13. An applied double award A level at grade A*A* counts as two grade A*s, AA counts as two grade As and an award at grade AB counts as one grade A."]
["14. Covers students at the end of advanced level study who were entered for at least one A level, excluding critical thinking and general studies. Excludes those students who have entered only applied A levels or applied AS levels. This measure only includes A level students who have entered less than a total of size 1 in other academic, applied general and tech level qualifications. "]
["15. A level facilitating subjects are: biology, chemistry, physics, mathematics, further mathematics, geography, history, English literature, modern and classical languages. Refer to the Quality and Methodology document for more information on the AAB in facilitating subjects measure."]
["16. Also includes city technology colleges (CTCs) and state-funded special schools. Figures for these institution types are not shown separately in the table. Excludes pupil referral units (PRUs), alternative provision (AP), hospital schools, non-maintained special schools, independent schools, independent special schools and independent schools approved to take pupils with special educational needs (SEN). "]
["17. Community, voluntary aided, voluntary controlled and foundation schools."]
["18. Also includes academy 16-19 sponsor led. "]
["19. Also includes academy 16-19 converters."]
["20. Independent special schools, independent schools approved to take pupils with special educational needs (SEN) and non-maintained special schools. "]
["21. Includes all local authority maintained mainstream schools, sponsored academies, converter academies, free schools, university technical colleges (UTCs), studio schools and independent schools. Also includes city technology colleges (CTCs), state-funded special schools, pupil referral units (PRUs), hospital schools and alternative provision (AP) free schools which are not shown separately in the table. "]
["22. Further education sector colleges; other government department funded colleges; and special colleges."]
["23. Covers all state-funded mainstream schools, academies, free schools, city technology colleges (CTCs), state-funded special schools and FE sector colleges. Excludes PRUs, alternative provision, hospital schools, non-maintained special schools, other government department funded colleges, independent schools, independent special schools and independent schools approved to take pupils with special educational needs (SEN).",null,null,null,null,null,null,null,null,null,null,null,null,null,null,null,null,null,null,null,null,null,null,null,null,null,null,null,null,null,null,null,null,null,null,null,null,null,null,null,null,null,null,null,null,"19. Covers all state-funded mainstream schools, academies, free schools, maintained special schools, FE sector colleges and City Technology Colleges (CTCs). Excludes pupil referral units (PRUs), non-maintained special schools, other government department funded colleges, independent schools, independent special schools and independent schools approved to take pupils with special educational needs (SEN) ."]
[]
["24. Includes all schools and FE sector colleges."]
[]
["Notes:"]
["Figures for state-funded mainstream schools are not provided in this table as the difference from the 'All state-funded schools' total is very small. "]
["State-funded special schools are not shown separately in the state funded schools breakdown because of the low number of students in these institutions. "]
["x indicates figure has been suppressed where underlying numbers are small (ie, 1 or 2) or where secondary suppression has been applied."]
["Percentages are rounded to one decimal place."]
["Average point scores (APS) are rounded to two decimal places."]
["Where qualifications taken by a student are in the same subject area and similar in content ‘discounting’ rules have been applied to avoid double counting qualifications."]
["Refer to 'Quality and Methodology Information' document."]

{"sheet":"SUPP_1b","index":3,"n_rows":17,"n_cols":42,"rows_kept":17,"cut":false,"hidden":true,"merged":[]}
["Paste SQL output into cell A2"]
["Adm_type","gender","TALLPUP_LEV3_SFR","TALLPUP_LEV3_SFR_distinct","TALLENT_LEV3_SFR","TALLSCR_LEV3_SFR","TALLPPE_LEV3_SFR","TALLPUP_ALEV_1618","TALLPUP_ALEV_SFR_distinct","TALLENT_ALEV_1618","TALLSCR_ALEV_1618","TALLPPE_ALEV_1618","TALLPPEGRD_ALEV","TINCLUDE_B3","TB3PTS","TB3PTSE","TB3PTSE_GRD","PTGRADE_A3_ALL","PTGRADE_AAB_ALL","TINCLUDE_AAB_2FAC","PTAAB_2FAC","TALLPUP_ACAD_1618","TALLPUP_ACAD_SFR_distinct","TALLENT_ACAD_1618","TALLSCR_ACAD_1618","TALLPPE_ACAD_1618","TALLPPEGRD_ACAD","TALLPUP_TLEV","TALLPUP_TLEV_SFR_distinct","TALLENT_TLEV","TALLSCR_TLEV","TALLPPE_TLEV","TALLPPEGRD_TLEV","TALLPUP_AGEN","TALLPUP_AGEN_SFR_distinct","TALLENT_AGEN","TALLSCR_AGEN","TALLPPE_AGEN","TALLPPEGRD_AGEN","TTECH_BACC","TTECH_BACC_distinct","concatenate_name"]
["Comprehensive","F",98868,97120,314140.90000000002,10092549,32.130000000000003,92089,90490,262706,8046067.5,30.63,"C",60662,6129940,33.68,"C+",8.1,16,59954,11,92689,91083,268066.2,8246435.5,30.76,"C",4155,4149,6548.25,252613.9,38.58,"Dist+",23507,23331,39526.300000000003,1593499.5,40.31,"Dist+","x",13,"FemalesComprehensive"]
["Comprehensive","M",90144,88357,277003.2,8243922.7000000002,29.76,79863,78387,216777.5,6076307.5,28.03,"C-",47053,4516535,32,"C+",9.5,16.5,46591,14.1,80469,78973,220597.2,6204808.4000000004,28.13,"C-",6986,6979,12585.5,457782.5,36.369999999999997,"Dist",25829,25564,43820,1581330.3,36.090000000000003,"Dist","x",109,"MalesComprehensive"]
["Modern","F",3559,3518,10648.8,319265.3,29.98,3138,3103,7486,199555,26.66,"C-",1475,132300,29.9,"C",3.6,6.8,1441,4.2,3163,3127,7659,205287,26.8,"C-",295,295,441.25,15877.5,35.979999999999997,"Dist",1503,1503,2548.5,98100.800000000003,38.49,"Dist+","x",1,"FemalesModern"]
["Modern","M",3419,3361,9539.7000000000007,266279.2,27.91,2603,2562,5612,129980,23.16,"D+",996,81335,27.22,"C-",2.7,5.3,973,4.7,2653,2611,5784.2,135125.20000000001,23.36,"D+",388,388,638.5,22312.5,34.950000000000003,"Dist",1750,1728,3117,108841.5,34.92,"Dist","x",5,"MalesModern"]
["Other","F",2336,2335,7054.4,230038.9,32.61,1938,1937,5149,157020,30.5,"C",1209,117300,32.340000000000003,"C+",6.9,15.3,1184,10.3,1952,1951,5259.7,161397.5,30.69,"C",225,225,429,16350.6,38.11,"Dist+",719,719,1365.5,52282.5,38.29,"Dist+",0,0,"FemalesOther"]
["Other","M",2011,2011,5824.9,179808,30.87,1521,1521,3913,112960,28.87,"C",906,85520,31.46,"C",11.1,16.600000000000001,895,14.5,1546,1546,3972.9,114986.2,28.94,"C",335,335,715.5,25065,35.03,"Dist",613,613,1136,39750.5,34.99,"Dist","x",2,"MalesOther"]
["Selective","F",13512,13474,51190.6,1983093.4,38.74,13028,12990,47368,1821760,38.46,"B",11852,1457530,40.99,"B",23.4,37.200000000000003,11844,29.3,13503,13465,50879.3,1971632.6,38.75,"B",12,12,30.25,762.5,25.21,"Merit",321,321,281,10698.3,38.07,"Dist+",0,0,"FemalesSelective"]
["Selective","M",12199,12166,45767.3,1719321.4,37.57,11896,11864,43031.5,1608610,37.380000000000003,"B-",10438,1263450,40.35,"B",26.4,37.700000000000003,10434,34,12196,12163,45418.1,1706978.4,37.58,"B-",17,17,31.75,1092.5,34.409999999999997,"Dist",352,352,317.5,11250.5,35.43,"Dist",0,0,"MalesSelective"]
["NULL","F",118275,116048,383034.6,12624946.5,32.96,110193,108155,322709,10224402.5,31.68,"C+",75198,7837070,34.74,"C+",10.4,19.2,74423,13.8,111307,109258,331864.3,10584752.699999999,31.89,"C+",4687,4681,7448.75,285604.59999999998,38.340000000000003,"Dist+",26050,25867,43721.3,1754581,40.130000000000003,"Dist+",14,14,"FemalesNULL"]
["NULL","M",107773,105454,338135.1,10409331.199999999,30.78,95883,93941,269334,7927857.5,29.44,"C",59393,5946840,33.380000000000003,"C+",12.4,20,58893,17.5,96864,94893,275772.3,8161898.0999999996,29.6,"C",7726,7719,13971.25,506252.6,36.24,"Dist",28544,28249,48390.5,1741172.8,35.979999999999997,"Dist",116,116,"MalesNULL"]
["Comprehensive","ALL",189012,185472,591144.1,18336471.600000001,31.02,171952,168872,479483.5,14122375,29.45,"C",107715,10646475,32.950000000000003,"C+",8.6999999999999993,16.2,106545,12.3,173158,170051,488663.4,14451243.9,29.57,"C",11141,11128,19133.75,710396.4,37.130000000000003,"Dist+",49336,48895,83346.3,3174829.8,38.090000000000003,"Dist+",122,122,"AllComprehensive"]
["Modern","ALL",6978,6879,20188.5,585544.5,29,5741,5665,13098,329535,25.16,"C-",2471,213635,28.82,"C",3.2,6.2,2414,4.4000000000000004,5816,5738,13443.3,340412.2,25.32,"C-",683,683,1079.75,38190,35.369999999999997,"Dist",3253,3231,5665.5,206942.3,36.53,"Dist",6,6,"AllModern"]
["Other","ALL",4347,4346,12879.3,409846.9,31.82,3459,3458,9062,269980,29.79,"C",2115,202820,31.97,"C+",8.6999999999999993,15.8,2079,12.1,3498,3497,9232.6,276383.7,29.94,"C",560,560,1144.5,41415.699999999997,36.19,"Dist",1332,1332,2501.5,92033,36.79,"Dist+","x",2,"AllOther"]
["Selective","ALL",25711,25640,96957.9,3702414.7,38.19,24924,24854,90399.5,3430370,37.950000000000003,"B-",22290,2720980,40.69,"B",24.8,37.4,22278,31.5,25699,25628,96297.4,3678611,38.200000000000003,"B-",29,29,62,1855,29.92,"Merit+",673,673,598.5,21948.799999999999,36.67,"Dist+",0,0,"AllSelective"]
["NULL","ALL",226048,221494,721169.7,23034277.699999999,31.94,206076,202088,592043,18152260,30.66,"C",134591,13783910,34.14,"C+",11.3,19.5,133316,15.4,208171,204143,607636.6,18746650.800000001,30.85,"C",12413,12400,21420,791857.2,36.97,"Dist+",54594,54116,92111.8,3495753.8,37.950000000000003,"Dist+",130,130,"AllNULL"]

{"sheet":"Table 1b","index":4,"n_rows":51,"n_cols":46,"rows_kept":51,"cut":false,"hidden":false,"merged":[[36,0,37,19],[42,0,43,19],[6,13,7,13],[6,21,7,21],[6,30,7,30],[6,8,7,8],[6,19,7,19],[6,23,7,23],[6,22,7,22],[6,25,7,25],[6,27,7,27],[6,26,7,26],[6,18,7,18],[6,16,7,16],[6,10,7,10],[6,6,7,6],[4,3,7,3],[6,5,7,5],[6,9,7,9],[6,14,7,14],[6,15,7,15],[6,12,7,12],[4,5,4,33],[5,5,5,6],[5,8,5,19],[5,21,5,23],[5,25,5,27],[5,29,5,31],[6,29,7,29],[6,31,7,31],[6,33,7,33]]}
["Table 1b: Attainment of level 3 state-funded school students1,2 aged 16 to 183 by admissions basis, cohort and gender "]
["Year: 2015/16 (provisional)"]
["Coverage: England"]
[" "]
[null,null,null,"Number of institutions4",null,"All"]
[null,"Select gender:",null,null,null,"Level 3 students2",null,null,"A level students5",null,null,null,null,null,null,null,null,null,null,null,null,"Academic students6",null,null,null,"Tech level students7",null,null,null,"Applied General students8",null,null,null,"TechBacc9"]
[null,null,null,null,null,"Number of students ","APS10 per entry",null,"Number of students5","APS per entry","APS per entry as a grade",null,"Number of students entered for one or more  A level or applied A level 11","APS per entry, best 311,12","APS per entry, best 3 as a grade","Percentage of students achieving 3 A*-A grades or better at A level11,13","Percentage of students achieving grades AAB or better at A level11,13",null,"Number of students entered for 1 or more A level14","Percentage of students achieving grades AAB or better at A level, of which at least two are in facilitating subjects14,15",null,"Number of students","APS per entry","APS per entry as a grade",null,"Number of students","APS per entry","APS per entry as a grade",null,"Number of students","APS per entry","APS per entry as a grade",null,"Number of students achieving TechBacc"]
["Admissions basis"]
[]
["All state-funded schools16",null,null,2781,null,{"$f":"INDEX(SUPP_1b!C$3:C$17,MATCH((CONCATENATE($F$5,$AT10)),SUPP_1b!$AP$3:$AP$17,0))","v":226048},{"$f":"INDEX(SUPP_1b!G$3:G$17,MATCH((CONCATENATE($F$5,$AT10)),SUPP_1b!$AP$3:$AP$17,0))","v":31.94},null,{"$f":"INDEX(SUPP_1b!H$3:H$17,MATCH((CONCATENATE($F$5,$AT10)),SUPP_1b!$AP$3:$AP$17,0))","v":206076},{"$f":"INDEX(SUPP_1b!L$3:L$17,MATCH((CONCATENATE($F$5,$AT10)),SUPP_1b!$AP$3:$AP$17,0))","v":30.66},{"$f":"INDEX(SUPP_1b!M$3:M$17,MATCH((CONCATENATE($F$5,$AT10)),SUPP_1b!$AP$3:$AP$17,0))","v":"C"},null,{"$f":"INDEX(SUPP_1b!N$3:N$17,MATCH((CONCATENATE($F$5,$AT10)),SUPP_1b!$AP$3:$AP$17,0))","v":134591},{"$f":"INDEX(SUPP_1b!P$3:P$17,MATCH((CONCATENATE($F$5,$AT10)),SUPP_1b!$AP$3:$AP$17,0))","v":34.14},{"$f":"INDEX(SUPP_1b!Q$3:Q$17,MATCH((CONCATENATE($F$5,$AT10)),SUPP_1b!$AP$3:$AP$17,0))","v":"C+"},{"$f":"INDEX(SUPP_1b!R$3:R$17,MATCH((CONCATENATE($F$5,$AT10)),SUPP_1b!$AP$3:$AP$17,0))","v":11.3},{"$f":"INDEX(SUPP_1b!S$3:S$17,MATCH((CONCATENATE($F$5,$AT10)),SUPP_1b!$AP$3:$AP$17,0))","v":19.5},null,{"$f":"INDEX(SUPP_1b!T$3:T$17,MATCH((CONCATENATE($F$5,$AT10)),SUPP_1b!$AP$3:$AP$17,0))","v":133316},{"$f":"INDEX(SUPP_1b!U$3:U$17,MATCH((CONCATENATE($F$5,$AT10)),SUPP_1b!$AP$3:$AP$17,0))","v":15.4},null,{"$f":"INDEX(SUPP_1b!V$3:V$17,MATCH((CONCATENATE($F$5,$AT10)),SUPP_1b!$AP$3:$AP$17,0))","v":208171},{"$f":"INDEX(SUPP_1b!Z$3:Z$17,MATCH((CONCATENATE($F$5,$AT10)),SUPP_1b!$AP$3:$AP$17,0))","v":30.85},{"$f":"INDEX(SUPP_1b!AA$3:AA$17,MATCH((CONCATENATE($F$5,$AT10)),SUPP_1b!$AP$3:$AP$17,0))","v":"C"},null,{"$f":"INDEX(SUPP_1b!AB$3:AB$17,MATCH((CONCATENATE($F$5,$AT10)),SUPP_1b!$AP$3:$AP$17,0))","v":12413},{"$f":"INDEX(SUPP_1b!AF$3:AF$17,MATCH((CONCATENATE($F$5,$AT10)),SUPP_1b!$AP$3:$AP$17,0))","v":36.97},{"$f":"INDEX(SUPP_1b!AG$3:AG$17,MATCH((CONCATENATE($F$5,$AT10)),SUPP_1b!$AP$3:$AP$17,0))","v":"Dist+"},null,{"$f":"INDEX(SUPP_1b!AH$3:AH$17,MATCH((CONCATENATE($F$5,$AT10)),SUPP_1b!$AP$3:$AP$17,0))","v":54594},{"$f":"INDEX(SUPP_1b!AL$3:AL$17,MATCH((CONCATENATE($F$5,$AT10)),SUPP_1b!$AP$3:$AP$17,0))","v":37.950000000000003},{"$f":"INDEX(SUPP_1b!AM$3:AM$17,MATCH((CONCATENATE($F$5,$AT10)),SUPP_1b!$AP$3:$AP$17,0))","v":"Dist+"},null,{"$f":"INDEX(SUPP_1b!AN$3:AN$17,MATCH((CONCATENATE($F$5,$AT10)),SUPP_1b!$AP$3:$AP$17,0))","v":130},null,null,null,null,null,null,null,null,null,null,null,"NULL"]
[]
["Of which:"]
[]
["      Comprehensive schools",null,null,1998,null,{"$f":"INDEX(SUPP_1b!C$3:C$17,MATCH((CONCATENATE($F$5,$AT14)),SUPP_1b!$AP$3:$AP$17,0))","v":189012},{"$f":"INDEX(SUPP_1b!G$3:G$17,MATCH((CONCATENATE($F$5,$AT14)),SUPP_1b!$AP$3:$AP$17,0))","v":31.02},null,{"$f":"INDEX(SUPP_1b!H$3:H$17,MATCH((CONCATENATE($F$5,$AT14)),SUPP_1b!$AP$3:$AP$17,0))","v":171952},{"$f":"INDEX(SUPP_1b!L$3:L$17,MATCH((CONCATENATE($F$5,$AT14)),SUPP_1b!$AP$3:$AP$17,0))","v":29.45},{"$f":"INDEX(SUPP_1b!M$3:M$17,MATCH((CONCATENATE($F$5,$AT14)),SUPP_1b!$AP$3:$AP$17,0))","v":"C"},null,{"$f":"INDEX(SUPP_1b!N$3:N$17,MATCH((CONCATENATE($F$5,$AT14)),SUPP_1b!$AP$3:$AP$17,0))","v":107715},{"$f":"INDEX(SUPP_1b!P$3:P$17,MATCH((CONCATENATE($F$5,$AT14)),SUPP_1b!$AP$3:$AP$17,0))","v":32.950000000000003},{"$f":"INDEX(SUPP_1b!Q$3:Q$17,MATCH((CONCATENATE($F$5,$AT14)),SUPP_1b!$AP$3:$AP$17,0))","v":"C+"},{"$f":"INDEX(SUPP_1b!R$3:R$17,MATCH((CONCATENATE($F$5,$AT14)),SUPP_1b!$AP$3:$AP$17,0))","v":8.6999999999999993},{"$f":"INDEX(SUPP_1b!S$3:S$17,MATCH((CONCATENATE($F$5,$AT14)),SUPP_1b!$AP$3:$AP$17,0))","v":16.2},null,{"$f":"INDEX(SUPP_1b!T$3:T$17,MATCH((CONCATENATE($F$5,$AT14)),SUPP_1b!$AP$3:$AP$17,0))","v":106545},{"$f":"INDEX(SUPP_1b!U$3:U$17,MATCH((CONCATENATE($F$5,$AT14)),SUPP_1b!$AP$3:$AP$17,0))","v":12.3},null,{"$f":"INDEX(SUPP_1b!V$3:V$17,MATCH((CONCATENATE($F$5,$AT14)),SUPP_1b!$AP$3:$AP$17,0))","v":173158},{"$f":"INDEX(SUPP_1b!Z$3:Z$17,MATCH((CONCATENATE($F$5,$AT14)),SUPP_1b!$AP$3:$AP$17,0))","v":29.57},{"$f":"INDEX(SUPP_1b!AA$3:AA$17,MATCH((CONCATENATE($F$5,$AT14)),SUPP_1b!$AP$3:$AP$17,0))","v":"C"},null,{"$f":"INDEX(SUPP_1b!AB$3:AB$17,MATCH((CONCATENATE($F$5,$AT14)),SUPP_1b!$AP$3:$AP$17,0))","v":11141},{"$f":"INDEX(SUPP_1b!AF$3:AF$17,MATCH((CONCATENATE($F$5,$AT14)),SUPP_1b!$AP$3:$AP$17,0))","v":37.130000000000003},{"$f":"INDEX(SUPP_1b!AG$3:AG$17,MATCH((CONCATENATE($F$5,$AT14)),SUPP_1b!$AP$3:$AP$17,0))","v":"Dist+"},null,{"$f":"INDEX(SUPP_1b!AH$3:AH$17,MATCH((CONCATENATE($F$5,$AT14)),SUPP_1b!$AP$3:$AP$17,0))","v":49336},{"$f":"INDEX(SUPP_1b!AL$3:AL$17,MATCH((CONCATENATE($F$5,$AT14)),SUPP_1b!$AP$3:$AP$17,0))","v":38.090000000000003},{"$f":"INDEX(SUPP_1b!AM$3:AM$17,MATCH((CONCATENATE($F$5,$AT14)),SUPP_1b!$AP$3:$AP$17,0))","v":"Dist+"},null,{"$f":"INDEX(SUPP_1b!AN$3:AN$17,MATCH((CONCATENATE($F$5,$AT14)),SUPP_1b!$AP$3:$AP$17,0))","v":122},null,null,null,null,null,null,null,null,null,null,null,"Comprehensive"]
[]
["      Selective schools ",null,null,163,null,{"$f":"INDEX(SUPP_1b!C$3:C$17,MATCH((CONCATENATE($F$5,$AT16)),SUPP_1b!$AP$3:$AP$17,0))","v":25711},{"$f":"INDEX(SUPP_1b!G$3:G$17,MATCH((CONCATENATE($F$5,$AT16)),SUPP_1b!$AP$3:$AP$17,0))","v":38.19},null,{"$f":"INDEX(SUPP_1b!H$3:H$17,MATCH((CONCATENATE($F$5,$AT16)),SUPP_1b!$AP$3:$AP$17,0))","v":24924},{"$f":"INDEX(SUPP_1b!L$3:L$17,MATCH((CONCATENATE($F$5,$AT16)),SUPP_1b!$AP$3:$AP$17,0))","v":37.950000000000003},{"$f":"INDEX(SUPP_1b!M$3:M$17,MATCH((CONCATENATE($F$5,$AT16)),SUPP_1b!$AP$3:$AP$17,0))","v":"B-"},null,{"$f":"INDEX(SUPP_1b!N$3:N$17,MATCH((CONCATENATE($F$5,$AT16)),SUPP_1b!$AP$3:$AP$17,0))","v":22290},{"$f":"INDEX(SUPP_1b!P$3:P$17,MATCH((CONCATENATE($F$5,$AT16)),SUPP_1b!$AP$3:$AP$17,0))","v":40.69},{"$f":"INDEX(SUPP_1b!Q$3:Q$17,MATCH((CONCATENATE($F$5,$AT16)),SUPP_1b!$AP$3:$AP$17,0))","v":"B"},{"$f":"INDEX(SUPP_1b!R$3:R$17,MATCH((CONCATENATE($F$5,$AT16)),SUPP_1b!$AP$3:$AP$17,0))","v":24.8},{"$f":"INDEX(SUPP_1b!S$3:S$17,MATCH((CONCATENATE($F$5,$AT16)),SUPP_1b!$AP$3:$AP$17,0))","v":37.4},null,{"$f":"INDEX(SUPP_1b!T$3:T$17,MATCH((CONCATENATE($F$5,$AT16)),SUPP_1b!$AP$3:$AP$17,0))","v":22278},{"$f":"INDEX(SUPP_1b!U$3:U$17,MATCH((CONCATENATE($F$5,$AT16)),SUPP_1b!$AP$3:$AP$17,0))","v":31.5},null,{"$f":"INDEX(SUPP_1b!V$3:V$17,MATCH((CONCATENATE($F$5,$AT16)),SUPP_1b!$AP$3:$AP$17,0))","v":25699},{"$f":"INDEX(SUPP_1b!Z$3:Z$17,MATCH((CONCATENATE($F$5,$AT16)),SUPP_1b!$AP$3:$AP$17,0))","v":38.200000000000003},{"$f":"INDEX(SUPP_1b!AA$3:AA$17,MATCH((CONCATENATE($F$5,$AT16)),SUPP_1b!$AP$3:$AP$17,0))","v":"B-"},null,{"$f":"INDEX(SUPP_1b!AB$3:AB$17,MATCH((CONCATENATE($F$5,$AT16)),SUPP_1b!$AP$3:$AP$17,0))","v":29},{"$f":"INDEX(SUPP_1b!AF$3:AF$17,MATCH((CONCATENATE($F$5,$AT16)),SUPP_1b!$AP$3:$AP$17,0))","v":29.92},{"$f":"INDEX(SUPP_1b!AG$3:AG$17,MATCH((CONCATENATE($F$5,$AT16)),SUPP_1b!$AP$3:$AP$17,0))","v":"Merit+"},null,{"$f":"INDEX(SUPP_1b!AH$3:AH$17,MATCH((CONCATENATE($F$5,$AT16)),SUPP_1b!$AP$3:$AP$17,0))","v":673},{"$f":"INDEX(SUPP_1b!AL$3:AL$17,MATCH((CONCATENATE($F$5,$AT16)),SUPP_1b!$AP$3:$AP$17,0))","v":36.67},{"$f":"INDEX(SUPP_1b!AM$3:AM$17,MATCH((CONCATENATE($F$5,$AT16)),SUPP_1b!$AP$3:$AP$17,0))","v":"Dist+"},null,{"$f":"INDEX(SUPP_1b!AN$3:AN$17,MATCH((CONCATENATE($F$5,$AT16)),SUPP_1b!$AP$3:$AP$17,0))","v":0},null,null,null,null,null,null,null,null,null,null,null,"Selective"]
[]
["      Modern schools",null,null,89,null,{"$f":"INDEX(SUPP_1b!C$3:C$17,MATCH((CONCATENATE($F$5,$AT18)),SUPP_1b!$AP$3:$AP$17,0))","v":6978},{"$f":"INDEX(SUPP_1b!G$3:G$17,MATCH((CONCATENATE($F$5,$AT18)),SUPP_1b!$AP$3:$AP$17,0))","v":29},null,{"$f":"INDEX(SUPP_1b!H$3:H$17,MATCH((CONCATENATE($F$5,$AT18)),SUPP_1b!$AP$3:$AP$17,0))","v":5741},{"$f":"INDEX(SUPP_1b!L$3:L$17,MATCH((CONCATENATE($F$5,$AT18)),SUPP_1b!$AP$3:$AP$17,0))","v":25.16},{"$f":"INDEX(SUPP_1b!M$3:M$17,MATCH((CONCATENATE($F$5,$AT18)),SUPP_1b!$AP$3:$AP$17,0))","v":"C-"},null,{"$f":"INDEX(SUPP_1b!N$3:N$17,MATCH((CONCATENATE($F$5,$AT18)),SUPP_1b!$AP$3:$AP$17,0))","v":2471},{"$f":"INDEX(SUPP_1b!P$3:P$17,MATCH((CONCATENATE($F$5,$AT18)),SUPP_1b!$AP$3:$AP$17,0))","v":28.82},{"$f":"INDEX(SUPP_1b!Q$3:Q$17,MATCH((CONCATENATE($F$5,$AT18)),SUPP_1b!$AP$3:$AP$17,0))","v":"C"},{"$f":"INDEX(SUPP_1b!R$3:R$17,MATCH((CONCATENATE($F$5,$AT18)),SUPP_1b!$AP$3:$AP$17,0))","v":3.2},{"$f":"INDEX(SUPP_1b!S$3:S$17,MATCH((CONCATENATE($F$5,$AT18)),SUPP_1b!$AP$3:$AP$17,0))","v":6.2},null,{"$f":"INDEX(SUPP_1b!T$3:T$17,MATCH((CONCATENATE($F$5,$AT18)),SUPP_1b!$AP$3:$AP$17,0))","v":2414},{"$f":"INDEX(SUPP_1b!U$3:U$17,MATCH((CONCATENATE($F$5,$AT18)),SUPP_1b!$AP$3:$AP$17,0))","v":4.4000000000000004},null,{"$f":"INDEX(SUPP_1b!V$3:V$17,MATCH((CONCATENATE($F$5,$AT18)),SUPP_1b!$AP$3:$AP$17,0))","v":5816},{"$f":"INDEX(SUPP_1b!Z$3:Z$17,MATCH((CONCATENATE($F$5,$AT18)),SUPP_1b!$AP$3:$AP$17,0))","v":25.32},{"$f":"INDEX(SUPP_1b!AA$3:AA$17,MATCH((CONCATENATE($F$5,$AT18)),SUPP_1b!$AP$3:$AP$17,0))","v":"C-"},null,{"$f":"INDEX(SUPP_1b!AB$3:AB$17,MATCH((CONCATENATE($F$5,$AT18)),SUPP_1b!$AP$3:$AP$17,0))","v":683},{"$f":"INDEX(SUPP_1b!AF$3:AF$17,MATCH((CONCATENATE($F$5,$AT18)),SUPP_1b!$AP$3:$AP$17,0))","v":35.369999999999997},{"$f":"INDEX(SUPP_1b!AG$3:AG$17,MATCH((CONCATENATE($F$5,$AT18)),SUPP_1b!$AP$3:$AP$17,0))","v":"Dist"},null,{"$f":"INDEX(SUPP_1b!AH$3:AH$17,MATCH((CONCATENATE($F$5,$AT18)),SUPP_1b!$AP$3:$AP$17,0))","v":3253},{"$f":"INDEX(SUPP_1b!AL$3:AL$17,MATCH((CONCATENATE($F$5,$AT18)),SUPP_1b!$AP$3:$AP$17,0))","v":36.53},{"$f":"INDEX(SUPP_1b!AM$3:AM$17,MATCH((CONCATENATE($F$5,$AT18)),SUPP_1b!$AP$3:$AP$17,0))","v":"Dist"},null,{"$f":"INDEX(SUPP_1b!AN$3:AN$17,MATCH((CONCATENATE($F$5,$AT18)),SUPP_1b!$AP$3:$AP$17,0))","v":6},null,null,null,null,null,null,null,null,null,null,null,"Modern"]
[]
[null,null,null,null,null,null,null,null,null,null,null,null,null,null,null,null,null,null,null,null,null,null,null,null,null,null,null,null,null,null,null,null,null,"Source: 2015/16 16-18 attainment data (provisional)"]
[]
["1. Covers results achieved during all years of 16-18 study (up to three years, ie the 2013/14, 2014/15 or 2015/16 academic years)."]
["2. Covers students at the end of advanced level study who were entered for at least one academic qualification equal in size to at least half (0.5) an A level or an extended project (size 0.3), or applied general or tech level qualification during their 16-18 study."]
["3. Covers students aged 16, 17 or 18 at the start of the 2015/16 academic year, ie 31 August 2015."]
["4. The total number of institutions in the 2015/16 academic year that have students at the end of 16-18 study."]
["5. Covers students at the end of advanced level study who were entered for at least one A/AS level, applied single A/AS level, applied double A/AS level or combined A/AS level during 16-18 study."]
["6. Covers students at the end of advanced level study who were entered for at least one academic qualification at least half (0.5) the size of an A level (180 Guided Learning Hours) or an Extended Project Qualification (size 0.3) during 16-18 study."]
["7. Covers students at the end of advanced level study who were entered for at least one tech level qualification during 16-18 study."]
["8. Covers students at the end of advanced level study who were entered for at least one applied general qualification during 16-18 study."]
["9. The TechBacc is awarded to students taking advanced programmes of study who achieve a Tech Level, level 3 maths and Extended Project Qualification."]
["10. APS: Average Point Score"]
["11. Covers students at the end of advanced level study who were entered for at least one A level, applied single A level, applied double A level or combined A/AS level during 16-18 study, excluding critical thinking and general studies. This measure only includes A level students who have entered less than a total of size 1 in other academic, applied general and tech level qualifications. "]
["12. Refer to the Quality and Methodology document for more information on the methodology used to calculate the best 3 indicators."]
["13. An applied double award A level at grade A*A* counts as two grade A*s, AA counts as two grade As and an award at grade AB counts as one grade A."]
["14. Covers students at the end of advanced level study who were entered for at least one A level, excluding critical thinking and general studies. Excludes those students who have entered only applied A levels or applied AS levels. This measure only includes A level students who have entered less than a total of size 1 in other academic, applied general and tech level qualifications. "]
["15. A level facilitating subjects are: biology, chemistry, physics, mathematics, further mathematics, geography, history, English literature, modern and classical languages. Refer to the Quality and Methodology document for more information on the AAB in facilitating subjects measure."]
["16. Covers sponsored and converter academies; community, voluntary aided, voluntary controlled and foundation schools; city technology colleges (CTCs), state-funded special schools and free schools (mainstream, 16-19, studio school, UTC ). Excludes pupil referral units (PRUs), alternative provision (AP) and hospital schools. Figures for other state-funded schools are not shown in the table, therefore the numbers of students do not sum to totals."]
[]
[]
["Admissions basis:"]
["Comprehensive schools: Admit all pupils, usually regardless of their ability or aptitude; includes schools operating pupil ability banding admission arrangements."]
["Selective schools: Admit pupils wholly or mainly with reference to ability. These schools are formally designated as grammar schools."]
["Modern schools: Schools which, like comprehensives, admit pupils of any ability. However, secondary modern schools will have grammar schools in their area which admit most local high ability pupils. Secondary modern schools therefore may have a lower ability intake than comprehensive schools which are not in grammar school areas."]
[]
[]
["Notes:"]
["Percentages are rounded to one decimal place."]
["Average point scores (APS) are rounded to two decimal places."]
["x indicates figure has been suppressed where underlying numbers are small (ie, 1 or 2) or where secondary suppression has been applied."]
["Where qualifications taken by a student are in the same subject area and similar in content ‘discounting’ rules have been applied to avoid double counting qualifications."]
["Refer to 'Quality and Methodology Information' document."]

{"sheet":"List of A and AS level subjects","index":5,"n_rows":121,"n_cols":2,"rows_kept":121,"cut":false,"hidden":false,"merged":[]}
["A level and AS level subjects"]
["This table provides information on the subject groups shown in tables 2a, 2c, 3a and 3b"]
[]
["Subject group","Subjects included"]
["Biology","Biology"]
["Chemistry","Chemistry"]
["Physics","Physics"]
["Other Science","Electronics"]
[null,"Environmental Science"]
[null,"Geology"]
[null,"Science"]
[null,"Science and Technology in Society"]
[null,"Science for Public Understanding"]
[]
["Mathematics","Mathematics"]
["Pure Mathematics","Pure Mathematics"]
["Use of Mathematics","Use of Mathematics"]
["Mechanics","Mechanics"]
["Statistics","Statistics"]
["Other Mathematics ","Other Mathematics "]
["Further Mathematics","Further Mathematics"]
[]
["English Language","English Language"]
["English Literature","English Literature"]
["English Language & Literature","English Language & Literature"]
[]
["Design and Technology","Textiles Product Design"]
[null,"Systems & Control"]
[null,"Product Design"]
["Computing","Computing"]
[null,"Computer science"]
[null,"Software Systems Development"]
["ICT1","ICT"]
[]
["Home Economics","Home Economics"]
[null,"Nutrition and Food Science"]
[]
["Accounting and Finance","Accounting"]
["Business Studies","Business"]
["Economics","Economics"]
["Geography","Geography"]
[null,"Global Development"]
["Government and Politics","Government & Politics"]
[null,"Political Studies"]
["History","History"]
[null,"Ancient History"]
[null,"Economic and Social History"]
["Law","Law"]
["Psychology","Psychology"]
["Sociology","Sociology"]
["Other social studies","Anthropology"]
[null,"Archaeology"]
[null,"Citizenship Studies"]
[null,"European Studies"]
[null,"Humanities"]
[null,"Philosophy"]
[]
["Art and Design","Art and Design"]
[null,"3D Design"]
[null,"Critical Studies"]
[null,"Fine Art"]
[null,"Graphic Design"]
[null,"History of Art"]
[null,"Photography"]
[null,"Textiles"]
[null,"3D Design"]
["Drama","Drama & Theatre Studies"]
["Media/Film/Television Studies","Communication and Culture"]
[null,"Communication Studies"]
[null,"Film Studies"]
[null,"Media Studies"]
[null,"Moving Image Arts"]
[null,"Performance Studies"]
[null,"Performing Arts"]
["Other Communication Studies","Creative Writing"]
[]
["French","French"]
["German","German"]
["Spanish","Spanish"]
["Other modern languages","Arabic"]
[null,"Bengali"]
[null,"Chinese"]
[null,"Cymraeg Iaith Gyntaf"]
[null,"Dutch"]
[null,"Greek"]
[null,"Gujarati"]
[null,"Irish"]
[null,"Italian"]
[null,"Japanese"]
[null,"Modern Hebrew"]
[null,"Panjabi"]
[null,"Persian"]
[null,"Polish"]
[null,"Portuguese"]
[null,"Russian"]
[null,"Turkish"]
[null,"Urdu"]
[null,"Welsh: First Language"]
[null,"Welsh: Second Language"]
[]
["Latin","Latin"]
["Greek","Greek"]
["Classical Civilsation ","Classical Civilisation"]
["Other Classical Studies","Ancient History"]
[null,"Biblical Hebrew"]
[null,"Classical Arabic"]
[null,"Classics"]
[null,"Sanskrit"]
[]
["Religious Studies","Religious Studies"]
[]
["Music","Music"]
[null,"Music Technology"]
[]
["Physical Education","Physical Education"]
[null,"Dance"]
[]
["General Studies","General Studies"]
[null,"Critical Thinking"]
[]
["1. Information, Communication and Technology"]

{"sheet":"SUPP_2a","index":6,"n_rows":177,"n_cols":16,"rows_kept":177,"cut":false,"hidden":true,"merged":[]}
["Paste table 2a SQL output into cell A2"]
["gender","Subjects","grade_AStar","grade_A","grade_B","grade_C","grade_D","grade_E","grade_other","grade_AStarA","grade_AStarE","Total","grade_Q","grade_U","grade_X","concatenate_name"]
["M","NULL",8.9,17.5,25.2,24.2,15.7,7,1.5,26.3,98.5,333268,6,4880,140,"MalesNULL"]
["M","01_Biology",9.5,18,23.7,21.6,16.3,9.1,1.7,27.5,98.3,21095,0,346,7,"Males01_Biology"]
["M","03_Chemistry",9.6,24.2,26,18.3,12.9,7.4,1.6,33.799999999999997,98.4,22722,0,362,6,"Males03_Chemistry"]
["M","04_Physics",9.4,20.399999999999999,22.6,19.5,15.5,10.4,2.2999999999999998,29.7,97.7,24396,0,546,9,"Males04_Physics"]
["M","05_Other_Sciences",7.3,19.399999999999999,23.5,23.7,16.5,7.9,1.7,26.7,98.3,2468,0,41,1,"Males05_Other_Sciences"]
["M","06_Mathematics_other",56.8,13.5,17.600000000000001,"x",0,"x",4.0999999999999996,70.3,95.9,74,0,1,2,"Males06_Mathematics_other"]
["M","07_Mathematics",20.399999999999999,24.4,21.8,15.6,10.5,5.9,1.3,44.8,98.7,48401,0,642,7,"Males07_Mathematics"]
["M","08_Pure Mathematics",20,20,35,"x","x",0,15,40,85,20,0,3,0,"Males08_Pure Mathematics"]
["M","09_Statistics","x","x",18.600000000000001,30.9,21.1,14.2,2.8,12.5,97.2,431,0,12,0,"Males09_Statistics"]
["M","10_Use of Mathematics",1.5,4.7,"x",26.6,32,20.100000000000001,"x",6.1,"x",1096,0,2,0,"Males10_Use of Mathematics"]
["M","11_Further Mathematics",29.2,27.5,20.7,11.6,6.6,3.5,0.9,56.7,99.1,10184,0,84,3,"Males11_Further Mathematics"]
["M","12_English_Literature",9.6,16,27.7,28.9,14.4,2.9,0.5,25.6,99.5,10925,1,44,7,"Males12_English_Literature"]
["M","13_English Language",0.9,6.8,25.8,39.9,21.8,4.2,0.5,7.8,99.5,6541,0,28,2,"Males13_English Language"]
["M","14_English_Language&Literature",2.7,8.1999999999999993,24.7,37.1,22.7,4.0999999999999996,0.5,10.8,99.5,3126,0,15,0,"Males14_English_Language&Literature"]
["M","15_Design&Technology",4.0999999999999996,10.5,22.7,27.2,22.5,11.3,1.6,14.7,98.4,6365,0,100,1,"Males15_Design&Technology"]
["M","16_Computing",2.6,13.6,22.1,23.5,22,13,3.2,16.2,96.8,5068,0,158,3,"Males16_Computing"]
["M","17_ICT",0.8,6,17.399999999999999,28.1,28.8,15.4,3.5,6.7,96.5,4113,1,142,3,"Males17_ICT"]
["M","18_Home Economics",0,0,19,42.9,23.8,14.3,0,0,100,21,0,0,0,"Males18_Home Economics"]
["M","19_Account&Finance",1.3,10.9,24,25.9,21.2,12.1,4.5999999999999996,12.2,95.4,1577,0,64,8,"Males19_Account&Finance"]
["M","20_Business_Studies",2.9,10.1,27.7,31.4,19.2,7.3,1.3,13,98.7,14976,0,193,9,"Males20_Business_Studies"]
["M","21_Economics",7,22.6,30.1,22,12.2,4.8,1.2,29.7,98.8,18681,0,211,8,"Males21_Economics"]
["M","22_Geography",4.5999999999999996,17.399999999999999,29.5,27.5,15.4,4.8,0.9,22,99.1,16341,0,138,4,"Males22_Geography"]
["M","23_Government&Politics",6.1,20,28.5,24.7,13.8,5.4,1.4,26.1,98.6,7501,0,103,2,"Males23_Government&Politics"]
["M","24_History",4.9000000000000004,16.100000000000001,30.6,29.5,14.8,3.6,0.5,21,99.5,22195,0,97,8,"Males24_History"]
["M","25_Law",3.1,10.5,24,27.4,21.3,10.6,3.3,13.5,96.7,3731,0,121,1,"Males25_Law"]
["M","26_Psychology",2.8,8.4,22.9,29.2,22.6,11.1,2.9,11.3,97.1,13195,0,380,8,"Males26_Psychology"]
["M","27_Other_Comm_Studies",1.8,9,31.4,39,15.8,2.4,0.7,10.7,99.3,4196,0,28,2,"Males27_Other_Comm_Studies"]
["M","27_Sociology",4.4000000000000004,9.5,24.7,30.6,20.5,8.1,2.1,14,97.9,7087,0,142,6,"Males27_Sociology"]
["M","28_Other_Social_Studies",6.4,14.5,26.4,27.1,16.7,7.2,1.8,20.8,98.2,1301,0,22,1,"Males28_Other_Social_Studies"]
["M","29_Art&Design",10.4,11.8,26.5,28.7,16.399999999999999,5.0999999999999996,0.9,22.2,99.1,9380,0,83,5,"Males29_Art&Design"]
["M","30_Drama",3,8.4,25.8,33.1,22.8,6.2,0.7,11.4,99.3,3432,0,24,1,"Males30_Drama"]
["M","31_Media_Film_TV",0.7,5.7,24.2,40.5,23.3,5.0999999999999996,0.6,6.4,99.4,8000,0,44,3,"Males31_Media_Film_TV"]
["M","32_Music",5.3,17.7,27,26.9,17.2,5.5,0.3,23,99.7,2004,0,6,1,"Males32_Music"]
["M","33_French",9.6,31.1,27,17.7,10.199999999999999,3.9,0.6,40.700000000000003,99.4,2729,0,15,1,"Males33_French"]
["M","34_German",9.3000000000000007,32.1,27.2,18.8,9.1999999999999993,2.8,0.6,41.4,99.4,1333,1,6,1,"Males34_German"]
["M","35_Spanish",8.6,26.3,31.9,20.2,9.6999999999999993,2.8,0.5,34.9,99.5,2548,0,12,2,"Males35_Spanish"]
["M","36_Other_Modern_Languages",10,26.4,30.6,16.7,7.8,4.4000000000000004,4.0999999999999996,36.4,95.9,880,2,28,6,"Males36_Other_Modern_Languages"]
["M","37_Chinese",2.6,33,44.8,14.9,3.1,1.2,0.4,35.6,99.6,1097,0,3,1,"Males37_Chinese"]
["M","38_Italian",7.7,38,32.4,13.9,6.2,"x","x",45.7,"x",324,0,2,0,"Males38_Italian"]
["M","39_Polish",16,36.4,17.5,15.3,8.4,"x","x",52.4,"x",275,0,0,2,"Males39_Polish"]
["M","40_Russian",35.700000000000003,52.3,8.6,2.2000000000000002,"x","x",0,88,100,499,0,0,0,"Males40_Russian"]
["M","41_Classical_Studies",4.7,15.1,36.5,28.9,10.5,2.9,1.4,19.8,98.6,591,0,8,0,"Males41_Classical_Studies"]
["M","42_Latin",25.1,41.5,22.1,7.9,2.7,"x","x",66.599999999999994,"x",479,0,1,0,"Males42_Latin"]
["M","43_Greek",34.4,57,7,"x",0,0,"x",91.4,"x",128,0,1,0,"Males43_Greek"]
["M","44_ClassicalCivilisation",3.9,14.5,32.200000000000003,27.3,15.1,5.9,1.2,18.399999999999999,98.8,1328,0,16,0,"Males44_ClassicalCivilisation"]
["M","45_Religious_Studies",6.4,17,28.4,25.8,14.9,6,1.4,23.4,98.6,7002,1,98,0,"Males45_Religious_Studies"]
["M","46_Music",3.3,8,21.9,28.4,24,11.5,2.8,11.3,97.2,1499,0,42,0,"Males46_Music"]
["M","47_Physical_Education",2.1,9.6999999999999993,22.5,25.8,23.5,14.6,1.8,11.7,98.2,6295,0,114,1,"Males47_Physical_Education"]
["M","48_General_Studies",3.4,8.6999999999999993,17.7,26.5,23.3,14,6.4,12.1,93.6,5618,0,352,8,"Males48_General_Studies"]
["F","NULL",7.9,18.399999999999999,28.6,25.3,13.8,5.0999999999999996,0.9,26.4,99.1,410718,0,3744,156,"FemalesNULL"]
["F","01_Biology",10.1,18.3,24.2,21.4,16.2,8.4,1.4,28.4,98.6,33203,0,455,13,"Females01_Biology"]
["F","03_Chemistry",7.7,23.9,27.2,19.5,13,7.3,1.5,31.6,98.5,22706,0,328,5,"Females03_Chemistry"]
["F","04_Physics",9.6,24.2,23.2,18.600000000000001,13.6,9.1,1.8,33.700000000000003,98.2,6649,0,116,2,"Females04_Physics"]
["F","05_Other_Sciences",5.5,19.100000000000001,27.4,21,17.7,8,1.5,24.6,98.5,1093,0,16,0,"Females05_Other_Sciences"]
["F","06_Mathematics_other",72.7,"x",0,"x",0,0,0,"x",100,11,0,0,0,"Females06_Mathematics_other"]
["F","07_Mathematics",16.2,25.9,23.9,16.5,10.7,5.8,1,42.1,99,30671,0,312,5,"Females07_Mathematics"]
["F","08_Pure Mathematics",0,21.4,21.4,"x","x","x",21.4,21.4,78.599999999999994,14,0,3,0,"Females08_Pure Mathematics"]
["F","09_Statistics","x","x",23,27,24,10.7,1,14.3,99,300,0,3,0,"Females09_Statistics"]
["F","10_Use of Mathematics",1.4,5.0999999999999996,18.600000000000001,27.2,29.9,17.8,0,6.5,100,489,0,0,0,"Females10_Use of Mathematics"]
["F","11_Further Mathematics",28.4,30.9,19.399999999999999,11,6.5,3.1,0.6,59.3,99.4,3863,0,25,0,"Females11_Further Mathematics"]
["F","12_English_Literature",8.4,17.100000000000001,30.3,28,13.7,2.2999999999999998,0.2,25.4,99.8,32807,0,63,13,"Females12_English_Literature"]
["F","13_English Language",1.5,10.3,31.3,38.700000000000003,15.7,2.2000000000000002,0.3,11.8,99.7,14634,0,34,5,"Females13_English Language"]
["F","14_English_Language&Literature",2.9,10.199999999999999,28.8,36,18.8,2.9,0.4,13.1,99.6,8119,0,25,7,"Females14_English_Language&Literature"]
["F","15_Design&Technology",5.3,15.2,25.7,26.6,19,7.5,0.9,20.399999999999999,99.1,4222,0,38,0,"Females15_Design&Technology"]
["F","16_Computing",4.7,15.1,27.4,21.7,15.8,12.5,2.8,19.8,97.2,530,0,13,2,"Females16_Computing"]
["F","17_ICT",2.2000000000000002,10.6,23.3,30.4,22.6,9.6999999999999993,1,12.9,99,2113,0,22,0,"Females17_ICT"]
["F","18_Home Economics",2.2999999999999998,14.9,30.7,29.3,15.8,"x","x",17.2,"x",215,0,1,0,"Females18_Home Economics"]
["F","19_Account&Finance",2.9,15.6,23.6,25.1,17.5,10.9,4.5,18.5,95.5,764,0,27,7,"Females19_Account&Finance"]
["F","20_Business_Studies",3.6,12.4,28.3,29.8,18.100000000000001,6.5,1.4,16,98.6,10152,0,133,7,"Females20_Business_Studies"]
["F","21_Economics",8.6999999999999993,25.7,30.4,20.9,9.1999999999999993,4.3,0.8,34.4,99.2,8884,0,72,2,"Females21_Economics"]
["F","22_Geography",7.8,23.6,29.9,23.6,11.3,3.3,0.5,31.4,99.5,16525,0,76,2,"Females22_Geography"]
["F","23_Government&Politics",7.8,22.9,28.9,22.2,12.3,4.8,1.1000000000000001,30.6,98.9,6279,0,64,2,"Females23_Government&Politics"]
["F","24_History",6.2,19.899999999999999,32.200000000000003,26.6,11.9,2.9,0.3,26.1,99.7,26154,0,76,6,"Females24_History"]
["F","25_Law",5.0999999999999996,14.3,26.8,26,17.600000000000001,8.1,2.1,19.399999999999999,97.9,6540,0,127,8,"Females25_Law"]
["F","26_Psychology",6.2,14.5,28.5,26.5,16.100000000000001,6.8,1.4,20.7,98.6,42692,0,592,19,"Females26_Psychology"]
["F","27_Other_Comm_Studies",2.4,11.9,36.700000000000003,34.6,12.2,2,0.2,14.3,99.8,6079,0,14,1,"Females27_Other_Comm_Studies"]
["F","27_Sociology",6.1,14.6,28.2,28.2,15.9,5.7,1.3,20.7,98.7,23881,0,305,9,"Females27_Sociology"]
["F","28_Other_Social_Studies",5.4,15.1,29.7,25.5,16.100000000000001,6.2,1.9,20.6,98.1,1915,0,36,0,"Females28_Other_Social_Studies"]
["F","29_Art&Design",12.9,16.399999999999999,30.1,26.1,11.1,2.9,0.6,29.3,99.4,30117,0,164,11,"Females29_Art&Design"]
["F","30_Drama",4.7,13.4,32.200000000000003,30.3,15.5,3.5,0.4,18.100000000000001,99.6,7775,0,31,1,"Females30_Drama"]
["F","31_Media_Film_TV",1.3,10.8,35,36.5,13.8,2.2999999999999998,0.3,12.1,99.7,10839,0,27,1,"Females31_Media_Film_TV"]
["F","32_Music",4.7,18.899999999999999,29.4,26.8,15.2,4.5,0.5,23.6,99.5,2232,0,9,2,"Females32_Music"]
["F","33_French",8.9,28.4,28.3,19.2,10.4,4.2,0.5,37.299999999999997,99.5,5730,0,28,2,"Females33_French"]
["F","34_German",9.1,29,29.2,19.5,9.4,3.6,0.2,38.1,99.8,2112,0,4,0,"Females34_German"]
["F","35_Spanish",8.6999999999999993,26.6,31,19.899999999999999,9.9,3.4,0.5,35.299999999999997,99.5,4907,0,19,6,"Females35_Spanish"]
["F","36_Other_Modern_Languages",11.9,30.7,29.8,17.600000000000001,6.2,2,1.7,42.6,98.3,1468,0,23,2,"Females36_Other_Modern_Languages"]
["F","37_Chinese",5.3,46.2,37.700000000000003,8.1999999999999993,1.3,0.9,0.4,51.5,99.6,1346,0,3,2,"Females37_Chinese"]
["F","38_Italian",11.8,36.5,32,14.4,4.0999999999999996,"x","x",48.3,"x",466,0,1,0,"Females38_Italian"]
["F","39_Polish",24.3,39.6,18.100000000000001,10.1,4.0999999999999996,"x","x",63.9,"x",507,0,1,0,"Females39_Polish"]
["F","40_Russian",37.5,53.1,5.5,2.1,"x","x",0.5,90.6,99.5,565,0,2,1,"Females40_Russian"]
["F","41_Classical_Studies",3.4,20.399999999999999,38.1,22.9,12.3,2.4,0.6,23.7,99.4,506,0,3,0,"Females41_Classical_Studies"]
["F","42_Latin",24,43.9,21.9,8.1,1.6,"x","x",67.900000000000006,"x",629,0,1,0,"Females42_Latin"]
["F","43_Greek",32.9,56.5,10.6,0,0,0,0,89.4,100,85,0,0,0,"Females43_Greek"]
["F","44_ClassicalCivilisation",5,21.9,32.1,25.2,11.1,3.9,0.8,26.9,99.2,2412,0,17,2,"Females44_ClassicalCivilisation"]
["F","45_Religious_Studies",5.2,19.2,31.5,25.6,13.1,4.5,0.9,24.4,99.1,15636,0,142,6,"Females45_Religious_Studies"]
["F","46_Music","x",3.1,18.3,28.1,31,16.3,2.9,3.4,97.1,416,0,12,0,"Females46_Music"]
["F","47_Physical_Education",5.6,18.2,29,25.8,14.2,6.8,0.5,23.8,99.5,5468,0,27,0,"Females47_Physical_Education"]
["F","48_General_Studies",5.5,9.3000000000000007,21.8,26.7,21.5,10.9,4.3,14.9,95.7,5998,0,254,5,"Females48_General_Studies"]
["ALL","NULL",8.4,18,27.1,24.8,14.7,5.9,1.2,26.4,98.8,743986,6,8624,296,"AllNULL"]
["ALL","01_Biology",9.9,18.2,24,21.5,16.2,8.6999999999999993,1.5,28,98.5,54298,0,801,20,"All01_Biology"]
["ALL","03_Chemistry",8.6999999999999993,24.1,26.6,18.899999999999999,13,7.3,1.5,32.700000000000003,98.5,45428,0,690,11,"All03_Chemistry"]
["ALL","04_Physics",9.4,21.2,22.7,19.3,15.1,10.1,2.2000000000000002,30.6,97.8,31045,0,662,11,"All04_Physics"]
["ALL","05_Other_Sciences",6.8,19.3,24.7,22.8,16.8,7.9,1.6,26.1,98.4,3561,0,57,1,"All05_Other_Sciences"]
["ALL","06_Mathematics_other",58.8,14.1,15.3,"x",0,"x",3.5,72.900000000000006,96.5,85,0,1,2,"All06_Mathematics_other"]
["ALL","07_Mathematics",18.8,25,22.6,15.9,10.6,5.9,1.2,43.8,98.8,79072,0,954,12,"All07_Mathematics"]
["ALL","08_Pure Mathematics",11.8,20.6,29.4,"x",8.8000000000000007,"x",17.600000000000001,32.4,82.4,34,0,6,0,"All08_Pure Mathematics"]
["ALL","09_Statistics",3.3,10,20.399999999999999,29.3,22.3,12.7,2.1,13.3,97.9,731,0,15,0,"All09_Statistics"]
["ALL","10_Use of Mathematics",1.5,4.8,"x",26.8,31.4,19.399999999999999,"x",6.2,"x",1585,0,2,0,"All10_Use of Mathematics"]
["ALL","11_Further Mathematics",29,28.4,20.399999999999999,11.4,6.6,3.4,0.8,57.4,99.2,14047,0,109,3,"All11_Further Mathematics"]
["ALL","12_English_Literature",8.6999999999999993,16.8,29.6,28.3,13.9,2.5,0.3,25.5,99.7,43732,1,107,20,"All12_English_Literature"]
["ALL","13_English Language",1.3,9.1999999999999993,29.6,39.1,17.600000000000001,2.8,0.3,10.6,99.7,21175,0,62,7,"All13_English Language"]
["ALL","14_English_Language&Literature",2.8,9.6999999999999993,27.7,36.299999999999997,19.899999999999999,3.2,0.4,12.5,99.6,11245,0,40,7,"All14_English_Language&Literature"]
["ALL","15_Design&Technology",4.5999999999999996,12.4,23.9,27,21.1,9.6999999999999993,1.3,17,98.7,10587,0,138,1,"All15_Design&Technology"]
["ALL","16_Computing",2.8,13.8,22.6,23.3,21.4,12.9,3.1,16.600000000000001,96.9,5598,0,171,5,"All16_Computing"]
["ALL","17_ICT",1.3,7.6,19.399999999999999,28.9,26.7,13.5,2.7,8.8000000000000007,97.3,6226,1,164,3,"All17_ICT"]
["ALL","18_Home Economics",2.1,13.6,29.7,30.5,16.5,"x","x",15.7,"x",236,0,1,0,"All18_Home Economics"]
["ALL","19_Account&Finance",1.8,12.4,23.9,25.6,20,11.7,4.5,14.3,95.5,2341,0,91,15,"All19_Account&Finance"]
["ALL","20_Business_Studies",3.2,11,27.9,30.8,18.8,7,1.4,14.2,98.6,25128,0,326,16,"All20_Business_Studies"]
["ALL","21_Economics",7.6,23.6,30.2,21.6,11.3,4.7,1.1000000000000001,31.2,98.9,27565,0,283,10,"All21_Economics"]
["ALL","22_Geography",6.2,20.6,29.7,25.5,13.3,4,0.7,26.7,99.3,32866,0,214,6,"All22_Geography"]
["ALL","23_Government&Politics",6.9,21.3,28.7,23.6,13.1,5.0999999999999996,1.2,28.2,98.8,13780,0,167,4,"All23_Government&Politics"]
["ALL","24_History",5.6,18.2,31.5,27.9,13.2,3.2,0.4,23.8,99.6,48349,0,173,14,"All24_History"]
["ALL","25_Law",4.4000000000000004,12.9,25.8,26.5,18.899999999999999,9,2.5,17.3,97.5,10271,0,248,9,"All25_Law"]
["ALL","26_Psychology",5.4,13.1,27.1,27.2,17.600000000000001,7.8,1.8,18.5,98.2,55887,0,972,27,"All26_Psychology"]
["ALL","27_Other_Comm_Studies",2.1,10.7,34.5,36.4,13.6,2.2000000000000002,0.4,12.8,99.6,10275,0,42,3,"All27_Other_Comm_Studies"]
["ALL","27_Sociology",5.7,13.4,27.4,28.7,17,6.3,1.5,19.100000000000001,98.5,30968,0,447,15,"All27_Sociology"]
["ALL","28_Other_Social_Studies",5.8,14.9,28.3,26.2,16.399999999999999,6.6,1.8,20.7,98.2,3216,0,58,1,"All28_Other_Social_Studies"]
["ALL","29_Art&Design",12.3,15.3,29.3,26.7,12.3,3.4,0.7,27.6,99.3,39497,0,247,16,"All29_Art&Design"]
["ALL","30_Drama",4.2,11.8,30.3,31.1,17.7,4.3,0.5,16,99.5,11207,0,55,2,"All30_Drama"]
["ALL","31_Media_Film_TV",1,8.6,30.4,38.200000000000003,17.899999999999999,3.4,0.4,9.6999999999999993,99.6,18839,0,71,4,"All31_Media_Film_TV"]
["ALL","32_Music",5,18.3,28.3,26.9,16.100000000000001,5,0.4,23.3,99.6,4236,0,15,3,"All32_Music"]
["ALL","33_French",9.1,29.3,27.9,18.7,10.3,4.0999999999999996,0.5,38.4,99.5,8459,0,43,3,"All33_French"]
["ALL","34_German",9.1999999999999993,30.2,28.4,19.2,9.3000000000000007,3.3,0.3,39.4,99.7,3445,1,10,1,"All34_German"]
["ALL","35_Spanish",8.6999999999999993,26.5,31.3,20,9.8000000000000007,3.2,0.5,35.200000000000003,99.5,7455,0,31,8,"All35_Spanish"]
["ALL","36_Other_Modern_Languages",11.2,29.1,30.1,17.3,6.8,2.9,2.6,40.299999999999997,97.4,2348,2,51,8,"All36_Other_Modern_Languages"]
["ALL","37_Chinese",4.0999999999999996,40.299999999999997,40.9,11.3,2.1,1,0.4,44.3,99.6,2443,0,6,3,"All37_Chinese"]
["ALL","38_Italian",10.1,37.1,32.200000000000003,14.2,4.9000000000000004,1.1000000000000001,0.4,47.2,99.6,790,0,3,0,"All38_Italian"]
["ALL","39_Polish",21.4,38.5,17.899999999999999,11.9,5.6,4.3,0.4,59.8,99.6,782,0,1,2,"All39_Polish"]
["ALL","40_Russian",36.700000000000003,52.7,7,2.2000000000000002,0.5,0.8,0.3,89.4,99.7,1064,0,2,1,"All40_Russian"]
["ALL","41_Classical_Studies",4.0999999999999996,17.5,37.299999999999997,26.2,11.3,2.6,1,21.6,99,1097,0,11,0,"All41_Classical_Studies"]
["ALL","42_Latin",24.5,42.9,22,8,2.1,"x","x",67.3,"x",1108,0,2,0,"All42_Latin"]
["ALL","43_Greek",33.799999999999997,56.8,8.5,"x",0,0,"x",90.6,"x",213,0,1,0,"All43_Greek"]
["ALL","44_ClassicalCivilisation",4.5999999999999996,19.3,32.1,25.9,12.5,4.5999999999999996,0.9,23.9,99.1,3740,0,33,2,"All44_ClassicalCivilisation"]
["ALL","45_Religious_Studies",5.6,18.5,30.6,25.6,13.7,4.9000000000000004,1.1000000000000001,24.1,98.9,22638,1,240,6,"All45_Religious_Studies"]
["ALL","46_Music",2.6,6.9,21.1,28.4,25.5,12.6,2.8,9.6,97.2,1915,0,54,0,"All46_Music"]
["ALL","47_Physical_Education",3.7,13.6,25.5,25.8,19.2,10.9,1.2,17.3,98.8,11763,0,141,1,"All47_Physical_Education"]
["ALL","48_General_Studies",4.5,9,19.8,26.6,22.4,12.4,5.3,13.5,94.7,11616,0,606,13,"All48_General_Studies"]
[]
["Paste facilitating subject SQL output into cell A152"]
["gender","FS_subjects",{"$error":"#VALUE!"},{"$error":"#VALUE!"},{"$error":"#VALUE!"},{"$error":"#VALUE!"},{"$error":"#VALUE!"},{"$error":"#VALUE!"},{"$error":"#VALUE!"},{"$error":"#VALUE!"},{"$error":"#VALUE!"},"Total","grade_Q","grade_U","grade_X","0FS_subjects"]
["M","NULL",8.9,17.5,25.2,24.2,15.7,7,1.5,26.3,98.5,333268,6,4880,140,"MalesNULL"]
["M",0,4.2,12.2,25.5,29,19.3,8,1.8,16.399999999999999,98.2,146932,2,2555,74,"Males0"]
["M",1,12.5,21.6,25,20.399999999999999,12.9,6.2,1.3,34.200000000000003,98.7,186336,4,2325,66,"Males1"]
["F","NULL",7.9,18.399999999999999,28.6,25.3,13.8,5.0999999999999996,0.9,26.4,99.1,410718,0,3744,156,"FemalesNULL"]
["F",0,6,15,29.5,28.3,15,5.0999999999999996,1,21,99,220671,0,2210,97,"Females0"]
["F",1,10.199999999999999,22.4,27.4,21.7,12.5,5,0.8,32.6,99.2,190047,0,1534,59,"Females1"]
["ALL","NULL",8.4,18,27.1,24.8,14.7,5.9,1.2,26.4,98.8,743986,6,8624,296,"AllNULL"]
["ALL",0,5.3,13.9,27.9,28.6,16.7,6.2,1.3,19.2,98.7,367603,2,4765,171,"All0"]
["ALL",1,11.4,22,26.2,21.1,12.7,5.6,1.1000000000000001,33.4,98.9,376383,4,3859,125,"All1"]
["Calculating percentages "]
["M","49_Mathematics ",19.899999999999999,23.8,21.6,15.9,11.1,6.3,1.3,43.7,98.7,50022,null,null,null,"Males49_Mathematics "]
["F","49_Mathematics ",15.9,25.5,23.8,16.7,11.1,6,1,41.3,99,31485,null,null,null,"Females49_Mathematics "]
["All","49_Mathematics ",18.3,24.4,22.5,16.2,11.1,6.2,1.2,42.8,98.8,81507,null,null,null,"All49_Mathematics "]
["M","50_English",5.8,11.9,26.7,33.700000000000003,18,3.5,0.5,17.7,99.5,20592,null,null,null,"Males50_English"]
["F","50_English",5.8,14.3,30.3,32,15,2.4,0.3,20,99.7,55560,null,null,null,"Females50_English"]
["All","50_English",5.8,13.6,29.3,32.5,15.8,2.7,0.3,19.399999999999999,99.7,76152,null,null,null,"All50_English"]
["M","51_Other modern languages ",11.8,35.1,31.1,13.3,4.8,2.5,1.4,46.9,98.6,3075,null,null,null,"Males51_Other modern languages "]
["F","51_Other modern languages ",14.6,40.1,28,11.5,3.5,1.6,0.8,54.7,99.2,4352,null,null,null,"Females51_Other modern languages "]
["All","51_Other modern languages ",13.5,38,29.3,12.2,4,1.9,1.1000000000000001,51.4,98.9,7427,null,null,null,"All51_Other modern languages "]
["M","52_Classical Studies",9.6999999999999993,21.9,30,22.6,10.9,3.8,1,31.6,99,2526,null,null,null,"Males52_Classical Studies"]
["F","52_Classical Studies",8.6999999999999993,26.3,30.7,21.3,9.4,2.9,0.6,35,99.4,3632,null,null,null,"Females52_Classical Studies"]
["All","52_Classical Studies",9.1,24.5,30.4,21.9,10,3.3,0.8,33.6,99.2,6158,null,null,null,"All52_Classical Studies"]
["M","53_Music",4.4000000000000004,13.6,24.8,27.6,20.100000000000001,8.1,1.4,18,98.6,3503]
["F","53_Music",4,16.399999999999999,27.6,27,17.7,6.3,0.9,20.399999999999999,99.1,2648]
["All","53_Music",4.3,14.8,26,27.3,19.100000000000001,7.3,1.2,19,98.8,6151]

{"sheet":"Table 2a","index":7,"n_rows":97,"n_cols":32,"rows_kept":97,"cut":false,"hidden":false,"merged":[[2,10,2,11],[5,2,5,10],[6,2,6,10],[6,11,7,11],[90,0,90,9]]}
[null,null,4,5,6,7,8,9,10,11,12,13]
["Table 2a: A level results1,2 by subject, grade and gender"]
["Year: 2015/16 (provisional)"]
["Coverage: England"]
[]
[null,"   Select gender:","All"]
["Subject",null,"Percentage achieving grade",null,null,null,null,null,null,null,null,"Number of entries"]
[null,null,"A*","A","B","C","D","E","Other3","A*-A ","A*-E "]
[]
["Biology",null,{"$f":"INDEX(SUPP_2a!C$3:C$149,MATCH((CONCATENATE($C$6,$AF10)),SUPP_2a!$P$3:$P$149,0))","v":9.9},{"$f":"INDEX(SUPP_2a!D$3:D$149,MATCH((CONCATENATE($C$6,$AF10)),SUPP_2a!$P$3:$P$149,0))","v":18.2},{"$f":"INDEX(SUPP_2a!E$3:E$149,MATCH((CONCATENATE($C$6,$AF10)),SUPP_2a!$P$3:$P$149,0))","v":24},{"$f":"INDEX(SUPP_2a!F$3:F$149,MATCH((CONCATENATE($C$6,$AF10)),SUPP_2a!$P$3:$P$149,0))","v":21.5},{"$f":"INDEX(SUPP_2a!G$3:G$149,MATCH((CONCATENATE($C$6,$AF10)),SUPP_2a!$P$3:$P$149,0))","v":16.2},{"$f":"INDEX(SUPP_2a!H$3:H$149,MATCH((CONCATENATE($C$6,$AF10)),SUPP_2a!$P$3:$P$149,0))","v":8.6999999999999993},{"$f":"INDEX(SUPP_2a!I$3:I$149,MATCH((CONCATENATE($C$6,$AF10)),SUPP_2a!$P$3:$P$149,0))","v":1.5},{"$f":"INDEX(SUPP_2a!J$3:J$149,MATCH((CONCATENATE($C$6,$AF10)),SUPP_2a!$P$3:$P$149,0))","v":28},{"$f":"INDEX(SUPP_2a!K$3:K$149,MATCH((CONCATENATE($C$6,$AF10)),SUPP_2a!$P$3:$P$149,0))","v":98.5},{"$f":"INDEX(SUPP_2a!L$3:L$149,MATCH((CONCATENATE($C$6,$AF10)),SUPP_2a!$P$3:$P$149,0))","v":54298},null,null,null,null,null,null,null,null,null,null,null,null,null,null,null,null,null,null,null,"01_Biology"]
["Chemistry",null,{"$f":"INDEX(SUPP_2a!C$3:C$149,MATCH((CONCATENATE($C$6,$AF11)),SUPP_2a!$P$3:$P$149,0))","v":8.6999999999999993},{"$f":"INDEX(SUPP_2a!D$3:D$149,MATCH((CONCATENATE($C$6,$AF11)),SUPP_2a!$P$3:$P$149,0))","v":24.1},{"$f":"INDEX(SUPP_2a!E$3:E$149,MATCH((CONCATENATE($C$6,$AF11)),SUPP_2a!$P$3:$P$149,0))","v":26.6},{"$f":"INDEX(SUPP_2a!F$3:F$149,MATCH((CONCATENATE($C$6,$AF11)),SUPP_2a!$P$3:$P$149,0))","v":18.899999999999999},{"$f":"INDEX(SUPP_2a!G$3:G$149,MATCH((CONCATENATE($C$6,$AF11)),SUPP_2a!$P$3:$P$149,0))","v":13},{"$f":"INDEX(SUPP_2a!H$3:H$149,MATCH((CONCATENATE($C$6,$AF11)),SUPP_2a!$P$3:$P$149,0))","v":7.3},{"$f":"INDEX(SUPP_2a!I$3:I$149,MATCH((CONCATENATE($C$6,$AF11)),SUPP_2a!$P$3:$P$149,0))","v":1.5},{"$f":"INDEX(SUPP_2a!J$3:J$149,MATCH((CONCATENATE($C$6,$AF11)),SUPP_2a!$P$3:$P$149,0))","v":32.700000000000003},{"$f":"INDEX(SUPP_2a!K$3:K$149,MATCH((CONCATENATE($C$6,$AF11)),SUPP_2a!$P$3:$P$149,0))","v":98.5},{"$f":"INDEX(SUPP_2a!L$3:L$149,MATCH((CONCATENATE($C$6,$AF11)),SUPP_2a!$P$3:$P$149,0))","v":45428},null,null,null,null,null,null,null,null,null,null,null,null,null,null,null,null,null,null,null,"03_Chemistry"]
["Physics",null,{"$f":"INDEX(SUPP_2a!C$3:C$149,MATCH((CONCATENATE($C$6,$AF12)),SUPP_2a!$P$3:$P$149,0))","v":9.4},{"$f":"INDEX(SUPP_2a!D$3:D$149,MATCH((CONCATENATE($C$6,$AF12)),SUPP_2a!$P$3:$P$149,0))","v":21.2},{"$f":"INDEX(SUPP_2a!E$3:E$149,MATCH((CONCATENATE($C$6,$AF12)),SUPP_2a!$P$3:$P$149,0))","v":22.7},{"$f":"INDEX(SUPP_2a!F$3:F$149,MATCH((CONCATENATE($C$6,$AF12)),SUPP_2a!$P$3:$P$149,0))","v":19.3},{"$f":"INDEX(SUPP_2a!G$3:G$149,MATCH((CONCATENATE($C$6,$AF12)),SUPP_2a!$P$3:$P$149,0))","v":15.1},{"$f":"INDEX(SUPP_2a!H$3:H$149,MATCH((CONCATENATE($C$6,$AF12)),SUPP_2a!$P$3:$P$149,0))","v":10.1},{"$f":"INDEX(SUPP_2a!I$3:I$149,MATCH((CONCATENATE($C$6,$AF12)),SUPP_2a!$P$3:$P$149,0))","v":2.2000000000000002},{"$f":"INDEX(SUPP_2a!J$3:J$149,MATCH((CONCATENATE($C$6,$AF12)),SUPP_2a!$P$3:$P$149,0))","v":30.6},{"$f":"INDEX(SUPP_2a!K$3:K$149,MATCH((CONCATENATE($C$6,$AF12)),SUPP_2a!$P$3:$P$149,0))","v":97.8},{"$f":"INDEX(SUPP_2a!L$3:L$149,MATCH((CONCATENATE($C$6,$AF12)),SUPP_2a!$P$3:$P$149,0))","v":31045},null,null,null,null,null,null,null,null,null,null,null,null,null,null,null,null,null,null,null,"04_Physics"]
["Other Science",null,{"$f":"INDEX(SUPP_2a!C$3:C$149,MATCH((CONCATENATE($C$6,$AF13)),SUPP_2a!$P$3:$P$149,0))","v":6.8},{"$f":"INDEX(SUPP_2a!D$3:D$149,MATCH((CONCATENATE($C$6,$AF13)),SUPP_2a!$P$3:$P$149,0))","v":19.3},{"$f":"INDEX(SUPP_2a!E$3:E$149,MATCH((CONCATENATE($C$6,$AF13)),SUPP_2a!$P$3:$P$149,0))","v":24.7},{"$f":"INDEX(SUPP_2a!F$3:F$149,MATCH((CONCATENATE($C$6,$AF13)),SUPP_2a!$P$3:$P$149,0))","v":22.8},{"$f":"INDEX(SUPP_2a!G$3:G$149,MATCH((CONCATENATE($C$6,$AF13)),SUPP_2a!$P$3:$P$149,0))","v":16.8},{"$f":"INDEX(SUPP_2a!H$3:H$149,MATCH((CONCATENATE($C$6,$AF13)),SUPP_2a!$P$3:$P$149,0))","v":7.9},{"$f":"INDEX(SUPP_2a!I$3:I$149,MATCH((CONCATENATE($C$6,$AF13)),SUPP_2a!$P$3:$P$149,0))","v":1.6},{"$f":"INDEX(SUPP_2a!J$3:J$149,MATCH((CONCATENATE($C$6,$AF13)),SUPP_2a!$P$3:$P$149,0))","v":26.1},{"$f":"INDEX(SUPP_2a!K$3:K$149,MATCH((CONCATENATE($C$6,$AF13)),SUPP_2a!$P$3:$P$149,0))","v":98.4},{"$f":"INDEX(SUPP_2a!L$3:L$149,MATCH((CONCATENATE($C$6,$AF13)),SUPP_2a!$P$3:$P$149,0))","v":3561},null,null,null,null,null,null,null,null,null,null,null,null,null,null,null,null,null,null,null,"05_Other_Sciences"]
[]
["Mathematics",null,{"$f":"IF($C$6=\"All\",SUPP_2a!C165,IF($C$6=\"Females\",SUPP_2a!C164,IF($C$6=\"Males\",SUPP_2a!C163)))","v":18.3},{"$f":"IF($C$6=\"All\",SUPP_2a!D165,IF($C$6=\"Females\",SUPP_2a!D164,IF($C$6=\"Males\",SUPP_2a!D163)))","v":24.4},{"$f":"IF($C$6=\"All\",SUPP_2a!E165,IF($C$6=\"Females\",SUPP_2a!E164,IF($C$6=\"Males\",SUPP_2a!E163)))","v":22.5},{"$f":"IF($C$6=\"All\",SUPP_2a!F165,IF($C$6=\"Females\",SUPP_2a!F164,IF($C$6=\"Males\",SUPP_2a!F163)))","v":16.2},{"$f":"IF($C$6=\"All\",SUPP_2a!G165,IF($C$6=\"Females\",SUPP_2a!G164,IF($C$6=\"Males\",SUPP_2a!G163)))","v":11.1},{"$f":"IF($C$6=\"All\",SUPP_2a!H165,IF($C$6=\"Females\",SUPP_2a!H164,IF($C$6=\"Males\",SUPP_2a!H163)))","v":6.2},{"$f":"IF($C$6=\"All\",SUPP_2a!I165,IF($C$6=\"Females\",SUPP_2a!I164,IF($C$6=\"Males\",SUPP_2a!I163)))","v":1.2},{"$f":"IF($C$6=\"All\",SUPP_2a!J165,IF($C$6=\"Females\",SUPP_2a!J164,IF($C$6=\"Males\",SUPP_2a!J163)))","v":42.8},{"$f":"IF($C$6=\"All\",SUPP_2a!K165,IF($C$6=\"Females\",SUPP_2a!K164,IF($C$6=\"Males\",SUPP_2a!K163)))","v":98.8},{"$f":"IF($C$6=\"All\",SUPP_2a!L165,IF($C$6=\"Females\",SUPP_2a!L164,IF($C$6=\"Males\",SUPP_2a!L163)))","v":81507}]
["of which: "]
["  Mathematics",null,{"$f":"INDEX(SUPP_2a!C$3:C$149,MATCH((CONCATENATE($C$6,$AF17)),SUPP_2a!$P$3:$P$149,0))","v":18.8},{"$f":"INDEX(SUPP_2a!D$3:D$149,MATCH((CONCATENATE($C$6,$AF17)),SUPP_2a!$P$3:$P$149,0))","v":25},{"$f":"INDEX(SUPP_2a!E$3:E$149,MATCH((CONCATENATE($C$6,$AF17)),SUPP_2a!$P$3:$P$149,0))","v":22.6},{"$f":"INDEX(SUPP_2a!F$3:F$149,MATCH((CONCATENATE($C$6,$AF17)),SUPP_2a!$P$3:$P$149,0))","v":15.9},{"$f":"INDEX(SUPP_2a!G$3:G$149,MATCH((CONCATENATE($C$6,$AF17)),SUPP_2a!$P$3:$P$149,0))","v":10.6},{"$f":"INDEX(SUPP_2a!H$3:H$149,MATCH((CONCATENATE($C$6,$AF17)),SUPP_2a!$P$3:$P$149,0))","v":5.9},{"$f":"INDEX(SUPP_2a!I$3:I$149,MATCH((CONCATENATE($C$6,$AF17)),SUPP_2a!$P$3:$P$149,0))","v":1.2},{"$f":"INDEX(SUPP_2a!J$3:J$149,MATCH((CONCATENATE($C$6,$AF17)),SUPP_2a!$P$3:$P$149,0))","v":43.8},{"$f":"INDEX(SUPP_2a!K$3:K$149,MATCH((CONCATENATE($C$6,$AF17)),SUPP_2a!$P$3:$P$149,0))","v":98.8},{"$f":"INDEX(SUPP_2a!L$3:L$149,MATCH((CONCATENATE($C$6,$AF17)),SUPP_2a!$P$3:$P$149,0))","v":79072},null,null,null,null,null,null,null,null,null,null,null,null,null,null,null,null,null,null,null,"07_Mathematics"]
["  Pure Mathematics",null,{"$f":"INDEX(SUPP_2a!C$3:C$149,MATCH((CONCATENATE($C$6,$AF18)),SUPP_2a!$P$3:$P$149,0))","v":11.8},{"$f":"INDEX(SUPP_2a!D$3:D$149,MATCH((CONCATENATE($C$6,$AF18)),SUPP_2a!$P$3:$P$149,0))","v":20.6},{"$f":"INDEX(SUPP_2a!E$3:E$149,MATCH((CONCATENATE($C$6,$AF18)),SUPP_2a!$P$3:$P$149,0))","v":29.4},{"$f":"INDEX(SUPP_2a!F$3:F$149,MATCH((CONCATENATE($C$6,$AF18)),SUPP_2a!$P$3:$P$149,0))","v":"x"},{"$f":"INDEX(SUPP_2a!G$3:G$149,MATCH((CONCATENATE($C$6,$AF18)),SUPP_2a!$P$3:$P$149,0))","v":8.8000000000000007},{"$f":"INDEX(SUPP_2a!H$3:H$149,MATCH((CONCATENATE($C$6,$AF18)),SUPP_2a!$P$3:$P$149,0))","v":"x"},{"$f":"INDEX(SUPP_2a!I$3:I$149,MATCH((CONCATENATE($C$6,$AF18)),SUPP_2a!$P$3:$P$149,0))","v":17.600000000000001},{"$f":"INDEX(SUPP_2a!J$3:J$149,MATCH((CONCATENATE($C$6,$AF18)),SUPP_2a!$P$3:$P$149,0))","v":32.4},{"$f":"INDEX(SUPP_2a!K$3:K$149,MATCH((CONCATENATE($C$6,$AF18)),SUPP_2a!$P$3:$P$149,0))","v":82.4},{"$f":"INDEX(SUPP_2a!L$3:L$149,MATCH((CONCATENATE($C$6,$AF18)),SUPP_2a!$P$3:$P$149,0))","v":34},null,null,null,null,null,null,null,null,null,null,null,null,null,null,null,null,null,null,null,"08_Pure Mathematics"]
["  Statistics",null,{"$f":"INDEX(SUPP_2a!C$3:C$149,MATCH((CONCATENATE($C$6,$AF19)),SUPP_2a!$P$3:$P$149,0))","v":3.3},{"$f":"INDEX(SUPP_2a!D$3:D$149,MATCH((CONCATENATE($C$6,$AF19)),SUPP_2a!$P$3:$P$149,0))","v":10},{"$f":"INDEX(SUPP_2a!E$3:E$149,MATCH((CONCATENATE($C$6,$AF19)),SUPP_2a!$P$3:$P$149,0))","v":20.399999999999999},{"$f":"INDEX(SUPP_2a!F$3:F$149,MATCH((CONCATENATE($C$6,$AF19)),SUPP_2a!$P$3:$P$149,0))","v":29.3},{"$f":"INDEX(SUPP_2a!G$3:G$149,MATCH((CONCATENATE($C$6,$AF19)),SUPP_2a!$P$3:$P$149,0))","v":22.3},{"$f":"INDEX(SUPP_2a!H$3:H$149,MATCH((CONCATENATE($C$6,$AF19)),SUPP_2a!$P$3:$P$149,0))","v":12.7},{"$f":"INDEX(SUPP_2a!I$3:I$149,MATCH((CONCATENATE($C$6,$AF19)),SUPP_2a!$P$3:$P$149,0))","v":2.1},{"$f":"INDEX(SUPP_2a!J$3:J$149,MATCH((CONCATENATE($C$6,$AF19)),SUPP_2a!$P$3:$P$149,0))","v":13.3},{"$f":"INDEX(SUPP_2a!K$3:K$149,MATCH((CONCATENATE($C$6,$AF19)),SUPP_2a!$P$3:$P$149,0))","v":97.9},{"$f":"INDEX(SUPP_2a!L$3:L$149,MATCH((CONCATENATE($C$6,$AF19)),SUPP_2a!$P$3:$P$149,0))","v":731},null,null,null,null,null,null,null,null,null,null,null,null,null,null,null,null,null,null,null,"09_Statistics"]
["  Use of Mathematics",null,{"$f":"INDEX(SUPP_2a!C$3:C$149,MATCH((CONCATENATE($C$6,$AF20)),SUPP_2a!$P$3:$P$149,0))","v":1.5},{"$f":"INDEX(SUPP_2a!D$3:D$149,MATCH((CONCATENATE($C$6,$AF20)),SUPP_2a!$P$3:$P$149,0))","v":4.8},{"$f":"INDEX(SUPP_2a!E$3:E$149,MATCH((CONCATENATE($C$6,$AF20)),SUPP_2a!$P$3:$P$149,0))","v":"x"},{"$f":"INDEX(SUPP_2a!F$3:F$149,MATCH((CONCATENATE($C$6,$AF20)),SUPP_2a!$P$3:$P$149,0))","v":26.8},{"$f":"INDEX(SUPP_2a!G$3:G$149,MATCH((CONCATENATE($C$6,$AF20)),SUPP_2a!$P$3:$P$149,0))","v":31.4},{"$f":"INDEX(SUPP_2a!H$3:H$149,MATCH((CONCATENATE($C$6,$AF20)),SUPP_2a!$P$3:$P$149,0))","v":19.399999999999999},{"$f":"INDEX(SUPP_2a!I$3:I$149,MATCH((CONCATENATE($C$6,$AF20)),SUPP_2a!$P$3:$P$149,0))","v":"x"},{"$f":"INDEX(SUPP_2a!J$3:J$149,MATCH((CONCATENATE($C$6,$AF20)),SUPP_2a!$P$3:$P$149,0))","v":6.2},{"$f":"INDEX(SUPP_2a!K$3:K$149,MATCH((CONCATENATE($C$6,$AF20)),SUPP_2a!$P$3:$P$149,0))","v":"x"},{"$f":"INDEX(SUPP_2a!L$3:L$149,MATCH((CONCATENATE($C$6,$AF20)),SUPP_2a!$P$3:$P$149,0))","v":1585},null,null,null,null,null,null,null,null,null,null,null,null,null,null,null,null,null,null,null,"10_Use of Mathematics"]
["  Other Mathematics",null,{"$f":"INDEX(SUPP_2a!C$3:C$149,MATCH((CONCATENATE($C$6,$AF21)),SUPP_2a!$P$3:$P$149,0))","v":58.8},{"$f":"INDEX(SUPP_2a!D$3:D$149,MATCH((CONCATENATE($C$6,$AF21)),SUPP_2a!$P$3:$P$149,0))","v":14.1},{"$f":"INDEX(SUPP_2a!E$3:E$149,MATCH((CONCATENATE($C$6,$AF21)),SUPP_2a!$P$3:$P$149,0))","v":15.3},{"$f":"INDEX(SUPP_2a!F$3:F$149,MATCH((CONCATENATE($C$6,$AF21)),SUPP_2a!$P$3:$P$149,0))","v":"x"},{"$f":"INDEX(SUPP_2a!G$3:G$149,MATCH((CONCATENATE($C$6,$AF21)),SUPP_2a!$P$3:$P$149,0))","v":0},{"$f":"INDEX(SUPP_2a!H$3:H$149,MATCH((CONCATENATE($C$6,$AF21)),SUPP_2a!$P$3:$P$149,0))","v":"x"},{"$f":"INDEX(SUPP_2a!I$3:I$149,MATCH((CONCATENATE($C$6,$AF21)),SUPP_2a!$P$3:$P$149,0))","v":3.5},{"$f":"INDEX(SUPP_2a!J$3:J$149,MATCH((CONCATENATE($C$6,$AF21)),SUPP_2a!$P$3:$P$149,0))","v":72.900000000000006},{"$f":"INDEX(SUPP_2a!K$3:K$149,MATCH((CONCATENATE($C$6,$AF21)),SUPP_2a!$P$3:$P$149,0))","v":96.5},{"$f":"INDEX(SUPP_2a!L$3:L$149,MATCH((CONCATENATE($C$6,$AF21)),SUPP_2a!$P$3:$P$149,0))","v":85},null,null,null,null,null,null,null,null,null,null,null,null,null,null,null,null,null,null,null,"06_Mathematics_other"]
[]
["Further Mathematics",null,{"$f":"INDEX(SUPP_2a!C$3:C$149,MATCH((CONCATENATE($C$6,$AF23)),SUPP_2a!$P$3:$P$149,0))","v":29},{"$f":"INDEX(SUPP_2a!D$3:D$149,MATCH((CONCATENATE($C$6,$AF23)),SUPP_2a!$P$3:$P$149,0))","v":28.4},{"$f":"INDEX(SUPP_2a!E$3:E$149,MATCH((CONCATENATE($C$6,$AF23)),SUPP_2a!$P$3:$P$149,0))","v":20.399999999999999},{"$f":"INDEX(SUPP_2a!F$3:F$149,MATCH((CONCATENATE($C$6,$AF23)),SUPP_2a!$P$3:$P$149,0))","v":11.4},{"$f":"INDEX(SUPP_2a!G$3:G$149,MATCH((CONCATENATE($C$6,$AF23)),SUPP_2a!$P$3:$P$149,0))","v":6.6},{"$f":"INDEX(SUPP_2a!H$3:H$149,MATCH((CONCATENATE($C$6,$AF23)),SUPP_2a!$P$3:$P$149,0))","v":3.4},{"$f":"INDEX(SUPP_2a!I$3:I$149,MATCH((CONCATENATE($C$6,$AF23)),SUPP_2a!$P$3:$P$149,0))","v":0.8},{"$f":"INDEX(SUPP_2a!J$3:J$149,MATCH((CONCATENATE($C$6,$AF23)),SUPP_2a!$P$3:$P$149,0))","v":57.4},{"$f":"INDEX(SUPP_2a!K$3:K$149,MATCH((CONCATENATE($C$6,$AF23)),SUPP_2a!$P$3:$P$149,0))","v":99.2},{"$f":"INDEX(SUPP_2a!L$3:L$149,MATCH((CONCATENATE($C$6,$AF23)),SUPP_2a!$P$3:$P$149,0))","v":14047},null,null,null,null,null,null,null,null,null,null,null,null,null,null,null,null,null,null,null,"11_Further Mathematics"]
[]
["English",null,{"$f":"IF($C$6=\"All\",SUPP_2a!C168,IF($C$6=\"Females\",SUPP_2a!C167,IF($C$6=\"Males\",SUPP_2a!C166)))","v":5.8},{"$f":"IF($C$6=\"All\",SUPP_2a!D168,IF($C$6=\"Females\",SUPP_2a!D167,IF($C$6=\"Males\",SUPP_2a!D166)))","v":13.6},{"$f":"IF($C$6=\"All\",SUPP_2a!E168,IF($C$6=\"Females\",SUPP_2a!E167,IF($C$6=\"Males\",SUPP_2a!E166)))","v":29.3},{"$f":"IF($C$6=\"All\",SUPP_2a!F168,IF($C$6=\"Females\",SUPP_2a!F167,IF($C$6=\"Males\",SUPP_2a!F166)))","v":32.5},{"$f":"IF($C$6=\"All\",SUPP_2a!G168,IF($C$6=\"Females\",SUPP_2a!G167,IF($C$6=\"Males\",SUPP_2a!G166)))","v":15.8},{"$f":"IF($C$6=\"All\",SUPP_2a!H168,IF($C$6=\"Females\",SUPP_2a!H167,IF($C$6=\"Males\",SUPP_2a!H166)))","v":2.7},{"$f":"IF($C$6=\"All\",SUPP_2a!I168,IF($C$6=\"Females\",SUPP_2a!I167,IF($C$6=\"Males\",SUPP_2a!I166)))","v":0.3},{"$f":"IF($C$6=\"All\",SUPP_2a!J168,IF($C$6=\"Females\",SUPP_2a!J167,IF($C$6=\"Males\",SUPP_2a!J166)))","v":19.399999999999999},{"$f":"IF($C$6=\"All\",SUPP_2a!K168,IF($C$6=\"Females\",SUPP_2a!K167,IF($C$6=\"Males\",SUPP_2a!K166)))","v":99.7},{"$f":"IF($C$6=\"All\",SUPP_2a!L168,IF($C$6=\"Females\",SUPP_2a!L167,IF($C$6=\"Males\",SUPP_2a!L166)))","v":76152}]
["of which:"]
["  English literature",null,{"$f":"INDEX(SUPP_2a!C$3:C$149,MATCH((CONCATENATE($C$6,$AF27)),SUPP_2a!$P$3:$P$149,0))","v":8.6999999999999993},{"$f":"INDEX(SUPP_2a!D$3:D$149,MATCH((CONCATENATE($C$6,$AF27)),SUPP_2a!$P$3:$P$149,0))","v":16.8},{"$f":"INDEX(SUPP_2a!E$3:E$149,MATCH((CONCATENATE($C$6,$AF27)),SUPP_2a!$P$3:$P$149,0))","v":29.6},{"$f":"INDEX(SUPP_2a!F$3:F$149,MATCH((CONCATENATE($C$6,$AF27)),SUPP_2a!$P$3:$P$149,0))","v":28.3},{"$f":"INDEX(SUPP_2a!G$3:G$149,MATCH((CONCATENATE($C$6,$AF27)),SUPP_2a!$P$3:$P$149,0))","v":13.9},{"$f":"INDEX(SUPP_2a!H$3:H$149,MATCH((CONCATENATE($C$6,$AF27)),SUPP_2a!$P$3:$P$149,0))","v":2.5},{"$f":"INDEX(SUPP_2a!I$3:I$149,MATCH((CONCATENATE($C$6,$AF27)),SUPP_2a!$P$3:$P$149,0))","v":0.3},{"$f":"INDEX(SUPP_2a!J$3:J$149,MATCH((CONCATENATE($C$6,$AF27)),SUPP_2a!$P$3:$P$149,0))","v":25.5},{"$f":"INDEX(SUPP_2a!K$3:K$149,MATCH((CONCATENATE($C$6,$AF27)),SUPP_2a!$P$3:$P$149,0))","v":99.7},{"$f":"INDEX(SUPP_2a!L$3:L$149,MATCH((CONCATENATE($C$6,$AF27)),SUPP_2a!$P$3:$P$149,0))","v":43732},null,null,null,null,null,null,null,null,null,null,null,null,null,null,null,null,null,null,null,"12_English_Literature"]
["  English language",null,{"$f":"INDEX(SUPP_2a!C$3:C$149,MATCH((CONCATENATE($C$6,$AF28)),SUPP_2a!$P$3:$P$149,0))","v":1.3},{"$f":"INDEX(SUPP_2a!D$3:D$149,MATCH((CONCATENATE($C$6,$AF28)),SUPP_2a!$P$3:$P$149,0))","v":9.1999999999999993},{"$f":"INDEX(SUPP_2a!E$3:E$149,MATCH((CONCATENATE($C$6,$AF28)),SUPP_2a!$P$3:$P$149,0))","v":29.6},{"$f":"INDEX(SUPP_2a!F$3:F$149,MATCH((CONCATENATE($C$6,$AF28)),SUPP_2a!$P$3:$P$149,0))","v":39.1},{"$f":"INDEX(SUPP_2a!G$3:G$149,MATCH((CONCATENATE($C$6,$AF28)),SUPP_2a!$P$3:$P$149,0))","v":17.600000000000001},{"$f":"INDEX(SUPP_2a!H$3:H$149,MATCH((CONCATENATE($C$6,$AF28)),SUPP_2a!$P$3:$P$149,0))","v":2.8},{"$f":"INDEX(SUPP_2a!I$3:I$149,MATCH((CONCATENATE($C$6,$AF28)),SUPP_2a!$P$3:$P$149,0))","v":0.3},{"$f":"INDEX(SUPP_2a!J$3:J$149,MATCH((CONCATENATE($C$6,$AF28)),SUPP_2a!$P$3:$P$149,0))","v":10.6},{"$f":"INDEX(SUPP_2a!K$3:K$149,MATCH((CONCATENATE($C$6,$AF28)),SUPP_2a!$P$3:$P$149,0))","v":99.7},{"$f":"INDEX(SUPP_2a!L$3:L$149,MATCH((CONCATENATE($C$6,$AF28)),SUPP_2a!$P$3:$P$149,0))","v":21175},null,null,null,null,null,null,null,null,null,null,null,null,null,null,null,null,null,null,null,"13_English Language"]
["  English language and literature",null,{"$f":"INDEX(SUPP_2a!C$3:C$149,MATCH((CONCATENATE($C$6,$AF29)),SUPP_2a!$P$3:$P$149,0))","v":2.8},{"$f":"INDEX(SUPP_2a!D$3:D$149,MATCH((CONCATENATE($C$6,$AF29)),SUPP_2a!$P$3:$P$149,0))","v":9.6999999999999993},{"$f":"INDEX(SUPP_2a!E$3:E$149,MATCH((CONCATENATE($C$6,$AF29)),SUPP_2a!$P$3:$P$149,0))","v":27.7},{"$f":"INDEX(SUPP_2a!F$3:F$149,MATCH((CONCATENATE($C$6,$AF29)),SUPP_2a!$P$3:$P$149,0))","v":36.299999999999997},{"$f":"INDEX(SUPP_2a!G$3:G$149,MATCH((CONCATENATE($C$6,$AF29)),SUPP_2a!$P$3:$P$149,0))","v":19.899999999999999},{"$f":"INDEX(SUPP_2a!H$3:H$149,MATCH((CONCATENATE($C$6,$AF29)),SUPP_2a!$P$3:$P$149,0))","v":3.2},{"$f":"INDEX(SUPP_2a!I$3:I$149,MATCH((CONCATENATE($C$6,$AF29)),SUPP_2a!$P$3:$P$149,0))","v":0.4},{"$f":"INDEX(SUPP_2a!J$3:J$149,MATCH((CONCATENATE($C$6,$AF29)),SUPP_2a!$P$3:$P$149,0))","v":12.5},{"$f":"INDEX(SUPP_2a!K$3:K$149,MATCH((CONCATENATE($C$6,$AF29)),SUPP_2a!$P$3:$P$149,0))","v":99.6},{"$f":"INDEX(SUPP_2a!L$3:L$149,MATCH((CONCATENATE($C$6,$AF29)),SUPP_2a!$P$3:$P$149,0))","v":11245},null,null,null,null,null,null,null,null,null,null,null,null,null,null,null,null,null,null,null,"14_English_Language&Literature"]
[]
["Design and Technology",null,{"$f":"INDEX(SUPP_2a!C$3:C$149,MATCH((CONCATENATE($C$6,$AF31)),SUPP_2a!$P$3:$P$149,0))","v":4.5999999999999996},{"$f":"INDEX(SUPP_2a!D$3:D$149,MATCH((CONCATENATE($C$6,$AF31)),SUPP_2a!$P$3:$P$149,0))","v":12.4},{"$f":"INDEX(SUPP_2a!E$3:E$149,MATCH((CONCATENATE($C$6,$AF31)),SUPP_2a!$P$3:$P$149,0))","v":23.9},{"$f":"INDEX(SUPP_2a!F$3:F$149,MATCH((CONCATENATE($C$6,$AF31)),SUPP_2a!$P$3:$P$149,0))","v":27},{"$f":"INDEX(SUPP_2a!G$3:G$149,MATCH((CONCATENATE($C$6,$AF31)),SUPP_2a!$P$3:$P$149,0))","v":21.1},{"$f":"INDEX(SUPP_2a!H$3:H$149,MATCH((CONCATENATE($C$6,$AF31)),SUPP_2a!$P$3:$P$149,0))","v":9.6999999999999993},{"$f":"INDEX(SUPP_2a!I$3:I$149,MATCH((CONCATENATE($C$6,$AF31)),SUPP_2a!$P$3:$P$149,0))","v":1.3},{"$f":"INDEX(SUPP_2a!J$3:J$149,MATCH((CONCATENATE($C$6,$AF31)),SUPP_2a!$P$3:$P$149,0))","v":17},{"$f":"INDEX(SUPP_2a!K$3:K$149,MATCH((CONCATENATE($C$6,$AF31)),SUPP_2a!$P$3:$P$149,0))","v":98.7},{"$f":"INDEX(SUPP_2a!L$3:L$149,MATCH((CONCATENATE($C$6,$AF31)),SUPP_2a!$P$3:$P$149,0))","v":10587},null,null,null,null,null,null,null,null,null,null,null,null,null,null,null,null,null,null,null,"15_Design&Technology"]
["Computer Science",null,{"$f":"INDEX(SUPP_2a!C$3:C$149,MATCH((CONCATENATE($C$6,$AF32)),SUPP_2a!$P$3:$P$149,0))","v":2.8},{"$f":"INDEX(SUPP_2a!D$3:D$149,MATCH((CONCATENATE($C$6,$AF32)),SUPP_2a!$P$3:$P$149,0))","v":13.8},{"$f":"INDEX(SUPP_2a!E$3:E$149,MATCH((CONCATENATE($C$6,$AF32)),SUPP_2a!$P$3:$P$149,0))","v":22.6},{"$f":"INDEX(SUPP_2a!F$3:F$149,MATCH((CONCATENATE($C$6,$AF32)),SUPP_2a!$P$3:$P$149,0))","v":23.3},{"$f":"INDEX(SUPP_2a!G$3:G$149,MATCH((CONCATENATE($C$6,$AF32)),SUPP_2a!$P$3:$P$149,0))","v":21.4},{"$f":"INDEX(SUPP_2a!H$3:H$149,MATCH((CONCATENATE($C$6,$AF32)),SUPP_2a!$P$3:$P$149,0))","v":12.9},{"$f":"INDEX(SUPP_2a!I$3:I$149,MATCH((CONCATENATE($C$6,$AF32)),SUPP_2a!$P$3:$P$149,0))","v":3.1},{"$f":"INDEX(SUPP_2a!J$3:J$149,MATCH((CONCATENATE($C$6,$AF32)),SUPP_2a!$P$3:$P$149,0))","v":16.600000000000001},{"$f":"INDEX(SUPP_2a!K$3:K$149,MATCH((CONCATENATE($C$6,$AF32)),SUPP_2a!$P$3:$P$149,0))","v":96.9},{"$f":"INDEX(SUPP_2a!L$3:L$149,MATCH((CONCATENATE($C$6,$AF32)),SUPP_2a!$P$3:$P$149,0))","v":5598},null,null,null,null,null,null,null,null,null,null,null,null,null,null,null,null,null,null,null,"16_Computing"]
["ICT4",null,{"$f":"INDEX(SUPP_2a!C$3:C$149,MATCH((CONCATENATE($C$6,$AF33)),SUPP_2a!$P$3:$P$149,0))","v":1.3},{"$f":"INDEX(SUPP_2a!D$3:D$149,MATCH((CONCATENATE($C$6,$AF33)),SUPP_2a!$P$3:$P$149,0))","v":7.6},{"$f":"INDEX(SUPP_2a!E$3:E$149,MATCH((CONCATENATE($C$6,$AF33)),SUPP_2a!$P$3:$P$149,0))","v":19.399999999999999},{"$f":"INDEX(SUPP_2a!F$3:F$149,MATCH((CONCATENATE($C$6,$AF33)),SUPP_2a!$P$3:$P$149,0))","v":28.9},{"$f":"INDEX(SUPP_2a!G$3:G$149,MATCH((CONCATENATE($C$6,$AF33)),SUPP_2a!$P$3:$P$149,0))","v":26.7},{"$f":"INDEX(SUPP_2a!H$3:H$149,MATCH((CONCATENATE($C$6,$AF33)),SUPP_2a!$P$3:$P$149,0))","v":13.5},{"$f":"INDEX(SUPP_2a!I$3:I$149,MATCH((CONCATENATE($C$6,$AF33)),SUPP_2a!$P$3:$P$149,0))","v":2.7},{"$f":"INDEX(SUPP_2a!J$3:J$149,MATCH((CONCATENATE($C$6,$AF33)),SUPP_2a!$P$3:$P$149,0))","v":8.8000000000000007},{"$f":"INDEX(SUPP_2a!K$3:K$149,MATCH((CONCATENATE($C$6,$AF33)),SUPP_2a!$P$3:$P$149,0))","v":97.3},{"$f":"INDEX(SUPP_2a!L$3:L$149,MATCH((CONCATENATE($C$6,$AF33)),SUPP_2a!$P$3:$P$149,0))","v":6226},null,null,null,null,null,null,null,null,null,null,null,null,null,null,null,null,null,null,null,"17_ICT"]
[]
["Home Economics",null,{"$f":"INDEX(SUPP_2a!C$3:C$149,MATCH((CONCATENATE($C$6,$AF35)),SUPP_2a!$P$3:$P$149,0))","v":2.1},{"$f":"INDEX(SUPP_2a!D$3:D$149,MATCH((CONCATENATE($C$6,$AF35)),SUPP_2a!$P$3:$P$149,0))","v":13.6},{"$f":"INDEX(SUPP_2a!E$3:E$149,MATCH((CONCATENATE($C$6,$AF35)),SUPP_2a!$P$3:$P$149,0))","v":29.7},{"$f":"INDEX(SUPP_2a!F$3:F$149,MATCH((CONCATENATE($C$6,$AF35)),SUPP_2a!$P$3:$P$149,0))","v":30.5},{"$f":"INDEX(SUPP_2a!G$3:G$149,MATCH((CONCATENATE($C$6,$AF35)),SUPP_2a!$P$3:$P$149,0))","v":16.5},{"$f":"INDEX(SUPP_2a!H$3:H$149,MATCH((CONCATENATE($C$6,$AF35)),SUPP_2a!$P$3:$P$149,0))","v":"x"},{"$f":"INDEX(SUPP_2a!I$3:I$149,MATCH((CONCATENATE($C$6,$AF35)),SUPP_2a!$P$3:$P$149,0))","v":"x"},{"$f":"INDEX(SUPP_2a!J$3:J$149,MATCH((CONCATENATE($C$6,$AF35)),SUPP_2a!$P$3:$P$149,0))","v":15.7},{"$f":"INDEX(SUPP_2a!K$3:K$149,MATCH((CONCATENATE($C$6,$AF35)),SUPP_2a!$P$3:$P$149,0))","v":"x"},{"$f":"INDEX(SUPP_2a!L$3:L$149,MATCH((CONCATENATE($C$6,$AF35)),SUPP_2a!$P$3:$P$149,0))","v":236},null,null,null,null,null,null,null,null,null,null,null,null,null,null,null,null,null,null,null,"18_Home Economics"]
[]
["Accounting and Finance",null,{"$f":"INDEX(SUPP_2a!C$3:C$149,MATCH((CONCATENATE($C$6,$AF37)),SUPP_2a!$P$3:$P$149,0))","v":1.8},{"$f":"INDEX(SUPP_2a!D$3:D$149,MATCH((CONCATENATE($C$6,$AF37)),SUPP_2a!$P$3:$P$149,0))","v":12.4},{"$f":"INDEX(SUPP_2a!E$3:E$149,MATCH((CONCATENATE($C$6,$AF37)),SUPP_2a!$P$3:$P$149,0))","v":23.9},{"$f":"INDEX(SUPP_2a!F$3:F$149,MATCH((CONCATENATE($C$6,$AF37)),SUPP_2a!$P$3:$P$149,0))","v":25.6},{"$f":"INDEX(SUPP_2a!G$3:G$149,MATCH((CONCATENATE($C$6,$AF37)),SUPP_2a!$P$3:$P$149,0))","v":20},{"$f":"INDEX(SUPP_2a!H$3:H$149,MATCH((CONCATENATE($C$6,$AF37)),SUPP_2a!$P$3:$P$149,0))","v":11.7},{"$f":"INDEX(SUPP_2a!I$3:I$149,MATCH((CONCATENATE($C$6,$AF37)),SUPP_2a!$P$3:$P$149,0))","v":4.5},{"$f":"INDEX(SUPP_2a!J$3:J$149,MATCH((CONCATENATE($C$6,$AF37)),SUPP_2a!$P$3:$P$149,0))","v":14.3},{"$f":"INDEX(SUPP_2a!K$3:K$149,MATCH((CONCATENATE($C$6,$AF37)),SUPP_2a!$P$3:$P$149,0))","v":95.5},{"$f":"INDEX(SUPP_2a!L$3:L$149,MATCH((CONCATENATE($C$6,$AF37)),SUPP_2a!$P$3:$P$149,0))","v":2341},null,null,null,null,null,null,null,null,null,null,null,null,null,null,null,null,null,null,null,"19_Account&Finance"]
["Business Studies",null,{"$f":"INDEX(SUPP_2a!C$3:C$149,MATCH((CONCATENATE($C$6,$AF38)),SUPP_2a!$P$3:$P$149,0))","v":3.2},{"$f":"INDEX(SUPP_2a!D$3:D$149,MATCH((CONCATENATE($C$6,$AF38)),SUPP_2a!$P$3:$P$149,0))","v":11},{"$f":"INDEX(SUPP_2a!E$3:E$149,MATCH((CONCATENATE($C$6,$AF38)),SUPP_2a!$P$3:$P$149,0))","v":27.9},{"$f":"INDEX(SUPP_2a!F$3:F$149,MATCH((CONCATENATE($C$6,$AF38)),SUPP_2a!$P$3:$P$149,0))","v":30.8},{"$f":"INDEX(SUPP_2a!G$3:G$149,MATCH((CONCATENATE($C$6,$AF38)),SUPP_2a!$P$3:$P$149,0))","v":18.8},{"$f":"INDEX(SUPP_2a!H$3:H$149,MATCH((CONCATENATE($C$6,$AF38)),SUPP_2a!$P$3:$P$149,0))","v":7},{"$f":"INDEX(SUPP_2a!I$3:I$149,MATCH((CONCATENATE($C$6,$AF38)),SUPP_2a!$P$3:$P$149,0))","v":1.4},{"$f":"INDEX(SUPP_2a!J$3:J$149,MATCH((CONCATENATE($C$6,$AF38)),SUPP_2a!$P$3:$P$149,0))","v":14.2},{"$f":"INDEX(SUPP_2a!K$3:K$149,MATCH((CONCATENATE($C$6,$AF38)),SUPP_2a!$P$3:$P$149,0))","v":98.6},{"$f":"INDEX(SUPP_2a!L$3:L$149,MATCH((CONCATENATE($C$6,$AF38)),SUPP_2a!$P$3:$P$149,0))","v":25128},null,null,null,null,null,null,null,null,null,null,null,null,null,null,null,null,null,null,null,"20_Business_Studies"]
["Economics",null,{"$f":"INDEX(SUPP_2a!C$3:C$149,MATCH((CONCATENATE($C$6,$AF39)),SUPP_2a!$P$3:$P$149,0))","v":7.6},{"$f":"INDEX(SUPP_2a!D$3:D$149,MATCH((CONCATENATE($C$6,$AF39)),SUPP_2a!$P$3:$P$149,0))","v":23.6},{"$f":"INDEX(SUPP_2a!E$3:E$149,MATCH((CONCATENATE($C$6,$AF39)),SUPP_2a!$P$3:$P$149,0))","v":30.2},{"$f":"INDEX(SUPP_2a!F$3:F$149,MATCH((CONCATENATE($C$6,$AF39)),SUPP_2a!$P$3:$P$149,0))","v":21.6},{"$f":"INDEX(SUPP_2a!G$3:G$149,MATCH((CONCATENATE($C$6,$AF39)),SUPP_2a!$P$3:$P$149,0))","v":11.3},{"$f":"INDEX(SUPP_2a!H$3:H$149,MATCH((CONCATENATE($C$6,$AF39)),SUPP_2a!$P$3:$P$149,0))","v":4.7},{"$f":"INDEX(SUPP_2a!I$3:I$149,MATCH((CONCATENATE($C$6,$AF39)),SUPP_2a!$P$3:$P$149,0))","v":1.1000000000000001},{"$f":"INDEX(SUPP_2a!J$3:J$149,MATCH((CONCATENATE($C$6,$AF39)),SUPP_2a!$P$3:$P$149,0))","v":31.2},{"$f":"INDEX(SUPP_2a!K$3:K$149,MATCH((CONCATENATE($C$6,$AF39)),SUPP_2a!$P$3:$P$149,0))","v":98.9},{"$f":"INDEX(SUPP_2a!L$3:L$149,MATCH((CONCATENATE($C$6,$AF39)),SUPP_2a!$P$3:$P$149,0))","v":27565},null,null,null,null,null,null,null,null,null,null,null,null,null,null,null,null,null,null,null,"21_Economics"]
["Geography",null,{"$f":"INDEX(SUPP_2a!C$3:C$149,MATCH((CONCATENATE($C$6,$AF40)),SUPP_2a!$P$3:$P$149,0))","v":6.2},{"$f":"INDEX(SUPP_2a!D$3:D$149,MATCH((CONCATENATE($C$6,$AF40)),SUPP_2a!$P$3:$P$149,0))","v":20.6},{"$f":"INDEX(SUPP_2a!E$3:E$149,MATCH((CONCATENATE($C$6,$AF40)),SUPP_2a!$P$3:$P$149,0))","v":29.7},{"$f":"INDEX(SUPP_2a!F$3:F$149,MATCH((CONCATENATE($C$6,$AF40)),SUPP_2a!$P$3:$P$149,0))","v":25.5},{"$f":"INDEX(SUPP_2a!G$3:G$149,MATCH((CONCATENATE($C$6,$AF40)),SUPP_2a!$P$3:$P$149,0))","v":13.3},{"$f":"INDEX(SUPP_2a!H$3:H$149,MATCH((CONCATENATE($C$6,$AF40)),SUPP_2a!$P$3:$P$149,0))","v":4},{"$f":"INDEX(SUPP_2a!I$3:I$149,MATCH((CONCATENATE($C$6,$AF40)),SUPP_2a!$P$3:$P$149,0))","v":0.7},{"$f":"INDEX(SUPP_2a!J$3:J$149,MATCH((CONCATENATE($C$6,$AF40)),SUPP_2a!$P$3:$P$149,0))","v":26.7},{"$f":"INDEX(SUPP_2a!K$3:K$149,MATCH((CONCATENATE($C$6,$AF40)),SUPP_2a!$P$3:$P$149,0))","v":99.3},{"$f":"INDEX(SUPP_2a!L$3:L$149,MATCH((CONCATENATE($C$6,$AF40)),SUPP_2a!$P$3:$P$149,0))","v":32866},null,null,null,null,null,null,null,null,null,null,null,null,null,null,null,null,null,null,null,"22_Geography"]
["Government and Politics",null,{"$f":"INDEX(SUPP_2a!C$3:C$149,MATCH((CONCATENATE($C$6,$AF41)),SUPP_2a!$P$3:$P$149,0))","v":6.9},{"$f":"INDEX(SUPP_2a!D$3:D$149,MATCH((CONCATENATE($C$6,$AF41)),SUPP_2a!$P$3:$P$149,0))","v":21.3},{"$f":"INDEX(SUPP_2a!E$3:E$149,MATCH((CONCATENATE($C$6,$AF41)),SUPP_2a!$P$3:$P$149,0))","v":28.7},{"$f":"INDEX(SUPP_2a!F$3:F$149,MATCH((CONCATENATE($C$6,$AF41)),SUPP_2a!$P$3:$P$149,0))","v":23.6},{"$f":"INDEX(SUPP_2a!G$3:G$149,MATCH((CONCATENATE($C$6,$AF41)),SUPP_2a!$P$3:$P$149,0))","v":13.1},{"$f":"INDEX(SUPP_2a!H$3:H$149,MATCH((CONCATENATE($C$6,$AF41)),SUPP_2a!$P$3:$P$149,0))","v":5.0999999999999996},{"$f":"INDEX(SUPP_2a!I$3:I$149,MATCH((CONCATENATE($C$6,$AF41)),SUPP_2a!$P$3:$P$149,0))","v":1.2},{"$f":"INDEX(SUPP_2a!J$3:J$149,MATCH((CONCATENATE($C$6,$AF41)),SUPP_2a!$P$3:$P$149,0))","v":28.2},{"$f":"INDEX(SUPP_2a!K$3:K$149,MATCH((CONCATENATE($C$6,$AF41)),SUPP_2a!$P$3:$P$149,0))","v":98.8},{"$f":"INDEX(SUPP_2a!L$3:L$149,MATCH((CONCATENATE($C$6,$AF41)),SUPP_2a!$P$3:$P$149,0))","v":13780},null,null,null,null,null,null,null,null,null,null,null,null,null,null,null,null,null,null,null,"23_Government&Politics"]
["History",null,{"$f":"INDEX(SUPP_2a!C$3:C$149,MATCH((CONCATENATE($C$6,$AF42)),SUPP_2a!$P$3:$P$149,0))","v":5.6},{"$f":"INDEX(SUPP_2a!D$3:D$149,MATCH((CONCATENATE($C$6,$AF42)),SUPP_2a!$P$3:$P$149,0))","v":18.2},{"$f":"INDEX(SUPP_2a!E$3:E$149,MATCH((CONCATENATE($C$6,$AF42)),SUPP_2a!$P$3:$P$149,0))","v":31.5},{"$f":"INDEX(SUPP_2a!F$3:F$149,MATCH((CONCATENATE($C$6,$AF42)),SUPP_2a!$P$3:$P$149,0))","v":27.9},{"$f":"INDEX(SUPP_2a!G$3:G$149,MATCH((CONCATENATE($C$6,$AF42)),SUPP_2a!$P$3:$P$149,0))","v":13.2},{"$f":"INDEX(SUPP_2a!H$3:H$149,MATCH((CONCATENATE($C$6,$AF42)),SUPP_2a!$P$3:$P$149,0))","v":3.2},{"$f":"INDEX(SUPP_2a!I$3:I$149,MATCH((CONCATENATE($C$6,$AF42)),SUPP_2a!$P$3:$P$149,0))","v":0.4},{"$f":"INDEX(SUPP_2a!J$3:J$149,MATCH((CONCATENATE($C$6,$AF42)),SUPP_2a!$P$3:$P$149,0))","v":23.8},{"$f":"INDEX(SUPP_2a!K$3:K$149,MATCH((CONCATENATE($C$6,$AF42)),SUPP_2a!$P$3:$P$149,0))","v":99.6},{"$f":"INDEX(SUPP_2a!L$3:L$149,MATCH((CONCATENATE($C$6,$AF42)),SUPP_2a!$P$3:$P$149,0))","v":48349},null,null,null,null,null,null,null,null,null,null,null,null,null,null,null,null,null,null,null,"24_History"]
["Law",null,{"$f":"INDEX(SUPP_2a!C$3:C$149,MATCH((CONCATENATE($C$6,$AF43)),SUPP_2a!$P$3:$P$149,0))","v":4.4000000000000004},{"$f":"INDEX(SUPP_2a!D$3:D$149,MATCH((CONCATENATE($C$6,$AF43)),SUPP_2a!$P$3:$P$149,0))","v":12.9},{"$f":"INDEX(SUPP_2a!E$3:E$149,MATCH((CONCATENATE($C$6,$AF43)),SUPP_2a!$P$3:$P$149,0))","v":25.8},{"$f":"INDEX(SUPP_2a!F$3:F$149,MATCH((CONCATENATE($C$6,$AF43)),SUPP_2a!$P$3:$P$149,0))","v":26.5},{"$f":"INDEX(SUPP_2a!G$3:G$149,MATCH((CONCATENATE($C$6,$AF43)),SUPP_2a!$P$3:$P$149,0))","v":18.899999999999999},{"$f":"INDEX(SUPP_2a!H$3:H$149,MATCH((CONCATENATE($C$6,$AF43)),SUPP_2a!$P$3:$P$149,0))","v":9},{"$f":"INDEX(SUPP_2a!I$3:I$149,MATCH((CONCATENATE($C$6,$AF43)),SUPP_2a!$P$3:$P$149,0))","v":2.5},{"$f":"INDEX(SUPP_2a!J$3:J$149,MATCH((CONCATENATE($C$6,$AF43)),SUPP_2a!$P$3:$P$149,0))","v":17.3},{"$f":"INDEX(SUPP_2a!K$3:K$149,MATCH((CONCATENATE($C$6,$AF43)),SUPP_2a!$P$3:$P$149,0))","v":97.5},{"$f":"INDEX(SUPP_2a!L$3:L$149,MATCH((CONCATENATE($C$6,$AF43)),SUPP_2a!$P$3:$P$149,0))","v":10271},null,null,null,null,null,null,null,null,null,null,null,null,null,null,null,null,null,null,null,"25_Law"]
["Psychology",null,{"$f":"INDEX(SUPP_2a!C$3:C$149,MATCH((CONCATENATE($C$6,$AF44)),SUPP_2a!$P$3:$P$149,0))","v":5.4},{"$f":"INDEX(SUPP_2a!D$3:D$149,MATCH((CONCATENATE($C$6,$AF44)),SUPP_2a!$P$3:$P$149,0))","v":13.1},{"$f":"INDEX(SUPP_2a!E$3:E$149,MATCH((CONCATENATE($C$6,$AF44)),SUPP_2a!$P$3:$P$149,0))","v":27.1},{"$f":"INDEX(SUPP_2a!F$3:F$149,MATCH((CONCATENATE($C$6,$AF44)),SUPP_2a!$P$3:$P$149,0))","v":27.2},{"$f":"INDEX(SUPP_2a!G$3:G$149,MATCH((CONCATENATE($C$6,$AF44)),SUPP_2a!$P$3:$P$149,0))","v":17.600000000000001},{"$f":"INDEX(SUPP_2a!H$3:H$149,MATCH((CONCATENATE($C$6,$AF44)),SUPP_2a!$P$3:$P$149,0))","v":7.8},{"$f":"INDEX(SUPP_2a!I$3:I$149,MATCH((CONCATENATE($C$6,$AF44)),SUPP_2a!$P$3:$P$149,0))","v":1.8},{"$f":"INDEX(SUPP_2a!J$3:J$149,MATCH((CONCATENATE($C$6,$AF44)),SUPP_2a!$P$3:$P$149,0))","v":18.5},{"$f":"INDEX(SUPP_2a!K$3:K$149,MATCH((CONCATENATE($C$6,$AF44)),SUPP_2a!$P$3:$P$149,0))","v":98.2},{"$f":"INDEX(SUPP_2a!L$3:L$149,MATCH((CONCATENATE($C$6,$AF44)),SUPP_2a!$P$3:$P$149,0))","v":55887},null,null,null,null,null,null,null,null,null,null,null,null,null,null,null,null,null,null,null,"26_Psychology"]
["Sociology",null,{"$f":"INDEX(SUPP_2a!C$3:C$149,MATCH((CONCATENATE($C$6,$AF45)),SUPP_2a!$P$3:$P$149,0))","v":5.7},{"$f":"INDEX(SUPP_2a!D$3:D$149,MATCH((CONCATENATE($C$6,$AF45)),SUPP_2a!$P$3:$P$149,0))","v":13.4},{"$f":"INDEX(SUPP_2a!E$3:E$149,MATCH((CONCATENATE($C$6,$AF45)),SUPP_2a!$P$3:$P$149,0))","v":27.4},{"$f":"INDEX(SUPP_2a!F$3:F$149,MATCH((CONCATENATE($C$6,$AF45)),SUPP_2a!$P$3:$P$149,0))","v":28.7},{"$f":"INDEX(SUPP_2a!G$3:G$149,MATCH((CONCATENATE($C$6,$AF45)),SUPP_2a!$P$3:$P$149,0))","v":17},{"$f":"INDEX(SUPP_2a!H$3:H$149,MATCH((CONCATENATE($C$6,$AF45)),SUPP_2a!$P$3:$P$149,0))","v":6.3},{"$f":"INDEX(SUPP_2a!I$3:I$149,MATCH((CONCATENATE($C$6,$AF45)),SUPP_2a!$P$3:$P$149,0))","v":1.5},{"$f":"INDEX(SUPP_2a!J$3:J$149,MATCH((CONCATENATE($C$6,$AF45)),SUPP_2a!$P$3:$P$149,0))","v":19.100000000000001},{"$f":"INDEX(SUPP_2a!K$3:K$149,MATCH((CONCATENATE($C$6,$AF45)),SUPP_2a!$P$3:$P$149,0))","v":98.5},{"$f":"INDEX(SUPP_2a!L$3:L$149,MATCH((CONCATENATE($C$6,$AF45)),SUPP_2a!$P$3:$P$149,0))","v":30968},null,null,null,null,null,null,null,null,null,null,null,null,null,null,null,null,null,null,null,"27_Sociology"]
["Other social studies",null,{"$f":"INDEX(SUPP_2a!C$3:C$149,MATCH((CONCATENATE($C$6,$AF46)),SUPP_2a!$P$3:$P$149,0))","v":5.8},{"$f":"INDEX(SUPP_2a!D$3:D$149,MATCH((CONCATENATE($C$6,$AF46)),SUPP_2a!$P$3:$P$149,0))","v":14.9},{"$f":"INDEX(SUPP_2a!E$3:E$149,MATCH((CONCATENATE($C$6,$AF46)),SUPP_2a!$P$3:$P$149,0))","v":28.3},{"$f":"INDEX(SUPP_2a!F$3:F$149,MATCH((CONCATENATE($C$6,$AF46)),SUPP_2a!$P$3:$P$149,0))","v":26.2},{"$f":"INDEX(SUPP_2a!G$3:G$149,MATCH((CONCATENATE($C$6,$AF46)),SUPP_2a!$P$3:$P$149,0))","v":16.399999999999999},{"$f":"INDEX(SUPP_2a!H$3:H$149,MATCH((CONCATENATE($C$6,$AF46)),SUPP_2a!$P$3:$P$149,0))","v":6.6},{"$f":"INDEX(SUPP_2a!I$3:I$149,MATCH((CONCATENATE($C$6,$AF46)),SUPP_2a!$P$3:$P$149,0))","v":1.8},{"$f":"INDEX(SUPP_2a!J$3:J$149,MATCH((CONCATENATE($C$6,$AF46)),SUPP_2a!$P$3:$P$149,0))","v":20.7},{"$f":"INDEX(SUPP_2a!K$3:K$149,MATCH((CONCATENATE($C$6,$AF46)),SUPP_2a!$P$3:$P$149,0))","v":98.2},{"$f":"INDEX(SUPP_2a!L$3:L$149,MATCH((CONCATENATE($C$6,$AF46)),SUPP_2a!$P$3:$P$149,0))","v":3216},null,null,null,null,null,null,null,null,null,null,null,null,null,null,null,null,null,null,null,"28_Other_Social_Studies"]
[]
["Art and design",null,{"$f":"INDEX(SUPP_2a!C$3:C$149,MATCH((CONCATENATE($C$6,$AF48)),SUPP_2a!$P$3:$P$149,0))","v":12.3},{"$f":"INDEX(SUPP_2a!D$3:D$149,MATCH((CONCATENATE($C$6,$AF48)),SUPP_2a!$P$3:$P$149,0))","v":15.3},{"$f":"INDEX(SUPP_2a!E$3:E$149,MATCH((CONCATENATE($C$6,$AF48)),SUPP_2a!$P$3:$P$149,0))","v":29.3},{"$f":"INDEX(SUPP_2a!F$3:F$149,MATCH((CONCATENATE($C$6,$AF48)),SUPP_2a!$P$3:$P$149,0))","v":26.7},{"$f":"INDEX(SUPP_2a!G$3:G$149,MATCH((CONCATENATE($C$6,$AF48)),SUPP_2a!$P$3:$P$149,0))","v":12.3},{"$f":"INDEX(SUPP_2a!H$3:H$149,MATCH((CONCATENATE($C$6,$AF48)),SUPP_2a!$P$3:$P$149,0))","v":3.4},{"$f":"INDEX(SUPP_2a!I$3:I$149,MATCH((CONCATENATE($C$6,$AF48)),SUPP_2a!$P$3:$P$149,0))","v":0.7},{"$f":"INDEX(SUPP_2a!J$3:J$149,MATCH((CONCATENATE($C$6,$AF48)),SUPP_2a!$P$3:$P$149,0))","v":27.6},{"$f":"INDEX(SUPP_2a!K$3:K$149,MATCH((CONCATENATE($C$6,$AF48)),SUPP_2a!$P$3:$P$149,0))","v":99.3},{"$f":"INDEX(SUPP_2a!L$3:L$149,MATCH((CONCATENATE($C$6,$AF48)),SUPP_2a!$P$3:$P$149,0))","v":39497},null,null,null,null,null,null,null,null,null,null,null,null,null,null,null,null,null,null,null,"29_Art&Design"]
["Drama",null,{"$f":"INDEX(SUPP_2a!C$3:C$149,MATCH((CONCATENATE($C$6,$AF49)),SUPP_2a!$P$3:$P$149,0))","v":4.2},{"$f":"INDEX(SUPP_2a!D$3:D$149,MATCH((CONCATENATE($C$6,$AF49)),SUPP_2a!$P$3:$P$149,0))","v":11.8},{"$f":"INDEX(SUPP_2a!E$3:E$149,MATCH((CONCATENATE($C$6,$AF49)),SUPP_2a!$P$3:$P$149,0))","v":30.3},{"$f":"INDEX(SUPP_2a!F$3:F$149,MATCH((CONCATENATE($C$6,$AF49)),SUPP_2a!$P$3:$P$149,0))","v":31.1},{"$f":"INDEX(SUPP_2a!G$3:G$149,MATCH((CONCATENATE($C$6,$AF49)),SUPP_2a!$P$3:$P$149,0))","v":17.7},{"$f":"INDEX(SUPP_2a!H$3:H$149,MATCH((CONCATENATE($C$6,$AF49)),SUPP_2a!$P$3:$P$149,0))","v":4.3},{"$f":"INDEX(SUPP_2a!I$3:I$149,MATCH((CONCATENATE($C$6,$AF49)),SUPP_2a!$P$3:$P$149,0))","v":0.5},{"$f":"INDEX(SUPP_2a!J$3:J$149,MATCH((CONCATENATE($C$6,$AF49)),SUPP_2a!$P$3:$P$149,0))","v":16},{"$f":"INDEX(SUPP_2a!K$3:K$149,MATCH((CONCATENATE($C$6,$AF49)),SUPP_2a!$P$3:$P$149,0))","v":99.5},{"$f":"INDEX(SUPP_2a!L$3:L$149,MATCH((CONCATENATE($C$6,$AF49)),SUPP_2a!$P$3:$P$149,0))","v":11207},null,null,null,null,null,null,null,null,null,null,null,null,null,null,null,null,null,null,null,"30_Drama"]
["Media /Film / TV studies",null,{"$f":"INDEX(SUPP_2a!C$3:C$149,MATCH((CONCATENATE($C$6,$AF50)),SUPP_2a!$P$3:$P$149,0))","v":1},{"$f":"INDEX(SUPP_2a!D$3:D$149,MATCH((CONCATENATE($C$6,$AF50)),SUPP_2a!$P$3:$P$149,0))","v":8.6},{"$f":"INDEX(SUPP_2a!E$3:E$149,MATCH((CONCATENATE($C$6,$AF50)),SUPP_2a!$P$3:$P$149,0))","v":30.4},{"$f":"INDEX(SUPP_2a!F$3:F$149,MATCH((CONCATENATE($C$6,$AF50)),SUPP_2a!$P$3:$P$149,0))","v":38.200000000000003},{"$f":"INDEX(SUPP_2a!G$3:G$149,MATCH((CONCATENATE($C$6,$AF50)),SUPP_2a!$P$3:$P$149,0))","v":17.899999999999999},{"$f":"INDEX(SUPP_2a!H$3:H$149,MATCH((CONCATENATE($C$6,$AF50)),SUPP_2a!$P$3:$P$149,0))","v":3.4},{"$f":"INDEX(SUPP_2a!I$3:I$149,MATCH((CONCATENATE($C$6,$AF50)),SUPP_2a!$P$3:$P$149,0))","v":0.4},{"$f":"INDEX(SUPP_2a!J$3:J$149,MATCH((CONCATENATE($C$6,$AF50)),SUPP_2a!$P$3:$P$149,0))","v":9.6999999999999993},{"$f":"INDEX(SUPP_2a!K$3:K$149,MATCH((CONCATENATE($C$6,$AF50)),SUPP_2a!$P$3:$P$149,0))","v":99.6},{"$f":"INDEX(SUPP_2a!L$3:L$149,MATCH((CONCATENATE($C$6,$AF50)),SUPP_2a!$P$3:$P$149,0))","v":18839},null,null,null,null,null,null,null,null,null,null,null,null,null,null,null,null,null,null,null,"31_Media_Film_TV"]
["Other communication studies ",null,{"$f":"INDEX(SUPP_2a!C$3:C$149,MATCH((CONCATENATE($C$6,$AF51)),SUPP_2a!$P$3:$P$149,0))","v":2.1},{"$f":"INDEX(SUPP_2a!D$3:D$149,MATCH((CONCATENATE($C$6,$AF51)),SUPP_2a!$P$3:$P$149,0))","v":10.7},{"$f":"INDEX(SUPP_2a!E$3:E$149,MATCH((CONCATENATE($C$6,$AF51)),SUPP_2a!$P$3:$P$149,0))","v":34.5},{"$f":"INDEX(SUPP_2a!F$3:F$149,MATCH((CONCATENATE($C$6,$AF51)),SUPP_2a!$P$3:$P$149,0))","v":36.4},{"$f":"INDEX(SUPP_2a!G$3:G$149,MATCH((CONCATENATE($C$6,$AF51)),SUPP_2a!$P$3:$P$149,0))","v":13.6},{"$f":"INDEX(SUPP_2a!H$3:H$149,MATCH((CONCATENATE($C$6,$AF51)),SUPP_2a!$P$3:$P$149,0))","v":2.2000000000000002},{"$f":"INDEX(SUPP_2a!I$3:I$149,MATCH((CONCATENATE($C$6,$AF51)),SUPP_2a!$P$3:$P$149,0))","v":0.4},{"$f":"INDEX(SUPP_2a!J$3:J$149,MATCH((CONCATENATE($C$6,$AF51)),SUPP_2a!$P$3:$P$149,0))","v":12.8},{"$f":"INDEX(SUPP_2a!K$3:K$149,MATCH((CONCATENATE($C$6,$AF51)),SUPP_2a!$P$3:$P$149,0))","v":99.6},{"$f":"INDEX(SUPP_2a!L$3:L$149,MATCH((CONCATENATE($C$6,$AF51)),SUPP_2a!$P$3:$P$149,0))","v":10275},null,null,null,null,null,null,null,null,null,null,null,null,null,null,null,null,null,null,null,"27_Other_Comm_Studies"]
[]
["French",null,{"$f":"INDEX(SUPP_2a!C$3:C$149,MATCH((CONCATENATE($C$6,$AF53)),SUPP_2a!$P$3:$P$149,0))","v":9.1},{"$f":"INDEX(SUPP_2a!D$3:D$149,MATCH((CONCATENATE($C$6,$AF53)),SUPP_2a!$P$3:$P$149,0))","v":29.3},{"$f":"INDEX(SUPP_2a!E$3:E$149,MATCH((CONCATENATE($C$6,$AF53)),SUPP_2a!$P$3:$P$149,0))","v":27.9},{"$f":"INDEX(SUPP_2a!F$3:F$149,MATCH((CONCATENATE($C$6,$AF53)),SUPP_2a!$P$3:$P$149,0))","v":18.7},{"$f":"INDEX(SUPP_2a!G$3:G$149,MATCH((CONCATENATE($C$6,$AF53)),SUPP_2a!$P$3:$P$149,0))","v":10.3},{"$f":"INDEX(SUPP_2a!H$3:H$149,MATCH((CONCATENATE($C$6,$AF53)),SUPP_2a!$P$3:$P$149,0))","v":4.0999999999999996},{"$f":"INDEX(SUPP_2a!I$3:I$149,MATCH((CONCATENATE($C$6,$AF53)),SUPP_2a!$P$3:$P$149,0))","v":0.5},{"$f":"INDEX(SUPP_2a!J$3:J$149,MATCH((CONCATENATE($C$6,$AF53)),SUPP_2a!$P$3:$P$149,0))","v":38.4},{"$f":"INDEX(SUPP_2a!K$3:K$149,MATCH((CONCATENATE($C$6,$AF53)),SUPP_2a!$P$3:$P$149,0))","v":99.5},{"$f":"INDEX(SUPP_2a!L$3:L$149,MATCH((CONCATENATE($C$6,$AF53)),SUPP_2a!$P$3:$P$149,0))","v":8459},null,null,null,null,null,null,null,null,null,null,null,null,null,null,null,null,null,null,null,"33_French"]
["German",null,{"$f":"INDEX(SUPP_2a!C$3:C$149,MATCH((CONCATENATE($C$6,$AF54)),SUPP_2a!$P$3:$P$149,0))","v":9.1999999999999993},{"$f":"INDEX(SUPP_2a!D$3:D$149,MATCH((CONCATENATE($C$6,$AF54)),SUPP_2a!$P$3:$P$149,0))","v":30.2},{"$f":"INDEX(SUPP_2a!E$3:E$149,MATCH((CONCATENATE($C$6,$AF54)),SUPP_2a!$P$3:$P$149,0))","v":28.4},{"$f":"INDEX(SUPP_2a!F$3:F$149,MATCH((CONCATENATE($C$6,$AF54)),SUPP_2a!$P$3:$P$149,0))","v":19.2},{"$f":"INDEX(SUPP_2a!G$3:G$149,MATCH((CONCATENATE($C$6,$AF54)),SUPP_2a!$P$3:$P$149,0))","v":9.3000000000000007},{"$f":"INDEX(SUPP_2a!H$3:H$149,MATCH((CONCATENATE($C$6,$AF54)),SUPP_2a!$P$3:$P$149,0))","v":3.3},{"$f":"INDEX(SUPP_2a!I$3:I$149,MATCH((CONCATENATE($C$6,$AF54)),SUPP_2a!$P$3:$P$149,0))","v":0.3},{"$f":"INDEX(SUPP_2a!J$3:J$149,MATCH((CONCATENATE($C$6,$AF54)),SUPP_2a!$P$3:$P$149,0))","v":39.4},{"$f":"INDEX(SUPP_2a!K$3:K$149,MATCH((CONCATENATE($C$6,$AF54)),SUPP_2a!$P$3:$P$149,0))","v":99.7},{"$f":"INDEX(SUPP_2a!L$3:L$149,MATCH((CONCATENATE($C$6,$AF54)),SUPP_2a!$P$3:$P$149,0))","v":3445},null,null,null,null,null,null,null,null,null,null,null,null,null,null,null,null,null,null,null,"34_German"]
["Spanish",null,{"$f":"INDEX(SUPP_2a!C$3:C$149,MATCH((CONCATENATE($C$6,$AF55)),SUPP_2a!$P$3:$P$149,0))","v":8.6999999999999993},{"$f":"INDEX(SUPP_2a!D$3:D$149,MATCH((CONCATENATE($C$6,$AF55)),SUPP_2a!$P$3:$P$149,0))","v":26.5},{"$f":"INDEX(SUPP_2a!E$3:E$149,MATCH((CONCATENATE($C$6,$AF55)),SUPP_2a!$P$3:$P$149,0))","v":31.3},{"$f":"INDEX(SUPP_2a!F$3:F$149,MATCH((CONCATENATE($C$6,$AF55)),SUPP_2a!$P$3:$P$149,0))","v":20},{"$f":"INDEX(SUPP_2a!G$3:G$149,MATCH((CONCATENATE($C$6,$AF55)),SUPP_2a!$P$3:$P$149,0))","v":9.8000000000000007},{"$f":"INDEX(SUPP_2a!H$3:H$149,MATCH((CONCATENATE($C$6,$AF55)),SUPP_2a!$P$3:$P$149,0))","v":3.2},{"$f":"INDEX(SUPP_2a!I$3:I$149,MATCH((CONCATENATE($C$6,$AF55)),SUPP_2a!$P$3:$P$149,0))","v":0.5},{"$f":"INDEX(SUPP_2a!J$3:J$149,MATCH((CONCATENATE($C$6,$AF55)),SUPP_2a!$P$3:$P$149,0))","v":35.200000000000003},{"$f":"INDEX(SUPP_2a!K$3:K$149,MATCH((CONCATENATE($C$6,$AF55)),SUPP_2a!$P$3:$P$149,0))","v":99.5},{"$f":"INDEX(SUPP_2a!L$3:L$149,MATCH((CONCATENATE($C$6,$AF55)),SUPP_2a!$P$3:$P$149,0))","v":7455},null,null,null,null,null,null,null,null,null,null,null,null,null,null,null,null,null,null,null,"35_Spanish"]
["Other modern languages",null,{"$f":"IF($C$6=\"All\",SUPP_2a!C171,IF($C$6=\"Females\",SUPP_2a!C170,IF($C$6=\"Males\",SUPP_2a!C169)))","v":13.5},{"$f":"IF($C$6=\"All\",SUPP_2a!D171,IF($C$6=\"Females\",SUPP_2a!D170,IF($C$6=\"Males\",SUPP_2a!D169)))","v":38},{"$f":"IF($C$6=\"All\",SUPP_2a!E171,IF($C$6=\"Females\",SUPP_2a!E170,IF($C$6=\"Males\",SUPP_2a!E169)))","v":29.3},{"$f":"IF($C$6=\"All\",SUPP_2a!F171,IF($C$6=\"Females\",SUPP_2a!F170,IF($C$6=\"Males\",SUPP_2a!F169)))","v":12.2},{"$f":"IF($C$6=\"All\",SUPP_2a!G171,IF($C$6=\"Females\",SUPP_2a!G170,IF($C$6=\"Males\",SUPP_2a!G169)))","v":4},{"$f":"IF($C$6=\"All\",SUPP_2a!H171,IF($C$6=\"Females\",SUPP_2a!H170,IF($C$6=\"Males\",SUPP_2a!H169)))","v":1.9},{"$f":"IF($C$6=\"All\",SUPP_2a!I171,IF($C$6=\"Females\",SUPP_2a!I170,IF($C$6=\"Males\",SUPP_2a!I169)))","v":1.1000000000000001},{"$f":"IF($C$6=\"All\",SUPP_2a!J171,IF($C$6=\"Females\",SUPP_2a!J170,IF($C$6=\"Males\",SUPP_2a!J169)))","v":51.4},{"$f":"IF($C$6=\"All\",SUPP_2a!K171,IF($C$6=\"Females\",SUPP_2a!K170,IF($C$6=\"Males\",SUPP_2a!K169)))","v":98.9},{"$f":"IF($C$6=\"All\",SUPP_2a!L171,IF($C$6=\"Females\",SUPP_2a!L170,IF($C$6=\"Males\",SUPP_2a!L169)))","v":7427}]
["of which:"]
["  Chinese",null,{"$f":"INDEX(SUPP_2a!C$3:C$149,MATCH((CONCATENATE($C$6,$AF58)),SUPP_2a!$P$3:$P$149,0))","v":4.0999999999999996},{"$f":"INDEX(SUPP_2a!D$3:D$149,MATCH((CONCATENATE($C$6,$AF58)),SUPP_2a!$P$3:$P$149,0))","v":40.299999999999997},{"$f":"INDEX(SUPP_2a!E$3:E$149,MATCH((CONCATENATE($C$6,$AF58)),SUPP_2a!$P$3:$P$149,0))","v":40.9},{"$f":"INDEX(SUPP_2a!F$3:F$149,MATCH((CONCATENATE($C$6,$AF58)),SUPP_2a!$P$3:$P$149,0))","v":11.3},{"$f":"INDEX(SUPP_2a!G$3:G$149,MATCH((CONCATENATE($C$6,$AF58)),SUPP_2a!$P$3:$P$149,0))","v":2.1},{"$f":"INDEX(SUPP_2a!H$3:H$149,MATCH((CONCATENATE($C$6,$AF58)),SUPP_2a!$P$3:$P$149,0))","v":1},{"$f":"INDEX(SUPP_2a!I$3:I$149,MATCH((CONCATENATE($C$6,$AF58)),SUPP_2a!$P$3:$P$149,0))","v":0.4},{"$f":"INDEX(SUPP_2a!J$3:J$149,MATCH((CONCATENATE($C$6,$AF58)),SUPP_2a!$P$3:$P$149,0))","v":44.3},{"$f":"INDEX(SUPP_2a!K$3:K$149,MATCH((CONCATENATE($C$6,$AF58)),SUPP_2a!$P$3:$P$149,0))","v":99.6},{"$f":"INDEX(SUPP_2a!L$3:L$149,MATCH((CONCATENATE($C$6,$AF58)),SUPP_2a!$P$3:$P$149,0))","v":2443},null,null,null,null,null,null,null,null,null,null,null,null,null,null,null,null,null,null,null,"37_Chinese"]
["  Italian",null,{"$f":"INDEX(SUPP_2a!C$3:C$149,MATCH((CONCATENATE($C$6,$AF59)),SUPP_2a!$P$3:$P$149,0))","v":10.1},{"$f":"INDEX(SUPP_2a!D$3:D$149,MATCH((CONCATENATE($C$6,$AF59)),SUPP_2a!$P$3:$P$149,0))","v":37.1},{"$f":"INDEX(SUPP_2a!E$3:E$149,MATCH((CONCATENATE($C$6,$AF59)),SUPP_2a!$P$3:$P$149,0))","v":32.200000000000003},{"$f":"INDEX(SUPP_2a!F$3:F$149,MATCH((CONCATENATE($C$6,$AF59)),SUPP_2a!$P$3:$P$149,0))","v":14.2},{"$f":"INDEX(SUPP_2a!G$3:G$149,MATCH((CONCATENATE($C$6,$AF59)),SUPP_2a!$P$3:$P$149,0))","v":4.9000000000000004},{"$f":"INDEX(SUPP_2a!H$3:H$149,MATCH((CONCATENATE($C$6,$AF59)),SUPP_2a!$P$3:$P$149,0))","v":1.1000000000000001},{"$f":"INDEX(SUPP_2a!I$3:I$149,MATCH((CONCATENATE($C$6,$AF59)),SUPP_2a!$P$3:$P$149,0))","v":0.4},{"$f":"INDEX(SUPP_2a!J$3:J$149,MATCH((CONCATENATE($C$6,$AF59)),SUPP_2a!$P$3:$P$149,0))","v":47.2},{"$f":"INDEX(SUPP_2a!K$3:K$149,MATCH((CONCATENATE($C$6,$AF59)),SUPP_2a!$P$3:$P$149,0))","v":99.6},{"$f":"INDEX(SUPP_2a!L$3:L$149,MATCH((CONCATENATE($C$6,$AF59)),SUPP_2a!$P$3:$P$149,0))","v":790},null,null,null,null,null,null,null,null,null,null,null,null,null,null,null,null,null,null,null,"38_Italian"]
["  Polish",null,{"$f":"INDEX(SUPP_2a!C$3:C$149,MATCH((CONCATENATE($C$6,$AF60)),SUPP_2a!$P$3:$P$149,0))","v":21.4},{"$f":"INDEX(SUPP_2a!D$3:D$149,MATCH((CONCATENATE($C$6,$AF60)),SUPP_2a!$P$3:$P$149,0))","v":38.5},{"$f":"INDEX(SUPP_2a!E$3:E$149,MATCH((CONCATENATE($C$6,$AF60)),SUPP_2a!$P$3:$P$149,0))","v":17.899999999999999},{"$f":"INDEX(SUPP_2a!F$3:F$149,MATCH((CONCATENATE($C$6,$AF60)),SUPP_2a!$P$3:$P$149,0))","v":11.9},{"$f":"INDEX(SUPP_2a!G$3:G$149,MATCH((CONCATENATE($C$6,$AF60)),SUPP_2a!$P$3:$P$149,0))","v":5.6},{"$f":"INDEX(SUPP_2a!H$3:H$149,MATCH((CONCATENATE($C$6,$AF60)),SUPP_2a!$P$3:$P$149,0))","v":4.3},{"$f":"INDEX(SUPP_2a!I$3:I$149,MATCH((CONCATENATE($C$6,$AF60)),SUPP_2a!$P$3:$P$149,0))","v":0.4},{"$f":"INDEX(SUPP_2a!J$3:J$149,MATCH((CONCATENATE($C$6,$AF60)),SUPP_2a!$P$3:$P$149,0))","v":59.8},{"$f":"INDEX(SUPP_2a!K$3:K$149,MATCH((CONCATENATE($C$6,$AF60)),SUPP_2a!$P$3:$P$149,0))","v":99.6},{"$f":"INDEX(SUPP_2a!L$3:L$149,MATCH((CONCATENATE($C$6,$AF60)),SUPP_2a!$P$3:$P$149,0))","v":782},null,null,null,null,null,null,null,null,null,null,null,null,null,null,null,null,null,null,null,"39_Polish"]
["  Russian",null,{"$f":"INDEX(SUPP_2a!C$3:C$149,MATCH((CONCATENATE($C$6,$AF61)),SUPP_2a!$P$3:$P$149,0))","v":36.700000000000003},{"$f":"INDEX(SUPP_2a!D$3:D$149,MATCH((CONCATENATE($C$6,$AF61)),SUPP_2a!$P$3:$P$149,0))","v":52.7},{"$f":"INDEX(SUPP_2a!E$3:E$149,MATCH((CONCATENATE($C$6,$AF61)),SUPP_2a!$P$3:$P$149,0))","v":7},{"$f":"INDEX(SUPP_2a!F$3:F$149,MATCH((CONCATENATE($C$6,$AF61)),SUPP_2a!$P$3:$P$149,0))","v":2.2000000000000002},{"$f":"INDEX(SUPP_2a!G$3:G$149,MATCH((CONCATENATE($C$6,$AF61)),SUPP_2a!$P$3:$P$149,0))","v":0.5},{"$f":"INDEX(SUPP_2a!H$3:H$149,MATCH((CONCATENATE($C$6,$AF61)),SUPP_2a!$P$3:$P$149,0))","v":0.8},{"$f":"INDEX(SUPP_2a!I$3:I$149,MATCH((CONCATENATE($C$6,$AF61)),SUPP_2a!$P$3:$P$149,0))","v":0.3},{"$f":"INDEX(SUPP_2a!J$3:J$149,MATCH((CONCATENATE($C$6,$AF61)),SUPP_2a!$P$3:$P$149,0))","v":89.4},{"$f":"INDEX(SUPP_2a!K$3:K$149,MATCH((CONCATENATE($C$6,$AF61)),SUPP_2a!$P$3:$P$149,0))","v":99.7},{"$f":"INDEX(SUPP_2a!L$3:L$149,MATCH((CONCATENATE($C$6,$AF61)),SUPP_2a!$P$3:$P$149,0))","v":1064},null,null,null,null,null,null,null,null,null,null,null,null,null,null,null,null,null,null,null,"40_Russian"]
["  Other",null,{"$f":"INDEX(SUPP_2a!C$3:C$149,MATCH((CONCATENATE($C$6,$AF62)),SUPP_2a!$P$3:$P$149,0))","v":11.2},{"$f":"INDEX(SUPP_2a!D$3:D$149,MATCH((CONCATENATE($C$6,$AF62)),SUPP_2a!$P$3:$P$149,0))","v":29.1},{"$f":"INDEX(SUPP_2a!E$3:E$149,MATCH((CONCATENATE($C$6,$AF62)),SUPP_2a!$P$3:$P$149,0))","v":30.1},{"$f":"INDEX(SUPP_2a!F$3:F$149,MATCH((CONCATENATE($C$6,$AF62)),SUPP_2a!$P$3:$P$149,0))","v":17.3},{"$f":"INDEX(SUPP_2a!G$3:G$149,MATCH((CONCATENATE($C$6,$AF62)),SUPP_2a!$P$3:$P$149,0))","v":6.8},{"$f":"INDEX(SUPP_2a!H$3:H$149,MATCH((CONCATENATE($C$6,$AF62)),SUPP_2a!$P$3:$P$149,0))","v":2.9},{"$f":"INDEX(SUPP_2a!I$3:I$149,MATCH((CONCATENATE($C$6,$AF62)),SUPP_2a!$P$3:$P$149,0))","v":2.6},{"$f":"INDEX(SUPP_2a!J$3:J$149,MATCH((CONCATENATE($C$6,$AF62)),SUPP_2a!$P$3:$P$149,0))","v":40.299999999999997},{"$f":"INDEX(SUPP_2a!K$3:K$149,MATCH((CONCATENATE($C$6,$AF62)),SUPP_2a!$P$3:$P$149,0))","v":97.4},{"$f":"INDEX(SUPP_2a!L$3:L$149,MATCH((CONCATENATE($C$6,$AF62)),SUPP_2a!$P$3:$P$149,0))","v":2348},null,null,null,null,null,null,null,null,null,null,null,null,null,null,null,null,null,null,null,"36_Other_Modern_Languages"]
[]
["Classical Studies",null,{"$f":"IF($C$6=\"All\",SUPP_2a!C174,IF($C$6=\"Females\",SUPP_2a!C173,IF($C$6=\"Males\",SUPP_2a!C172)))","v":9.1},{"$f":"IF($C$6=\"All\",SUPP_2a!D174,IF($C$6=\"Females\",SUPP_2a!D173,IF($C$6=\"Males\",SUPP_2a!D172)))","v":24.5},{"$f":"IF($C$6=\"All\",SUPP_2a!E174,IF($C$6=\"Females\",SUPP_2a!E173,IF($C$6=\"Males\",SUPP_2a!E172)))","v":30.4},{"$f":"IF($C$6=\"All\",SUPP_2a!F174,IF($C$6=\"Females\",SUPP_2a!F173,IF($C$6=\"Males\",SUPP_2a!F172)))","v":21.9},{"$f":"IF($C$6=\"All\",SUPP_2a!G174,IF($C$6=\"Females\",SUPP_2a!G173,IF($C$6=\"Males\",SUPP_2a!G172)))","v":10},{"$f":"IF($C$6=\"All\",SUPP_2a!H174,IF($C$6=\"Females\",SUPP_2a!H173,IF($C$6=\"Males\",SUPP_2a!H172)))","v":3.3},{"$f":"IF($C$6=\"All\",SUPP_2a!I174,IF($C$6=\"Females\",SUPP_2a!I173,IF($C$6=\"Males\",SUPP_2a!I172)))","v":0.8},{"$f":"IF($C$6=\"All\",SUPP_2a!J174,IF($C$6=\"Females\",SUPP_2a!J173,IF($C$6=\"Males\",SUPP_2a!J172)))","v":33.6},{"$f":"IF($C$6=\"All\",SUPP_2a!K174,IF($C$6=\"Females\",SUPP_2a!K173,IF($C$6=\"Males\",SUPP_2a!K172)))","v":99.2},{"$f":"IF($C$6=\"All\",SUPP_2a!L174,IF($C$6=\"Females\",SUPP_2a!L173,IF($C$6=\"Males\",SUPP_2a!L172)))","v":6158}]
["of which:"]
["  Latin",null,{"$f":"INDEX(SUPP_2a!C$3:C$149,MATCH((CONCATENATE($C$6,$AF66)),SUPP_2a!$P$3:$P$149,0))","v":24.5},{"$f":"INDEX(SUPP_2a!D$3:D$149,MATCH((CONCATENATE($C$6,$AF66)),SUPP_2a!$P$3:$P$149,0))","v":42.9},{"$f":"INDEX(SUPP_2a!E$3:E$149,MATCH((CONCATENATE($C$6,$AF66)),SUPP_2a!$P$3:$P$149,0))","v":22},{"$f":"INDEX(SUPP_2a!F$3:F$149,MATCH((CONCATENATE($C$6,$AF66)),SUPP_2a!$P$3:$P$149,0))","v":8},{"$f":"INDEX(SUPP_2a!G$3:G$149,MATCH((CONCATENATE($C$6,$AF66)),SUPP_2a!$P$3:$P$149,0))","v":2.1},{"$f":"INDEX(SUPP_2a!H$3:H$149,MATCH((CONCATENATE($C$6,$AF66)),SUPP_2a!$P$3:$P$149,0))","v":"x"},{"$f":"INDEX(SUPP_2a!I$3:I$149,MATCH((CONCATENATE($C$6,$AF66)),SUPP_2a!$P$3:$P$149,0))","v":"x"},{"$f":"INDEX(SUPP_2a!J$3:J$149,MATCH((CONCATENATE($C$6,$AF66)),SUPP_2a!$P$3:$P$149,0))","v":67.3},{"$f":"INDEX(SUPP_2a!K$3:K$149,MATCH((CONCATENATE($C$6,$AF66)),SUPP_2a!$P$3:$P$149,0))","v":"x"},{"$f":"INDEX(SUPP_2a!L$3:L$149,MATCH((CONCATENATE($C$6,$AF66)),SUPP_2a!$P$3:$P$149,0))","v":1108},null,null,null,null,null,null,null,null,null,null,null,null,null,null,null,null,null,null,null,"42_Latin"]
["  Greek",null,{"$f":"INDEX(SUPP_2a!C$3:C$149,MATCH((CONCATENATE($C$6,$AF67)),SUPP_2a!$P$3:$P$149,0))","v":33.799999999999997},{"$f":"INDEX(SUPP_2a!D$3:D$149,MATCH((CONCATENATE($C$6,$AF67)),SUPP_2a!$P$3:$P$149,0))","v":56.8},{"$f":"INDEX(SUPP_2a!E$3:E$149,MATCH((CONCATENATE($C$6,$AF67)),SUPP_2a!$P$3:$P$149,0))","v":8.5},{"$f":"INDEX(SUPP_2a!F$3:F$149,MATCH((CONCATENATE($C$6,$AF67)),SUPP_2a!$P$3:$P$149,0))","v":"x"},{"$f":"INDEX(SUPP_2a!G$3:G$149,MATCH((CONCATENATE($C$6,$AF67)),SUPP_2a!$P$3:$P$149,0))","v":0},{"$f":"INDEX(SUPP_2a!H$3:H$149,MATCH((CONCATENATE($C$6,$AF67)),SUPP_2a!$P$3:$P$149,0))","v":0},{"$f":"INDEX(SUPP_2a!I$3:I$149,MATCH((CONCATENATE($C$6,$AF67)),SUPP_2a!$P$3:$P$149,0))","v":"x"},{"$f":"INDEX(SUPP_2a!J$3:J$149,MATCH((CONCATENATE($C$6,$AF67)),SUPP_2a!$P$3:$P$149,0))","v":90.6},{"$f":"INDEX(SUPP_2a!K$3:K$149,MATCH((CONCATENATE($C$6,$AF67)),SUPP_2a!$P$3:$P$149,0))","v":"x"},{"$f":"INDEX(SUPP_2a!L$3:L$149,MATCH((CONCATENATE($C$6,$AF67)),SUPP_2a!$P$3:$P$149,0))","v":213},null,null,null,null,null,null,null,null,null,null,null,null,null,null,null,null,null,null,null,"43_Greek"]
["  Classical Civilisation",null,{"$f":"INDEX(SUPP_2a!C$3:C$149,MATCH((CONCATENATE($C$6,$AF68)),SUPP_2a!$P$3:$P$149,0))","v":4.5999999999999996},{"$f":"INDEX(SUPP_2a!D$3:D$149,MATCH((CONCATENATE($C$6,$AF68)),SUPP_2a!$P$3:$P$149,0))","v":19.3},{"$f":"INDEX(SUPP_2a!E$3:E$149,MATCH((CONCATENATE($C$6,$AF68)),SUPP_2a!$P$3:$P$149,0))","v":32.1},{"$f":"INDEX(SUPP_2a!F$3:F$149,MATCH((CONCATENATE($C$6,$AF68)),SUPP_2a!$P$3:$P$149,0))","v":25.9},{"$f":"INDEX(SUPP_2a!G$3:G$149,MATCH((CONCATENATE($C$6,$AF68)),SUPP_2a!$P$3:$P$149,0))","v":12.5},{"$f":"INDEX(SUPP_2a!H$3:H$149,MATCH((CONCATENATE($C$6,$AF68)),SUPP_2a!$P$3:$P$149,0))","v":4.5999999999999996},{"$f":"INDEX(SUPP_2a!I$3:I$149,MATCH((CONCATENATE($C$6,$AF68)),SUPP_2a!$P$3:$P$149,0))","v":0.9},{"$f":"INDEX(SUPP_2a!J$3:J$149,MATCH((CONCATENATE($C$6,$AF68)),SUPP_2a!$P$3:$P$149,0))","v":23.9},{"$f":"INDEX(SUPP_2a!K$3:K$149,MATCH((CONCATENATE($C$6,$AF68)),SUPP_2a!$P$3:$P$149,0))","v":99.1},{"$f":"INDEX(SUPP_2a!L$3:L$149,MATCH((CONCATENATE($C$6,$AF68)),SUPP_2a!$P$3:$P$149,0))","v":3740},null,null,null,null,null,null,null,null,null,null,null,null,null,null,null,null,null,null,null,"44_ClassicalCivilisation"]
["  Other Classical Studies",null,{"$f":"INDEX(SUPP_2a!C$3:C$149,MATCH((CONCATENATE($C$6,$AF69)),SUPP_2a!$P$3:$P$149,0))","v":4.0999999999999996},{"$f":"INDEX(SUPP_2a!D$3:D$149,MATCH((CONCATENATE($C$6,$AF69)),SUPP_2a!$P$3:$P$149,0))","v":17.5},{"$f":"INDEX(SUPP_2a!E$3:E$149,MATCH((CONCATENATE($C$6,$AF69)),SUPP_2a!$P$3:$P$149,0))","v":37.299999999999997},{"$f":"INDEX(SUPP_2a!F$3:F$149,MATCH((CONCATENATE($C$6,$AF69)),SUPP_2a!$P$3:$P$149,0))","v":26.2},{"$f":"INDEX(SUPP_2a!G$3:G$149,MATCH((CONCATENATE($C$6,$AF69)),SUPP_2a!$P$3:$P$149,0))","v":11.3},{"$f":"INDEX(SUPP_2a!H$3:H$149,MATCH((CONCATENATE($C$6,$AF69)),SUPP_2a!$P$3:$P$149,0))","v":2.6},{"$f":"INDEX(SUPP_2a!I$3:I$149,MATCH((CONCATENATE($C$6,$AF69)),SUPP_2a!$P$3:$P$149,0))","v":1},{"$f":"INDEX(SUPP_2a!J$3:J$149,MATCH((CONCATENATE($C$6,$AF69)),SUPP_2a!$P$3:$P$149,0))","v":21.6},{"$f":"INDEX(SUPP_2a!K$3:K$149,MATCH((CONCATENATE($C$6,$AF69)),SUPP_2a!$P$3:$P$149,0))","v":99},{"$f":"INDEX(SUPP_2a!L$3:L$149,MATCH((CONCATENATE($C$6,$AF69)),SUPP_2a!$P$3:$P$149,0))","v":1097},null,null,null,null,null,null,null,null,null,null,null,null,null,null,null,null,null,null,null,"41_Classical_Studies"]
[]
["Religious Studies",null,{"$f":"INDEX(SUPP_2a!C$3:C$149,MATCH((CONCATENATE($C$6,$AF71)),SUPP_2a!$P$3:$P$149,0))","v":5.6},{"$f":"INDEX(SUPP_2a!D$3:D$149,MATCH((CONCATENATE($C$6,$AF71)),SUPP_2a!$P$3:$P$149,0))","v":18.5},{"$f":"INDEX(SUPP_2a!E$3:E$149,MATCH((CONCATENATE($C$6,$AF71)),SUPP_2a!$P$3:$P$149,0))","v":30.6},{"$f":"INDEX(SUPP_2a!F$3:F$149,MATCH((CONCATENATE($C$6,$AF71)),SUPP_2a!$P$3:$P$149,0))","v":25.6},{"$f":"INDEX(SUPP_2a!G$3:G$149,MATCH((CONCATENATE($C$6,$AF71)),SUPP_2a!$P$3:$P$149,0))","v":13.7},{"$f":"INDEX(SUPP_2a!H$3:H$149,MATCH((CONCATENATE($C$6,$AF71)),SUPP_2a!$P$3:$P$149,0))","v":4.9000000000000004},{"$f":"INDEX(SUPP_2a!I$3:I$149,MATCH((CONCATENATE($C$6,$AF71)),SUPP_2a!$P$3:$P$149,0))","v":1.1000000000000001},{"$f":"INDEX(SUPP_2a!J$3:J$149,MATCH((CONCATENATE($C$6,$AF71)),SUPP_2a!$P$3:$P$149,0))","v":24.1},{"$f":"INDEX(SUPP_2a!K$3:K$149,MATCH((CONCATENATE($C$6,$AF71)),SUPP_2a!$P$3:$P$149,0))","v":98.9},{"$f":"INDEX(SUPP_2a!L$3:L$149,MATCH((CONCATENATE($C$6,$AF71)),SUPP_2a!$P$3:$P$149,0))","v":22638},null,null,null,null,null,null,null,null,null,null,null,null,null,null,null,null,null,null,null,"45_Religious_Studies"]
[]
["Music",null,{"$f":"IF($C$6=\"All\",SUPP_2a!C177,IF($C$6=\"Females\",SUPP_2a!C176,IF($C$6=\"Males\",SUPP_2a!C175)))","v":4.3},{"$f":"IF($C$6=\"All\",SUPP_2a!D177,IF($C$6=\"Females\",SUPP_2a!D176,IF($C$6=\"Males\",SUPP_2a!D175)))","v":14.8},{"$f":"IF($C$6=\"All\",SUPP_2a!E177,IF($C$6=\"Females\",SUPP_2a!E176,IF($C$6=\"Males\",SUPP_2a!E175)))","v":26},{"$f":"IF($C$6=\"All\",SUPP_2a!F177,IF($C$6=\"Females\",SUPP_2a!F176,IF($C$6=\"Males\",SUPP_2a!F175)))","v":27.3},{"$f":"IF($C$6=\"All\",SUPP_2a!G177,IF($C$6=\"Females\",SUPP_2a!G176,IF($C$6=\"Males\",SUPP_2a!G175)))","v":19.100000000000001},{"$f":"IF($C$6=\"All\",SUPP_2a!H177,IF($C$6=\"Females\",SUPP_2a!H176,IF($C$6=\"Males\",SUPP_2a!H175)))","v":7.3},{"$f":"IF($C$6=\"All\",SUPP_2a!I177,IF($C$6=\"Females\",SUPP_2a!I176,IF($C$6=\"Males\",SUPP_2a!I175)))","v":1.2},{"$f":"IF($C$6=\"All\",SUPP_2a!J177,IF($C$6=\"Females\",SUPP_2a!J176,IF($C$6=\"Males\",SUPP_2a!J175)))","v":19},{"$f":"IF($C$6=\"All\",SUPP_2a!K177,IF($C$6=\"Females\",SUPP_2a!K176,IF($C$6=\"Males\",SUPP_2a!K175)))","v":98.8},{"$f":"IF($C$6=\"All\",SUPP_2a!L177,IF($C$6=\"Females\",SUPP_2a!L176,IF($C$6=\"Males\",SUPP_2a!L175)))","v":6151}]
[]
["Physical Education",null,{"$f":"INDEX(SUPP_2a!C$3:C$149,MATCH((CONCATENATE($C$6,$AF75)),SUPP_2a!$P$3:$P$149,0))","v":3.7},{"$f":"INDEX(SUPP_2a!D$3:D$149,MATCH((CONCATENATE($C$6,$AF75)),SUPP_2a!$P$3:$P$149,0))","v":13.6},{"$f":"INDEX(SUPP_2a!E$3:E$149,MATCH((CONCATENATE($C$6,$AF75)),SUPP_2a!$P$3:$P$149,0))","v":25.5},{"$f":"INDEX(SUPP_2a!F$3:F$149,MATCH((CONCATENATE($C$6,$AF75)),SUPP_2a!$P$3:$P$149,0))","v":25.8},{"$f":"INDEX(SUPP_2a!G$3:G$149,MATCH((CONCATENATE($C$6,$AF75)),SUPP_2a!$P$3:$P$149,0))","v":19.2},{"$f":"INDEX(SUPP_2a!H$3:H$149,MATCH((CONCATENATE($C$6,$AF75)),SUPP_2a!$P$3:$P$149,0))","v":10.9},{"$f":"INDEX(SUPP_2a!I$3:I$149,MATCH((CONCATENATE($C$6,$AF75)),SUPP_2a!$P$3:$P$149,0))","v":1.2},{"$f":"INDEX(SUPP_2a!J$3:J$149,MATCH((CONCATENATE($C$6,$AF75)),SUPP_2a!$P$3:$P$149,0))","v":17.3},{"$f":"INDEX(SUPP_2a!K$3:K$149,MATCH((CONCATENATE($C$6,$AF75)),SUPP_2a!$P$3:$P$149,0))","v":98.8},{"$f":"INDEX(SUPP_2a!L$3:L$149,MATCH((CONCATENATE($C$6,$AF75)),SUPP_2a!$P$3:$P$149,0))","v":11763},null,null,null,null,null,null,null,null,null,null,null,null,null,null,null,null,null,null,null,"47_Physical_Education"]
[]
["General Studies",null,{"$f":"INDEX(SUPP_2a!C$3:C$149,MATCH((CONCATENATE($C$6,$AF77)),SUPP_2a!$P$3:$P$149,0))","v":4.5},{"$f":"INDEX(SUPP_2a!D$3:D$149,MATCH((CONCATENATE($C$6,$AF77)),SUPP_2a!$P$3:$P$149,0))","v":9},{"$f":"INDEX(SUPP_2a!E$3:E$149,MATCH((CONCATENATE($C$6,$AF77)),SUPP_2a!$P$3:$P$149,0))","v":19.8},{"$f":"INDEX(SUPP_2a!F$3:F$149,MATCH((CONCATENATE($C$6,$AF77)),SUPP_2a!$P$3:$P$149,0))","v":26.6},{"$f":"INDEX(SUPP_2a!G$3:G$149,MATCH((CONCATENATE($C$6,$AF77)),SUPP_2a!$P$3:$P$149,0))","v":22.4},{"$f":"INDEX(SUPP_2a!H$3:H$149,MATCH((CONCATENATE($C$6,$AF77)),SUPP_2a!$P$3:$P$149,0))","v":12.4},{"$f":"INDEX(SUPP_2a!I$3:I$149,MATCH((CONCATENATE($C$6,$AF77)),SUPP_2a!$P$3:$P$149,0))","v":5.3},{"$f":"INDEX(SUPP_2a!J$3:J$149,MATCH((CONCATENATE($C$6,$AF77)),SUPP_2a!$P$3:$P$149,0))","v":13.5},{"$f":"INDEX(SUPP_2a!K$3:K$149,MATCH((CONCATENATE($C$6,$AF77)),SUPP_2a!$P$3:$P$149,0))","v":94.7},{"$f":"INDEX(SUPP_2a!L$3:L$149,MATCH((CONCATENATE($C$6,$AF77)),SUPP_2a!$P$3:$P$149,0))","v":11616},null,null,null,null,null,null,null,null,null,null,null,null,null,null,null,null,null,null,null,"48_General_Studies"]
[]
["All facilitating subjects5",null,{"$f":"INDEX(SUPP_2a!C$3:C$161,MATCH((CONCATENATE($C$6,$AF79)),SUPP_2a!$P$3:$P$161,0))","v":11.4},{"$f":"INDEX(SUPP_2a!D$3:D$161,MATCH((CONCATENATE($C$6,$AF79)),SUPP_2a!$P$3:$P$161,0))","v":22},{"$f":"INDEX(SUPP_2a!E$3:E$161,MATCH((CONCATENATE($C$6,$AF79)),SUPP_2a!$P$3:$P$161,0))","v":26.2},{"$f":"INDEX(SUPP_2a!F$3:F$161,MATCH((CONCATENATE($C$6,$AF79)),SUPP_2a!$P$3:$P$161,0))","v":21.1},{"$f":"INDEX(SUPP_2a!G$3:G$161,MATCH((CONCATENATE($C$6,$AF79)),SUPP_2a!$P$3:$P$161,0))","v":12.7},{"$f":"INDEX(SUPP_2a!H$3:H$161,MATCH((CONCATENATE($C$6,$AF79)),SUPP_2a!$P$3:$P$161,0))","v":5.6},{"$f":"INDEX(SUPP_2a!I$3:I$161,MATCH((CONCATENATE($C$6,$AF79)),SUPP_2a!$P$3:$P$161,0))","v":1.1000000000000001},{"$f":"INDEX(SUPP_2a!J$3:J$161,MATCH((CONCATENATE($C$6,$AF79)),SUPP_2a!$P$3:$P$161,0))","v":33.4},{"$f":"INDEX(SUPP_2a!K$3:K$161,MATCH((CONCATENATE($C$6,$AF79)),SUPP_2a!$P$3:$P$161,0))","v":98.9},{"$f":"INDEX(SUPP_2a!L$3:L$161,MATCH((CONCATENATE($C$6,$AF79)),SUPP_2a!$P$3:$P$161,0))","v":376383},null,null,null,null,null,null,null,null,null,null,null,null,null,null,null,null,null,null,null,1]
[]
["All subjects",null,{"$f":"INDEX(SUPP_2a!C$152:C$167,MATCH((CONCATENATE($C$6,$AF81)),SUPP_2a!$P$152:$P$167,0))","v":8.4},{"$f":"INDEX(SUPP_2a!D$152:D$167,MATCH((CONCATENATE($C$6,$AF81)),SUPP_2a!$P$152:$P$167,0))","v":18},{"$f":"INDEX(SUPP_2a!E$152:E$167,MATCH((CONCATENATE($C$6,$AF81)),SUPP_2a!$P$152:$P$167,0))","v":27.1},{"$f":"INDEX(SUPP_2a!F$152:F$167,MATCH((CONCATENATE($C$6,$AF81)),SUPP_2a!$P$152:$P$167,0))","v":24.8},{"$f":"INDEX(SUPP_2a!G$152:G$167,MATCH((CONCATENATE($C$6,$AF81)),SUPP_2a!$P$152:$P$167,0))","v":14.7},{"$f":"INDEX(SUPP_2a!H$152:H$167,MATCH((CONCATENATE($C$6,$AF81)),SUPP_2a!$P$152:$P$167,0))","v":5.9},{"$f":"INDEX(SUPP_2a!I$152:I$167,MATCH((CONCATENATE($C$6,$AF81)),SUPP_2a!$P$152:$P$167,0))","v":1.2},{"$f":"INDEX(SUPP_2a!J$152:J$167,MATCH((CONCATENATE($C$6,$AF81)),SUPP_2a!$P$152:$P$167,0))","v":26.4},{"$f":"INDEX(SUPP_2a!K$152:K$167,MATCH((CONCATENATE($C$6,$AF81)),SUPP_2a!$P$152:$P$167,0))","v":98.8},{"$f":"INDEX(SUPP_2a!L$152:L$167,MATCH((CONCATENATE($C$6,$AF81)),SUPP_2a!$P$152:$P$167,0))","v":743986},null,null,null,null,null,null,null,null,null,null,null,null,null,null,null,null,null,null,null,"NULL"]
[]
[null,null,null,null,null,null,null,null,null,null,null,"Source: 2015/16 16-18 attainment data (provisional)"]
[]
["1. Covers A level examination results for the 2015/16 academic year."]
["2. Covers students aged 16, 17 or 18 at the start of the 2015/16 academic year, ie 31 August 2015."]
["3. Includes ungraded, no award (absent/declined) and pending."]
["4. Information, Communication and Technology",null,null,null," "]
["5. Facilitating A level subjects are: biology, chemistry, physics, mathematics, further mathematics, geography, history, English literature, modern and classical languages."]
[]
["*For a full list of subjects included in the subject groupings in this table, see 'List of A and AS Level subjects'"]
[]
["Notes:"]
[" x indicates figure has been suppressed where underlying numbers are small (ie, 1 or 2) or where secondary suppression has been applied."]
["Percentages are rounded to one decimal place and therefore may not sum to totals."]
["Where qualifications taken by a student are in the same subject area and similar in content ‘discounting’ rules have been applied to avoid double counting qualifications."]
["Refer to 'Quality and Methodology Information' document."]

{"sheet":"SUPP_2b","index":8,"n_rows":53,"n_cols":16,"rows_kept":53,"cut":false,"hidden":true,"merged":[]}
["Paste SQL output into cell A2"]
["SCHOOL_TYPE_SFR","gender","grade_AStar","grade_A","grade_B","grade_C","grade_D","grade_E","grade_other","grade_AStarA","grade_AStarE","Total","grade_Q","grade_U","grade_X","concatenate_name"]
["ALL_INDEPENDENT_SCHOOLS","ALL",17.100000000000001,30.5,26.8,15,7,2.8,0.9,47.6,99.1,109826,0,899,null,"AllALL_INDEPENDENT_SCHOOLS"]
["ALL_SCHOOLS","ALL",9.3000000000000007,19.3,27.1,23.9,13.8,5.5,1.1000000000000001,28.6,98.9,549240,5,5726,189,"AllALL_SCHOOLS"]
["ALL_SCHOOLS_AND_FE_SECTOR_COLLEGES","ALL",8.4,18,27.1,24.8,14.7,5.9,1.2,26.4,98.8,743986,6,8624,296,"AllALL_SCHOOLS_AND_FE_SECTOR_COLLEGES"]
["ALL_STATE_FUNDED_SCHOOLS","ALL",7.4,16.5,27.2,26.1,15.5,6.2,1.1000000000000001,23.9,98.9,439398,5,4827,123,"AllALL_STATE_FUNDED_SCHOOLS"]
["ALL_STATE_FUNDED_SCHOOLS_AND_FE_SECTOR_COLLEGES","ALL",6.8,15.8,27.1,26.5,16,6.5,1.3,22.7,98.7,633692,6,7723,230,"AllALL_STATE_FUNDED_SCHOOLS_AND_FE_SECTOR_COLLEGES"]
["CONVERTER_ACADEMIES","ALL",8.1999999999999993,18,27.8,25.2,14.3,5.5,0.9,26.2,99.1,277338,4,2425,68,"AllCONVERTER_ACADEMIES"]
["FE_SECTOR_COLLEGES","ALL",5.6,14.3,27,27.3,17.100000000000001,7.1,1.5,19.899999999999999,98.5,194746,1,2898,107,"AllFE_SECTOR_COLLEGES"]
["FREE_SCHOOLS","ALL",2.8,12.7,26.1,29.1,19.899999999999999,7.4,1.9,15.6,98.1,1201,0,22,1,"AllFREE_SCHOOLS"]
["FREE_SCHOOLS_1619","ALL",9.9,21.3,27.4,20,13.6,6.2,1.5,31.3,98.5,2724,0,35,7,"AllFREE_SCHOOLS_1619"]
["INDEPENDENT_SCHOOLS","ALL",17.2,30.5,26.8,15,6.9,2.8,0.9,47.6,99.1,109668,0,893,66,"AllINDEPENDENT_SCHOOLS"]
["INDEPENDENT_SPECIAL_SCHOOLS_NON_MAINTAINED_SPECIAL_SCHOOLS","ALL",2.5,10.1,19,29.7,21.5,13.3,3.8,12.7,96.2,158,0,6,0,"AllINDEPENDENT_SPECIAL_SCHOOLS_NON_MAINTAINED_SPECIAL_SCHOOLS"]
["LA_MAINTAINED_MAINSTREAM_SCHOOLS","ALL",6.3,14.9,27,27.4,16.399999999999999,6.7,1.3,21.3,98.7,120552,0,1489,34,"AllLA_MAINTAINED_MAINSTREAM_SCHOOLS"]
["OTHER_FE_SECTOR_COLLEGES","ALL",4,11.2,25.1,29.8,19.8,8,2.1,15.2,97.9,53074,1,1074,66,"AllOTHER_FE_SECTOR_COLLEGES"]
["SIXTH_FORM_COLLEGES","ALL",6.2,15.4,27.8,26.4,16.100000000000001,6.7,1.3,21.7,98.7,141672,0,1824,41,"AllSIXTH_FORM_COLLEGES"]
["SPONSORED_ACADEMIES","ALL",4.2,10.4,23.1,29.1,21.5,9.6,2.1,14.6,97.9,35004,1,724,11,"AllSPONSORED_ACADEMIES"]
["STUDIO_SCHOOLS","ALL",4.5999999999999996,8.9,19.2,30.1,22.1,10.6,4.5999999999999996,13.5,95.4,349,0,16,0,"AllSTUDIO_SCHOOLS"]
["UTCS","ALL",2.5,8.6999999999999993,17.899999999999999,24.3,22.7,15.2,8.8000000000000007,11.2,91.2,1253,0,110,0,"AllUTCS"]
["ALL_INDEPENDENT_SCHOOLS","F",17.5,31.9,27,14.4,6.1,2.2999999999999998,0.7,49.4,99.3,54668,0,348,34,"FemalesALL_INDEPENDENT_SCHOOLS"]
["ALL_SCHOOLS","F",8.9,19.8,28.5,24.3,12.9,4.7,0.8,28.7,99.2,296248,0,2354,94,"FemalesALL_SCHOOLS"]
["ALL_SCHOOLS_AND_FE_SECTOR_COLLEGES","F",7.9,18.399999999999999,28.6,25.3,13.8,5.0999999999999996,0.9,26.4,99.1,410718,0,3744,156,"FemalesALL_SCHOOLS_AND_FE_SECTOR_COLLEGES"]
["ALL_STATE_FUNDED_SCHOOLS","F",7,17,28.9,26.6,14.5,5.2,0.9,24,99.1,241570,0,2006,60,"FemalesALL_STATE_FUNDED_SCHOOLS"]
["ALL_STATE_FUNDED_SCHOOLS_AND_FE_SECTOR_COLLEGES","F",6.5,16.3,28.8,26.9,15,5.5,1,22.8,99,355935,0,3396,122,"FemalesALL_STATE_FUNDED_SCHOOLS_AND_FE_SECTOR_COLLEGES"]
["CONVERTER_ACADEMIES","F",7.8,18.5,29.6,25.5,13.2,4.5999999999999996,0.7,26.3,99.3,152053,0,983,37,"FemalesCONVERTER_ACADEMIES"]
["FE_SECTOR_COLLEGES","F",5.5,15,28.6,27.7,16,6,1.3,20.399999999999999,98.7,114470,0,1390,62,"FemalesFE_SECTOR_COLLEGES"]
["FREE_SCHOOLS","F",3.2,12.7,26.8,29.1,19.399999999999999,7.4,1.4,15.9,98.6,567,0,8,0,"FemalesFREE_SCHOOLS"]
["FREE_SCHOOLS_1619","F",9.8000000000000007,21.2,27.3,21.2,13.9,5.6,1.1000000000000001,31,98.9,1385,0,14,1,"FemalesFREE_SCHOOLS_1619"]
["INDEPENDENT_SCHOOLS","F","x","x",27.1,14.4,6.1,2.2999999999999998,0.7,49.4,99.3,54610,0,342,34,"FemalesINDEPENDENT_SCHOOLS"]
["INDEPENDENT_SPECIAL_SCHOOLS_NON_MAINTAINED_SPECIAL_SCHOOLS","F","x","x",8.6,29.3,32.799999999999997,8.6,10.3,10.3,89.7,58,0,6,0,"FemalesINDEPENDENT_SPECIAL_SCHOOLS_NON_MAINTAINED_SPECIAL_SCHOOLS"]
["LA_MAINTAINED_MAINSTREAM_SCHOOLS","F",5.9,15.4,28.6,28,15.5,5.6,1,21.3,99,67679,0,649,19,"FemalesLA_MAINTAINED_MAINSTREAM_SCHOOLS"]
["OTHER_FE_SECTOR_COLLEGES","F",3.7,11.3,26.4,30.4,19.2,7.1,1.8,15,98.2,32174,0,555,38,"FemalesOTHER_FE_SECTOR_COLLEGES"]
["SIXTH_FORM_COLLEGES","F",6.2,16.399999999999999,29.5,26.6,14.8,5.5,1,22.5,99,82296,0,835,24,"FemalesSIXTH_FORM_COLLEGES"]
["SPONSORED_ACADEMIES","F",3.9,10.4,24.4,30.2,20.8,8.6,1.7,14.3,98.3,18798,0,325,3,"FemalesSPONSORED_ACADEMIES"]
["STUDIO_SCHOOLS","F",5.8,9.4,22.3,31.7,18.7,10.1,2.2000000000000002,15.1,97.8,139,0,3,0,"FemalesSTUDIO_SCHOOLS"]
["UTCS","F",3.4,8.6999999999999993,18.600000000000001,28.9,24.3,11.1,5.0999999999999996,12,94.9,415,0,21,0,"FemalesUTCS"]
["ALL_INDEPENDENT_SCHOOLS","M",16.8,29,26.5,15.6,7.8,3.2,1.1000000000000001,45.8,98.9,55158,0,551,32,"MalesALL_INDEPENDENT_SCHOOLS"]
["ALL_SCHOOLS","M",9.8000000000000007,18.8,25.4,23.3,14.8,6.5,1.4,28.6,98.6,252992,5,3372,95,"MalesALL_SCHOOLS"]
["ALL_SCHOOLS_AND_FE_SECTOR_COLLEGES","M",8.9,17.5,25.2,24.2,15.7,7,1.5,26.3,98.5,333268,6,4880,140,"MalesALL_SCHOOLS_AND_FE_SECTOR_COLLEGES"]
["ALL_STATE_FUNDED_SCHOOLS","M",7.9,16,25.1,25.5,16.8,7.4,1.5,23.8,98.5,197828,5,2821,63,"MalesALL_STATE_FUNDED_SCHOOLS"]
["ALL_STATE_FUNDED_SCHOOLS_AND_FE_SECTOR_COLLEGES","M",7.3,15.2,25,25.9,17.3,7.7,1.6,22.5,98.4,277757,6,4327,108,"MalesALL_STATE_FUNDED_SCHOOLS_AND_FE_SECTOR_COLLEGES"]
["CONVERTER_ACADEMIES","M",8.6999999999999993,17.399999999999999,25.6,24.8,15.7,6.6,1.2,26.1,98.8,125285,4,1442,31,"MalesCONVERTER_ACADEMIES"]
["FE_SECTOR_COLLEGES","M",5.8,13.3,24.7,26.9,18.7,8.6999999999999993,1.9,19.100000000000001,98.1,80276,1,1508,45,"MalesFE_SECTOR_COLLEGES"]
["FREE_SCHOOLS","M",2.5,12.8,25.6,29,20.3,7.4,2.4,15.3,97.6,634,0,14,1,"MalesFREE_SCHOOLS"]
["FREE_SCHOOLS_1619","M",10.1,21.4,27.6,18.7,13.4,6.8,2,31.5,98,1339,0,21,6,"MalesFREE_SCHOOLS_1619"]
["INDEPENDENT_SCHOOLS","M","x","x",26.5,15.6,7.8,3.2,1.1000000000000001,45.9,98.9,55058,0,551,32,"MalesINDEPENDENT_SCHOOLS"]
["INDEPENDENT_SPECIAL_SCHOOLS_NON_MAINTAINED_SPECIAL_SCHOOLS","M","x","x",25,30,15,16,0,14,100,100,0,0,0,"MalesINDEPENDENT_SPECIAL_SCHOOLS_NON_MAINTAINED_SPECIAL_SCHOOLS"]
["LA_MAINTAINED_MAINSTREAM_SCHOOLS","M",6.9,14.3,25.1,26.6,17.600000000000001,8,1.6,21.2,98.4,52873,0,840,15,"MalesLA_MAINTAINED_MAINSTREAM_SCHOOLS"]
["OTHER_FE_SECTOR_COLLEGES","M",4.3,11.1,23,28.8,20.8,9.4,2.6,15.4,97.4,20900,1,519,28,"MalesOTHER_FE_SECTOR_COLLEGES"]
["SIXTH_FORM_COLLEGES","M",6.3,14.1,25.4,26.2,17.899999999999999,8.4,1.7,20.399999999999999,98.3,59376,0,989,17,"MalesSIXTH_FORM_COLLEGES"]
["SPONSORED_ACADEMIES","M",4.5999999999999996,10.3,21.5,27.9,22.4,10.8,2.5,14.9,97.5,16206,1,399,8,"MalesSPONSORED_ACADEMIES"]
["STUDIO_SCHOOLS","M",3.8,8.6,17.100000000000001,29,24.3,11,6.2,12.4,93.8,210,0,13,0,"MalesSTUDIO_SCHOOLS"]
["UTCS","M",2,8.6999999999999993,17.5,22,21.8,17.3,10.6,10.7,89.4,838,0,89,0,"MalesUTCS"]

{"sheet":"Table 2b","index":9,"n_rows":58,"n_cols":46,"rows_kept":58,"cut":false,"hidden":false,"merged":[[46,0,47,14],[49,0,50,14],[4,3,6,3],[5,14,6,14],[5,5,5,13],[4,5,4,14],[40,0,41,14]]}
["Table 2b: A level results1,2 by institution type, grade and gender"]
["Year: 2015/16 (provisional)"]
["Coverage: England"]
[]
[null,"   Select gender:",null,"Number of institutions 3",null,"All"]
[null,null,null,null,null,"Percentage achieving grade",null,null,null,null,null,null,null,null,"Number of entries"]
["Institution type",null,null,null,null,"A*","A","B","C","D","E","Other4","A*-A","A*-E"]
[]
["All state-funded schools5",null,null,2781,null,{"$f":"INDEX(SUPP_2b!C$3:C$53,MATCH((CONCATENATE($F$5,$AI9)),SUPP_2b!$P$3:$P$53,0))","v":7.4},{"$f":"INDEX(SUPP_2b!D$3:D$53,MATCH((CONCATENATE($F$5,$AI9)),SUPP_2b!$P$3:$P$53,0))","v":16.5},{"$f":"INDEX(SUPP_2b!E$3:E$53,MATCH((CONCATENATE($F$5,$AI9)),SUPP_2b!$P$3:$P$53,0))","v":27.2},{"$f":"INDEX(SUPP_2b!F$3:F$53,MATCH((CONCATENATE($F$5,$AI9)),SUPP_2b!$P$3:$P$53,0))","v":26.1},{"$f":"INDEX(SUPP_2b!G$3:G$53,MATCH((CONCATENATE($F$5,$AI9)),SUPP_2b!$P$3:$P$53,0))","v":15.5},{"$f":"INDEX(SUPP_2b!H$3:H$53,MATCH((CONCATENATE($F$5,$AI9)),SUPP_2b!$P$3:$P$53,0))","v":6.2},{"$f":"INDEX(SUPP_2b!I$3:I$53,MATCH((CONCATENATE($F$5,$AI9)),SUPP_2b!$P$3:$P$53,0))","v":1.1000000000000001},{"$f":"INDEX(SUPP_2b!J$3:J$53,MATCH((CONCATENATE($F$5,$AI9)),SUPP_2b!$P$3:$P$53,0))","v":23.9},{"$f":"INDEX(SUPP_2b!K$3:K$53,MATCH((CONCATENATE($F$5,$AI9)),SUPP_2b!$P$3:$P$53,0))","v":98.9},{"$f":"INDEX(SUPP_2b!L$3:L$53,MATCH((CONCATENATE($F$5,$AI9)),SUPP_2b!$P$3:$P$53,0))","v":439398},null,null,null,null,null,null,null,null,null,null,null,null,null,null,null,null,null,null,null,"ALL_STATE_FUNDED_SCHOOLS"]
["of which:"]
["  Local authority maintained mainstream schools6",null,null,714,null,{"$f":"INDEX(SUPP_2b!C$3:C$53,MATCH((CONCATENATE($F$5,$AI11)),SUPP_2b!$P$3:$P$53,0))","v":6.3},{"$f":"INDEX(SUPP_2b!D$3:D$53,MATCH((CONCATENATE($F$5,$AI11)),SUPP_2b!$P$3:$P$53,0))","v":14.9},{"$f":"INDEX(SUPP_2b!E$3:E$53,MATCH((CONCATENATE($F$5,$AI11)),SUPP_2b!$P$3:$P$53,0))","v":27},{"$f":"INDEX(SUPP_2b!F$3:F$53,MATCH((CONCATENATE($F$5,$AI11)),SUPP_2b!$P$3:$P$53,0))","v":27.4},{"$f":"INDEX(SUPP_2b!G$3:G$53,MATCH((CONCATENATE($F$5,$AI11)),SUPP_2b!$P$3:$P$53,0))","v":16.399999999999999},{"$f":"INDEX(SUPP_2b!H$3:H$53,MATCH((CONCATENATE($F$5,$AI11)),SUPP_2b!$P$3:$P$53,0))","v":6.7},{"$f":"INDEX(SUPP_2b!I$3:I$53,MATCH((CONCATENATE($F$5,$AI11)),SUPP_2b!$P$3:$P$53,0))","v":1.3},{"$f":"INDEX(SUPP_2b!J$3:J$53,MATCH((CONCATENATE($F$5,$AI11)),SUPP_2b!$P$3:$P$53,0))","v":21.3},{"$f":"INDEX(SUPP_2b!K$3:K$53,MATCH((CONCATENATE($F$5,$AI11)),SUPP_2b!$P$3:$P$53,0))","v":98.7},{"$f":"INDEX(SUPP_2b!L$3:L$53,MATCH((CONCATENATE($F$5,$AI11)),SUPP_2b!$P$3:$P$53,0))","v":120552},null,null,null,null,null,null,null,null,null,null,null,null,null,null,null,null,null,null,null,"LA_MAINTAINED_MAINSTREAM_SCHOOLS"]
["  Sponsored academies - mainstream7",null,null,415,null,{"$f":"INDEX(SUPP_2b!C$3:C$53,MATCH((CONCATENATE($F$5,$AI12)),SUPP_2b!$P$3:$P$53,0))","v":4.2},{"$f":"INDEX(SUPP_2b!D$3:D$53,MATCH((CONCATENATE($F$5,$AI12)),SUPP_2b!$P$3:$P$53,0))","v":10.4},{"$f":"INDEX(SUPP_2b!E$3:E$53,MATCH((CONCATENATE($F$5,$AI12)),SUPP_2b!$P$3:$P$53,0))","v":23.1},{"$f":"INDEX(SUPP_2b!F$3:F$53,MATCH((CONCATENATE($F$5,$AI12)),SUPP_2b!$P$3:$P$53,0))","v":29.1},{"$f":"INDEX(SUPP_2b!G$3:G$53,MATCH((CONCATENATE($F$5,$AI12)),SUPP_2b!$P$3:$P$53,0))","v":21.5},{"$f":"INDEX(SUPP_2b!H$3:H$53,MATCH((CONCATENATE($F$5,$AI12)),SUPP_2b!$P$3:$P$53,0))","v":9.6},{"$f":"INDEX(SUPP_2b!I$3:I$53,MATCH((CONCATENATE($F$5,$AI12)),SUPP_2b!$P$3:$P$53,0))","v":2.1},{"$f":"INDEX(SUPP_2b!J$3:J$53,MATCH((CONCATENATE($F$5,$AI12)),SUPP_2b!$P$3:$P$53,0))","v":14.6},{"$f":"INDEX(SUPP_2b!K$3:K$53,MATCH((CONCATENATE($F$5,$AI12)),SUPP_2b!$P$3:$P$53,0))","v":97.9},{"$f":"INDEX(SUPP_2b!L$3:L$53,MATCH((CONCATENATE($F$5,$AI12)),SUPP_2b!$P$3:$P$53,0))","v":35004},null,null,null,null,null,null,null,null,null,null,null,null,null,null,null,null,null,null,null,"SPONSORED_ACADEMIES"]
["  Converter academies - mainstream8",null,null,1039,null,{"$f":"INDEX(SUPP_2b!C$3:C$53,MATCH((CONCATENATE($F$5,$AI13)),SUPP_2b!$P$3:$P$53,0))","v":8.1999999999999993},{"$f":"INDEX(SUPP_2b!D$3:D$53,MATCH((CONCATENATE($F$5,$AI13)),SUPP_2b!$P$3:$P$53,0))","v":18},{"$f":"INDEX(SUPP_2b!E$3:E$53,MATCH((CONCATENATE($F$5,$AI13)),SUPP_2b!$P$3:$P$53,0))","v":27.8},{"$f":"INDEX(SUPP_2b!F$3:F$53,MATCH((CONCATENATE($F$5,$AI13)),SUPP_2b!$P$3:$P$53,0))","v":25.2},{"$f":"INDEX(SUPP_2b!G$3:G$53,MATCH((CONCATENATE($F$5,$AI13)),SUPP_2b!$P$3:$P$53,0))","v":14.3},{"$f":"INDEX(SUPP_2b!H$3:H$53,MATCH((CONCATENATE($F$5,$AI13)),SUPP_2b!$P$3:$P$53,0))","v":5.5},{"$f":"INDEX(SUPP_2b!I$3:I$53,MATCH((CONCATENATE($F$5,$AI13)),SUPP_2b!$P$3:$P$53,0))","v":0.9},{"$f":"INDEX(SUPP_2b!J$3:J$53,MATCH((CONCATENATE($F$5,$AI13)),SUPP_2b!$P$3:$P$53,0))","v":26.2},{"$f":"INDEX(SUPP_2b!K$3:K$53,MATCH((CONCATENATE($F$5,$AI13)),SUPP_2b!$P$3:$P$53,0))","v":99.1},{"$f":"INDEX(SUPP_2b!L$3:L$53,MATCH((CONCATENATE($F$5,$AI13)),SUPP_2b!$P$3:$P$53,0))","v":277338},null,null,null,null,null,null,null,null,null,null,null,null,null,null,null,null,null,null,null,"CONVERTER_ACADEMIES"]
["  Free schools",null,null,21,null,{"$f":"INDEX(SUPP_2b!C$3:C$53,MATCH((CONCATENATE($F$5,$AI14)),SUPP_2b!$P$3:$P$53,0))","v":2.8},{"$f":"INDEX(SUPP_2b!D$3:D$53,MATCH((CONCATENATE($F$5,$AI14)),SUPP_2b!$P$3:$P$53,0))","v":12.7},{"$f":"INDEX(SUPP_2b!E$3:E$53,MATCH((CONCATENATE($F$5,$AI14)),SUPP_2b!$P$3:$P$53,0))","v":26.1},{"$f":"INDEX(SUPP_2b!F$3:F$53,MATCH((CONCATENATE($F$5,$AI14)),SUPP_2b!$P$3:$P$53,0))","v":29.1},{"$f":"INDEX(SUPP_2b!G$3:G$53,MATCH((CONCATENATE($F$5,$AI14)),SUPP_2b!$P$3:$P$53,0))","v":19.899999999999999},{"$f":"INDEX(SUPP_2b!H$3:H$53,MATCH((CONCATENATE($F$5,$AI14)),SUPP_2b!$P$3:$P$53,0))","v":7.4},{"$f":"INDEX(SUPP_2b!I$3:I$53,MATCH((CONCATENATE($F$5,$AI14)),SUPP_2b!$P$3:$P$53,0))","v":1.9},{"$f":"INDEX(SUPP_2b!J$3:J$53,MATCH((CONCATENATE($F$5,$AI14)),SUPP_2b!$P$3:$P$53,0))","v":15.6},{"$f":"INDEX(SUPP_2b!K$3:K$53,MATCH((CONCATENATE($F$5,$AI14)),SUPP_2b!$P$3:$P$53,0))","v":98.1},{"$f":"INDEX(SUPP_2b!L$3:L$53,MATCH((CONCATENATE($F$5,$AI14)),SUPP_2b!$P$3:$P$53,0))","v":1201},null,null,null,null,null,null,null,null,null,null,null,null,null,null,null,null,null,null,null,"FREE_SCHOOLS"]
["  Free schools (16-19)",null,null,15,null,{"$f":"INDEX(SUPP_2b!C$3:C$53,MATCH((CONCATENATE($F$5,$AI15)),SUPP_2b!$P$3:$P$53,0))","v":9.9},{"$f":"INDEX(SUPP_2b!D$3:D$53,MATCH((CONCATENATE($F$5,$AI15)),SUPP_2b!$P$3:$P$53,0))","v":21.3},{"$f":"INDEX(SUPP_2b!E$3:E$53,MATCH((CONCATENATE($F$5,$AI15)),SUPP_2b!$P$3:$P$53,0))","v":27.4},{"$f":"INDEX(SUPP_2b!F$3:F$53,MATCH((CONCATENATE($F$5,$AI15)),SUPP_2b!$P$3:$P$53,0))","v":20},{"$f":"INDEX(SUPP_2b!G$3:G$53,MATCH((CONCATENATE($F$5,$AI15)),SUPP_2b!$P$3:$P$53,0))","v":13.6},{"$f":"INDEX(SUPP_2b!H$3:H$53,MATCH((CONCATENATE($F$5,$AI15)),SUPP_2b!$P$3:$P$53,0))","v":6.2},{"$f":"INDEX(SUPP_2b!I$3:I$53,MATCH((CONCATENATE($F$5,$AI15)),SUPP_2b!$P$3:$P$53,0))","v":1.5},{"$f":"INDEX(SUPP_2b!J$3:J$53,MATCH((CONCATENATE($F$5,$AI15)),SUPP_2b!$P$3:$P$53,0))","v":31.3},{"$f":"INDEX(SUPP_2b!K$3:K$53,MATCH((CONCATENATE($F$5,$AI15)),SUPP_2b!$P$3:$P$53,0))","v":98.5},{"$f":"INDEX(SUPP_2b!L$3:L$53,MATCH((CONCATENATE($F$5,$AI15)),SUPP_2b!$P$3:$P$53,0))","v":2724},null,null,null,null,null,null,null,null,null,null,null,null,null,null,null,null,null,null,null,"FREE_SCHOOLS_1619"]
["  University techical colleges (UTCs)",null,null,32,null,{"$f":"INDEX(SUPP_2b!C$3:C$53,MATCH((CONCATENATE($F$5,$AI16)),SUPP_2b!$P$3:$P$53,0))","v":2.5},{"$f":"INDEX(SUPP_2b!D$3:D$53,MATCH((CONCATENATE($F$5,$AI16)),SUPP_2b!$P$3:$P$53,0))","v":8.6999999999999993},{"$f":"INDEX(SUPP_2b!E$3:E$53,MATCH((CONCATENATE($F$5,$AI16)),SUPP_2b!$P$3:$P$53,0))","v":17.899999999999999},{"$f":"INDEX(SUPP_2b!F$3:F$53,MATCH((CONCATENATE($F$5,$AI16)),SUPP_2b!$P$3:$P$53,0))","v":24.3},{"$f":"INDEX(SUPP_2b!G$3:G$53,MATCH((CONCATENATE($F$5,$AI16)),SUPP_2b!$P$3:$P$53,0))","v":22.7},{"$f":"INDEX(SUPP_2b!H$3:H$53,MATCH((CONCATENATE($F$5,$AI16)),SUPP_2b!$P$3:$P$53,0))","v":15.2},{"$f":"INDEX(SUPP_2b!I$3:I$53,MATCH((CONCATENATE($F$5,$AI16)),SUPP_2b!$P$3:$P$53,0))","v":8.8000000000000007},{"$f":"INDEX(SUPP_2b!J$3:J$53,MATCH((CONCATENATE($F$5,$AI16)),SUPP_2b!$P$3:$P$53,0))","v":11.2},{"$f":"INDEX(SUPP_2b!K$3:K$53,MATCH((CONCATENATE($F$5,$AI16)),SUPP_2b!$P$3:$P$53,0))","v":91.2},{"$f":"INDEX(SUPP_2b!L$3:L$53,MATCH((CONCATENATE($F$5,$AI16)),SUPP_2b!$P$3:$P$53,0))","v":1253},null,null,null,null,null,null,null,null,null,null,null,null,null,null,null,null,null,null,null,"UTCS"]
["  Studio schools",null,null,35,null,{"$f":"INDEX(SUPP_2b!C$3:C$53,MATCH((CONCATENATE($F$5,$AI17)),SUPP_2b!$P$3:$P$53,0))","v":4.5999999999999996},{"$f":"INDEX(SUPP_2b!D$3:D$53,MATCH((CONCATENATE($F$5,$AI17)),SUPP_2b!$P$3:$P$53,0))","v":8.9},{"$f":"INDEX(SUPP_2b!E$3:E$53,MATCH((CONCATENATE($F$5,$AI17)),SUPP_2b!$P$3:$P$53,0))","v":19.2},{"$f":"INDEX(SUPP_2b!F$3:F$53,MATCH((CONCATENATE($F$5,$AI17)),SUPP_2b!$P$3:$P$53,0))","v":30.1},{"$f":"INDEX(SUPP_2b!G$3:G$53,MATCH((CONCATENATE($F$5,$AI17)),SUPP_2b!$P$3:$P$53,0))","v":22.1},{"$f":"INDEX(SUPP_2b!H$3:H$53,MATCH((CONCATENATE($F$5,$AI17)),SUPP_2b!$P$3:$P$53,0))","v":10.6},{"$f":"INDEX(SUPP_2b!I$3:I$53,MATCH((CONCATENATE($F$5,$AI17)),SUPP_2b!$P$3:$P$53,0))","v":4.5999999999999996},{"$f":"INDEX(SUPP_2b!J$3:J$53,MATCH((CONCATENATE($F$5,$AI17)),SUPP_2b!$P$3:$P$53,0))","v":13.5},{"$f":"INDEX(SUPP_2b!K$3:K$53,MATCH((CONCATENATE($F$5,$AI17)),SUPP_2b!$P$3:$P$53,0))","v":95.4},{"$f":"INDEX(SUPP_2b!L$3:L$53,MATCH((CONCATENATE($F$5,$AI17)),SUPP_2b!$P$3:$P$53,0))","v":349},null,null,null,null,null,null,null,null,null,null,null,null,null,null,null,null,null,null,null,"STUDIO_SCHOOLS"]
[]
["Independent schools",null,null,926,null,{"$f":"INDEX(SUPP_2b!C$3:C$53,MATCH((CONCATENATE($F$5,$AI19)),SUPP_2b!$P$3:$P$53,0))","v":17.100000000000001},{"$f":"INDEX(SUPP_2b!D$3:D$53,MATCH((CONCATENATE($F$5,$AI19)),SUPP_2b!$P$3:$P$53,0))","v":30.5},{"$f":"INDEX(SUPP_2b!E$3:E$53,MATCH((CONCATENATE($F$5,$AI19)),SUPP_2b!$P$3:$P$53,0))","v":26.8},{"$f":"INDEX(SUPP_2b!F$3:F$53,MATCH((CONCATENATE($F$5,$AI19)),SUPP_2b!$P$3:$P$53,0))","v":15},{"$f":"INDEX(SUPP_2b!G$3:G$53,MATCH((CONCATENATE($F$5,$AI19)),SUPP_2b!$P$3:$P$53,0))","v":7},{"$f":"INDEX(SUPP_2b!H$3:H$53,MATCH((CONCATENATE($F$5,$AI19)),SUPP_2b!$P$3:$P$53,0))","v":2.8},{"$f":"INDEX(SUPP_2b!I$3:I$53,MATCH((CONCATENATE($F$5,$AI19)),SUPP_2b!$P$3:$P$53,0))","v":0.9},{"$f":"INDEX(SUPP_2b!J$3:J$53,MATCH((CONCATENATE($F$5,$AI19)),SUPP_2b!$P$3:$P$53,0))","v":47.6},{"$f":"INDEX(SUPP_2b!K$3:K$53,MATCH((CONCATENATE($F$5,$AI19)),SUPP_2b!$P$3:$P$53,0))","v":99.1},{"$f":"INDEX(SUPP_2b!L$3:L$53,MATCH((CONCATENATE($F$5,$AI19)),SUPP_2b!$P$3:$P$53,0))","v":109826},null,null,null,null,null,null,null,null,null,null,null,null,null,null,null,null,null,null,null,"ALL_INDEPENDENT_SCHOOLS"]
["of which:"]
["  Independent schools",null,null,716,null,{"$f":"INDEX(SUPP_2b!C$3:C$53,MATCH((CONCATENATE($F$5,$AI21)),SUPP_2b!$P$3:$P$53,0))","v":17.2},{"$f":"INDEX(SUPP_2b!D$3:D$53,MATCH((CONCATENATE($F$5,$AI21)),SUPP_2b!$P$3:$P$53,0))","v":30.5},{"$f":"INDEX(SUPP_2b!E$3:E$53,MATCH((CONCATENATE($F$5,$AI21)),SUPP_2b!$P$3:$P$53,0))","v":26.8},{"$f":"INDEX(SUPP_2b!F$3:F$53,MATCH((CONCATENATE($F$5,$AI21)),SUPP_2b!$P$3:$P$53,0))","v":15},{"$f":"INDEX(SUPP_2b!G$3:G$53,MATCH((CONCATENATE($F$5,$AI21)),SUPP_2b!$P$3:$P$53,0))","v":6.9},{"$f":"INDEX(SUPP_2b!H$3:H$53,MATCH((CONCATENATE($F$5,$AI21)),SUPP_2b!$P$3:$P$53,0))","v":2.8},{"$f":"INDEX(SUPP_2b!I$3:I$53,MATCH((CONCATENATE($F$5,$AI21)),SUPP_2b!$P$3:$P$53,0))","v":0.9},{"$f":"INDEX(SUPP_2b!J$3:J$53,MATCH((CONCATENATE($F$5,$AI21)),SUPP_2b!$P$3:$P$53,0))","v":47.6},{"$f":"INDEX(SUPP_2b!K$3:K$53,MATCH((CONCATENATE($F$5,$AI21)),SUPP_2b!$P$3:$P$53,0))","v":99.1},{"$f":"INDEX(SUPP_2b!L$3:L$53,MATCH((CONCATENATE($F$5,$AI21)),SUPP_2b!$P$3:$P$53,0))","v":109668},null,null,null,null,null,null,null,null,null,null,null,null,null,null,null,null,null,null,null,"INDEPENDENT_SCHOOLS"]
["  Independent special schools and non-maintained special schools9",null,null,210,null,{"$f":"INDEX(SUPP_2b!C$3:C$53,MATCH((CONCATENATE($F$5,$AI22)),SUPP_2b!$P$3:$P$53,0))","v":2.5},{"$f":"INDEX(SUPP_2b!D$3:D$53,MATCH((CONCATENATE($F$5,$AI22)),SUPP_2b!$P$3:$P$53,0))","v":10.1},{"$f":"INDEX(SUPP_2b!E$3:E$53,MATCH((CONCATENATE($F$5,$AI22)),SUPP_2b!$P$3:$P$53,0))","v":19},{"$f":"INDEX(SUPP_2b!F$3:F$53,MATCH((CONCATENATE($F$5,$AI22)),SUPP_2b!$P$3:$P$53,0))","v":29.7},{"$f":"INDEX(SUPP_2b!G$3:G$53,MATCH((CONCATENATE($F$5,$AI22)),SUPP_2b!$P$3:$P$53,0))","v":21.5},{"$f":"INDEX(SUPP_2b!H$3:H$53,MATCH((CONCATENATE($F$5,$AI22)),SUPP_2b!$P$3:$P$53,0))","v":13.3},{"$f":"INDEX(SUPP_2b!I$3:I$53,MATCH((CONCATENATE($F$5,$AI22)),SUPP_2b!$P$3:$P$53,0))","v":3.8},{"$f":"INDEX(SUPP_2b!J$3:J$53,MATCH((CONCATENATE($F$5,$AI22)),SUPP_2b!$P$3:$P$53,0))","v":12.7},{"$f":"INDEX(SUPP_2b!K$3:K$53,MATCH((CONCATENATE($F$5,$AI22)),SUPP_2b!$P$3:$P$53,0))","v":96.2},{"$f":"INDEX(SUPP_2b!L$3:L$53,MATCH((CONCATENATE($F$5,$AI22)),SUPP_2b!$P$3:$P$53,0))","v":158},null,null,null,null,null,null,null,null,null,null,null,null,null,null,null,null,null,null,null,"INDEPENDENT_SPECIAL_SCHOOLS_NON_MAINTAINED_SPECIAL_SCHOOLS"]
[]
["All schools10",null,null,3807,null,{"$f":"INDEX(SUPP_2b!C$3:C$53,MATCH((CONCATENATE($F$5,$AI24)),SUPP_2b!$P$3:$P$53,0))","v":9.3000000000000007},{"$f":"INDEX(SUPP_2b!D$3:D$53,MATCH((CONCATENATE($F$5,$AI24)),SUPP_2b!$P$3:$P$53,0))","v":19.3},{"$f":"INDEX(SUPP_2b!E$3:E$53,MATCH((CONCATENATE($F$5,$AI24)),SUPP_2b!$P$3:$P$53,0))","v":27.1},{"$f":"INDEX(SUPP_2b!F$3:F$53,MATCH((CONCATENATE($F$5,$AI24)),SUPP_2b!$P$3:$P$53,0))","v":23.9},{"$f":"INDEX(SUPP_2b!G$3:G$53,MATCH((CONCATENATE($F$5,$AI24)),SUPP_2b!$P$3:$P$53,0))","v":13.8},{"$f":"INDEX(SUPP_2b!H$3:H$53,MATCH((CONCATENATE($F$5,$AI24)),SUPP_2b!$P$3:$P$53,0))","v":5.5},{"$f":"INDEX(SUPP_2b!I$3:I$53,MATCH((CONCATENATE($F$5,$AI24)),SUPP_2b!$P$3:$P$53,0))","v":1.1000000000000001},{"$f":"INDEX(SUPP_2b!J$3:J$53,MATCH((CONCATENATE($F$5,$AI24)),SUPP_2b!$P$3:$P$53,0))","v":28.6},{"$f":"INDEX(SUPP_2b!K$3:K$53,MATCH((CONCATENATE($F$5,$AI24)),SUPP_2b!$P$3:$P$53,0))","v":98.9},{"$f":"INDEX(SUPP_2b!L$3:L$53,MATCH((CONCATENATE($F$5,$AI24)),SUPP_2b!$P$3:$P$53,0))","v":549240},null,null,null,null,null,null,null,null,null,null,null,null,null,null,null,null,null,null,null,"ALL_SCHOOLS"]
[]
["FE sector colleges",null,null,337,null,{"$f":"INDEX(SUPP_2b!C$3:C$53,MATCH((CONCATENATE($F$5,$AI26)),SUPP_2b!$P$3:$P$53,0))","v":5.6},{"$f":"INDEX(SUPP_2b!D$3:D$53,MATCH((CONCATENATE($F$5,$AI26)),SUPP_2b!$P$3:$P$53,0))","v":14.3},{"$f":"INDEX(SUPP_2b!E$3:E$53,MATCH((CONCATENATE($F$5,$AI26)),SUPP_2b!$P$3:$P$53,0))","v":27},{"$f":"INDEX(SUPP_2b!F$3:F$53,MATCH((CONCATENATE($F$5,$AI26)),SUPP_2b!$P$3:$P$53,0))","v":27.3},{"$f":"INDEX(SUPP_2b!G$3:G$53,MATCH((CONCATENATE($F$5,$AI26)),SUPP_2b!$P$3:$P$53,0))","v":17.100000000000001},{"$f":"INDEX(SUPP_2b!H$3:H$53,MATCH((CONCATENATE($F$5,$AI26)),SUPP_2b!$P$3:$P$53,0))","v":7.1},{"$f":"INDEX(SUPP_2b!I$3:I$53,MATCH((CONCATENATE($F$5,$AI26)),SUPP_2b!$P$3:$P$53,0))","v":1.5},{"$f":"INDEX(SUPP_2b!J$3:J$53,MATCH((CONCATENATE($F$5,$AI26)),SUPP_2b!$P$3:$P$53,0))","v":19.899999999999999},{"$f":"INDEX(SUPP_2b!K$3:K$53,MATCH((CONCATENATE($F$5,$AI26)),SUPP_2b!$P$3:$P$53,0))","v":98.5},{"$f":"INDEX(SUPP_2b!L$3:L$53,MATCH((CONCATENATE($F$5,$AI26)),SUPP_2b!$P$3:$P$53,0))","v":194746},null,null,null,null,null,null,null,null,null,null,null,null,null,null,null,null,null,null,null,"FE_SECTOR_COLLEGES"]
["of which:"]
["  Sixth form colleges",null,null,93,null,{"$f":"INDEX(SUPP_2b!C$3:C$53,MATCH((CONCATENATE($F$5,$AI28)),SUPP_2b!$P$3:$P$53,0))","v":6.2},{"$f":"INDEX(SUPP_2b!D$3:D$53,MATCH((CONCATENATE($F$5,$AI28)),SUPP_2b!$P$3:$P$53,0))","v":15.4},{"$f":"INDEX(SUPP_2b!E$3:E$53,MATCH((CONCATENATE($F$5,$AI28)),SUPP_2b!$P$3:$P$53,0))","v":27.8},{"$f":"INDEX(SUPP_2b!F$3:F$53,MATCH((CONCATENATE($F$5,$AI28)),SUPP_2b!$P$3:$P$53,0))","v":26.4},{"$f":"INDEX(SUPP_2b!G$3:G$53,MATCH((CONCATENATE($F$5,$AI28)),SUPP_2b!$P$3:$P$53,0))","v":16.100000000000001},{"$f":"INDEX(SUPP_2b!H$3:H$53,MATCH((CONCATENATE($F$5,$AI28)),SUPP_2b!$P$3:$P$53,0))","v":6.7},{"$f":"INDEX(SUPP_2b!I$3:I$53,MATCH((CONCATENATE($F$5,$AI28)),SUPP_2b!$P$3:$P$53,0))","v":1.3},{"$f":"INDEX(SUPP_2b!J$3:J$53,MATCH((CONCATENATE($F$5,$AI28)),SUPP_2b!$P$3:$P$53,0))","v":21.7},{"$f":"INDEX(SUPP_2b!K$3:K$53,MATCH((CONCATENATE($F$5,$AI28)),SUPP_2b!$P$3:$P$53,0))","v":98.7},{"$f":"INDEX(SUPP_2b!L$3:L$53,MATCH((CONCATENATE($F$5,$AI28)),SUPP_2b!$P$3:$P$53,0))","v":141672},null,null,null,null,null,null,null,null,null,null,null,null,null,null,null,null,null,null,null,"SIXTH_FORM_COLLEGES"]
["  Other FE sector colleges11",null,null,244,null,{"$f":"INDEX(SUPP_2b!C$3:C$53,MATCH((CONCATENATE($F$5,$AI29)),SUPP_2b!$P$3:$P$53,0))","v":4},{"$f":"INDEX(SUPP_2b!D$3:D$53,MATCH((CONCATENATE($F$5,$AI29)),SUPP_2b!$P$3:$P$53,0))","v":11.2},{"$f":"INDEX(SUPP_2b!E$3:E$53,MATCH((CONCATENATE($F$5,$AI29)),SUPP_2b!$P$3:$P$53,0))","v":25.1},{"$f":"INDEX(SUPP_2b!F$3:F$53,MATCH((CONCATENATE($F$5,$AI29)),SUPP_2b!$P$3:$P$53,0))","v":29.8},{"$f":"INDEX(SUPP_2b!G$3:G$53,MATCH((CONCATENATE($F$5,$AI29)),SUPP_2b!$P$3:$P$53,0))","v":19.8},{"$f":"INDEX(SUPP_2b!H$3:H$53,MATCH((CONCATENATE($F$5,$AI29)),SUPP_2b!$P$3:$P$53,0))","v":8},{"$f":"INDEX(SUPP_2b!I$3:I$53,MATCH((CONCATENATE($F$5,$AI29)),SUPP_2b!$P$3:$P$53,0))","v":2.1},{"$f":"INDEX(SUPP_2b!J$3:J$53,MATCH((CONCATENATE($F$5,$AI29)),SUPP_2b!$P$3:$P$53,0))","v":15.2},{"$f":"INDEX(SUPP_2b!K$3:K$53,MATCH((CONCATENATE($F$5,$AI29)),SUPP_2b!$P$3:$P$53,0))","v":97.9},{"$f":"INDEX(SUPP_2b!L$3:L$53,MATCH((CONCATENATE($F$5,$AI29)),SUPP_2b!$P$3:$P$53,0))","v":53074},null,null,null,null,null,null,null,null,null,null,null,null,null,null,null,null,null,null,null,"OTHER_FE_SECTOR_COLLEGES"]
[]
["State-funded schools and colleges12",null,null,3117,null,{"$f":"INDEX(SUPP_2b!C$3:C$53,MATCH((CONCATENATE($F$5,$AI31)),SUPP_2b!$P$3:$P$53,0))","v":6.8},{"$f":"INDEX(SUPP_2b!D$3:D$53,MATCH((CONCATENATE($F$5,$AI31)),SUPP_2b!$P$3:$P$53,0))","v":15.8},{"$f":"INDEX(SUPP_2b!E$3:E$53,MATCH((CONCATENATE($F$5,$AI31)),SUPP_2b!$P$3:$P$53,0))","v":27.1},{"$f":"INDEX(SUPP_2b!F$3:F$53,MATCH((CONCATENATE($F$5,$AI31)),SUPP_2b!$P$3:$P$53,0))","v":26.5},{"$f":"INDEX(SUPP_2b!G$3:G$53,MATCH((CONCATENATE($F$5,$AI31)),SUPP_2b!$P$3:$P$53,0))","v":16},{"$f":"INDEX(SUPP_2b!H$3:H$53,MATCH((CONCATENATE($F$5,$AI31)),SUPP_2b!$P$3:$P$53,0))","v":6.5},{"$f":"INDEX(SUPP_2b!I$3:I$53,MATCH((CONCATENATE($F$5,$AI31)),SUPP_2b!$P$3:$P$53,0))","v":1.3},{"$f":"INDEX(SUPP_2b!J$3:J$53,MATCH((CONCATENATE($F$5,$AI31)),SUPP_2b!$P$3:$P$53,0))","v":22.7},{"$f":"INDEX(SUPP_2b!K$3:K$53,MATCH((CONCATENATE($F$5,$AI31)),SUPP_2b!$P$3:$P$53,0))","v":98.7},{"$f":"INDEX(SUPP_2b!L$3:L$53,MATCH((CONCATENATE($F$5,$AI31)),SUPP_2b!$P$3:$P$53,0))","v":633692},null,null,null,null,null,null,null,null,null,null,null,null,null,null,null,null,null,null,null,"ALL_STATE_FUNDED_SCHOOLS_AND_FE_SECTOR_COLLEGES"]
[]
["All schools and FE sector colleges13",null,null,4144,null,{"$f":"INDEX(SUPP_2b!C$3:C$53,MATCH((CONCATENATE($F$5,$AI33)),SUPP_2b!$P$3:$P$53,0))","v":8.4},{"$f":"INDEX(SUPP_2b!D$3:D$53,MATCH((CONCATENATE($F$5,$AI33)),SUPP_2b!$P$3:$P$53,0))","v":18},{"$f":"INDEX(SUPP_2b!E$3:E$53,MATCH((CONCATENATE($F$5,$AI33)),SUPP_2b!$P$3:$P$53,0))","v":27.1},{"$f":"INDEX(SUPP_2b!F$3:F$53,MATCH((CONCATENATE($F$5,$AI33)),SUPP_2b!$P$3:$P$53,0))","v":24.8},{"$f":"INDEX(SUPP_2b!G$3:G$53,MATCH((CONCATENATE($F$5,$AI33)),SUPP_2b!$P$3:$P$53,0))","v":14.7},{"$f":"INDEX(SUPP_2b!H$3:H$53,MATCH((CONCATENATE($F$5,$AI33)),SUPP_2b!$P$3:$P$53,0))","v":5.9},{"$f":"INDEX(SUPP_2b!I$3:I$53,MATCH((CONCATENATE($F$5,$AI33)),SUPP_2b!$P$3:$P$53,0))","v":1.2},{"$f":"INDEX(SUPP_2b!J$3:J$53,MATCH((CONCATENATE($F$5,$AI33)),SUPP_2b!$P$3:$P$53,0))","v":26.4},{"$f":"INDEX(SUPP_2b!K$3:K$53,MATCH((CONCATENATE($F$5,$AI33)),SUPP_2b!$P$3:$P$53,0))","v":98.8},{"$f":"INDEX(SUPP_2b!L$3:L$53,MATCH((CONCATENATE($F$5,$AI33)),SUPP_2b!$P$3:$P$53,0))","v":743986},null,null,null,null,null,null,null,null,null,null,null,null,null,null,null,null,null,null,null,"ALL_SCHOOLS_AND_FE_SECTOR_COLLEGES"]
[]
[null,null,null,null,null,null,null,null,null,null,null,null,null,null,"Source: 2015/16 16-18 attainment data (provisional)"]
[]
["1. Covers A level examination results for the 2015/16 academic year."]
["2. Covers students aged 16, 17 or 18 at the start of the 2015/16 academic year, ie 31 August 2015."]
["3. Includes ungraded, no award (absent/declined) and pending."]
["4. The total number of institutions in the 2015/16 academic year that have students at the end of 16-18 study."]
["5. Also includes city technology colleges (CTCs) and state-funded special schools. Figures for these institution types are not shown separately in the table. Excludes pupil referral units (PRUs), alternative provision (AP), hospital schools, non-maintained special schools, independent schools, independent special schools and independent schools approved to take pupils with special educational needs (SEN). "]
[]
["6. Community, voluntary aided, voluntary controlled and foundation schools."]
["7. Also includes academy 16-19 sponsor led. "]
["8. Also includes academy 16-19 converters."]
["9. Independent special schools, independent schools approved to take pupils with special educational needs (SEN) and non-maintained special schools. "]
["10. Includes all local authority maintained mainstream schools, sponsored academies, converter academies, free schools, university technical colleges (UTCs), studio schools and independent schools. Also includes city technology colleges (CTCs), state-funded special schools, pupil referral units (PRUs), hospital schools and alternative provision (AP) free schools which are not shown separately in the table. "]
[]
["11. Further education sector colleges; other government department funded colleges; and special colleges."]
["12. Covers all state-funded mainstream schools, academies, free schools, city technology colleges (CTCs), state-funded special schools and FE sector colleges. Excludes PRUs, alternative provision, hospital schools, non-maintained special schools, other government department funded colleges, independent schools, independent special schools and independent schools approved to take pupils with special educational needs (SEN).",null,null,null,null,null,null,null,null,null,null,null,null,null,null,null,null,null,null,null,null,null,null,null,null,null,null,null,null,null,null,null,null,null,null,null,null,null,null,null,null,null,null,null,null,"19. Covers all state-funded mainstream schools, academies, free schools, maintained special schools, FE sector colleges and City Technology Colleges (CTCs). Excludes pupil referral units (PRUs), non-maintained special schools, other government department funded colleges, independent schools, independent special schools and independent schools approved to take pupils with special educational needs (SEN) ."]
[]
["13. Includes all schools and  FE sector colleges."]
[]
["Notes:"]
["x indicates figure has been suppressed where underlying numbers are small (ie, 1 or 2) or where secondary suppression has been applied."]
["Percentages are rounded to one decimal place and therefore may not sum to totals."]
["Where qualifications taken by a student are in the same subject area and similar in content ‘discounting’ rules have been applied to avoid double counting qualifications."]
["Refer to 'Quality and Methodology Information' document."]

{"sheet":"SUPP_2c","index":10,"n_rows":234,"n_cols":16,"rows_kept":234,"cut":false,"hidden":true,"merged":[]}
["Paste table 2c SQL output into cell A2"]
["SCHOOL_TYPE_SFR","Subjects","grade_AStar","grade_A","grade_B","grade_C","grade_D","grade_E","grade_other","grade_AStarA","grade_AStarE","Total","grade_Q","grade_U","grade_X","concatenate_name"]
["ALL_INDEPENDENT_SCHOOLS","All subjects",17.100000000000001,30.5,26.8,15,7,2.8,0.9,47.6,99.1,109826,0,899,66,"Independent school studentsAll subjects"]
["ALL_INDEPENDENT_SCHOOLS","48_General_Studies",7.8,14.2,24,23.7,18,8.1,4.2,22,95.8,667,0,28,0,"Independent school students48_General_Studies"]
["ALL_INDEPENDENT_SCHOOLS","47_Physical_Education",4.7,19.100000000000001,25,21.9,17.2,10.8,1.3,23.8,98.7,1550,0,20,0,"Independent school students47_Physical_Education"]
["ALL_INDEPENDENT_SCHOOLS","46_Music",4.8,10,25.3,32.299999999999997,20.5,"x","x",14.8,"x",229,0,1,0,"Independent school students46_Music"]
["ALL_INDEPENDENT_SCHOOLS","45_Religious_Studies",14.5,31.9,31.4,14.4,5.0999999999999996,2.1,0.6,46.5,99.4,3681,0,21,0,"Independent school students45_Religious_Studies"]
["ALL_INDEPENDENT_SCHOOLS","44_ClassicalCivilisation",5.5,26.8,35.799999999999997,21.5,7.7,2,0.6,32.4,99.4,995,0,5,1,"Independent school students44_ClassicalCivilisation"]
["ALL_INDEPENDENT_SCHOOLS","43_Greek",34.200000000000003,57.2,"x",0,0,0,"x",91.4,"x",187,0,1,0,"Independent school students43_Greek"]
["ALL_INDEPENDENT_SCHOOLS","42_Latin",26.8,42.1,22,7,1.7,0.4,0,69,100,828,0,0,0,"Independent school students42_Latin"]
["ALL_INDEPENDENT_SCHOOLS","41_Classical_Studies",9.6,33.5,37.4,13.9,3.9,"x","x",43,"x",230,0,2,0,"Independent school students41_Classical_Studies"]
["ALL_INDEPENDENT_SCHOOLS","40_Russian",43,52.1,3.2,0.9,"x",0.5,"x",95.1,"x",754,0,0,1,"Independent school students40_Russian"]
["ALL_INDEPENDENT_SCHOOLS","39_Polish",59.6,23.4,8.5,"x","x","x",0,83,100,47,0,0,0,"Independent school students39_Polish"]
["ALL_INDEPENDENT_SCHOOLS","38_Italian",13.6,45.2,24.6,10.1,"x",0,"x",58.8,"x",199,0,2,0,"Independent school students38_Italian"]
["ALL_INDEPENDENT_SCHOOLS","37_Chinese",4.7,43.6,38.9,10.4,1.3,0.7,0.4,48.3,99.6,1877,0,4,3,"Independent school students37_Chinese"]
["ALL_INDEPENDENT_SCHOOLS","36_Other_Modern_Languages",16.899999999999999,37.4,26.8,11.4,3.6,3.1,0.8,54.3,99.2,385,0,2,1,"Independent school students36_Other_Modern_Languages"]
["ALL_INDEPENDENT_SCHOOLS","35_Spanish",13.6,37.5,29.2,13.1,5,1.1000000000000001,0.4,51.1,99.6,2008,0,4,5,"Independent school students35_Spanish"]
["ALL_INDEPENDENT_SCHOOLS","34_German",14.8,43.6,25.7,11.8,2.8,"x","x",58.4,"x",887,0,1,0,"Independent school students34_German"]
["ALL_INDEPENDENT_SCHOOLS","33_French",15.2,39.299999999999997,25.2,13.3,5,1.7,0.3,54.5,99.7,2460,0,7,1,"Independent school students33_French"]
["ALL_INDEPENDENT_SCHOOLS","32_Music",11.3,32,31.2,18.8,5.5,"x","x",43.3,"x",998,0,1,0,"Independent school students32_Music"]
["ALL_INDEPENDENT_SCHOOLS","31_Media_Film_TV",6.3,21.2,31.7,27.3,10.6,2.5,0.5,27.4,99.5,605,0,3,0,"Independent school students31_Media_Film_TV"]
["ALL_INDEPENDENT_SCHOOLS","30_Drama",11.2,24.5,37.700000000000003,19.2,6.3,"x","x",35.6,"x",1695,0,1,0,"Independent school students30_Drama"]
["ALL_INDEPENDENT_SCHOOLS","29_Art&Design",22.8,25.2,28.1,16.2,5.7,1.4,0.5,48,99.5,5489,0,25,4,"Independent school students29_Art&Design"]
["ALL_INDEPENDENT_SCHOOLS","28_Other_Social_Studies",14.5,30.4,25.8,18.3,6.1,3.2,1.7,44.9,98.3,345,0,5,1,"Independent school students28_Other_Social_Studies"]
["ALL_INDEPENDENT_SCHOOLS","27_Sociology",6.5,19.899999999999999,24.9,23.9,14.8,4.8,5.3,26.3,94.7,418,0,22,0,"Independent school students27_Sociology"]
["ALL_INDEPENDENT_SCHOOLS","27_Other_Comm_Studies",6.8,22.5,41,21,7.1,"x","x",29.3,"x",324,0,1,1,"Independent school students27_Other_Comm_Studies"]
["ALL_INDEPENDENT_SCHOOLS","26_Psychology",10.199999999999999,21.5,29.6,20.2,11.2,5.5,1.8,31.7,98.2,4183,0,71,4,"Independent school students26_Psychology"]
["ALL_INDEPENDENT_SCHOOLS","25_Law","x","x",21.9,25.4,18.399999999999999,11.4,11.4,11.4,88.6,114,0,12,1,"Independent school students25_Law"]
["ALL_INDEPENDENT_SCHOOLS","24_History",14.2,33.799999999999997,31.5,14.8,4.4000000000000004,1.1000000000000001,0.3,48,99.7,6599,0,12,6,"Independent school students24_History"]
["ALL_INDEPENDENT_SCHOOLS","23_Government&Politics",12,33.5,29.8,15.3,6.6,2.1,0.7,45.6,99.3,3116,0,21,1,"Independent school students23_Government&Politics"]
["ALL_INDEPENDENT_SCHOOLS","22_Geography",10.8,32.6,29.8,17.8,6.6,2,0.4,43.4,99.6,5731,0,20,1,"Independent school students22_Geography"]
["ALL_INDEPENDENT_SCHOOLS","21_Economics",12.7,34.5,29.2,14.1,6.2,2.2000000000000002,1.1000000000000001,47.3,98.9,7444,0,74,5,"Independent school students21_Economics"]
["ALL_INDEPENDENT_SCHOOLS","20_Business_Studies",5,16.600000000000001,31,25.8,14.7,5.3,1.6,21.6,98.4,3793,0,55,4,"Independent school students20_Business_Studies"]
["ALL_INDEPENDENT_SCHOOLS","19_Account&Finance",1.6,29.6,19.899999999999999,16.100000000000001,14,5.9,12.9,31.2,87.1,186,0,9,15,"Independent school students19_Account&Finance"]
["ALL_INDEPENDENT_SCHOOLS","18_Home Economics","x","x",35.200000000000003,29.7,9.9,3.3,0,22,100,91,0,0,0,"Independent school students18_Home Economics"]
["ALL_INDEPENDENT_SCHOOLS","17_ICT",2.8,9.8000000000000007,22.6,28.8,22.1,9.5,4.4000000000000004,12.6,95.6,430,0,19,0,"Independent school students17_ICT"]
["ALL_INDEPENDENT_SCHOOLS","16_Computing",4.9000000000000004,18.5,31.1,19.100000000000001,16.100000000000001,8.4,1.9,23.4,98.1,367,0,6,1,"Independent school students16_Computing"]
["ALL_INDEPENDENT_SCHOOLS","15_Design&Technology",9.5,22.9,29.1,22.2,11.1,4.5999999999999996,0.6,32.4,99.4,1617,0,10,0,"Independent school students15_Design&Technology"]
["ALL_INDEPENDENT_SCHOOLS","14_English_Language&Literature",10.6,19.3,34.799999999999997,24.2,"x","x",0,30,"x",207,0,0,0,"Independent school students14_English_Language&Literature"]
["ALL_INDEPENDENT_SCHOOLS","13_English Language",3,21.2,39.200000000000003,26.8,8,"x","x",24.2,"x",859,0,0,1,"Independent school students13_English Language"]
["ALL_INDEPENDENT_SCHOOLS","12_English_Literature",18.399999999999999,28.6,30.2,17,5,0.7,0.2,46.9,99.8,5936,0,8,3,"Independent school students12_English_Literature"]
["ALL_INDEPENDENT_SCHOOLS","11_Further Mathematics",42.4,27.6,16,6.8,4.0999999999999996,2.2999999999999998,0.9,70,99.1,3668,0,33,0,"Independent school students11_Further Mathematics"]
["ALL_INDEPENDENT_SCHOOLS","10_Use of Mathematics",0,"x",0,"x","x","x",0,"x",100,4,0,0,0,"Independent school students10_Use of Mathematics"]
["ALL_INDEPENDENT_SCHOOLS","09_Statistics",20,20,11.1,24.4,15.6,"x","x",40,"x",45,0,1,0,"Independent school students09_Statistics"]
["ALL_INDEPENDENT_SCHOOLS","08_Pure Mathematics","x","x",37.5,0,"x","x","x",31.3,"x",16,0,1,0,"Independent school students08_Pure Mathematics"]
["ALL_INDEPENDENT_SCHOOLS","07_Mathematics",28,32.4,20.399999999999999,10.3,5.5,2.6,0.9,60.4,99.1,15802,0,131,4,"Independent school students07_Mathematics"]
["ALL_INDEPENDENT_SCHOOLS","06_Mathematics_other",79.5,15.4,"x",0,0,"x",0,94.9,"x",39,0,0,0,"Independent school students06_Mathematics_other"]
["ALL_INDEPENDENT_SCHOOLS","05_Other_Sciences",16.100000000000001,34.799999999999997,21,16.5,8.9,"x","x",50.9,"x",224,0,2,0,"Independent school students05_Other_Sciences"]
["ALL_INDEPENDENT_SCHOOLS","04_Physics",17.100000000000001,29.9,22.9,14.4,9.6,4.8,1.4,47,98.6,6151,0,84,1,"Independent school students04_Physics"]
["ALL_INDEPENDENT_SCHOOLS","03_Chemistry",16.2,35.1,25.6,12.7,6.3,3.1,0.9,51.4,99.1,8183,0,72,0,"Independent school students03_Chemistry"]
["ALL_INDEPENDENT_SCHOOLS","01_Biology",18.899999999999999,28.3,24.3,14.6,8.5,4,1.3,47.3,98.7,8163,0,102,1,"Independent school students01_Biology"]
["ALL_STATE_FUNDED_SCHOOLS","All subjects",7.4,16.5,27.2,26.1,15.5,6.2,1.1000000000000001,23.9,98.9,439398,5,4827,123,"State funded school studentsAll subjects"]
["ALL_STATE_FUNDED_SCHOOLS","48_General_Studies",4.5999999999999996,9.1,19.600000000000001,26.7,22.4,12.5,5,13.7,95,9281,0,454,12,"State funded school students48_General_Studies"]
["ALL_STATE_FUNDED_SCHOOLS","47_Physical_Education",3.5,12.6,24.9,26.3,20.100000000000001,11.4,1.3,16.100000000000001,98.7,7190,0,90,0,"State funded school students47_Physical_Education"]
["ALL_STATE_FUNDED_SCHOOLS","46_Music",2.6,5.4,20.7,27.9,26.4,14.1,2.9,8,97.1,977,0,28,0,"State funded school students46_Music"]
["ALL_STATE_FUNDED_SCHOOLS","45_Religious_Studies",4.0999999999999996,16.8,30.3,27.7,15,5.0999999999999996,1,20.9,99,15064,1,149,2,"State funded school students45_Religious_Studies"]
["ALL_STATE_FUNDED_SCHOOLS","44_ClassicalCivilisation",6.5,20.8,30.3,25.6,12.7,3.6,0.7,27.2,99.3,1209,0,8,0,"State funded school students44_ClassicalCivilisation"]
["ALL_STATE_FUNDED_SCHOOLS","43_Greek",33.299999999999997,50,"x","x",0,0,0,83.3,"x",24,0,0,0,"State funded school students43_Greek"]
["ALL_STATE_FUNDED_SCHOOLS","42_Latin",18.3,45.6,21.8,9.9,"x",0,"x",63.9,"x",252,0,2,0,"State funded school students42_Latin"]
["ALL_STATE_FUNDED_SCHOOLS","41_Classical_Studies",3.5,15,37.6,27.2,12,3.3,1.4,18.5,98.6,426,0,6,0,"State funded school students41_Classical_Studies"]
["ALL_STATE_FUNDED_SCHOOLS","40_Russian",23.1,51.7,17.600000000000001,4.5999999999999996,1.3,"x","x",74.8,"x",238,0,2,0,"State funded school students40_Russian"]
["ALL_STATE_FUNDED_SCHOOLS","39_Polish",19,38.799999999999997,18.8,12.3,6.5,"x","x",57.8,"x",569,0,1,0,"State funded school students39_Polish"]
["ALL_STATE_FUNDED_SCHOOLS","38_Italian",8.4,33.200000000000003,35,16.399999999999999,5.6,1.3,0,41.7,100,391,0,0,0,"State funded school students38_Italian"]
["ALL_STATE_FUNDED_SCHOOLS","37_Chinese",1.9,26.9,46.8,14.9,6.5,"x","x",28.9,"x",308,0,1,0,"State funded school students37_Chinese"]
["ALL_STATE_FUNDED_SCHOOLS","36_Other_Modern_Languages",10.5,26.2,31.2,18.2,7.5,3.1,3.3,36.799999999999997,96.7,1536,2,42,6,"State funded school students36_Other_Modern_Languages"]
["ALL_STATE_FUNDED_SCHOOLS","35_Spanish",7,22.1,33,22.7,11,3.8,0.5,29,99.5,3866,0,17,2,"State funded school students35_Spanish"]
["ALL_STATE_FUNDED_SCHOOLS","34_German",7.6,25.9,29.2,21.5,11.3,4,0.5,33.5,99.5,1958,0,8,1,"State funded school students34_German"]
["ALL_STATE_FUNDED_SCHOOLS","33_French",6.8,25.8,29.2,20.8,11.9,4.9000000000000004,0.5,32.6,99.5,4415,0,22,1,"State funded school students33_French"]
["ALL_STATE_FUNDED_SCHOOLS","32_Music",3.1,14.5,27.7,29,19.399999999999999,5.7,0.5,17.600000000000001,99.5,2390,0,11,2,"State funded school students32_Music"]
["ALL_STATE_FUNDED_SCHOOLS","31_Media_Film_TV",0.9,8.8000000000000007,30,38.299999999999997,18.3,3.4,0.3,9.6999999999999993,99.7,12184,0,31,4,"State funded school students31_Media_Film_TV"]
["ALL_STATE_FUNDED_SCHOOLS","30_Drama",3.2,9.6999999999999993,29.3,33.4,19.2,4.5999999999999996,0.5,13,99.5,6973,0,31,1,"State funded school students30_Drama"]
["ALL_STATE_FUNDED_SCHOOLS","29_Art&Design",10.8,13.8,28.1,28.8,13.9,4,0.6,24.6,99.4,21032,0,123,11,"State funded school students29_Art&Design"]
["ALL_STATE_FUNDED_SCHOOLS","28_Other_Social_Studies",5.3,13.2,29.8,27.6,15.4,7.5,1.3,18.5,98.7,1055,0,14,0,"State funded school students28_Other_Social_Studies"]
["ALL_STATE_FUNDED_SCHOOLS","27_Sociology",6.2,13.4,27.8,28.9,16.600000000000001,6,1.2,19.600000000000001,98.8,19061,0,217,3,"State funded school students27_Sociology"]
["ALL_STATE_FUNDED_SCHOOLS","27_Other_Comm_Studies",2,10.199999999999999,32.5,38,14.6,2.4,0.3,12.2,99.7,4303,0,10,1,"State funded school students27_Other_Comm_Studies"]
["ALL_STATE_FUNDED_SCHOOLS","26_Psychology",5.4,12.2,27.2,27.9,18.100000000000001,7.6,1.6,17.7,98.4,34838,0,546,14,"State funded school students26_Psychology"]
["ALL_STATE_FUNDED_SCHOOLS","25_Law",3.4,10.5,25.4,28.5,19.7,9.8000000000000007,2.7,13.9,97.3,3987,0,105,3,"State funded school students25_Law"]
["ALL_STATE_FUNDED_SCHOOLS","24_History",4.7,16.5,32.299999999999997,29.5,13.6,3.1,0.3,21.1,99.7,30655,0,99,2,"State funded school students24_History"]
["ALL_STATE_FUNDED_SCHOOLS","23_Government&Politics",5.5,18.899999999999999,29.2,26.1,14,5,1.2,24.5,98.8,7294,0,85,1,"State funded school students23_Government&Politics"]
["ALL_STATE_FUNDED_SCHOOLS","22_Geography",5.4,18.399999999999999,30,27,14.4,4.2,0.6,23.8,99.4,20779,0,124,3,"State funded school students22_Geography"]
["ALL_STATE_FUNDED_SCHOOLS","21_Economics",6.1,20.5,30.9,24,12.5,5,0.9,26.6,99.1,14921,0,136,4,"State funded school students21_Economics"]
["ALL_STATE_FUNDED_SCHOOLS","20_Business_Studies",3,10.5,28.1,31.7,18.8,6.7,1,13.6,99,13258,0,135,3,"State funded school students20_Business_Studies"]
["ALL_STATE_FUNDED_SCHOOLS","19_Account&Finance",1.5,8.6999999999999993,22.3,28,22,13.9,3.6,10.3,96.4,583,0,21,0,"State funded school students19_Account&Finance"]
["ALL_STATE_FUNDED_SCHOOLS","18_Home Economics",2.2999999999999998,10,26.2,32.299999999999997,17.7,"x","x",12.3,"x",130,0,1,0,"State funded school students18_Home Economics"]
["ALL_STATE_FUNDED_SCHOOLS","17_ICT",1.2,7.5,18.7,28.9,27.2,13.7,2.7,8.6999999999999993,97.3,3718,1,97,2,"State funded school students17_ICT"]
["ALL_STATE_FUNDED_SCHOOLS","16_Computing",2.5,14,21.6,23.7,21.6,13.2,3.4,16.5,96.6,3317,0,108,4,"State funded school students16_Computing"]
["ALL_STATE_FUNDED_SCHOOLS","15_Design&Technology",3.7,10.5,23.1,27.8,22.9,10.6,1.4,14.2,98.6,8172,0,116,1,"State funded school students15_Design&Technology"]
["ALL_STATE_FUNDED_SCHOOLS","14_English_Language&Literature",2.7,9.3000000000000007,27.3,36.6,20.7,3.1,0.2,12,99.8,6234,0,11,2,"State funded school students14_English_Language&Literature"]
["ALL_STATE_FUNDED_SCHOOLS","13_English Language",1.4,9.3000000000000007,30.3,40,16.3,2.5,0.2,10.7,99.8,12356,0,19,3,"State funded school students13_English Language"]
["ALL_STATE_FUNDED_SCHOOLS","12_English_Literature",7.8,15.2,29.8,29.9,14.6,2.5,0.2,23,99.8,28279,1,49,7,"State funded school students12_English_Literature"]
["ALL_STATE_FUNDED_SCHOOLS","11_Further Mathematics",25,28.9,21.7,13,7.1,3.6,0.7,53.9,99.3,7988,0,54,3,"State funded school students11_Further Mathematics"]
["ALL_STATE_FUNDED_SCHOOLS","10_Use of Mathematics","x","x",15.3,24.1,29.2,22.6,"x",8,"x",137,0,1,0,"State funded school students10_Use of Mathematics"]
["ALL_STATE_FUNDED_SCHOOLS","09_Statistics",4.5999999999999996,14.4,23,27.6,17.2,"x","x",19,"x",174,0,2,0,"State funded school students09_Statistics"]
["ALL_STATE_FUNDED_SCHOOLS","08_Pure Mathematics",20,20,26.7,"x","x",0,20,40,80,15,0,3,0,"State funded school students08_Pure Mathematics"]
["ALL_STATE_FUNDED_SCHOOLS","07_Mathematics",17,23.9,23.3,16.899999999999999,11.4,6.2,1.2,40.9,98.8,46870,0,551,2,"State funded school students07_Mathematics"]
["ALL_STATE_FUNDED_SCHOOLS","06_Mathematics_other",42.1,10.5,26.3,13.2,0,"x","x",52.6,"x",38,0,0,2,"State funded school students06_Mathematics_other"]
["ALL_STATE_FUNDED_SCHOOLS","05_Other_Sciences",8.1,21.2,25.1,21.1,16,6.7,1.6,29.3,98.4,1173,0,19,0,"State funded school students05_Other_Sciences"]
["ALL_STATE_FUNDED_SCHOOLS","04_Physics",8,19.600000000000001,22.8,20.3,16,11,2.2000000000000002,27.6,97.8,18886,0,406,6,"State funded school students04_Physics"]
["ALL_STATE_FUNDED_SCHOOLS","03_Chemistry",7.5,22.4,26.8,19.899999999999999,14.1,7.8,1.4,30,98.6,27235,0,382,7,"State funded school students03_Chemistry"]
["ALL_STATE_FUNDED_SCHOOLS","01_Biology",8.6999999999999993,16.600000000000001,23.9,22.7,17.2,9.4,1.5,25.3,98.5,33659,0,490,8,"State funded school students01_Biology"]
["FE_SECTOR_COLLEGES","All subjects",5.6,14.3,27,27.3,17.100000000000001,7.1,1.5,19.899999999999999,98.5,194746,1,2898,107,"All Further Education college STUDENTSAll subjects"]
["FE_SECTOR_COLLEGES","48_General_Studies",2.6,6.5,19.3,26.7,24.2,13.1,7.5,9.1999999999999993,92.5,1668,0,124,1,"All Further Education college STUDENTS48_General_Studies"]
["FE_SECTOR_COLLEGES","47_Physical_Education",3.6,13.4,27.4,26.7,18,10,1.1000000000000001,17,98.9,3023,0,31,1,"All Further Education college STUDENTS47_Physical_Education"]
["FE_SECTOR_COLLEGES","46_Music",2,8,20.5,27.6,26,12.4,3.5,10,96.5,709,0,25,0,"All Further Education college STUDENTS46_Music"]
["FE_SECTOR_COLLEGES","45_Religious_Studies",2.8,12.4,30.9,28.5,16.7,6.8,1.9,15.2,98.1,3893,0,70,4,"All Further Education college STUDENTS45_Religious_Studies"]
["FE_SECTOR_COLLEGES","44_ClassicalCivilisation",2.5,13.2,31.2,29.1,15.6,7,1.4,15.8,98.6,1535,0,20,1,"All Further Education college STUDENTS44_ClassicalCivilisation"]
["FE_SECTOR_COLLEGES","43_Greek",0,"x",0,0,0,0,0,"x","x","x",0,0,0,"All Further Education college STUDENTS43_Greek"]
["FE_SECTOR_COLLEGES","42_Latin",10.7,39.299999999999997,25,"x",0,"x",0,50,100,28,0,0,0,"All Further Education college STUDENTS42_Latin"]
["FE_SECTOR_COLLEGES","41_Classical_Studies",1.8,11.6,37,31.5,14.5,2.9,0.7,13.4,99.3,441,0,3,0,"All Further Education college STUDENTS41_Classical_Studies"]
["FE_SECTOR_COLLEGES","40_Russian",15.3,62.5,11.1,6.9,"x","x",0,77.8,100,72,0,0,0,"All Further Education college STUDENTS40_Russian"]
["FE_SECTOR_COLLEGES","39_Polish",18.8,41.2,17.600000000000001,13.3,3.6,"x","x",60,"x",165,0,0,2,"All Further Education college STUDENTS39_Polish"]
["FE_SECTOR_COLLEGES","38_Italian",10,36.5,34,14,3,"x","x",46.5,"x",200,0,1,0,"All Further Education college STUDENTS38_Italian"]
["FE_SECTOR_COLLEGES","37_Chinese",1.9,32.200000000000003,48.8,13.2,2.2999999999999998,"x","x",34.1,"x",258,0,1,0,"All Further Education college STUDENTS37_Chinese"]
["FE_SECTOR_COLLEGES","36_Other_Modern_Languages",8.4,31.9,29.3,19.2,7.3,2.1,1.9,40.299999999999997,98.1,427,0,7,1,"All Further Education college STUDENTS36_Other_Modern_Languages"]
["FE_SECTOR_COLLEGES","35_Spanish",6.6,23.3,30,22.2,13,4.2,0.7,29.9,99.3,1581,0,10,1,"All Further Education college STUDENTS35_Spanish"]
["FE_SECTOR_COLLEGES","34_German",6.2,24.4,30.1,22.9,12.2,"x","x",30.6,"x",599,1,1,0,"All Further Education college STUDENTS34_German"]
["FE_SECTOR_COLLEGES","33_French",6.1,23.4,28.4,21.3,14.3,5.6,0.9,29.5,99.1,1584,0,14,1,"All Further Education college STUDENTS33_French"]
["FE_SECTOR_COLLEGES","32_Music",2.9,13.1,26.3,30.3,19.5,7.4,0.5,16,99.5,848,0,3,1,"All Further Education college STUDENTS32_Music"]
["FE_SECTOR_COLLEGES","31_Media_Film_TV",0.8,7,31.1,39.200000000000003,17.7,3.6,0.6,7.8,99.4,6050,0,37,0,"All Further Education college STUDENTS31_Media_Film_TV"]
["FE_SECTOR_COLLEGES","30_Drama",2.1,9.3000000000000007,27.8,32.799999999999997,21.4,5.7,0.9,11.4,99.1,2538,0,23,1,"All Further Education college STUDENTS30_Drama"]
["FE_SECTOR_COLLEGES","29_Art&Design",10.3,13.6,31.7,27.8,12.6,3.3,0.8,23.9,99.2,12975,0,99,1,"All Further Education college STUDENTS29_Art&Design"]
["FE_SECTOR_COLLEGES","28_Other_Social_Studies",4.5,12.9,28,26.9,18.899999999999999,6.8,2.1,17.3,97.9,1816,0,39,0,"All Further Education college STUDENTS28_Other_Social_Studies"]
["FE_SECTOR_COLLEGES","27_Sociology",4.9000000000000004,13.2,26.7,28.6,17.7,6.9,1.9,18.2,98.1,11489,0,208,12,"All Further Education college STUDENTS27_Sociology"]
["FE_SECTOR_COLLEGES","27_Other_Comm_Studies",2,10.3,35.799999999999997,36,13.3,2,0.6,12.3,99.4,5647,0,31,1,"All Further Education college STUDENTS27_Other_Comm_Studies"]
["FE_SECTOR_COLLEGES","26_Psychology",4.2,12.7,26.5,27.4,18.3,8.8000000000000007,2.2000000000000002,16.899999999999999,97.8,16865,0,355,9,"All Further Education college STUDENTS26_Psychology"]
["FE_SECTOR_COLLEGES","25_Law",5,14.6,26.1,25.2,18.5,8.4,2.2000000000000002,19.600000000000001,97.8,6170,0,131,5,"All Further Education college STUDENTS25_Law"]
["FE_SECTOR_COLLEGES","24_History",3.1,13.6,29.3,31.3,17.399999999999999,4.8,0.6,16.600000000000001,99.4,11093,0,62,6,"All Further Education college STUDENTS24_History"]
["FE_SECTOR_COLLEGES","23_Government&Politics",5.0999999999999996,15.1,26.7,25.7,17.3,8.1999999999999993,1.9,20.2,98.1,3369,0,61,2,"All Further Education college STUDENTS23_Government&Politics"]
["FE_SECTOR_COLLEGES","22_Geography",4.7,16.7,28.7,27.5,16,5.3,1.1000000000000001,21.4,98.9,6356,0,70,2,"All Further Education college STUDENTS22_Geography"]
["FE_SECTOR_COLLEGES","21_Economics",4.3,16.899999999999999,29.6,25.6,15,7.2,1.4,21.2,98.6,5199,0,73,1,"All Further Education college STUDENTS21_Economics"]
["FE_SECTOR_COLLEGES","20_Business_Studies",2.6,9.1999999999999993,26.2,31.5,20.5,8.1999999999999993,1.8,11.8,98.2,8076,0,136,9,"All Further Education college STUDENTS20_Business_Studies"]
["FE_SECTOR_COLLEGES","19_Account&Finance",2,11.8,24.9,25.9,20,11.6,3.9,13.7,96.1,1572,0,61,0,"All Further Education college STUDENTS19_Account&Finance"]
["FE_SECTOR_COLLEGES","18_Home Economics",0,"x",26.7,"x",46.7,0,0,"x",100,15,0,0,0,"All Further Education college STUDENTS18_Home Economics"]
["FE_SECTOR_COLLEGES","17_ICT",1,7.2,19.899999999999999,28.8,26.9,13.8,2.4,8.1999999999999993,97.6,2077,0,48,1,"All Further Education college STUDENTS17_ICT"]
["FE_SECTOR_COLLEGES","16_Computing",3,12.4,22.8,23.4,22.3,13.2,3,15.4,97,1914,0,57,0,"All Further Education college STUDENTS16_Computing"]
["FE_SECTOR_COLLEGES","15_Design&Technology",4,10.199999999999999,21.8,27.7,23.2,11.7,1.5,14.2,98.5,798,0,12,0,"All Further Education college STUDENTS15_Design&Technology"]
["FE_SECTOR_COLLEGES","14_English_Language&Literature",2.6,9.8000000000000007,27.9,36.4,19.2,3.5,0.7,12.4,99.3,4804,0,29,5,"All Further Education college STUDENTS14_English_Language&Literature"]
["FE_SECTOR_COLLEGES","13_English Language",1,7.9,27.5,39,20.5,3.5,0.6,8.9,99.4,7960,0,43,3,"All Further Education college STUDENTS13_English Language"]
["FE_SECTOR_COLLEGES","12_English_Literature",5.3,14,28.8,30.3,17.399999999999999,3.6,0.6,19.399999999999999,99.4,9516,0,50,10,"All Further Education college STUDENTS12_English_Literature"]
["FE_SECTOR_COLLEGES","11_Further Mathematics",21.7,28.2,22.7,13.3,8.6,4.5999999999999996,0.9,49.9,99.1,2391,0,22,0,"All Further Education college STUDENTS11_Further Mathematics"]
["FE_SECTOR_COLLEGES","10_Use of Mathematics",1.5,4.5999999999999996,16.3,27,31.6,"x","x",6,"x",1444,0,1,0,"All Further Education college STUDENTS10_Use of Mathematics"]
["FE_SECTOR_COLLEGES","09_Statistics",1.4,7.6,20.3,30.3,24.6,13.5,2.2999999999999998,9,97.7,512,0,12,0,"All Further Education college STUDENTS09_Statistics"]
["FE_SECTOR_COLLEGES","08_Pure Mathematics",0,0,0,"x",0,0,"x",0,"x","x",0,2,0,"All Further Education college STUDENTS08_Pure Mathematics"]
["FE_SECTOR_COLLEGES","07_Mathematics",15,20.9,22.7,18.5,13.1,8.1,1.7,35.9,98.3,16398,0,272,6,"All Further Education college STUDENTS07_Mathematics"]
["FE_SECTOR_COLLEGES","06_Mathematics_other","x","x","x",0,0,"x","x",62.5,"x",8,0,1,0,"All Further Education college STUDENTS06_Mathematics_other"]
["FE_SECTOR_COLLEGES","05_Other_Sciences",5.0999999999999996,16.600000000000001,24.9,24.4,18.100000000000001,9.1999999999999993,1.7,21.7,98.3,2164,0,36,1,"All Further Education college STUDENTS05_Other_Sciences"]
["FE_SECTOR_COLLEGES","04_Physics",6,17.100000000000001,22.2,21,17.899999999999999,13,2.9,23.1,97.1,6008,0,172,4,"All Further Education college STUDENTS04_Physics"]
["FE_SECTOR_COLLEGES","03_Chemistry",5.6,19.399999999999999,26.6,21.2,15.3,9.5,2.4,24.9,97.6,10010,0,236,4,"All Further Education college STUDENTS03_Chemistry"]
["FE_SECTOR_COLLEGES","01_Biology",7.2,15.6,24,22.9,18.8,9.6999999999999993,1.8,22.8,98.2,12476,0,209,11,"All Further Education college STUDENTS01_Biology"]
["SIXTH_FORM_COLLEGES","All subjects",6.2,15.4,27.8,26.4,16.100000000000001,6.7,1.3,21.7,98.7,141672,0,1824,41,"SIXTH FORM college STUDENTSAll subjects"]
["SIXTH_FORM_COLLEGES","48_General_Studies",2.6,6.6,19.399999999999999,26.9,24.1,12.9,7.5,9.1999999999999993,92.5,1636,0,121,1,"SIXTH FORM college STUDENTS48_General_Studies"]
["SIXTH_FORM_COLLEGES","47_Physical_Education",3.5,13.7,27.2,26.1,17.600000000000001,11,1.1000000000000001,17.100000000000001,98.9,2460,0,27,1,"SIXTH FORM college STUDENTS47_Physical_Education"]
["SIXTH_FORM_COLLEGES","46_Music",2.4,8,20.9,27.4,26.2,12.1,3.1,10.4,96.9,588,0,18,0,"SIXTH FORM college STUDENTS46_Music"]
["SIXTH_FORM_COLLEGES","45_Religious_Studies",2.8,13.1,31.4,28.5,15.5,6.8,1.8,15.9,98.2,3062,0,54,2,"SIXTH FORM college STUDENTS45_Religious_Studies"]
["SIXTH_FORM_COLLEGES","44_ClassicalCivilisation",2.2999999999999998,13.9,32.200000000000003,28.5,14.6,7.3,1.1000000000000001,16.2,98.9,1219,0,13,1,"SIXTH FORM college STUDENTS44_ClassicalCivilisation"]
["SIXTH_FORM_COLLEGES","42_Latin",12,36,28,"x",0,"x",0,48,100,25,0,0,0,"SIXTH FORM college STUDENTS42_Latin"]
["SIXTH_FORM_COLLEGES","41_Classical_Studies",1.9,14.5,37.9,26.8,14.9,"x","x",16.399999999999999,99.3,269,0,2,0,"SIXTH FORM college STUDENTS41_Classical_Studies"]
["SIXTH_FORM_COLLEGES","43_Greek",".",".",".",".",".",".",".",".",".",".",".",".",".","SIXTH FORM college STUDENTS43_Greek"]
["SIXTH_FORM_COLLEGES","40_Russian",16.399999999999999,58.2,10.9,9.1,"x","x",0,74.5,100,55,0,0,0,"SIXTH FORM college STUDENTS40_Russian"]
["SIXTH_FORM_COLLEGES","39_Polish",21.7,39.1,20.7,10.9,3.3,"x","x",60.9,"x",92,0,0,1,"SIXTH FORM college STUDENTS39_Polish"]
["SIXTH_FORM_COLLEGES","38_Italian",10.8,36.1,34.799999999999997,12,3.8,"x","x",46.8,"x",158,0,1,0,"SIXTH FORM college STUDENTS38_Italian"]
["SIXTH_FORM_COLLEGES","37_Chinese",1.7,31.5,49.7,12.7,2.2000000000000002,"x","x",33.1,"x",181,0,1,0,"SIXTH FORM college STUDENTS37_Chinese"]
["SIXTH_FORM_COLLEGES","36_Other_Modern_Languages",8.9,31.5,28.4,18.8,8.1999999999999993,2.4,1.7,40.4,98.3,292,0,4,1,"SIXTH FORM college STUDENTS36_Other_Modern_Languages"]
["SIXTH_FORM_COLLEGES","35_Spanish",7.1,24,30.3,21.2,12.7,4,0.8,31.1,99.2,1214,0,9,1,"SIXTH FORM college STUDENTS35_Spanish"]
["SIXTH_FORM_COLLEGES","34_German",6.5,25.4,29.2,22.8,12.1,"x","x",31.9,"x",504,0,1,0,"SIXTH FORM college STUDENTS34_German"]
["SIXTH_FORM_COLLEGES","33_French",6.5,25.8,28.3,20.5,13,5.2,0.6,32.299999999999997,99.4,1241,0,8,0,"SIXTH FORM college STUDENTS33_French"]
["SIXTH_FORM_COLLEGES","32_Music",2.7,13.5,29,28.4,19.2,"x","x",16.100000000000001,"x",676,0,1,0,"SIXTH FORM college STUDENTS32_Music"]
["SIXTH_FORM_COLLEGES","31_Media_Film_TV",1,7.9,32.9,38,16.399999999999999,3.4,0.4,8.9,99.6,3953,0,15,0,"SIXTH FORM college STUDENTS31_Media_Film_TV"]
["SIXTH_FORM_COLLEGES","30_Drama",2.6,10,30.2,32.799999999999997,18.8,4.8,0.8,12.5,99.2,1865,0,14,0,"SIXTH FORM college STUDENTS30_Drama"]
["SIXTH_FORM_COLLEGES","29_Art&Design",12,14.7,32.5,26.6,10.9,2.8,0.5,26.7,99.5,9374,0,51,0,"SIXTH FORM college STUDENTS29_Art&Design"]
["SIXTH_FORM_COLLEGES","28_Other_Social_Studies",4.5,13.4,29,26.3,18.399999999999999,6.4,2.1,17.899999999999999,97.9,1315,0,27,0,"SIXTH FORM college STUDENTS28_Other_Social_Studies"]
["SIXTH_FORM_COLLEGES","27_Sociology",5.5,14.2,27.1,27.5,17.3,6.9,1.6,19.600000000000001,98.4,7627,0,119,4,"SIXTH FORM college STUDENTS27_Sociology"]
["SIXTH_FORM_COLLEGES","27_Other_Comm_Studies",2.2000000000000002,11.2,36.5,35.5,12.4,1.7,0.4,13.4,99.6,3513,0,14,0,"SIXTH FORM college STUDENTS27_Other_Comm_Studies"]
["SIXTH_FORM_COLLEGES","26_Psychology",4.4000000000000004,13.6,27.8,26.7,17.5,8.1999999999999993,1.9,18,98.1,11882,0,217,3,"SIXTH FORM college STUDENTS26_Psychology"]
["SIXTH_FORM_COLLEGES","25_Law",6,16.100000000000001,27.1,24.9,16.899999999999999,7.4,1.5,22.1,98.5,4286,0,63,1,"SIXTH FORM college STUDENTS25_Law"]
["SIXTH_FORM_COLLEGES","24_History",3.7,15.7,30.8,30.1,15.2,4.0999999999999996,0.4,19.399999999999999,99.6,8200,0,32,1,"SIXTH FORM college STUDENTS24_History"]
["SIXTH_FORM_COLLEGES","23_Government&Politics",5.8,17.100000000000001,27.6,25,15.3,7.5,1.6,22.9,98.4,2457,0,39,0,"SIXTH FORM college STUDENTS23_Government&Politics"]
["SIXTH_FORM_COLLEGES","22_Geography",5,18.100000000000001,29.4,26,15.4,5,0.9,23.1,99.1,4630,0,43,0,"SIXTH FORM college STUDENTS22_Geography"]
["SIXTH_FORM_COLLEGES","21_Economics",4.8,17.5,30.6,24.5,14.5,6.8,1.3,22.3,98.7,4219,0,53,0,"SIXTH FORM college STUDENTS21_Economics"]
["SIXTH_FORM_COLLEGES","20_Business_Studies",2.8,10,27.1,31.7,19.100000000000001,7.6,1.6,12.9,98.4,5580,0,89,2,"SIXTH FORM college STUDENTS20_Business_Studies"]
["SIXTH_FORM_COLLEGES","19_Account&Finance",2,12,25.2,26.6,19.399999999999999,10.9,3.8,14,96.2,1092,0,42,0,"SIXTH FORM college STUDENTS19_Account&Finance"]
["SIXTH_FORM_COLLEGES","18_Home Economics",0,"x",30.8,23.1,38.5,0,0,"x",100,13,0,0,0,"SIXTH FORM college STUDENTS18_Home Economics"]
["SIXTH_FORM_COLLEGES","17_ICT",0.7,7.4,20,29.9,26.3,13.6,2.1,8.1,97.9,1428,0,30,0,"SIXTH FORM college STUDENTS17_ICT"]
["SIXTH_FORM_COLLEGES","16_Computing",3.5,12.7,23,22.9,21.5,13.4,3,16.2,97,1452,0,44,0,"SIXTH FORM college STUDENTS16_Computing"]
["SIXTH_FORM_COLLEGES","15_Design&Technology",4,10.3,20.3,27.5,24,12.2,1.7,14.3,98.3,699,0,12,0,"SIXTH FORM college STUDENTS15_Design&Technology"]
["SIXTH_FORM_COLLEGES","14_English_Language&Literature",3,11.5,29.3,34.299999999999997,17.899999999999999,3.5,0.5,14.5,99.5,3185,0,11,5,"SIXTH FORM college STUDENTS14_English_Language&Literature"]
["SIXTH_FORM_COLLEGES","13_English Language",1.2,8.5,28,38,20.2,3.6,0.5,9.6999999999999993,99.5,5799,0,26,2,"SIXTH FORM college STUDENTS13_English Language"]
["SIXTH_FORM_COLLEGES","12_English_Literature",6.1,15.3,29.7,29.1,15.8,3.4,0.5,21.4,99.5,6762,0,31,2,"SIXTH FORM college STUDENTS12_English_Literature"]
["SIXTH_FORM_COLLEGES","11_Further Mathematics",23.1,28.7,23.6,12.2,8,3.8,0.6,51.9,99.4,1832,0,11,0,"SIXTH FORM college STUDENTS11_Further Mathematics"]
["SIXTH_FORM_COLLEGES","08_Pure Mathematics",".",".",".",".",".",".",".",".",".",".",".",".",".","SIXTH FORM college STUDENTS08_Pure Mathematics"]
["SIXTH_FORM_COLLEGES","10_Use of Mathematics",1.6,4.4000000000000004,16.7,28.2,30.5,"x","x",6,"x",1307,0,1,0,"SIXTH FORM college STUDENTS10_Use of Mathematics"]
["SIXTH_FORM_COLLEGES","09_Statistics",0.8,7.5,20.8,30,24.9,13.4,2.5,8.4,97.5,477,0,12,0,"SIXTH FORM college STUDENTS09_Statistics"]
["SIXTH_FORM_COLLEGES","07_Mathematics",16.100000000000001,21.8,23.1,17.8,12.5,7.3,1.3,38,98.7,12110,0,152,2,"SIXTH FORM college STUDENTS07_Mathematics"]
["SIXTH_FORM_COLLEGES","06_Mathematics_other","x","x",0,0,0,"x",0,83.3,100,6,0,0,0,"SIXTH FORM college STUDENTS06_Mathematics_other"]
["SIXTH_FORM_COLLEGES","05_Other_Sciences",5.4,16.600000000000001,26.3,23.6,17.2,9.3000000000000007,1.6,22,98.4,1528,0,24,0,"SIXTH FORM college STUDENTS05_Other_Sciences"]
["SIXTH_FORM_COLLEGES","04_Physics",6.6,18.8,23.4,20,16.5,12,2.7,25.4,97.3,4283,0,114,2,"SIXTH FORM college STUDENTS04_Physics"]
["SIXTH_FORM_COLLEGES","03_Chemistry",6.3,20.8,27.3,20.7,14.2,8.6999999999999993,2,27.1,98,7733,0,150,2,"SIXTH FORM college STUDENTS03_Chemistry"]
["SIXTH_FORM_COLLEGES","01_Biology",8,17.3,24.5,22.3,17.5,8.9,1.4,25.3,98.6,9393,0,128,7,"SIXTH FORM college STUDENTS01_Biology"]
[]
["Paste facilitating subject SQL output into cell A199"]
["SCHOOL_TYPE_SFR","FS_subjects","grade_AStar","grade_A","grade_B","grade_C","grade_D","grade_E","grade_other","grade_AStarA","grade_AStarE","Total","grade_Q","grade_U","grade_X"]
["ALL_INDEPENDENT_SCHOOLS",1,20.3,32.9,24.9,12.9,5.9,2.4,0.7,53.2,99.3,69874,0,484,27,"Independent school students1"]
["ALL_INDEPENDENT_SCHOOLS",0,11.7,26.2,30,18.7,8.9,3.4,1.1000000000000001,37.9,98.9,39952,0,415,39,"Independent school students0"]
["ALL_INDEPENDENT_SCHOOLS","NULL",17.100000000000001,30.5,26.8,15,7,2.8,0.9,47.6,99.1,109826,0,899,66,"Independent school studentsNULL"]
["ALL_STATE_FUNDED_SCHOOLS",1,9.8000000000000007,20,26.8,22.7,13.7,6,1,29.9,99,227730,3,2252,50,"State funded school students1"]
["ALL_STATE_FUNDED_SCHOOLS",0,4.8,12.8,27.6,29.7,17.5,6.4,1.3,17.5,98.7,211668,2,2575,73,"State funded school students0"]
["ALL_STATE_FUNDED_SCHOOLS","NULL",7.4,16.5,27.2,26.1,15.5,6.2,1.1000000000000001,23.9,98.9,439398,5,4827,123,"State funded school studentsNULL"]
["FE_SECTOR_COLLEGES",1,7.9,17.899999999999999,25.9,23.6,15.8,7.3,1.5,25.9,98.5,78772,1,1123,48,"All Further Education college STUDENTS1"]
["FE_SECTOR_COLLEGES",0,4,11.8,27.8,29.9,18.100000000000001,6.9,1.6,15.8,98.4,115974,0,1775,59,"All Further Education college STUDENTS0"]
["FE_SECTOR_COLLEGES","NULL",5.6,14.3,27,27.3,17.100000000000001,7.1,1.5,19.899999999999999,98.5,194746,1,2898,107,"All Further Education college STUDENTSNULL"]
["SIXTH_FORM_COLLEGES",1,8.6999999999999993,19.399999999999999,26.7,22.7,14.6,6.7,1.2,28.1,98.8,58488,0,680,19,"SIXTH FORM college STUDENTS1"]
["SIXTH_FORM_COLLEGES",0,4.5,12.6,28.5,29,17.2,6.8,1.4,17.100000000000001,98.6,83184,0,1144,22,"SIXTH FORM college STUDENTS0"]
["SIXTH_FORM_COLLEGES","NULL",6.2,15.4,27.8,26.4,16.100000000000001,6.7,1.3,21.7,98.7,141672,0,1824,41,"SIXTH FORM college STUDENTSNULL"]
[]
["ALL_INDEPENDENT_SCHOOLS","All","49_Mathematics ",28,32.299999999999997,20.3,10.3,5.5,2.6,0.9,60.4,99.1,15906]
["ALL_INDEPENDENT_SCHOOLS","All","50_English",16.3,27.4,31.5,18.399999999999999,5.6,0.8,0.2,43.6,99.8,7002]
["ALL_INDEPENDENT_SCHOOLS","All","51_Other modern languages ",16.3,44.6,27.9,8.1999999999999993,1.6,1,0.4,60.9,99.6,3262]
["ALL_INDEPENDENT_SCHOOLS","All","52_Classical Studies",16.2,35.700000000000003,28.5,13.6,4.5,1.1000000000000001,0.4,51.9,99.6,2240]
["ALL_STATE_FUNDED_SCHOOLS","All","49_Mathematics ",16.899999999999999,23.8,23.3,17,11.5,6.3,1.2,40.700000000000003,98.8,47234]
["ALL_STATE_FUNDED_SCHOOLS","All","50_English",5.4,12.9,29.6,33.5,15.9,2.5,0.2,18.3,99.8,46869]
["ALL_STATE_FUNDED_SCHOOLS","All","51_Other modern languages ",12,31.6,29.9,15.5,6.5,2.9,1.8,43.5,98.2,3042]
["ALL_STATE_FUNDED_SCHOOLS","All","52_Classical Studies",7.7,23.1,30.6,23.6,11.1,3,0.8,30.8,99.2,1911]
["FE_SECTOR_COLLEGES","All","49_Mathematics ",13.6,19.3,22.2,19.5,14.9,9.1,1.6,32.799999999999997,98.4,18365]
["FE_SECTOR_COLLEGES","All","50_English",3.2,10.9,28.1,34.700000000000003,18.899999999999999,3.5,0.6,14.1,99.4,22280]
["FE_SECTOR_COLLEGES","All","51_Other modern languages ",9.1999999999999993,36.1,31.7,15.2,4.5,2.2000000000000002,1.1000000000000001,45.3,98.9,1122]
["FE_SECTOR_COLLEGES","All","52_Classical Studies",2.5,13.3,32.4,29.5,15.1,6,1.2,15.8,98.8,2006]
["SIXTH_FORM_COLLEGES","All","49_Mathematics ",14.3,19.7,22.4,19.2,14.6,8.6,1.2,34,98.8,13900]
["SIXTH_FORM_COLLEGES","All","50_English",3.7,12,29,33.4,17.899999999999999,3.5,0.5,15.7,99.5,15746]
["SIXTH_FORM_COLLEGES","All","51_Other modern languages ",9.6,35.200000000000003,32.5,14.4,4.9000000000000004,2.2999999999999998,1,44.9,99,778]
["SIXTH_FORM_COLLEGES","All","52_Classical Studies",2.4,14.4,33.1,28.1,14.4,6.5,1.1000000000000001,16.8,98.9,1513]
["ALL_INDEPENDENT_SCHOOLS","All","53_Music",10.1,27.9,30.1,21.4,8.3000000000000007,2.1,"x",38,99.8,1227]
["ALL_STATE_FUNDED_SCHOOLS","All","53_Music",2.9,11.9,25.7,28.7,21.4,8.1,1.2,14.8,98.8,3367]
["FE_SECTOR_COLLEGES","All","53_Music",2.5,10.8,23.6,29.1,22.4,9.6999999999999993,1.9,13.3,98.1,1557]
["SIXTH_FORM_COLLEGES","All","53_Music",2.5,10.9,25.2,27.9,22.5,9.4,1.5,13.4,98.5,1264]

{"sheet":"Table 2c","index":11,"n_rows":100,"n_cols":31,"rows_kept":100,"cut":false,"hidden":false,"merged":[[4,2,4,10],[5,2,5,10],[5,11,6,11],[90,0,90,5]]}
["Table 2c: A level results1,2 by subject, grade and institution type"]
["Year: 2015/16 (provisional)"]
["Coverage: England"]
[]
[null,"  Select institution3 :","Sixth form college students"]
["Subject",null,"Percentage achieving grade",null,null,null,null,null,null,null,null,"Number of entries"]
[null,null,"A*","A","B","C","D","E","Other4","A*-A ","A*-E "]
[]
["Biology",null,{"$f":"INDEX(SUPP_2c!C$3:C$198,MATCH((CONCATENATE($C$5,$AE9)),SUPP_2c!$P$3:$P$198,0))","v":8},{"$f":"INDEX(SUPP_2c!D$3:D$198,MATCH((CONCATENATE($C$5,$AE9)),SUPP_2c!$P$3:$P$198,0))","v":17.3},{"$f":"INDEX(SUPP_2c!E$3:E$198,MATCH((CONCATENATE($C$5,$AE9)),SUPP_2c!$P$3:$P$198,0))","v":24.5},{"$f":"INDEX(SUPP_2c!F$3:F$198,MATCH((CONCATENATE($C$5,$AE9)),SUPP_2c!$P$3:$P$198,0))","v":22.3},{"$f":"INDEX(SUPP_2c!G$3:G$198,MATCH((CONCATENATE($C$5,$AE9)),SUPP_2c!$P$3:$P$198,0))","v":17.5},{"$f":"INDEX(SUPP_2c!H$3:H$198,MATCH((CONCATENATE($C$5,$AE9)),SUPP_2c!$P$3:$P$198,0))","v":8.9},{"$f":"INDEX(SUPP_2c!I$3:I$198,MATCH((CONCATENATE($C$5,$AE9)),SUPP_2c!$P$3:$P$198,0))","v":1.4},{"$f":"INDEX(SUPP_2c!J$3:J$198,MATCH((CONCATENATE($C$5,$AE9)),SUPP_2c!$P$3:$P$198,0))","v":25.3},{"$f":"INDEX(SUPP_2c!K$3:K$198,MATCH((CONCATENATE($C$5,$AE9)),SUPP_2c!$P$3:$P$198,0))","v":98.6},{"$f":"INDEX(SUPP_2c!L$3:L$198,MATCH((CONCATENATE($C$5,$AE9)),SUPP_2c!$P$3:$P$198,0))","v":9393},null,null,null,null,null,null,null,null,null,null,null,null,null,null,null,null,null,null,"01_Biology"]
["Chemistry",null,{"$f":"INDEX(SUPP_2c!C$3:C$198,MATCH((CONCATENATE($C$5,$AE10)),SUPP_2c!$P$3:$P$198,0))","v":6.3},{"$f":"INDEX(SUPP_2c!D$3:D$198,MATCH((CONCATENATE($C$5,$AE10)),SUPP_2c!$P$3:$P$198,0))","v":20.8},{"$f":"INDEX(SUPP_2c!E$3:E$198,MATCH((CONCATENATE($C$5,$AE10)),SUPP_2c!$P$3:$P$198,0))","v":27.3},{"$f":"INDEX(SUPP_2c!F$3:F$198,MATCH((CONCATENATE($C$5,$AE10)),SUPP_2c!$P$3:$P$198,0))","v":20.7},{"$f":"INDEX(SUPP_2c!G$3:G$198,MATCH((CONCATENATE($C$5,$AE10)),SUPP_2c!$P$3:$P$198,0))","v":14.2},{"$f":"INDEX(SUPP_2c!H$3:H$198,MATCH((CONCATENATE($C$5,$AE10)),SUPP_2c!$P$3:$P$198,0))","v":8.6999999999999993},{"$f":"INDEX(SUPP_2c!I$3:I$198,MATCH((CONCATENATE($C$5,$AE10)),SUPP_2c!$P$3:$P$198,0))","v":2},{"$f":"INDEX(SUPP_2c!J$3:J$198,MATCH((CONCATENATE($C$5,$AE10)),SUPP_2c!$P$3:$P$198,0))","v":27.1},{"$f":"INDEX(SUPP_2c!K$3:K$198,MATCH((CONCATENATE($C$5,$AE10)),SUPP_2c!$P$3:$P$198,0))","v":98},{"$f":"INDEX(SUPP_2c!L$3:L$198,MATCH((CONCATENATE($C$5,$AE10)),SUPP_2c!$P$3:$P$198,0))","v":7733},null,null,null,null,null,null,null,null,null,null,null,null,null,null,null,null,null,null,"03_Chemistry"]
["Physics",null,{"$f":"INDEX(SUPP_2c!C$3:C$198,MATCH((CONCATENATE($C$5,$AE11)),SUPP_2c!$P$3:$P$198,0))","v":6.6},{"$f":"INDEX(SUPP_2c!D$3:D$198,MATCH((CONCATENATE($C$5,$AE11)),SUPP_2c!$P$3:$P$198,0))","v":18.8},{"$f":"INDEX(SUPP_2c!E$3:E$198,MATCH((CONCATENATE($C$5,$AE11)),SUPP_2c!$P$3:$P$198,0))","v":23.4},{"$f":"INDEX(SUPP_2c!F$3:F$198,MATCH((CONCATENATE($C$5,$AE11)),SUPP_2c!$P$3:$P$198,0))","v":20},{"$f":"INDEX(SUPP_2c!G$3:G$198,MATCH((CONCATENATE($C$5,$AE11)),SUPP_2c!$P$3:$P$198,0))","v":16.5},{"$f":"INDEX(SUPP_2c!H$3:H$198,MATCH((CONCATENATE($C$5,$AE11)),SUPP_2c!$P$3:$P$198,0))","v":12},{"$f":"INDEX(SUPP_2c!I$3:I$198,MATCH((CONCATENATE($C$5,$AE11)),SUPP_2c!$P$3:$P$198,0))","v":2.7},{"$f":"INDEX(SUPP_2c!J$3:J$198,MATCH((CONCATENATE($C$5,$AE11)),SUPP_2c!$P$3:$P$198,0))","v":25.4},{"$f":"INDEX(SUPP_2c!K$3:K$198,MATCH((CONCATENATE($C$5,$AE11)),SUPP_2c!$P$3:$P$198,0))","v":97.3},{"$f":"INDEX(SUPP_2c!L$3:L$198,MATCH((CONCATENATE($C$5,$AE11)),SUPP_2c!$P$3:$P$198,0))","v":4283},null,null,null,null,null,null,null,null,null,null,null,null,null,null,null,null,null,null,"04_Physics"]
["Other Science",null,{"$f":"INDEX(SUPP_2c!C$3:C$198,MATCH((CONCATENATE($C$5,$AE12)),SUPP_2c!$P$3:$P$198,0))","v":5.4},{"$f":"INDEX(SUPP_2c!D$3:D$198,MATCH((CONCATENATE($C$5,$AE12)),SUPP_2c!$P$3:$P$198,0))","v":16.600000000000001},{"$f":"INDEX(SUPP_2c!E$3:E$198,MATCH((CONCATENATE($C$5,$AE12)),SUPP_2c!$P$3:$P$198,0))","v":26.3},{"$f":"INDEX(SUPP_2c!F$3:F$198,MATCH((CONCATENATE($C$5,$AE12)),SUPP_2c!$P$3:$P$198,0))","v":23.6},{"$f":"INDEX(SUPP_2c!G$3:G$198,MATCH((CONCATENATE($C$5,$AE12)),SUPP_2c!$P$3:$P$198,0))","v":17.2},{"$f":"INDEX(SUPP_2c!H$3:H$198,MATCH((CONCATENATE($C$5,$AE12)),SUPP_2c!$P$3:$P$198,0))","v":9.3000000000000007},{"$f":"INDEX(SUPP_2c!I$3:I$198,MATCH((CONCATENATE($C$5,$AE12)),SUPP_2c!$P$3:$P$198,0))","v":1.6},{"$f":"INDEX(SUPP_2c!J$3:J$198,MATCH((CONCATENATE($C$5,$AE12)),SUPP_2c!$P$3:$P$198,0))","v":22},{"$f":"INDEX(SUPP_2c!K$3:K$198,MATCH((CONCATENATE($C$5,$AE12)),SUPP_2c!$P$3:$P$198,0))","v":98.4},{"$f":"INDEX(SUPP_2c!L$3:L$198,MATCH((CONCATENATE($C$5,$AE12)),SUPP_2c!$P$3:$P$198,0))","v":1528},null,null,null,null,null,null,null,null,null,null,null,null,null,null,null,null,null,null,"05_Other_Sciences"]
[]
["Mathematics",null,{"$f":"IF($C$5=\"Independent school students\",SUPP_2c!D215,IF($C$5=\"State funded school students\",SUPP_2c!D219,IF($C$5=\"All further education college students\",SUPP_2c!D223,IF($C$5=\"Sixth form college students\",SUPP_2c!D227))))","v":14.3},{"$f":"IF($C$5=\"Independent school students\",SUPP_2c!E215,IF($C$5=\"State funded school students\",SUPP_2c!E219,IF($C$5=\"All further education college students\",SUPP_2c!E223,IF($C$5=\"Sixth form college students\",SUPP_2c!E227))))","v":19.7},{"$f":"IF($C$5=\"Independent school students\",SUPP_2c!F215,IF($C$5=\"State funded school students\",SUPP_2c!F219,IF($C$5=\"All further education college students\",SUPP_2c!F223,IF($C$5=\"Sixth form college students\",SUPP_2c!F227))))","v":22.4},{"$f":"IF($C$5=\"Independent school students\",SUPP_2c!G215,IF($C$5=\"State funded school students\",SUPP_2c!G219,IF($C$5=\"All further education college students\",SUPP_2c!G223,IF($C$5=\"Sixth form college students\",SUPP_2c!G227))))","v":19.2},{"$f":"IF($C$5=\"Independent school students\",SUPP_2c!H215,IF($C$5=\"State funded school students\",SUPP_2c!H219,IF($C$5=\"All further education college students\",SUPP_2c!H223,IF($C$5=\"Sixth form college students\",SUPP_2c!H227))))","v":14.6},{"$f":"IF($C$5=\"Independent school students\",SUPP_2c!I215,IF($C$5=\"State funded school students\",SUPP_2c!I219,IF($C$5=\"All further education college students\",SUPP_2c!I223,IF($C$5=\"Sixth form college students\",SUPP_2c!I227))))","v":8.6},{"$f":"IF($C$5=\"Independent school students\",SUPP_2c!J215,IF($C$5=\"State funded school students\",SUPP_2c!J219,IF($C$5=\"All further education college students\",SUPP_2c!J223,IF($C$5=\"Sixth form college students\",SUPP_2c!J227))))","v":1.2},{"$f":"IF($C$5=\"Independent school students\",SUPP_2c!K215,IF($C$5=\"State funded school students\",SUPP_2c!K219,IF($C$5=\"All further education college students\",SUPP_2c!K223,IF($C$5=\"Sixth form college students\",SUPP_2c!K227))))","v":34},{"$f":"IF($C$5=\"Independent school students\",SUPP_2c!L215,IF($C$5=\"State funded school students\",SUPP_2c!L219,IF($C$5=\"All further education college students\",SUPP_2c!L223,IF($C$5=\"Sixth form college students\",SUPP_2c!L227))))","v":98.8},{"$f":"IF($C$5=\"Independent school students\",SUPP_2c!M215,IF($C$5=\"State funded school students\",SUPP_2c!M219,IF($C$5=\"All further education college students\",SUPP_2c!M223,IF($C$5=\"Sixth form college students\",SUPP_2c!M227))))","v":13900}]
["of which: "]
["  Mathematics",null,{"$f":"INDEX(SUPP_2c!C$3:C$198,MATCH((CONCATENATE($C$5,$AE16)),SUPP_2c!$P$3:$P$198,0))","v":16.100000000000001},{"$f":"INDEX(SUPP_2c!D$3:D$198,MATCH((CONCATENATE($C$5,$AE16)),SUPP_2c!$P$3:$P$198,0))","v":21.8},{"$f":"INDEX(SUPP_2c!E$3:E$198,MATCH((CONCATENATE($C$5,$AE16)),SUPP_2c!$P$3:$P$198,0))","v":23.1},{"$f":"INDEX(SUPP_2c!F$3:F$198,MATCH((CONCATENATE($C$5,$AE16)),SUPP_2c!$P$3:$P$198,0))","v":17.8},{"$f":"INDEX(SUPP_2c!G$3:G$198,MATCH((CONCATENATE($C$5,$AE16)),SUPP_2c!$P$3:$P$198,0))","v":12.5},{"$f":"INDEX(SUPP_2c!H$3:H$198,MATCH((CONCATENATE($C$5,$AE16)),SUPP_2c!$P$3:$P$198,0))","v":7.3},{"$f":"INDEX(SUPP_2c!I$3:I$198,MATCH((CONCATENATE($C$5,$AE16)),SUPP_2c!$P$3:$P$198,0))","v":1.3},{"$f":"INDEX(SUPP_2c!J$3:J$198,MATCH((CONCATENATE($C$5,$AE16)),SUPP_2c!$P$3:$P$198,0))","v":38},{"$f":"INDEX(SUPP_2c!K$3:K$198,MATCH((CONCATENATE($C$5,$AE16)),SUPP_2c!$P$3:$P$198,0))","v":98.7},{"$f":"INDEX(SUPP_2c!L$3:L$198,MATCH((CONCATENATE($C$5,$AE16)),SUPP_2c!$P$3:$P$198,0))","v":12110},null,null,null,null,null,null,null,null,null,null,null,null,null,null,null,null,null,null,"07_Mathematics"]
["  Pure Mathematics",null,{"$f":"INDEX(SUPP_2c!C$3:C$198,MATCH((CONCATENATE($C$5,$AE17)),SUPP_2c!$P$3:$P$198,0))","v":"."},{"$f":"INDEX(SUPP_2c!D$3:D$198,MATCH((CONCATENATE($C$5,$AE17)),SUPP_2c!$P$3:$P$198,0))","v":"."},{"$f":"INDEX(SUPP_2c!E$3:E$198,MATCH((CONCATENATE($C$5,$AE17)),SUPP_2c!$P$3:$P$198,0))","v":"."},{"$f":"INDEX(SUPP_2c!F$3:F$198,MATCH((CONCATENATE($C$5,$AE17)),SUPP_2c!$P$3:$P$198,0))","v":"."},{"$f":"INDEX(SUPP_2c!G$3:G$198,MATCH((CONCATENATE($C$5,$AE17)),SUPP_2c!$P$3:$P$198,0))","v":"."},{"$f":"INDEX(SUPP_2c!H$3:H$198,MATCH((CONCATENATE($C$5,$AE17)),SUPP_2c!$P$3:$P$198,0))","v":"."},{"$f":"INDEX(SUPP_2c!I$3:I$198,MATCH((CONCATENATE($C$5,$AE17)),SUPP_2c!$P$3:$P$198,0))","v":"."},{"$f":"INDEX(SUPP_2c!J$3:J$198,MATCH((CONCATENATE($C$5,$AE17)),SUPP_2c!$P$3:$P$198,0))","v":"."},{"$f":"INDEX(SUPP_2c!K$3:K$198,MATCH((CONCATENATE($C$5,$AE17)),SUPP_2c!$P$3:$P$198,0))","v":"."},{"$f":"INDEX(SUPP_2c!L$3:L$198,MATCH((CONCATENATE($C$5,$AE17)),SUPP_2c!$P$3:$P$198,0))","v":"."},null,null,null,null,null,null,null,null,null,null,null,null,null,null,null,null,null,null,"08_Pure Mathematics"]
["  Statistics",null,{"$f":"INDEX(SUPP_2c!C$3:C$198,MATCH((CONCATENATE($C$5,$AE18)),SUPP_2c!$P$3:$P$198,0))","v":0.8},{"$f":"INDEX(SUPP_2c!D$3:D$198,MATCH((CONCATENATE($C$5,$AE18)),SUPP_2c!$P$3:$P$198,0))","v":7.5},{"$f":"INDEX(SUPP_2c!E$3:E$198,MATCH((CONCATENATE($C$5,$AE18)),SUPP_2c!$P$3:$P$198,0))","v":20.8},{"$f":"INDEX(SUPP_2c!F$3:F$198,MATCH((CONCATENATE($C$5,$AE18)),SUPP_2c!$P$3:$P$198,0))","v":30},{"$f":"INDEX(SUPP_2c!G$3:G$198,MATCH((CONCATENATE($C$5,$AE18)),SUPP_2c!$P$3:$P$198,0))","v":24.9},{"$f":"INDEX(SUPP_2c!H$3:H$198,MATCH((CONCATENATE($C$5,$AE18)),SUPP_2c!$P$3:$P$198,0))","v":13.4},{"$f":"INDEX(SUPP_2c!I$3:I$198,MATCH((CONCATENATE($C$5,$AE18)),SUPP_2c!$P$3:$P$198,0))","v":2.5},{"$f":"INDEX(SUPP_2c!J$3:J$198,MATCH((CONCATENATE($C$5,$AE18)),SUPP_2c!$P$3:$P$198,0))","v":8.4},{"$f":"INDEX(SUPP_2c!K$3:K$198,MATCH((CONCATENATE($C$5,$AE18)),SUPP_2c!$P$3:$P$198,0))","v":97.5},{"$f":"INDEX(SUPP_2c!L$3:L$198,MATCH((CONCATENATE($C$5,$AE18)),SUPP_2c!$P$3:$P$198,0))","v":477},null,null,null,null,null,null,null,null,null,null,null,null,null,null,null,null,null,null,"09_Statistics"]
["  Use of Mathematics",null,{"$f":"INDEX(SUPP_2c!C$3:C$198,MATCH((CONCATENATE($C$5,$AE19)),SUPP_2c!$P$3:$P$198,0))","v":1.6},{"$f":"INDEX(SUPP_2c!D$3:D$198,MATCH((CONCATENATE($C$5,$AE19)),SUPP_2c!$P$3:$P$198,0))","v":4.4000000000000004},{"$f":"INDEX(SUPP_2c!E$3:E$198,MATCH((CONCATENATE($C$5,$AE19)),SUPP_2c!$P$3:$P$198,0))","v":16.7},{"$f":"INDEX(SUPP_2c!F$3:F$198,MATCH((CONCATENATE($C$5,$AE19)),SUPP_2c!$P$3:$P$198,0))","v":28.2},{"$f":"INDEX(SUPP_2c!G$3:G$198,MATCH((CONCATENATE($C$5,$AE19)),SUPP_2c!$P$3:$P$198,0))","v":30.5},{"$f":"INDEX(SUPP_2c!H$3:H$198,MATCH((CONCATENATE($C$5,$AE19)),SUPP_2c!$P$3:$P$198,0))","v":"x"},{"$f":"INDEX(SUPP_2c!I$3:I$198,MATCH((CONCATENATE($C$5,$AE19)),SUPP_2c!$P$3:$P$198,0))","v":"x"},{"$f":"INDEX(SUPP_2c!J$3:J$198,MATCH((CONCATENATE($C$5,$AE19)),SUPP_2c!$P$3:$P$198,0))","v":6},{"$f":"INDEX(SUPP_2c!K$3:K$198,MATCH((CONCATENATE($C$5,$AE19)),SUPP_2c!$P$3:$P$198,0))","v":"x"},{"$f":"INDEX(SUPP_2c!L$3:L$198,MATCH((CONCATENATE($C$5,$AE19)),SUPP_2c!$P$3:$P$198,0))","v":1307},null,null,null,null,null,null,null,null,null,null,null,null,null,null,null,null,null,null,"10_Use of Mathematics"]
["  Other Mathematics",null,{"$f":"INDEX(SUPP_2c!C$3:C$198,MATCH((CONCATENATE($C$5,$AE20)),SUPP_2c!$P$3:$P$198,0))","v":"x"},{"$f":"INDEX(SUPP_2c!D$3:D$198,MATCH((CONCATENATE($C$5,$AE20)),SUPP_2c!$P$3:$P$198,0))","v":"x"},{"$f":"INDEX(SUPP_2c!E$3:E$198,MATCH((CONCATENATE($C$5,$AE20)),SUPP_2c!$P$3:$P$198,0))","v":0},{"$f":"INDEX(SUPP_2c!F$3:F$198,MATCH((CONCATENATE($C$5,$AE20)),SUPP_2c!$P$3:$P$198,0))","v":0},{"$f":"INDEX(SUPP_2c!G$3:G$198,MATCH((CONCATENATE($C$5,$AE20)),SUPP_2c!$P$3:$P$198,0))","v":0},{"$f":"INDEX(SUPP_2c!H$3:H$198,MATCH((CONCATENATE($C$5,$AE20)),SUPP_2c!$P$3:$P$198,0))","v":"x"},{"$f":"INDEX(SUPP_2c!I$3:I$198,MATCH((CONCATENATE($C$5,$AE20)),SUPP_2c!$P$3:$P$198,0))","v":0},{"$f":"INDEX(SUPP_2c!J$3:J$198,MATCH((CONCATENATE($C$5,$AE20)),SUPP_2c!$P$3:$P$198,0))","v":83.3},{"$f":"INDEX(SUPP_2c!K$3:K$198,MATCH((CONCATENATE($C$5,$AE20)),SUPP_2c!$P$3:$P$198,0))","v":100},{"$f":"INDEX(SUPP_2c!L$3:L$198,MATCH((CONCATENATE($C$5,$AE20)),SUPP_2c!$P$3:$P$198,0))","v":6},null,null,null,null,null,null,null,null,null,null,null,null,null,null,null,null,null,null,"06_Mathematics_other"]
[]
["Further Mathematics",null,{"$f":"INDEX(SUPP_2c!C$3:C$198,MATCH((CONCATENATE($C$5,$AE22)),SUPP_2c!$P$3:$P$198,0))","v":23.1},{"$f":"INDEX(SUPP_2c!D$3:D$198,MATCH((CONCATENATE($C$5,$AE22)),SUPP_2c!$P$3:$P$198,0))","v":28.7},{"$f":"INDEX(SUPP_2c!E$3:E$198,MATCH((CONCATENATE($C$5,$AE22)),SUPP_2c!$P$3:$P$198,0))","v":23.6},{"$f":"INDEX(SUPP_2c!F$3:F$198,MATCH((CONCATENATE($C$5,$AE22)),SUPP_2c!$P$3:$P$198,0))","v":12.2},{"$f":"INDEX(SUPP_2c!G$3:G$198,MATCH((CONCATENATE($C$5,$AE22)),SUPP_2c!$P$3:$P$198,0))","v":8},{"$f":"INDEX(SUPP_2c!H$3:H$198,MATCH((CONCATENATE($C$5,$AE22)),SUPP_2c!$P$3:$P$198,0))","v":3.8},{"$f":"INDEX(SUPP_2c!I$3:I$198,MATCH((CONCATENATE($C$5,$AE22)),SUPP_2c!$P$3:$P$198,0))","v":0.6},{"$f":"INDEX(SUPP_2c!J$3:J$198,MATCH((CONCATENATE($C$5,$AE22)),SUPP_2c!$P$3:$P$198,0))","v":51.9},{"$f":"INDEX(SUPP_2c!K$3:K$198,MATCH((CONCATENATE($C$5,$AE22)),SUPP_2c!$P$3:$P$198,0))","v":99.4},{"$f":"INDEX(SUPP_2c!L$3:L$198,MATCH((CONCATENATE($C$5,$AE22)),SUPP_2c!$P$3:$P$198,0))","v":1832},null,null,null,null,null,null,null,null,null,null,null,null,null,null,null,null,null,null,"11_Further Mathematics"]
[]
["English",null,{"$f":"IF($C$5=\"Independent school students\",SUPP_2c!D216,IF($C$5=\"State funded school students\",SUPP_2c!D220,IF($C$5=\"All further education college students\",SUPP_2c!D224,IF($C$5=\"Sixth form college students\",SUPP_2c!D228))))","v":3.7},{"$f":"IF($C$5=\"Independent school students\",SUPP_2c!E216,IF($C$5=\"State funded school students\",SUPP_2c!E220,IF($C$5=\"All further education college students\",SUPP_2c!E224,IF($C$5=\"Sixth form college students\",SUPP_2c!E228))))","v":12},{"$f":"IF($C$5=\"Independent school students\",SUPP_2c!F216,IF($C$5=\"State funded school students\",SUPP_2c!F220,IF($C$5=\"All further education college students\",SUPP_2c!F224,IF($C$5=\"Sixth form college students\",SUPP_2c!F228))))","v":29},{"$f":"IF($C$5=\"Independent school students\",SUPP_2c!G216,IF($C$5=\"State funded school students\",SUPP_2c!G220,IF($C$5=\"All further education college students\",SUPP_2c!G224,IF($C$5=\"Sixth form college students\",SUPP_2c!G228))))","v":33.4},{"$f":"IF($C$5=\"Independent school students\",SUPP_2c!H216,IF($C$5=\"State funded school students\",SUPP_2c!H220,IF($C$5=\"All further education college students\",SUPP_2c!H224,IF($C$5=\"Sixth form college students\",SUPP_2c!H228))))","v":17.899999999999999},{"$f":"IF($C$5=\"Independent school students\",SUPP_2c!I216,IF($C$5=\"State funded school students\",SUPP_2c!I220,IF($C$5=\"All further education college students\",SUPP_2c!I224,IF($C$5=\"Sixth form college students\",SUPP_2c!I228))))","v":3.5},{"$f":"IF($C$5=\"Independent school students\",SUPP_2c!J216,IF($C$5=\"State funded school students\",SUPP_2c!J220,IF($C$5=\"All further education college students\",SUPP_2c!J224,IF($C$5=\"Sixth form college students\",SUPP_2c!J228))))","v":0.5},{"$f":"IF($C$5=\"Independent school students\",SUPP_2c!K216,IF($C$5=\"State funded school students\",SUPP_2c!K220,IF($C$5=\"All further education college students\",SUPP_2c!K224,IF($C$5=\"Sixth form college students\",SUPP_2c!K228))))","v":15.7},{"$f":"IF($C$5=\"Independent school students\",SUPP_2c!L216,IF($C$5=\"State funded school students\",SUPP_2c!L220,IF($C$5=\"All further education college students\",SUPP_2c!L224,IF($C$5=\"Sixth form college students\",SUPP_2c!L228))))","v":99.5},{"$f":"IF($C$5=\"Independent school students\",SUPP_2c!M216,IF($C$5=\"State funded school students\",SUPP_2c!M220,IF($C$5=\"All further education college students\",SUPP_2c!M224,IF($C$5=\"Sixth form college students\",SUPP_2c!M228))))","v":15746}]
["of which:"]
["  English literature",null,{"$f":"INDEX(SUPP_2c!C$3:C$198,MATCH((CONCATENATE($C$5,$AE26)),SUPP_2c!$P$3:$P$198,0))","v":6.1},{"$f":"INDEX(SUPP_2c!D$3:D$198,MATCH((CONCATENATE($C$5,$AE26)),SUPP_2c!$P$3:$P$198,0))","v":15.3},{"$f":"INDEX(SUPP_2c!E$3:E$198,MATCH((CONCATENATE($C$5,$AE26)),SUPP_2c!$P$3:$P$198,0))","v":29.7},{"$f":"INDEX(SUPP_2c!F$3:F$198,MATCH((CONCATENATE($C$5,$AE26)),SUPP_2c!$P$3:$P$198,0))","v":29.1},{"$f":"INDEX(SUPP_2c!G$3:G$198,MATCH((CONCATENATE($C$5,$AE26)),SUPP_2c!$P$3:$P$198,0))","v":15.8},{"$f":"INDEX(SUPP_2c!H$3:H$198,MATCH((CONCATENATE($C$5,$AE26)),SUPP_2c!$P$3:$P$198,0))","v":3.4},{"$f":"INDEX(SUPP_2c!I$3:I$198,MATCH((CONCATENATE($C$5,$AE26)),SUPP_2c!$P$3:$P$198,0))","v":0.5},{"$f":"INDEX(SUPP_2c!J$3:J$198,MATCH((CONCATENATE($C$5,$AE26)),SUPP_2c!$P$3:$P$198,0))","v":21.4},{"$f":"INDEX(SUPP_2c!K$3:K$198,MATCH((CONCATENATE($C$5,$AE26)),SUPP_2c!$P$3:$P$198,0))","v":99.5},{"$f":"INDEX(SUPP_2c!L$3:L$198,MATCH((CONCATENATE($C$5,$AE26)),SUPP_2c!$P$3:$P$198,0))","v":6762},null,null,null,null,null,null,null,null,null,null,null,null,null,null,null,null,null,null,"12_English_Literature"]
["  English language",null,{"$f":"INDEX(SUPP_2c!C$3:C$198,MATCH((CONCATENATE($C$5,$AE27)),SUPP_2c!$P$3:$P$198,0))","v":1.2},{"$f":"INDEX(SUPP_2c!D$3:D$198,MATCH((CONCATENATE($C$5,$AE27)),SUPP_2c!$P$3:$P$198,0))","v":8.5},{"$f":"INDEX(SUPP_2c!E$3:E$198,MATCH((CONCATENATE($C$5,$AE27)),SUPP_2c!$P$3:$P$198,0))","v":28},{"$f":"INDEX(SUPP_2c!F$3:F$198,MATCH((CONCATENATE($C$5,$AE27)),SUPP_2c!$P$3:$P$198,0))","v":38},{"$f":"INDEX(SUPP_2c!G$3:G$198,MATCH((CONCATENATE($C$5,$AE27)),SUPP_2c!$P$3:$P$198,0))","v":20.2},{"$f":"INDEX(SUPP_2c!H$3:H$198,MATCH((CONCATENATE($C$5,$AE27)),SUPP_2c!$P$3:$P$198,0))","v":3.6},{"$f":"INDEX(SUPP_2c!I$3:I$198,MATCH((CONCATENATE($C$5,$AE27)),SUPP_2c!$P$3:$P$198,0))","v":0.5},{"$f":"INDEX(SUPP_2c!J$3:J$198,MATCH((CONCATENATE($C$5,$AE27)),SUPP_2c!$P$3:$P$198,0))","v":9.6999999999999993},{"$f":"INDEX(SUPP_2c!K$3:K$198,MATCH((CONCATENATE($C$5,$AE27)),SUPP_2c!$P$3:$P$198,0))","v":99.5},{"$f":"INDEX(SUPP_2c!L$3:L$198,MATCH((CONCATENATE($C$5,$AE27)),SUPP_2c!$P$3:$P$198,0))","v":5799},null,null,null,null,null,null,null,null,null,null,null,null,null,null,null,null,null,null,"13_English Language"]
["  English language and literature",null,{"$f":"INDEX(SUPP_2c!C$3:C$198,MATCH((CONCATENATE($C$5,$AE28)),SUPP_2c!$P$3:$P$198,0))","v":3},{"$f":"INDEX(SUPP_2c!D$3:D$198,MATCH((CONCATENATE($C$5,$AE28)),SUPP_2c!$P$3:$P$198,0))","v":11.5},{"$f":"INDEX(SUPP_2c!E$3:E$198,MATCH((CONCATENATE($C$5,$AE28)),SUPP_2c!$P$3:$P$198,0))","v":29.3},{"$f":"INDEX(SUPP_2c!F$3:F$198,MATCH((CONCATENATE($C$5,$AE28)),SUPP_2c!$P$3:$P$198,0))","v":34.299999999999997},{"$f":"INDEX(SUPP_2c!G$3:G$198,MATCH((CONCATENATE($C$5,$AE28)),SUPP_2c!$P$3:$P$198,0))","v":17.899999999999999},{"$f":"INDEX(SUPP_2c!H$3:H$198,MATCH((CONCATENATE($C$5,$AE28)),SUPP_2c!$P$3:$P$198,0))","v":3.5},{"$f":"INDEX(SUPP_2c!I$3:I$198,MATCH((CONCATENATE($C$5,$AE28)),SUPP_2c!$P$3:$P$198,0))","v":0.5},{"$f":"INDEX(SUPP_2c!J$3:J$198,MATCH((CONCATENATE($C$5,$AE28)),SUPP_2c!$P$3:$P$198,0))","v":14.5},{"$f":"INDEX(SUPP_2c!K$3:K$198,MATCH((CONCATENATE($C$5,$AE28)),SUPP_2c!$P$3:$P$198,0))","v":99.5},{"$f":"INDEX(SUPP_2c!L$3:L$198,MATCH((CONCATENATE($C$5,$AE28)),SUPP_2c!$P$3:$P$198,0))","v":3185},null,null,null,null,null,null,null,null,null,null,null,null,null,null,null,null,null,null,"14_English_Language&Literature"]
[]
["Design and Technology",null,{"$f":"INDEX(SUPP_2c!C$3:C$198,MATCH((CONCATENATE($C$5,$AE30)),SUPP_2c!$P$3:$P$198,0))","v":4},{"$f":"INDEX(SUPP_2c!D$3:D$198,MATCH((CONCATENATE($C$5,$AE30)),SUPP_2c!$P$3:$P$198,0))","v":10.3},{"$f":"INDEX(SUPP_2c!E$3:E$198,MATCH((CONCATENATE($C$5,$AE30)),SUPP_2c!$P$3:$P$198,0))","v":20.3},{"$f":"INDEX(SUPP_2c!F$3:F$198,MATCH((CONCATENATE($C$5,$AE30)),SUPP_2c!$P$3:$P$198,0))","v":27.5},{"$f":"INDEX(SUPP_2c!G$3:G$198,MATCH((CONCATENATE($C$5,$AE30)),SUPP_2c!$P$3:$P$198,0))","v":24},{"$f":"INDEX(SUPP_2c!H$3:H$198,MATCH((CONCATENATE($C$5,$AE30)),SUPP_2c!$P$3:$P$198,0))","v":12.2},{"$f":"INDEX(SUPP_2c!I$3:I$198,MATCH((CONCATENATE($C$5,$AE30)),SUPP_2c!$P$3:$P$198,0))","v":1.7},{"$f":"INDEX(SUPP_2c!J$3:J$198,MATCH((CONCATENATE($C$5,$AE30)),SUPP_2c!$P$3:$P$198,0))","v":14.3},{"$f":"INDEX(SUPP_2c!K$3:K$198,MATCH((CONCATENATE($C$5,$AE30)),SUPP_2c!$P$3:$P$198,0))","v":98.3},{"$f":"INDEX(SUPP_2c!L$3:L$198,MATCH((CONCATENATE($C$5,$AE30)),SUPP_2c!$P$3:$P$198,0))","v":699},null,null,null,null,null,null,null,null,null,null,null,null,null,null,null,null,null,null,"15_Design&Technology"]
["Computer Science",null,{"$f":"INDEX(SUPP_2c!C$3:C$198,MATCH((CONCATENATE($C$5,$AE31)),SUPP_2c!$P$3:$P$198,0))","v":3.5},{"$f":"INDEX(SUPP_2c!D$3:D$198,MATCH((CONCATENATE($C$5,$AE31)),SUPP_2c!$P$3:$P$198,0))","v":12.7},{"$f":"INDEX(SUPP_2c!E$3:E$198,MATCH((CONCATENATE($C$5,$AE31)),SUPP_2c!$P$3:$P$198,0))","v":23},{"$f":"INDEX(SUPP_2c!F$3:F$198,MATCH((CONCATENATE($C$5,$AE31)),SUPP_2c!$P$3:$P$198,0))","v":22.9},{"$f":"INDEX(SUPP_2c!G$3:G$198,MATCH((CONCATENATE($C$5,$AE31)),SUPP_2c!$P$3:$P$198,0))","v":21.5},{"$f":"INDEX(SUPP_2c!H$3:H$198,MATCH((CONCATENATE($C$5,$AE31)),SUPP_2c!$P$3:$P$198,0))","v":13.4},{"$f":"INDEX(SUPP_2c!I$3:I$198,MATCH((CONCATENATE($C$5,$AE31)),SUPP_2c!$P$3:$P$198,0))","v":3},{"$f":"INDEX(SUPP_2c!J$3:J$198,MATCH((CONCATENATE($C$5,$AE31)),SUPP_2c!$P$3:$P$198,0))","v":16.2},{"$f":"INDEX(SUPP_2c!K$3:K$198,MATCH((CONCATENATE($C$5,$AE31)),SUPP_2c!$P$3:$P$198,0))","v":97},{"$f":"INDEX(SUPP_2c!L$3:L$198,MATCH((CONCATENATE($C$5,$AE31)),SUPP_2c!$P$3:$P$198,0))","v":1452},null,null,null,null,null,null,null,null,null,null,null,null,null,null,null,null,null,null,"16_Computing"]
["ICT4",null,{"$f":"INDEX(SUPP_2c!C$3:C$198,MATCH((CONCATENATE($C$5,$AE32)),SUPP_2c!$P$3:$P$198,0))","v":0.7},{"$f":"INDEX(SUPP_2c!D$3:D$198,MATCH((CONCATENATE($C$5,$AE32)),SUPP_2c!$P$3:$P$198,0))","v":7.4},{"$f":"INDEX(SUPP_2c!E$3:E$198,MATCH((CONCATENATE($C$5,$AE32)),SUPP_2c!$P$3:$P$198,0))","v":20},{"$f":"INDEX(SUPP_2c!F$3:F$198,MATCH((CONCATENATE($C$5,$AE32)),SUPP_2c!$P$3:$P$198,0))","v":29.9},{"$f":"INDEX(SUPP_2c!G$3:G$198,MATCH((CONCATENATE($C$5,$AE32)),SUPP_2c!$P$3:$P$198,0))","v":26.3},{"$f":"INDEX(SUPP_2c!H$3:H$198,MATCH((CONCATENATE($C$5,$AE32)),SUPP_2c!$P$3:$P$198,0))","v":13.6},{"$f":"INDEX(SUPP_2c!I$3:I$198,MATCH((CONCATENATE($C$5,$AE32)),SUPP_2c!$P$3:$P$198,0))","v":2.1},{"$f":"INDEX(SUPP_2c!J$3:J$198,MATCH((CONCATENATE($C$5,$AE32)),SUPP_2c!$P$3:$P$198,0))","v":8.1},{"$f":"INDEX(SUPP_2c!K$3:K$198,MATCH((CONCATENATE($C$5,$AE32)),SUPP_2c!$P$3:$P$198,0))","v":97.9},{"$f":"INDEX(SUPP_2c!L$3:L$198,MATCH((CONCATENATE($C$5,$AE32)),SUPP_2c!$P$3:$P$198,0))","v":1428},null,null,null,null,null,null,null,null,null,null,null,null,null,null,null,null,null,null,"17_ICT"]
[]
["Home Economics",null,{"$f":"INDEX(SUPP_2c!C$3:C$198,MATCH((CONCATENATE($C$5,$AE34)),SUPP_2c!$P$3:$P$198,0))","v":0},{"$f":"INDEX(SUPP_2c!D$3:D$198,MATCH((CONCATENATE($C$5,$AE34)),SUPP_2c!$P$3:$P$198,0))","v":"x"},{"$f":"INDEX(SUPP_2c!E$3:E$198,MATCH((CONCATENATE($C$5,$AE34)),SUPP_2c!$P$3:$P$198,0))","v":30.8},{"$f":"INDEX(SUPP_2c!F$3:F$198,MATCH((CONCATENATE($C$5,$AE34)),SUPP_2c!$P$3:$P$198,0))","v":23.1},{"$f":"INDEX(SUPP_2c!G$3:G$198,MATCH((CONCATENATE($C$5,$AE34)),SUPP_2c!$P$3:$P$198,0))","v":38.5},{"$f":"INDEX(SUPP_2c!H$3:H$198,MATCH((CONCATENATE($C$5,$AE34)),SUPP_2c!$P$3:$P$198,0))","v":0},{"$f":"INDEX(SUPP_2c!I$3:I$198,MATCH((CONCATENATE($C$5,$AE34)),SUPP_2c!$P$3:$P$198,0))","v":0},{"$f":"INDEX(SUPP_2c!J$3:J$198,MATCH((CONCATENATE($C$5,$AE34)),SUPP_2c!$P$3:$P$198,0))","v":"x"},{"$f":"INDEX(SUPP_2c!K$3:K$198,MATCH((CONCATENATE($C$5,$AE34)),SUPP_2c!$P$3:$P$198,0))","v":100},{"$f":"INDEX(SUPP_2c!L$3:L$198,MATCH((CONCATENATE($C$5,$AE34)),SUPP_2c!$P$3:$P$198,0))","v":13},null,null,null,null,null,null,null,null,null,null,null,null,null,null,null,null,null,null,"18_Home Economics"]
[]
["Accounting and Finance",null,{"$f":"INDEX(SUPP_2c!C$3:C$198,MATCH((CONCATENATE($C$5,$AE36)),SUPP_2c!$P$3:$P$198,0))","v":2},{"$f":"INDEX(SUPP_2c!D$3:D$198,MATCH((CONCATENATE($C$5,$AE36)),SUPP_2c!$P$3:$P$198,0))","v":12},{"$f":"INDEX(SUPP_2c!E$3:E$198,MATCH((CONCATENATE($C$5,$AE36)),SUPP_2c!$P$3:$P$198,0))","v":25.2},{"$f":"INDEX(SUPP_2c!F$3:F$198,MATCH((CONCATENATE($C$5,$AE36)),SUPP_2c!$P$3:$P$198,0))","v":26.6},{"$f":"INDEX(SUPP_2c!G$3:G$198,MATCH((CONCATENATE($C$5,$AE36)),SUPP_2c!$P$3:$P$198,0))","v":19.399999999999999},{"$f":"INDEX(SUPP_2c!H$3:H$198,MATCH((CONCATENATE($C$5,$AE36)),SUPP_2c!$P$3:$P$198,0))","v":10.9},{"$f":"INDEX(SUPP_2c!I$3:I$198,MATCH((CONCATENATE($C$5,$AE36)),SUPP_2c!$P$3:$P$198,0))","v":3.8},{"$f":"INDEX(SUPP_2c!J$3:J$198,MATCH((CONCATENATE($C$5,$AE36)),SUPP_2c!$P$3:$P$198,0))","v":14},{"$f":"INDEX(SUPP_2c!K$3:K$198,MATCH((CONCATENATE($C$5,$AE36)),SUPP_2c!$P$3:$P$198,0))","v":96.2},{"$f":"INDEX(SUPP_2c!L$3:L$198,MATCH((CONCATENATE($C$5,$AE36)),SUPP_2c!$P$3:$P$198,0))","v":1092},null,null,null,null,null,null,null,null,null,null,null,null,null,null,null,null,null,null,"19_Account&Finance"]
["Business Studies",null,{"$f":"INDEX(SUPP_2c!C$3:C$198,MATCH((CONCATENATE($C$5,$AE37)),SUPP_2c!$P$3:$P$198,0))","v":2.8},{"$f":"INDEX(SUPP_2c!D$3:D$198,MATCH((CONCATENATE($C$5,$AE37)),SUPP_2c!$P$3:$P$198,0))","v":10},{"$f":"INDEX(SUPP_2c!E$3:E$198,MATCH((CONCATENATE($C$5,$AE37)),SUPP_2c!$P$3:$P$198,0))","v":27.1},{"$f":"INDEX(SUPP_2c!F$3:F$198,MATCH((CONCATENATE($C$5,$AE37)),SUPP_2c!$P$3:$P$198,0))","v":31.7},{"$f":"INDEX(SUPP_2c!G$3:G$198,MATCH((CONCATENATE($C$5,$AE37)),SUPP_2c!$P$3:$P$198,0))","v":19.100000000000001},{"$f":"INDEX(SUPP_2c!H$3:H$198,MATCH((CONCATENATE($C$5,$AE37)),SUPP_2c!$P$3:$P$198,0))","v":7.6},{"$f":"INDEX(SUPP_2c!I$3:I$198,MATCH((CONCATENATE($C$5,$AE37)),SUPP_2c!$P$3:$P$198,0))","v":1.6},{"$f":"INDEX(SUPP_2c!J$3:J$198,MATCH((CONCATENATE($C$5,$AE37)),SUPP_2c!$P$3:$P$198,0))","v":12.9},{"$f":"INDEX(SUPP_2c!K$3:K$198,MATCH((CONCATENATE($C$5,$AE37)),SUPP_2c!$P$3:$P$198,0))","v":98.4},{"$f":"INDEX(SUPP_2c!L$3:L$198,MATCH((CONCATENATE($C$5,$AE37)),SUPP_2c!$P$3:$P$198,0))","v":5580},null,null,null,null,null,null,null,null,null,null,null,null,null,null,null,null,null,null,"20_Business_Studies"]
["Economics",null,{"$f":"INDEX(SUPP_2c!C$3:C$198,MATCH((CONCATENATE($C$5,$AE38)),SUPP_2c!$P$3:$P$198,0))","v":4.8},{"$f":"INDEX(SUPP_2c!D$3:D$198,MATCH((CONCATENATE($C$5,$AE38)),SUPP_2c!$P$3:$P$198,0))","v":17.5},{"$f":"INDEX(SUPP_2c!E$3:E$198,MATCH((CONCATENATE($C$5,$AE38)),SUPP_2c!$P$3:$P$198,0))","v":30.6},{"$f":"INDEX(SUPP_2c!F$3:F$198,MATCH((CONCATENATE($C$5,$AE38)),SUPP_2c!$P$3:$P$198,0))","v":24.5},{"$f":"INDEX(SUPP_2c!G$3:G$198,MATCH((CONCATENATE($C$5,$AE38)),SUPP_2c!$P$3:$P$198,0))","v":14.5},{"$f":"INDEX(SUPP_2c!H$3:H$198,MATCH((CONCATENATE($C$5,$AE38)),SUPP_2c!$P$3:$P$198,0))","v":6.8},{"$f":"INDEX(SUPP_2c!I$3:I$198,MATCH((CONCATENATE($C$5,$AE38)),SUPP_2c!$P$3:$P$198,0))","v":1.3},{"$f":"INDEX(SUPP_2c!J$3:J$198,MATCH((CONCATENATE($C$5,$AE38)),SUPP_2c!$P$3:$P$198,0))","v":22.3},{"$f":"INDEX(SUPP_2c!K$3:K$198,MATCH((CONCATENATE($C$5,$AE38)),SUPP_2c!$P$3:$P$198,0))","v":98.7},{"$f":"INDEX(SUPP_2c!L$3:L$198,MATCH((CONCATENATE($C$5,$AE38)),SUPP_2c!$P$3:$P$198,0))","v":4219},null,null,null,null,null,null,null,null,null,null,null,null,null,null,null,null,null,null,"21_Economics"]
["Geography",null,{"$f":"INDEX(SUPP_2c!C$3:C$198,MATCH((CONCATENATE($C$5,$AE39)),SUPP_2c!$P$3:$P$198,0))","v":5},{"$f":"INDEX(SUPP_2c!D$3:D$198,MATCH((CONCATENATE($C$5,$AE39)),SUPP_2c!$P$3:$P$198,0))","v":18.100000000000001},{"$f":"INDEX(SUPP_2c!E$3:E$198,MATCH((CONCATENATE($C$5,$AE39)),SUPP_2c!$P$3:$P$198,0))","v":29.4},{"$f":"INDEX(SUPP_2c!F$3:F$198,MATCH((CONCATENATE($C$5,$AE39)),SUPP_2c!$P$3:$P$198,0))","v":26},{"$f":"INDEX(SUPP_2c!G$3:G$198,MATCH((CONCATENATE($C$5,$AE39)),SUPP_2c!$P$3:$P$198,0))","v":15.4},{"$f":"INDEX(SUPP_2c!H$3:H$198,MATCH((CONCATENATE($C$5,$AE39)),SUPP_2c!$P$3:$P$198,0))","v":5},{"$f":"INDEX(SUPP_2c!I$3:I$198,MATCH((CONCATENATE($C$5,$AE39)),SUPP_2c!$P$3:$P$198,0))","v":0.9},{"$f":"INDEX(SUPP_2c!J$3:J$198,MATCH((CONCATENATE($C$5,$AE39)),SUPP_2c!$P$3:$P$198,0))","v":23.1},{"$f":"INDEX(SUPP_2c!K$3:K$198,MATCH((CONCATENATE($C$5,$AE39)),SUPP_2c!$P$3:$P$198,0))","v":99.1},{"$f":"INDEX(SUPP_2c!L$3:L$198,MATCH((CONCATENATE($C$5,$AE39)),SUPP_2c!$P$3:$P$198,0))","v":4630},null,null,null,null,null,null,null,null,null,null,null,null,null,null,null,null,null,null,"22_Geography"]
["Government and Politics",null,{"$f":"INDEX(SUPP_2c!C$3:C$198,MATCH((CONCATENATE($C$5,$AE40)),SUPP_2c!$P$3:$P$198,0))","v":5.8},{"$f":"INDEX(SUPP_2c!D$3:D$198,MATCH((CONCATENATE($C$5,$AE40)),SUPP_2c!$P$3:$P$198,0))","v":17.100000000000001},{"$f":"INDEX(SUPP_2c!E$3:E$198,MATCH((CONCATENATE($C$5,$AE40)),SUPP_2c!$P$3:$P$198,0))","v":27.6},{"$f":"INDEX(SUPP_2c!F$3:F$198,MATCH((CONCATENATE($C$5,$AE40)),SUPP_2c!$P$3:$P$198,0))","v":25},{"$f":"INDEX(SUPP_2c!G$3:G$198,MATCH((CONCATENATE($C$5,$AE40)),SUPP_2c!$P$3:$P$198,0))","v":15.3},{"$f":"INDEX(SUPP_2c!H$3:H$198,MATCH((CONCATENATE($C$5,$AE40)),SUPP_2c!$P$3:$P$198,0))","v":7.5},{"$f":"INDEX(SUPP_2c!I$3:I$198,MATCH((CONCATENATE($C$5,$AE40)),SUPP_2c!$P$3:$P$198,0))","v":1.6},{"$f":"INDEX(SUPP_2c!J$3:J$198,MATCH((CONCATENATE($C$5,$AE40)),SUPP_2c!$P$3:$P$198,0))","v":22.9},{"$f":"INDEX(SUPP_2c!K$3:K$198,MATCH((CONCATENATE($C$5,$AE40)),SUPP_2c!$P$3:$P$198,0))","v":98.4},{"$f":"INDEX(SUPP_2c!L$3:L$198,MATCH((CONCATENATE($C$5,$AE40)),SUPP_2c!$P$3:$P$198,0))","v":2457},null,null,null,null,null,null,null,null,null,null,null,null,null,null,null,null,null,null,"23_Government&Politics"]
["History",null,{"$f":"INDEX(SUPP_2c!C$3:C$198,MATCH((CONCATENATE($C$5,$AE41)),SUPP_2c!$P$3:$P$198,0))","v":3.7},{"$f":"INDEX(SUPP_2c!D$3:D$198,MATCH((CONCATENATE($C$5,$AE41)),SUPP_2c!$P$3:$P$198,0))","v":15.7},{"$f":"INDEX(SUPP_2c!E$3:E$198,MATCH((CONCATENATE($C$5,$AE41)),SUPP_2c!$P$3:$P$198,0))","v":30.8},{"$f":"INDEX(SUPP_2c!F$3:F$198,MATCH((CONCATENATE($C$5,$AE41)),SUPP_2c!$P$3:$P$198,0))","v":30.1},{"$f":"INDEX(SUPP_2c!G$3:G$198,MATCH((CONCATENATE($C$5,$AE41)),SUPP_2c!$P$3:$P$198,0))","v":15.2},{"$f":"INDEX(SUPP_2c!H$3:H$198,MATCH((CONCATENATE($C$5,$AE41)),SUPP_2c!$P$3:$P$198,0))","v":4.0999999999999996},{"$f":"INDEX(SUPP_2c!I$3:I$198,MATCH((CONCATENATE($C$5,$AE41)),SUPP_2c!$P$3:$P$198,0))","v":0.4},{"$f":"INDEX(SUPP_2c!J$3:J$198,MATCH((CONCATENATE($C$5,$AE41)),SUPP_2c!$P$3:$P$198,0))","v":19.399999999999999},{"$f":"INDEX(SUPP_2c!K$3:K$198,MATCH((CONCATENATE($C$5,$AE41)),SUPP_2c!$P$3:$P$198,0))","v":99.6},{"$f":"INDEX(SUPP_2c!L$3:L$198,MATCH((CONCATENATE($C$5,$AE41)),SUPP_2c!$P$3:$P$198,0))","v":8200},null,null,null,null,null,null,null,null,null,null,null,null,null,null,null,null,null,null,"24_History"]
["Law",null,{"$f":"INDEX(SUPP_2c!C$3:C$198,MATCH((CONCATENATE($C$5,$AE42)),SUPP_2c!$P$3:$P$198,0))","v":6},{"$f":"INDEX(SUPP_2c!D$3:D$198,MATCH((CONCATENATE($C$5,$AE42)),SUPP_2c!$P$3:$P$198,0))","v":16.100000000000001},{"$f":"INDEX(SUPP_2c!E$3:E$198,MATCH((CONCATENATE($C$5,$AE42)),SUPP_2c!$P$3:$P$198,0))","v":27.1},{"$f":"INDEX(SUPP_2c!F$3:F$198,MATCH((CONCATENATE($C$5,$AE42)),SUPP_2c!$P$3:$P$198,0))","v":24.9},{"$f":"INDEX(SUPP_2c!G$3:G$198,MATCH((CONCATENATE($C$5,$AE42)),SUPP_2c!$P$3:$P$198,0))","v":16.899999999999999},{"$f":"INDEX(SUPP_2c!H$3:H$198,MATCH((CONCATENATE($C$5,$AE42)),SUPP_2c!$P$3:$P$198,0))","v":7.4},{"$f":"INDEX(SUPP_2c!I$3:I$198,MATCH((CONCATENATE($C$5,$AE42)),SUPP_2c!$P$3:$P$198,0))","v":1.5},{"$f":"INDEX(SUPP_2c!J$3:J$198,MATCH((CONCATENATE($C$5,$AE42)),SUPP_2c!$P$3:$P$198,0))","v":22.1},{"$f":"INDEX(SUPP_2c!K$3:K$198,MATCH((CONCATENATE($C$5,$AE42)),SUPP_2c!$P$3:$P$198,0))","v":98.5},{"$f":"INDEX(SUPP_2c!L$3:L$198,MATCH((CONCATENATE($C$5,$AE42)),SUPP_2c!$P$3:$P$198,0))","v":4286},null,null,null,null,null,null,null,null,null,null,null,null,null,null,null,null,null,null,"25_Law"]
["Psychology",null,{"$f":"INDEX(SUPP_2c!C$3:C$198,MATCH((CONCATENATE($C$5,$AE43)),SUPP_2c!$P$3:$P$198,0))","v":4.4000000000000004},{"$f":"INDEX(SUPP_2c!D$3:D$198,MATCH((CONCATENATE($C$5,$AE43)),SUPP_2c!$P$3:$P$198,0))","v":13.6},{"$f":"INDEX(SUPP_2c!E$3:E$198,MATCH((CONCATENATE($C$5,$AE43)),SUPP_2c!$P$3:$P$198,0))","v":27.8},{"$f":"INDEX(SUPP_2c!F$3:F$198,MATCH((CONCATENATE($C$5,$AE43)),SUPP_2c!$P$3:$P$198,0))","v":26.7},{"$f":"INDEX(SUPP_2c!G$3:G$198,MATCH((CONCATENATE($C$5,$AE43)),SUPP_2c!$P$3:$P$198,0))","v":17.5},{"$f":"INDEX(SUPP_2c!H$3:H$198,MATCH((CONCATENATE($C$5,$AE43)),SUPP_2c!$P$3:$P$198,0))","v":8.1999999999999993},{"$f":"INDEX(SUPP_2c!I$3:I$198,MATCH((CONCATENATE($C$5,$AE43)),SUPP_2c!$P$3:$P$198,0))","v":1.9},{"$f":"INDEX(SUPP_2c!J$3:J$198,MATCH((CONCATENATE($C$5,$AE43)),SUPP_2c!$P$3:$P$198,0))","v":18},{"$f":"INDEX(SUPP_2c!K$3:K$198,MATCH((CONCATENATE($C$5,$AE43)),SUPP_2c!$P$3:$P$198,0))","v":98.1},{"$f":"INDEX(SUPP_2c!L$3:L$198,MATCH((CONCATENATE($C$5,$AE43)),SUPP_2c!$P$3:$P$198,0))","v":11882},null,null,null,null,null,null,null,null,null,null,null,null,null,null,null,null,null,null,"26_Psychology"]
["Sociology",null,{"$f":"INDEX(SUPP_2c!C$3:C$198,MATCH((CONCATENATE($C$5,$AE44)),SUPP_2c!$P$3:$P$198,0))","v":5.5},{"$f":"INDEX(SUPP_2c!D$3:D$198,MATCH((CONCATENATE($C$5,$AE44)),SUPP_2c!$P$3:$P$198,0))","v":14.2},{"$f":"INDEX(SUPP_2c!E$3:E$198,MATCH((CONCATENATE($C$5,$AE44)),SUPP_2c!$P$3:$P$198,0))","v":27.1},{"$f":"INDEX(SUPP_2c!F$3:F$198,MATCH((CONCATENATE($C$5,$AE44)),SUPP_2c!$P$3:$P$198,0))","v":27.5},{"$f":"INDEX(SUPP_2c!G$3:G$198,MATCH((CONCATENATE($C$5,$AE44)),SUPP_2c!$P$3:$P$198,0))","v":17.3},{"$f":"INDEX(SUPP_2c!H$3:H$198,MATCH((CONCATENATE($C$5,$AE44)),SUPP_2c!$P$3:$P$198,0))","v":6.9},{"$f":"INDEX(SUPP_2c!I$3:I$198,MATCH((CONCATENATE($C$5,$AE44)),SUPP_2c!$P$3:$P$198,0))","v":1.6},{"$f":"INDEX(SUPP_2c!J$3:J$198,MATCH((CONCATENATE($C$5,$AE44)),SUPP_2c!$P$3:$P$198,0))","v":19.600000000000001},{"$f":"INDEX(SUPP_2c!K$3:K$198,MATCH((CONCATENATE($C$5,$AE44)),SUPP_2c!$P$3:$P$198,0))","v":98.4},{"$f":"INDEX(SUPP_2c!L$3:L$198,MATCH((CONCATENATE($C$5,$AE44)),SUPP_2c!$P$3:$P$198,0))","v":7627},null,null,null,null,null,null,null,null,null,null,null,null,null,null,null,null,null,null,"27_Sociology"]
["Other social studies",null,{"$f":"INDEX(SUPP_2c!C$3:C$198,MATCH((CONCATENATE($C$5,$AE45)),SUPP_2c!$P$3:$P$198,0))","v":4.5},{"$f":"INDEX(SUPP_2c!D$3:D$198,MATCH((CONCATENATE($C$5,$AE45)),SUPP_2c!$P$3:$P$198,0))","v":13.4},{"$f":"INDEX(SUPP_2c!E$3:E$198,MATCH((CONCATENATE($C$5,$AE45)),SUPP_2c!$P$3:$P$198,0))","v":29},{"$f":"INDEX(SUPP_2c!F$3:F$198,MATCH((CONCATENATE($C$5,$AE45)),SUPP_2c!$P$3:$P$198,0))","v":26.3},{"$f":"INDEX(SUPP_2c!G$3:G$198,MATCH((CONCATENATE($C$5,$AE45)),SUPP_2c!$P$3:$P$198,0))","v":18.399999999999999},{"$f":"INDEX(SUPP_2c!H$3:H$198,MATCH((CONCATENATE($C$5,$AE45)),SUPP_2c!$P$3:$P$198,0))","v":6.4},{"$f":"INDEX(SUPP_2c!I$3:I$198,MATCH((CONCATENATE($C$5,$AE45)),SUPP_2c!$P$3:$P$198,0))","v":2.1},{"$f":"INDEX(SUPP_2c!J$3:J$198,MATCH((CONCATENATE($C$5,$AE45)),SUPP_2c!$P$3:$P$198,0))","v":17.899999999999999},{"$f":"INDEX(SUPP_2c!K$3:K$198,MATCH((CONCATENATE($C$5,$AE45)),SUPP_2c!$P$3:$P$198,0))","v":97.9},{"$f":"INDEX(SUPP_2c!L$3:L$198,MATCH((CONCATENATE($C$5,$AE45)),SUPP_2c!$P$3:$P$198,0))","v":1315},null,null,null,null,null,null,null,null,null,null,null,null,null,null,null,null,null,null,"28_Other_Social_Studies"]
[]
["Art and design",null,{"$f":"INDEX(SUPP_2c!C$3:C$198,MATCH((CONCATENATE($C$5,$AE47)),SUPP_2c!$P$3:$P$198,0))","v":12},{"$f":"INDEX(SUPP_2c!D$3:D$198,MATCH((CONCATENATE($C$5,$AE47)),SUPP_2c!$P$3:$P$198,0))","v":14.7},{"$f":"INDEX(SUPP_2c!E$3:E$198,MATCH((CONCATENATE($C$5,$AE47)),SUPP_2c!$P$3:$P$198,0))","v":32.5},{"$f":"INDEX(SUPP_2c!F$3:F$198,MATCH((CONCATENATE($C$5,$AE47)),SUPP_2c!$P$3:$P$198,0))","v":26.6},{"$f":"INDEX(SUPP_2c!G$3:G$198,MATCH((CONCATENATE($C$5,$AE47)),SUPP_2c!$P$3:$P$198,0))","v":10.9},{"$f":"INDEX(SUPP_2c!H$3:H$198,MATCH((CONCATENATE($C$5,$AE47)),SUPP_2c!$P$3:$P$198,0))","v":2.8},{"$f":"INDEX(SUPP_2c!I$3:I$198,MATCH((CONCATENATE($C$5,$AE47)),SUPP_2c!$P$3:$P$198,0))","v":0.5},{"$f":"INDEX(SUPP_2c!J$3:J$198,MATCH((CONCATENATE($C$5,$AE47)),SUPP_2c!$P$3:$P$198,0))","v":26.7},{"$f":"INDEX(SUPP_2c!K$3:K$198,MATCH((CONCATENATE($C$5,$AE47)),SUPP_2c!$P$3:$P$198,0))","v":99.5},{"$f":"INDEX(SUPP_2c!L$3:L$198,MATCH((CONCATENATE($C$5,$AE47)),SUPP_2c!$P$3:$P$198,0))","v":9374},null,null,null,null,null,null,null,null,null,null,null,null,null,null,null,null,null,null,"29_Art&Design"]
["Drama",null,{"$f":"INDEX(SUPP_2c!C$3:C$198,MATCH((CONCATENATE($C$5,$AE48)),SUPP_2c!$P$3:$P$198,0))","v":2.6},{"$f":"INDEX(SUPP_2c!D$3:D$198,MATCH((CONCATENATE($C$5,$AE48)),SUPP_2c!$P$3:$P$198,0))","v":10},{"$f":"INDEX(SUPP_2c!E$3:E$198,MATCH((CONCATENATE($C$5,$AE48)),SUPP_2c!$P$3:$P$198,0))","v":30.2},{"$f":"INDEX(SUPP_2c!F$3:F$198,MATCH((CONCATENATE($C$5,$AE48)),SUPP_2c!$P$3:$P$198,0))","v":32.799999999999997},{"$f":"INDEX(SUPP_2c!G$3:G$198,MATCH((CONCATENATE($C$5,$AE48)),SUPP_2c!$P$3:$P$198,0))","v":18.8},{"$f":"INDEX(SUPP_2c!H$3:H$198,MATCH((CONCATENATE($C$5,$AE48)),SUPP_2c!$P$3:$P$198,0))","v":4.8},{"$f":"INDEX(SUPP_2c!I$3:I$198,MATCH((CONCATENATE($C$5,$AE48)),SUPP_2c!$P$3:$P$198,0))","v":0.8},{"$f":"INDEX(SUPP_2c!J$3:J$198,MATCH((CONCATENATE($C$5,$AE48)),SUPP_2c!$P$3:$P$198,0))","v":12.5},{"$f":"INDEX(SUPP_2c!K$3:K$198,MATCH((CONCATENATE($C$5,$AE48)),SUPP_2c!$P$3:$P$198,0))","v":99.2},{"$f":"INDEX(SUPP_2c!L$3:L$198,MATCH((CONCATENATE($C$5,$AE48)),SUPP_2c!$P$3:$P$198,0))","v":1865},null,null,null,null,null,null,null,null,null,null,null,null,null,null,null,null,null,null,"30_Drama"]
["Media /Film / TV studies",null,{"$f":"INDEX(SUPP_2c!C$3:C$198,MATCH((CONCATENATE($C$5,$AE49)),SUPP_2c!$P$3:$P$198,0))","v":1},{"$f":"INDEX(SUPP_2c!D$3:D$198,MATCH((CONCATENATE($C$5,$AE49)),SUPP_2c!$P$3:$P$198,0))","v":7.9},{"$f":"INDEX(SUPP_2c!E$3:E$198,MATCH((CONCATENATE($C$5,$AE49)),SUPP_2c!$P$3:$P$198,0))","v":32.9},{"$f":"INDEX(SUPP_2c!F$3:F$198,MATCH((CONCATENATE($C$5,$AE49)),SUPP_2c!$P$3:$P$198,0))","v":38},{"$f":"INDEX(SUPP_2c!G$3:G$198,MATCH((CONCATENATE($C$5,$AE49)),SUPP_2c!$P$3:$P$198,0))","v":16.399999999999999},{"$f":"INDEX(SUPP_2c!H$3:H$198,MATCH((CONCATENATE($C$5,$AE49)),SUPP_2c!$P$3:$P$198,0))","v":3.4},{"$f":"INDEX(SUPP_2c!I$3:I$198,MATCH((CONCATENATE($C$5,$AE49)),SUPP_2c!$P$3:$P$198,0))","v":0.4},{"$f":"INDEX(SUPP_2c!J$3:J$198,MATCH((CONCATENATE($C$5,$AE49)),SUPP_2c!$P$3:$P$198,0))","v":8.9},{"$f":"INDEX(SUPP_2c!K$3:K$198,MATCH((CONCATENATE($C$5,$AE49)),SUPP_2c!$P$3:$P$198,0))","v":99.6},{"$f":"INDEX(SUPP_2c!L$3:L$198,MATCH((CONCATENATE($C$5,$AE49)),SUPP_2c!$P$3:$P$198,0))","v":3953},null,null,null,null,null,null,null,null,null,null,null,null,null,null,null,null,null,null,"31_Media_Film_TV"]
["Other communication studies",null,{"$f":"INDEX(SUPP_2c!C$3:C$198,MATCH((CONCATENATE($C$5,$AE50)),SUPP_2c!$P$3:$P$198,0))","v":2.2000000000000002},{"$f":"INDEX(SUPP_2c!D$3:D$198,MATCH((CONCATENATE($C$5,$AE50)),SUPP_2c!$P$3:$P$198,0))","v":11.2},{"$f":"INDEX(SUPP_2c!E$3:E$198,MATCH((CONCATENATE($C$5,$AE50)),SUPP_2c!$P$3:$P$198,0))","v":36.5},{"$f":"INDEX(SUPP_2c!F$3:F$198,MATCH((CONCATENATE($C$5,$AE50)),SUPP_2c!$P$3:$P$198,0))","v":35.5},{"$f":"INDEX(SUPP_2c!G$3:G$198,MATCH((CONCATENATE($C$5,$AE50)),SUPP_2c!$P$3:$P$198,0))","v":12.4},{"$f":"INDEX(SUPP_2c!H$3:H$198,MATCH((CONCATENATE($C$5,$AE50)),SUPP_2c!$P$3:$P$198,0))","v":1.7},{"$f":"INDEX(SUPP_2c!I$3:I$198,MATCH((CONCATENATE($C$5,$AE50)),SUPP_2c!$P$3:$P$198,0))","v":0.4},{"$f":"INDEX(SUPP_2c!J$3:J$198,MATCH((CONCATENATE($C$5,$AE50)),SUPP_2c!$P$3:$P$198,0))","v":13.4},{"$f":"INDEX(SUPP_2c!K$3:K$198,MATCH((CONCATENATE($C$5,$AE50)),SUPP_2c!$P$3:$P$198,0))","v":99.6},{"$f":"INDEX(SUPP_2c!L$3:L$198,MATCH((CONCATENATE($C$5,$AE50)),SUPP_2c!$P$3:$P$198,0))","v":3513},null,null,null,null,null,null,null,null,null,null,null,null,null,null,null,null,null,null,"27_Other_Comm_Studies"]
[]
["French",null,{"$f":"INDEX(SUPP_2c!C$3:C$198,MATCH((CONCATENATE($C$5,$AE52)),SUPP_2c!$P$3:$P$198,0))","v":6.5},{"$f":"INDEX(SUPP_2c!D$3:D$198,MATCH((CONCATENATE($C$5,$AE52)),SUPP_2c!$P$3:$P$198,0))","v":25.8},{"$f":"INDEX(SUPP_2c!E$3:E$198,MATCH((CONCATENATE($C$5,$AE52)),SUPP_2c!$P$3:$P$198,0))","v":28.3},{"$f":"INDEX(SUPP_2c!F$3:F$198,MATCH((CONCATENATE($C$5,$AE52)),SUPP_2c!$P$3:$P$198,0))","v":20.5},{"$f":"INDEX(SUPP_2c!G$3:G$198,MATCH((CONCATENATE($C$5,$AE52)),SUPP_2c!$P$3:$P$198,0))","v":13},{"$f":"INDEX(SUPP_2c!H$3:H$198,MATCH((CONCATENATE($C$5,$AE52)),SUPP_2c!$P$3:$P$198,0))","v":5.2},{"$f":"INDEX(SUPP_2c!I$3:I$198,MATCH((CONCATENATE($C$5,$AE52)),SUPP_2c!$P$3:$P$198,0))","v":0.6},{"$f":"INDEX(SUPP_2c!J$3:J$198,MATCH((CONCATENATE($C$5,$AE52)),SUPP_2c!$P$3:$P$198,0))","v":32.299999999999997},{"$f":"INDEX(SUPP_2c!K$3:K$198,MATCH((CONCATENATE($C$5,$AE52)),SUPP_2c!$P$3:$P$198,0))","v":99.4},{"$f":"INDEX(SUPP_2c!L$3:L$198,MATCH((CONCATENATE($C$5,$AE52)),SUPP_2c!$P$3:$P$198,0))","v":1241},null,null,null,null,null,null,null,null,null,null,null,null,null,null,null,null,null,null,"33_French"]
["German",null,{"$f":"INDEX(SUPP_2c!C$3:C$198,MATCH((CONCATENATE($C$5,$AE53)),SUPP_2c!$P$3:$P$198,0))","v":6.5},{"$f":"INDEX(SUPP_2c!D$3:D$198,MATCH((CONCATENATE($C$5,$AE53)),SUPP_2c!$P$3:$P$198,0))","v":25.4},{"$f":"INDEX(SUPP_2c!E$3:E$198,MATCH((CONCATENATE($C$5,$AE53)),SUPP_2c!$P$3:$P$198,0))","v":29.2},{"$f":"INDEX(SUPP_2c!F$3:F$198,MATCH((CONCATENATE($C$5,$AE53)),SUPP_2c!$P$3:$P$198,0))","v":22.8},{"$f":"INDEX(SUPP_2c!G$3:G$198,MATCH((CONCATENATE($C$5,$AE53)),SUPP_2c!$P$3:$P$198,0))","v":12.1},{"$f":"INDEX(SUPP_2c!H$3:H$198,MATCH((CONCATENATE($C$5,$AE53)),SUPP_2c!$P$3:$P$198,0))","v":"x"},{"$f":"INDEX(SUPP_2c!I$3:I$198,MATCH((CONCATENATE($C$5,$AE53)),SUPP_2c!$P$3:$P$198,0))","v":"x"},{"$f":"INDEX(SUPP_2c!J$3:J$198,MATCH((CONCATENATE($C$5,$AE53)),SUPP_2c!$P$3:$P$198,0))","v":31.9},{"$f":"INDEX(SUPP_2c!K$3:K$198,MATCH((CONCATENATE($C$5,$AE53)),SUPP_2c!$P$3:$P$198,0))","v":"x"},{"$f":"INDEX(SUPP_2c!L$3:L$198,MATCH((CONCATENATE($C$5,$AE53)),SUPP_2c!$P$3:$P$198,0))","v":504},null,null,null,null,null,null,null,null,null,null,null,null,null,null,null,null,null,null,"34_German"]
["Spanish",null,{"$f":"INDEX(SUPP_2c!C$3:C$198,MATCH((CONCATENATE($C$5,$AE54)),SUPP_2c!$P$3:$P$198,0))","v":7.1},{"$f":"INDEX(SUPP_2c!D$3:D$198,MATCH((CONCATENATE($C$5,$AE54)),SUPP_2c!$P$3:$P$198,0))","v":24},{"$f":"INDEX(SUPP_2c!E$3:E$198,MATCH((CONCATENATE($C$5,$AE54)),SUPP_2c!$P$3:$P$198,0))","v":30.3},{"$f":"INDEX(SUPP_2c!F$3:F$198,MATCH((CONCATENATE($C$5,$AE54)),SUPP_2c!$P$3:$P$198,0))","v":21.2},{"$f":"INDEX(SUPP_2c!G$3:G$198,MATCH((CONCATENATE($C$5,$AE54)),SUPP_2c!$P$3:$P$198,0))","v":12.7},{"$f":"INDEX(SUPP_2c!H$3:H$198,MATCH((CONCATENATE($C$5,$AE54)),SUPP_2c!$P$3:$P$198,0))","v":4},{"$f":"INDEX(SUPP_2c!I$3:I$198,MATCH((CONCATENATE($C$5,$AE54)),SUPP_2c!$P$3:$P$198,0))","v":0.8},{"$f":"INDEX(SUPP_2c!J$3:J$198,MATCH((CONCATENATE($C$5,$AE54)),SUPP_2c!$P$3:$P$198,0))","v":31.1},{"$f":"INDEX(SUPP_2c!K$3:K$198,MATCH((CONCATENATE($C$5,$AE54)),SUPP_2c!$P$3:$P$198,0))","v":99.2},{"$f":"INDEX(SUPP_2c!L$3:L$198,MATCH((CONCATENATE($C$5,$AE54)),SUPP_2c!$P$3:$P$198,0))","v":1214},null,null,null,null,null,null,null,null,null,null,null,null,null,null,null,null,null,null,"35_Spanish"]
["Other modern languages",null,{"$f":"IF($C$5=\"Independent school students\",SUPP_2c!D217,IF($C$5=\"State funded school students\",SUPP_2c!D221,IF($C$5=\"All further education college students\",SUPP_2c!D225,IF($C$5=\"Sixth form college students\",SUPP_2c!D229))))","v":9.6},{"$f":"IF($C$5=\"Independent school students\",SUPP_2c!E217,IF($C$5=\"State funded school students\",SUPP_2c!E221,IF($C$5=\"All further education college students\",SUPP_2c!E225,IF($C$5=\"Sixth form college students\",SUPP_2c!E229))))","v":35.200000000000003},{"$f":"IF($C$5=\"Independent school students\",SUPP_2c!F217,IF($C$5=\"State funded school students\",SUPP_2c!F221,IF($C$5=\"All further education college students\",SUPP_2c!F225,IF($C$5=\"Sixth form college students\",SUPP_2c!F229))))","v":32.5},{"$f":"IF($C$5=\"Independent school students\",SUPP_2c!G217,IF($C$5=\"State funded school students\",SUPP_2c!G221,IF($C$5=\"All further education college students\",SUPP_2c!G225,IF($C$5=\"Sixth form college students\",SUPP_2c!G229))))","v":14.4},{"$f":"IF($C$5=\"Independent school students\",SUPP_2c!H217,IF($C$5=\"State funded school students\",SUPP_2c!H221,IF($C$5=\"All further education college students\",SUPP_2c!H225,IF($C$5=\"Sixth form college students\",SUPP_2c!H229))))","v":4.9000000000000004},{"$f":"IF($C$5=\"Independent school students\",SUPP_2c!I217,IF($C$5=\"State funded school students\",SUPP_2c!I221,IF($C$5=\"All further education college students\",SUPP_2c!I225,IF($C$5=\"Sixth form college students\",SUPP_2c!I229))))","v":2.2999999999999998},{"$f":"IF($C$5=\"Independent school students\",SUPP_2c!J217,IF($C$5=\"State funded school students\",SUPP_2c!J221,IF($C$5=\"All further education college students\",SUPP_2c!J225,IF($C$5=\"Sixth form college students\",SUPP_2c!J229))))","v":1},{"$f":"IF($C$5=\"Independent school students\",SUPP_2c!K217,IF($C$5=\"State funded school students\",SUPP_2c!K221,IF($C$5=\"All further education college students\",SUPP_2c!K225,IF($C$5=\"Sixth form college students\",SUPP_2c!K229))))","v":44.9},{"$f":"IF($C$5=\"Independent school students\",SUPP_2c!L217,IF($C$5=\"State funded school students\",SUPP_2c!L221,IF($C$5=\"All further education college students\",SUPP_2c!L225,IF($C$5=\"Sixth form college students\",SUPP_2c!L229))))","v":99},{"$f":"IF($C$5=\"Independent school students\",SUPP_2c!M217,IF($C$5=\"State funded school students\",SUPP_2c!M221,IF($C$5=\"All further education college students\",SUPP_2c!M225,IF($C$5=\"Sixth form college students\",SUPP_2c!M229))))","v":778}]
["of which:"]
["  Chinese",null,{"$f":"INDEX(SUPP_2c!C$3:C$198,MATCH((CONCATENATE($C$5,$AE57)),SUPP_2c!$P$3:$P$198,0))","v":1.7},{"$f":"INDEX(SUPP_2c!D$3:D$198,MATCH((CONCATENATE($C$5,$AE57)),SUPP_2c!$P$3:$P$198,0))","v":31.5},{"$f":"INDEX(SUPP_2c!E$3:E$198,MATCH((CONCATENATE($C$5,$AE57)),SUPP_2c!$P$3:$P$198,0))","v":49.7},{"$f":"INDEX(SUPP_2c!F$3:F$198,MATCH((CONCATENATE($C$5,$AE57)),SUPP_2c!$P$3:$P$198,0))","v":12.7},{"$f":"INDEX(SUPP_2c!G$3:G$198,MATCH((CONCATENATE($C$5,$AE57)),SUPP_2c!$P$3:$P$198,0))","v":2.2000000000000002},{"$f":"INDEX(SUPP_2c!H$3:H$198,MATCH((CONCATENATE($C$5,$AE57)),SUPP_2c!$P$3:$P$198,0))","v":"x"},{"$f":"INDEX(SUPP_2c!I$3:I$198,MATCH((CONCATENATE($C$5,$AE57)),SUPP_2c!$P$3:$P$198,0))","v":"x"},{"$f":"INDEX(SUPP_2c!J$3:J$198,MATCH((CONCATENATE($C$5,$AE57)),SUPP_2c!$P$3:$P$198,0))","v":33.1},{"$f":"INDEX(SUPP_2c!K$3:K$198,MATCH((CONCATENATE($C$5,$AE57)),SUPP_2c!$P$3:$P$198,0))","v":"x"},{"$f":"INDEX(SUPP_2c!L$3:L$198,MATCH((CONCATENATE($C$5,$AE57)),SUPP_2c!$P$3:$P$198,0))","v":181},null,null,null,null,null,null,null,null,null,null,null,null,null,null,null,null,null,null,"37_Chinese"]
["  Italian",null,{"$f":"INDEX(SUPP_2c!C$3:C$198,MATCH((CONCATENATE($C$5,$AE58)),SUPP_2c!$P$3:$P$198,0))","v":10.8},{"$f":"INDEX(SUPP_2c!D$3:D$198,MATCH((CONCATENATE($C$5,$AE58)),SUPP_2c!$P$3:$P$198,0))","v":36.1},{"$f":"INDEX(SUPP_2c!E$3:E$198,MATCH((CONCATENATE($C$5,$AE58)),SUPP_2c!$P$3:$P$198,0))","v":34.799999999999997},{"$f":"INDEX(SUPP_2c!F$3:F$198,MATCH((CONCATENATE($C$5,$AE58)),SUPP_2c!$P$3:$P$198,0))","v":12},{"$f":"INDEX(SUPP_2c!G$3:G$198,MATCH((CONCATENATE($C$5,$AE58)),SUPP_2c!$P$3:$P$198,0))","v":3.8},{"$f":"INDEX(SUPP_2c!H$3:H$198,MATCH((CONCATENATE($C$5,$AE58)),SUPP_2c!$P$3:$P$198,0))","v":"x"},{"$f":"INDEX(SUPP_2c!I$3:I$198,MATCH((CONCATENATE($C$5,$AE58)),SUPP_2c!$P$3:$P$198,0))","v":"x"},{"$f":"INDEX(SUPP_2c!J$3:J$198,MATCH((CONCATENATE($C$5,$AE58)),SUPP_2c!$P$3:$P$198,0))","v":46.8},{"$f":"INDEX(SUPP_2c!K$3:K$198,MATCH((CONCATENATE($C$5,$AE58)),SUPP_2c!$P$3:$P$198,0))","v":"x"},{"$f":"INDEX(SUPP_2c!L$3:L$198,MATCH((CONCATENATE($C$5,$AE58)),SUPP_2c!$P$3:$P$198,0))","v":158},null,null,null,null,null,null,null,null,null,null,null,null,null,null,null,null,null,null,"38_Italian"]
["  Polish",null,{"$f":"INDEX(SUPP_2c!C$3:C$198,MATCH((CONCATENATE($C$5,$AE59)),SUPP_2c!$P$3:$P$198,0))","v":21.7},{"$f":"INDEX(SUPP_2c!D$3:D$198,MATCH((CONCATENATE($C$5,$AE59)),SUPP_2c!$P$3:$P$198,0))","v":39.1},{"$f":"INDEX(SUPP_2c!E$3:E$198,MATCH((CONCATENATE($C$5,$AE59)),SUPP_2c!$P$3:$P$198,0))","v":20.7},{"$f":"INDEX(SUPP_2c!F$3:F$198,MATCH((CONCATENATE($C$5,$AE59)),SUPP_2c!$P$3:$P$198,0))","v":10.9},{"$f":"INDEX(SUPP_2c!G$3:G$198,MATCH((CONCATENATE($C$5,$AE59)),SUPP_2c!$P$3:$P$198,0))","v":3.3},{"$f":"INDEX(SUPP_2c!H$3:H$198,MATCH((CONCATENATE($C$5,$AE59)),SUPP_2c!$P$3:$P$198,0))","v":"x"},{"$f":"INDEX(SUPP_2c!I$3:I$198,MATCH((CONCATENATE($C$5,$AE59)),SUPP_2c!$P$3:$P$198,0))","v":"x"},{"$f":"INDEX(SUPP_2c!J$3:J$198,MATCH((CONCATENATE($C$5,$AE59)),SUPP_2c!$P$3:$P$198,0))","v":60.9},{"$f":"INDEX(SUPP_2c!K$3:K$198,MATCH((CONCATENATE($C$5,$AE59)),SUPP_2c!$P$3:$P$198,0))","v":"x"},{"$f":"INDEX(SUPP_2c!L$3:L$198,MATCH((CONCATENATE($C$5,$AE59)),SUPP_2c!$P$3:$P$198,0))","v":92},null,null,null,null,null,null,null,null,null,null,null,null,null,null,null,null,null,null,"39_Polish"]
["  Russian",null,{"$f":"INDEX(SUPP_2c!C$3:C$198,MATCH((CONCATENATE($C$5,$AE60)),SUPP_2c!$P$3:$P$198,0))","v":16.399999999999999},{"$f":"INDEX(SUPP_2c!D$3:D$198,MATCH((CONCATENATE($C$5,$AE60)),SUPP_2c!$P$3:$P$198,0))","v":58.2},{"$f":"INDEX(SUPP_2c!E$3:E$198,MATCH((CONCATENATE($C$5,$AE60)),SUPP_2c!$P$3:$P$198,0))","v":10.9},{"$f":"INDEX(SUPP_2c!F$3:F$198,MATCH((CONCATENATE($C$5,$AE60)),SUPP_2c!$P$3:$P$198,0))","v":9.1},{"$f":"INDEX(SUPP_2c!G$3:G$198,MATCH((CONCATENATE($C$5,$AE60)),SUPP_2c!$P$3:$P$198,0))","v":"x"},{"$f":"INDEX(SUPP_2c!H$3:H$198,MATCH((CONCATENATE($C$5,$AE60)),SUPP_2c!$P$3:$P$198,0))","v":"x"},{"$f":"INDEX(SUPP_2c!I$3:I$198,MATCH((CONCATENATE($C$5,$AE60)),SUPP_2c!$P$3:$P$198,0))","v":0},{"$f":"INDEX(SUPP_2c!J$3:J$198,MATCH((CONCATENATE($C$5,$AE60)),SUPP_2c!$P$3:$P$198,0))","v":74.5},{"$f":"INDEX(SUPP_2c!K$3:K$198,MATCH((CONCATENATE($C$5,$AE60)),SUPP_2c!$P$3:$P$198,0))","v":100},{"$f":"INDEX(SUPP_2c!L$3:L$198,MATCH((CONCATENATE($C$5,$AE60)),SUPP_2c!$P$3:$P$198,0))","v":55},null,null,null,null,null,null,null,null,null,null,null,null,null,null,null,null,null,null,"40_Russian"]
["  Other",null,{"$f":"INDEX(SUPP_2c!C$3:C$198,MATCH((CONCATENATE($C$5,$AE61)),SUPP_2c!$P$3:$P$198,0))","v":8.9},{"$f":"INDEX(SUPP_2c!D$3:D$198,MATCH((CONCATENATE($C$5,$AE61)),SUPP_2c!$P$3:$P$198,0))","v":31.5},{"$f":"INDEX(SUPP_2c!E$3:E$198,MATCH((CONCATENATE($C$5,$AE61)),SUPP_2c!$P$3:$P$198,0))","v":28.4},{"$f":"INDEX(SUPP_2c!F$3:F$198,MATCH((CONCATENATE($C$5,$AE61)),SUPP_2c!$P$3:$P$198,0))","v":18.8},{"$f":"INDEX(SUPP_2c!G$3:G$198,MATCH((CONCATENATE($C$5,$AE61)),SUPP_2c!$P$3:$P$198,0))","v":8.1999999999999993},{"$f":"INDEX(SUPP_2c!H$3:H$198,MATCH((CONCATENATE($C$5,$AE61)),SUPP_2c!$P$3:$P$198,0))","v":2.4},{"$f":"INDEX(SUPP_2c!I$3:I$198,MATCH((CONCATENATE($C$5,$AE61)),SUPP_2c!$P$3:$P$198,0))","v":1.7},{"$f":"INDEX(SUPP_2c!J$3:J$198,MATCH((CONCATENATE($C$5,$AE61)),SUPP_2c!$P$3:$P$198,0))","v":40.4},{"$f":"INDEX(SUPP_2c!K$3:K$198,MATCH((CONCATENATE($C$5,$AE61)),SUPP_2c!$P$3:$P$198,0))","v":98.3},{"$f":"INDEX(SUPP_2c!L$3:L$198,MATCH((CONCATENATE($C$5,$AE61)),SUPP_2c!$P$3:$P$198,0))","v":292},null,null,null,null,null,null,null,null,null,null,null,null,null,null,null,null,null,null,"36_Other_Modern_Languages"]
[]
["Classical Studies",null,{"$f":"IF($C$5=\"Independent school students\",SUPP_2c!D218,IF($C$5=\"State funded school students\",SUPP_2c!D222,IF($C$5=\"All further education college students\",SUPP_2c!D226,IF($C$5=\"Sixth form college students\",SUPP_2c!D230))))","v":2.4},{"$f":"IF($C$5=\"Independent school students\",SUPP_2c!E218,IF($C$5=\"State funded school students\",SUPP_2c!E222,IF($C$5=\"All further education college students\",SUPP_2c!E226,IF($C$5=\"Sixth form college students\",SUPP_2c!E230))))","v":14.4},{"$f":"IF($C$5=\"Independent school students\",SUPP_2c!F218,IF($C$5=\"State funded school students\",SUPP_2c!F222,IF($C$5=\"All further education college students\",SUPP_2c!F226,IF($C$5=\"Sixth form college students\",SUPP_2c!F230))))","v":33.1},{"$f":"IF($C$5=\"Independent school students\",SUPP_2c!G218,IF($C$5=\"State funded school students\",SUPP_2c!G222,IF($C$5=\"All further education college students\",SUPP_2c!G226,IF($C$5=\"Sixth form college students\",SUPP_2c!G230))))","v":28.1},{"$f":"IF($C$5=\"Independent school students\",SUPP_2c!H218,IF($C$5=\"State funded school students\",SUPP_2c!H222,IF($C$5=\"All further education college students\",SUPP_2c!H226,IF($C$5=\"Sixth form college students\",SUPP_2c!H230))))","v":14.4},{"$f":"IF($C$5=\"Independent school students\",SUPP_2c!I218,IF($C$5=\"State funded school students\",SUPP_2c!I222,IF($C$5=\"All further education college students\",SUPP_2c!I226,IF($C$5=\"Sixth form college students\",SUPP_2c!I230))))","v":6.5},{"$f":"IF($C$5=\"Independent school students\",SUPP_2c!J218,IF($C$5=\"State funded school students\",SUPP_2c!J222,IF($C$5=\"All further education college students\",SUPP_2c!J226,IF($C$5=\"Sixth form college students\",SUPP_2c!J230))))","v":1.1000000000000001},{"$f":"IF($C$5=\"Independent school students\",SUPP_2c!K218,IF($C$5=\"State funded school students\",SUPP_2c!K222,IF($C$5=\"All further education college students\",SUPP_2c!K226,IF($C$5=\"Sixth form college students\",SUPP_2c!K230))))","v":16.8},{"$f":"IF($C$5=\"Independent school students\",SUPP_2c!L218,IF($C$5=\"State funded school students\",SUPP_2c!L222,IF($C$5=\"All further education college students\",SUPP_2c!L226,IF($C$5=\"Sixth form college students\",SUPP_2c!L230))))","v":98.9},{"$f":"IF($C$5=\"Independent school students\",SUPP_2c!M218,IF($C$5=\"State funded school students\",SUPP_2c!M222,IF($C$5=\"All further education college students\",SUPP_2c!M226,IF($C$5=\"Sixth form college students\",SUPP_2c!M230))))","v":1513}]
["of which:"]
["  Latin",null,{"$f":"INDEX(SUPP_2c!C$3:C$198,MATCH((CONCATENATE($C$5,$AE65)),SUPP_2c!$P$3:$P$198,0))","v":12},{"$f":"INDEX(SUPP_2c!D$3:D$198,MATCH((CONCATENATE($C$5,$AE65)),SUPP_2c!$P$3:$P$198,0))","v":36},{"$f":"INDEX(SUPP_2c!E$3:E$198,MATCH((CONCATENATE($C$5,$AE65)),SUPP_2c!$P$3:$P$198,0))","v":28},{"$f":"INDEX(SUPP_2c!F$3:F$198,MATCH((CONCATENATE($C$5,$AE65)),SUPP_2c!$P$3:$P$198,0))","v":"x"},{"$f":"INDEX(SUPP_2c!G$3:G$198,MATCH((CONCATENATE($C$5,$AE65)),SUPP_2c!$P$3:$P$198,0))","v":0},{"$f":"INDEX(SUPP_2c!H$3:H$198,MATCH((CONCATENATE($C$5,$AE65)),SUPP_2c!$P$3:$P$198,0))","v":"x"},{"$f":"INDEX(SUPP_2c!I$3:I$198,MATCH((CONCATENATE($C$5,$AE65)),SUPP_2c!$P$3:$P$198,0))","v":0},{"$f":"INDEX(SUPP_2c!J$3:J$198,MATCH((CONCATENATE($C$5,$AE65)),SUPP_2c!$P$3:$P$198,0))","v":48},{"$f":"INDEX(SUPP_2c!K$3:K$198,MATCH((CONCATENATE($C$5,$AE65)),SUPP_2c!$P$3:$P$198,0))","v":100},{"$f":"INDEX(SUPP_2c!L$3:L$198,MATCH((CONCATENATE($C$5,$AE65)),SUPP_2c!$P$3:$P$198,0))","v":25},null,null,null,null,null,null,null,null,null,null,null,null,null,null,null,null,null,null,"42_Latin"]
["  Greek",null,{"$f":"INDEX(SUPP_2c!C$3:C$198,MATCH((CONCATENATE($C$5,$AE66)),SUPP_2c!$P$3:$P$198,0))","v":"."},{"$f":"INDEX(SUPP_2c!D$3:D$198,MATCH((CONCATENATE($C$5,$AE66)),SUPP_2c!$P$3:$P$198,0))","v":"."},{"$f":"INDEX(SUPP_2c!E$3:E$198,MATCH((CONCATENATE($C$5,$AE66)),SUPP_2c!$P$3:$P$198,0))","v":"."},{"$f":"INDEX(SUPP_2c!F$3:F$198,MATCH((CONCATENATE($C$5,$AE66)),SUPP_2c!$P$3:$P$198,0))","v":"."},{"$f":"INDEX(SUPP_2c!G$3:G$198,MATCH((CONCATENATE($C$5,$AE66)),SUPP_2c!$P$3:$P$198,0))","v":"."},{"$f":"INDEX(SUPP_2c!H$3:H$198,MATCH((CONCATENATE($C$5,$AE66)),SUPP_2c!$P$3:$P$198,0))","v":"."},{"$f":"INDEX(SUPP_2c!I$3:I$198,MATCH((CONCATENATE($C$5,$AE66)),SUPP_2c!$P$3:$P$198,0))","v":"."},{"$f":"INDEX(SUPP_2c!J$3:J$198,MATCH((CONCATENATE($C$5,$AE66)),SUPP_2c!$P$3:$P$198,0))","v":"."},{"$f":"INDEX(SUPP_2c!K$3:K$198,MATCH((CONCATENATE($C$5,$AE66)),SUPP_2c!$P$3:$P$198,0))","v":"."},{"$f":"INDEX(SUPP_2c!L$3:L$198,MATCH((CONCATENATE($C$5,$AE66)),SUPP_2c!$P$3:$P$198,0))","v":"."},null,null,null,null,null,null,null,null,null,null,null,null,null,null,null,null,null,null,"43_Greek"]
["  Classical Civilisation",null,{"$f":"INDEX(SUPP_2c!C$3:C$198,MATCH((CONCATENATE($C$5,$AE67)),SUPP_2c!$P$3:$P$198,0))","v":2.2999999999999998},{"$f":"INDEX(SUPP_2c!D$3:D$198,MATCH((CONCATENATE($C$5,$AE67)),SUPP_2c!$P$3:$P$198,0))","v":13.9},{"$f":"INDEX(SUPP_2c!E$3:E$198,MATCH((CONCATENATE($C$5,$AE67)),SUPP_2c!$P$3:$P$198,0))","v":32.200000000000003},{"$f":"INDEX(SUPP_2c!F$3:F$198,MATCH((CONCATENATE($C$5,$AE67)),SUPP_2c!$P$3:$P$198,0))","v":28.5},{"$f":"INDEX(SUPP_2c!G$3:G$198,MATCH((CONCATENATE($C$5,$AE67)),SUPP_2c!$P$3:$P$198,0))","v":14.6},{"$f":"INDEX(SUPP_2c!H$3:H$198,MATCH((CONCATENATE($C$5,$AE67)),SUPP_2c!$P$3:$P$198,0))","v":7.3},{"$f":"INDEX(SUPP_2c!I$3:I$198,MATCH((CONCATENATE($C$5,$AE67)),SUPP_2c!$P$3:$P$198,0))","v":1.1000000000000001},{"$f":"INDEX(SUPP_2c!J$3:J$198,MATCH((CONCATENATE($C$5,$AE67)),SUPP_2c!$P$3:$P$198,0))","v":16.2},{"$f":"INDEX(SUPP_2c!K$3:K$198,MATCH((CONCATENATE($C$5,$AE67)),SUPP_2c!$P$3:$P$198,0))","v":98.9},{"$f":"INDEX(SUPP_2c!L$3:L$198,MATCH((CONCATENATE($C$5,$AE67)),SUPP_2c!$P$3:$P$198,0))","v":1219},null,null,null,null,null,null,null,null,null,null,null,null,null,null,null,null,null,null,"44_ClassicalCivilisation"]
["  Other Classical Studies",null,{"$f":"INDEX(SUPP_2c!C$3:C$198,MATCH((CONCATENATE($C$5,$AE68)),SUPP_2c!$P$3:$P$198,0))","v":1.9},{"$f":"INDEX(SUPP_2c!D$3:D$198,MATCH((CONCATENATE($C$5,$AE68)),SUPP_2c!$P$3:$P$198,0))","v":14.5},{"$f":"INDEX(SUPP_2c!E$3:E$198,MATCH((CONCATENATE($C$5,$AE68)),SUPP_2c!$P$3:$P$198,0))","v":37.9},{"$f":"INDEX(SUPP_2c!F$3:F$198,MATCH((CONCATENATE($C$5,$AE68)),SUPP_2c!$P$3:$P$198,0))","v":26.8},{"$f":"INDEX(SUPP_2c!G$3:G$198,MATCH((CONCATENATE($C$5,$AE68)),SUPP_2c!$P$3:$P$198,0))","v":14.9},{"$f":"INDEX(SUPP_2c!H$3:H$198,MATCH((CONCATENATE($C$5,$AE68)),SUPP_2c!$P$3:$P$198,0))","v":"x"},{"$f":"INDEX(SUPP_2c!I$3:I$198,MATCH((CONCATENATE($C$5,$AE68)),SUPP_2c!$P$3:$P$198,0))","v":"x"},{"$f":"INDEX(SUPP_2c!J$3:J$198,MATCH((CONCATENATE($C$5,$AE68)),SUPP_2c!$P$3:$P$198,0))","v":16.399999999999999},{"$f":"INDEX(SUPP_2c!K$3:K$198,MATCH((CONCATENATE($C$5,$AE68)),SUPP_2c!$P$3:$P$198,0))","v":99.3},{"$f":"INDEX(SUPP_2c!L$3:L$198,MATCH((CONCATENATE($C$5,$AE68)),SUPP_2c!$P$3:$P$198,0))","v":269},null,null,null,null,null,null,null,null,null,null,null,null,null,null,null,null,null,null,"41_Classical_Studies"]
[]
["Religious Studies",null,{"$f":"INDEX(SUPP_2c!C$3:C$198,MATCH((CONCATENATE($C$5,$AE70)),SUPP_2c!$P$3:$P$198,0))","v":2.8},{"$f":"INDEX(SUPP_2c!D$3:D$198,MATCH((CONCATENATE($C$5,$AE70)),SUPP_2c!$P$3:$P$198,0))","v":13.1},{"$f":"INDEX(SUPP_2c!E$3:E$198,MATCH((CONCATENATE($C$5,$AE70)),SUPP_2c!$P$3:$P$198,0))","v":31.4},{"$f":"INDEX(SUPP_2c!F$3:F$198,MATCH((CONCATENATE($C$5,$AE70)),SUPP_2c!$P$3:$P$198,0))","v":28.5},{"$f":"INDEX(SUPP_2c!G$3:G$198,MATCH((CONCATENATE($C$5,$AE70)),SUPP_2c!$P$3:$P$198,0))","v":15.5},{"$f":"INDEX(SUPP_2c!H$3:H$198,MATCH((CONCATENATE($C$5,$AE70)),SUPP_2c!$P$3:$P$198,0))","v":6.8},{"$f":"INDEX(SUPP_2c!I$3:I$198,MATCH((CONCATENATE($C$5,$AE70)),SUPP_2c!$P$3:$P$198,0))","v":1.8},{"$f":"INDEX(SUPP_2c!J$3:J$198,MATCH((CONCATENATE($C$5,$AE70)),SUPP_2c!$P$3:$P$198,0))","v":15.9},{"$f":"INDEX(SUPP_2c!K$3:K$198,MATCH((CONCATENATE($C$5,$AE70)),SUPP_2c!$P$3:$P$198,0))","v":98.2},{"$f":"INDEX(SUPP_2c!L$3:L$198,MATCH((CONCATENATE($C$5,$AE70)),SUPP_2c!$P$3:$P$198,0))","v":3062},null,null,null,null,null,null,null,null,null,null,null,null,null,null,null,null,null,null,"45_Religious_Studies"]
[]
["Music",null,{"$f":"IF($C$5=\"Independent school students\",SUPP_2c!D231,IF($C$5=\"State funded school students\",SUPP_2c!D232,IF($C$5=\"All further education college students\",SUPP_2c!D233,IF($C$5=\"Sixth form college students\",SUPP_2c!D234))))","v":2.5},{"$f":"IF($C$5=\"Independent school students\",SUPP_2c!E231,IF($C$5=\"State funded school students\",SUPP_2c!E232,IF($C$5=\"All further education college students\",SUPP_2c!E233,IF($C$5=\"Sixth form college students\",SUPP_2c!E234))))","v":10.9},{"$f":"IF($C$5=\"Independent school students\",SUPP_2c!F231,IF($C$5=\"State funded school students\",SUPP_2c!F232,IF($C$5=\"All further education college students\",SUPP_2c!F233,IF($C$5=\"Sixth form college students\",SUPP_2c!F234))))","v":25.2},{"$f":"IF($C$5=\"Independent school students\",SUPP_2c!G231,IF($C$5=\"State funded school students\",SUPP_2c!G232,IF($C$5=\"All further education college students\",SUPP_2c!G233,IF($C$5=\"Sixth form college students\",SUPP_2c!G234))))","v":27.9},{"$f":"IF($C$5=\"Independent school students\",SUPP_2c!H231,IF($C$5=\"State funded school students\",SUPP_2c!H232,IF($C$5=\"All further education college students\",SUPP_2c!H233,IF($C$5=\"Sixth form college students\",SUPP_2c!H234))))","v":22.5},{"$f":"IF($C$5=\"Independent school students\",SUPP_2c!I231,IF($C$5=\"State funded school students\",SUPP_2c!I232,IF($C$5=\"All further education college students\",SUPP_2c!I233,IF($C$5=\"Sixth form college students\",SUPP_2c!I234))))","v":9.4},{"$f":"IF($C$5=\"Independent school students\",SUPP_2c!J231,IF($C$5=\"State funded school students\",SUPP_2c!J232,IF($C$5=\"All further education college students\",SUPP_2c!J233,IF($C$5=\"Sixth form college students\",SUPP_2c!J234))))","v":1.5},{"$f":"IF($C$5=\"Independent school students\",SUPP_2c!K231,IF($C$5=\"State funded school students\",SUPP_2c!K232,IF($C$5=\"All further education college students\",SUPP_2c!K233,IF($C$5=\"Sixth form college students\",SUPP_2c!K234))))","v":13.4},{"$f":"IF($C$5=\"Independent school students\",SUPP_2c!L231,IF($C$5=\"State funded school students\",SUPP_2c!L232,IF($C$5=\"All further education college students\",SUPP_2c!L233,IF($C$5=\"Sixth form college students\",SUPP_2c!L234))))","v":98.5},{"$f":"IF($C$5=\"Independent school students\",SUPP_2c!M231,IF($C$5=\"State funded school students\",SUPP_2c!M232,IF($C$5=\"All further education college students\",SUPP_2c!M233,IF($C$5=\"Sixth form college students\",SUPP_2c!M234))))","v":1264},null,null,null,null,null,null,null,null,null,null,null,null,null,null,null,null,null,null,"46_Music"]
[]
["Physical Education",null,{"$f":"INDEX(SUPP_2c!C$3:C$198,MATCH((CONCATENATE($C$5,$AE74)),SUPP_2c!$P$3:$P$198,0))","v":3.5},{"$f":"INDEX(SUPP_2c!D$3:D$198,MATCH((CONCATENATE($C$5,$AE74)),SUPP_2c!$P$3:$P$198,0))","v":13.7},{"$f":"INDEX(SUPP_2c!E$3:E$198,MATCH((CONCATENATE($C$5,$AE74)),SUPP_2c!$P$3:$P$198,0))","v":27.2},{"$f":"INDEX(SUPP_2c!F$3:F$198,MATCH((CONCATENATE($C$5,$AE74)),SUPP_2c!$P$3:$P$198,0))","v":26.1},{"$f":"INDEX(SUPP_2c!G$3:G$198,MATCH((CONCATENATE($C$5,$AE74)),SUPP_2c!$P$3:$P$198,0))","v":17.600000000000001},{"$f":"INDEX(SUPP_2c!H$3:H$198,MATCH((CONCATENATE($C$5,$AE74)),SUPP_2c!$P$3:$P$198,0))","v":11},{"$f":"INDEX(SUPP_2c!I$3:I$198,MATCH((CONCATENATE($C$5,$AE74)),SUPP_2c!$P$3:$P$198,0))","v":1.1000000000000001},{"$f":"INDEX(SUPP_2c!J$3:J$198,MATCH((CONCATENATE($C$5,$AE74)),SUPP_2c!$P$3:$P$198,0))","v":17.100000000000001},{"$f":"INDEX(SUPP_2c!K$3:K$198,MATCH((CONCATENATE($C$5,$AE74)),SUPP_2c!$P$3:$P$198,0))","v":98.9},{"$f":"INDEX(SUPP_2c!L$3:L$198,MATCH((CONCATENATE($C$5,$AE74)),SUPP_2c!$P$3:$P$198,0))","v":2460},null,null,null,null,null,null,null,null,null,null,null,null,null,null,null,null,null,null,"47_Physical_Education"]
[]
["General Studies",null,{"$f":"INDEX(SUPP_2c!C$3:C$198,MATCH((CONCATENATE($C$5,$AE76)),SUPP_2c!$P$3:$P$198,0))","v":2.6},{"$f":"INDEX(SUPP_2c!D$3:D$198,MATCH((CONCATENATE($C$5,$AE76)),SUPP_2c!$P$3:$P$198,0))","v":6.6},{"$f":"INDEX(SUPP_2c!E$3:E$198,MATCH((CONCATENATE($C$5,$AE76)),SUPP_2c!$P$3:$P$198,0))","v":19.399999999999999},{"$f":"INDEX(SUPP_2c!F$3:F$198,MATCH((CONCATENATE($C$5,$AE76)),SUPP_2c!$P$3:$P$198,0))","v":26.9},{"$f":"INDEX(SUPP_2c!G$3:G$198,MATCH((CONCATENATE($C$5,$AE76)),SUPP_2c!$P$3:$P$198,0))","v":24.1},{"$f":"INDEX(SUPP_2c!H$3:H$198,MATCH((CONCATENATE($C$5,$AE76)),SUPP_2c!$P$3:$P$198,0))","v":12.9},{"$f":"INDEX(SUPP_2c!I$3:I$198,MATCH((CONCATENATE($C$5,$AE76)),SUPP_2c!$P$3:$P$198,0))","v":7.5},{"$f":"INDEX(SUPP_2c!J$3:J$198,MATCH((CONCATENATE($C$5,$AE76)),SUPP_2c!$P$3:$P$198,0))","v":9.1999999999999993},{"$f":"INDEX(SUPP_2c!K$3:K$198,MATCH((CONCATENATE($C$5,$AE76)),SUPP_2c!$P$3:$P$198,0))","v":92.5},{"$f":"INDEX(SUPP_2c!L$3:L$198,MATCH((CONCATENATE($C$5,$AE76)),SUPP_2c!$P$3:$P$198,0))","v":1636},null,null,null,null,null,null,null,null,null,null,null,null,null,null,null,null,null,null,"48_General_Studies"]
[]
["All facilitating subjects6",null,{"$f":"INDEX(SUPP_2c!C$202:C$213,MATCH((CONCATENATE($C$5,$AE78)),SUPP_2c!$P$202:$P$213,0))","v":8.6999999999999993},{"$f":"INDEX(SUPP_2c!D$202:D$213,MATCH((CONCATENATE($C$5,$AE78)),SUPP_2c!$P$202:$P$213,0))","v":19.399999999999999},{"$f":"INDEX(SUPP_2c!E$202:E$213,MATCH((CONCATENATE($C$5,$AE78)),SUPP_2c!$P$202:$P$213,0))","v":26.7},{"$f":"INDEX(SUPP_2c!F$202:F$213,MATCH((CONCATENATE($C$5,$AE78)),SUPP_2c!$P$202:$P$213,0))","v":22.7},{"$f":"INDEX(SUPP_2c!G$202:G$213,MATCH((CONCATENATE($C$5,$AE78)),SUPP_2c!$P$202:$P$213,0))","v":14.6},{"$f":"INDEX(SUPP_2c!H$202:H$213,MATCH((CONCATENATE($C$5,$AE78)),SUPP_2c!$P$202:$P$213,0))","v":6.7},{"$f":"INDEX(SUPP_2c!I$202:I$213,MATCH((CONCATENATE($C$5,$AE78)),SUPP_2c!$P$202:$P$213,0))","v":1.2},{"$f":"INDEX(SUPP_2c!J$202:J$213,MATCH((CONCATENATE($C$5,$AE78)),SUPP_2c!$P$202:$P$213,0))","v":28.1},{"$f":"INDEX(SUPP_2c!K$202:K$213,MATCH((CONCATENATE($C$5,$AE78)),SUPP_2c!$P$202:$P$213,0))","v":98.8},{"$f":"INDEX(SUPP_2c!L$202:L$213,MATCH((CONCATENATE($C$5,$AE78)),SUPP_2c!$P$202:$P$213,0))","v":58488},null,null,null,null,null,null,null,null,null,null,null,null,null,null,null,null,null,null,1]
[]
["All subjects",null,{"$f":"INDEX(SUPP_2c!C$3:C$198,MATCH((CONCATENATE($C$5,$AE80)),SUPP_2c!$P$3:$P$198,0))","v":6.2},{"$f":"INDEX(SUPP_2c!D$3:D$198,MATCH((CONCATENATE($C$5,$AE80)),SUPP_2c!$P$3:$P$198,0))","v":15.4},{"$f":"INDEX(SUPP_2c!E$3:E$198,MATCH((CONCATENATE($C$5,$AE80)),SUPP_2c!$P$3:$P$198,0))","v":27.8},{"$f":"INDEX(SUPP_2c!F$3:F$198,MATCH((CONCATENATE($C$5,$AE80)),SUPP_2c!$P$3:$P$198,0))","v":26.4},{"$f":"INDEX(SUPP_2c!G$3:G$198,MATCH((CONCATENATE($C$5,$AE80)),SUPP_2c!$P$3:$P$198,0))","v":16.100000000000001},{"$f":"INDEX(SUPP_2c!H$3:H$198,MATCH((CONCATENATE($C$5,$AE80)),SUPP_2c!$P$3:$P$198,0))","v":6.7},{"$f":"INDEX(SUPP_2c!I$3:I$198,MATCH((CONCATENATE($C$5,$AE80)),SUPP_2c!$P$3:$P$198,0))","v":1.3},{"$f":"INDEX(SUPP_2c!J$3:J$198,MATCH((CONCATENATE($C$5,$AE80)),SUPP_2c!$P$3:$P$198,0))","v":21.7},{"$f":"INDEX(SUPP_2c!K$3:K$198,MATCH((CONCATENATE($C$5,$AE80)),SUPP_2c!$P$3:$P$198,0))","v":98.7},{"$f":"INDEX(SUPP_2c!L$3:L$198,MATCH((CONCATENATE($C$5,$AE80)),SUPP_2c!$P$3:$P$198,0))","v":141672},null,null,null,null,null,null,null,null,null,null,null,null,null,null,null,null,null,null,"All subjects"]
[]
[null,null,null,null,null,null,null,null,null,null,null,"Source: 2015/16 16-18 attainment data (provisional)"]
[]
["1. Covers A level examination results for the 2015/16 academic year."]
["2. Covers students aged 16, 17 or 18 at the start of the 2015/16 academic year, ie 31 August 2015."]
["3. State funded schools:  covers sponsored and converter academies; community, voluntary aided, voluntary controlled and foundation schools; city technology colleges (CTCs); state-funded special schools; and free schools (mainstream, 16-19, studio school, UTC). "]
["    Excludes pupil referral units (PRUs), alternative provision (AP) and hospital schools. "]
["    Independent schools: covers independent schools, independent special schools, independent schools approved to take pupils with special educational needs (SEN) and non-maintained special schools."]
["    All further education sector colleges: covers sixth form colleges; further education sector college; other government department funded colleges; and special colleges."]
["    Sixth Form colleges covers Sixth Form colleges only."]
["4. Includes ungraded, no award (absent/declined) and pending."]
["5. Information, Communication and Technology"]
["6. Facilitating A level subjects are: biology, chemistry, physics, mathematics, further mathematics, geography, history, English literature, modern and classical languages.",null,null,null,null,null,null,null,null,null,null,null,null,null,null,null,null,null,null,null,null,null,null,null,null,null,null,null,null,null,"5. Facilitating A level subjects include: biology, chemistry, physics, mathematics, further mathematics, geography, history, English literature, modern and classical languages."]
[]
["Notes:"]
["x indicates figure has been suppressed where underlying numbers are small (ie, 1 or 2) or where secondary suppression has been applied."]
["Percentages are rounded to one decimal place and therefore may not sum to totals."]
["Where qualifications taken by a student are in the same subject area and similar in content ‘discounting’ rules have been applied to avoid double counting qualifications."]
["Refer to 'Quality and Methodology Information' document."]
[". non applicable"]

{"sheet":"SUPP_2d","index":12,"n_rows":17,"n_cols":16,"rows_kept":17,"cut":false,"hidden":true,"merged":[]}
["Paste SQL output into cell A2"]
["Adm_type","gender","grade_AStar","grade_A","grade_B","grade_C","grade_D","grade_E","grade_other","grade_AStarA","grade_AStarE","Total","grade_Q","grade_U","grade_X","concatenate_name"]
["Comprehensive","M",6.4,13.8,24.7,27,18.3,8.1999999999999993,1.6,20.2,98.4,155361,4,2456,39,"MalesComprehensive"]
["Modern","M",2.1,6.9,20.399999999999999,31.2,25.4,11.3,2.8,9,97.2,3659,0,101,1,"MalesModern"]
["Other","M",6.8,14.9,25.5,24.8,17.399999999999999,8.6999999999999993,1.8,21.8,98.2,2937,0,43,11,"MalesOther"]
["Selective","M",14.8,26.3,27.4,18.5,9.1,3.3,0.7,41.1,99.3,35871,1,221,12,"MalesSelective"]
["ALL_STATE_FUNDED_SCHOOLS","M",7.9,16,25.1,25.5,16.8,7.4,1.5,23.8,98.5,197828,5,2821,63,"MalesALL_STATE_FUNDED_SCHOOLS"]
["Comprehensive","F",5.9,15.1,28.6,28.1,15.7,5.7,0.9,21,99.1,194018,0,1783,50,"FemalesComprehensive"]
["Modern","F",3.3,8.4,24.1,32.799999999999997,21.8,8.1,1.4,11.7,98.6,5103,0,71,2,"FemalesModern"]
["Other","F",5.7,15.4,29,26.3,15.7,7.1,0.9,21.1,99.1,3800,0,30,4,"FemalesOther"]
["Selective","F",12.9,27.9,30.8,18.100000000000001,7.6,2.4,0.3,40.799999999999997,99.7,38649,0,122,4,"FemalesSelective"]
["ALL_STATE_FUNDED_SCHOOLS","F",7,17,28.9,26.6,14.5,5.2,0.9,24,99.1,241570,0,2006,60,"FemalesALL_STATE_FUNDED_SCHOOLS"]
["ALL_STATE_FUNDED_SCHOOLS","ALL",7.4,16.5,27.2,26.1,15.5,6.2,1.1000000000000001,23.9,98.9,439398,5,4827,123,"AllALL_STATE_FUNDED_SCHOOLS"]
["Comprehensive","ALL",6.1,14.5,26.9,27.6,16.8,6.8,1.2,20.7,98.8,349379,4,4239,89,"AllComprehensive"]
["Modern","ALL",2.8,7.8,22.6,32.200000000000003,23.3,9.4,2,10.6,98,8762,0,172,3,"AllModern"]
["Other","ALL",6.2,15.2,27.5,25.6,16.399999999999999,7.8,1.3,21.4,98.7,6737,0,73,15,"AllOther"]
["Selective","ALL",13.8,27.1,29.2,18.3,8.3000000000000007,2.8,0.5,40.9,99.5,74520,1,343,16,"AllSelective"]

{"sheet":"Table 2d","index":13,"n_rows":37,"n_cols":34,"rows_kept":37,"cut":false,"hidden":false,"merged":[[24,0,25,14],[4,5,4,14],[5,14,6,14],[5,5,5,13],[4,3,6,3]]}
["Table 2d: A level results1 of state-funded school students2 by admissions basis, grade and gender"]
["Year: 2015/16 (provisional)"]
["Coverage: England"]
[]
[null,"Select gender:",null,"Number of institutions4",null,"All"]
["Admissions basis / gender",null,null,null,null,"Percentage achieving grade",null,null,null,null,null,null,null,null,"Number of entries"]
[null,null,null,null,null,"A*","A","B","C","D","E","Other3","A*-A","A*-E"]
[]
["All state-funded schools5",null,null,2781,null,{"$f":"INDEX(SUPP_2d!C$3:C$196,MATCH((CONCATENATE($F$5,$AH9)),SUPP_2d!$P$3:$P$196,0))","v":7.4},{"$f":"INDEX(SUPP_2d!D$3:D$196,MATCH((CONCATENATE($F$5,$AH9)),SUPP_2d!$P$3:$P$196,0))","v":16.5},{"$f":"INDEX(SUPP_2d!E$3:E$196,MATCH((CONCATENATE($F$5,$AH9)),SUPP_2d!$P$3:$P$196,0))","v":27.2},{"$f":"INDEX(SUPP_2d!F$3:F$196,MATCH((CONCATENATE($F$5,$AH9)),SUPP_2d!$P$3:$P$196,0))","v":26.1},{"$f":"INDEX(SUPP_2d!G$3:G$196,MATCH((CONCATENATE($F$5,$AH9)),SUPP_2d!$P$3:$P$196,0))","v":15.5},{"$f":"INDEX(SUPP_2d!H$3:H$196,MATCH((CONCATENATE($F$5,$AH9)),SUPP_2d!$P$3:$P$196,0))","v":6.2},{"$f":"INDEX(SUPP_2d!I$3:I$196,MATCH((CONCATENATE($F$5,$AH9)),SUPP_2d!$P$3:$P$196,0))","v":1.1000000000000001},{"$f":"INDEX(SUPP_2d!J$3:J$196,MATCH((CONCATENATE($F$5,$AH9)),SUPP_2d!$P$3:$P$196,0))","v":23.9},{"$f":"INDEX(SUPP_2d!K$3:K$196,MATCH((CONCATENATE($F$5,$AH9)),SUPP_2d!$P$3:$P$196,0))","v":98.9},{"$f":"INDEX(SUPP_2d!L$3:L$196,MATCH((CONCATENATE($F$5,$AH9)),SUPP_2d!$P$3:$P$196,0))","v":439398},null,null,null,null,null,null,null,null,null,null,null,null,null,null,null,null,null,null,"ALL_STATE_FUNDED_SCHOOLS"]
[]
["    of which:"]
[]
["       Comprehensive schools",null,null,1998,null,{"$f":"INDEX(SUPP_2d!C$3:C$196,MATCH((CONCATENATE($F$5,$AH13)),SUPP_2d!$P$3:$P$196,0))","v":6.1},{"$f":"INDEX(SUPP_2d!D$3:D$196,MATCH((CONCATENATE($F$5,$AH13)),SUPP_2d!$P$3:$P$196,0))","v":14.5},{"$f":"INDEX(SUPP_2d!E$3:E$196,MATCH((CONCATENATE($F$5,$AH13)),SUPP_2d!$P$3:$P$196,0))","v":26.9},{"$f":"INDEX(SUPP_2d!F$3:F$196,MATCH((CONCATENATE($F$5,$AH13)),SUPP_2d!$P$3:$P$196,0))","v":27.6},{"$f":"INDEX(SUPP_2d!G$3:G$196,MATCH((CONCATENATE($F$5,$AH13)),SUPP_2d!$P$3:$P$196,0))","v":16.8},{"$f":"INDEX(SUPP_2d!H$3:H$196,MATCH((CONCATENATE($F$5,$AH13)),SUPP_2d!$P$3:$P$196,0))","v":6.8},{"$f":"INDEX(SUPP_2d!I$3:I$196,MATCH((CONCATENATE($F$5,$AH13)),SUPP_2d!$P$3:$P$196,0))","v":1.2},{"$f":"INDEX(SUPP_2d!J$3:J$196,MATCH((CONCATENATE($F$5,$AH13)),SUPP_2d!$P$3:$P$196,0))","v":20.7},{"$f":"INDEX(SUPP_2d!K$3:K$196,MATCH((CONCATENATE($F$5,$AH13)),SUPP_2d!$P$3:$P$196,0))","v":98.8},{"$f":"INDEX(SUPP_2d!L$3:L$196,MATCH((CONCATENATE($F$5,$AH13)),SUPP_2d!$P$3:$P$196,0))","v":349379},null,null,null,null,null,null,null,null,null,null,null,null,null,null,null,null,null,null,"Comprehensive"]
[]
["       Selective schools ",null,null,163,null,{"$f":"INDEX(SUPP_2d!C$3:C$196,MATCH((CONCATENATE($F$5,$AH15)),SUPP_2d!$P$3:$P$196,0))","v":13.8},{"$f":"INDEX(SUPP_2d!D$3:D$196,MATCH((CONCATENATE($F$5,$AH15)),SUPP_2d!$P$3:$P$196,0))","v":27.1},{"$f":"INDEX(SUPP_2d!E$3:E$196,MATCH((CONCATENATE($F$5,$AH15)),SUPP_2d!$P$3:$P$196,0))","v":29.2},{"$f":"INDEX(SUPP_2d!F$3:F$196,MATCH((CONCATENATE($F$5,$AH15)),SUPP_2d!$P$3:$P$196,0))","v":18.3},{"$f":"INDEX(SUPP_2d!G$3:G$196,MATCH((CONCATENATE($F$5,$AH15)),SUPP_2d!$P$3:$P$196,0))","v":8.3000000000000007},{"$f":"INDEX(SUPP_2d!H$3:H$196,MATCH((CONCATENATE($F$5,$AH15)),SUPP_2d!$P$3:$P$196,0))","v":2.8},{"$f":"INDEX(SUPP_2d!I$3:I$196,MATCH((CONCATENATE($F$5,$AH15)),SUPP_2d!$P$3:$P$196,0))","v":0.5},{"$f":"INDEX(SUPP_2d!J$3:J$196,MATCH((CONCATENATE($F$5,$AH15)),SUPP_2d!$P$3:$P$196,0))","v":40.9},{"$f":"INDEX(SUPP_2d!K$3:K$196,MATCH((CONCATENATE($F$5,$AH15)),SUPP_2d!$P$3:$P$196,0))","v":99.5},{"$f":"INDEX(SUPP_2d!L$3:L$196,MATCH((CONCATENATE($F$5,$AH15)),SUPP_2d!$P$3:$P$196,0))","v":74520},null,null,null,null,null,null,null,null,null,null,null,null,null,null,null,null,null,null,"Selective"]
[]
["       Modern schools",null,null,89,null,{"$f":"INDEX(SUPP_2d!C$3:C$196,MATCH((CONCATENATE($F$5,$AH17)),SUPP_2d!$P$3:$P$196,0))","v":2.8},{"$f":"INDEX(SUPP_2d!D$3:D$196,MATCH((CONCATENATE($F$5,$AH17)),SUPP_2d!$P$3:$P$196,0))","v":7.8},{"$f":"INDEX(SUPP_2d!E$3:E$196,MATCH((CONCATENATE($F$5,$AH17)),SUPP_2d!$P$3:$P$196,0))","v":22.6},{"$f":"INDEX(SUPP_2d!F$3:F$196,MATCH((CONCATENATE($F$5,$AH17)),SUPP_2d!$P$3:$P$196,0))","v":32.200000000000003},{"$f":"INDEX(SUPP_2d!G$3:G$196,MATCH((CONCATENATE($F$5,$AH17)),SUPP_2d!$P$3:$P$196,0))","v":23.3},{"$f":"INDEX(SUPP_2d!H$3:H$196,MATCH((CONCATENATE($F$5,$AH17)),SUPP_2d!$P$3:$P$196,0))","v":9.4},{"$f":"INDEX(SUPP_2d!I$3:I$196,MATCH((CONCATENATE($F$5,$AH17)),SUPP_2d!$P$3:$P$196,0))","v":2},{"$f":"INDEX(SUPP_2d!J$3:J$196,MATCH((CONCATENATE($F$5,$AH17)),SUPP_2d!$P$3:$P$196,0))","v":10.6},{"$f":"INDEX(SUPP_2d!K$3:K$196,MATCH((CONCATENATE($F$5,$AH17)),SUPP_2d!$P$3:$P$196,0))","v":98},{"$f":"INDEX(SUPP_2d!L$3:L$196,MATCH((CONCATENATE($F$5,$AH17)),SUPP_2d!$P$3:$P$196,0))","v":8762},null,null,null,null,null,null,null,null,null,null,null,null,null,null,null,null,null,null,"Modern"]
[]
[null,null,null,null,null,null,null,null,null,null,null,null,null,null,"Source: 2015/16 16-18 attainment data (provisional)"]
[]
["1. Covers A level examination results for the 2015/16 academic year."]
["2. Covers students aged 16, 17 or 18 at the start of the 2015/16 academic year, ie 31 August 2015."]
["3. Includes ungraded, no award (absent/declined) and pending."]
["4. The total number of institutions in the 2015/16 academic year that have students at the end of 16-18 study."]
["5. Covers sponsored and converter academies; community, voluntary aided, voluntary controlled and foundation schools; city technology colleges (CTCs), state-funded special schools and free schools (mainstream, 16-19, studio school, UTC ). Excludes pupil referral units (PRUs), alternative provision (AP) and hospital schools. Figures for other state-funded schools are not shown in the table, therefore the numbers of students do not sum to totals."]
[]
[]
["Admissions basis:"]
["Comprehensive schools: admit all pupils, usually regardless of their ability or aptitude; includes schools operating pupil ability banding admission arrangements."]
["Selective schools: admit pupils wholly or mainly with reference to ability. These schools are formally designated as grammar schools."]
["Modern schools: schools which, like comprehensives, admit pupils of any ability. However, secondary modern schools will have grammar schools in their area which admit most local high ability pupils. Secondary modern schools therefore may have a lower ability intake than comprehensive schools which are not in grammar school areas."]
[]
[]
["Notes:"]
["Percentages are rounded to one decimal place and therefore may not sum to totals."]
["Where qualifications taken by a student are in the same subject area and similar in content ‘discounting’ rules have been applied to avoid double counting qualifications."]
["Refer to 'Quality and Methodology Information' document."]

{"sheet":"SUPP_3a","index":14,"n_rows":165,"n_cols":14,"rows_kept":165,"cut":false,"hidden":true,"merged":[]}
["Paste SQL output into cell A2"]
["GENDER","Subjects","grade_A","grade_B","grade_C","grade_D","grade_E","grade_other","grade_AtoE","Total","grade_Q","grade_U","grade_X","concatenate_name"]
["M","NULL",17.3,17,20,18,13.5,14.2,85.8,409702,11,56264,2062,"MalesNULL"]
["M","01_Biology",17.600000000000001,14.9,18.3,18.600000000000001,14.3,16.399999999999999,83.6,23815,1,3760,137,"Males01_Biology"]
["M","03_Chemistry",20.8,16.7,17.3,16.600000000000001,12.9,15.7,84.3,25978,0,3945,145,"Males03_Chemistry"]
["M","04_Physics",20.3,14.7,17,16.899999999999999,13.7,17.5,82.5,30542,0,5164,175,"Males04_Physics"]
["M","05_Other_Sciences",19.100000000000001,18.2,20,16,13.4,13.2,86.8,3276,0,418,16,"Males05_Other_Sciences"]
["M","06_Mathematics_other",82.9,5.3,4.5999999999999996,"x","x",3.3,96.7,152,0,2,3,"Males06_Mathematics_other"]
["M","07_Mathematics",26.8,15.6,14.7,13.1,10.7,19.100000000000001,80.900000000000006,60593,0,11401,174,"Males07_Mathematics"]
["M","08_Pure Mathematics",59,15.3,9.1999999999999993,6.1,3.1,7.4,92.6,229,0,17,0,"Males08_Pure Mathematics"]
["M","09_Statistics",6.8,12.4,19.8,20,14.3,26.7,73.3,880,0,232,3,"Males09_Statistics"]
["M","10_Use of Mathematics",5.7,13.2,19.8,23.1,21.4,16.8,83.2,1739,0,283,9,"Males10_Use of Mathematics"]
["M","11_Further Mathematics",40,17.2,14.3,10.9,8.4,9.1999999999999993,90.8,11439,0,1015,35,"Males11_Further Mathematics"]
["M","12_English_Literature",16.7,20.9,24.6,21.7,11.3,4.7,95.3,9798,0,398,62,"Males12_English_Literature"]
["M","13_English Language",9.1999999999999993,21.2,31.1,23.6,10.4,4.4000000000000004,95.6,6806,0,265,36,"Males13_English Language"]
["M","14_English_Language&Literature",7.1,16.100000000000001,26.7,29.2,15.1,5.8,94.2,3023,0,156,19,"Males14_English_Language&Literature"]
["M","15_Design&Technology",8.9,13.9,20,22.9,20.2,14.1,85.9,9432,6,1304,17,"Males15_Design&Technology"]
["M","16_Computing",12.1,13.1,18,20.2,18.3,18.3,81.7,8950,0,1583,54,"Males16_Computing"]
["M","17_ICT",5.7,12.3,19.2,23.5,20.6,18.7,81.3,6161,4,1100,46,"Males17_ICT"]
["M","18_Home Economics","x","x",12.8,12.8,29.8,34,66,47,0,16,0,"Males18_Home Economics"]
["M","19_Account&Finance",7.4,14.6,17.2,17.2,16.3,27.4,72.599999999999994,2990,0,801,18,"Males19_Account&Finance"]
["M","20_Business_Studies",8.6999999999999993,17.7,24.8,21.8,15.1,11.9,88.1,18737,0,2112,115,"Males20_Business_Studies"]
["M","21_Economics",17.2,18.2,20.100000000000001,17.7,13,13.8,86.2,20156,0,2699,90,"Males21_Economics"]
["M","22_Geography",18.2,18,20.8,18.5,13.1,11.4,88.6,21960,0,2461,49,"Males22_Geography"]
["M","23_Government&Politics",19.100000000000001,20.5,21.7,16.5,10.7,11.5,88.5,9993,0,1108,45,"Males23_Government&Politics"]
["M","24_History",15.5,22.1,25.7,19.7,10.8,6.2,93.8,19811,0,1117,102,"Males24_History"]
["M","25_Law",8.6,14.7,18.2,18.5,15.6,24.3,75.7,6544,0,1552,35,"Males25_Law"]
["M","26_Psychology",6.7,13.3,18.399999999999999,19.7,17.8,24.1,75.900000000000006,19296,0,4533,113,"Males26_Psychology"]
["M","27_Other_Comm_Studies",8.5,26.8,37.9,18.5,5.3,3,97,5777,0,138,38,"Males27_Other_Comm_Studies"]
["M","27_Sociology",8.5,13.5,21.2,20.9,16.899999999999999,19.100000000000001,80.900000000000006,10443,0,1899,91,"Males27_Sociology"]
["M","28_Other_Social_Studies",12.8,13.6,16.5,17.8,16.899999999999999,22.3,77.7,2097,0,450,18,"Males28_Other_Social_Studies"]
["M","29_Art&Design",16.2,20.3,22.7,19.2,12.3,9.3000000000000007,90.7,9096,0,709,138,"Males29_Art&Design"]
["M","30_Drama",14.3,26.2,31.8,19,6.7,2,98,4004,0,77,3,"Males30_Drama"]
["M","31_Media_Film_TV",6,18.899999999999999,30.9,26.1,12.5,5.6,94.4,10974,0,564,51,"Males31_Media_Film_TV"]
["M","32_Music",20.5,23.1,22.7,19.7,9.6999999999999993,4.3,95.7,2433,0,102,2,"Males32_Music"]
["M","33_French",30,19.7,19.100000000000001,13,10.4,7.7,92.3,3351,0,248,11,"Males33_French"]
["M","34_German",30.1,20.9,19.399999999999999,14.5,9.6,5.4,94.6,1783,0,91,5,"Males34_German"]
["M","35_Spanish",25.8,23.3,19.899999999999999,14.1,9.5,7.5,92.5,3194,0,229,10,"Males35_Spanish"]
["M","36_Other_Modern_Languages",30.2,24.1,17.899999999999999,11.4,7.6,8.8000000000000007,91.2,754,0,54,12,"Males36_Other_Modern_Languages"]
["M","37_Chinese",59.7,24,11,"x","x",1.1000000000000001,98.9,437,0,2,3,"Males37_Chinese"]
["M","38_Italian",35.799999999999997,25.3,14.4,14,4.7,5.8,94.2,257,0,15,0,"Males38_Italian"]
["M","39_Polish",66.3,20.5,6.3,2.9,0,3.9,96.1,205,0,1,7,"Males39_Polish"]
["M","40_Russian",81.900000000000006,11.9,3.1,1.8,"x","x","x",226,0,1,0,"Males40_Russian"]
["M","41_Classical_Studies",14.6,24.7,28.7,18.7,7.7,5.5,94.5,595,0,31,2,"Males41_Classical_Studies"]
["M","42_Latin",66.3,17.399999999999999,8.8000000000000007,4.3,1.4,1.7,98.3,419,0,6,1,"Males42_Latin"]
["M","43_Greek",85.5,7.2,"x","x","x","x","x",83,0,1,0,"Males43_Greek"]
["M","44_ClassicalCivilisation",15.6,22.3,27.2,17.3,10.8,6.9,93.1,1516,0,100,4,"Males44_ClassicalCivilisation"]
["M","45_Religious_Studies",17.5,21.8,22.8,16.899999999999999,10.7,10.199999999999999,89.8,8600,0,842,35,"Males45_Religious_Studies"]
["M","46_Music",9.5,20.3,24.2,22.3,14.5,9.1,90.9,1696,0,143,11,"Males46_Music"]
["M","47_Physical_Education",8,11.2,14.9,20.5,31.4,13.9,86.1,9210,0,1270,14,"Males47_Physical_Education"]
["M","48_General_Studies",10.4,15.1,19.3,19.7,16.3,19.2,80.8,10205,0,1849,108,"Males48_General_Studies"]
["F","NULL",18.600000000000001,20.2,21.7,17.399999999999999,11.3,10.6,89.4,483771,11,48960,2467,"FemalesNULL"]
["F","01_Biology",17.399999999999999,14.8,17.7,18.5,15,16.600000000000001,83.4,37900,0,6099,198,"Females01_Biology"]
["F","03_Chemistry",17.3,16.5,17.899999999999999,17.8,13.8,16.7,83.3,26379,1,4253,150,"Females03_Chemistry"]
["F","04_Physics",21.7,15.9,17.600000000000001,16.2,13,15.7,84.3,10015,0,1513,60,"Females04_Physics"]
["F","05_Other_Sciences",19.8,18.899999999999999,16.899999999999999,16.100000000000001,14.8,13.5,86.5,1565,0,203,8,"Females05_Other_Sciences"]
["F","06_Mathematics_other",67.599999999999994,14.7,8.8000000000000007,"x","x",0,100,34,0,0,0,"Females06_Mathematics_other"]
["F","07_Mathematics",26.2,18,16.2,13.8,10.5,15.3,84.7,41317,0,6209,102,"Females07_Mathematics"]
["F","08_Pure Mathematics",60.1,13.1,8.9,3,4.8,10.1,89.9,168,0,17,0,"Females08_Pure Mathematics"]
["F","09_Statistics",7.9,18.5,22.2,19.2,15.9,16.3,83.7,454,0,74,0,"Females09_Statistics"]
["F","10_Use of Mathematics",5.6,14.3,20.5,21.8,23.5,14.2,85.8,746,0,104,2,"Females10_Use of Mathematics"]
["F","11_Further Mathematics",44.4,17.899999999999999,13.7,9.9,6.8,7.3,92.7,5150,0,355,20,"Females11_Further Mathematics"]
["F","12_English_Literature",17.399999999999999,22.4,26.1,20.8,10.1,3.1,96.9,30343,0,800,148,"Females12_English_Literature"]
["F","13_English Language",12.8,26.5,32.200000000000003,19.5,6.6,2.4,97.6,14472,0,272,72,"Females13_English Language"]
["F","14_English_Language&Literature",9,19.7,30.8,25.9,10.9,3.7,96.3,7423,0,228,49,"Females14_English_Language&Literature"]
["F","15_Design&Technology",14.9,18.899999999999999,22,20.9,15,8.1999999999999993,91.8,5724,8,455,7,"Females15_Design&Technology"]
["F","16_Computing",10.4,12.3,18.100000000000001,19.8,18.5,20.9,79.099999999999994,1191,0,237,12,"Females16_Computing"]
["F","17_ICT",12.7,18.100000000000001,21.6,19.600000000000001,15.7,12.3,87.7,2482,1,292,12,"Females17_ICT"]
["F","18_Home Economics","x","x",19.899999999999999,15.2,12.7,15.2,84.8,276,0,40,2,"Females18_Home Economics"]
["F","19_Account&Finance",9.4,14.2,17.8,16.7,14.9,27,73,1483,0,393,7,"Females19_Account&Finance"]
["F","20_Business_Studies",9.8000000000000007,16.399999999999999,23.2,20.7,15.3,14.6,85.4,13139,0,1822,99,"Females20_Business_Studies"]
["F","21_Economics",19.8,19.100000000000001,19.399999999999999,16.7,12,13,87,9831,0,1228,49,"Females21_Economics"]
["F","22_Geography",26,20,19.399999999999999,15.5,10.6,8.5,91.5,21846,0,1814,51,"Females22_Geography"]
["F","23_Government&Politics",21.8,20.9,20.3,14.5,10.6,12,88,9438,0,1078,53,"Females23_Government&Politics"]
["F","24_History",18.3,22.2,24.5,18.2,10.4,6.3,93.7,24977,0,1455,116,"Females24_History"]
["F","25_Law",12.6,17.2,19.399999999999999,16.8,13.5,20.5,79.5,10894,0,2160,68,"Females25_Law"]
["F","26_Psychology",14.8,19.3,20.3,18.2,12.7,14.7,85.3,48349,0,6830,288,"Females26_Psychology"]
["F","27_Other_Comm_Studies",11.3,31.6,33.799999999999997,15.8,5.0999999999999996,2.4,97.6,8557,0,154,48,"Females27_Other_Comm_Studies"]
["F","27_Sociology",15.8,18.3,21.8,18.399999999999999,12.8,12.8,87.2,30285,1,3683,190,"Females27_Sociology"]
["F","28_Other_Social_Studies",11.6,13.8,18.7,19.600000000000001,17,19.100000000000001,80.900000000000006,3345,0,612,28,"Females28_Other_Social_Studies"]
["F","29_Art&Design",22.9,25.1,23.9,15.6,7.7,4.7,95.3,26385,0,956,291,"Females29_Art&Design"]
["F","30_Drama",16.899999999999999,30,31.8,15.7,4.4000000000000004,1.2,98.8,9022,0,100,11,"Females30_Drama"]
["F","31_Media_Film_TV",12.7,26.7,30.9,19.399999999999999,7.6,2.7,97.3,14210,0,341,49,"Females31_Media_Film_TV"]
["F","32_Music",19.600000000000001,27.1,24.3,16.600000000000001,9.1999999999999993,3.1,96.9,2870,0,88,2,"Females32_Music"]
["F","33_French",26.5,21.9,18.899999999999999,14.1,10.6,8,92,7717,0,592,24,"Females33_French"]
["F","34_German",26.6,22.2,21,15,10.1,5,95,2624,0,126,5,"Females34_German"]
["F","35_Spanish",23.8,24.1,20.3,15.7,9.4,6.7,93.3,6325,0,400,21,"Females35_Spanish"]
["F","36_Other_Modern_Languages",38.5,24.9,14.3,10.1,5.7,6.5,93.5,1035,0,43,24,"Females36_Other_Modern_Languages"]
["F","37_Chinese",75.5,18.399999999999999,3.7,"x","x",0.9,99.1,564,0,2,3,"Females37_Chinese"]
["F","38_Italian",35.1,24.9,15.4,12,5.6,7.1,92.9,482,0,34,0,"Females38_Italian"]
["F","39_Polish",75.8,15.3,4.0999999999999996,"x","x",2.5,97.5,314,0,1,7,"Females39_Polish"]
["F","40_Russian",81.2,11.2,4.9000000000000004,"x",0,"x","x",223,0,1,1,"Females40_Russian"]
["F","41_Classical_Studies",17.100000000000001,27.3,25.8,16.3,6.5,7,93,589,0,41,0,"Females41_Classical_Studies"]
["F","42_Latin",61.7,20.7,11,2.8,1.6,2.2000000000000002,97.8,643,0,10,4,"Females42_Latin"]
["F","43_Greek",80.3,12.1,"x",0,0,"x","x",66,0,1,0,"Females43_Greek"]
["F","44_ClassicalCivilisation",24.8,25.9,22.7,15.2,7.6,3.9,96.1,2697,0,100,5,"Females44_ClassicalCivilisation"]
["F","45_Religious_Studies",20.2,24.2,23,16,9.1,7.4,92.6,20258,0,1430,76,"Females45_Religious_Studies"]
["F","46_Music",6.4,18.5,26.4,23,16.3,9.3000000000000007,90.7,621,0,54,4,"Females46_Music"]
["F","47_Physical_Education",17.100000000000001,17,20.2,20.399999999999999,18.5,6.8,93.2,7153,0,479,9,"Females47_Physical_Education"]
["F","48_General_Studies",12.5,16.399999999999999,21.1,19.899999999999999,14.7,15.4,84.6,12190,0,1781,92,"Females48_General_Studies"]
["NULL","NULL",18,18.7,20.9,17.7,12.3,12.3,87.7,893473,22,105224,4529,"AllNULL"]
["NULL","01_Biology",17.5,14.8,18,18.5,14.7,16.5,83.5,61715,1,9859,335,"All01_Biology"]
["NULL","03_Chemistry",19.100000000000001,16.600000000000001,17.600000000000001,17.2,13.3,16.2,83.8,52357,1,8198,295,"All03_Chemistry"]
["NULL","04_Physics",20.6,15,17.100000000000001,16.7,13.5,17,83,40557,0,6677,235,"All04_Physics"]
["NULL","05_Other_Sciences",19.3,18.399999999999999,19,16,13.9,13.3,86.7,4841,0,621,24,"All05_Other_Sciences"]
["NULL","06_Mathematics_other",80.099999999999994,7,5.4,2.7,2.2000000000000002,2.7,97.3,186,0,2,3,"All06_Mathematics_other"]
["NULL","07_Mathematics",26.5,16.600000000000001,15.3,13.3,10.6,17.600000000000001,82.4,101910,0,17610,276,"All07_Mathematics"]
["NULL","08_Pure Mathematics",59.4,14.4,9.1,4.8,3.8,8.6,91.4,397,0,34,0,"All08_Pure Mathematics"]
["NULL","09_Statistics",7.2,14.5,20.6,19.7,14.8,23.2,76.8,1334,0,306,3,"All09_Statistics"]
["NULL","10_Use of Mathematics",5.7,13.5,20,22.7,22.1,16,84,2485,0,387,11,"All10_Use of Mathematics"]
["NULL","11_Further Mathematics",41.4,17.399999999999999,14.1,10.6,7.9,8.6,91.4,16589,0,1370,55,"All11_Further Mathematics"]
["NULL","12_English_Literature",17.3,22.1,25.8,21,10.4,3.5,96.5,40141,0,1198,210,"All12_English_Literature"]
["NULL","13_English Language",11.6,24.8,31.9,20.8,7.8,3,97,21278,0,537,108,"All13_English Language"]
["NULL","14_English_Language&Literature",8.5,18.600000000000001,29.6,26.9,12.1,4.3,95.7,10446,0,384,68,"All14_English_Language&Literature"]
["NULL","15_Design&Technology",11.2,15.8,20.7,22.2,18.3,11.9,88.1,15156,14,1759,24,"All15_Design&Technology"]
["NULL","16_Computing",11.9,13,18.100000000000001,20.100000000000001,18.3,18.600000000000001,81.400000000000006,10141,0,1820,66,"All16_Computing"]
["NULL","17_ICT",7.7,14,19.899999999999999,22.4,19.2,16.8,83.2,8643,5,1392,58,"All17_ICT"]
["NULL","18_Home Economics",16.399999999999999,16.7,18.899999999999999,14.9,15.2,18,82,323,0,56,2,"All18_Home Economics"]
["NULL","19_Account&Finance",8.1,14.5,17.399999999999999,17,15.8,27.3,72.7,4473,0,1194,25,"All19_Account&Finance"]
["NULL","20_Business_Studies",9.1999999999999993,17.100000000000001,24.1,21.3,15.2,13,87,31876,0,3934,214,"All20_Business_Studies"]
["NULL","21_Economics",18,18.5,19.899999999999999,17.399999999999999,12.6,13.6,86.4,29987,0,3927,139,"All21_Economics"]
["NULL","22_Geography",22.1,19,20.100000000000001,17,11.8,10,90,43806,0,4275,100,"All22_Geography"]
["NULL","23_Government&Politics",20.399999999999999,20.7,21,15.5,10.6,11.8,88.2,19431,0,2186,98,"All23_Government&Politics"]
["NULL","24_History",17.100000000000001,22.2,25.1,18.899999999999999,10.6,6.2,93.8,44788,0,2572,218,"All24_History"]
["NULL","25_Law",11.1,16.3,19,17.399999999999999,14.3,21.9,78.099999999999994,17438,0,3712,103,"All25_Law"]
["NULL","26_Psychology",12.5,17.600000000000001,19.7,18.600000000000001,14.1,17.399999999999999,82.6,67645,0,11363,401,"All26_Psychology"]
["NULL","27_Other_Comm_Studies",10.199999999999999,29.6,35.4,16.899999999999999,5.2,2.6,97.4,14334,0,292,86,"All27_Other_Comm_Studies"]
["NULL","27_Sociology",14,17.100000000000001,21.7,19.100000000000001,13.8,14.4,85.6,40728,1,5582,281,"All27_Sociology"]
["NULL","28_Other_Social_Studies",12.1,13.8,17.899999999999999,18.899999999999999,17,20.399999999999999,79.599999999999994,5442,0,1062,46,"All28_Other_Social_Studies"]
["NULL","29_Art&Design",21.2,23.9,23.6,16.5,8.8000000000000007,5.9,94.1,35481,0,1665,429,"All29_Art&Design"]
["NULL","30_Drama",16.100000000000001,28.9,31.8,16.7,5.0999999999999996,1.5,98.5,13026,0,177,14,"All30_Drama"]
["NULL","31_Media_Film_TV",9.8000000000000007,23.3,30.9,22.3,9.6999999999999993,4,96,25184,0,905,100,"All31_Media_Film_TV"]
["NULL","32_Music",20,25.3,23.6,18,9.4,3.7,96.3,5303,0,190,4,"All32_Music"]
["NULL","33_French",27.6,21.2,19,13.8,10.6,7.9,92.1,11068,0,840,35,"All33_French"]
["NULL","34_German",28,21.7,20.399999999999999,14.8,9.9,5.2,94.8,4407,0,217,10,"All34_German"]
["NULL","35_Spanish",24.4,23.8,20.100000000000001,15.2,9.4,6.9,93.1,9519,0,629,31,"All35_Spanish"]
["NULL","36_Other_Modern_Languages",35,24.6,15.8,10.7,6.5,7.4,92.6,1789,0,97,36,"All36_Other_Modern_Languages"]
["NULL","37_Chinese",68.599999999999994,20.9,6.9,2.2000000000000002,0.4,1,99,1001,0,4,6,"All37_Chinese"]
["NULL","38_Italian",35.299999999999997,25,15,12.7,5.3,6.6,93.4,739,0,49,0,"All38_Italian"]
["NULL","39_Polish",72.099999999999994,17.3,5,"x","x",3.1,96.9,519,0,2,14,"All39_Polish"]
["NULL","40_Russian",81.5,11.6,4,"x","x",0.7,99.3,449,0,2,1,"All40_Russian"]
["NULL","41_Classical_Studies",15.9,26,27.3,17.5,7.1,6.3,93.8,1184,0,72,2,"All41_Classical_Studies"]
["NULL","42_Latin",63.6,19.399999999999999,10.199999999999999,3.4,1.5,2,98,1062,0,16,5,"All42_Latin"]
["NULL","43_Greek",83.2,9.4,4.7,"x","x","x","x",149,0,2,0,"All43_Greek"]
["NULL","44_ClassicalCivilisation",21.5,24.6,24.3,15.9,8.6999999999999993,5,95,4213,0,200,9,"All44_ClassicalCivilisation"]
["NULL","45_Religious_Studies",19.399999999999999,23.5,23,16.3,9.6,8.3000000000000007,91.7,28858,0,2272,111,"All45_Religious_Studies"]
["NULL","46_Music",8.6999999999999993,19.899999999999999,24.8,22.5,15,9.1,90.9,2317,0,197,15,"All46_Music"]
["NULL","47_Physical_Education",12,13.7,17.2,20.5,25.8,10.8,89.2,16363,0,1749,23,"All47_Physical_Education"]
["NULL","48_General_Studies",11.6,15.8,20.3,19.8,15.4,17.100000000000001,82.9,22395,0,3630,200,"All48_General_Studies"]
[]
["M","Mathematics",26.2,15.4,14.9,13.4,11,19.100000000000001,80.900000000000006,63593,0,0,0]
["F","Mathematics",25.8,18,16.3,13.9,10.7,15.2,84.8,42719,0,0,0]
["All","Mathematics",26,16.399999999999999,15.5,13.6,10.9,17.5,82.5,106312,0,0,0]
["M","English",12.6,20.3,27.2,23.5,11.6,4.8,95.2,19627,0,0,0]
["F","English",14.9,23.2,28.5,21.2,9.1999999999999993,3,97,52238,0,0,0]
["All","English",14.3,22.4,28.1,21.8,9.9,3.5,96.5,71865,0,0,0]
["M","Other modern languages",48,22.4,12.8,7.9,3.9,5.0999999999999996,94.9,1879,0,0,0]
["F","Other modern languages",53.9,21.2,10.199999999999999,6.8,3.4,4.4000000000000004,95.6,2618,0,0,0]
["All","Other modern languages",51.5,21.7,11.3,7.2,3.6,4.7,95.3,4497,0,0,0]
["M","Classical studies",25.8,21.6,23.8,15,8.3000000000000007,5.5,94.5,2613,0,0,0]
["F","Classical studies",30.5,25.1,21,13.1,6.3,4,96,3995,0,0,0]
["All","Classical studies",28.6,23.7,22.1,13.8,7.1,4.5999999999999996,95.4,6608,0,0,0]
["M","Music",16,22,23.3,20.8,11.7,6.2,93.8,4129,0,0,0]
["F","Music ",17.2,25.6,24.7,17.8,10.5,4.2,95.8,3491,0,0,0]
["All","Music ",16.5,23.6,24,19.399999999999999,11.1,5.3,94.7,7620,0,0,0]

{"sheet":"Table 3a","index":15,"n_rows":93,"n_cols":31,"rows_kept":93,"cut":false,"hidden":false,"merged":[[2,0,2,3],[4,2,4,8],[5,2,5,8],[5,9,6,9],[85,0,86,9]]}
["Table 3a:  AS level results1,2 by subject, grade and gender"]
["Year: 2015/16 (provisional)"]
["Coverage: England"]
[]
[null,"Select gender:","All"]
["Subject",null,"Percentage achieving grade",null,null,null,null,null,null,"Number of entries"]
[null,null,"A","B","C","D","E","Other3","A-E "]
[]
["Biology5",null,{"$f":"INDEX(SUPP_3a!C$3:C$149,MATCH((CONCATENATE($C$5,$AE9)),SUPP_3a!$N$3:$N$149,0))","v":17.5},{"$f":"INDEX(SUPP_3a!D$3:D$149,MATCH((CONCATENATE($C$5,$AE9)),SUPP_3a!$N$3:$N$149,0))","v":14.8},{"$f":"INDEX(SUPP_3a!E$3:E$149,MATCH((CONCATENATE($C$5,$AE9)),SUPP_3a!$N$3:$N$149,0))","v":18},{"$f":"INDEX(SUPP_3a!F$3:F$149,MATCH((CONCATENATE($C$5,$AE9)),SUPP_3a!$N$3:$N$149,0))","v":18.5},{"$f":"INDEX(SUPP_3a!G$3:G$149,MATCH((CONCATENATE($C$5,$AE9)),SUPP_3a!$N$3:$N$149,0))","v":14.7},{"$f":"INDEX(SUPP_3a!H$3:H$149,MATCH((CONCATENATE($C$5,$AE9)),SUPP_3a!$N$3:$N$149,0))","v":16.5},{"$f":"INDEX(SUPP_3a!I$3:I$149,MATCH((CONCATENATE($C$5,$AE9)),SUPP_3a!$N$3:$N$149,0))","v":83.5},{"$f":"INDEX(SUPP_3a!J$3:J$149,MATCH((CONCATENATE($C$5,$AE9)),SUPP_3a!$N$3:$N$149,0))","v":61715},null,null,null,null,null,null,null,null,null,null,null,null,null,null,null,null,null,null,null,null,"01_Biology"]
["Chemistry5",null,{"$f":"INDEX(SUPP_3a!C$3:C$149,MATCH((CONCATENATE($C$5,$AE10)),SUPP_3a!$N$3:$N$149,0))","v":19.100000000000001},{"$f":"INDEX(SUPP_3a!D$3:D$149,MATCH((CONCATENATE($C$5,$AE10)),SUPP_3a!$N$3:$N$149,0))","v":16.600000000000001},{"$f":"INDEX(SUPP_3a!E$3:E$149,MATCH((CONCATENATE($C$5,$AE10)),SUPP_3a!$N$3:$N$149,0))","v":17.600000000000001},{"$f":"INDEX(SUPP_3a!F$3:F$149,MATCH((CONCATENATE($C$5,$AE10)),SUPP_3a!$N$3:$N$149,0))","v":17.2},{"$f":"INDEX(SUPP_3a!G$3:G$149,MATCH((CONCATENATE($C$5,$AE10)),SUPP_3a!$N$3:$N$149,0))","v":13.3},{"$f":"INDEX(SUPP_3a!H$3:H$149,MATCH((CONCATENATE($C$5,$AE10)),SUPP_3a!$N$3:$N$149,0))","v":16.2},{"$f":"INDEX(SUPP_3a!I$3:I$149,MATCH((CONCATENATE($C$5,$AE10)),SUPP_3a!$N$3:$N$149,0))","v":83.8},{"$f":"INDEX(SUPP_3a!J$3:J$149,MATCH((CONCATENATE($C$5,$AE10)),SUPP_3a!$N$3:$N$149,0))","v":52357},null,null,null,null,null,null,null,null,null,null,null,null,null,null,null,null,null,null,null,null,"03_Chemistry"]
["Physics5",null,{"$f":"INDEX(SUPP_3a!C$3:C$149,MATCH((CONCATENATE($C$5,$AE11)),SUPP_3a!$N$3:$N$149,0))","v":20.6},{"$f":"INDEX(SUPP_3a!D$3:D$149,MATCH((CONCATENATE($C$5,$AE11)),SUPP_3a!$N$3:$N$149,0))","v":15},{"$f":"INDEX(SUPP_3a!E$3:E$149,MATCH((CONCATENATE($C$5,$AE11)),SUPP_3a!$N$3:$N$149,0))","v":17.100000000000001},{"$f":"INDEX(SUPP_3a!F$3:F$149,MATCH((CONCATENATE($C$5,$AE11)),SUPP_3a!$N$3:$N$149,0))","v":16.7},{"$f":"INDEX(SUPP_3a!G$3:G$149,MATCH((CONCATENATE($C$5,$AE11)),SUPP_3a!$N$3:$N$149,0))","v":13.5},{"$f":"INDEX(SUPP_3a!H$3:H$149,MATCH((CONCATENATE($C$5,$AE11)),SUPP_3a!$N$3:$N$149,0))","v":17},{"$f":"INDEX(SUPP_3a!I$3:I$149,MATCH((CONCATENATE($C$5,$AE11)),SUPP_3a!$N$3:$N$149,0))","v":83},{"$f":"INDEX(SUPP_3a!J$3:J$149,MATCH((CONCATENATE($C$5,$AE11)),SUPP_3a!$N$3:$N$149,0))","v":40557},null,null,null,null,null,null,null,null,null,null,null,null,null,null,null,null,null,null,null,null,"04_Physics"]
["Other Science",null,{"$f":"INDEX(SUPP_3a!C$3:C$149,MATCH((CONCATENATE($C$5,$AE12)),SUPP_3a!$N$3:$N$149,0))","v":19.3},{"$f":"INDEX(SUPP_3a!D$3:D$149,MATCH((CONCATENATE($C$5,$AE12)),SUPP_3a!$N$3:$N$149,0))","v":18.399999999999999},{"$f":"INDEX(SUPP_3a!E$3:E$149,MATCH((CONCATENATE($C$5,$AE12)),SUPP_3a!$N$3:$N$149,0))","v":19},{"$f":"INDEX(SUPP_3a!F$3:F$149,MATCH((CONCATENATE($C$5,$AE12)),SUPP_3a!$N$3:$N$149,0))","v":16},{"$f":"INDEX(SUPP_3a!G$3:G$149,MATCH((CONCATENATE($C$5,$AE12)),SUPP_3a!$N$3:$N$149,0))","v":13.9},{"$f":"INDEX(SUPP_3a!H$3:H$149,MATCH((CONCATENATE($C$5,$AE12)),SUPP_3a!$N$3:$N$149,0))","v":13.3},{"$f":"INDEX(SUPP_3a!I$3:I$149,MATCH((CONCATENATE($C$5,$AE12)),SUPP_3a!$N$3:$N$149,0))","v":86.7},{"$f":"INDEX(SUPP_3a!J$3:J$149,MATCH((CONCATENATE($C$5,$AE12)),SUPP_3a!$N$3:$N$149,0))","v":4841},null,null,null,null,null,null,null,null,null,null,null,null,null,null,null,null,null,null,null,null,"05_Other_Sciences"]
[]
["Mathematics",null,{"$f":"IF($C$5=\"All\",SUPP_3a!C153,IF($C$5=\"Females\",SUPP_3a!C152,IF($C$5=\"Males\",SUPP_3a!C151)))","v":26},{"$f":"IF($C$5=\"All\",SUPP_3a!D153,IF($C$5=\"Females\",SUPP_3a!D152,IF($C$5=\"Males\",SUPP_3a!D151)))","v":16.399999999999999},{"$f":"IF($C$5=\"All\",SUPP_3a!E153,IF($C$5=\"Females\",SUPP_3a!E152,IF($C$5=\"Males\",SUPP_3a!E151)))","v":15.5},{"$f":"IF($C$5=\"All\",SUPP_3a!F153,IF($C$5=\"Females\",SUPP_3a!F152,IF($C$5=\"Males\",SUPP_3a!F151)))","v":13.6},{"$f":"IF($C$5=\"All\",SUPP_3a!G153,IF($C$5=\"Females\",SUPP_3a!G152,IF($C$5=\"Males\",SUPP_3a!G151)))","v":10.9},{"$f":"IF($C$5=\"All\",SUPP_3a!H153,IF($C$5=\"Females\",SUPP_3a!H152,IF($C$5=\"Males\",SUPP_3a!H151)))","v":17.5},{"$f":"IF($C$5=\"All\",SUPP_3a!I153,IF($C$5=\"Females\",SUPP_3a!I152,IF($C$5=\"Males\",SUPP_3a!I151)))","v":82.5},{"$f":"IF($C$5=\"All\",SUPP_3a!J153,IF($C$5=\"Females\",SUPP_3a!J152,IF($C$5=\"Males\",SUPP_3a!J151)))","v":106312}]
["of which: "]
["  Mathematics",null,{"$f":"INDEX(SUPP_3a!C$3:C$149,MATCH((CONCATENATE($C$5,$AE16)),SUPP_3a!$N$3:$N$149,0))","v":26.5},{"$f":"INDEX(SUPP_3a!D$3:D$149,MATCH((CONCATENATE($C$5,$AE16)),SUPP_3a!$N$3:$N$149,0))","v":16.600000000000001},{"$f":"INDEX(SUPP_3a!E$3:E$149,MATCH((CONCATENATE($C$5,$AE16)),SUPP_3a!$N$3:$N$149,0))","v":15.3},{"$f":"INDEX(SUPP_3a!F$3:F$149,MATCH((CONCATENATE($C$5,$AE16)),SUPP_3a!$N$3:$N$149,0))","v":13.3},{"$f":"INDEX(SUPP_3a!G$3:G$149,MATCH((CONCATENATE($C$5,$AE16)),SUPP_3a!$N$3:$N$149,0))","v":10.6},{"$f":"INDEX(SUPP_3a!H$3:H$149,MATCH((CONCATENATE($C$5,$AE16)),SUPP_3a!$N$3:$N$149,0))","v":17.600000000000001},{"$f":"INDEX(SUPP_3a!I$3:I$149,MATCH((CONCATENATE($C$5,$AE16)),SUPP_3a!$N$3:$N$149,0))","v":82.4},{"$f":"INDEX(SUPP_3a!J$3:J$149,MATCH((CONCATENATE($C$5,$AE16)),SUPP_3a!$N$3:$N$149,0))","v":101910},null,null,null,null,null,null,null,null,null,null,null,null,null,null,null,null,null,null,null,null,"07_Mathematics"]
["  Pure Mathematics",null,{"$f":"INDEX(SUPP_3a!C$3:C$149,MATCH((CONCATENATE($C$5,$AE17)),SUPP_3a!$N$3:$N$149,0))","v":59.4},{"$f":"INDEX(SUPP_3a!D$3:D$149,MATCH((CONCATENATE($C$5,$AE17)),SUPP_3a!$N$3:$N$149,0))","v":14.4},{"$f":"INDEX(SUPP_3a!E$3:E$149,MATCH((CONCATENATE($C$5,$AE17)),SUPP_3a!$N$3:$N$149,0))","v":9.1},{"$f":"INDEX(SUPP_3a!F$3:F$149,MATCH((CONCATENATE($C$5,$AE17)),SUPP_3a!$N$3:$N$149,0))","v":4.8},{"$f":"INDEX(SUPP_3a!G$3:G$149,MATCH((CONCATENATE($C$5,$AE17)),SUPP_3a!$N$3:$N$149,0))","v":3.8},{"$f":"INDEX(SUPP_3a!H$3:H$149,MATCH((CONCATENATE($C$5,$AE17)),SUPP_3a!$N$3:$N$149,0))","v":8.6},{"$f":"INDEX(SUPP_3a!I$3:I$149,MATCH((CONCATENATE($C$5,$AE17)),SUPP_3a!$N$3:$N$149,0))","v":91.4},{"$f":"INDEX(SUPP_3a!J$3:J$149,MATCH((CONCATENATE($C$5,$AE17)),SUPP_3a!$N$3:$N$149,0))","v":397},null,null,null,null,null,null,null,null,null,null,null,null,null,null,null,null,null,null,null,null,"08_Pure Mathematics"]
["  Statistics",null,{"$f":"INDEX(SUPP_3a!C$3:C$149,MATCH((CONCATENATE($C$5,$AE18)),SUPP_3a!$N$3:$N$149,0))","v":7.2},{"$f":"INDEX(SUPP_3a!D$3:D$149,MATCH((CONCATENATE($C$5,$AE18)),SUPP_3a!$N$3:$N$149,0))","v":14.5},{"$f":"INDEX(SUPP_3a!E$3:E$149,MATCH((CONCATENATE($C$5,$AE18)),SUPP_3a!$N$3:$N$149,0))","v":20.6},{"$f":"INDEX(SUPP_3a!F$3:F$149,MATCH((CONCATENATE($C$5,$AE18)),SUPP_3a!$N$3:$N$149,0))","v":19.7},{"$f":"INDEX(SUPP_3a!G$3:G$149,MATCH((CONCATENATE($C$5,$AE18)),SUPP_3a!$N$3:$N$149,0))","v":14.8},{"$f":"INDEX(SUPP_3a!H$3:H$149,MATCH((CONCATENATE($C$5,$AE18)),SUPP_3a!$N$3:$N$149,0))","v":23.2},{"$f":"INDEX(SUPP_3a!I$3:I$149,MATCH((CONCATENATE($C$5,$AE18)),SUPP_3a!$N$3:$N$149,0))","v":76.8},{"$f":"INDEX(SUPP_3a!J$3:J$149,MATCH((CONCATENATE($C$5,$AE18)),SUPP_3a!$N$3:$N$149,0))","v":1334},null,null,null,null,null,null,null,null,null,null,null,null,null,null,null,null,null,null,null,null,"09_Statistics"]
["  Use of Mathematics",null,{"$f":"INDEX(SUPP_3a!C$3:C$149,MATCH((CONCATENATE($C$5,$AE19)),SUPP_3a!$N$3:$N$149,0))","v":5.7},{"$f":"INDEX(SUPP_3a!D$3:D$149,MATCH((CONCATENATE($C$5,$AE19)),SUPP_3a!$N$3:$N$149,0))","v":13.5},{"$f":"INDEX(SUPP_3a!E$3:E$149,MATCH((CONCATENATE($C$5,$AE19)),SUPP_3a!$N$3:$N$149,0))","v":20},{"$f":"INDEX(SUPP_3a!F$3:F$149,MATCH((CONCATENATE($C$5,$AE19)),SUPP_3a!$N$3:$N$149,0))","v":22.7},{"$f":"INDEX(SUPP_3a!G$3:G$149,MATCH((CONCATENATE($C$5,$AE19)),SUPP_3a!$N$3:$N$149,0))","v":22.1},{"$f":"INDEX(SUPP_3a!H$3:H$149,MATCH((CONCATENATE($C$5,$AE19)),SUPP_3a!$N$3:$N$149,0))","v":16},{"$f":"INDEX(SUPP_3a!I$3:I$149,MATCH((CONCATENATE($C$5,$AE19)),SUPP_3a!$N$3:$N$149,0))","v":84},{"$f":"INDEX(SUPP_3a!J$3:J$149,MATCH((CONCATENATE($C$5,$AE19)),SUPP_3a!$N$3:$N$149,0))","v":2485},null,null,null,null,null,null,null,null,null,null,null,null,null,null,null,null,null,null,null,null,"10_Use of Mathematics"]
["  Other Mathematics",null,{"$f":"INDEX(SUPP_3a!C$3:C$149,MATCH((CONCATENATE($C$5,$AE20)),SUPP_3a!$N$3:$N$149,0))","v":80.099999999999994},{"$f":"INDEX(SUPP_3a!D$3:D$149,MATCH((CONCATENATE($C$5,$AE20)),SUPP_3a!$N$3:$N$149,0))","v":7},{"$f":"INDEX(SUPP_3a!E$3:E$149,MATCH((CONCATENATE($C$5,$AE20)),SUPP_3a!$N$3:$N$149,0))","v":5.4},{"$f":"INDEX(SUPP_3a!F$3:F$149,MATCH((CONCATENATE($C$5,$AE20)),SUPP_3a!$N$3:$N$149,0))","v":2.7},{"$f":"INDEX(SUPP_3a!G$3:G$149,MATCH((CONCATENATE($C$5,$AE20)),SUPP_3a!$N$3:$N$149,0))","v":2.2000000000000002},{"$f":"INDEX(SUPP_3a!H$3:H$149,MATCH((CONCATENATE($C$5,$AE20)),SUPP_3a!$N$3:$N$149,0))","v":2.7},{"$f":"INDEX(SUPP_3a!I$3:I$149,MATCH((CONCATENATE($C$5,$AE20)),SUPP_3a!$N$3:$N$149,0))","v":97.3},{"$f":"INDEX(SUPP_3a!J$3:J$149,MATCH((CONCATENATE($C$5,$AE20)),SUPP_3a!$N$3:$N$149,0))","v":186},null,null,null,null,null,null,null,null,null,null,null,null,null,null,null,null,null,null,null,null,"06_Mathematics_other"]
[]
["Further Mathematics",null,{"$f":"INDEX(SUPP_3a!C$3:C$149,MATCH((CONCATENATE($C$5,$AE22)),SUPP_3a!$N$3:$N$149,0))","v":41.4},{"$f":"INDEX(SUPP_3a!D$3:D$149,MATCH((CONCATENATE($C$5,$AE22)),SUPP_3a!$N$3:$N$149,0))","v":17.399999999999999},{"$f":"INDEX(SUPP_3a!E$3:E$149,MATCH((CONCATENATE($C$5,$AE22)),SUPP_3a!$N$3:$N$149,0))","v":14.1},{"$f":"INDEX(SUPP_3a!F$3:F$149,MATCH((CONCATENATE($C$5,$AE22)),SUPP_3a!$N$3:$N$149,0))","v":10.6},{"$f":"INDEX(SUPP_3a!G$3:G$149,MATCH((CONCATENATE($C$5,$AE22)),SUPP_3a!$N$3:$N$149,0))","v":7.9},{"$f":"INDEX(SUPP_3a!H$3:H$149,MATCH((CONCATENATE($C$5,$AE22)),SUPP_3a!$N$3:$N$149,0))","v":8.6},{"$f":"INDEX(SUPP_3a!I$3:I$149,MATCH((CONCATENATE($C$5,$AE22)),SUPP_3a!$N$3:$N$149,0))","v":91.4},{"$f":"INDEX(SUPP_3a!J$3:J$149,MATCH((CONCATENATE($C$5,$AE22)),SUPP_3a!$N$3:$N$149,0))","v":16589},null,null,null,null,null,null,null,null,null,null,null,null,null,null,null,null,null,null,null,null,"11_Further Mathematics"]
[]
["English",null,{"$f":"IF($C$5=\"All\",SUPP_3a!C156,IF($C$5=\"Females\",SUPP_3a!C155,IF($C$5=\"Males\",SUPP_3a!C154)))","v":14.3},{"$f":"IF($C$5=\"All\",SUPP_3a!D156,IF($C$5=\"Females\",SUPP_3a!D155,IF($C$5=\"Males\",SUPP_3a!D154)))","v":22.4},{"$f":"IF($C$5=\"All\",SUPP_3a!E156,IF($C$5=\"Females\",SUPP_3a!E155,IF($C$5=\"Males\",SUPP_3a!E154)))","v":28.1},{"$f":"IF($C$5=\"All\",SUPP_3a!F156,IF($C$5=\"Females\",SUPP_3a!F155,IF($C$5=\"Males\",SUPP_3a!F154)))","v":21.8},{"$f":"IF($C$5=\"All\",SUPP_3a!G156,IF($C$5=\"Females\",SUPP_3a!G155,IF($C$5=\"Males\",SUPP_3a!G154)))","v":9.9},{"$f":"IF($C$5=\"All\",SUPP_3a!H156,IF($C$5=\"Females\",SUPP_3a!H155,IF($C$5=\"Males\",SUPP_3a!H154)))","v":3.5},{"$f":"IF($C$5=\"All\",SUPP_3a!I156,IF($C$5=\"Females\",SUPP_3a!I155,IF($C$5=\"Males\",SUPP_3a!I154)))","v":96.5},{"$f":"IF($C$5=\"All\",SUPP_3a!J156,IF($C$5=\"Females\",SUPP_3a!J155,IF($C$5=\"Males\",SUPP_3a!J154)))","v":71865}]
["of which:"]
["  English literature5",null,{"$f":"INDEX(SUPP_3a!C$3:C$149,MATCH((CONCATENATE($C$5,$AE26)),SUPP_3a!$N$3:$N$149,0))","v":17.3},{"$f":"INDEX(SUPP_3a!D$3:D$149,MATCH((CONCATENATE($C$5,$AE26)),SUPP_3a!$N$3:$N$149,0))","v":22.1},{"$f":"INDEX(SUPP_3a!E$3:E$149,MATCH((CONCATENATE($C$5,$AE26)),SUPP_3a!$N$3:$N$149,0))","v":25.8},{"$f":"INDEX(SUPP_3a!F$3:F$149,MATCH((CONCATENATE($C$5,$AE26)),SUPP_3a!$N$3:$N$149,0))","v":21},{"$f":"INDEX(SUPP_3a!G$3:G$149,MATCH((CONCATENATE($C$5,$AE26)),SUPP_3a!$N$3:$N$149,0))","v":10.4},{"$f":"INDEX(SUPP_3a!H$3:H$149,MATCH((CONCATENATE($C$5,$AE26)),SUPP_3a!$N$3:$N$149,0))","v":3.5},{"$f":"INDEX(SUPP_3a!I$3:I$149,MATCH((CONCATENATE($C$5,$AE26)),SUPP_3a!$N$3:$N$149,0))","v":96.5},{"$f":"INDEX(SUPP_3a!J$3:J$149,MATCH((CONCATENATE($C$5,$AE26)),SUPP_3a!$N$3:$N$149,0))","v":40141},null,null,null,null,null,null,null,null,null,null,null,null,null,null,null,null,null,null,null,null,"12_English_Literature"]
["  English language5",null,{"$f":"INDEX(SUPP_3a!C$3:C$149,MATCH((CONCATENATE($C$5,$AE27)),SUPP_3a!$N$3:$N$149,0))","v":11.6},{"$f":"INDEX(SUPP_3a!D$3:D$149,MATCH((CONCATENATE($C$5,$AE27)),SUPP_3a!$N$3:$N$149,0))","v":24.8},{"$f":"INDEX(SUPP_3a!E$3:E$149,MATCH((CONCATENATE($C$5,$AE27)),SUPP_3a!$N$3:$N$149,0))","v":31.9},{"$f":"INDEX(SUPP_3a!F$3:F$149,MATCH((CONCATENATE($C$5,$AE27)),SUPP_3a!$N$3:$N$149,0))","v":20.8},{"$f":"INDEX(SUPP_3a!G$3:G$149,MATCH((CONCATENATE($C$5,$AE27)),SUPP_3a!$N$3:$N$149,0))","v":7.8},{"$f":"INDEX(SUPP_3a!H$3:H$149,MATCH((CONCATENATE($C$5,$AE27)),SUPP_3a!$N$3:$N$149,0))","v":3},{"$f":"INDEX(SUPP_3a!I$3:I$149,MATCH((CONCATENATE($C$5,$AE27)),SUPP_3a!$N$3:$N$149,0))","v":97},{"$f":"INDEX(SUPP_3a!J$3:J$149,MATCH((CONCATENATE($C$5,$AE27)),SUPP_3a!$N$3:$N$149,0))","v":21278},null,null,null,null,null,null,null,null,null,null,null,null,null,null,null,null,null,null,null,null,"13_English Language"]
["  English language and literature5",null,{"$f":"INDEX(SUPP_3a!C$3:C$149,MATCH((CONCATENATE($C$5,$AE28)),SUPP_3a!$N$3:$N$149,0))","v":8.5},{"$f":"INDEX(SUPP_3a!D$3:D$149,MATCH((CONCATENATE($C$5,$AE28)),SUPP_3a!$N$3:$N$149,0))","v":18.600000000000001},{"$f":"INDEX(SUPP_3a!E$3:E$149,MATCH((CONCATENATE($C$5,$AE28)),SUPP_3a!$N$3:$N$149,0))","v":29.6},{"$f":"INDEX(SUPP_3a!F$3:F$149,MATCH((CONCATENATE($C$5,$AE28)),SUPP_3a!$N$3:$N$149,0))","v":26.9},{"$f":"INDEX(SUPP_3a!G$3:G$149,MATCH((CONCATENATE($C$5,$AE28)),SUPP_3a!$N$3:$N$149,0))","v":12.1},{"$f":"INDEX(SUPP_3a!H$3:H$149,MATCH((CONCATENATE($C$5,$AE28)),SUPP_3a!$N$3:$N$149,0))","v":4.3},{"$f":"INDEX(SUPP_3a!I$3:I$149,MATCH((CONCATENATE($C$5,$AE28)),SUPP_3a!$N$3:$N$149,0))","v":95.7},{"$f":"INDEX(SUPP_3a!J$3:J$149,MATCH((CONCATENATE($C$5,$AE28)),SUPP_3a!$N$3:$N$149,0))","v":10446},null,null,null,null,null,null,null,null,null,null,null,null,null,null,null,null,null,null,null,null,"14_English_Language&Literature"]
[]
["Design and Technology",null,{"$f":"INDEX(SUPP_3a!C$3:C$149,MATCH((CONCATENATE($C$5,$AE30)),SUPP_3a!$N$3:$N$149,0))","v":11.2},{"$f":"INDEX(SUPP_3a!D$3:D$149,MATCH((CONCATENATE($C$5,$AE30)),SUPP_3a!$N$3:$N$149,0))","v":15.8},{"$f":"INDEX(SUPP_3a!E$3:E$149,MATCH((CONCATENATE($C$5,$AE30)),SUPP_3a!$N$3:$N$149,0))","v":20.7},{"$f":"INDEX(SUPP_3a!F$3:F$149,MATCH((CONCATENATE($C$5,$AE30)),SUPP_3a!$N$3:$N$149,0))","v":22.2},{"$f":"INDEX(SUPP_3a!G$3:G$149,MATCH((CONCATENATE($C$5,$AE30)),SUPP_3a!$N$3:$N$149,0))","v":18.3},{"$f":"INDEX(SUPP_3a!H$3:H$149,MATCH((CONCATENATE($C$5,$AE30)),SUPP_3a!$N$3:$N$149,0))","v":11.9},{"$f":"INDEX(SUPP_3a!I$3:I$149,MATCH((CONCATENATE($C$5,$AE30)),SUPP_3a!$N$3:$N$149,0))","v":88.1},{"$f":"INDEX(SUPP_3a!J$3:J$149,MATCH((CONCATENATE($C$5,$AE30)),SUPP_3a!$N$3:$N$149,0))","v":15156},null,null,null,null,null,null,null,null,null,null,null,null,null,null,null,null,null,null,null,null,"15_Design&Technology"]
["Computer Science5",null,{"$f":"INDEX(SUPP_3a!C$3:C$149,MATCH((CONCATENATE($C$5,$AE31)),SUPP_3a!$N$3:$N$149,0))","v":11.9},{"$f":"INDEX(SUPP_3a!D$3:D$149,MATCH((CONCATENATE($C$5,$AE31)),SUPP_3a!$N$3:$N$149,0))","v":13},{"$f":"INDEX(SUPP_3a!E$3:E$149,MATCH((CONCATENATE($C$5,$AE31)),SUPP_3a!$N$3:$N$149,0))","v":18.100000000000001},{"$f":"INDEX(SUPP_3a!F$3:F$149,MATCH((CONCATENATE($C$5,$AE31)),SUPP_3a!$N$3:$N$149,0))","v":20.100000000000001},{"$f":"INDEX(SUPP_3a!G$3:G$149,MATCH((CONCATENATE($C$5,$AE31)),SUPP_3a!$N$3:$N$149,0))","v":18.3},{"$f":"INDEX(SUPP_3a!H$3:H$149,MATCH((CONCATENATE($C$5,$AE31)),SUPP_3a!$N$3:$N$149,0))","v":18.600000000000001},{"$f":"INDEX(SUPP_3a!I$3:I$149,MATCH((CONCATENATE($C$5,$AE31)),SUPP_3a!$N$3:$N$149,0))","v":81.400000000000006},{"$f":"INDEX(SUPP_3a!J$3:J$149,MATCH((CONCATENATE($C$5,$AE31)),SUPP_3a!$N$3:$N$149,0))","v":10141},null,null,null,null,null,null,null,null,null,null,null,null,null,null,null,null,null,null,null,null,"16_Computing"]
["ICT4",null,{"$f":"INDEX(SUPP_3a!C$3:C$149,MATCH((CONCATENATE($C$5,$AE32)),SUPP_3a!$N$3:$N$149,0))","v":7.7},{"$f":"INDEX(SUPP_3a!D$3:D$149,MATCH((CONCATENATE($C$5,$AE32)),SUPP_3a!$N$3:$N$149,0))","v":14},{"$f":"INDEX(SUPP_3a!E$3:E$149,MATCH((CONCATENATE($C$5,$AE32)),SUPP_3a!$N$3:$N$149,0))","v":19.899999999999999},{"$f":"INDEX(SUPP_3a!F$3:F$149,MATCH((CONCATENATE($C$5,$AE32)),SUPP_3a!$N$3:$N$149,0))","v":22.4},{"$f":"INDEX(SUPP_3a!G$3:G$149,MATCH((CONCATENATE($C$5,$AE32)),SUPP_3a!$N$3:$N$149,0))","v":19.2},{"$f":"INDEX(SUPP_3a!H$3:H$149,MATCH((CONCATENATE($C$5,$AE32)),SUPP_3a!$N$3:$N$149,0))","v":16.8},{"$f":"INDEX(SUPP_3a!I$3:I$149,MATCH((CONCATENATE($C$5,$AE32)),SUPP_3a!$N$3:$N$149,0))","v":83.2},{"$f":"INDEX(SUPP_3a!J$3:J$149,MATCH((CONCATENATE($C$5,$AE32)),SUPP_3a!$N$3:$N$149,0))","v":8643},null,null,null,null,null,null,null,null,null,null,null,null,null,null,null,null,null,null,null,null,"17_ICT"]
[]
["Home Economics",null,{"$f":"INDEX(SUPP_3a!C$3:C$149,MATCH((CONCATENATE($C$5,$AE34)),SUPP_3a!$N$3:$N$149,0))","v":16.399999999999999},{"$f":"INDEX(SUPP_3a!D$3:D$149,MATCH((CONCATENATE($C$5,$AE34)),SUPP_3a!$N$3:$N$149,0))","v":16.7},{"$f":"INDEX(SUPP_3a!E$3:E$149,MATCH((CONCATENATE($C$5,$AE34)),SUPP_3a!$N$3:$N$149,0))","v":18.899999999999999},{"$f":"INDEX(SUPP_3a!F$3:F$149,MATCH((CONCATENATE($C$5,$AE34)),SUPP_3a!$N$3:$N$149,0))","v":14.9},{"$f":"INDEX(SUPP_3a!G$3:G$149,MATCH((CONCATENATE($C$5,$AE34)),SUPP_3a!$N$3:$N$149,0))","v":15.2},{"$f":"INDEX(SUPP_3a!H$3:H$149,MATCH((CONCATENATE($C$5,$AE34)),SUPP_3a!$N$3:$N$149,0))","v":18},{"$f":"INDEX(SUPP_3a!I$3:I$149,MATCH((CONCATENATE($C$5,$AE34)),SUPP_3a!$N$3:$N$149,0))","v":82},{"$f":"INDEX(SUPP_3a!J$3:J$149,MATCH((CONCATENATE($C$5,$AE34)),SUPP_3a!$N$3:$N$149,0))","v":323},null,null,null,null,null,null,null,null,null,null,null,null,null,null,null,null,null,null,null,null,"18_Home Economics"]
[]
["Accounting and Finance",null,{"$f":"INDEX(SUPP_3a!C$3:C$149,MATCH((CONCATENATE($C$5,$AE36)),SUPP_3a!$N$3:$N$149,0))","v":8.1},{"$f":"INDEX(SUPP_3a!D$3:D$149,MATCH((CONCATENATE($C$5,$AE36)),SUPP_3a!$N$3:$N$149,0))","v":14.5},{"$f":"INDEX(SUPP_3a!E$3:E$149,MATCH((CONCATENATE($C$5,$AE36)),SUPP_3a!$N$3:$N$149,0))","v":17.399999999999999},{"$f":"INDEX(SUPP_3a!F$3:F$149,MATCH((CONCATENATE($C$5,$AE36)),SUPP_3a!$N$3:$N$149,0))","v":17},{"$f":"INDEX(SUPP_3a!G$3:G$149,MATCH((CONCATENATE($C$5,$AE36)),SUPP_3a!$N$3:$N$149,0))","v":15.8},{"$f":"INDEX(SUPP_3a!H$3:H$149,MATCH((CONCATENATE($C$5,$AE36)),SUPP_3a!$N$3:$N$149,0))","v":27.3},{"$f":"INDEX(SUPP_3a!I$3:I$149,MATCH((CONCATENATE($C$5,$AE36)),SUPP_3a!$N$3:$N$149,0))","v":72.7},{"$f":"INDEX(SUPP_3a!J$3:J$149,MATCH((CONCATENATE($C$5,$AE36)),SUPP_3a!$N$3:$N$149,0))","v":4473},null,null,null,null,null,null,null,null,null,null,null,null,null,null,null,null,null,null,null,null,"19_Account&Finance"]
["Business Studies5",null,{"$f":"INDEX(SUPP_3a!C$3:C$149,MATCH((CONCATENATE($C$5,$AE37)),SUPP_3a!$N$3:$N$149,0))","v":9.1999999999999993},{"$f":"INDEX(SUPP_3a!D$3:D$149,MATCH((CONCATENATE($C$5,$AE37)),SUPP_3a!$N$3:$N$149,0))","v":17.100000000000001},{"$f":"INDEX(SUPP_3a!E$3:E$149,MATCH((CONCATENATE($C$5,$AE37)),SUPP_3a!$N$3:$N$149,0))","v":24.1},{"$f":"INDEX(SUPP_3a!F$3:F$149,MATCH((CONCATENATE($C$5,$AE37)),SUPP_3a!$N$3:$N$149,0))","v":21.3},{"$f":"INDEX(SUPP_3a!G$3:G$149,MATCH((CONCATENATE($C$5,$AE37)),SUPP_3a!$N$3:$N$149,0))","v":15.2},{"$f":"INDEX(SUPP_3a!H$3:H$149,MATCH((CONCATENATE($C$5,$AE37)),SUPP_3a!$N$3:$N$149,0))","v":13},{"$f":"INDEX(SUPP_3a!I$3:I$149,MATCH((CONCATENATE($C$5,$AE37)),SUPP_3a!$N$3:$N$149,0))","v":87},{"$f":"INDEX(SUPP_3a!J$3:J$149,MATCH((CONCATENATE($C$5,$AE37)),SUPP_3a!$N$3:$N$149,0))","v":31876},null,null,null,null,null,null,null,null,null,null,null,null,null,null,null,null,null,null,null,null,"20_Business_Studies"]
["Economics5",null,{"$f":"INDEX(SUPP_3a!C$3:C$149,MATCH((CONCATENATE($C$5,$AE38)),SUPP_3a!$N$3:$N$149,0))","v":18},{"$f":"INDEX(SUPP_3a!D$3:D$149,MATCH((CONCATENATE($C$5,$AE38)),SUPP_3a!$N$3:$N$149,0))","v":18.5},{"$f":"INDEX(SUPP_3a!E$3:E$149,MATCH((CONCATENATE($C$5,$AE38)),SUPP_3a!$N$3:$N$149,0))","v":19.899999999999999},{"$f":"INDEX(SUPP_3a!F$3:F$149,MATCH((CONCATENATE($C$5,$AE38)),SUPP_3a!$N$3:$N$149,0))","v":17.399999999999999},{"$f":"INDEX(SUPP_3a!G$3:G$149,MATCH((CONCATENATE($C$5,$AE38)),SUPP_3a!$N$3:$N$149,0))","v":12.6},{"$f":"INDEX(SUPP_3a!H$3:H$149,MATCH((CONCATENATE($C$5,$AE38)),SUPP_3a!$N$3:$N$149,0))","v":13.6},{"$f":"INDEX(SUPP_3a!I$3:I$149,MATCH((CONCATENATE($C$5,$AE38)),SUPP_3a!$N$3:$N$149,0))","v":86.4},{"$f":"INDEX(SUPP_3a!J$3:J$149,MATCH((CONCATENATE($C$5,$AE38)),SUPP_3a!$N$3:$N$149,0))","v":29987},null,null,null,null,null,null,null,null,null,null,null,null,null,null,null,null,null,null,null,null,"21_Economics"]
["Geography",null,{"$f":"INDEX(SUPP_3a!C$3:C$149,MATCH((CONCATENATE($C$5,$AE39)),SUPP_3a!$N$3:$N$149,0))","v":22.1},{"$f":"INDEX(SUPP_3a!D$3:D$149,MATCH((CONCATENATE($C$5,$AE39)),SUPP_3a!$N$3:$N$149,0))","v":19},{"$f":"INDEX(SUPP_3a!E$3:E$149,MATCH((CONCATENATE($C$5,$AE39)),SUPP_3a!$N$3:$N$149,0))","v":20.100000000000001},{"$f":"INDEX(SUPP_3a!F$3:F$149,MATCH((CONCATENATE($C$5,$AE39)),SUPP_3a!$N$3:$N$149,0))","v":17},{"$f":"INDEX(SUPP_3a!G$3:G$149,MATCH((CONCATENATE($C$5,$AE39)),SUPP_3a!$N$3:$N$149,0))","v":11.8},{"$f":"INDEX(SUPP_3a!H$3:H$149,MATCH((CONCATENATE($C$5,$AE39)),SUPP_3a!$N$3:$N$149,0))","v":10},{"$f":"INDEX(SUPP_3a!I$3:I$149,MATCH((CONCATENATE($C$5,$AE39)),SUPP_3a!$N$3:$N$149,0))","v":90},{"$f":"INDEX(SUPP_3a!J$3:J$149,MATCH((CONCATENATE($C$5,$AE39)),SUPP_3a!$N$3:$N$149,0))","v":43806},null,null,null,null,null,null,null,null,null,null,null,null,null,null,null,null,null,null,null,null,"22_Geography"]
["Government and Politics",null,{"$f":"INDEX(SUPP_3a!C$3:C$149,MATCH((CONCATENATE($C$5,$AE40)),SUPP_3a!$N$3:$N$149,0))","v":20.399999999999999},{"$f":"INDEX(SUPP_3a!D$3:D$149,MATCH((CONCATENATE($C$5,$AE40)),SUPP_3a!$N$3:$N$149,0))","v":20.7},{"$f":"INDEX(SUPP_3a!E$3:E$149,MATCH((CONCATENATE($C$5,$AE40)),SUPP_3a!$N$3:$N$149,0))","v":21},{"$f":"INDEX(SUPP_3a!F$3:F$149,MATCH((CONCATENATE($C$5,$AE40)),SUPP_3a!$N$3:$N$149,0))","v":15.5},{"$f":"INDEX(SUPP_3a!G$3:G$149,MATCH((CONCATENATE($C$5,$AE40)),SUPP_3a!$N$3:$N$149,0))","v":10.6},{"$f":"INDEX(SUPP_3a!H$3:H$149,MATCH((CONCATENATE($C$5,$AE40)),SUPP_3a!$N$3:$N$149,0))","v":11.8},{"$f":"INDEX(SUPP_3a!I$3:I$149,MATCH((CONCATENATE($C$5,$AE40)),SUPP_3a!$N$3:$N$149,0))","v":88.2},{"$f":"INDEX(SUPP_3a!J$3:J$149,MATCH((CONCATENATE($C$5,$AE40)),SUPP_3a!$N$3:$N$149,0))","v":19431},null,null,null,null,null,null,null,null,null,null,null,null,null,null,null,null,null,null,null,null,"23_Government&Politics"]
["History5",null,{"$f":"INDEX(SUPP_3a!C$3:C$149,MATCH((CONCATENATE($C$5,$AE41)),SUPP_3a!$N$3:$N$149,0))","v":17.100000000000001},{"$f":"INDEX(SUPP_3a!D$3:D$149,MATCH((CONCATENATE($C$5,$AE41)),SUPP_3a!$N$3:$N$149,0))","v":22.2},{"$f":"INDEX(SUPP_3a!E$3:E$149,MATCH((CONCATENATE($C$5,$AE41)),SUPP_3a!$N$3:$N$149,0))","v":25.1},{"$f":"INDEX(SUPP_3a!F$3:F$149,MATCH((CONCATENATE($C$5,$AE41)),SUPP_3a!$N$3:$N$149,0))","v":18.899999999999999},{"$f":"INDEX(SUPP_3a!G$3:G$149,MATCH((CONCATENATE($C$5,$AE41)),SUPP_3a!$N$3:$N$149,0))","v":10.6},{"$f":"INDEX(SUPP_3a!H$3:H$149,MATCH((CONCATENATE($C$5,$AE41)),SUPP_3a!$N$3:$N$149,0))","v":6.2},{"$f":"INDEX(SUPP_3a!I$3:I$149,MATCH((CONCATENATE($C$5,$AE41)),SUPP_3a!$N$3:$N$149,0))","v":93.8},{"$f":"INDEX(SUPP_3a!J$3:J$149,MATCH((CONCATENATE($C$5,$AE41)),SUPP_3a!$N$3:$N$149,0))","v":44788},null,null,null,null,null,null,null,null,null,null,null,null,null,null,null,null,null,null,null,null,"24_History"]
["Law",null,{"$f":"INDEX(SUPP_3a!C$3:C$149,MATCH((CONCATENATE($C$5,$AE42)),SUPP_3a!$N$3:$N$149,0))","v":11.1},{"$f":"INDEX(SUPP_3a!D$3:D$149,MATCH((CONCATENATE($C$5,$AE42)),SUPP_3a!$N$3:$N$149,0))","v":16.3},{"$f":"INDEX(SUPP_3a!E$3:E$149,MATCH((CONCATENATE($C$5,$AE42)),SUPP_3a!$N$3:$N$149,0))","v":19},{"$f":"INDEX(SUPP_3a!F$3:F$149,MATCH((CONCATENATE($C$5,$AE42)),SUPP_3a!$N$3:$N$149,0))","v":17.399999999999999},{"$f":"INDEX(SUPP_3a!G$3:G$149,MATCH((CONCATENATE($C$5,$AE42)),SUPP_3a!$N$3:$N$149,0))","v":14.3},{"$f":"INDEX(SUPP_3a!H$3:H$149,MATCH((CONCATENATE($C$5,$AE42)),SUPP_3a!$N$3:$N$149,0))","v":21.9},{"$f":"INDEX(SUPP_3a!I$3:I$149,MATCH((CONCATENATE($C$5,$AE42)),SUPP_3a!$N$3:$N$149,0))","v":78.099999999999994},{"$f":"INDEX(SUPP_3a!J$3:J$149,MATCH((CONCATENATE($C$5,$AE42)),SUPP_3a!$N$3:$N$149,0))","v":17438},null,null,null,null,null,null,null,null,null,null,null,null,null,null,null,null,null,null,null,null,"25_Law"]
["Psychology5",null,{"$f":"INDEX(SUPP_3a!C$3:C$149,MATCH((CONCATENATE($C$5,$AE43)),SUPP_3a!$N$3:$N$149,0))","v":12.5},{"$f":"INDEX(SUPP_3a!D$3:D$149,MATCH((CONCATENATE($C$5,$AE43)),SUPP_3a!$N$3:$N$149,0))","v":17.600000000000001},{"$f":"INDEX(SUPP_3a!E$3:E$149,MATCH((CONCATENATE($C$5,$AE43)),SUPP_3a!$N$3:$N$149,0))","v":19.7},{"$f":"INDEX(SUPP_3a!F$3:F$149,MATCH((CONCATENATE($C$5,$AE43)),SUPP_3a!$N$3:$N$149,0))","v":18.600000000000001},{"$f":"INDEX(SUPP_3a!G$3:G$149,MATCH((CONCATENATE($C$5,$AE43)),SUPP_3a!$N$3:$N$149,0))","v":14.1},{"$f":"INDEX(SUPP_3a!H$3:H$149,MATCH((CONCATENATE($C$5,$AE43)),SUPP_3a!$N$3:$N$149,0))","v":17.399999999999999},{"$f":"INDEX(SUPP_3a!I$3:I$149,MATCH((CONCATENATE($C$5,$AE43)),SUPP_3a!$N$3:$N$149,0))","v":82.6},{"$f":"INDEX(SUPP_3a!J$3:J$149,MATCH((CONCATENATE($C$5,$AE43)),SUPP_3a!$N$3:$N$149,0))","v":67645},null,null,null,null,null,null,null,null,null,null,null,null,null,null,null,null,null,null,null,null,"26_Psychology"]
["Sociology5",null,{"$f":"INDEX(SUPP_3a!C$3:C$149,MATCH((CONCATENATE($C$5,$AE44)),SUPP_3a!$N$3:$N$149,0))","v":14},{"$f":"INDEX(SUPP_3a!D$3:D$149,MATCH((CONCATENATE($C$5,$AE44)),SUPP_3a!$N$3:$N$149,0))","v":17.100000000000001},{"$f":"INDEX(SUPP_3a!E$3:E$149,MATCH((CONCATENATE($C$5,$AE44)),SUPP_3a!$N$3:$N$149,0))","v":21.7},{"$f":"INDEX(SUPP_3a!F$3:F$149,MATCH((CONCATENATE($C$5,$AE44)),SUPP_3a!$N$3:$N$149,0))","v":19.100000000000001},{"$f":"INDEX(SUPP_3a!G$3:G$149,MATCH((CONCATENATE($C$5,$AE44)),SUPP_3a!$N$3:$N$149,0))","v":13.8},{"$f":"INDEX(SUPP_3a!H$3:H$149,MATCH((CONCATENATE($C$5,$AE44)),SUPP_3a!$N$3:$N$149,0))","v":14.4},{"$f":"INDEX(SUPP_3a!I$3:I$149,MATCH((CONCATENATE($C$5,$AE44)),SUPP_3a!$N$3:$N$149,0))","v":85.6},{"$f":"INDEX(SUPP_3a!J$3:J$149,MATCH((CONCATENATE($C$5,$AE44)),SUPP_3a!$N$3:$N$149,0))","v":40728},null,null,null,null,null,null,null,null,null,null,null,null,null,null,null,null,null,null,null,null,"27_Sociology"]
["Other social studies",null,{"$f":"INDEX(SUPP_3a!C$3:C$149,MATCH((CONCATENATE($C$5,$AE45)),SUPP_3a!$N$3:$N$149,0))","v":12.1},{"$f":"INDEX(SUPP_3a!D$3:D$149,MATCH((CONCATENATE($C$5,$AE45)),SUPP_3a!$N$3:$N$149,0))","v":13.8},{"$f":"INDEX(SUPP_3a!E$3:E$149,MATCH((CONCATENATE($C$5,$AE45)),SUPP_3a!$N$3:$N$149,0))","v":17.899999999999999},{"$f":"INDEX(SUPP_3a!F$3:F$149,MATCH((CONCATENATE($C$5,$AE45)),SUPP_3a!$N$3:$N$149,0))","v":18.899999999999999},{"$f":"INDEX(SUPP_3a!G$3:G$149,MATCH((CONCATENATE($C$5,$AE45)),SUPP_3a!$N$3:$N$149,0))","v":17},{"$f":"INDEX(SUPP_3a!H$3:H$149,MATCH((CONCATENATE($C$5,$AE45)),SUPP_3a!$N$3:$N$149,0))","v":20.399999999999999},{"$f":"INDEX(SUPP_3a!I$3:I$149,MATCH((CONCATENATE($C$5,$AE45)),SUPP_3a!$N$3:$N$149,0))","v":79.599999999999994},{"$f":"INDEX(SUPP_3a!J$3:J$149,MATCH((CONCATENATE($C$5,$AE45)),SUPP_3a!$N$3:$N$149,0))","v":5442},null,null,null,null,null,null,null,null,null,null,null,null,null,null,null,null,null,null,null,null,"28_Other_Social_Studies"]
[]
["Art and design5",null,{"$f":"INDEX(SUPP_3a!C$3:C$149,MATCH((CONCATENATE($C$5,$AE47)),SUPP_3a!$N$3:$N$149,0))","v":21.2},{"$f":"INDEX(SUPP_3a!D$3:D$149,MATCH((CONCATENATE($C$5,$AE47)),SUPP_3a!$N$3:$N$149,0))","v":23.9},{"$f":"INDEX(SUPP_3a!E$3:E$149,MATCH((CONCATENATE($C$5,$AE47)),SUPP_3a!$N$3:$N$149,0))","v":23.6},{"$f":"INDEX(SUPP_3a!F$3:F$149,MATCH((CONCATENATE($C$5,$AE47)),SUPP_3a!$N$3:$N$149,0))","v":16.5},{"$f":"INDEX(SUPP_3a!G$3:G$149,MATCH((CONCATENATE($C$5,$AE47)),SUPP_3a!$N$3:$N$149,0))","v":8.8000000000000007},{"$f":"INDEX(SUPP_3a!H$3:H$149,MATCH((CONCATENATE($C$5,$AE47)),SUPP_3a!$N$3:$N$149,0))","v":5.9},{"$f":"INDEX(SUPP_3a!I$3:I$149,MATCH((CONCATENATE($C$5,$AE47)),SUPP_3a!$N$3:$N$149,0))","v":94.1},{"$f":"INDEX(SUPP_3a!J$3:J$149,MATCH((CONCATENATE($C$5,$AE47)),SUPP_3a!$N$3:$N$149,0))","v":35481},null,null,null,null,null,null,null,null,null,null,null,null,null,null,null,null,null,null,null,null,"29_Art&Design"]
["Drama",null,{"$f":"INDEX(SUPP_3a!C$3:C$149,MATCH((CONCATENATE($C$5,$AE48)),SUPP_3a!$N$3:$N$149,0))","v":16.100000000000001},{"$f":"INDEX(SUPP_3a!D$3:D$149,MATCH((CONCATENATE($C$5,$AE48)),SUPP_3a!$N$3:$N$149,0))","v":28.9},{"$f":"INDEX(SUPP_3a!E$3:E$149,MATCH((CONCATENATE($C$5,$AE48)),SUPP_3a!$N$3:$N$149,0))","v":31.8},{"$f":"INDEX(SUPP_3a!F$3:F$149,MATCH((CONCATENATE($C$5,$AE48)),SUPP_3a!$N$3:$N$149,0))","v":16.7},{"$f":"INDEX(SUPP_3a!G$3:G$149,MATCH((CONCATENATE($C$5,$AE48)),SUPP_3a!$N$3:$N$149,0))","v":5.0999999999999996},{"$f":"INDEX(SUPP_3a!H$3:H$149,MATCH((CONCATENATE($C$5,$AE48)),SUPP_3a!$N$3:$N$149,0))","v":1.5},{"$f":"INDEX(SUPP_3a!I$3:I$149,MATCH((CONCATENATE($C$5,$AE48)),SUPP_3a!$N$3:$N$149,0))","v":98.5},{"$f":"INDEX(SUPP_3a!J$3:J$149,MATCH((CONCATENATE($C$5,$AE48)),SUPP_3a!$N$3:$N$149,0))","v":13026},null,null,null,null,null,null,null,null,null,null,null,null,null,null,null,null,null,null,null,null,"30_Drama"]
["Media /Film / TV studies",null,{"$f":"INDEX(SUPP_3a!C$3:C$149,MATCH((CONCATENATE($C$5,$AE49)),SUPP_3a!$N$3:$N$149,0))","v":9.8000000000000007},{"$f":"INDEX(SUPP_3a!D$3:D$149,MATCH((CONCATENATE($C$5,$AE49)),SUPP_3a!$N$3:$N$149,0))","v":23.3},{"$f":"INDEX(SUPP_3a!E$3:E$149,MATCH((CONCATENATE($C$5,$AE49)),SUPP_3a!$N$3:$N$149,0))","v":30.9},{"$f":"INDEX(SUPP_3a!F$3:F$149,MATCH((CONCATENATE($C$5,$AE49)),SUPP_3a!$N$3:$N$149,0))","v":22.3},{"$f":"INDEX(SUPP_3a!G$3:G$149,MATCH((CONCATENATE($C$5,$AE49)),SUPP_3a!$N$3:$N$149,0))","v":9.6999999999999993},{"$f":"INDEX(SUPP_3a!H$3:H$149,MATCH((CONCATENATE($C$5,$AE49)),SUPP_3a!$N$3:$N$149,0))","v":4},{"$f":"INDEX(SUPP_3a!I$3:I$149,MATCH((CONCATENATE($C$5,$AE49)),SUPP_3a!$N$3:$N$149,0))","v":96},{"$f":"INDEX(SUPP_3a!J$3:J$149,MATCH((CONCATENATE($C$5,$AE49)),SUPP_3a!$N$3:$N$149,0))","v":25184},null,null,null,null,null,null,null,null,null,null,null,null,null,null,null,null,null,null,null,null,"31_Media_Film_TV"]
["Other communication studies",null,{"$f":"INDEX(SUPP_3a!C$3:C$149,MATCH((CONCATENATE($C$5,$AE50)),SUPP_3a!$N$3:$N$149,0))","v":10.199999999999999},{"$f":"INDEX(SUPP_3a!D$3:D$149,MATCH((CONCATENATE($C$5,$AE50)),SUPP_3a!$N$3:$N$149,0))","v":29.6},{"$f":"INDEX(SUPP_3a!E$3:E$149,MATCH((CONCATENATE($C$5,$AE50)),SUPP_3a!$N$3:$N$149,0))","v":35.4},{"$f":"INDEX(SUPP_3a!F$3:F$149,MATCH((CONCATENATE($C$5,$AE50)),SUPP_3a!$N$3:$N$149,0))","v":16.899999999999999},{"$f":"INDEX(SUPP_3a!G$3:G$149,MATCH((CONCATENATE($C$5,$AE50)),SUPP_3a!$N$3:$N$149,0))","v":5.2},{"$f":"INDEX(SUPP_3a!H$3:H$149,MATCH((CONCATENATE($C$5,$AE50)),SUPP_3a!$N$3:$N$149,0))","v":2.6},{"$f":"INDEX(SUPP_3a!I$3:I$149,MATCH((CONCATENATE($C$5,$AE50)),SUPP_3a!$N$3:$N$149,0))","v":97.4},{"$f":"INDEX(SUPP_3a!J$3:J$149,MATCH((CONCATENATE($C$5,$AE50)),SUPP_3a!$N$3:$N$149,0))","v":14334},null,null,null,null,null,null,null,null,null,null,null,null,null,null,null,null,null,null,null,null,"27_Other_Comm_Studies"]
[]
["French",null,{"$f":"INDEX(SUPP_3a!C$3:C$149,MATCH((CONCATENATE($C$5,$AE52)),SUPP_3a!$N$3:$N$149,0))","v":27.6},{"$f":"INDEX(SUPP_3a!D$3:D$149,MATCH((CONCATENATE($C$5,$AE52)),SUPP_3a!$N$3:$N$149,0))","v":21.2},{"$f":"INDEX(SUPP_3a!E$3:E$149,MATCH((CONCATENATE($C$5,$AE52)),SUPP_3a!$N$3:$N$149,0))","v":19},{"$f":"INDEX(SUPP_3a!F$3:F$149,MATCH((CONCATENATE($C$5,$AE52)),SUPP_3a!$N$3:$N$149,0))","v":13.8},{"$f":"INDEX(SUPP_3a!G$3:G$149,MATCH((CONCATENATE($C$5,$AE52)),SUPP_3a!$N$3:$N$149,0))","v":10.6},{"$f":"INDEX(SUPP_3a!H$3:H$149,MATCH((CONCATENATE($C$5,$AE52)),SUPP_3a!$N$3:$N$149,0))","v":7.9},{"$f":"INDEX(SUPP_3a!I$3:I$149,MATCH((CONCATENATE($C$5,$AE52)),SUPP_3a!$N$3:$N$149,0))","v":92.1},{"$f":"INDEX(SUPP_3a!J$3:J$149,MATCH((CONCATENATE($C$5,$AE52)),SUPP_3a!$N$3:$N$149,0))","v":11068},null,null,null,null,null,null,null,null,null,null,null,null,null,null,null,null,null,null,null,null,"33_French"]
["German",null,{"$f":"INDEX(SUPP_3a!C$3:C$149,MATCH((CONCATENATE($C$5,$AE53)),SUPP_3a!$N$3:$N$149,0))","v":28},{"$f":"INDEX(SUPP_3a!D$3:D$149,MATCH((CONCATENATE($C$5,$AE53)),SUPP_3a!$N$3:$N$149,0))","v":21.7},{"$f":"INDEX(SUPP_3a!E$3:E$149,MATCH((CONCATENATE($C$5,$AE53)),SUPP_3a!$N$3:$N$149,0))","v":20.399999999999999},{"$f":"INDEX(SUPP_3a!F$3:F$149,MATCH((CONCATENATE($C$5,$AE53)),SUPP_3a!$N$3:$N$149,0))","v":14.8},{"$f":"INDEX(SUPP_3a!G$3:G$149,MATCH((CONCATENATE($C$5,$AE53)),SUPP_3a!$N$3:$N$149,0))","v":9.9},{"$f":"INDEX(SUPP_3a!H$3:H$149,MATCH((CONCATENATE($C$5,$AE53)),SUPP_3a!$N$3:$N$149,0))","v":5.2},{"$f":"INDEX(SUPP_3a!I$3:I$149,MATCH((CONCATENATE($C$5,$AE53)),SUPP_3a!$N$3:$N$149,0))","v":94.8},{"$f":"INDEX(SUPP_3a!J$3:J$149,MATCH((CONCATENATE($C$5,$AE53)),SUPP_3a!$N$3:$N$149,0))","v":4407},null,null,null,null,null,null,null,null,null,null,null,null,null,null,null,null,null,null,null,null,"34_German"]
["Spanish",null,{"$f":"INDEX(SUPP_3a!C$3:C$149,MATCH((CONCATENATE($C$5,$AE54)),SUPP_3a!$N$3:$N$149,0))","v":24.4},{"$f":"INDEX(SUPP_3a!D$3:D$149,MATCH((CONCATENATE($C$5,$AE54)),SUPP_3a!$N$3:$N$149,0))","v":23.8},{"$f":"INDEX(SUPP_3a!E$3:E$149,MATCH((CONCATENATE($C$5,$AE54)),SUPP_3a!$N$3:$N$149,0))","v":20.100000000000001},{"$f":"INDEX(SUPP_3a!F$3:F$149,MATCH((CONCATENATE($C$5,$AE54)),SUPP_3a!$N$3:$N$149,0))","v":15.2},{"$f":"INDEX(SUPP_3a!G$3:G$149,MATCH((CONCATENATE($C$5,$AE54)),SUPP_3a!$N$3:$N$149,0))","v":9.4},{"$f":"INDEX(SUPP_3a!H$3:H$149,MATCH((CONCATENATE($C$5,$AE54)),SUPP_3a!$N$3:$N$149,0))","v":6.9},{"$f":"INDEX(SUPP_3a!I$3:I$149,MATCH((CONCATENATE($C$5,$AE54)),SUPP_3a!$N$3:$N$149,0))","v":93.1},{"$f":"INDEX(SUPP_3a!J$3:J$149,MATCH((CONCATENATE($C$5,$AE54)),SUPP_3a!$N$3:$N$149,0))","v":9519},null,null,null,null,null,null,null,null,null,null,null,null,null,null,null,null,null,null,null,null,"35_Spanish"]
["Other modern languages",null,{"$f":"IF($C$5=\"All\",SUPP_3a!C159,IF($C$5=\"Females\",SUPP_3a!C158,IF($C$5=\"Males\",SUPP_3a!C157)))","v":51.5},{"$f":"IF($C$5=\"All\",SUPP_3a!D159,IF($C$5=\"Females\",SUPP_3a!D158,IF($C$5=\"Males\",SUPP_3a!D157)))","v":21.7},{"$f":"IF($C$5=\"All\",SUPP_3a!E159,IF($C$5=\"Females\",SUPP_3a!E158,IF($C$5=\"Males\",SUPP_3a!E157)))","v":11.3},{"$f":"IF($C$5=\"All\",SUPP_3a!F159,IF($C$5=\"Females\",SUPP_3a!F158,IF($C$5=\"Males\",SUPP_3a!F157)))","v":7.2},{"$f":"IF($C$5=\"All\",SUPP_3a!G159,IF($C$5=\"Females\",SUPP_3a!G158,IF($C$5=\"Males\",SUPP_3a!G157)))","v":3.6},{"$f":"IF($C$5=\"All\",SUPP_3a!H159,IF($C$5=\"Females\",SUPP_3a!H158,IF($C$5=\"Males\",SUPP_3a!H157)))","v":4.7},{"$f":"IF($C$5=\"All\",SUPP_3a!I159,IF($C$5=\"Females\",SUPP_3a!I158,IF($C$5=\"Males\",SUPP_3a!I157)))","v":95.3},{"$f":"IF($C$5=\"All\",SUPP_3a!J159,IF($C$5=\"Females\",SUPP_3a!J158,IF($C$5=\"Males\",SUPP_3a!J157)))","v":4497}]
["of which:"]
["  Chinese",null,{"$f":"INDEX(SUPP_3a!C$3:C$149,MATCH((CONCATENATE($C$5,$AE57)),SUPP_3a!$N$3:$N$149,0))","v":68.599999999999994},{"$f":"INDEX(SUPP_3a!D$3:D$149,MATCH((CONCATENATE($C$5,$AE57)),SUPP_3a!$N$3:$N$149,0))","v":20.9},{"$f":"INDEX(SUPP_3a!E$3:E$149,MATCH((CONCATENATE($C$5,$AE57)),SUPP_3a!$N$3:$N$149,0))","v":6.9},{"$f":"INDEX(SUPP_3a!F$3:F$149,MATCH((CONCATENATE($C$5,$AE57)),SUPP_3a!$N$3:$N$149,0))","v":2.2000000000000002},{"$f":"INDEX(SUPP_3a!G$3:G$149,MATCH((CONCATENATE($C$5,$AE57)),SUPP_3a!$N$3:$N$149,0))","v":0.4},{"$f":"INDEX(SUPP_3a!H$3:H$149,MATCH((CONCATENATE($C$5,$AE57)),SUPP_3a!$N$3:$N$149,0))","v":1},{"$f":"INDEX(SUPP_3a!I$3:I$149,MATCH((CONCATENATE($C$5,$AE57)),SUPP_3a!$N$3:$N$149,0))","v":99},{"$f":"INDEX(SUPP_3a!J$3:J$149,MATCH((CONCATENATE($C$5,$AE57)),SUPP_3a!$N$3:$N$149,0))","v":1001},null,null,null,null,null,null,null,null,null,null,null,null,null,null,null,null,null,null,null,null,"37_Chinese"]
["  Italian",null,{"$f":"INDEX(SUPP_3a!C$3:C$149,MATCH((CONCATENATE($C$5,$AE58)),SUPP_3a!$N$3:$N$149,0))","v":35.299999999999997},{"$f":"INDEX(SUPP_3a!D$3:D$149,MATCH((CONCATENATE($C$5,$AE58)),SUPP_3a!$N$3:$N$149,0))","v":25},{"$f":"INDEX(SUPP_3a!E$3:E$149,MATCH((CONCATENATE($C$5,$AE58)),SUPP_3a!$N$3:$N$149,0))","v":15},{"$f":"INDEX(SUPP_3a!F$3:F$149,MATCH((CONCATENATE($C$5,$AE58)),SUPP_3a!$N$3:$N$149,0))","v":12.7},{"$f":"INDEX(SUPP_3a!G$3:G$149,MATCH((CONCATENATE($C$5,$AE58)),SUPP_3a!$N$3:$N$149,0))","v":5.3},{"$f":"INDEX(SUPP_3a!H$3:H$149,MATCH((CONCATENATE($C$5,$AE58)),SUPP_3a!$N$3:$N$149,0))","v":6.6},{"$f":"INDEX(SUPP_3a!I$3:I$149,MATCH((CONCATENATE($C$5,$AE58)),SUPP_3a!$N$3:$N$149,0))","v":93.4},{"$f":"INDEX(SUPP_3a!J$3:J$149,MATCH((CONCATENATE($C$5,$AE58)),SUPP_3a!$N$3:$N$149,0))","v":739},null,null,null,null,null,null,null,null,null,null,null,null,null,null,null,null,null,null,null,null,"38_Italian"]
["  Polish",null,{"$f":"INDEX(SUPP_3a!C$3:C$149,MATCH((CONCATENATE($C$5,$AE59)),SUPP_3a!$N$3:$N$149,0))","v":72.099999999999994},{"$f":"INDEX(SUPP_3a!D$3:D$149,MATCH((CONCATENATE($C$5,$AE59)),SUPP_3a!$N$3:$N$149,0))","v":17.3},{"$f":"INDEX(SUPP_3a!E$3:E$149,MATCH((CONCATENATE($C$5,$AE59)),SUPP_3a!$N$3:$N$149,0))","v":5},{"$f":"INDEX(SUPP_3a!F$3:F$149,MATCH((CONCATENATE($C$5,$AE59)),SUPP_3a!$N$3:$N$149,0))","v":"x"},{"$f":"INDEX(SUPP_3a!G$3:G$149,MATCH((CONCATENATE($C$5,$AE59)),SUPP_3a!$N$3:$N$149,0))","v":"x"},{"$f":"INDEX(SUPP_3a!H$3:H$149,MATCH((CONCATENATE($C$5,$AE59)),SUPP_3a!$N$3:$N$149,0))","v":3.1},{"$f":"INDEX(SUPP_3a!I$3:I$149,MATCH((CONCATENATE($C$5,$AE59)),SUPP_3a!$N$3:$N$149,0))","v":96.9},{"$f":"INDEX(SUPP_3a!J$3:J$149,MATCH((CONCATENATE($C$5,$AE59)),SUPP_3a!$N$3:$N$149,0))","v":519},null,null,null,null,null,null,null,null,null,null,null,null,null,null,null,null,null,null,null,null,"39_Polish"]
["  Russian",null,{"$f":"INDEX(SUPP_3a!C$3:C$149,MATCH((CONCATENATE($C$5,$AE60)),SUPP_3a!$N$3:$N$149,0))","v":81.5},{"$f":"INDEX(SUPP_3a!D$3:D$149,MATCH((CONCATENATE($C$5,$AE60)),SUPP_3a!$N$3:$N$149,0))","v":11.6},{"$f":"INDEX(SUPP_3a!E$3:E$149,MATCH((CONCATENATE($C$5,$AE60)),SUPP_3a!$N$3:$N$149,0))","v":4},{"$f":"INDEX(SUPP_3a!F$3:F$149,MATCH((CONCATENATE($C$5,$AE60)),SUPP_3a!$N$3:$N$149,0))","v":"x"},{"$f":"INDEX(SUPP_3a!G$3:G$149,MATCH((CONCATENATE($C$5,$AE60)),SUPP_3a!$N$3:$N$149,0))","v":"x"},{"$f":"INDEX(SUPP_3a!H$3:H$149,MATCH((CONCATENATE($C$5,$AE60)),SUPP_3a!$N$3:$N$149,0))","v":0.7},{"$f":"INDEX(SUPP_3a!I$3:I$149,MATCH((CONCATENATE($C$5,$AE60)),SUPP_3a!$N$3:$N$149,0))","v":99.3},{"$f":"INDEX(SUPP_3a!J$3:J$149,MATCH((CONCATENATE($C$5,$AE60)),SUPP_3a!$N$3:$N$149,0))","v":449},null,null,null,null,null,null,null,null,null,null,null,null,null,null,null,null,null,null,null,null,"40_Russian"]
["  Other",null,{"$f":"INDEX(SUPP_3a!C$3:C$149,MATCH((CONCATENATE($C$5,$AE61)),SUPP_3a!$N$3:$N$149,0))","v":35},{"$f":"INDEX(SUPP_3a!D$3:D$149,MATCH((CONCATENATE($C$5,$AE61)),SUPP_3a!$N$3:$N$149,0))","v":24.6},{"$f":"INDEX(SUPP_3a!E$3:E$149,MATCH((CONCATENATE($C$5,$AE61)),SUPP_3a!$N$3:$N$149,0))","v":15.8},{"$f":"INDEX(SUPP_3a!F$3:F$149,MATCH((CONCATENATE($C$5,$AE61)),SUPP_3a!$N$3:$N$149,0))","v":10.7},{"$f":"INDEX(SUPP_3a!G$3:G$149,MATCH((CONCATENATE($C$5,$AE61)),SUPP_3a!$N$3:$N$149,0))","v":6.5},{"$f":"INDEX(SUPP_3a!H$3:H$149,MATCH((CONCATENATE($C$5,$AE61)),SUPP_3a!$N$3:$N$149,0))","v":7.4},{"$f":"INDEX(SUPP_3a!I$3:I$149,MATCH((CONCATENATE($C$5,$AE61)),SUPP_3a!$N$3:$N$149,0))","v":92.6},{"$f":"INDEX(SUPP_3a!J$3:J$149,MATCH((CONCATENATE($C$5,$AE61)),SUPP_3a!$N$3:$N$149,0))","v":1789},null,null,null,null,null,null,null,null,null,null,null,null,null,null,null,null,null,null,null,null,"36_Other_Modern_Languages"]
[]
["Classical Studies",null,{"$f":"IF($C$5=\"All\",SUPP_3a!C162,IF($C$5=\"Females\",SUPP_3a!C161,IF($C$5=\"Males\",SUPP_3a!C160)))","v":28.6},{"$f":"IF($C$5=\"All\",SUPP_3a!D162,IF($C$5=\"Females\",SUPP_3a!D161,IF($C$5=\"Males\",SUPP_3a!D160)))","v":23.7},{"$f":"IF($C$5=\"All\",SUPP_3a!E162,IF($C$5=\"Females\",SUPP_3a!E161,IF($C$5=\"Males\",SUPP_3a!E160)))","v":22.1},{"$f":"IF($C$5=\"All\",SUPP_3a!F162,IF($C$5=\"Females\",SUPP_3a!F161,IF($C$5=\"Males\",SUPP_3a!F160)))","v":13.8},{"$f":"IF($C$5=\"All\",SUPP_3a!G162,IF($C$5=\"Females\",SUPP_3a!G161,IF($C$5=\"Males\",SUPP_3a!G160)))","v":7.1},{"$f":"IF($C$5=\"All\",SUPP_3a!H162,IF($C$5=\"Females\",SUPP_3a!H161,IF($C$5=\"Males\",SUPP_3a!H160)))","v":4.5999999999999996},{"$f":"IF($C$5=\"All\",SUPP_3a!I162,IF($C$5=\"Females\",SUPP_3a!I161,IF($C$5=\"Males\",SUPP_3a!I160)))","v":95.4},{"$f":"IF($C$5=\"All\",SUPP_3a!J162,IF($C$5=\"Females\",SUPP_3a!J161,IF($C$5=\"Males\",SUPP_3a!J160)))","v":6608}]
["of which:"]
["  Latin",null,{"$f":"INDEX(SUPP_3a!C$3:C$149,MATCH((CONCATENATE($C$5,$AE65)),SUPP_3a!$N$3:$N$149,0))","v":63.6},{"$f":"INDEX(SUPP_3a!D$3:D$149,MATCH((CONCATENATE($C$5,$AE65)),SUPP_3a!$N$3:$N$149,0))","v":19.399999999999999},{"$f":"INDEX(SUPP_3a!E$3:E$149,MATCH((CONCATENATE($C$5,$AE65)),SUPP_3a!$N$3:$N$149,0))","v":10.199999999999999},{"$f":"INDEX(SUPP_3a!F$3:F$149,MATCH((CONCATENATE($C$5,$AE65)),SUPP_3a!$N$3:$N$149,0))","v":3.4},{"$f":"INDEX(SUPP_3a!G$3:G$149,MATCH((CONCATENATE($C$5,$AE65)),SUPP_3a!$N$3:$N$149,0))","v":1.5},{"$f":"INDEX(SUPP_3a!H$3:H$149,MATCH((CONCATENATE($C$5,$AE65)),SUPP_3a!$N$3:$N$149,0))","v":2},{"$f":"INDEX(SUPP_3a!I$3:I$149,MATCH((CONCATENATE($C$5,$AE65)),SUPP_3a!$N$3:$N$149,0))","v":98},{"$f":"INDEX(SUPP_3a!J$3:J$149,MATCH((CONCATENATE($C$5,$AE65)),SUPP_3a!$N$3:$N$149,0))","v":1062},null,null,null,null,null,null,null,null,null,null,null,null,null,null,null,null,null,null,null,null,"42_Latin"]
["  Greek",null,{"$f":"INDEX(SUPP_3a!C$3:C$149,MATCH((CONCATENATE($C$5,$AE66)),SUPP_3a!$N$3:$N$149,0))","v":83.2},{"$f":"INDEX(SUPP_3a!D$3:D$149,MATCH((CONCATENATE($C$5,$AE66)),SUPP_3a!$N$3:$N$149,0))","v":9.4},{"$f":"INDEX(SUPP_3a!E$3:E$149,MATCH((CONCATENATE($C$5,$AE66)),SUPP_3a!$N$3:$N$149,0))","v":4.7},{"$f":"INDEX(SUPP_3a!F$3:F$149,MATCH((CONCATENATE($C$5,$AE66)),SUPP_3a!$N$3:$N$149,0))","v":"x"},{"$f":"INDEX(SUPP_3a!G$3:G$149,MATCH((CONCATENATE($C$5,$AE66)),SUPP_3a!$N$3:$N$149,0))","v":"x"},{"$f":"INDEX(SUPP_3a!H$3:H$149,MATCH((CONCATENATE($C$5,$AE66)),SUPP_3a!$N$3:$N$149,0))","v":"x"},{"$f":"INDEX(SUPP_3a!I$3:I$149,MATCH((CONCATENATE($C$5,$AE66)),SUPP_3a!$N$3:$N$149,0))","v":"x"},{"$f":"INDEX(SUPP_3a!J$3:J$149,MATCH((CONCATENATE($C$5,$AE66)),SUPP_3a!$N$3:$N$149,0))","v":149},null,null,null,null,null,null,null,null,null,null,null,null,null,null,null,null,null,null,null,null,"43_Greek"]
["  Classical Civilisation",null,{"$f":"INDEX(SUPP_3a!C$3:C$149,MATCH((CONCATENATE($C$5,$AE67)),SUPP_3a!$N$3:$N$149,0))","v":21.5},{"$f":"INDEX(SUPP_3a!D$3:D$149,MATCH((CONCATENATE($C$5,$AE67)),SUPP_3a!$N$3:$N$149,0))","v":24.6},{"$f":"INDEX(SUPP_3a!E$3:E$149,MATCH((CONCATENATE($C$5,$AE67)),SUPP_3a!$N$3:$N$149,0))","v":24.3},{"$f":"INDEX(SUPP_3a!F$3:F$149,MATCH((CONCATENATE($C$5,$AE67)),SUPP_3a!$N$3:$N$149,0))","v":15.9},{"$f":"INDEX(SUPP_3a!G$3:G$149,MATCH((CONCATENATE($C$5,$AE67)),SUPP_3a!$N$3:$N$149,0))","v":8.6999999999999993},{"$f":"INDEX(SUPP_3a!H$3:H$149,MATCH((CONCATENATE($C$5,$AE67)),SUPP_3a!$N$3:$N$149,0))","v":5},{"$f":"INDEX(SUPP_3a!I$3:I$149,MATCH((CONCATENATE($C$5,$AE67)),SUPP_3a!$N$3:$N$149,0))","v":95},{"$f":"INDEX(SUPP_3a!J$3:J$149,MATCH((CONCATENATE($C$5,$AE67)),SUPP_3a!$N$3:$N$149,0))","v":4213},null,null,null,null,null,null,null,null,null,null,null,null,null,null,null,null,null,null,null,null,"44_ClassicalCivilisation"]
["  Other Classical Studies",null,{"$f":"INDEX(SUPP_3a!C$3:C$149,MATCH((CONCATENATE($C$5,$AE68)),SUPP_3a!$N$3:$N$149,0))","v":15.9},{"$f":"INDEX(SUPP_3a!D$3:D$149,MATCH((CONCATENATE($C$5,$AE68)),SUPP_3a!$N$3:$N$149,0))","v":26},{"$f":"INDEX(SUPP_3a!E$3:E$149,MATCH((CONCATENATE($C$5,$AE68)),SUPP_3a!$N$3:$N$149,0))","v":27.3},{"$f":"INDEX(SUPP_3a!F$3:F$149,MATCH((CONCATENATE($C$5,$AE68)),SUPP_3a!$N$3:$N$149,0))","v":17.5},{"$f":"INDEX(SUPP_3a!G$3:G$149,MATCH((CONCATENATE($C$5,$AE68)),SUPP_3a!$N$3:$N$149,0))","v":7.1},{"$f":"INDEX(SUPP_3a!H$3:H$149,MATCH((CONCATENATE($C$5,$AE68)),SUPP_3a!$N$3:$N$149,0))","v":6.3},{"$f":"INDEX(SUPP_3a!I$3:I$149,MATCH((CONCATENATE($C$5,$AE68)),SUPP_3a!$N$3:$N$149,0))","v":93.8},{"$f":"INDEX(SUPP_3a!J$3:J$149,MATCH((CONCATENATE($C$5,$AE68)),SUPP_3a!$N$3:$N$149,0))","v":1184},null,null,null,null,null,null,null,null,null,null,null,null,null,null,null,null,null,null,null,null,"41_Classical_Studies"]
[]
["Religious Studies",null,{"$f":"INDEX(SUPP_3a!C$3:C$149,MATCH((CONCATENATE($C$5,$AE70)),SUPP_3a!$N$3:$N$149,0))","v":19.399999999999999},{"$f":"INDEX(SUPP_3a!D$3:D$149,MATCH((CONCATENATE($C$5,$AE70)),SUPP_3a!$N$3:$N$149,0))","v":23.5},{"$f":"INDEX(SUPP_3a!E$3:E$149,MATCH((CONCATENATE($C$5,$AE70)),SUPP_3a!$N$3:$N$149,0))","v":23},{"$f":"INDEX(SUPP_3a!F$3:F$149,MATCH((CONCATENATE($C$5,$AE70)),SUPP_3a!$N$3:$N$149,0))","v":16.3},{"$f":"INDEX(SUPP_3a!G$3:G$149,MATCH((CONCATENATE($C$5,$AE70)),SUPP_3a!$N$3:$N$149,0))","v":9.6},{"$f":"INDEX(SUPP_3a!H$3:H$149,MATCH((CONCATENATE($C$5,$AE70)),SUPP_3a!$N$3:$N$149,0))","v":8.3000000000000007},{"$f":"INDEX(SUPP_3a!I$3:I$149,MATCH((CONCATENATE($C$5,$AE70)),SUPP_3a!$N$3:$N$149,0))","v":91.7},{"$f":"INDEX(SUPP_3a!J$3:J$149,MATCH((CONCATENATE($C$5,$AE70)),SUPP_3a!$N$3:$N$149,0))","v":28858},null,null,null,null,null,null,null,null,null,null,null,null,null,null,null,null,null,null,null,null,"45_Religious_Studies"]
[]
["Music",null,{"$f":"IF($C$5=\"All\",SUPP_3a!C165,IF($C$5=\"Females\",SUPP_3a!C164,IF($C$5=\"Males\",SUPP_3a!C163)))","v":16.5},{"$f":"IF($C$5=\"All\",SUPP_3a!D165,IF($C$5=\"Females\",SUPP_3a!D164,IF($C$5=\"Males\",SUPP_3a!D163)))","v":23.6},{"$f":"IF($C$5=\"All\",SUPP_3a!E165,IF($C$5=\"Females\",SUPP_3a!E164,IF($C$5=\"Males\",SUPP_3a!E163)))","v":24},{"$f":"IF($C$5=\"All\",SUPP_3a!F165,IF($C$5=\"Females\",SUPP_3a!F164,IF($C$5=\"Males\",SUPP_3a!F163)))","v":19.399999999999999},{"$f":"IF($C$5=\"All\",SUPP_3a!G165,IF($C$5=\"Females\",SUPP_3a!G164,IF($C$5=\"Males\",SUPP_3a!G163)))","v":11.1},{"$f":"IF($C$5=\"All\",SUPP_3a!H165,IF($C$5=\"Females\",SUPP_3a!H164,IF($C$5=\"Males\",SUPP_3a!H163)))","v":5.3},{"$f":"IF($C$5=\"All\",SUPP_3a!I165,IF($C$5=\"Females\",SUPP_3a!I164,IF($C$5=\"Males\",SUPP_3a!I163)))","v":94.7},{"$f":"IF($C$5=\"All\",SUPP_3a!J165,IF($C$5=\"Females\",SUPP_3a!J164,IF($C$5=\"Males\",SUPP_3a!J163)))","v":7620},null,null,null,null,null,null,null,null,null,null,null,null,null,null,null,null,null,null,null,null,"46_Music"]
[]
["Physical Education",null,{"$f":"INDEX(SUPP_3a!C$3:C$149,MATCH((CONCATENATE($C$5,$AE74)),SUPP_3a!$N$3:$N$149,0))","v":12},{"$f":"INDEX(SUPP_3a!D$3:D$149,MATCH((CONCATENATE($C$5,$AE74)),SUPP_3a!$N$3:$N$149,0))","v":13.7},{"$f":"INDEX(SUPP_3a!E$3:E$149,MATCH((CONCATENATE($C$5,$AE74)),SUPP_3a!$N$3:$N$149,0))","v":17.2},{"$f":"INDEX(SUPP_3a!F$3:F$149,MATCH((CONCATENATE($C$5,$AE74)),SUPP_3a!$N$3:$N$149,0))","v":20.5},{"$f":"INDEX(SUPP_3a!G$3:G$149,MATCH((CONCATENATE($C$5,$AE74)),SUPP_3a!$N$3:$N$149,0))","v":25.8},{"$f":"INDEX(SUPP_3a!H$3:H$149,MATCH((CONCATENATE($C$5,$AE74)),SUPP_3a!$N$3:$N$149,0))","v":10.8},{"$f":"INDEX(SUPP_3a!I$3:I$149,MATCH((CONCATENATE($C$5,$AE74)),SUPP_3a!$N$3:$N$149,0))","v":89.2},{"$f":"INDEX(SUPP_3a!J$3:J$149,MATCH((CONCATENATE($C$5,$AE74)),SUPP_3a!$N$3:$N$149,0))","v":16363},null,null,null,null,null,null,null,null,null,null,null,null,null,null,null,null,null,null,null,null,"47_Physical_Education"]
[]
["General Studies",null,{"$f":"INDEX(SUPP_3a!C$3:C$149,MATCH((CONCATENATE($C$5,$AE76)),SUPP_3a!$N$3:$N$149,0))","v":11.6},{"$f":"INDEX(SUPP_3a!D$3:D$149,MATCH((CONCATENATE($C$5,$AE76)),SUPP_3a!$N$3:$N$149,0))","v":15.8},{"$f":"INDEX(SUPP_3a!E$3:E$149,MATCH((CONCATENATE($C$5,$AE76)),SUPP_3a!$N$3:$N$149,0))","v":20.3},{"$f":"INDEX(SUPP_3a!F$3:F$149,MATCH((CONCATENATE($C$5,$AE76)),SUPP_3a!$N$3:$N$149,0))","v":19.8},{"$f":"INDEX(SUPP_3a!G$3:G$149,MATCH((CONCATENATE($C$5,$AE76)),SUPP_3a!$N$3:$N$149,0))","v":15.4},{"$f":"INDEX(SUPP_3a!H$3:H$149,MATCH((CONCATENATE($C$5,$AE76)),SUPP_3a!$N$3:$N$149,0))","v":17.100000000000001},{"$f":"INDEX(SUPP_3a!I$3:I$149,MATCH((CONCATENATE($C$5,$AE76)),SUPP_3a!$N$3:$N$149,0))","v":82.9},{"$f":"INDEX(SUPP_3a!J$3:J$149,MATCH((CONCATENATE($C$5,$AE76)),SUPP_3a!$N$3:$N$149,0))","v":22395},null,null,null,null,null,null,null,null,null,null,null,null,null,null,null,null,null,null,null,null,"48_General_Studies"]
[]
["All subjects",null,{"$f":"INDEX(SUPP_3a!C$3:C$149,MATCH((CONCATENATE($C$5,$AE78)),SUPP_3a!$N$3:$N$149,0))","v":18},{"$f":"INDEX(SUPP_3a!D$3:D$149,MATCH((CONCATENATE($C$5,$AE78)),SUPP_3a!$N$3:$N$149,0))","v":18.7},{"$f":"INDEX(SUPP_3a!E$3:E$149,MATCH((CONCATENATE($C$5,$AE78)),SUPP_3a!$N$3:$N$149,0))","v":20.9},{"$f":"INDEX(SUPP_3a!F$3:F$149,MATCH((CONCATENATE($C$5,$AE78)),SUPP_3a!$N$3:$N$149,0))","v":17.7},{"$f":"INDEX(SUPP_3a!G$3:G$149,MATCH((CONCATENATE($C$5,$AE78)),SUPP_3a!$N$3:$N$149,0))","v":12.3},{"$f":"INDEX(SUPP_3a!H$3:H$149,MATCH((CONCATENATE($C$5,$AE78)),SUPP_3a!$N$3:$N$149,0))","v":12.3},{"$f":"INDEX(SUPP_3a!I$3:I$149,MATCH((CONCATENATE($C$5,$AE78)),SUPP_3a!$N$3:$N$149,0))","v":87.7},{"$f":"INDEX(SUPP_3a!J$3:J$149,MATCH((CONCATENATE($C$5,$AE78)),SUPP_3a!$N$3:$N$149,0))","v":893473},null,null,null,null,null,null,null,null,null,null,null,null,null,null,null,null,null,null,null,null,"NULL"]
[]
[null,null,null,null,null,null,null,null,null,"Source: 2015/16 16-18 attainment data (provisional)"]
[]
["1. Covers AS level examination results for the 2015/16 academic year."]
["2. Covers students aged 16, 17 or 18 at the start of the 2015/16 academic year, ie 31 August 2015."]
["3. Includes ungraded, no award (absent/declined) and pending."]
["4. Information, Communication and Technology"]
["5. The 13 AS levels decoupled from 2016 onwards are: art and design, biology, business, chemistry, computer science, economics, English literature, English language, English language and literature, history, physics, psychology and sociology. Refer to main text for more information on decoupled AS levels."]
[]
[]
["Notes:"]
["x indicates figure has been suppressed where underlying numbers are small (ie, 1 or 2) or where secondary suppression has been applied."]
["Percentages are rounded to one decimal place and therefore may not sum to totals."]
["Where qualifications taken by a student are in the same subject area and similar in content ‘discounting’ rules have been applied to avoid double counting qualifications."]
["Refer to 'Quality and Methodology Information' document."]

{"sheet":"SUPP_3c","index":16,"n_rows":56,"n_cols":14,"rows_kept":56,"cut":false,"hidden":true,"merged":[]}
["Paste SQL output into cell A2"]
["GENDER","Subjects","grade_A","grade_B","grade_C","grade_D","grade_E","grade_other","grade_AtoE","Total","grade_Q","grade_U","grade_X","concatenate_name"]
["M","NULL",18.100000000000001,17.2,19.899999999999999,17.7,13.1,14.1,85.9,352844,8,48331,1472,"MalesNULL"]
["M","01_Biological_Sciences",18.600000000000001,15,18.100000000000001,18.100000000000001,13.7,16.5,83.5,20850,0,3336,106,"Males01_Biological_Sciences"]
["M","04_Chemistry",22,16.7,16.899999999999999,16.100000000000001,12.4,15.9,84.1,22650,0,3491,101,"Males04_Chemistry"]
["M","05_Physics",21.3,14.7,16.5,16.399999999999999,13.3,17.8,82.2,26715,0,4637,131,"Males05_Physics"]
["M","06_English_Literature",17.2,21,24.4,21.8,11.1,4.5,95.5,8754,0,347,44,"Males06_English_Literature"]
["M","07_English Language",9.3000000000000007,21.4,31.1,23.7,10.4,4.2,95.8,6094,0,230,25,"Males07_English Language"]
["M","08_English_Language&Literature",7.2,16.100000000000001,27.3,29.2,14.9,5.3,94.7,2679,0,129,12,"Males08_English_Language&Literature"]
["M","09_Computing",13.1,13.4,18.5,19.7,17.399999999999999,17.8,82.2,7911,0,1366,40,"Males09_Computing"]
["M","10_Business_Studies",9,17.899999999999999,25,21.8,14.6,11.5,88.5,15800,0,1727,89,"Males10_Business_Studies"]
["M","11_Economics",18,18.600000000000001,19.899999999999999,17.399999999999999,12.6,13.5,86.5,17497,0,2291,70,"Males11_Economics"]
["M","12_History",16,22.4,25.7,19.5,10.5,5.8,94.2,18015,0,971,82,"Males12_History"]
["M","13_Psychology",7.1,13.6,18.5,19.5,17.3,24,76,16551,0,3888,85,"Males13_Psychology"]
["M","14_Sociology",8.6,13.5,20.7,21,17.2,18.899999999999999,81.099999999999994,8468,0,1544,60,"Males14_Sociology"]
["M","15_Art&Design",16.899999999999999,20.8,22.9,19.100000000000001,11.8,8.5,91.5,7462,0,540,94,"Males15_Art&Design"]
["M","99__any other subject",20.3,17.399999999999999,19.2,16.5,12.6,14.1,85.9,173398,8,23834,533,"Males99__any other subject"]
["F","NULL",19.100000000000001,20.5,21.8,17.2,11,10.4,89.6,428224,8,42737,1846,"FemalesNULL"]
["F","01_Biological_Sciences",18.3,15.1,17.600000000000001,18.100000000000001,14.5,16.5,83.5,34014,0,5440,158,"Females01_Biological_Sciences"]
["F","04_Chemistry",18.100000000000001,16.7,17.7,17.3,13.4,16.8,83.2,23423,0,3825,117,"Females04_Chemistry"]
["F","05_Physics",22.4,15.7,17.2,15.6,12.6,16.5,83.5,8506,0,1358,45,"Females05_Physics"]
["F","06_English_Literature",17.899999999999999,22.7,26,20.7,9.8000000000000007,2.9,97.1,28010,0,704,111,"Females06_English_Literature"]
["F","07_English Language",13,26.8,32.299999999999997,19.3,6.4,2.1,97.9,13379,0,233,54,"Females07_English Language"]
["F","08_English_Language&Literature",9.5,19.899999999999999,31,25.5,10.6,3.5,96.5,6705,0,196,41,"Females08_English_Language&Literature"]
["F","09_Computing",11.3,12,18.600000000000001,18.8,18.899999999999999,20.3,79.7,1025,0,200,8,"Females09_Computing"]
["F","10_Business_Studies",10.3,17,23.5,20.6,14.8,13.7,86.3,11311,0,1485,70,"Females10_Business_Studies"]
["F","11_Economics",20.399999999999999,19.399999999999999,19.5,16.3,11.7,12.6,87.4,8383,0,1024,32,"Females11_Economics"]
["F","12_History",18.8,22.6,24.4,18,10.199999999999999,5.9,94.1,23053,0,1271,99,"Females12_History"]
["F","13_Psychology",15.4,19.7,20.3,18,12.3,14.3,85.7,43579,0,6025,209,"Females13_Psychology"]
["F","14_Sociology",16,18.399999999999999,21.9,18.399999999999999,12.6,12.6,87.4,26433,1,3201,130,"Females14_Sociology"]
["F","15_Art&Design",23.5,25.4,24,15.5,7.2,4.4000000000000004,95.6,22891,0,783,224,"Females15_Art&Design"]
["F","99__any other subject",21.7,21.4,21.2,15.6,10.199999999999999,9.9,90.1,177512,7,16992,548,"Females99__any other subject"]
["NULL","NULL",18.600000000000001,19,20.9,17.399999999999999,11.9,12.1,87.9,781068,16,91068,3318,"AllNULL"]
["NULL","01_Biological_Sciences",18.399999999999999,15,17.8,18.100000000000001,14.2,16.5,83.5,54864,0,8776,264,"All01_Biological_Sciences"]
["NULL","04_Chemistry",20.100000000000001,16.7,17.3,16.7,12.9,16.399999999999999,83.6,46073,0,7316,218,"All04_Chemistry"]
["NULL","05_Physics",21.5,14.9,16.7,16.2,13.2,17.5,82.5,35221,0,5995,176,"All05_Physics"]
["NULL","06_English_Literature",17.7,22.3,25.6,20.9,10.1,3.3,96.7,36764,0,1051,155,"All06_English_Literature"]
["NULL","07_English Language",11.8,25.1,31.9,20.7,7.7,2.8,97.2,19473,0,463,79,"All07_English Language"]
["NULL","08_English_Language&Literature",8.8000000000000007,18.8,29.9,26.6,11.8,4,96,9384,0,325,53,"All08_English_Language&Literature"]
["NULL","09_Computing",12.9,13.2,18.5,19.600000000000001,17.600000000000001,18.100000000000001,81.900000000000006,8936,0,1566,48,"All09_Computing"]
["NULL","10_Business_Studies",9.6,17.600000000000001,24.4,21.3,14.7,12.4,87.6,27111,0,3212,159,"All10_Business_Studies"]
["NULL","11_Economics",18.8,18.899999999999999,19.8,17.100000000000001,12.3,13.2,86.8,25880,0,3315,102,"All11_Economics"]
["NULL","12_History",17.600000000000001,22.5,25,18.600000000000001,10.3,5.9,94.1,41068,0,2242,181,"All12_History"]
["NULL","13_Psychology",13.1,18,19.8,18.399999999999999,13.7,17,83,60130,0,9913,294,"All13_Psychology"]
["NULL","14_Sociology",14.2,17.2,21.6,19.100000000000001,13.7,14.1,85.9,34901,1,4745,190,"All14_Sociology"]
["NULL","15_Art&Design",21.9,24.3,23.7,16.3,8.3000000000000007,5.4,94.6,30353,0,1323,318,"All15_Art&Design"]
["NULL","99__any other subject",21,19.399999999999999,20.2,16,11.4,11.9,88.1,350910,15,40826,1081,"All99__any other subject"]
[]
[]
[]
["M","All decoupled subjects ",15.9,17,20.5,18.899999999999999,13.5,14.2,85.8,179446,0,0,0]
["F","All decoupled subjects ",17.3,19.899999999999999,22.2,18.3,11.6,10.8,89.2,250712,0,0,0]
["NULL","All decoupled subjects ",16.7,18.7,21.5,18.600000000000001,12.4,12.2,87.8,430158,0,0,0]
["M ","English",12.9,20.399999999999999,27.2,23.6,11.5,4.5,95.5,17527,0,0,0]
["F ","English",15.3,23.5,28.5,21,9,2.8,97.2,48094,0,0,0]
["NULL","English",14.7,22.6,28.1,21.7,9.6,3.2,96.8,65621,0,0,0]

{"sheet":"SUPP_3c_2015","index":17,"n_rows":54,"n_cols":13,"rows_kept":54,"cut":false,"hidden":true,"merged":[]}
["Paste SQL output into cell A2"]
["GENDER","Subjects","grade_A","grade_B","grade_C","grade_D","grade_E","grade_other","grade_AtoE","Total","grade_Q","grade_U","grade_X"]
["M","NULL",17.399999999999999,17.5,20.2,17.3,12.9,14.7,85.3,423530,31,61218,1156]
["M","01_Biological_Sciences",18,17.100000000000001,17.8,15.7,13.7,17.7,82.3,27588,1,4849,36]
["M","04_Chemistry",21.4,18.2,17.100000000000001,14.4,12,16.8,83.2,29815,1,4971,40]
["M","05_Physics",20.6,15,16.3,15.3,13.7,19.2,80.8,34144,20,6462,59]
["M","06_English_Literature",17.3,21.3,28.4,20.5,9.3000000000000007,3.3,96.7,12930,1,390,34]
["M","07_English Language",8.9,22.9,31.2,23.6,9.5,4,96,8244,0,307,19]
["M","08_English_Language&Literature",7.9,15.6,28,29.3,14.5,4.7,95.3,3983,0,174,12]
["M","09_Computing",10.4,13.6,17.100000000000001,20.2,17.600000000000001,21.1,78.900000000000006,9081,0,1881,38]
["M","10_Business_Studies",8.9,16.899999999999999,23.8,22.3,15.8,12.3,87.7,18333,0,2190,66]
["M","11_Economics",19,19.100000000000001,19.399999999999999,16.600000000000001,12.2,13.7,86.3,22010,1,2982,43]
["M","12_History",16.899999999999999,23.4,26.2,18.600000000000001,9.6,5.2,94.8,26058,0,1324,44]
["M","13_Psychology",7.2,13.4,19,18,15.8,26.6,73.400000000000006,21616,1,5674,81]
["M","14_Sociology",8.1999999999999993,15.3,20.8,20.100000000000001,15.5,20.100000000000001,79.900000000000006,10157,3,1991,50]
["M","15_Art&Design",16,20.100000000000001,25.6,19.399999999999999,10.7,8.1999999999999993,91.8,11934,0,870,107]
["M","99__any other subject",19.5,17.100000000000001,19.3,16.600000000000001,12.8,14.8,85.2,187637,3,27153,527]
["F","NULL",18.899999999999999,21.3,22.3,16.600000000000001,10.5,10.4,89.6,520776,32,52607,1375]
["F","01_Biological_Sciences",19,18.3,18.399999999999999,15.7,12.9,15.7,84.3,42314,0,6574,61]
["F","04_Chemistry",18.3,19.3,18.100000000000001,15.2,12.9,16.2,83.8,28966,0,4646,39]
["F","05_Physics",22.4,16.399999999999999,17.5,15,13,15.7,84.3,10235,5,1579,18]
["F","06_English_Literature",18.3,23.8,28.5,19.600000000000001,7.6,2.2999999999999998,97.7,39248,16,805,75]
["F","07_English Language",13.4,28,31.7,18.8,6.3,1.9,98.1,17607,1,289,37]
["F","08_English_Language&Literature",9.6999999999999993,20.5,29.8,25.5,11.4,2.9,97.1,10041,0,271,25]
["F","09_Computing",12.6,15.9,17.899999999999999,20.100000000000001,15,18.5,81.5,931,0,168,4]
["F","10_Business_Studies",10.199999999999999,16.8,23.1,21.2,15,13.7,86.3,13561,0,1812,48]
["F","11_Economics",22.1,19.8,19.5,15.9,10.9,11.8,88.2,10442,0,1207,25]
["F","12_History",19.2,24.7,24.8,16.899999999999999,9,5.4,94.6,32449,2,1682,67]
["F","13_Psychology",15.4,20.5,20.9,16.100000000000001,11.6,15.5,84.5,56467,0,8627,139]
["F","14_Sociology",16.100000000000001,20.100000000000001,21.2,17.2,12.1,13.4,86.6,31817,5,4101,145]
["F","15_Art&Design",23.5,26,25.8,14.3,6.6,3.8,96.2,36289,0,1164,218]
["F","99__any other subject",20.9,20.8,21.3,15.9,10.5,10.6,89.4,190409,3,19682,474]
["NULL","NULL",18.2,19.600000000000001,21.4,16.899999999999999,11.6,12.3,87.7,944306,63,113825,2531]
["NULL","01_Biological_Sciences",18.600000000000001,17.8,18.2,15.7,13.2,16.5,83.5,69902,1,11423,97]
["NULL","04_Chemistry",19.899999999999999,18.8,17.600000000000001,14.8,12.5,16.5,83.5,58781,1,9617,79]
["NULL","05_Physics",21,15.3,16.600000000000001,15.2,13.5,18.3,81.7,44379,25,8041,77]
["NULL","06_English_Literature",18,23.2,28.4,19.8,8,2.5,97.5,52178,17,1195,109]
["NULL","07_English Language",12,26.3,31.6,20.3,7.3,2.5,97.5,25851,1,596,56]
["NULL","08_English_Language&Literature",9.1999999999999993,19.100000000000001,29.3,26.6,12.3,3.4,96.6,14024,0,445,37]
["NULL","09_Computing",10.6,13.8,17.2,20.2,17.3,20.9,79.099999999999994,10012,0,2049,42]
["NULL","10_Business_Studies",9.5,16.899999999999999,23.5,21.8,15.5,12.9,87.1,31894,0,4002,114]
["NULL","11_Economics",20,19.399999999999999,19.399999999999999,16.399999999999999,11.8,13.1,86.9,32452,1,4189,68]
["NULL","12_History",18.2,24.1,25.4,17.7,9.3000000000000007,5.3,94.7,58507,2,3006,111]
["NULL","13_Psychology",13.1,18.600000000000001,20.3,16.600000000000001,12.8,18.600000000000001,81.400000000000006,78083,1,14301,220]
["NULL","14_Sociology",14.2,18.899999999999999,21.1,17.899999999999999,12.9,15,85,41974,8,6092,195]
["NULL","15_Art&Design",21.6,24.5,25.8,15.6,7.6,4.9000000000000004,95.1,48223,0,2034,325]
["NULL","99__any other subject",20.2,18.899999999999999,20.3,16.3,11.6,12.7,87.3,378046,6,46835,1001]
[]
["NULL","English",15,23.4,29.5,21,8.5,2.7,97.3,92053,0,0,0]
["F","English",15.7,24.4,29.5,20.3,7.8,2.2999999999999998,97.7,66896,0,0,0]
["M","English",13.1,20.9,29.2,22.9,10.199999999999999,3.7,96.3,25157,0,0,0]
["NULL ","All decoupled subjects ",16.899999999999999,20,22.1,17.399999999999999,11.5,12.1,87.9,566260,0,0,0]
["F ","All decoupled subjects ",17.7,21.6,23,17,10.5,10.199999999999999,89.8,330367,0,0,0]
["M","All decoupled subjects ",15.7,17.8,20.9,17.899999999999999,13,14.7,85.3,235893,0,0,0]

{"sheet":"3c_all_2015","index":18,"n_rows":18,"n_cols":13,"rows_kept":18,"cut":false,"hidden":true,"merged":[]}
["NULL","NULL",18.2,19.600000000000001,21.4,16.899999999999999,11.6,12.3,87.7,944306,63,113825,2531]
["NULL","01_Biological_Sciences",18.600000000000001,17.8,18.2,15.7,13.2,16.5,83.5,69902,1,11423,97]
["NULL","04_Chemistry",19.899999999999999,18.8,17.600000000000001,14.8,12.5,16.5,83.5,58781,1,9617,79]
["NULL","05_Physics",21,15.3,16.600000000000001,15.2,13.5,18.3,81.7,44379,25,8041,77]
["NULL","06_English_Literature",18,23.2,28.4,19.8,8,2.5,97.5,52178,17,1195,109]
["NULL","07_English Language",12,26.3,31.6,20.3,7.3,2.5,97.5,25851,1,596,56]
["NULL","08_English_Language&Literature",9.1999999999999993,19.100000000000001,29.3,26.6,12.3,3.4,96.6,14024,0,445,37]
["NULL","09_Computing",10.6,13.8,17.2,20.2,17.3,20.9,79.099999999999994,10012,0,2049,42]
["NULL","10_Business_Studies",9.5,16.899999999999999,23.5,21.8,15.5,12.9,87.1,31894,0,4002,114]
["NULL","11_Economics",20,19.399999999999999,19.399999999999999,16.399999999999999,11.8,13.1,86.9,32452,1,4189,68]
["NULL","12_History",18.2,24.1,25.4,17.7,9.3000000000000007,5.3,94.7,58507,2,3006,111]
["NULL","13_Psychology",13.1,18.600000000000001,20.3,16.600000000000001,12.8,18.600000000000001,81.400000000000006,78083,1,14301,220]
["NULL","14_Sociology",14.2,18.899999999999999,21.1,17.899999999999999,12.9,15,85,41974,8,6092,195]
["NULL","15_Art&Design",21.6,24.5,25.8,15.6,7.6,4.9000000000000004,95.1,48223,0,2034,325]
["NULL","99__any other subject",20.2,18.899999999999999,20.3,16.3,11.6,12.7,87.3,378046,6,46835,1001]
[]
[{"$f":"SUPP_3c_2015!A49","v":"NULL"},{"$f":"SUPP_3c_2015!B49","v":"English"},{"$f":"SUPP_3c_2015!C49","v":15},{"$f":"SUPP_3c_2015!D49","v":23.4},{"$f":"SUPP_3c_2015!E49","v":29.5},{"$f":"SUPP_3c_2015!F49","v":21},{"$f":"SUPP_3c_2015!G49","v":8.5},{"$f":"SUPP_3c_2015!H49","v":2.7},{"$f":"SUPP_3c_2015!I49","v":97.3},{"$f":"SUPP_3c_2015!J49","v":92053},{"$f":"SUPP_3c_2015!K49","v":0},{"$f":"SUPP_3c_2015!L49","v":0},{"$f":"SUPP_3c_2015!M49","v":0}]
[{"$f":"SUPP_3c_2015!A52","v":"NULL "},{"$f":"SUPP_3c_2015!B52","v":"All decoupled subjects "},{"$f":"SUPP_3c_2015!C52","v":16.899999999999999},{"$f":"SUPP_3c_2015!D52","v":20},{"$f":"SUPP_3c_2015!E52","v":22.1},{"$f":"SUPP_3c_2015!F52","v":17.399999999999999},{"$f":"SUPP_3c_2015!G52","v":11.5},{"$f":"SUPP_3c_2015!H52","v":12.1},{"$f":"SUPP_3c_2015!I52","v":87.9},{"$f":"SUPP_3c_2015!J52","v":566260},{"$f":"SUPP_3c_2015!K52","v":0},{"$f":"SUPP_3c_2015!L52","v":0},{"$f":"SUPP_3c_2015!M52","v":0}]

{"sheet":"3c_females_2015","index":19,"n_rows":18,"n_cols":13,"rows_kept":18,"cut":false,"hidden":true,"merged":[]}
["F","NULL",18.899999999999999,21.3,22.3,16.600000000000001,10.5,10.4,89.6,520776,32,52607,1375]
["F","01_Biological_Sciences",19,18.3,18.399999999999999,15.7,12.9,15.7,84.3,42314,0,6574,61]
["F","04_Chemistry",18.3,19.3,18.100000000000001,15.2,12.9,16.2,83.8,28966,0,4646,39]
["F","05_Physics",22.4,16.399999999999999,17.5,15,13,15.7,84.3,10235,5,1579,18]
["F","06_English_Literature",18.3,23.8,28.5,19.600000000000001,7.6,2.2999999999999998,97.7,39248,16,805,75]
["F","07_English Language",13.4,28,31.7,18.8,6.3,1.9,98.1,17607,1,289,37]
["F","08_English_Language&Literature",9.6999999999999993,20.5,29.8,25.5,11.4,2.9,97.1,10041,0,271,25]
["F","09_Computing",12.6,15.9,17.899999999999999,20.100000000000001,15,18.5,81.5,931,0,168,4]
["F","10_Business_Studies",10.199999999999999,16.8,23.1,21.2,15,13.7,86.3,13561,0,1812,48]
["F","11_Economics",22.1,19.8,19.5,15.9,10.9,11.8,88.2,10442,0,1207,25]
["F","12_History",19.2,24.7,24.8,16.899999999999999,9,5.4,94.6,32449,2,1682,67]
["F","13_Psychology",15.4,20.5,20.9,16.100000000000001,11.6,15.5,84.5,56467,0,8627,139]
["F","14_Sociology",16.100000000000001,20.100000000000001,21.2,17.2,12.1,13.4,86.6,31817,5,4101,145]
["F","15_Art&Design",23.5,26,25.8,14.3,6.6,3.8,96.2,36289,0,1164,218]
["F","99__any other subject",20.9,20.8,21.3,15.9,10.5,10.6,89.4,190409,3,19682,474]
[]
[{"$f":"SUPP_3c_2015!A50","v":"F"},{"$f":"SUPP_3c_2015!B50","v":"English"},{"$f":"SUPP_3c_2015!C50","v":15.7},{"$f":"SUPP_3c_2015!D50","v":24.4},{"$f":"SUPP_3c_2015!E50","v":29.5},{"$f":"SUPP_3c_2015!F50","v":20.3},{"$f":"SUPP_3c_2015!G50","v":7.8},{"$f":"SUPP_3c_2015!H50","v":2.2999999999999998},{"$f":"SUPP_3c_2015!I50","v":97.7},{"$f":"SUPP_3c_2015!J50","v":66896},{"$f":"SUPP_3c_2015!K50","v":0},{"$f":"SUPP_3c_2015!L50","v":0},{"$f":"SUPP_3c_2015!M50","v":0}]
[{"$f":"SUPP_3c_2015!A53","v":"F "},{"$f":"SUPP_3c_2015!B53","v":"All decoupled subjects "},{"$f":"SUPP_3c_2015!C53","v":17.7},{"$f":"SUPP_3c_2015!D53","v":21.6},{"$f":"SUPP_3c_2015!E53","v":23},{"$f":"SUPP_3c_2015!F53","v":17},{"$f":"SUPP_3c_2015!G53","v":10.5},{"$f":"SUPP_3c_2015!H53","v":10.199999999999999},{"$f":"SUPP_3c_2015!I53","v":89.8},{"$f":"SUPP_3c_2015!J53","v":330367},{"$f":"SUPP_3c_2015!K53","v":0},{"$f":"SUPP_3c_2015!L53","v":0},{"$f":"SUPP_3c_2015!M53","v":0}]

{"sheet":"3c_males_2015","index":20,"n_rows":18,"n_cols":13,"rows_kept":18,"cut":false,"hidden":true,"merged":[]}
["M","NULL",17.399999999999999,17.5,20.2,17.3,12.9,14.7,85.3,423530,31,61218,1156]
["M","01_Biological_Sciences",18,17.100000000000001,17.8,15.7,13.7,17.7,82.3,27588,1,4849,36]
["M","04_Chemistry",21.4,18.2,17.100000000000001,14.4,12,16.8,83.2,29815,1,4971,40]
["M","05_Physics",20.6,15,16.3,15.3,13.7,19.2,80.8,34144,20,6462,59]
["M","06_English_Literature",17.3,21.3,28.4,20.5,9.3000000000000007,3.3,96.7,12930,1,390,34]
["M","07_English Language",8.9,22.9,31.2,23.6,9.5,4,96,8244,0,307,19]
["M","08_English_Language&Literature",7.9,15.6,28,29.3,14.5,4.7,95.3,3983,0,174,12]
["M","09_Computing",10.4,13.6,17.100000000000001,20.2,17.600000000000001,21.1,78.900000000000006,9081,0,1881,38]
["M","10_Business_Studies",8.9,16.899999999999999,23.8,22.3,15.8,12.3,87.7,18333,0,2190,66]
["M","11_Economics",19,19.100000000000001,19.399999999999999,16.600000000000001,12.2,13.7,86.3,22010,1,2982,43]
["M","12_History",16.899999999999999,23.4,26.2,18.600000000000001,9.6,5.2,94.8,26058,0,1324,44]
["M","13_Psychology",7.2,13.4,19,18,15.8,26.6,73.400000000000006,21616,1,5674,81]
["M","14_Sociology",8.1999999999999993,15.3,20.8,20.100000000000001,15.5,20.100000000000001,79.900000000000006,10157,3,1991,50]
["M","15_Art&Design",16,20.100000000000001,25.6,19.399999999999999,10.7,8.1999999999999993,91.8,11934,0,870,107]
["M","99__any other subject",19.5,17.100000000000001,19.3,16.600000000000001,12.8,14.8,85.2,187637,3,27153,527]
[]
[{"$f":"SUPP_3c_2015!A51","v":"M"},{"$f":"SUPP_3c_2015!B51","v":"English"},{"$f":"SUPP_3c_2015!C51","v":13.1},{"$f":"SUPP_3c_2015!D51","v":20.9},{"$f":"SUPP_3c_2015!E51","v":29.2},{"$f":"SUPP_3c_2015!F51","v":22.9},{"$f":"SUPP_3c_2015!G51","v":10.199999999999999},{"$f":"SUPP_3c_2015!H51","v":3.7},{"$f":"SUPP_3c_2015!I51","v":96.3},{"$f":"SUPP_3c_2015!J51","v":25157},{"$f":"SUPP_3c_2015!K51","v":0},{"$f":"SUPP_3c_2015!L51","v":0},{"$f":"SUPP_3c_2015!M51","v":0}]
[{"$f":"SUPP_3c_2015!A54","v":"M"},{"$f":"SUPP_3c_2015!B54","v":"All decoupled subjects "},{"$f":"SUPP_3c_2015!C54","v":15.7},{"$f":"SUPP_3c_2015!D54","v":17.8},{"$f":"SUPP_3c_2015!E54","v":20.9},{"$f":"SUPP_3c_2015!F54","v":17.899999999999999},{"$f":"SUPP_3c_2015!G54","v":13},{"$f":"SUPP_3c_2015!H54","v":14.7},{"$f":"SUPP_3c_2015!I54","v":85.3},{"$f":"SUPP_3c_2015!J54","v":235893},{"$f":"SUPP_3c_2015!K54","v":0},{"$f":"SUPP_3c_2015!L54","v":0},{"$f":"SUPP_3c_2015!M54","v":0}]

{"sheet":"Table 3b","index":21,"n_rows":42,"n_cols":40,"rows_kept":42,"cut":false,"hidden":false,"merged":[[6,13,6,19],[6,20,7,20],[5,4,5,11],[5,13,5,20],[2,0,2,5],[6,4,6,10],[6,11,7,11],[4,4,4,20]]}
["Table 3b:  Decoupled AS level results1 of 16 year old students2 by subject, grade and gender"]
["Year: 2014/15 (shadow data) and 2015/16 (provisional) "]
["Coverage: England"]
[]
[null,"Select gender:",null,null,"All"]
["Subject",null,null,null,2015,null,null,null,null,null,null,null,null,2016]
[null,null,null,null,"Percentage achieving grade",null,null,null,null,null,null,"Number of entries",null,"Percentage achieving grade",null,null,null,null,null,null,"Number of entries"]
[null,null,null,null,"A","B","C","D","E","Other3","A-E ",null,null,"A","B","C","D","E","Other3","A-E "]
[]
["Biology",null,null,null,{"$f":"IF($E$5=\"All\",(VLOOKUP($AN10,'3c_all_2015'!$B:$O,2,FALSE)),IF($E$5=\"Females\",(VLOOKUP($AN10,'3c_females_2015'!$B:$O,2,FALSE)),IF($E$5=\"Males\",(VLOOKUP($AN10,'3c_males_2015'!$B:$O,2,FALSE)))))","v":18.600000000000001},{"$f":"IF($E$5=\"All\",(VLOOKUP($AN10,'3c_all_2015'!$B:$O,3,FALSE)),IF($E$5=\"Females\",(VLOOKUP($AN10,'3c_females_2015'!$B:$O,3,FALSE)),IF($E$5=\"Males\",(VLOOKUP($AN10,'3c_males_2015'!$B:$O,3,FALSE)))))","v":17.8},{"$f":"IF($E$5=\"All\",(VLOOKUP($AN10,'3c_all_2015'!$B:$O,4,FALSE)),IF($E$5=\"Females\",(VLOOKUP($AN10,'3c_females_2015'!$B:$O,4,FALSE)),IF($E$5=\"Males\",(VLOOKUP($AN10,'3c_males_2015'!$B:$O,4,FALSE)))))","v":18.2},{"$f":"IF($E$5=\"All\",(VLOOKUP($AN10,'3c_all_2015'!$B:$O,5,FALSE)),IF($E$5=\"Females\",(VLOOKUP($AN10,'3c_females_2015'!$B:$O,5,FALSE)),IF($E$5=\"Males\",(VLOOKUP($AN10,'3c_males_2015'!$B:$O,5,FALSE)))))","v":15.7},{"$f":"IF($E$5=\"All\",(VLOOKUP($AN10,'3c_all_2015'!$B:$O,6,FALSE)),IF($E$5=\"Females\",(VLOOKUP($AN10,'3c_females_2015'!$B:$O,6,FALSE)),IF($E$5=\"Males\",(VLOOKUP($AN10,'3c_males_2015'!$B:$O,6,FALSE)))))","v":13.2},{"$f":"IF($E$5=\"All\",(VLOOKUP($AN10,'3c_all_2015'!$B:$O,7,FALSE)),IF($E$5=\"Females\",(VLOOKUP($AN10,'3c_females_2015'!$B:$O,7,FALSE)),IF($E$5=\"Males\",(VLOOKUP($AN10,'3c_males_2015'!$B:$O,7,FALSE)))))","v":16.5},{"$f":"IF($E$5=\"All\",(VLOOKUP($AN10,'3c_all_2015'!$B:$O,8,FALSE)),IF($E$5=\"Females\",(VLOOKUP($AN10,'3c_females_2015'!$B:$O,8,FALSE)),IF($E$5=\"Males\",(VLOOKUP($AN10,'3c_males_2015'!$B:$O,8,FALSE)))))","v":83.5},{"$f":"IF($E$5=\"All\",(VLOOKUP($AN10,'3c_all_2015'!$B:$O,9,FALSE)),IF($E$5=\"Females\",(VLOOKUP($AN10,'3c_females_2015'!$B:$O,9,FALSE)),IF($E$5=\"Males\",(VLOOKUP($AN10,'3c_males_2015'!$B:$O,9,FALSE)))))","v":69902},null,{"$f":"INDEX(SUPP_3c!C$3:C$49,MATCH((CONCATENATE($E$5,$AN10)),SUPP_3c!$N$3:$N$49,0))","v":18.399999999999999},{"$f":"INDEX(SUPP_3c!D$3:D$49,MATCH((CONCATENATE($E$5,$AN10)),SUPP_3c!$N$3:$N$49,0))","v":15},{"$f":"INDEX(SUPP_3c!E$3:E$49,MATCH((CONCATENATE($E$5,$AN10)),SUPP_3c!$N$3:$N$49,0))","v":17.8},{"$f":"INDEX(SUPP_3c!F$3:F$49,MATCH((CONCATENATE($E$5,$AN10)),SUPP_3c!$N$3:$N$49,0))","v":18.100000000000001},{"$f":"INDEX(SUPP_3c!G$3:G$49,MATCH((CONCATENATE($E$5,$AN10)),SUPP_3c!$N$3:$N$49,0))","v":14.2},{"$f":"INDEX(SUPP_3c!H$3:H$49,MATCH((CONCATENATE($E$5,$AN10)),SUPP_3c!$N$3:$N$49,0))","v":16.5},{"$f":"INDEX(SUPP_3c!I$3:I$49,MATCH((CONCATENATE($E$5,$AN10)),SUPP_3c!$N$3:$N$49,0))","v":83.5},{"$f":"INDEX(SUPP_3c!J$3:J$49,MATCH((CONCATENATE($E$5,$AN10)),SUPP_3c!$N$3:$N$49,0))","v":54864},null,null,null,null,null,null,null,null,null,null,null,null,null,null,null,null,null,null,"01_Biological_Sciences"]
["Chemistry",null,null,null,{"$f":"IF($E$5=\"All\",(VLOOKUP($AN11,'3c_all_2015'!$B:$O,2,FALSE)),IF($E$5=\"Females\",(VLOOKUP($AN11,'3c_females_2015'!$B:$O,2,FALSE)),IF($E$5=\"Males\",(VLOOKUP($AN11,'3c_males_2015'!$B:$O,2,FALSE)))))","v":19.899999999999999},{"$f":"IF($E$5=\"All\",(VLOOKUP($AN11,'3c_all_2015'!$B:$O,3,FALSE)),IF($E$5=\"Females\",(VLOOKUP($AN11,'3c_females_2015'!$B:$O,3,FALSE)),IF($E$5=\"Males\",(VLOOKUP($AN11,'3c_males_2015'!$B:$O,3,FALSE)))))","v":18.8},{"$f":"IF($E$5=\"All\",(VLOOKUP($AN11,'3c_all_2015'!$B:$O,4,FALSE)),IF($E$5=\"Females\",(VLOOKUP($AN11,'3c_females_2015'!$B:$O,4,FALSE)),IF($E$5=\"Males\",(VLOOKUP($AN11,'3c_males_2015'!$B:$O,4,FALSE)))))","v":17.600000000000001},{"$f":"IF($E$5=\"All\",(VLOOKUP($AN11,'3c_all_2015'!$B:$O,5,FALSE)),IF($E$5=\"Females\",(VLOOKUP($AN11,'3c_females_2015'!$B:$O,5,FALSE)),IF($E$5=\"Males\",(VLOOKUP($AN11,'3c_males_2015'!$B:$O,5,FALSE)))))","v":14.8},{"$f":"IF($E$5=\"All\",(VLOOKUP($AN11,'3c_all_2015'!$B:$O,6,FALSE)),IF($E$5=\"Females\",(VLOOKUP($AN11,'3c_females_2015'!$B:$O,6,FALSE)),IF($E$5=\"Males\",(VLOOKUP($AN11,'3c_males_2015'!$B:$O,6,FALSE)))))","v":12.5},{"$f":"IF($E$5=\"All\",(VLOOKUP($AN11,'3c_all_2015'!$B:$O,7,FALSE)),IF($E$5=\"Females\",(VLOOKUP($AN11,'3c_females_2015'!$B:$O,7,FALSE)),IF($E$5=\"Males\",(VLOOKUP($AN11,'3c_males_2015'!$B:$O,7,FALSE)))))","v":16.5},{"$f":"IF($E$5=\"All\",(VLOOKUP($AN11,'3c_all_2015'!$B:$O,8,FALSE)),IF($E$5=\"Females\",(VLOOKUP($AN11,'3c_females_2015'!$B:$O,8,FALSE)),IF($E$5=\"Males\",(VLOOKUP($AN11,'3c_males_2015'!$B:$O,8,FALSE)))))","v":83.5},{"$f":"IF($E$5=\"All\",(VLOOKUP($AN11,'3c_all_2015'!$B:$O,9,FALSE)),IF($E$5=\"Females\",(VLOOKUP($AN11,'3c_females_2015'!$B:$O,9,FALSE)),IF($E$5=\"Males\",(VLOOKUP($AN11,'3c_males_2015'!$B:$O,9,FALSE)))))","v":58781},null,{"$f":"INDEX(SUPP_3c!C$3:C$49,MATCH((CONCATENATE($E$5,$AN11)),SUPP_3c!$N$3:$N$49,0))","v":20.100000000000001},{"$f":"INDEX(SUPP_3c!D$3:D$49,MATCH((CONCATENATE($E$5,$AN11)),SUPP_3c!$N$3:$N$49,0))","v":16.7},{"$f":"INDEX(SUPP_3c!E$3:E$49,MATCH((CONCATENATE($E$5,$AN11)),SUPP_3c!$N$3:$N$49,0))","v":17.3},{"$f":"INDEX(SUPP_3c!F$3:F$49,MATCH((CONCATENATE($E$5,$AN11)),SUPP_3c!$N$3:$N$49,0))","v":16.7},{"$f":"INDEX(SUPP_3c!G$3:G$49,MATCH((CONCATENATE($E$5,$AN11)),SUPP_3c!$N$3:$N$49,0))","v":12.9},{"$f":"INDEX(SUPP_3c!H$3:H$49,MATCH((CONCATENATE($E$5,$AN11)),SUPP_3c!$N$3:$N$49,0))","v":16.399999999999999},{"$f":"INDEX(SUPP_3c!I$3:I$49,MATCH((CONCATENATE($E$5,$AN11)),SUPP_3c!$N$3:$N$49,0))","v":83.6},{"$f":"INDEX(SUPP_3c!J$3:J$49,MATCH((CONCATENATE($E$5,$AN11)),SUPP_3c!$N$3:$N$49,0))","v":46073},null,null,null,null,null,null,null,null,null,null,null,null,null,null,null,null,null,null,"04_Chemistry"]
["Physics",null,null,null,{"$f":"IF($E$5=\"All\",(VLOOKUP($AN12,'3c_all_2015'!$B:$O,2,FALSE)),IF($E$5=\"Females\",(VLOOKUP($AN12,'3c_females_2015'!$B:$O,2,FALSE)),IF($E$5=\"Males\",(VLOOKUP($AN12,'3c_males_2015'!$B:$O,2,FALSE)))))","v":21},{"$f":"IF($E$5=\"All\",(VLOOKUP($AN12,'3c_all_2015'!$B:$O,3,FALSE)),IF($E$5=\"Females\",(VLOOKUP($AN12,'3c_females_2015'!$B:$O,3,FALSE)),IF($E$5=\"Males\",(VLOOKUP($AN12,'3c_males_2015'!$B:$O,3,FALSE)))))","v":15.3},{"$f":"IF($E$5=\"All\",(VLOOKUP($AN12,'3c_all_2015'!$B:$O,4,FALSE)),IF($E$5=\"Females\",(VLOOKUP($AN12,'3c_females_2015'!$B:$O,4,FALSE)),IF($E$5=\"Males\",(VLOOKUP($AN12,'3c_males_2015'!$B:$O,4,FALSE)))))","v":16.600000000000001},{"$f":"IF($E$5=\"All\",(VLOOKUP($AN12,'3c_all_2015'!$B:$O,5,FALSE)),IF($E$5=\"Females\",(VLOOKUP($AN12,'3c_females_2015'!$B:$O,5,FALSE)),IF($E$5=\"Males\",(VLOOKUP($AN12,'3c_males_2015'!$B:$O,5,FALSE)))))","v":15.2},{"$f":"IF($E$5=\"All\",(VLOOKUP($AN12,'3c_all_2015'!$B:$O,6,FALSE)),IF($E$5=\"Females\",(VLOOKUP($AN12,'3c_females_2015'!$B:$O,6,FALSE)),IF($E$5=\"Males\",(VLOOKUP($AN12,'3c_males_2015'!$B:$O,6,FALSE)))))","v":13.5},{"$f":"IF($E$5=\"All\",(VLOOKUP($AN12,'3c_all_2015'!$B:$O,7,FALSE)),IF($E$5=\"Females\",(VLOOKUP($AN12,'3c_females_2015'!$B:$O,7,FALSE)),IF($E$5=\"Males\",(VLOOKUP($AN12,'3c_males_2015'!$B:$O,7,FALSE)))))","v":18.3},{"$f":"IF($E$5=\"All\",(VLOOKUP($AN12,'3c_all_2015'!$B:$O,8,FALSE)),IF($E$5=\"Females\",(VLOOKUP($AN12,'3c_females_2015'!$B:$O,8,FALSE)),IF($E$5=\"Males\",(VLOOKUP($AN12,'3c_males_2015'!$B:$O,8,FALSE)))))","v":81.7},{"$f":"IF($E$5=\"All\",(VLOOKUP($AN12,'3c_all_2015'!$B:$O,9,FALSE)),IF($E$5=\"Females\",(VLOOKUP($AN12,'3c_females_2015'!$B:$O,9,FALSE)),IF($E$5=\"Males\",(VLOOKUP($AN12,'3c_males_2015'!$B:$O,9,FALSE)))))","v":44379},null,{"$f":"INDEX(SUPP_3c!C$3:C$49,MATCH((CONCATENATE($E$5,$AN12)),SUPP_3c!$N$3:$N$49,0))","v":21.5},{"$f":"INDEX(SUPP_3c!D$3:D$49,MATCH((CONCATENATE($E$5,$AN12)),SUPP_3c!$N$3:$N$49,0))","v":14.9},{"$f":"INDEX(SUPP_3c!E$3:E$49,MATCH((CONCATENATE($E$5,$AN12)),SUPP_3c!$N$3:$N$49,0))","v":16.7},{"$f":"INDEX(SUPP_3c!F$3:F$49,MATCH((CONCATENATE($E$5,$AN12)),SUPP_3c!$N$3:$N$49,0))","v":16.2},{"$f":"INDEX(SUPP_3c!G$3:G$49,MATCH((CONCATENATE($E$5,$AN12)),SUPP_3c!$N$3:$N$49,0))","v":13.2},{"$f":"INDEX(SUPP_3c!H$3:H$49,MATCH((CONCATENATE($E$5,$AN12)),SUPP_3c!$N$3:$N$49,0))","v":17.5},{"$f":"INDEX(SUPP_3c!I$3:I$49,MATCH((CONCATENATE($E$5,$AN12)),SUPP_3c!$N$3:$N$49,0))","v":82.5},{"$f":"INDEX(SUPP_3c!J$3:J$49,MATCH((CONCATENATE($E$5,$AN12)),SUPP_3c!$N$3:$N$49,0))","v":35221},null,null,null,null,null,null,null,null,null,null,null,null,null,null,null,null,null,null,"05_Physics"]
[]
["English",null,null,null,{"$f":"IF($E$5=\"All\",'3c_all_2015'!C17,IF($E$5=\"Females\",'3c_females_2015'!C17,IF($E$5=\"Males\",'3c_males_2015'!C17)))","v":15},{"$f":"IF($E$5=\"All\",'3c_all_2015'!D17,IF($E$5=\"Females\",'3c_females_2015'!D17,IF($E$5=\"Males\",'3c_males_2015'!D17)))","v":23.4},{"$f":"IF($E$5=\"All\",'3c_all_2015'!E17,IF($E$5=\"Females\",'3c_females_2015'!E17,IF($E$5=\"Males\",'3c_males_2015'!E17)))","v":29.5},{"$f":"IF($E$5=\"All\",'3c_all_2015'!F17,IF($E$5=\"Females\",'3c_females_2015'!F17,IF($E$5=\"Males\",'3c_males_2015'!F17)))","v":21},{"$f":"IF($E$5=\"All\",'3c_all_2015'!G17,IF($E$5=\"Females\",'3c_females_2015'!G17,IF($E$5=\"Males\",'3c_males_2015'!G17)))","v":8.5},{"$f":"IF($E$5=\"All\",'3c_all_2015'!H17,IF($E$5=\"Females\",'3c_females_2015'!H17,IF($E$5=\"Males\",'3c_males_2015'!H17)))","v":2.7},{"$f":"IF($E$5=\"All\",'3c_all_2015'!I17,IF($E$5=\"Females\",'3c_females_2015'!I17,IF($E$5=\"Males\",'3c_males_2015'!I17)))","v":97.3},{"$f":"IF($E$5=\"All\",'3c_all_2015'!J17,IF($E$5=\"Females\",'3c_females_2015'!J17,IF($E$5=\"Males\",'3c_males_2015'!J17)))","v":92053},null,{"$f":"IF($E$5=\"All\",SUPP_3c!C56,IF($E$5=\"Females\",SUPP_3c!C55,IF($E$5=\"Males\",SUPP_3c!C54)))","v":14.7},{"$f":"IF($E$5=\"All\",SUPP_3c!D56,IF($E$5=\"Females\",SUPP_3c!D55,IF($E$5=\"Males\",SUPP_3c!D54)))","v":22.6},{"$f":"IF($E$5=\"All\",SUPP_3c!E56,IF($E$5=\"Females\",SUPP_3c!E55,IF($E$5=\"Males\",SUPP_3c!E54)))","v":28.1},{"$f":"IF($E$5=\"All\",SUPP_3c!F56,IF($E$5=\"Females\",SUPP_3c!F55,IF($E$5=\"Males\",SUPP_3c!F54)))","v":21.7},{"$f":"IF($E$5=\"All\",SUPP_3c!G56,IF($E$5=\"Females\",SUPP_3c!G55,IF($E$5=\"Males\",SUPP_3c!G54)))","v":9.6},{"$f":"IF($E$5=\"All\",SUPP_3c!H56,IF($E$5=\"Females\",SUPP_3c!H55,IF($E$5=\"Males\",SUPP_3c!H54)))","v":3.2},{"$f":"IF($E$5=\"All\",SUPP_3c!I56,IF($E$5=\"Females\",SUPP_3c!I55,IF($E$5=\"Males\",SUPP_3c!I54)))","v":96.8},{"$f":"IF($E$5=\"All\",SUPP_3c!J56,IF($E$5=\"Females\",SUPP_3c!J55,IF($E$5=\"Males\",SUPP_3c!J54)))","v":65621}]
["of which:"]
["  English literature",null,null,null,{"$f":"IF($E$5=\"All\",(VLOOKUP($AN16,'3c_all_2015'!$B:$O,2,FALSE)),IF($E$5=\"Females\",(VLOOKUP($AN16,'3c_females_2015'!$B:$O,2,FALSE)),IF($E$5=\"Males\",(VLOOKUP($AN16,'3c_males_2015'!$B:$O,2,FALSE)))))","v":18},{"$f":"IF($E$5=\"All\",(VLOOKUP($AN16,'3c_all_2015'!$B:$O,3,FALSE)),IF($E$5=\"Females\",(VLOOKUP($AN16,'3c_females_2015'!$B:$O,3,FALSE)),IF($E$5=\"Males\",(VLOOKUP($AN16,'3c_males_2015'!$B:$O,3,FALSE)))))","v":23.2},{"$f":"IF($E$5=\"All\",(VLOOKUP($AN16,'3c_all_2015'!$B:$O,4,FALSE)),IF($E$5=\"Females\",(VLOOKUP($AN16,'3c_females_2015'!$B:$O,4,FALSE)),IF($E$5=\"Males\",(VLOOKUP($AN16,'3c_males_2015'!$B:$O,4,FALSE)))))","v":28.4},{"$f":"IF($E$5=\"All\",(VLOOKUP($AN16,'3c_all_2015'!$B:$O,5,FALSE)),IF($E$5=\"Females\",(VLOOKUP($AN16,'3c_females_2015'!$B:$O,5,FALSE)),IF($E$5=\"Males\",(VLOOKUP($AN16,'3c_males_2015'!$B:$O,5,FALSE)))))","v":19.8},{"$f":"IF($E$5=\"All\",(VLOOKUP($AN16,'3c_all_2015'!$B:$O,6,FALSE)),IF($E$5=\"Females\",(VLOOKUP($AN16,'3c_females_2015'!$B:$O,6,FALSE)),IF($E$5=\"Males\",(VLOOKUP($AN16,'3c_males_2015'!$B:$O,6,FALSE)))))","v":8},{"$f":"IF($E$5=\"All\",(VLOOKUP($AN16,'3c_all_2015'!$B:$O,7,FALSE)),IF($E$5=\"Females\",(VLOOKUP($AN16,'3c_females_2015'!$B:$O,7,FALSE)),IF($E$5=\"Males\",(VLOOKUP($AN16,'3c_males_2015'!$B:$O,7,FALSE)))))","v":2.5},{"$f":"IF($E$5=\"All\",(VLOOKUP($AN16,'3c_all_2015'!$B:$O,8,FALSE)),IF($E$5=\"Females\",(VLOOKUP($AN16,'3c_females_2015'!$B:$O,8,FALSE)),IF($E$5=\"Males\",(VLOOKUP($AN16,'3c_males_2015'!$B:$O,8,FALSE)))))","v":97.5},{"$f":"IF($E$5=\"All\",(VLOOKUP($AN16,'3c_all_2015'!$B:$O,9,FALSE)),IF($E$5=\"Females\",(VLOOKUP($AN16,'3c_females_2015'!$B:$O,9,FALSE)),IF($E$5=\"Males\",(VLOOKUP($AN16,'3c_males_2015'!$B:$O,9,FALSE)))))","v":52178},null,{"$f":"INDEX(SUPP_3c!C$3:C$49,MATCH((CONCATENATE($E$5,$AN16)),SUPP_3c!$N$3:$N$49,0))","v":17.7},{"$f":"INDEX(SUPP_3c!D$3:D$49,MATCH((CONCATENATE($E$5,$AN16)),SUPP_3c!$N$3:$N$49,0))","v":22.3},{"$f":"INDEX(SUPP_3c!E$3:E$49,MATCH((CONCATENATE($E$5,$AN16)),SUPP_3c!$N$3:$N$49,0))","v":25.6},{"$f":"INDEX(SUPP_3c!F$3:F$49,MATCH((CONCATENATE($E$5,$AN16)),SUPP_3c!$N$3:$N$49,0))","v":20.9},{"$f":"INDEX(SUPP_3c!G$3:G$49,MATCH((CONCATENATE($E$5,$AN16)),SUPP_3c!$N$3:$N$49,0))","v":10.1},{"$f":"INDEX(SUPP_3c!H$3:H$49,MATCH((CONCATENATE($E$5,$AN16)),SUPP_3c!$N$3:$N$49,0))","v":3.3},{"$f":"INDEX(SUPP_3c!I$3:I$49,MATCH((CONCATENATE($E$5,$AN16)),SUPP_3c!$N$3:$N$49,0))","v":96.7},{"$f":"INDEX(SUPP_3c!J$3:J$49,MATCH((CONCATENATE($E$5,$AN16)),SUPP_3c!$N$3:$N$49,0))","v":36764},null,null,null,null,null,null,null,null,null,null,null,null,null,null,null,null,null,null,"06_English_Literature"]
["  English language",null,null,null,{"$f":"IF($E$5=\"All\",(VLOOKUP($AN17,'3c_all_2015'!$B:$O,2,FALSE)),IF($E$5=\"Females\",(VLOOKUP($AN17,'3c_females_2015'!$B:$O,2,FALSE)),IF($E$5=\"Males\",(VLOOKUP($AN17,'3c_males_2015'!$B:$O,2,FALSE)))))","v":12},{"$f":"IF($E$5=\"All\",(VLOOKUP($AN17,'3c_all_2015'!$B:$O,3,FALSE)),IF($E$5=\"Females\",(VLOOKUP($AN17,'3c_females_2015'!$B:$O,3,FALSE)),IF($E$5=\"Males\",(VLOOKUP($AN17,'3c_males_2015'!$B:$O,3,FALSE)))))","v":26.3},{"$f":"IF($E$5=\"All\",(VLOOKUP($AN17,'3c_all_2015'!$B:$O,4,FALSE)),IF($E$5=\"Females\",(VLOOKUP($AN17,'3c_females_2015'!$B:$O,4,FALSE)),IF($E$5=\"Males\",(VLOOKUP($AN17,'3c_males_2015'!$B:$O,4,FALSE)))))","v":31.6},{"$f":"IF($E$5=\"All\",(VLOOKUP($AN17,'3c_all_2015'!$B:$O,5,FALSE)),IF($E$5=\"Females\",(VLOOKUP($AN17,'3c_females_2015'!$B:$O,5,FALSE)),IF($E$5=\"Males\",(VLOOKUP($AN17,'3c_males_2015'!$B:$O,5,FALSE)))))","v":20.3},{"$f":"IF($E$5=\"All\",(VLOOKUP($AN17,'3c_all_2015'!$B:$O,6,FALSE)),IF($E$5=\"Females\",(VLOOKUP($AN17,'3c_females_2015'!$B:$O,6,FALSE)),IF($E$5=\"Males\",(VLOOKUP($AN17,'3c_males_2015'!$B:$O,6,FALSE)))))","v":7.3},{"$f":"IF($E$5=\"All\",(VLOOKUP($AN17,'3c_all_2015'!$B:$O,7,FALSE)),IF($E$5=\"Females\",(VLOOKUP($AN17,'3c_females_2015'!$B:$O,7,FALSE)),IF($E$5=\"Males\",(VLOOKUP($AN17,'3c_males_2015'!$B:$O,7,FALSE)))))","v":2.5},{"$f":"IF($E$5=\"All\",(VLOOKUP($AN17,'3c_all_2015'!$B:$O,8,FALSE)),IF($E$5=\"Females\",(VLOOKUP($AN17,'3c_females_2015'!$B:$O,8,FALSE)),IF($E$5=\"Males\",(VLOOKUP($AN17,'3c_males_2015'!$B:$O,8,FALSE)))))","v":97.5},{"$f":"IF($E$5=\"All\",(VLOOKUP($AN17,'3c_all_2015'!$B:$O,9,FALSE)),IF($E$5=\"Females\",(VLOOKUP($AN17,'3c_females_2015'!$B:$O,9,FALSE)),IF($E$5=\"Males\",(VLOOKUP($AN17,'3c_males_2015'!$B:$O,9,FALSE)))))","v":25851},null,{"$f":"INDEX(SUPP_3c!C$3:C$49,MATCH((CONCATENATE($E$5,$AN17)),SUPP_3c!$N$3:$N$49,0))","v":11.8},{"$f":"INDEX(SUPP_3c!D$3:D$49,MATCH((CONCATENATE($E$5,$AN17)),SUPP_3c!$N$3:$N$49,0))","v":25.1},{"$f":"INDEX(SUPP_3c!E$3:E$49,MATCH((CONCATENATE($E$5,$AN17)),SUPP_3c!$N$3:$N$49,0))","v":31.9},{"$f":"INDEX(SUPP_3c!F$3:F$49,MATCH((CONCATENATE($E$5,$AN17)),SUPP_3c!$N$3:$N$49,0))","v":20.7},{"$f":"INDEX(SUPP_3c!G$3:G$49,MATCH((CONCATENATE($E$5,$AN17)),SUPP_3c!$N$3:$N$49,0))","v":7.7},{"$f":"INDEX(SUPP_3c!H$3:H$49,MATCH((CONCATENATE($E$5,$AN17)),SUPP_3c!$N$3:$N$49,0))","v":2.8},{"$f":"INDEX(SUPP_3c!I$3:I$49,MATCH((CONCATENATE($E$5,$AN17)),SUPP_3c!$N$3:$N$49,0))","v":97.2},{"$f":"INDEX(SUPP_3c!J$3:J$49,MATCH((CONCATENATE($E$5,$AN17)),SUPP_3c!$N$3:$N$49,0))","v":19473},null,null,null,null,null,null,null,null,null,null,null,null,null,null,null,null,null,null,"07_English Language"]
["  English language and literature",null,null,null,{"$f":"IF($E$5=\"All\",(VLOOKUP($AN18,'3c_all_2015'!$B:$O,2,FALSE)),IF($E$5=\"Females\",(VLOOKUP($AN18,'3c_females_2015'!$B:$O,2,FALSE)),IF($E$5=\"Males\",(VLOOKUP($AN18,'3c_males_2015'!$B:$O,2,FALSE)))))","v":9.1999999999999993},{"$f":"IF($E$5=\"All\",(VLOOKUP($AN18,'3c_all_2015'!$B:$O,3,FALSE)),IF($E$5=\"Females\",(VLOOKUP($AN18,'3c_females_2015'!$B:$O,3,FALSE)),IF($E$5=\"Males\",(VLOOKUP($AN18,'3c_males_2015'!$B:$O,3,FALSE)))))","v":19.100000000000001},{"$f":"IF($E$5=\"All\",(VLOOKUP($AN18,'3c_all_2015'!$B:$O,4,FALSE)),IF($E$5=\"Females\",(VLOOKUP($AN18,'3c_females_2015'!$B:$O,4,FALSE)),IF($E$5=\"Males\",(VLOOKUP($AN18,'3c_males_2015'!$B:$O,4,FALSE)))))","v":29.3},{"$f":"IF($E$5=\"All\",(VLOOKUP($AN18,'3c_all_2015'!$B:$O,5,FALSE)),IF($E$5=\"Females\",(VLOOKUP($AN18,'3c_females_2015'!$B:$O,5,FALSE)),IF($E$5=\"Males\",(VLOOKUP($AN18,'3c_males_2015'!$B:$O,5,FALSE)))))","v":26.6},{"$f":"IF($E$5=\"All\",(VLOOKUP($AN18,'3c_all_2015'!$B:$O,6,FALSE)),IF($E$5=\"Females\",(VLOOKUP($AN18,'3c_females_2015'!$B:$O,6,FALSE)),IF($E$5=\"Males\",(VLOOKUP($AN18,'3c_males_2015'!$B:$O,6,FALSE)))))","v":12.3},{"$f":"IF($E$5=\"All\",(VLOOKUP($AN18,'3c_all_2015'!$B:$O,7,FALSE)),IF($E$5=\"Females\",(VLOOKUP($AN18,'3c_females_2015'!$B:$O,7,FALSE)),IF($E$5=\"Males\",(VLOOKUP($AN18,'3c_males_2015'!$B:$O,7,FALSE)))))","v":3.4},{"$f":"IF($E$5=\"All\",(VLOOKUP($AN18,'3c_all_2015'!$B:$O,8,FALSE)),IF($E$5=\"Females\",(VLOOKUP($AN18,'3c_females_2015'!$B:$O,8,FALSE)),IF($E$5=\"Males\",(VLOOKUP($AN18,'3c_males_2015'!$B:$O,8,FALSE)))))","v":96.6},{"$f":"IF($E$5=\"All\",(VLOOKUP($AN18,'3c_all_2015'!$B:$O,9,FALSE)),IF($E$5=\"Females\",(VLOOKUP($AN18,'3c_females_2015'!$B:$O,9,FALSE)),IF($E$5=\"Males\",(VLOOKUP($AN18,'3c_males_2015'!$B:$O,9,FALSE)))))","v":14024},null,{"$f":"INDEX(SUPP_3c!C$3:C$49,MATCH((CONCATENATE($E$5,$AN18)),SUPP_3c!$N$3:$N$49,0))","v":8.8000000000000007},{"$f":"INDEX(SUPP_3c!D$3:D$49,MATCH((CONCATENATE($E$5,$AN18)),SUPP_3c!$N$3:$N$49,0))","v":18.8},{"$f":"INDEX(SUPP_3c!E$3:E$49,MATCH((CONCATENATE($E$5,$AN18)),SUPP_3c!$N$3:$N$49,0))","v":29.9},{"$f":"INDEX(SUPP_3c!F$3:F$49,MATCH((CONCATENATE($E$5,$AN18)),SUPP_3c!$N$3:$N$49,0))","v":26.6},{"$f":"INDEX(SUPP_3c!G$3:G$49,MATCH((CONCATENATE($E$5,$AN18)),SUPP_3c!$N$3:$N$49,0))","v":11.8},{"$f":"INDEX(SUPP_3c!H$3:H$49,MATCH((CONCATENATE($E$5,$AN18)),SUPP_3c!$N$3:$N$49,0))","v":4},{"$f":"INDEX(SUPP_3c!I$3:I$49,MATCH((CONCATENATE($E$5,$AN18)),SUPP_3c!$N$3:$N$49,0))","v":96},{"$f":"INDEX(SUPP_3c!J$3:J$49,MATCH((CONCATENATE($E$5,$AN18)),SUPP_3c!$N$3:$N$49,0))","v":9384},null,null,null,null,null,null,null,null,null,null,null,null,null,null,null,null,null,null,"08_English_Language&Literature"]
[]
["Computer Science",null,null,null,{"$f":"IF($E$5=\"All\",(VLOOKUP($AN20,'3c_all_2015'!$B:$O,2,FALSE)),IF($E$5=\"Females\",(VLOOKUP($AN20,'3c_females_2015'!$B:$O,2,FALSE)),IF($E$5=\"Males\",(VLOOKUP($AN20,'3c_males_2015'!$B:$O,2,FALSE)))))","v":10.6},{"$f":"IF($E$5=\"All\",(VLOOKUP($AN20,'3c_all_2015'!$B:$O,3,FALSE)),IF($E$5=\"Females\",(VLOOKUP($AN20,'3c_females_2015'!$B:$O,3,FALSE)),IF($E$5=\"Males\",(VLOOKUP($AN20,'3c_males_2015'!$B:$O,3,FALSE)))))","v":13.8},{"$f":"IF($E$5=\"All\",(VLOOKUP($AN20,'3c_all_2015'!$B:$O,4,FALSE)),IF($E$5=\"Females\",(VLOOKUP($AN20,'3c_females_2015'!$B:$O,4,FALSE)),IF($E$5=\"Males\",(VLOOKUP($AN20,'3c_males_2015'!$B:$O,4,FALSE)))))","v":17.2},{"$f":"IF($E$5=\"All\",(VLOOKUP($AN20,'3c_all_2015'!$B:$O,5,FALSE)),IF($E$5=\"Females\",(VLOOKUP($AN20,'3c_females_2015'!$B:$O,5,FALSE)),IF($E$5=\"Males\",(VLOOKUP($AN20,'3c_males_2015'!$B:$O,5,FALSE)))))","v":20.2},{"$f":"IF($E$5=\"All\",(VLOOKUP($AN20,'3c_all_2015'!$B:$O,6,FALSE)),IF($E$5=\"Females\",(VLOOKUP($AN20,'3c_females_2015'!$B:$O,6,FALSE)),IF($E$5=\"Males\",(VLOOKUP($AN20,'3c_males_2015'!$B:$O,6,FALSE)))))","v":17.3},{"$f":"IF($E$5=\"All\",(VLOOKUP($AN20,'3c_all_2015'!$B:$O,7,FALSE)),IF($E$5=\"Females\",(VLOOKUP($AN20,'3c_females_2015'!$B:$O,7,FALSE)),IF($E$5=\"Males\",(VLOOKUP($AN20,'3c_males_2015'!$B:$O,7,FALSE)))))","v":20.9},{"$f":"IF($E$5=\"All\",(VLOOKUP($AN20,'3c_all_2015'!$B:$O,8,FALSE)),IF($E$5=\"Females\",(VLOOKUP($AN20,'3c_females_2015'!$B:$O,8,FALSE)),IF($E$5=\"Males\",(VLOOKUP($AN20,'3c_males_2015'!$B:$O,8,FALSE)))))","v":79.099999999999994},{"$f":"IF($E$5=\"All\",(VLOOKUP($AN20,'3c_all_2015'!$B:$O,9,FALSE)),IF($E$5=\"Females\",(VLOOKUP($AN20,'3c_females_2015'!$B:$O,9,FALSE)),IF($E$5=\"Males\",(VLOOKUP($AN20,'3c_males_2015'!$B:$O,9,FALSE)))))","v":10012},null,{"$f":"INDEX(SUPP_3c!C$3:C$49,MATCH((CONCATENATE($E$5,$AN20)),SUPP_3c!$N$3:$N$49,0))","v":12.9},{"$f":"INDEX(SUPP_3c!D$3:D$49,MATCH((CONCATENATE($E$5,$AN20)),SUPP_3c!$N$3:$N$49,0))","v":13.2},{"$f":"INDEX(SUPP_3c!E$3:E$49,MATCH((CONCATENATE($E$5,$AN20)),SUPP_3c!$N$3:$N$49,0))","v":18.5},{"$f":"INDEX(SUPP_3c!F$3:F$49,MATCH((CONCATENATE($E$5,$AN20)),SUPP_3c!$N$3:$N$49,0))","v":19.600000000000001},{"$f":"INDEX(SUPP_3c!G$3:G$49,MATCH((CONCATENATE($E$5,$AN20)),SUPP_3c!$N$3:$N$49,0))","v":17.600000000000001},{"$f":"INDEX(SUPP_3c!H$3:H$49,MATCH((CONCATENATE($E$5,$AN20)),SUPP_3c!$N$3:$N$49,0))","v":18.100000000000001},{"$f":"INDEX(SUPP_3c!I$3:I$49,MATCH((CONCATENATE($E$5,$AN20)),SUPP_3c!$N$3:$N$49,0))","v":81.900000000000006},{"$f":"INDEX(SUPP_3c!J$3:J$49,MATCH((CONCATENATE($E$5,$AN20)),SUPP_3c!$N$3:$N$49,0))","v":8936},null,null,null,null,null,null,null,null,null,null,null,null,null,null,null,null,null,null,"09_Computing"]
[]
["Business Studies",null,null,null,{"$f":"IF($E$5=\"All\",(VLOOKUP($AN22,'3c_all_2015'!$B:$O,2,FALSE)),IF($E$5=\"Females\",(VLOOKUP($AN22,'3c_females_2015'!$B:$O,2,FALSE)),IF($E$5=\"Males\",(VLOOKUP($AN22,'3c_males_2015'!$B:$O,2,FALSE)))))","v":9.5},{"$f":"IF($E$5=\"All\",(VLOOKUP($AN22,'3c_all_2015'!$B:$O,3,FALSE)),IF($E$5=\"Females\",(VLOOKUP($AN22,'3c_females_2015'!$B:$O,3,FALSE)),IF($E$5=\"Males\",(VLOOKUP($AN22,'3c_males_2015'!$B:$O,3,FALSE)))))","v":16.899999999999999},{"$f":"IF($E$5=\"All\",(VLOOKUP($AN22,'3c_all_2015'!$B:$O,4,FALSE)),IF($E$5=\"Females\",(VLOOKUP($AN22,'3c_females_2015'!$B:$O,4,FALSE)),IF($E$5=\"Males\",(VLOOKUP($AN22,'3c_males_2015'!$B:$O,4,FALSE)))))","v":23.5},{"$f":"IF($E$5=\"All\",(VLOOKUP($AN22,'3c_all_2015'!$B:$O,5,FALSE)),IF($E$5=\"Females\",(VLOOKUP($AN22,'3c_females_2015'!$B:$O,5,FALSE)),IF($E$5=\"Males\",(VLOOKUP($AN22,'3c_males_2015'!$B:$O,5,FALSE)))))","v":21.8},{"$f":"IF($E$5=\"All\",(VLOOKUP($AN22,'3c_all_2015'!$B:$O,6,FALSE)),IF($E$5=\"Females\",(VLOOKUP($AN22,'3c_females_2015'!$B:$O,6,FALSE)),IF($E$5=\"Males\",(VLOOKUP($AN22,'3c_males_2015'!$B:$O,6,FALSE)))))","v":15.5},{"$f":"IF($E$5=\"All\",(VLOOKUP($AN22,'3c_all_2015'!$B:$O,7,FALSE)),IF($E$5=\"Females\",(VLOOKUP($AN22,'3c_females_2015'!$B:$O,7,FALSE)),IF($E$5=\"Males\",(VLOOKUP($AN22,'3c_males_2015'!$B:$O,7,FALSE)))))","v":12.9},{"$f":"IF($E$5=\"All\",(VLOOKUP($AN22,'3c_all_2015'!$B:$O,8,FALSE)),IF($E$5=\"Females\",(VLOOKUP($AN22,'3c_females_2015'!$B:$O,8,FALSE)),IF($E$5=\"Males\",(VLOOKUP($AN22,'3c_males_2015'!$B:$O,8,FALSE)))))","v":87.1},{"$f":"IF($E$5=\"All\",(VLOOKUP($AN22,'3c_all_2015'!$B:$O,9,FALSE)),IF($E$5=\"Females\",(VLOOKUP($AN22,'3c_females_2015'!$B:$O,9,FALSE)),IF($E$5=\"Males\",(VLOOKUP($AN22,'3c_males_2015'!$B:$O,9,FALSE)))))","v":31894},null,{"$f":"INDEX(SUPP_3c!C$3:C$49,MATCH((CONCATENATE($E$5,$AN22)),SUPP_3c!$N$3:$N$49,0))","v":9.6},{"$f":"INDEX(SUPP_3c!D$3:D$49,MATCH((CONCATENATE($E$5,$AN22)),SUPP_3c!$N$3:$N$49,0))","v":17.600000000000001},{"$f":"INDEX(SUPP_3c!E$3:E$49,MATCH((CONCATENATE($E$5,$AN22)),SUPP_3c!$N$3:$N$49,0))","v":24.4},{"$f":"INDEX(SUPP_3c!F$3:F$49,MATCH((CONCATENATE($E$5,$AN22)),SUPP_3c!$N$3:$N$49,0))","v":21.3},{"$f":"INDEX(SUPP_3c!G$3:G$49,MATCH((CONCATENATE($E$5,$AN22)),SUPP_3c!$N$3:$N$49,0))","v":14.7},{"$f":"INDEX(SUPP_3c!H$3:H$49,MATCH((CONCATENATE($E$5,$AN22)),SUPP_3c!$N$3:$N$49,0))","v":12.4},{"$f":"INDEX(SUPP_3c!I$3:I$49,MATCH((CONCATENATE($E$5,$AN22)),SUPP_3c!$N$3:$N$49,0))","v":87.6},{"$f":"INDEX(SUPP_3c!J$3:J$49,MATCH((CONCATENATE($E$5,$AN22)),SUPP_3c!$N$3:$N$49,0))","v":27111},null,null,null,null,null,null,null,null,null,null,null,null,null,null,null,null,null,null,"10_Business_Studies"]
["Economics",null,null,null,{"$f":"IF($E$5=\"All\",(VLOOKUP($AN23,'3c_all_2015'!$B:$O,2,FALSE)),IF($E$5=\"Females\",(VLOOKUP($AN23,'3c_females_2015'!$B:$O,2,FALSE)),IF($E$5=\"Males\",(VLOOKUP($AN23,'3c_males_2015'!$B:$O,2,FALSE)))))","v":20},{"$f":"IF($E$5=\"All\",(VLOOKUP($AN23,'3c_all_2015'!$B:$O,3,FALSE)),IF($E$5=\"Females\",(VLOOKUP($AN23,'3c_females_2015'!$B:$O,3,FALSE)),IF($E$5=\"Males\",(VLOOKUP($AN23,'3c_males_2015'!$B:$O,3,FALSE)))))","v":19.399999999999999},{"$f":"IF($E$5=\"All\",(VLOOKUP($AN23,'3c_all_2015'!$B:$O,4,FALSE)),IF($E$5=\"Females\",(VLOOKUP($AN23,'3c_females_2015'!$B:$O,4,FALSE)),IF($E$5=\"Males\",(VLOOKUP($AN23,'3c_males_2015'!$B:$O,4,FALSE)))))","v":19.399999999999999},{"$f":"IF($E$5=\"All\",(VLOOKUP($AN23,'3c_all_2015'!$B:$O,5,FALSE)),IF($E$5=\"Females\",(VLOOKUP($AN23,'3c_females_2015'!$B:$O,5,FALSE)),IF($E$5=\"Males\",(VLOOKUP($AN23,'3c_males_2015'!$B:$O,5,FALSE)))))","v":16.399999999999999},{"$f":"IF($E$5=\"All\",(VLOOKUP($AN23,'3c_all_2015'!$B:$O,6,FALSE)),IF($E$5=\"Females\",(VLOOKUP($AN23,'3c_females_2015'!$B:$O,6,FALSE)),IF($E$5=\"Males\",(VLOOKUP($AN23,'3c_males_2015'!$B:$O,6,FALSE)))))","v":11.8},{"$f":"IF($E$5=\"All\",(VLOOKUP($AN23,'3c_all_2015'!$B:$O,7,FALSE)),IF($E$5=\"Females\",(VLOOKUP($AN23,'3c_females_2015'!$B:$O,7,FALSE)),IF($E$5=\"Males\",(VLOOKUP($AN23,'3c_males_2015'!$B:$O,7,FALSE)))))","v":13.1},{"$f":"IF($E$5=\"All\",(VLOOKUP($AN23,'3c_all_2015'!$B:$O,8,FALSE)),IF($E$5=\"Females\",(VLOOKUP($AN23,'3c_females_2015'!$B:$O,8,FALSE)),IF($E$5=\"Males\",(VLOOKUP($AN23,'3c_males_2015'!$B:$O,8,FALSE)))))","v":86.9},{"$f":"IF($E$5=\"All\",(VLOOKUP($AN23,'3c_all_2015'!$B:$O,9,FALSE)),IF($E$5=\"Females\",(VLOOKUP($AN23,'3c_females_2015'!$B:$O,9,FALSE)),IF($E$5=\"Males\",(VLOOKUP($AN23,'3c_males_2015'!$B:$O,9,FALSE)))))","v":32452},null,{"$f":"INDEX(SUPP_3c!C$3:C$49,MATCH((CONCATENATE($E$5,$AN23)),SUPP_3c!$N$3:$N$49,0))","v":18.8},{"$f":"INDEX(SUPP_3c!D$3:D$49,MATCH((CONCATENATE($E$5,$AN23)),SUPP_3c!$N$3:$N$49,0))","v":18.899999999999999},{"$f":"INDEX(SUPP_3c!E$3:E$49,MATCH((CONCATENATE($E$5,$AN23)),SUPP_3c!$N$3:$N$49,0))","v":19.8},{"$f":"INDEX(SUPP_3c!F$3:F$49,MATCH((CONCATENATE($E$5,$AN23)),SUPP_3c!$N$3:$N$49,0))","v":17.100000000000001},{"$f":"INDEX(SUPP_3c!G$3:G$49,MATCH((CONCATENATE($E$5,$AN23)),SUPP_3c!$N$3:$N$49,0))","v":12.3},{"$f":"INDEX(SUPP_3c!H$3:H$49,MATCH((CONCATENATE($E$5,$AN23)),SUPP_3c!$N$3:$N$49,0))","v":13.2},{"$f":"INDEX(SUPP_3c!I$3:I$49,MATCH((CONCATENATE($E$5,$AN23)),SUPP_3c!$N$3:$N$49,0))","v":86.8},{"$f":"INDEX(SUPP_3c!J$3:J$49,MATCH((CONCATENATE($E$5,$AN23)),SUPP_3c!$N$3:$N$49,0))","v":25880},null,null,null,null,null,null,null,null,null,null,null,null,null,null,null,null,null,null,"11_Economics"]
["History",null,null,null,{"$f":"IF($E$5=\"All\",(VLOOKUP($AN24,'3c_all_2015'!$B:$O,2,FALSE)),IF($E$5=\"Females\",(VLOOKUP($AN24,'3c_females_2015'!$B:$O,2,FALSE)),IF($E$5=\"Males\",(VLOOKUP($AN24,'3c_males_2015'!$B:$O,2,FALSE)))))","v":18.2},{"$f":"IF($E$5=\"All\",(VLOOKUP($AN24,'3c_all_2015'!$B:$O,3,FALSE)),IF($E$5=\"Females\",(VLOOKUP($AN24,'3c_females_2015'!$B:$O,3,FALSE)),IF($E$5=\"Males\",(VLOOKUP($AN24,'3c_males_2015'!$B:$O,3,FALSE)))))","v":24.1},{"$f":"IF($E$5=\"All\",(VLOOKUP($AN24,'3c_all_2015'!$B:$O,4,FALSE)),IF($E$5=\"Females\",(VLOOKUP($AN24,'3c_females_2015'!$B:$O,4,FALSE)),IF($E$5=\"Males\",(VLOOKUP($AN24,'3c_males_2015'!$B:$O,4,FALSE)))))","v":25.4},{"$f":"IF($E$5=\"All\",(VLOOKUP($AN24,'3c_all_2015'!$B:$O,5,FALSE)),IF($E$5=\"Females\",(VLOOKUP($AN24,'3c_females_2015'!$B:$O,5,FALSE)),IF($E$5=\"Males\",(VLOOKUP($AN24,'3c_males_2015'!$B:$O,5,FALSE)))))","v":17.7},{"$f":"IF($E$5=\"All\",(VLOOKUP($AN24,'3c_all_2015'!$B:$O,6,FALSE)),IF($E$5=\"Females\",(VLOOKUP($AN24,'3c_females_2015'!$B:$O,6,FALSE)),IF($E$5=\"Males\",(VLOOKUP($AN24,'3c_males_2015'!$B:$O,6,FALSE)))))","v":9.3000000000000007},{"$f":"IF($E$5=\"All\",(VLOOKUP($AN24,'3c_all_2015'!$B:$O,7,FALSE)),IF($E$5=\"Females\",(VLOOKUP($AN24,'3c_females_2015'!$B:$O,7,FALSE)),IF($E$5=\"Males\",(VLOOKUP($AN24,'3c_males_2015'!$B:$O,7,FALSE)))))","v":5.3},{"$f":"IF($E$5=\"All\",(VLOOKUP($AN24,'3c_all_2015'!$B:$O,8,FALSE)),IF($E$5=\"Females\",(VLOOKUP($AN24,'3c_females_2015'!$B:$O,8,FALSE)),IF($E$5=\"Males\",(VLOOKUP($AN24,'3c_males_2015'!$B:$O,8,FALSE)))))","v":94.7},{"$f":"IF($E$5=\"All\",(VLOOKUP($AN24,'3c_all_2015'!$B:$O,9,FALSE)),IF($E$5=\"Females\",(VLOOKUP($AN24,'3c_females_2015'!$B:$O,9,FALSE)),IF($E$5=\"Males\",(VLOOKUP($AN24,'3c_males_2015'!$B:$O,9,FALSE)))))","v":58507},null,{"$f":"INDEX(SUPP_3c!C$3:C$49,MATCH((CONCATENATE($E$5,$AN24)),SUPP_3c!$N$3:$N$49,0))","v":17.600000000000001},{"$f":"INDEX(SUPP_3c!D$3:D$49,MATCH((CONCATENATE($E$5,$AN24)),SUPP_3c!$N$3:$N$49,0))","v":22.5},{"$f":"INDEX(SUPP_3c!E$3:E$49,MATCH((CONCATENATE($E$5,$AN24)),SUPP_3c!$N$3:$N$49,0))","v":25},{"$f":"INDEX(SUPP_3c!F$3:F$49,MATCH((CONCATENATE($E$5,$AN24)),SUPP_3c!$N$3:$N$49,0))","v":18.600000000000001},{"$f":"INDEX(SUPP_3c!G$3:G$49,MATCH((CONCATENATE($E$5,$AN24)),SUPP_3c!$N$3:$N$49,0))","v":10.3},{"$f":"INDEX(SUPP_3c!H$3:H$49,MATCH((CONCATENATE($E$5,$AN24)),SUPP_3c!$N$3:$N$49,0))","v":5.9},{"$f":"INDEX(SUPP_3c!I$3:I$49,MATCH((CONCATENATE($E$5,$AN24)),SUPP_3c!$N$3:$N$49,0))","v":94.1},{"$f":"INDEX(SUPP_3c!J$3:J$49,MATCH((CONCATENATE($E$5,$AN24)),SUPP_3c!$N$3:$N$49,0))","v":41068},null,null,null,null,null,null,null,null,null,null,null,null,null,null,null,null,null,null,"12_History"]
["Psychology",null,null,null,{"$f":"IF($E$5=\"All\",(VLOOKUP($AN25,'3c_all_2015'!$B:$O,2,FALSE)),IF($E$5=\"Females\",(VLOOKUP($AN25,'3c_females_2015'!$B:$O,2,FALSE)),IF($E$5=\"Males\",(VLOOKUP($AN25,'3c_males_2015'!$B:$O,2,FALSE)))))","v":13.1},{"$f":"IF($E$5=\"All\",(VLOOKUP($AN25,'3c_all_2015'!$B:$O,3,FALSE)),IF($E$5=\"Females\",(VLOOKUP($AN25,'3c_females_2015'!$B:$O,3,FALSE)),IF($E$5=\"Males\",(VLOOKUP($AN25,'3c_males_2015'!$B:$O,3,FALSE)))))","v":18.600000000000001},{"$f":"IF($E$5=\"All\",(VLOOKUP($AN25,'3c_all_2015'!$B:$O,4,FALSE)),IF($E$5=\"Females\",(VLOOKUP($AN25,'3c_females_2015'!$B:$O,4,FALSE)),IF($E$5=\"Males\",(VLOOKUP($AN25,'3c_males_2015'!$B:$O,4,FALSE)))))","v":20.3},{"$f":"IF($E$5=\"All\",(VLOOKUP($AN25,'3c_all_2015'!$B:$O,5,FALSE)),IF($E$5=\"Females\",(VLOOKUP($AN25,'3c_females_2015'!$B:$O,5,FALSE)),IF($E$5=\"Males\",(VLOOKUP($AN25,'3c_males_2015'!$B:$O,5,FALSE)))))","v":16.600000000000001},{"$f":"IF($E$5=\"All\",(VLOOKUP($AN25,'3c_all_2015'!$B:$O,6,FALSE)),IF($E$5=\"Females\",(VLOOKUP($AN25,'3c_females_2015'!$B:$O,6,FALSE)),IF($E$5=\"Males\",(VLOOKUP($AN25,'3c_males_2015'!$B:$O,6,FALSE)))))","v":12.8},{"$f":"IF($E$5=\"All\",(VLOOKUP($AN25,'3c_all_2015'!$B:$O,7,FALSE)),IF($E$5=\"Females\",(VLOOKUP($AN25,'3c_females_2015'!$B:$O,7,FALSE)),IF($E$5=\"Males\",(VLOOKUP($AN25,'3c_males_2015'!$B:$O,7,FALSE)))))","v":18.600000000000001},{"$f":"IF($E$5=\"All\",(VLOOKUP($AN25,'3c_all_2015'!$B:$O,8,FALSE)),IF($E$5=\"Females\",(VLOOKUP($AN25,'3c_females_2015'!$B:$O,8,FALSE)),IF($E$5=\"Males\",(VLOOKUP($AN25,'3c_males_2015'!$B:$O,8,FALSE)))))","v":81.400000000000006},{"$f":"IF($E$5=\"All\",(VLOOKUP($AN25,'3c_all_2015'!$B:$O,9,FALSE)),IF($E$5=\"Females\",(VLOOKUP($AN25,'3c_females_2015'!$B:$O,9,FALSE)),IF($E$5=\"Males\",(VLOOKUP($AN25,'3c_males_2015'!$B:$O,9,FALSE)))))","v":78083},null,{"$f":"INDEX(SUPP_3c!C$3:C$49,MATCH((CONCATENATE($E$5,$AN25)),SUPP_3c!$N$3:$N$49,0))","v":13.1},{"$f":"INDEX(SUPP_3c!D$3:D$49,MATCH((CONCATENATE($E$5,$AN25)),SUPP_3c!$N$3:$N$49,0))","v":18},{"$f":"INDEX(SUPP_3c!E$3:E$49,MATCH((CONCATENATE($E$5,$AN25)),SUPP_3c!$N$3:$N$49,0))","v":19.8},{"$f":"INDEX(SUPP_3c!F$3:F$49,MATCH((CONCATENATE($E$5,$AN25)),SUPP_3c!$N$3:$N$49,0))","v":18.399999999999999},{"$f":"INDEX(SUPP_3c!G$3:G$49,MATCH((CONCATENATE($E$5,$AN25)),SUPP_3c!$N$3:$N$49,0))","v":13.7},{"$f":"INDEX(SUPP_3c!H$3:H$49,MATCH((CONCATENATE($E$5,$AN25)),SUPP_3c!$N$3:$N$49,0))","v":17},{"$f":"INDEX(SUPP_3c!I$3:I$49,MATCH((CONCATENATE($E$5,$AN25)),SUPP_3c!$N$3:$N$49,0))","v":83},{"$f":"INDEX(SUPP_3c!J$3:J$49,MATCH((CONCATENATE($E$5,$AN25)),SUPP_3c!$N$3:$N$49,0))","v":60130},null,null,null,null,null,null,null,null,null,null,null,null,null,null,null,null,null,null,"13_Psychology"]
["Sociology",null,null,null,{"$f":"IF($E$5=\"All\",(VLOOKUP($AN26,'3c_all_2015'!$B:$O,2,FALSE)),IF($E$5=\"Females\",(VLOOKUP($AN26,'3c_females_2015'!$B:$O,2,FALSE)),IF($E$5=\"Males\",(VLOOKUP($AN26,'3c_males_2015'!$B:$O,2,FALSE)))))","v":14.2},{"$f":"IF($E$5=\"All\",(VLOOKUP($AN26,'3c_all_2015'!$B:$O,3,FALSE)),IF($E$5=\"Females\",(VLOOKUP($AN26,'3c_females_2015'!$B:$O,3,FALSE)),IF($E$5=\"Males\",(VLOOKUP($AN26,'3c_males_2015'!$B:$O,3,FALSE)))))","v":18.899999999999999},{"$f":"IF($E$5=\"All\",(VLOOKUP($AN26,'3c_all_2015'!$B:$O,4,FALSE)),IF($E$5=\"Females\",(VLOOKUP($AN26,'3c_females_2015'!$B:$O,4,FALSE)),IF($E$5=\"Males\",(VLOOKUP($AN26,'3c_males_2015'!$B:$O,4,FALSE)))))","v":21.1},{"$f":"IF($E$5=\"All\",(VLOOKUP($AN26,'3c_all_2015'!$B:$O,5,FALSE)),IF($E$5=\"Females\",(VLOOKUP($AN26,'3c_females_2015'!$B:$O,5,FALSE)),IF($E$5=\"Males\",(VLOOKUP($AN26,'3c_males_2015'!$B:$O,5,FALSE)))))","v":17.899999999999999},{"$f":"IF($E$5=\"All\",(VLOOKUP($AN26,'3c_all_2015'!$B:$O,6,FALSE)),IF($E$5=\"Females\",(VLOOKUP($AN26,'3c_females_2015'!$B:$O,6,FALSE)),IF($E$5=\"Males\",(VLOOKUP($AN26,'3c_males_2015'!$B:$O,6,FALSE)))))","v":12.9},{"$f":"IF($E$5=\"All\",(VLOOKUP($AN26,'3c_all_2015'!$B:$O,7,FALSE)),IF($E$5=\"Females\",(VLOOKUP($AN26,'3c_females_2015'!$B:$O,7,FALSE)),IF($E$5=\"Males\",(VLOOKUP($AN26,'3c_males_2015'!$B:$O,7,FALSE)))))","v":15},{"$f":"IF($E$5=\"All\",(VLOOKUP($AN26,'3c_all_2015'!$B:$O,8,FALSE)),IF($E$5=\"Females\",(VLOOKUP($AN26,'3c_females_2015'!$B:$O,8,FALSE)),IF($E$5=\"Males\",(VLOOKUP($AN26,'3c_males_2015'!$B:$O,8,FALSE)))))","v":85},{"$f":"IF($E$5=\"All\",(VLOOKUP($AN26,'3c_all_2015'!$B:$O,9,FALSE)),IF($E$5=\"Females\",(VLOOKUP($AN26,'3c_females_2015'!$B:$O,9,FALSE)),IF($E$5=\"Males\",(VLOOKUP($AN26,'3c_males_2015'!$B:$O,9,FALSE)))))","v":41974},null,{"$f":"INDEX(SUPP_3c!C$3:C$49,MATCH((CONCATENATE($E$5,$AN26)),SUPP_3c!$N$3:$N$49,0))","v":14.2},{"$f":"INDEX(SUPP_3c!D$3:D$49,MATCH((CONCATENATE($E$5,$AN26)),SUPP_3c!$N$3:$N$49,0))","v":17.2},{"$f":"INDEX(SUPP_3c!E$3:E$49,MATCH((CONCATENATE($E$5,$AN26)),SUPP_3c!$N$3:$N$49,0))","v":21.6},{"$f":"INDEX(SUPP_3c!F$3:F$49,MATCH((CONCATENATE($E$5,$AN26)),SUPP_3c!$N$3:$N$49,0))","v":19.100000000000001},{"$f":"INDEX(SUPP_3c!G$3:G$49,MATCH((CONCATENATE($E$5,$AN26)),SUPP_3c!$N$3:$N$49,0))","v":13.7},{"$f":"INDEX(SUPP_3c!H$3:H$49,MATCH((CONCATENATE($E$5,$AN26)),SUPP_3c!$N$3:$N$49,0))","v":14.1},{"$f":"INDEX(SUPP_3c!I$3:I$49,MATCH((CONCATENATE($E$5,$AN26)),SUPP_3c!$N$3:$N$49,0))","v":85.9},{"$f":"INDEX(SUPP_3c!J$3:J$49,MATCH((CONCATENATE($E$5,$AN26)),SUPP_3c!$N$3:$N$49,0))","v":34901},null,null,null,null,null,null,null,null,null,null,null,null,null,null,null,null,null,null,"14_Sociology"]
[]
["Art and Design",null,null,null,{"$f":"IF($E$5=\"All\",(VLOOKUP($AN28,'3c_all_2015'!$B:$O,2,FALSE)),IF($E$5=\"Females\",(VLOOKUP($AN28,'3c_females_2015'!$B:$O,2,FALSE)),IF($E$5=\"Males\",(VLOOKUP($AN28,'3c_males_2015'!$B:$O,2,FALSE)))))","v":21.6},{"$f":"IF($E$5=\"All\",(VLOOKUP($AN28,'3c_all_2015'!$B:$O,3,FALSE)),IF($E$5=\"Females\",(VLOOKUP($AN28,'3c_females_2015'!$B:$O,3,FALSE)),IF($E$5=\"Males\",(VLOOKUP($AN28,'3c_males_2015'!$B:$O,3,FALSE)))))","v":24.5},{"$f":"IF($E$5=\"All\",(VLOOKUP($AN28,'3c_all_2015'!$B:$O,4,FALSE)),IF($E$5=\"Females\",(VLOOKUP($AN28,'3c_females_2015'!$B:$O,4,FALSE)),IF($E$5=\"Males\",(VLOOKUP($AN28,'3c_males_2015'!$B:$O,4,FALSE)))))","v":25.8},{"$f":"IF($E$5=\"All\",(VLOOKUP($AN28,'3c_all_2015'!$B:$O,5,FALSE)),IF($E$5=\"Females\",(VLOOKUP($AN28,'3c_females_2015'!$B:$O,5,FALSE)),IF($E$5=\"Males\",(VLOOKUP($AN28,'3c_males_2015'!$B:$O,5,FALSE)))))","v":15.6},{"$f":"IF($E$5=\"All\",(VLOOKUP($AN28,'3c_all_2015'!$B:$O,6,FALSE)),IF($E$5=\"Females\",(VLOOKUP($AN28,'3c_females_2015'!$B:$O,6,FALSE)),IF($E$5=\"Males\",(VLOOKUP($AN28,'3c_males_2015'!$B:$O,6,FALSE)))))","v":7.6},{"$f":"IF($E$5=\"All\",(VLOOKUP($AN28,'3c_all_2015'!$B:$O,7,FALSE)),IF($E$5=\"Females\",(VLOOKUP($AN28,'3c_females_2015'!$B:$O,7,FALSE)),IF($E$5=\"Males\",(VLOOKUP($AN28,'3c_males_2015'!$B:$O,7,FALSE)))))","v":4.9000000000000004},{"$f":"IF($E$5=\"All\",(VLOOKUP($AN28,'3c_all_2015'!$B:$O,8,FALSE)),IF($E$5=\"Females\",(VLOOKUP($AN28,'3c_females_2015'!$B:$O,8,FALSE)),IF($E$5=\"Males\",(VLOOKUP($AN28,'3c_males_2015'!$B:$O,8,FALSE)))))","v":95.1},{"$f":"IF($E$5=\"All\",(VLOOKUP($AN28,'3c_all_2015'!$B:$O,9,FALSE)),IF($E$5=\"Females\",(VLOOKUP($AN28,'3c_females_2015'!$B:$O,9,FALSE)),IF($E$5=\"Males\",(VLOOKUP($AN28,'3c_males_2015'!$B:$O,9,FALSE)))))","v":48223},null,{"$f":"INDEX(SUPP_3c!C$3:C$49,MATCH((CONCATENATE($E$5,$AN28)),SUPP_3c!$N$3:$N$49,0))","v":21.9},{"$f":"INDEX(SUPP_3c!D$3:D$49,MATCH((CONCATENATE($E$5,$AN28)),SUPP_3c!$N$3:$N$49,0))","v":24.3},{"$f":"INDEX(SUPP_3c!E$3:E$49,MATCH((CONCATENATE($E$5,$AN28)),SUPP_3c!$N$3:$N$49,0))","v":23.7},{"$f":"INDEX(SUPP_3c!F$3:F$49,MATCH((CONCATENATE($E$5,$AN28)),SUPP_3c!$N$3:$N$49,0))","v":16.3},{"$f":"INDEX(SUPP_3c!G$3:G$49,MATCH((CONCATENATE($E$5,$AN28)),SUPP_3c!$N$3:$N$49,0))","v":8.3000000000000007},{"$f":"INDEX(SUPP_3c!H$3:H$49,MATCH((CONCATENATE($E$5,$AN28)),SUPP_3c!$N$3:$N$49,0))","v":5.4},{"$f":"INDEX(SUPP_3c!I$3:I$49,MATCH((CONCATENATE($E$5,$AN28)),SUPP_3c!$N$3:$N$49,0))","v":94.6},{"$f":"INDEX(SUPP_3c!J$3:J$49,MATCH((CONCATENATE($E$5,$AN28)),SUPP_3c!$N$3:$N$49,0))","v":30353},null,null,null,null,null,null,null,null,null,null,null,null,null,null,null,null,null,null,"15_Art&Design"]
[]
["All decoupled subjects",null,null,null,{"$f":"IF($E$5=\"All\",'3c_all_2015'!C18,IF($E$5=\"Females\",'3c_females_2015'!C18,IF($E$5=\"Males\",'3c_males_2015'!C18)))","v":16.899999999999999},{"$f":"IF($E$5=\"All\",'3c_all_2015'!D18,IF($E$5=\"Females\",'3c_females_2015'!D18,IF($E$5=\"Males\",'3c_males_2015'!D18)))","v":20},{"$f":"IF($E$5=\"All\",'3c_all_2015'!E18,IF($E$5=\"Females\",'3c_females_2015'!E18,IF($E$5=\"Males\",'3c_males_2015'!E18)))","v":22.1},{"$f":"IF($E$5=\"All\",'3c_all_2015'!F18,IF($E$5=\"Females\",'3c_females_2015'!F18,IF($E$5=\"Males\",'3c_males_2015'!F18)))","v":17.399999999999999},{"$f":"IF($E$5=\"All\",'3c_all_2015'!G18,IF($E$5=\"Females\",'3c_females_2015'!G18,IF($E$5=\"Males\",'3c_males_2015'!G18)))","v":11.5},{"$f":"IF($E$5=\"All\",'3c_all_2015'!H18,IF($E$5=\"Females\",'3c_females_2015'!H18,IF($E$5=\"Males\",'3c_males_2015'!H18)))","v":12.1},{"$f":"IF($E$5=\"All\",'3c_all_2015'!I18,IF($E$5=\"Females\",'3c_females_2015'!I18,IF($E$5=\"Males\",'3c_males_2015'!I18)))","v":87.9},{"$f":"IF($E$5=\"All\",'3c_all_2015'!J18,IF($E$5=\"Females\",'3c_females_2015'!J18,IF($E$5=\"Males\",'3c_males_2015'!J18)))","v":566260},null,{"$f":"IF($E$5=\"All\",SUPP_3c!C53,IF($E$5=\"Females\",SUPP_3c!C52,IF($E$5=\"Males\",SUPP_3c!C51)))","v":16.7},{"$f":"IF($E$5=\"All\",SUPP_3c!D53,IF($E$5=\"Females\",SUPP_3c!D52,IF($E$5=\"Males\",SUPP_3c!D51)))","v":18.7},{"$f":"IF($E$5=\"All\",SUPP_3c!E53,IF($E$5=\"Females\",SUPP_3c!E52,IF($E$5=\"Males\",SUPP_3c!E51)))","v":21.5},{"$f":"IF($E$5=\"All\",SUPP_3c!F53,IF($E$5=\"Females\",SUPP_3c!F52,IF($E$5=\"Males\",SUPP_3c!F51)))","v":18.600000000000001},{"$f":"IF($E$5=\"All\",SUPP_3c!G53,IF($E$5=\"Females\",SUPP_3c!G52,IF($E$5=\"Males\",SUPP_3c!G51)))","v":12.4},{"$f":"IF($E$5=\"All\",SUPP_3c!H53,IF($E$5=\"Females\",SUPP_3c!H52,IF($E$5=\"Males\",SUPP_3c!H51)))","v":12.2},{"$f":"IF($E$5=\"All\",SUPP_3c!I53,IF($E$5=\"Females\",SUPP_3c!I52,IF($E$5=\"Males\",SUPP_3c!I51)))","v":87.8},{"$f":"IF($E$5=\"All\",SUPP_3c!J53,IF($E$5=\"Females\",SUPP_3c!J52,IF($E$5=\"Males\",SUPP_3c!J51)))","v":430158}]
[]
[null,null,null,null,null,null,null,null,null,null,null,"Source: 2014/15 16-18 attainment data (shadow data) ",null,null,null,null,null,null,null,null,"Source: 2015/16 16-18 attainment data (provisional)"]
[]
["1. Covers AS level examination results in the 13 revised and decoupled subjects for the 2014/15 and  2015/16 academic years."]
["2. Covers students aged 16 at the start of the academic year, ie 31 August 2014 or 31 August 2015."]
["3. Includes ungraded, no award (absent/declined) and pending."]
[]
["Notes:"]
["x indicates figure has been suppressed where underlying numbers are small (ie, 1 or 2) or where secondary suppression has been applied."]
["Percentages are rounded to one decimal place and therefore may not sum to totals."]
["Where qualifications taken by a student are in the same subject area and similar in content ‘discounting’ rules have been applied to avoid double counting qualifications."]
["Refer to 'Quality and Methodology Information' document."]

{"sheet":"SUPP_4a","index":22,"n_rows":35,"n_cols":16,"rows_kept":35,"cut":false,"hidden":true,"merged":[]}
[]
["GENDER","Subjects","grade_AStar","grade_A","grade_B","grade_C","grade_D","grade_E","grade_other","grade_AStarA","grade_AStarE","Total","grade_Q","grade_U","grade_X","concatenate_name"]
["M","NULL",1.5,5.6,21.1,33.4,26.1,10.1,2.2000000000000002,7.1,97.8,7470,0,160,3,"MalesNULL"]
["M","Applied Art Design",0,11.8,21.6,23.5,31.4,"x","x",11.8,"x",51,0,1,0,"MalesApplied Art Design"]
["M","Applied Business",2.7,8.4,25.7,35.5,20.5,6.3,0.9,11.1,99.1,2902,0,26,0,"MalesApplied Business"]
["M","Applied Engineering",1.7,6.9,31.6,38.5,16.5,"x","x",8.6999999999999993,"x",231,0,2,0,"MalesApplied Engineering"]
["M","Applied ICT",0.9,4,17.7,30.9,29.8,12.4,4.3,4.9000000000000004,95.7,2149,0,92,1,"MalesApplied ICT"]
["M","Applied Science","x","x",12.7,32.5,34.9,16.100000000000001,2.5,1.3,97.5,1100,0,25,2,"MalesApplied Science"]
["M","Health & Social Care",2.1,5.3,19.5,23.2,28.4,18.399999999999999,3.2,7.4,96.8,190,0,6,0,"MalesHealth & Social Care"]
["M","Leisure & Recreation",0,5.3,25,31.8,"x","x",0,5.3,100,132,0,0,0,"MalesLeisure & Recreation"]
["M","Media_Communication & Production",0,3.5,14,45.6,28.9,"x","x",3.5,"x",114,0,1,0,"MalesMedia_Communication & Production"]
["M","Performing Arts",2.7,7.5,28.3,36.9,19.3,"x","x",10.199999999999999,"x",187,0,1,0,"MalesPerforming Arts"]
["M","Travel & Tourism","x","x",21.5,33.299999999999997,27.5,12.6,1.4,3.6,98.6,414,0,6,0,"MalesTravel & Tourism"]
["F","NULL",2.2000000000000002,9.3000000000000007,27,33.1,20.7,6.5,1.1000000000000001,11.5,98.9,12625,0,139,6,"FemalesNULL"]
["F","Applied Art Design",13.5,20.2,35.6,16.3,11.5,2.9,0,33.700000000000003,100,104,0,0,0,"FemalesApplied Art Design"]
["F","Applied Business",5.0999999999999996,13.4,33.799999999999997,29.1,14.1,3.8,0.8,18.5,99.2,2717,0,16,5,"FemalesApplied Business"]
["F","Applied Engineering","x","x",28.6,35.700000000000003,10.7,0,"x",21.4,"x",28,0,1,0,"FemalesApplied Engineering"]
["F","Applied ICT",1.1000000000000001,5.0999999999999996,22.4,34.9,24.2,9.8000000000000007,2.5,6.2,97.5,1185,0,29,1,"FemalesApplied ICT"]
["F","Applied Science","x","x",16.100000000000001,37,31.1,10.7,1.2,3.9,98.8,1611,0,19,0,"FemalesApplied Science"]
["F","Health & Social Care",0.9,8.5,26.5,33.6,22.1,7.2,1.3,9.3000000000000007,98.7,5166,0,66,0,"FemalesHealth & Social Care"]
["F","Leisure & Recreation",0,12.5,30.6,44.4,"x",0,"x",12.5,"x",144,0,1,0,"FemalesLeisure & Recreation"]
["F","Media_Communication & Production",2.5,17.8,30.5,29.7,13.6,5.9,0,20.3,100,118,0,0,0,"FemalesMedia_Communication & Production"]
["F","Performing Arts",7.8,17.100000000000001,32.6,30.3,10.1,"x","x",24.9,"x",574,0,2,0,"FemalesPerforming Arts"]
["F","Travel & Tourism",0.9,9.5,30.2,34.9,19.7,4.3,0.5,10.4,99.5,978,0,5,0,"FemalesTravel & Tourism"]
["NULL","NULL",1.9,7.9,24.8,33.200000000000003,22.7,7.8,1.5,9.8000000000000007,98.5,20095,0,299,9,"AllNULL"]
["NULL","Applied Art Design",9,17.399999999999999,31,18.7,18.100000000000001,"x","x",26.5,"x",155,0,1,0,"AllApplied Art Design"]
["NULL","Applied Business",3.9,10.8,29.6,32.4,17.399999999999999,5.0999999999999996,0.8,14.7,99.2,5619,0,42,5,"AllApplied Business"]
["NULL","Applied Engineering",1.9,8.1,31.3,38.200000000000003,15.8,"x",1.2,10,98.8,259,0,3,0,"AllApplied Engineering"]
["NULL","Applied ICT",1,4.4000000000000004,19.399999999999999,32.299999999999997,27.8,11.5,3.7,5.3,96.3,3334,0,121,2,"AllApplied ICT"]
["NULL","Applied Science",0.2,2.6,14.7,35.200000000000003,32.6,12.9,1.7,2.8,98.3,2711,0,44,2,"AllApplied Science"]
["NULL","Health & Social Care",0.9,8.3000000000000007,26.2,33.299999999999997,22.3,7.6,1.3,9.3000000000000007,98.7,5356,0,72,0,"AllHealth & Social Care"]
["NULL","Leisure & Recreation",0,9.1,27.9,38.4,21.4,"x","x",9.1,"x",276,0,1,0,"AllLeisure & Recreation"]
["NULL","Media_Communication & Production",1.3,10.8,22.4,37.5,21.1,"x","x",12.1,"x",232,0,1,0,"AllMedia_Communication & Production"]
["NULL","Performing Arts",6.6,14.7,31.5,31.9,12.4,2.5,0.4,21.3,99.6,761,0,3,0,"AllPerforming Arts"]
["NULL","Travel & Tourism",0.7,7.7,27.6,34.4,22.1,6.8,0.8,8.4,99.2,1392,0,11,0,"AllTravel & Tourism"]

{"sheet":"Table 4a","index":23,"n_rows":33,"n_cols":41,"rows_kept":33,"cut":false,"hidden":false,"merged":[[5,2,5,10],[5,11,6,11],[4,2,4,11]]}
["Table 4a: Applied single A level results1,2 by subject, grade and gender"]
["Year: 2015/16 (provisional)"]
["Coverage: England"]
[]
[null,"Select gender:","All"]
[null,null,"Percentage achieving grade",null,null,null,null,null,null,null,null,"Number of entries"]
["Subject",null,"A*","A","B","C","D","E","Other3","A*-A","A*-E"]
[]
["Applied Art & Design",null,{"$f":"INDEX(SUPP_4a!C$3:C$149,MATCH((CONCATENATE($C$5,$AO9)),SUPP_4a!$P$3:$P$149,0))","v":9},{"$f":"INDEX(SUPP_4a!D$3:D$149,MATCH((CONCATENATE($C$5,$AO9)),SUPP_4a!$P$3:$P$149,0))","v":17.399999999999999},{"$f":"INDEX(SUPP_4a!E$3:E$149,MATCH((CONCATENATE($C$5,$AO9)),SUPP_4a!$P$3:$P$149,0))","v":31},{"$f":"INDEX(SUPP_4a!F$3:F$149,MATCH((CONCATENATE($C$5,$AO9)),SUPP_4a!$P$3:$P$149,0))","v":18.7},{"$f":"INDEX(SUPP_4a!G$3:G$149,MATCH((CONCATENATE($C$5,$AO9)),SUPP_4a!$P$3:$P$149,0))","v":18.100000000000001},{"$f":"INDEX(SUPP_4a!H$3:H$149,MATCH((CONCATENATE($C$5,$AO9)),SUPP_4a!$P$3:$P$149,0))","v":"x"},{"$f":"INDEX(SUPP_4a!I$3:I$149,MATCH((CONCATENATE($C$5,$AO9)),SUPP_4a!$P$3:$P$149,0))","v":"x"},{"$f":"INDEX(SUPP_4a!J$3:J$149,MATCH((CONCATENATE($C$5,$AO9)),SUPP_4a!$P$3:$P$149,0))","v":26.5},{"$f":"INDEX(SUPP_4a!K$3:K$149,MATCH((CONCATENATE($C$5,$AO9)),SUPP_4a!$P$3:$P$149,0))","v":"x"},{"$f":"INDEX(SUPP_4a!L$3:L$149,MATCH((CONCATENATE($C$5,$AO9)),SUPP_4a!$P$3:$P$149,0))","v":155},null,null,null,null,null,null,null,null,null,null,null,null,null,null,null,null,null,null,null,null,null,null,null,null,null,null,null,null,"Applied Art Design"]
["Applied Business",null,{"$f":"INDEX(SUPP_4a!C$3:C$149,MATCH((CONCATENATE($C$5,$AO10)),SUPP_4a!$P$3:$P$149,0))","v":3.9},{"$f":"INDEX(SUPP_4a!D$3:D$149,MATCH((CONCATENATE($C$5,$AO10)),SUPP_4a!$P$3:$P$149,0))","v":10.8},{"$f":"INDEX(SUPP_4a!E$3:E$149,MATCH((CONCATENATE($C$5,$AO10)),SUPP_4a!$P$3:$P$149,0))","v":29.6},{"$f":"INDEX(SUPP_4a!F$3:F$149,MATCH((CONCATENATE($C$5,$AO10)),SUPP_4a!$P$3:$P$149,0))","v":32.4},{"$f":"INDEX(SUPP_4a!G$3:G$149,MATCH((CONCATENATE($C$5,$AO10)),SUPP_4a!$P$3:$P$149,0))","v":17.399999999999999},{"$f":"INDEX(SUPP_4a!H$3:H$149,MATCH((CONCATENATE($C$5,$AO10)),SUPP_4a!$P$3:$P$149,0))","v":5.0999999999999996},{"$f":"INDEX(SUPP_4a!I$3:I$149,MATCH((CONCATENATE($C$5,$AO10)),SUPP_4a!$P$3:$P$149,0))","v":0.8},{"$f":"INDEX(SUPP_4a!J$3:J$149,MATCH((CONCATENATE($C$5,$AO10)),SUPP_4a!$P$3:$P$149,0))","v":14.7},{"$f":"INDEX(SUPP_4a!K$3:K$149,MATCH((CONCATENATE($C$5,$AO10)),SUPP_4a!$P$3:$P$149,0))","v":99.2},{"$f":"INDEX(SUPP_4a!L$3:L$149,MATCH((CONCATENATE($C$5,$AO10)),SUPP_4a!$P$3:$P$149,0))","v":5619},null,null,null,null,null,null,null,null,null,null,null,null,null,null,null,null,null,null,null,null,null,null,null,null,null,null,null,null,"Applied Business"]
["Applied Engineering",null,{"$f":"INDEX(SUPP_4a!C$3:C$149,MATCH((CONCATENATE($C$5,$AO11)),SUPP_4a!$P$3:$P$149,0))","v":1.9},{"$f":"INDEX(SUPP_4a!D$3:D$149,MATCH((CONCATENATE($C$5,$AO11)),SUPP_4a!$P$3:$P$149,0))","v":8.1},{"$f":"INDEX(SUPP_4a!E$3:E$149,MATCH((CONCATENATE($C$5,$AO11)),SUPP_4a!$P$3:$P$149,0))","v":31.3},{"$f":"INDEX(SUPP_4a!F$3:F$149,MATCH((CONCATENATE($C$5,$AO11)),SUPP_4a!$P$3:$P$149,0))","v":38.200000000000003},{"$f":"INDEX(SUPP_4a!G$3:G$149,MATCH((CONCATENATE($C$5,$AO11)),SUPP_4a!$P$3:$P$149,0))","v":15.8},{"$f":"INDEX(SUPP_4a!H$3:H$149,MATCH((CONCATENATE($C$5,$AO11)),SUPP_4a!$P$3:$P$149,0))","v":"x"},{"$f":"INDEX(SUPP_4a!I$3:I$149,MATCH((CONCATENATE($C$5,$AO11)),SUPP_4a!$P$3:$P$149,0))","v":1.2},{"$f":"INDEX(SUPP_4a!J$3:J$149,MATCH((CONCATENATE($C$5,$AO11)),SUPP_4a!$P$3:$P$149,0))","v":10},{"$f":"INDEX(SUPP_4a!K$3:K$149,MATCH((CONCATENATE($C$5,$AO11)),SUPP_4a!$P$3:$P$149,0))","v":98.8},{"$f":"INDEX(SUPP_4a!L$3:L$149,MATCH((CONCATENATE($C$5,$AO11)),SUPP_4a!$P$3:$P$149,0))","v":259},null,null,null,null,null,null,null,null,null,null,null,null,null,null,null,null,null,null,null,null,null,null,null,null,null,null,null,null,"Applied Engineering"]
["Applied ICT4",null,{"$f":"INDEX(SUPP_4a!C$3:C$149,MATCH((CONCATENATE($C$5,$AO12)),SUPP_4a!$P$3:$P$149,0))","v":1},{"$f":"INDEX(SUPP_4a!D$3:D$149,MATCH((CONCATENATE($C$5,$AO12)),SUPP_4a!$P$3:$P$149,0))","v":4.4000000000000004},{"$f":"INDEX(SUPP_4a!E$3:E$149,MATCH((CONCATENATE($C$5,$AO12)),SUPP_4a!$P$3:$P$149,0))","v":19.399999999999999},{"$f":"INDEX(SUPP_4a!F$3:F$149,MATCH((CONCATENATE($C$5,$AO12)),SUPP_4a!$P$3:$P$149,0))","v":32.299999999999997},{"$f":"INDEX(SUPP_4a!G$3:G$149,MATCH((CONCATENATE($C$5,$AO12)),SUPP_4a!$P$3:$P$149,0))","v":27.8},{"$f":"INDEX(SUPP_4a!H$3:H$149,MATCH((CONCATENATE($C$5,$AO12)),SUPP_4a!$P$3:$P$149,0))","v":11.5},{"$f":"INDEX(SUPP_4a!I$3:I$149,MATCH((CONCATENATE($C$5,$AO12)),SUPP_4a!$P$3:$P$149,0))","v":3.7},{"$f":"INDEX(SUPP_4a!J$3:J$149,MATCH((CONCATENATE($C$5,$AO12)),SUPP_4a!$P$3:$P$149,0))","v":5.3},{"$f":"INDEX(SUPP_4a!K$3:K$149,MATCH((CONCATENATE($C$5,$AO12)),SUPP_4a!$P$3:$P$149,0))","v":96.3},{"$f":"INDEX(SUPP_4a!L$3:L$149,MATCH((CONCATENATE($C$5,$AO12)),SUPP_4a!$P$3:$P$149,0))","v":3334},null,null,null,null,null,null,null,null,null,null,null,null,null,null,null,null,null,null,null,null,null,null,null,null,null,null,null,null,"Applied ICT"]
["Applied Science",null,{"$f":"INDEX(SUPP_4a!C$3:C$149,MATCH((CONCATENATE($C$5,$AO13)),SUPP_4a!$P$3:$P$149,0))","v":0.2},{"$f":"INDEX(SUPP_4a!D$3:D$149,MATCH((CONCATENATE($C$5,$AO13)),SUPP_4a!$P$3:$P$149,0))","v":2.6},{"$f":"INDEX(SUPP_4a!E$3:E$149,MATCH((CONCATENATE($C$5,$AO13)),SUPP_4a!$P$3:$P$149,0))","v":14.7},{"$f":"INDEX(SUPP_4a!F$3:F$149,MATCH((CONCATENATE($C$5,$AO13)),SUPP_4a!$P$3:$P$149,0))","v":35.200000000000003},{"$f":"INDEX(SUPP_4a!G$3:G$149,MATCH((CONCATENATE($C$5,$AO13)),SUPP_4a!$P$3:$P$149,0))","v":32.6},{"$f":"INDEX(SUPP_4a!H$3:H$149,MATCH((CONCATENATE($C$5,$AO13)),SUPP_4a!$P$3:$P$149,0))","v":12.9},{"$f":"INDEX(SUPP_4a!I$3:I$149,MATCH((CONCATENATE($C$5,$AO13)),SUPP_4a!$P$3:$P$149,0))","v":1.7},{"$f":"INDEX(SUPP_4a!J$3:J$149,MATCH((CONCATENATE($C$5,$AO13)),SUPP_4a!$P$3:$P$149,0))","v":2.8},{"$f":"INDEX(SUPP_4a!K$3:K$149,MATCH((CONCATENATE($C$5,$AO13)),SUPP_4a!$P$3:$P$149,0))","v":98.3},{"$f":"INDEX(SUPP_4a!L$3:L$149,MATCH((CONCATENATE($C$5,$AO13)),SUPP_4a!$P$3:$P$149,0))","v":2711},null,null,null,null,null,null,null,null,null,null,null,null,null,null,null,null,null,null,null,null,null,null,null,null,null,null,null,null,"Applied Science"]
["Health & Social Care",null,{"$f":"INDEX(SUPP_4a!C$3:C$149,MATCH((CONCATENATE($C$5,$AO14)),SUPP_4a!$P$3:$P$149,0))","v":0.9},{"$f":"INDEX(SUPP_4a!D$3:D$149,MATCH((CONCATENATE($C$5,$AO14)),SUPP_4a!$P$3:$P$149,0))","v":8.3000000000000007},{"$f":"INDEX(SUPP_4a!E$3:E$149,MATCH((CONCATENATE($C$5,$AO14)),SUPP_4a!$P$3:$P$149,0))","v":26.2},{"$f":"INDEX(SUPP_4a!F$3:F$149,MATCH((CONCATENATE($C$5,$AO14)),SUPP_4a!$P$3:$P$149,0))","v":33.299999999999997},{"$f":"INDEX(SUPP_4a!G$3:G$149,MATCH((CONCATENATE($C$5,$AO14)),SUPP_4a!$P$3:$P$149,0))","v":22.3},{"$f":"INDEX(SUPP_4a!H$3:H$149,MATCH((CONCATENATE($C$5,$AO14)),SUPP_4a!$P$3:$P$149,0))","v":7.6},{"$f":"INDEX(SUPP_4a!I$3:I$149,MATCH((CONCATENATE($C$5,$AO14)),SUPP_4a!$P$3:$P$149,0))","v":1.3},{"$f":"INDEX(SUPP_4a!J$3:J$149,MATCH((CONCATENATE($C$5,$AO14)),SUPP_4a!$P$3:$P$149,0))","v":9.3000000000000007},{"$f":"INDEX(SUPP_4a!K$3:K$149,MATCH((CONCATENATE($C$5,$AO14)),SUPP_4a!$P$3:$P$149,0))","v":98.7},{"$f":"INDEX(SUPP_4a!L$3:L$149,MATCH((CONCATENATE($C$5,$AO14)),SUPP_4a!$P$3:$P$149,0))","v":5356},null,null,null,null,null,null,null,null,null,null,null,null,null,null,null,null,null,null,null,null,null,null,null,null,null,null,null,null,"Health & Social Care"]
["Leisure And Recreation",null,{"$f":"INDEX(SUPP_4a!C$3:C$149,MATCH((CONCATENATE($C$5,$AO15)),SUPP_4a!$P$3:$P$149,0))","v":0},{"$f":"INDEX(SUPP_4a!D$3:D$149,MATCH((CONCATENATE($C$5,$AO15)),SUPP_4a!$P$3:$P$149,0))","v":9.1},{"$f":"INDEX(SUPP_4a!E$3:E$149,MATCH((CONCATENATE($C$5,$AO15)),SUPP_4a!$P$3:$P$149,0))","v":27.9},{"$f":"INDEX(SUPP_4a!F$3:F$149,MATCH((CONCATENATE($C$5,$AO15)),SUPP_4a!$P$3:$P$149,0))","v":38.4},{"$f":"INDEX(SUPP_4a!G$3:G$149,MATCH((CONCATENATE($C$5,$AO15)),SUPP_4a!$P$3:$P$149,0))","v":21.4},{"$f":"INDEX(SUPP_4a!H$3:H$149,MATCH((CONCATENATE($C$5,$AO15)),SUPP_4a!$P$3:$P$149,0))","v":"x"},{"$f":"INDEX(SUPP_4a!I$3:I$149,MATCH((CONCATENATE($C$5,$AO15)),SUPP_4a!$P$3:$P$149,0))","v":"x"},{"$f":"INDEX(SUPP_4a!J$3:J$149,MATCH((CONCATENATE($C$5,$AO15)),SUPP_4a!$P$3:$P$149,0))","v":9.1},{"$f":"INDEX(SUPP_4a!K$3:K$149,MATCH((CONCATENATE($C$5,$AO15)),SUPP_4a!$P$3:$P$149,0))","v":"x"},{"$f":"INDEX(SUPP_4a!L$3:L$149,MATCH((CONCATENATE($C$5,$AO15)),SUPP_4a!$P$3:$P$149,0))","v":276},null,null,null,null,null,null,null,null,null,null,null,null,null,null,null,null,null,null,null,null,null,null,null,null,null,null,null,null,"Leisure & Recreation"]
["Media",null,{"$f":"INDEX(SUPP_4a!C$3:C$149,MATCH((CONCATENATE($C$5,$AO16)),SUPP_4a!$P$3:$P$149,0))","v":1.3},{"$f":"INDEX(SUPP_4a!D$3:D$149,MATCH((CONCATENATE($C$5,$AO16)),SUPP_4a!$P$3:$P$149,0))","v":10.8},{"$f":"INDEX(SUPP_4a!E$3:E$149,MATCH((CONCATENATE($C$5,$AO16)),SUPP_4a!$P$3:$P$149,0))","v":22.4},{"$f":"INDEX(SUPP_4a!F$3:F$149,MATCH((CONCATENATE($C$5,$AO16)),SUPP_4a!$P$3:$P$149,0))","v":37.5},{"$f":"INDEX(SUPP_4a!G$3:G$149,MATCH((CONCATENATE($C$5,$AO16)),SUPP_4a!$P$3:$P$149,0))","v":21.1},{"$f":"INDEX(SUPP_4a!H$3:H$149,MATCH((CONCATENATE($C$5,$AO16)),SUPP_4a!$P$3:$P$149,0))","v":"x"},{"$f":"INDEX(SUPP_4a!I$3:I$149,MATCH((CONCATENATE($C$5,$AO16)),SUPP_4a!$P$3:$P$149,0))","v":"x"},{"$f":"INDEX(SUPP_4a!J$3:J$149,MATCH((CONCATENATE($C$5,$AO16)),SUPP_4a!$P$3:$P$149,0))","v":12.1},{"$f":"INDEX(SUPP_4a!K$3:K$149,MATCH((CONCATENATE($C$5,$AO16)),SUPP_4a!$P$3:$P$149,0))","v":"x"},{"$f":"INDEX(SUPP_4a!L$3:L$149,MATCH((CONCATENATE($C$5,$AO16)),SUPP_4a!$P$3:$P$149,0))","v":232},null,null,null,null,null,null,null,null,null,null,null,null,null,null,null,null,null,null,null,null,null,null,null,null,null,null,null,null,"Media_Communication & Production"]
["Performing Arts",null,{"$f":"INDEX(SUPP_4a!C$3:C$149,MATCH((CONCATENATE($C$5,$AO17)),SUPP_4a!$P$3:$P$149,0))","v":6.6},{"$f":"INDEX(SUPP_4a!D$3:D$149,MATCH((CONCATENATE($C$5,$AO17)),SUPP_4a!$P$3:$P$149,0))","v":14.7},{"$f":"INDEX(SUPP_4a!E$3:E$149,MATCH((CONCATENATE($C$5,$AO17)),SUPP_4a!$P$3:$P$149,0))","v":31.5},{"$f":"INDEX(SUPP_4a!F$3:F$149,MATCH((CONCATENATE($C$5,$AO17)),SUPP_4a!$P$3:$P$149,0))","v":31.9},{"$f":"INDEX(SUPP_4a!G$3:G$149,MATCH((CONCATENATE($C$5,$AO17)),SUPP_4a!$P$3:$P$149,0))","v":12.4},{"$f":"INDEX(SUPP_4a!H$3:H$149,MATCH((CONCATENATE($C$5,$AO17)),SUPP_4a!$P$3:$P$149,0))","v":2.5},{"$f":"INDEX(SUPP_4a!I$3:I$149,MATCH((CONCATENATE($C$5,$AO17)),SUPP_4a!$P$3:$P$149,0))","v":0.4},{"$f":"INDEX(SUPP_4a!J$3:J$149,MATCH((CONCATENATE($C$5,$AO17)),SUPP_4a!$P$3:$P$149,0))","v":21.3},{"$f":"INDEX(SUPP_4a!K$3:K$149,MATCH((CONCATENATE($C$5,$AO17)),SUPP_4a!$P$3:$P$149,0))","v":99.6},{"$f":"INDEX(SUPP_4a!L$3:L$149,MATCH((CONCATENATE($C$5,$AO17)),SUPP_4a!$P$3:$P$149,0))","v":761},null,null,null,null,null,null,null,null,null,null,null,null,null,null,null,null,null,null,null,null,null,null,null,null,null,null,null,null,"Performing Arts"]
["Travel & Tourism",null,{"$f":"INDEX(SUPP_4a!C$3:C$149,MATCH((CONCATENATE($C$5,$AO18)),SUPP_4a!$P$3:$P$149,0))","v":0.7},{"$f":"INDEX(SUPP_4a!D$3:D$149,MATCH((CONCATENATE($C$5,$AO18)),SUPP_4a!$P$3:$P$149,0))","v":7.7},{"$f":"INDEX(SUPP_4a!E$3:E$149,MATCH((CONCATENATE($C$5,$AO18)),SUPP_4a!$P$3:$P$149,0))","v":27.6},{"$f":"INDEX(SUPP_4a!F$3:F$149,MATCH((CONCATENATE($C$5,$AO18)),SUPP_4a!$P$3:$P$149,0))","v":34.4},{"$f":"INDEX(SUPP_4a!G$3:G$149,MATCH((CONCATENATE($C$5,$AO18)),SUPP_4a!$P$3:$P$149,0))","v":22.1},{"$f":"INDEX(SUPP_4a!H$3:H$149,MATCH((CONCATENATE($C$5,$AO18)),SUPP_4a!$P$3:$P$149,0))","v":6.8},{"$f":"INDEX(SUPP_4a!I$3:I$149,MATCH((CONCATENATE($C$5,$AO18)),SUPP_4a!$P$3:$P$149,0))","v":0.8},{"$f":"INDEX(SUPP_4a!J$3:J$149,MATCH((CONCATENATE($C$5,$AO18)),SUPP_4a!$P$3:$P$149,0))","v":8.4},{"$f":"INDEX(SUPP_4a!K$3:K$149,MATCH((CONCATENATE($C$5,$AO18)),SUPP_4a!$P$3:$P$149,0))","v":99.2},{"$f":"INDEX(SUPP_4a!L$3:L$149,MATCH((CONCATENATE($C$5,$AO18)),SUPP_4a!$P$3:$P$149,0))","v":1392},null,null,null,null,null,null,null,null,null,null,null,null,null,null,null,null,null,null,null,null,null,null,null,null,null,null,null,null,"Travel & Tourism"]
[]
["All subjects",null,{"$f":"INDEX(SUPP_4a!C$3:C$149,MATCH((CONCATENATE($C$5,$AO20)),SUPP_4a!$P$3:$P$149,0))","v":1.9},{"$f":"INDEX(SUPP_4a!D$3:D$149,MATCH((CONCATENATE($C$5,$AO20)),SUPP_4a!$P$3:$P$149,0))","v":7.9},{"$f":"INDEX(SUPP_4a!E$3:E$149,MATCH((CONCATENATE($C$5,$AO20)),SUPP_4a!$P$3:$P$149,0))","v":24.8},{"$f":"INDEX(SUPP_4a!F$3:F$149,MATCH((CONCATENATE($C$5,$AO20)),SUPP_4a!$P$3:$P$149,0))","v":33.200000000000003},{"$f":"INDEX(SUPP_4a!G$3:G$149,MATCH((CONCATENATE($C$5,$AO20)),SUPP_4a!$P$3:$P$149,0))","v":22.7},{"$f":"INDEX(SUPP_4a!H$3:H$149,MATCH((CONCATENATE($C$5,$AO20)),SUPP_4a!$P$3:$P$149,0))","v":7.8},{"$f":"INDEX(SUPP_4a!I$3:I$149,MATCH((CONCATENATE($C$5,$AO20)),SUPP_4a!$P$3:$P$149,0))","v":1.5},{"$f":"INDEX(SUPP_4a!J$3:J$149,MATCH((CONCATENATE($C$5,$AO20)),SUPP_4a!$P$3:$P$149,0))","v":9.8000000000000007},{"$f":"INDEX(SUPP_4a!K$3:K$149,MATCH((CONCATENATE($C$5,$AO20)),SUPP_4a!$P$3:$P$149,0))","v":98.5},{"$f":"INDEX(SUPP_4a!L$3:L$149,MATCH((CONCATENATE($C$5,$AO20)),SUPP_4a!$P$3:$P$149,0))","v":20095},null,null,null,null,null,null,null,null,null,null,null,null,null,null,null,null,null,null,null,null,null,null,null,null,null,null,null,null,"NULL"]
[]
[null,null,null,null,null,null,null,null,null,null,null,"Source: 2015/16 16-18 attainment data (provisional)"]
[]
["1. Covers applied single award A level examination results for the 2015/16 academic year."]
["2. Covers students aged 16, 17 or 18 at the start of the 2015/16 academic year, ie 31 August 2015."]
["3. Includes ungraded, no award (absent/declined) and pending."]
["4. Information, Communication and Technology"]
[]
["Notes:"]
["x indicates figure has been suppressed where underlying numbers are small (ie, 1 or 2) or where secondary suppression has been applied."]
["Percentages are rounded to one decimal place and therefore may not sum to totals."]
["Where qualifications taken by a student are in the same subject area and similar in content ‘discounting’ rules have been applied to avoid double counting qualifications."]
["Refer to 'Quality and Methodology Information' document."]

{"sheet":"SUPP_4b","index":24,"n_rows":35,"n_cols":14,"rows_kept":35,"cut":false,"hidden":true,"merged":[]}
["Paste SQL output into cell A2"]
["GENDER","Subjects","grade_A","grade_B","grade_C","grade_D","grade_E","grade_other","grade_AtoE","Total","grade_Q","grade_U","grade_X","concatenate_name"]
["M","NULL",4.7,14.4,26.5,25.5,16.899999999999999,11.9,88.1,8893,0,1022,36,"MalesNULL"]
["M","Applied Art & Design","x","x",20,33.299999999999997,26.7,0,100,15,0,0,0,"MalesApplied Art & Design"]
["M","Applied Business",7.6,21.7,29.7,21.6,11.8,7.7,92.3,3054,0,221,14,"MalesApplied Business"]
["M","Applied Engineering",4.4000000000000004,18.7,32.4,25.7,10.199999999999999,8.6999999999999993,91.3,343,0,27,3,"MalesApplied Engineering"]
["M","Applied ICT",3.4,9.3000000000000007,23.3,26.6,21.2,16.2,83.8,2567,0,407,8,"MalesApplied ICT"]
["M","Applied Science",1.1000000000000001,6.4,22.5,32.5,23.3,14.1,85.9,1508,0,209,4,"MalesApplied Science"]
["M","Health & Social Care",1.9,8.4,18.899999999999999,26.8,20.8,23.2,76.8,370,0,84,2,"MalesHealth & Social Care"]
["M","Leisure & Recreation",1.6,17.3,32.4,28.1,"x","x","x",185,0,12,1,"MalesLeisure & Recreation"]
["M","Media Communication & Production",4.7,16.7,36,21.3,11.3,10,90,150,0,14,1,"MalesMedia Communication & Production"]
["M","Performing Arts",13.3,28.2,26,15.5,8.3000000000000007,8.8000000000000007,91.2,181,0,14,2,"MalesPerforming Arts"]
["M","Travel & Tourism",5.6,14.8,32.5,25.2,15.2,6.7,93.3,520,0,34,1,"MalesTravel & Tourism"]
["F","NULL",8.3000000000000007,21.3,28,23.3,12.5,6.6,93.4,15070,0,953,48,"FemalesNULL"]
["F","Applied Art & Design","x","x",23,16.399999999999999,"x","x","x",61,0,1,0,"FemalesApplied Art & Design"]
["F","Applied Business",14,29,27.3,17.7,8,4,96,2671,0,99,7,"FemalesApplied Business"]
["F","Applied Engineering",7.5,27.5,25,17.5,15,7.5,92.5,40,0,3,0,"FemalesApplied Engineering"]
["F","Applied ICT",5,17.3,28.3,25.2,15.9,8.3000000000000007,91.7,1233,0,97,5,"FemalesApplied ICT"]
["F","Applied Science",2,14.6,30.5,29.2,15.8,7.8,92.2,1792,0,138,2,"FemalesApplied Science"]
["F","Health & Social Care",6.3,18,27.1,26.3,14.3,8,92,7165,0,551,24,"FemalesHealth & Social Care"]
["F","Leisure & Recreation",8.6,31.7,33.799999999999997,17.3,"x","x","x",139,0,0,1,"FemalesLeisure & Recreation"]
["F","Media Communication & Production",21.1,28.7,24,16.399999999999999,5.8,4.0999999999999996,95.9,171,0,4,3,"FemalesMedia Communication & Production"]
["F","Performing Arts",22,34.700000000000003,25.5,10.9,4.9000000000000004,1.9,98.1,568,0,7,4,"FemalesPerforming Arts"]
["F","Travel & Tourism",10.5,29.4,32,15.4,8.1999999999999993,4.5,95.5,1230,0,53,2,"FemalesTravel & Tourism"]
["NULL","NULL",7,18.8,27.5,24.1,14.1,8.6,91.4,23963,0,1975,84,"AllNULL"]
["NULL","Applied Art & Design",23.7,19.7,22.4,19.7,"x","x","x",76,0,1,0,"AllApplied Art & Design"]
["NULL","Applied Business",10.6,25.1,28.6,19.8,10,6,94,5725,0,320,21,"AllApplied Business"]
["NULL","Applied Engineering",4.7,19.600000000000001,31.6,24.8,10.7,8.6,91.4,383,0,30,3,"AllApplied Engineering"]
["NULL","Applied ICT",3.9,11.9,24.9,26.1,19.5,13.6,86.4,3800,0,504,13,"AllApplied ICT"]
["NULL","Applied Science",1.6,10.9,26.8,30.7,19.2,10.7,89.3,3300,0,347,6,"AllApplied Science"]
["NULL","Health & Social Care",6.1,17.5,26.7,26.3,14.6,8.8000000000000007,91.2,7535,0,635,26,"AllHealth & Social Care"]
["NULL","Leisure & Recreation",4.5999999999999996,23.5,33,23.5,11.1,4.3,95.7,324,0,12,2,"AllLeisure & Recreation"]
["NULL","Media Communication & Production",13.4,23.1,29.6,18.7,8.4,6.9,93.1,321,0,18,4,"AllMedia Communication & Production"]
["NULL","Performing Arts",19.899999999999999,33.1,25.6,12,5.7,3.6,96.4,749,0,21,6,"AllPerforming Arts"]
["NULL","Travel & Tourism",9,25.1,32.200000000000003,18.3,10.3,5.0999999999999996,94.9,1750,0,87,3,"AllTravel & Tourism"]

{"sheet":"Table 4b","index":25,"n_rows":33,"n_cols":35,"rows_kept":33,"cut":false,"hidden":false,"merged":[[4,2,4,9],[5,2,5,8],[5,9,6,9]]}
["Table 4b: Applied single AS level results1,2 by subject, grade and gender"]
["Year: 2015/16 (provisional)"]
["Coverage: England"]
[]
[null,"Select gender:","All"]
[null,null,"Percentage achieving grade",null,null,null,null,null,null,"Number of entries"]
["Subject",null,"A","B","C","D","E","Other3","A-E"]
[]
["Applied Art & Design",null,{"$f":"INDEX(SUPP_4b!C$3:C$35,MATCH((CONCATENATE($C$5,$AI9)),SUPP_4b!$N$3:$N$35,0))","v":23.7},{"$f":"INDEX(SUPP_4b!D$3:D$35,MATCH((CONCATENATE($C$5,$AI9)),SUPP_4b!$N$3:$N$35,0))","v":19.7},{"$f":"INDEX(SUPP_4b!E$3:E$35,MATCH((CONCATENATE($C$5,$AI9)),SUPP_4b!$N$3:$N$35,0))","v":22.4},{"$f":"INDEX(SUPP_4b!F$3:F$35,MATCH((CONCATENATE($C$5,$AI9)),SUPP_4b!$N$3:$N$35,0))","v":19.7},{"$f":"INDEX(SUPP_4b!G$3:G$35,MATCH((CONCATENATE($C$5,$AI9)),SUPP_4b!$N$3:$N$35,0))","v":"x"},{"$f":"INDEX(SUPP_4b!H$3:H$35,MATCH((CONCATENATE($C$5,$AI9)),SUPP_4b!$N$3:$N$35,0))","v":"x"},{"$f":"INDEX(SUPP_4b!I$3:I$35,MATCH((CONCATENATE($C$5,$AI9)),SUPP_4b!$N$3:$N$35,0))","v":"x"},{"$f":"INDEX(SUPP_4b!J$3:J$35,MATCH((CONCATENATE($C$5,$AI9)),SUPP_4b!$N$3:$N$35,0))","v":76},null,null,null,null,null,null,null,null,null,null,null,null,null,null,null,null,null,null,null,null,null,null,null,null,"Applied Art & Design"]
["Applied Business",null,{"$f":"INDEX(SUPP_4b!C$3:C$35,MATCH((CONCATENATE($C$5,$AI10)),SUPP_4b!$N$3:$N$35,0))","v":10.6},{"$f":"INDEX(SUPP_4b!D$3:D$35,MATCH((CONCATENATE($C$5,$AI10)),SUPP_4b!$N$3:$N$35,0))","v":25.1},{"$f":"INDEX(SUPP_4b!E$3:E$35,MATCH((CONCATENATE($C$5,$AI10)),SUPP_4b!$N$3:$N$35,0))","v":28.6},{"$f":"INDEX(SUPP_4b!F$3:F$35,MATCH((CONCATENATE($C$5,$AI10)),SUPP_4b!$N$3:$N$35,0))","v":19.8},{"$f":"INDEX(SUPP_4b!G$3:G$35,MATCH((CONCATENATE($C$5,$AI10)),SUPP_4b!$N$3:$N$35,0))","v":10},{"$f":"INDEX(SUPP_4b!H$3:H$35,MATCH((CONCATENATE($C$5,$AI10)),SUPP_4b!$N$3:$N$35,0))","v":6},{"$f":"INDEX(SUPP_4b!I$3:I$35,MATCH((CONCATENATE($C$5,$AI10)),SUPP_4b!$N$3:$N$35,0))","v":94},{"$f":"INDEX(SUPP_4b!J$3:J$35,MATCH((CONCATENATE($C$5,$AI10)),SUPP_4b!$N$3:$N$35,0))","v":5725},null,null,null,null,null,null,null,null,null,null,null,null,null,null,null,null,null,null,null,null,null,null,null,null,"Applied Business"]
["Applied Engineering",null,{"$f":"INDEX(SUPP_4b!C$3:C$35,MATCH((CONCATENATE($C$5,$AI11)),SUPP_4b!$N$3:$N$35,0))","v":4.7},{"$f":"INDEX(SUPP_4b!D$3:D$35,MATCH((CONCATENATE($C$5,$AI11)),SUPP_4b!$N$3:$N$35,0))","v":19.600000000000001},{"$f":"INDEX(SUPP_4b!E$3:E$35,MATCH((CONCATENATE($C$5,$AI11)),SUPP_4b!$N$3:$N$35,0))","v":31.6},{"$f":"INDEX(SUPP_4b!F$3:F$35,MATCH((CONCATENATE($C$5,$AI11)),SUPP_4b!$N$3:$N$35,0))","v":24.8},{"$f":"INDEX(SUPP_4b!G$3:G$35,MATCH((CONCATENATE($C$5,$AI11)),SUPP_4b!$N$3:$N$35,0))","v":10.7},{"$f":"INDEX(SUPP_4b!H$3:H$35,MATCH((CONCATENATE($C$5,$AI11)),SUPP_4b!$N$3:$N$35,0))","v":8.6},{"$f":"INDEX(SUPP_4b!I$3:I$35,MATCH((CONCATENATE($C$5,$AI11)),SUPP_4b!$N$3:$N$35,0))","v":91.4},{"$f":"INDEX(SUPP_4b!J$3:J$35,MATCH((CONCATENATE($C$5,$AI11)),SUPP_4b!$N$3:$N$35,0))","v":383},null,null,null,null,null,null,null,null,null,null,null,null,null,null,null,null,null,null,null,null,null,null,null,null,"Applied Engineering"]
["Applied ICT4",null,{"$f":"INDEX(SUPP_4b!C$3:C$35,MATCH((CONCATENATE($C$5,$AI12)),SUPP_4b!$N$3:$N$35,0))","v":3.9},{"$f":"INDEX(SUPP_4b!D$3:D$35,MATCH((CONCATENATE($C$5,$AI12)),SUPP_4b!$N$3:$N$35,0))","v":11.9},{"$f":"INDEX(SUPP_4b!E$3:E$35,MATCH((CONCATENATE($C$5,$AI12)),SUPP_4b!$N$3:$N$35,0))","v":24.9},{"$f":"INDEX(SUPP_4b!F$3:F$35,MATCH((CONCATENATE($C$5,$AI12)),SUPP_4b!$N$3:$N$35,0))","v":26.1},{"$f":"INDEX(SUPP_4b!G$3:G$35,MATCH((CONCATENATE($C$5,$AI12)),SUPP_4b!$N$3:$N$35,0))","v":19.5},{"$f":"INDEX(SUPP_4b!H$3:H$35,MATCH((CONCATENATE($C$5,$AI12)),SUPP_4b!$N$3:$N$35,0))","v":13.6},{"$f":"INDEX(SUPP_4b!I$3:I$35,MATCH((CONCATENATE($C$5,$AI12)),SUPP_4b!$N$3:$N$35,0))","v":86.4},{"$f":"INDEX(SUPP_4b!J$3:J$35,MATCH((CONCATENATE($C$5,$AI12)),SUPP_4b!$N$3:$N$35,0))","v":3800},null,null,null,null,null,null,null,null,null,null,null,null,null,null,null,null,null,null,null,null,null,null,null,null,"Applied ICT"]
["Applied Science",null,{"$f":"INDEX(SUPP_4b!C$3:C$35,MATCH((CONCATENATE($C$5,$AI13)),SUPP_4b!$N$3:$N$35,0))","v":1.6},{"$f":"INDEX(SUPP_4b!D$3:D$35,MATCH((CONCATENATE($C$5,$AI13)),SUPP_4b!$N$3:$N$35,0))","v":10.9},{"$f":"INDEX(SUPP_4b!E$3:E$35,MATCH((CONCATENATE($C$5,$AI13)),SUPP_4b!$N$3:$N$35,0))","v":26.8},{"$f":"INDEX(SUPP_4b!F$3:F$35,MATCH((CONCATENATE($C$5,$AI13)),SUPP_4b!$N$3:$N$35,0))","v":30.7},{"$f":"INDEX(SUPP_4b!G$3:G$35,MATCH((CONCATENATE($C$5,$AI13)),SUPP_4b!$N$3:$N$35,0))","v":19.2},{"$f":"INDEX(SUPP_4b!H$3:H$35,MATCH((CONCATENATE($C$5,$AI13)),SUPP_4b!$N$3:$N$35,0))","v":10.7},{"$f":"INDEX(SUPP_4b!I$3:I$35,MATCH((CONCATENATE($C$5,$AI13)),SUPP_4b!$N$3:$N$35,0))","v":89.3},{"$f":"INDEX(SUPP_4b!J$3:J$35,MATCH((CONCATENATE($C$5,$AI13)),SUPP_4b!$N$3:$N$35,0))","v":3300},null,null,null,null,null,null,null,null,null,null,null,null,null,null,null,null,null,null,null,null,null,null,null,null,"Applied Science"]
["Health & Social Care",null,{"$f":"INDEX(SUPP_4b!C$3:C$35,MATCH((CONCATENATE($C$5,$AI14)),SUPP_4b!$N$3:$N$35,0))","v":6.1},{"$f":"INDEX(SUPP_4b!D$3:D$35,MATCH((CONCATENATE($C$5,$AI14)),SUPP_4b!$N$3:$N$35,0))","v":17.5},{"$f":"INDEX(SUPP_4b!E$3:E$35,MATCH((CONCATENATE($C$5,$AI14)),SUPP_4b!$N$3:$N$35,0))","v":26.7},{"$f":"INDEX(SUPP_4b!F$3:F$35,MATCH((CONCATENATE($C$5,$AI14)),SUPP_4b!$N$3:$N$35,0))","v":26.3},{"$f":"INDEX(SUPP_4b!G$3:G$35,MATCH((CONCATENATE($C$5,$AI14)),SUPP_4b!$N$3:$N$35,0))","v":14.6},{"$f":"INDEX(SUPP_4b!H$3:H$35,MATCH((CONCATENATE($C$5,$AI14)),SUPP_4b!$N$3:$N$35,0))","v":8.8000000000000007},{"$f":"INDEX(SUPP_4b!I$3:I$35,MATCH((CONCATENATE($C$5,$AI14)),SUPP_4b!$N$3:$N$35,0))","v":91.2},{"$f":"INDEX(SUPP_4b!J$3:J$35,MATCH((CONCATENATE($C$5,$AI14)),SUPP_4b!$N$3:$N$35,0))","v":7535},null,null,null,null,null,null,null,null,null,null,null,null,null,null,null,null,null,null,null,null,null,null,null,null,"Health & Social Care"]
["Leisure & Recreation",null,{"$f":"INDEX(SUPP_4b!C$3:C$35,MATCH((CONCATENATE($C$5,$AI15)),SUPP_4b!$N$3:$N$35,0))","v":4.5999999999999996},{"$f":"INDEX(SUPP_4b!D$3:D$35,MATCH((CONCATENATE($C$5,$AI15)),SUPP_4b!$N$3:$N$35,0))","v":23.5},{"$f":"INDEX(SUPP_4b!E$3:E$35,MATCH((CONCATENATE($C$5,$AI15)),SUPP_4b!$N$3:$N$35,0))","v":33},{"$f":"INDEX(SUPP_4b!F$3:F$35,MATCH((CONCATENATE($C$5,$AI15)),SUPP_4b!$N$3:$N$35,0))","v":23.5},{"$f":"INDEX(SUPP_4b!G$3:G$35,MATCH((CONCATENATE($C$5,$AI15)),SUPP_4b!$N$3:$N$35,0))","v":11.1},{"$f":"INDEX(SUPP_4b!H$3:H$35,MATCH((CONCATENATE($C$5,$AI15)),SUPP_4b!$N$3:$N$35,0))","v":4.3},{"$f":"INDEX(SUPP_4b!I$3:I$35,MATCH((CONCATENATE($C$5,$AI15)),SUPP_4b!$N$3:$N$35,0))","v":95.7},{"$f":"INDEX(SUPP_4b!J$3:J$35,MATCH((CONCATENATE($C$5,$AI15)),SUPP_4b!$N$3:$N$35,0))","v":324},null,null,null,null,null,null,null,null,null,null,null,null,null,null,null,null,null,null,null,null,null,null,null,null,"Leisure & Recreation"]
["Media",null,{"$f":"INDEX(SUPP_4b!C$3:C$35,MATCH((CONCATENATE($C$5,$AI16)),SUPP_4b!$N$3:$N$35,0))","v":13.4},{"$f":"INDEX(SUPP_4b!D$3:D$35,MATCH((CONCATENATE($C$5,$AI16)),SUPP_4b!$N$3:$N$35,0))","v":23.1},{"$f":"INDEX(SUPP_4b!E$3:E$35,MATCH((CONCATENATE($C$5,$AI16)),SUPP_4b!$N$3:$N$35,0))","v":29.6},{"$f":"INDEX(SUPP_4b!F$3:F$35,MATCH((CONCATENATE($C$5,$AI16)),SUPP_4b!$N$3:$N$35,0))","v":18.7},{"$f":"INDEX(SUPP_4b!G$3:G$35,MATCH((CONCATENATE($C$5,$AI16)),SUPP_4b!$N$3:$N$35,0))","v":8.4},{"$f":"INDEX(SUPP_4b!H$3:H$35,MATCH((CONCATENATE($C$5,$AI16)),SUPP_4b!$N$3:$N$35,0))","v":6.9},{"$f":"INDEX(SUPP_4b!I$3:I$35,MATCH((CONCATENATE($C$5,$AI16)),SUPP_4b!$N$3:$N$35,0))","v":93.1},{"$f":"INDEX(SUPP_4b!J$3:J$35,MATCH((CONCATENATE($C$5,$AI16)),SUPP_4b!$N$3:$N$35,0))","v":321},null,null,null,null,null,null,null,null,null,null,null,null,null,null,null,null,null,null,null,null,null,null,null,null,"Media Communication & Production"]
["Performing Arts",null,{"$f":"INDEX(SUPP_4b!C$3:C$35,MATCH((CONCATENATE($C$5,$AI17)),SUPP_4b!$N$3:$N$35,0))","v":19.899999999999999},{"$f":"INDEX(SUPP_4b!D$3:D$35,MATCH((CONCATENATE($C$5,$AI17)),SUPP_4b!$N$3:$N$35,0))","v":33.1},{"$f":"INDEX(SUPP_4b!E$3:E$35,MATCH((CONCATENATE($C$5,$AI17)),SUPP_4b!$N$3:$N$35,0))","v":25.6},{"$f":"INDEX(SUPP_4b!F$3:F$35,MATCH((CONCATENATE($C$5,$AI17)),SUPP_4b!$N$3:$N$35,0))","v":12},{"$f":"INDEX(SUPP_4b!G$3:G$35,MATCH((CONCATENATE($C$5,$AI17)),SUPP_4b!$N$3:$N$35,0))","v":5.7},{"$f":"INDEX(SUPP_4b!H$3:H$35,MATCH((CONCATENATE($C$5,$AI17)),SUPP_4b!$N$3:$N$35,0))","v":3.6},{"$f":"INDEX(SUPP_4b!I$3:I$35,MATCH((CONCATENATE($C$5,$AI17)),SUPP_4b!$N$3:$N$35,0))","v":96.4},{"$f":"INDEX(SUPP_4b!J$3:J$35,MATCH((CONCATENATE($C$5,$AI17)),SUPP_4b!$N$3:$N$35,0))","v":749},null,null,null,null,null,null,null,null,null,null,null,null,null,null,null,null,null,null,null,null,null,null,null,null,"Performing Arts"]
["Travel & Tourism",null,{"$f":"INDEX(SUPP_4b!C$3:C$35,MATCH((CONCATENATE($C$5,$AI18)),SUPP_4b!$N$3:$N$35,0))","v":9},{"$f":"INDEX(SUPP_4b!D$3:D$35,MATCH((CONCATENATE($C$5,$AI18)),SUPP_4b!$N$3:$N$35,0))","v":25.1},{"$f":"INDEX(SUPP_4b!E$3:E$35,MATCH((CONCATENATE($C$5,$AI18)),SUPP_4b!$N$3:$N$35,0))","v":32.200000000000003},{"$f":"INDEX(SUPP_4b!F$3:F$35,MATCH((CONCATENATE($C$5,$AI18)),SUPP_4b!$N$3:$N$35,0))","v":18.3},{"$f":"INDEX(SUPP_4b!G$3:G$35,MATCH((CONCATENATE($C$5,$AI18)),SUPP_4b!$N$3:$N$35,0))","v":10.3},{"$f":"INDEX(SUPP_4b!H$3:H$35,MATCH((CONCATENATE($C$5,$AI18)),SUPP_4b!$N$3:$N$35,0))","v":5.0999999999999996},{"$f":"INDEX(SUPP_4b!I$3:I$35,MATCH((CONCATENATE($C$5,$AI18)),SUPP_4b!$N$3:$N$35,0))","v":94.9},{"$f":"INDEX(SUPP_4b!J$3:J$35,MATCH((CONCATENATE($C$5,$AI18)),SUPP_4b!$N$3:$N$35,0))","v":1750},null,null,null,null,null,null,null,null,null,null,null,null,null,null,null,null,null,null,null,null,null,null,null,null,"Travel & Tourism"]
[]
["All subjects",null,{"$f":"INDEX(SUPP_4b!C$3:C$35,MATCH((CONCATENATE($C$5,$AI20)),SUPP_4b!$N$3:$N$35,0))","v":7},{"$f":"INDEX(SUPP_4b!D$3:D$35,MATCH((CONCATENATE($C$5,$AI20)),SUPP_4b!$N$3:$N$35,0))","v":18.8},{"$f":"INDEX(SUPP_4b!E$3:E$35,MATCH((CONCATENATE($C$5,$AI20)),SUPP_4b!$N$3:$N$35,0))","v":27.5},{"$f":"INDEX(SUPP_4b!F$3:F$35,MATCH((CONCATENATE($C$5,$AI20)),SUPP_4b!$N$3:$N$35,0))","v":24.1},{"$f":"INDEX(SUPP_4b!G$3:G$35,MATCH((CONCATENATE($C$5,$AI20)),SUPP_4b!$N$3:$N$35,0))","v":14.1},{"$f":"INDEX(SUPP_4b!H$3:H$35,MATCH((CONCATENATE($C$5,$AI20)),SUPP_4b!$N$3:$N$35,0))","v":8.6},{"$f":"INDEX(SUPP_4b!I$3:I$35,MATCH((CONCATENATE($C$5,$AI20)),SUPP_4b!$N$3:$N$35,0))","v":91.4},{"$f":"INDEX(SUPP_4b!J$3:J$35,MATCH((CONCATENATE($C$5,$AI20)),SUPP_4b!$N$3:$N$35,0))","v":23963},null,null,null,null,null,null,null,null,null,null,null,null,null,null,null,null,null,null,null,null,null,null,null,null,"NULL"]
[]
[null,null,null,null,null,null,null,null,null,"Source: 2015/16 16-18 attainment data (provisional)"]
[]
["1. Covers applied single award AS level examination results for the 2015/16 academic year."]
["2. Covers students aged 16, 17 or 18 at the start of the 2015/16 academic year, ie 31 August 2015."]
["3. Includes ungraded, no award (absent/declined) and pending."]
["4. Information, Communication and Technology."]
[]
["Notes:"]
["x indicates figure has been suppressed where underlying numbers are small (ie, 1 or 2) or where secondary suppression has been applied."]
["Percentages are rounded to one decimal place and therefore may not sum to totals."]
["Where qualifications taken by a student are in the same subject area and similar in content ‘discounting’ rules have been applied to avoid double counting qualifications."]
["Refer to 'Quality and Methodology Information' document."]

{"sheet":"SUPP_5a","index":26,"n_rows":23,"n_cols":23,"rows_kept":23,"cut":false,"hidden":true,"merged":[]}
["Paste SQL output into cell A2",null,null,null,null,null,null,null,null,null,null,null,null,null,null,null,null,null,null,null,null,null,"Travel & Tourism ALL missing"]
["GENDER","Subjects","grade_DblAStar","grade_AStarA","grade_DblA","grade_AB","grade_DblB","grade_BC","grade_DblC","grade_CD","grade_DblD","grade_DE","grade_DblE","grade_other","grade_DblAStartoDblA","grade_DblAStartoDblE","Total","grade_Q","grade_U","grade_X","concatenate_name"]
["M","NULL",0.6,4.2,1,8,10.8,16.399999999999999,17,16.899999999999999,12.8,6.2,3.9,2.2000000000000002,5.8,97.8,812,0,18,0,"MalesNULL"]
["M","Applied Art & Design","x",12,"x",28,"x",12,16,12,0,0,0,"x",20,"x",25,0,1,0,"MalesApplied Art & Design"]
["M","Applied Business",0.8,5.9,1.4,8.6999999999999993,12.6,17,17.600000000000001,17,11.6,3.6,"x","x",8.1,"x",507,0,7,0,"MalesApplied Business"]
["M","Applied ICT",0,"x",0,"x","x",20.5,14.4,"x","x",10.3,7.5,"x","x","x",146,0,1,0,"MalesApplied ICT"]
["M","Applied Science",0,0,0,"x","x",7,11.6,27.9,18.600000000000001,14,8.1,7,0,93,86,0,6,0,"MalesApplied Science"]
["M","Health & Social Care",0,0,0,"x","x",13.5,29.7,8.1,16.2,13.5,"x",8.1,0,91.9,37,0,3,0,"MalesHealth & Social Care"]
["M","Travel & Tourism",0,0,0,0,"x","x",27.3,36.4,0,0,0,0,0,100,11,0,0,0,"MalesTravel & Tourism"]
["F","NULL",1.5,4.0999999999999996,1.9,10.5,14.8,18.3,16.8,15.2,8.1999999999999993,5.4,2.2000000000000002,1,7.5,99,1950,0,20,0,"FemalesNULL"]
["F","Applied Art & Design","x",7.9,"x",15.7,"x",15,11.8,7.1,"x","x",0,"x",23.6,"x",127,0,2,0,"FemalesApplied Art & Design"]
["F","Applied Business",4.5,8.3000000000000007,1.7,13.1,17.600000000000001,19,12.5,13.5,4.2,4.2,"x","x",14.5,"x",289,0,2,0,"FemalesApplied Business"]
["F","Applied ICT",0,0,"x","x","x",31.8,22.7,"x","x",13.6,0,0,"x",100,22,0,0,0,"FemalesApplied ICT"]
["F","Applied Science",0,0,0,"x","x",10.5,25.3,26.3,8.4,7.4,7.4,"x",0,"x",95,0,1,0,"FemalesApplied Science"]
["F","Health & Social Care",0.4,3.2,1.6,"x","x",18.5,17.8,15.5,9.6999999999999993,5.9,2.4,1.1000000000000001,5.2,98.9,1359,0,15,0,"FemalesHealth & Social Care"]
["F","Travel & Tourism",0,"x","x",24.1,"x","x","x","x","x",0,0,0,5.2,100,58,0,0,0,"FemalesTravel & Tourism"]
["NULL","NULL",1.3,4.0999999999999996,1.7,9.8000000000000007,13.6,17.7,16.899999999999999,15.7,9.5,5.6,2.7,1.4,7,98.6,2762,0,38,0,"AllNULL"]
["NULL","Applied Art & Design",8.6,8.6,5.9,17.8,16.399999999999999,14.5,12.5,7.9,"x","x",0,2,23,98,152,0,3,0,"AllApplied Art & Design"]
["NULL","Applied Business",2.1,6.8,1.5,10.3,14.4,17.7,15.7,15.7,8.9,3.8,1.9,1.1000000000000001,10.4,98.9,796,0,9,0,"AllApplied Business"]
["NULL","Applied ICT",0,"x","x",6,11.9,22,15.5,11.3,14.3,10.7,6.5,"x","x","x",168,0,1,0,"AllApplied ICT"]
["NULL","Applied Science",0,0,0,3.9,6.1,8.8000000000000007,18.8,27.1,13.3,10.5,7.7,3.9,0,96.1,181,0,7,0,"AllApplied Science"]
["NULL","Health & Social Care",0.4,3.2,1.6,9.3000000000000007,14.1,18.3,18.100000000000001,15.3,9.9,6.1,"x",1.3,5.0999999999999996,98.7,1396,0,18,0,"AllHealth & Social Care"]
["NULL","Travel & Tourism",0,"x","x",20.3,13,26.1,"x",21.7,"x",0,0,0,4.3,100,69,0,0,0,"AllTravel & Tourism"]

{"sheet":"Table 5a","index":27,"n_rows":28,"n_cols":34,"rows_kept":28,"cut":false,"hidden":false,"merged":[[5,2,5,15],[5,16,6,16],[4,2,4,16]]}
["Table 5a: Applied double A level results1,2 by subject, grade and gender"]
["Year: 2015/16 (provisional)"]
["Coverage: England"]
[]
[null,"Select gender:","All"]
[null,null,"Percentage achieving grade",null,null,null,null,null,null,null,null,null,null,null,null,null,"Number of entries"]
["Subject",null,"A*A*","A*A","AA","AB","BB","BC","CC","CD","DD","DE","EE","Other3","A*A*-AA","A*A*-EE"]
[]
["Applied Art & Design",null,{"$f":"INDEX(SUPP_5a!C$3:C$23,MATCH((CONCATENATE($C$5,$AH9)),SUPP_5a!$U$3:$U$23,0))","v":8.6},{"$f":"INDEX(SUPP_5a!D$3:D$23,MATCH((CONCATENATE($C$5,$AH9)),SUPP_5a!$U$3:$U$23,0))","v":8.6},{"$f":"INDEX(SUPP_5a!E$3:E$23,MATCH((CONCATENATE($C$5,$AH9)),SUPP_5a!$U$3:$U$23,0))","v":5.9},{"$f":"INDEX(SUPP_5a!F$3:F$23,MATCH((CONCATENATE($C$5,$AH9)),SUPP_5a!$U$3:$U$23,0))","v":17.8},{"$f":"INDEX(SUPP_5a!G$3:G$23,MATCH((CONCATENATE($C$5,$AH9)),SUPP_5a!$U$3:$U$23,0))","v":16.399999999999999},{"$f":"INDEX(SUPP_5a!H$3:H$23,MATCH((CONCATENATE($C$5,$AH9)),SUPP_5a!$U$3:$U$23,0))","v":14.5},{"$f":"INDEX(SUPP_5a!I$3:I$23,MATCH((CONCATENATE($C$5,$AH9)),SUPP_5a!$U$3:$U$23,0))","v":12.5},{"$f":"INDEX(SUPP_5a!J$3:J$23,MATCH((CONCATENATE($C$5,$AH9)),SUPP_5a!$U$3:$U$23,0))","v":7.9},{"$f":"INDEX(SUPP_5a!K$3:K$23,MATCH((CONCATENATE($C$5,$AH9)),SUPP_5a!$U$3:$U$23,0))","v":"x"},{"$f":"INDEX(SUPP_5a!L$3:L$23,MATCH((CONCATENATE($C$5,$AH9)),SUPP_5a!$U$3:$U$23,0))","v":"x"},{"$f":"INDEX(SUPP_5a!M$3:M$23,MATCH((CONCATENATE($C$5,$AH9)),SUPP_5a!$U$3:$U$23,0))","v":0},{"$f":"INDEX(SUPP_5a!N$3:N$23,MATCH((CONCATENATE($C$5,$AH9)),SUPP_5a!$U$3:$U$23,0))","v":2},{"$f":"INDEX(SUPP_5a!O$3:O$23,MATCH((CONCATENATE($C$5,$AH9)),SUPP_5a!$U$3:$U$23,0))","v":23},{"$f":"INDEX(SUPP_5a!P$3:P$23,MATCH((CONCATENATE($C$5,$AH9)),SUPP_5a!$U$3:$U$23,0))","v":98},{"$f":"INDEX(SUPP_5a!Q$3:Q$23,MATCH((CONCATENATE($C$5,$AH9)),SUPP_5a!$U$3:$U$23,0))","v":152},null,null,null,null,null,null,null,null,null,null,null,null,null,null,null,null,"Applied Art & Design"]
["Applied Business",null,{"$f":"INDEX(SUPP_5a!C$3:C$23,MATCH((CONCATENATE($C$5,$AH10)),SUPP_5a!$U$3:$U$23,0))","v":2.1},{"$f":"INDEX(SUPP_5a!D$3:D$23,MATCH((CONCATENATE($C$5,$AH10)),SUPP_5a!$U$3:$U$23,0))","v":6.8},{"$f":"INDEX(SUPP_5a!E$3:E$23,MATCH((CONCATENATE($C$5,$AH10)),SUPP_5a!$U$3:$U$23,0))","v":1.5},{"$f":"INDEX(SUPP_5a!F$3:F$23,MATCH((CONCATENATE($C$5,$AH10)),SUPP_5a!$U$3:$U$23,0))","v":10.3},{"$f":"INDEX(SUPP_5a!G$3:G$23,MATCH((CONCATENATE($C$5,$AH10)),SUPP_5a!$U$3:$U$23,0))","v":14.4},{"$f":"INDEX(SUPP_5a!H$3:H$23,MATCH((CONCATENATE($C$5,$AH10)),SUPP_5a!$U$3:$U$23,0))","v":17.7},{"$f":"INDEX(SUPP_5a!I$3:I$23,MATCH((CONCATENATE($C$5,$AH10)),SUPP_5a!$U$3:$U$23,0))","v":15.7},{"$f":"INDEX(SUPP_5a!J$3:J$23,MATCH((CONCATENATE($C$5,$AH10)),SUPP_5a!$U$3:$U$23,0))","v":15.7},{"$f":"INDEX(SUPP_5a!K$3:K$23,MATCH((CONCATENATE($C$5,$AH10)),SUPP_5a!$U$3:$U$23,0))","v":8.9},{"$f":"INDEX(SUPP_5a!L$3:L$23,MATCH((CONCATENATE($C$5,$AH10)),SUPP_5a!$U$3:$U$23,0))","v":3.8},{"$f":"INDEX(SUPP_5a!M$3:M$23,MATCH((CONCATENATE($C$5,$AH10)),SUPP_5a!$U$3:$U$23,0))","v":1.9},{"$f":"INDEX(SUPP_5a!N$3:N$23,MATCH((CONCATENATE($C$5,$AH10)),SUPP_5a!$U$3:$U$23,0))","v":1.1000000000000001},{"$f":"INDEX(SUPP_5a!O$3:O$23,MATCH((CONCATENATE($C$5,$AH10)),SUPP_5a!$U$3:$U$23,0))","v":10.4},{"$f":"INDEX(SUPP_5a!P$3:P$23,MATCH((CONCATENATE($C$5,$AH10)),SUPP_5a!$U$3:$U$23,0))","v":98.9},{"$f":"INDEX(SUPP_5a!Q$3:Q$23,MATCH((CONCATENATE($C$5,$AH10)),SUPP_5a!$U$3:$U$23,0))","v":796},null,null,null,null,null,null,null,null,null,null,null,null,null,null,null,null,"Applied Business"]
["Applied ICT4",null,{"$f":"INDEX(SUPP_5a!C$3:C$23,MATCH((CONCATENATE($C$5,$AH11)),SUPP_5a!$U$3:$U$23,0))","v":0},{"$f":"INDEX(SUPP_5a!D$3:D$23,MATCH((CONCATENATE($C$5,$AH11)),SUPP_5a!$U$3:$U$23,0))","v":"x"},{"$f":"INDEX(SUPP_5a!E$3:E$23,MATCH((CONCATENATE($C$5,$AH11)),SUPP_5a!$U$3:$U$23,0))","v":"x"},{"$f":"INDEX(SUPP_5a!F$3:F$23,MATCH((CONCATENATE($C$5,$AH11)),SUPP_5a!$U$3:$U$23,0))","v":6},{"$f":"INDEX(SUPP_5a!G$3:G$23,MATCH((CONCATENATE($C$5,$AH11)),SUPP_5a!$U$3:$U$23,0))","v":11.9},{"$f":"INDEX(SUPP_5a!H$3:H$23,MATCH((CONCATENATE($C$5,$AH11)),SUPP_5a!$U$3:$U$23,0))","v":22},{"$f":"INDEX(SUPP_5a!I$3:I$23,MATCH((CONCATENATE($C$5,$AH11)),SUPP_5a!$U$3:$U$23,0))","v":15.5},{"$f":"INDEX(SUPP_5a!J$3:J$23,MATCH((CONCATENATE($C$5,$AH11)),SUPP_5a!$U$3:$U$23,0))","v":11.3},{"$f":"INDEX(SUPP_5a!K$3:K$23,MATCH((CONCATENATE($C$5,$AH11)),SUPP_5a!$U$3:$U$23,0))","v":14.3},{"$f":"INDEX(SUPP_5a!L$3:L$23,MATCH((CONCATENATE($C$5,$AH11)),SUPP_5a!$U$3:$U$23,0))","v":10.7},{"$f":"INDEX(SUPP_5a!M$3:M$23,MATCH((CONCATENATE($C$5,$AH11)),SUPP_5a!$U$3:$U$23,0))","v":6.5},{"$f":"INDEX(SUPP_5a!N$3:N$23,MATCH((CONCATENATE($C$5,$AH11)),SUPP_5a!$U$3:$U$23,0))","v":"x"},{"$f":"INDEX(SUPP_5a!O$3:O$23,MATCH((CONCATENATE($C$5,$AH11)),SUPP_5a!$U$3:$U$23,0))","v":"x"},{"$f":"INDEX(SUPP_5a!P$3:P$23,MATCH((CONCATENATE($C$5,$AH11)),SUPP_5a!$U$3:$U$23,0))","v":"x"},{"$f":"INDEX(SUPP_5a!Q$3:Q$23,MATCH((CONCATENATE($C$5,$AH11)),SUPP_5a!$U$3:$U$23,0))","v":168},null,null,null,null,null,null,null,null,null,null,null,null,null,null,null,null,"Applied ICT"]
["Applied Science",null,{"$f":"INDEX(SUPP_5a!C$3:C$23,MATCH((CONCATENATE($C$5,$AH12)),SUPP_5a!$U$3:$U$23,0))","v":0},{"$f":"INDEX(SUPP_5a!D$3:D$23,MATCH((CONCATENATE($C$5,$AH12)),SUPP_5a!$U$3:$U$23,0))","v":0},{"$f":"INDEX(SUPP_5a!E$3:E$23,MATCH((CONCATENATE($C$5,$AH12)),SUPP_5a!$U$3:$U$23,0))","v":0},{"$f":"INDEX(SUPP_5a!F$3:F$23,MATCH((CONCATENATE($C$5,$AH12)),SUPP_5a!$U$3:$U$23,0))","v":3.9},{"$f":"INDEX(SUPP_5a!G$3:G$23,MATCH((CONCATENATE($C$5,$AH12)),SUPP_5a!$U$3:$U$23,0))","v":6.1},{"$f":"INDEX(SUPP_5a!H$3:H$23,MATCH((CONCATENATE($C$5,$AH12)),SUPP_5a!$U$3:$U$23,0))","v":8.8000000000000007},{"$f":"INDEX(SUPP_5a!I$3:I$23,MATCH((CONCATENATE($C$5,$AH12)),SUPP_5a!$U$3:$U$23,0))","v":18.8},{"$f":"INDEX(SUPP_5a!J$3:J$23,MATCH((CONCATENATE($C$5,$AH12)),SUPP_5a!$U$3:$U$23,0))","v":27.1},{"$f":"INDEX(SUPP_5a!K$3:K$23,MATCH((CONCATENATE($C$5,$AH12)),SUPP_5a!$U$3:$U$23,0))","v":13.3},{"$f":"INDEX(SUPP_5a!L$3:L$23,MATCH((CONCATENATE($C$5,$AH12)),SUPP_5a!$U$3:$U$23,0))","v":10.5},{"$f":"INDEX(SUPP_5a!M$3:M$23,MATCH((CONCATENATE($C$5,$AH12)),SUPP_5a!$U$3:$U$23,0))","v":7.7},{"$f":"INDEX(SUPP_5a!N$3:N$23,MATCH((CONCATENATE($C$5,$AH12)),SUPP_5a!$U$3:$U$23,0))","v":3.9},{"$f":"INDEX(SUPP_5a!O$3:O$23,MATCH((CONCATENATE($C$5,$AH12)),SUPP_5a!$U$3:$U$23,0))","v":0},{"$f":"INDEX(SUPP_5a!P$3:P$23,MATCH((CONCATENATE($C$5,$AH12)),SUPP_5a!$U$3:$U$23,0))","v":96.1},{"$f":"INDEX(SUPP_5a!Q$3:Q$23,MATCH((CONCATENATE($C$5,$AH12)),SUPP_5a!$U$3:$U$23,0))","v":181},null,null,null,null,null,null,null,null,null,null,null,null,null,null,null,null,"Applied Science"]
["Health & Social Care",null,{"$f":"INDEX(SUPP_5a!C$3:C$23,MATCH((CONCATENATE($C$5,$AH13)),SUPP_5a!$U$3:$U$23,0))","v":0.4},{"$f":"INDEX(SUPP_5a!D$3:D$23,MATCH((CONCATENATE($C$5,$AH13)),SUPP_5a!$U$3:$U$23,0))","v":3.2},{"$f":"INDEX(SUPP_5a!E$3:E$23,MATCH((CONCATENATE($C$5,$AH13)),SUPP_5a!$U$3:$U$23,0))","v":1.6},{"$f":"INDEX(SUPP_5a!F$3:F$23,MATCH((CONCATENATE($C$5,$AH13)),SUPP_5a!$U$3:$U$23,0))","v":9.3000000000000007},{"$f":"INDEX(SUPP_5a!G$3:G$23,MATCH((CONCATENATE($C$5,$AH13)),SUPP_5a!$U$3:$U$23,0))","v":14.1},{"$f":"INDEX(SUPP_5a!H$3:H$23,MATCH((CONCATENATE($C$5,$AH13)),SUPP_5a!$U$3:$U$23,0))","v":18.3},{"$f":"INDEX(SUPP_5a!I$3:I$23,MATCH((CONCATENATE($C$5,$AH13)),SUPP_5a!$U$3:$U$23,0))","v":18.100000000000001},{"$f":"INDEX(SUPP_5a!J$3:J$23,MATCH((CONCATENATE($C$5,$AH13)),SUPP_5a!$U$3:$U$23,0))","v":15.3},{"$f":"INDEX(SUPP_5a!K$3:K$23,MATCH((CONCATENATE($C$5,$AH13)),SUPP_5a!$U$3:$U$23,0))","v":9.9},{"$f":"INDEX(SUPP_5a!L$3:L$23,MATCH((CONCATENATE($C$5,$AH13)),SUPP_5a!$U$3:$U$23,0))","v":6.1},{"$f":"INDEX(SUPP_5a!M$3:M$23,MATCH((CONCATENATE($C$5,$AH13)),SUPP_5a!$U$3:$U$23,0))","v":"x"},{"$f":"INDEX(SUPP_5a!N$3:N$23,MATCH((CONCATENATE($C$5,$AH13)),SUPP_5a!$U$3:$U$23,0))","v":1.3},{"$f":"INDEX(SUPP_5a!O$3:O$23,MATCH((CONCATENATE($C$5,$AH13)),SUPP_5a!$U$3:$U$23,0))","v":5.0999999999999996},{"$f":"INDEX(SUPP_5a!P$3:P$23,MATCH((CONCATENATE($C$5,$AH13)),SUPP_5a!$U$3:$U$23,0))","v":98.7},{"$f":"INDEX(SUPP_5a!Q$3:Q$23,MATCH((CONCATENATE($C$5,$AH13)),SUPP_5a!$U$3:$U$23,0))","v":1396},null,null,null,null,null,null,null,null,null,null,null,null,null,null,null,null,"Health & Social Care"]
["Travel & Tourism",null,{"$f":"INDEX(SUPP_5a!C$3:C$23,MATCH((CONCATENATE($C$5,$AH14)),SUPP_5a!$U$3:$U$23,0))","v":0},{"$f":"INDEX(SUPP_5a!D$3:D$23,MATCH((CONCATENATE($C$5,$AH14)),SUPP_5a!$U$3:$U$23,0))","v":"x"},{"$f":"INDEX(SUPP_5a!E$3:E$23,MATCH((CONCATENATE($C$5,$AH14)),SUPP_5a!$U$3:$U$23,0))","v":"x"},{"$f":"INDEX(SUPP_5a!F$3:F$23,MATCH((CONCATENATE($C$5,$AH14)),SUPP_5a!$U$3:$U$23,0))","v":20.3},{"$f":"INDEX(SUPP_5a!G$3:G$23,MATCH((CONCATENATE($C$5,$AH14)),SUPP_5a!$U$3:$U$23,0))","v":13},{"$f":"INDEX(SUPP_5a!H$3:H$23,MATCH((CONCATENATE($C$5,$AH14)),SUPP_5a!$U$3:$U$23,0))","v":26.1},{"$f":"INDEX(SUPP_5a!I$3:I$23,MATCH((CONCATENATE($C$5,$AH14)),SUPP_5a!$U$3:$U$23,0))","v":"x"},{"$f":"INDEX(SUPP_5a!J$3:J$23,MATCH((CONCATENATE($C$5,$AH14)),SUPP_5a!$U$3:$U$23,0))","v":21.7},{"$f":"INDEX(SUPP_5a!K$3:K$23,MATCH((CONCATENATE($C$5,$AH14)),SUPP_5a!$U$3:$U$23,0))","v":"x"},{"$f":"INDEX(SUPP_5a!L$3:L$23,MATCH((CONCATENATE($C$5,$AH14)),SUPP_5a!$U$3:$U$23,0))","v":0},{"$f":"INDEX(SUPP_5a!M$3:M$23,MATCH((CONCATENATE($C$5,$AH14)),SUPP_5a!$U$3:$U$23,0))","v":0},{"$f":"INDEX(SUPP_5a!N$3:N$23,MATCH((CONCATENATE($C$5,$AH14)),SUPP_5a!$U$3:$U$23,0))","v":0},{"$f":"INDEX(SUPP_5a!O$3:O$23,MATCH((CONCATENATE($C$5,$AH14)),SUPP_5a!$U$3:$U$23,0))","v":4.3},{"$f":"INDEX(SUPP_5a!P$3:P$23,MATCH((CONCATENATE($C$5,$AH14)),SUPP_5a!$U$3:$U$23,0))","v":100},{"$f":"INDEX(SUPP_5a!Q$3:Q$23,MATCH((CONCATENATE($C$5,$AH14)),SUPP_5a!$U$3:$U$23,0))","v":69},null,null,null,null,null,null,null,null,null,null,null,null,null,null,null,null,"Travel & Tourism"]
[]
["All subjects",null,{"$f":"INDEX(SUPP_5a!C$3:C$22,MATCH((CONCATENATE($C$5,$AH16)),SUPP_5a!$U$3:$U$22,0))","v":1.3},{"$f":"INDEX(SUPP_5a!D$3:D$22,MATCH((CONCATENATE($C$5,$AH16)),SUPP_5a!$U$3:$U$22,0))","v":4.0999999999999996},{"$f":"INDEX(SUPP_5a!E$3:E$22,MATCH((CONCATENATE($C$5,$AH16)),SUPP_5a!$U$3:$U$22,0))","v":1.7},{"$f":"INDEX(SUPP_5a!F$3:F$22,MATCH((CONCATENATE($C$5,$AH16)),SUPP_5a!$U$3:$U$22,0))","v":9.8000000000000007},{"$f":"INDEX(SUPP_5a!G$3:G$22,MATCH((CONCATENATE($C$5,$AH16)),SUPP_5a!$U$3:$U$22,0))","v":13.6},{"$f":"INDEX(SUPP_5a!H$3:H$22,MATCH((CONCATENATE($C$5,$AH16)),SUPP_5a!$U$3:$U$22,0))","v":17.7},{"$f":"INDEX(SUPP_5a!I$3:I$22,MATCH((CONCATENATE($C$5,$AH16)),SUPP_5a!$U$3:$U$22,0))","v":16.899999999999999},{"$f":"INDEX(SUPP_5a!J$3:J$22,MATCH((CONCATENATE($C$5,$AH16)),SUPP_5a!$U$3:$U$22,0))","v":15.7},{"$f":"INDEX(SUPP_5a!K$3:K$22,MATCH((CONCATENATE($C$5,$AH16)),SUPP_5a!$U$3:$U$22,0))","v":9.5},{"$f":"INDEX(SUPP_5a!L$3:L$22,MATCH((CONCATENATE($C$5,$AH16)),SUPP_5a!$U$3:$U$22,0))","v":5.6},{"$f":"INDEX(SUPP_5a!M$3:M$22,MATCH((CONCATENATE($C$5,$AH16)),SUPP_5a!$U$3:$U$22,0))","v":2.7},{"$f":"INDEX(SUPP_5a!N$3:N$22,MATCH((CONCATENATE($C$5,$AH16)),SUPP_5a!$U$3:$U$22,0))","v":1.4},{"$f":"INDEX(SUPP_5a!O$3:O$22,MATCH((CONCATENATE($C$5,$AH16)),SUPP_5a!$U$3:$U$22,0))","v":7},{"$f":"INDEX(SUPP_5a!P$3:P$22,MATCH((CONCATENATE($C$5,$AH16)),SUPP_5a!$U$3:$U$22,0))","v":98.6},{"$f":"INDEX(SUPP_5a!Q$3:Q$22,MATCH((CONCATENATE($C$5,$AH16)),SUPP_5a!$U$3:$U$22,0))","v":2762},null,null,null,null,null,null,null,null,null,null,null,null,null,null,null,null,"Null"]
[]
[null,null,null,null,null,null,null,null,null,null,null,null,null,null,null,null,"Source: 2015/16 16-18 attainment data (provisional)"]
["1. Covers applied double award A level examination results for the 2015/16 academic year."]
["2. Covers students aged 16, 17 or 18 at the start of the 2015/16 academic year, ie 31 August 2015."]
["3. Includes ungraded, no award (absent/declined) and pending."]
["4. Information, Communication and Technology."]
[]
["Notes:"]
["x indicates figure has been suppressed where underlying numbers are small (ie, 1 or 2) or where secondary suppression has been applied."]
["Percentages are rounded to one decimal place and therefore may not sum to totals."]
["Where qualifications taken by a student are in the same subject area and similar in content ‘discounting’ rules have been applied to avoid double counting qualifications."]
["Refer to 'Quality and Methodology Information' document."]

{"sheet":"SUPP_5b","index":28,"n_rows":23,"n_cols":18,"rows_kept":23,"cut":false,"hidden":true,"merged":[]}
["Paste sQL output into cell A2"]
["GENDER","Subjects","grade_DblA","grade_AB","grade_DblB","grade_BC","grade_DblC","grade_CD","grade_DblD","grade_DE","grade_DblE","grade_other","grade_DblAtoDblE","Total","grade_Q","grade_U","grade_X","concatenate_name"]
["M","NULL",5.2,5.2,9.6,14.1,15.2,13.2,11.7,10.4,5.8,9.6,90.4,729,0,70,0,"MalesNULL"]
["M","Applied Art & Design","x","x",21.1,26.3,15.8,"x","x","x",0,0,100,19,0,0,0,"MalesApplied Art & Design"]
["M","Applied Business",6.6,5.6,10.4,17,17,11.8,10.6,9.8000000000000007,4.5999999999999996,6.8,93.2,501,0,34,0,"MalesApplied Business"]
["M","Applied ICT","x","x",11.3,"x",9.6999999999999993,"x",19.399999999999999,11.3,"x",9.6999999999999993,90.3,62,0,6,0,"MalesApplied ICT"]
["M","Applied Science",0,"x","x",5.0999999999999996,10.1,20.3,16.5,12.7,8.9,19,81,79,0,15,0,"MalesApplied Science"]
["M","Health & Social Care",0,"x","x","x",12.1,17.2,6.9,15.5,13.8,25.9,74.099999999999994,58,0,15,0,"MalesHealth & Social Care"]
["M","Travel & Tourism",0,0,"x","x","x",30,"x",0,"x",0,100,10,0,0,0,"MalesTravel & Tourism"]
["F","NULL",6.5,7.5,10.9,13,14.7,14.5,12.9,9.4,5.2,5.3,94.7,2134,0,109,5,"FemalesNULL"]
["F","Applied Art & Design","x","x",11.1,23.8,7.9,"x","x","x","x","x","x",63,0,1,1,"FemalesApplied Art & Design"]
["F","Applied Business",15.3,10.6,13.1,11.8,12.8,12.5,10.9,4.7,4,4.4000000000000004,95.6,321,0,12,2,"FemalesApplied Business"]
["F","Applied ICT","x","x",0,"x",0,"x",0,0,"x",30,70,10,0,3,0,"FemalesApplied ICT"]
["F","Applied Science",0,"x","x",13.3,19.3,12,13.3,9.6,7.2,10.8,89.2,83,0,8,1,"FemalesApplied Science"]
["F","Health & Social Care",4.3,"x","x","x",15.2,15.3,14.1,10.7,5.6,5.3,94.7,1612,0,85,1,"FemalesHealth & Social Care"]
["F","Travel & Tourism",13.3,11.1,"x","x","x",11.1,0,"x",0,0,100,45,0,0,0,"FemalesTravel & Tourism"]
["NULL","NULL",6.1,7,10.6,13.3,14.8,14.1,12.6,9.6,5.4,6.4,93.6,2863,0,179,5,"AllNULL"]
["NULL","Applied Art & Design",17.100000000000001,14.6,13.4,24.4,9.8000000000000007,9.8000000000000007,"x",3.7,"x","x","x",82,0,1,1,"AllApplied Art & Design"]
["NULL","Applied Business",10,7.5,11.4,15,15.3,12,10.7,7.8,4.4000000000000004,5.8,94.2,822,0,46,2,"AllApplied Business"]
["NULL","Applied ICT",6.9,8.3000000000000007,9.6999999999999993,12.5,8.3000000000000007,9.6999999999999993,16.7,9.6999999999999993,5.6,12.5,87.5,72,0,9,0,"AllApplied ICT"]
["NULL","Applied Science",0,3.7,7.4,9.3000000000000007,14.8,16,14.8,11.1,8,14.8,85.2,162,0,23,1,"AllApplied Science"]
["NULL","Health & Social Care",4.0999999999999996,6.5,9.9,12.3,15.1,15.4,13.9,10.9,5.9,6,94,1670,0,100,1,"AllHealth & Social Care"]
["NULL","Travel & Tourism",10.9,9.1,23.6,16.399999999999999,16.399999999999999,14.5,"x","x","x",0,100,55,0,0,0,"AllTravel & Tourism"]

{"sheet":"Table 5b","index":29,"n_rows":28,"n_cols":35,"rows_kept":28,"cut":false,"hidden":false,"merged":[[5,2,5,12],[5,13,6,13],[4,2,4,13]]}
["Table 5b: Applied double AS level results1,2 by subject, grade and gender"]
["Year: 2015/16 (provisional)"]
["Coverage: England"]
[]
[null,"Select gender:","All"]
[null,null,"Percentage achieving grade",null,null,null,null,null,null,null,null,null,null,"Number of entries"]
["Subject",null,"AA","AB","BB","BC","CC","CD","DD","DE","EE","Other3","AA-EE"]
[]
["Applied Art & Design",null,{"$f":"INDEX(SUPP_5b!C$3:C$23,MATCH((CONCATENATE($C$5,$AI9)),SUPP_5b!$R$3:$R$23,0))","v":17.100000000000001},{"$f":"INDEX(SUPP_5b!D$3:D$23,MATCH((CONCATENATE($C$5,$AI9)),SUPP_5b!$R$3:$R$23,0))","v":14.6},{"$f":"INDEX(SUPP_5b!E$3:E$23,MATCH((CONCATENATE($C$5,$AI9)),SUPP_5b!$R$3:$R$23,0))","v":13.4},{"$f":"INDEX(SUPP_5b!F$3:F$23,MATCH((CONCATENATE($C$5,$AI9)),SUPP_5b!$R$3:$R$23,0))","v":24.4},{"$f":"INDEX(SUPP_5b!G$3:G$23,MATCH((CONCATENATE($C$5,$AI9)),SUPP_5b!$R$3:$R$23,0))","v":9.8000000000000007},{"$f":"INDEX(SUPP_5b!H$3:H$23,MATCH((CONCATENATE($C$5,$AI9)),SUPP_5b!$R$3:$R$23,0))","v":9.8000000000000007},{"$f":"INDEX(SUPP_5b!I$3:I$23,MATCH((CONCATENATE($C$5,$AI9)),SUPP_5b!$R$3:$R$23,0))","v":"x"},{"$f":"INDEX(SUPP_5b!J$3:J$23,MATCH((CONCATENATE($C$5,$AI9)),SUPP_5b!$R$3:$R$23,0))","v":3.7},{"$f":"INDEX(SUPP_5b!K$3:K$23,MATCH((CONCATENATE($C$5,$AI9)),SUPP_5b!$R$3:$R$23,0))","v":"x"},{"$f":"INDEX(SUPP_5b!L$3:L$23,MATCH((CONCATENATE($C$5,$AI9)),SUPP_5b!$R$3:$R$23,0))","v":"x"},{"$f":"INDEX(SUPP_5b!M$3:M$23,MATCH((CONCATENATE($C$5,$AI9)),SUPP_5b!$R$3:$R$23,0))","v":"x"},{"$f":"INDEX(SUPP_5b!N$3:N$23,MATCH((CONCATENATE($C$5,$AI9)),SUPP_5b!$R$3:$R$23,0))","v":82},null,null,null,null,null,null,null,null,null,null,null,null,null,null,null,null,null,null,null,null,"Applied Art & Design"]
["Applied Business",null,{"$f":"INDEX(SUPP_5b!C$3:C$23,MATCH((CONCATENATE($C$5,$AI10)),SUPP_5b!$R$3:$R$23,0))","v":10},{"$f":"INDEX(SUPP_5b!D$3:D$23,MATCH((CONCATENATE($C$5,$AI10)),SUPP_5b!$R$3:$R$23,0))","v":7.5},{"$f":"INDEX(SUPP_5b!E$3:E$23,MATCH((CONCATENATE($C$5,$AI10)),SUPP_5b!$R$3:$R$23,0))","v":11.4},{"$f":"INDEX(SUPP_5b!F$3:F$23,MATCH((CONCATENATE($C$5,$AI10)),SUPP_5b!$R$3:$R$23,0))","v":15},{"$f":"INDEX(SUPP_5b!G$3:G$23,MATCH((CONCATENATE($C$5,$AI10)),SUPP_5b!$R$3:$R$23,0))","v":15.3},{"$f":"INDEX(SUPP_5b!H$3:H$23,MATCH((CONCATENATE($C$5,$AI10)),SUPP_5b!$R$3:$R$23,0))","v":12},{"$f":"INDEX(SUPP_5b!I$3:I$23,MATCH((CONCATENATE($C$5,$AI10)),SUPP_5b!$R$3:$R$23,0))","v":10.7},{"$f":"INDEX(SUPP_5b!J$3:J$23,MATCH((CONCATENATE($C$5,$AI10)),SUPP_5b!$R$3:$R$23,0))","v":7.8},{"$f":"INDEX(SUPP_5b!K$3:K$23,MATCH((CONCATENATE($C$5,$AI10)),SUPP_5b!$R$3:$R$23,0))","v":4.4000000000000004},{"$f":"INDEX(SUPP_5b!L$3:L$23,MATCH((CONCATENATE($C$5,$AI10)),SUPP_5b!$R$3:$R$23,0))","v":5.8},{"$f":"INDEX(SUPP_5b!M$3:M$23,MATCH((CONCATENATE($C$5,$AI10)),SUPP_5b!$R$3:$R$23,0))","v":94.2},{"$f":"INDEX(SUPP_5b!N$3:N$23,MATCH((CONCATENATE($C$5,$AI10)),SUPP_5b!$R$3:$R$23,0))","v":822},null,null,null,null,null,null,null,null,null,null,null,null,null,null,null,null,null,null,null,null,"Applied Business"]
["Applied ICT4",null,{"$f":"INDEX(SUPP_5b!C$3:C$23,MATCH((CONCATENATE($C$5,$AI11)),SUPP_5b!$R$3:$R$23,0))","v":6.9},{"$f":"INDEX(SUPP_5b!D$3:D$23,MATCH((CONCATENATE($C$5,$AI11)),SUPP_5b!$R$3:$R$23,0))","v":8.3000000000000007},{"$f":"INDEX(SUPP_5b!E$3:E$23,MATCH((CONCATENATE($C$5,$AI11)),SUPP_5b!$R$3:$R$23,0))","v":9.6999999999999993},{"$f":"INDEX(SUPP_5b!F$3:F$23,MATCH((CONCATENATE($C$5,$AI11)),SUPP_5b!$R$3:$R$23,0))","v":12.5},{"$f":"INDEX(SUPP_5b!G$3:G$23,MATCH((CONCATENATE($C$5,$AI11)),SUPP_5b!$R$3:$R$23,0))","v":8.3000000000000007},{"$f":"INDEX(SUPP_5b!H$3:H$23,MATCH((CONCATENATE($C$5,$AI11)),SUPP_5b!$R$3:$R$23,0))","v":9.6999999999999993},{"$f":"INDEX(SUPP_5b!I$3:I$23,MATCH((CONCATENATE($C$5,$AI11)),SUPP_5b!$R$3:$R$23,0))","v":16.7},{"$f":"INDEX(SUPP_5b!J$3:J$23,MATCH((CONCATENATE($C$5,$AI11)),SUPP_5b!$R$3:$R$23,0))","v":9.6999999999999993},{"$f":"INDEX(SUPP_5b!K$3:K$23,MATCH((CONCATENATE($C$5,$AI11)),SUPP_5b!$R$3:$R$23,0))","v":5.6},{"$f":"INDEX(SUPP_5b!L$3:L$23,MATCH((CONCATENATE($C$5,$AI11)),SUPP_5b!$R$3:$R$23,0))","v":12.5},{"$f":"INDEX(SUPP_5b!M$3:M$23,MATCH((CONCATENATE($C$5,$AI11)),SUPP_5b!$R$3:$R$23,0))","v":87.5},{"$f":"INDEX(SUPP_5b!N$3:N$23,MATCH((CONCATENATE($C$5,$AI11)),SUPP_5b!$R$3:$R$23,0))","v":72},null,null,null,null,null,null,null,null,null,null,null,null,null,null,null,null,null,null,null,null,"Applied ICT"]
["Applied Science",null,{"$f":"INDEX(SUPP_5b!C$3:C$23,MATCH((CONCATENATE($C$5,$AI12)),SUPP_5b!$R$3:$R$23,0))","v":0},{"$f":"INDEX(SUPP_5b!D$3:D$23,MATCH((CONCATENATE($C$5,$AI12)),SUPP_5b!$R$3:$R$23,0))","v":3.7},{"$f":"INDEX(SUPP_5b!E$3:E$23,MATCH((CONCATENATE($C$5,$AI12)),SUPP_5b!$R$3:$R$23,0))","v":7.4},{"$f":"INDEX(SUPP_5b!F$3:F$23,MATCH((CONCATENATE($C$5,$AI12)),SUPP_5b!$R$3:$R$23,0))","v":9.3000000000000007},{"$f":"INDEX(SUPP_5b!G$3:G$23,MATCH((CONCATENATE($C$5,$AI12)),SUPP_5b!$R$3:$R$23,0))","v":14.8},{"$f":"INDEX(SUPP_5b!H$3:H$23,MATCH((CONCATENATE($C$5,$AI12)),SUPP_5b!$R$3:$R$23,0))","v":16},{"$f":"INDEX(SUPP_5b!I$3:I$23,MATCH((CONCATENATE($C$5,$AI12)),SUPP_5b!$R$3:$R$23,0))","v":14.8},{"$f":"INDEX(SUPP_5b!J$3:J$23,MATCH((CONCATENATE($C$5,$AI12)),SUPP_5b!$R$3:$R$23,0))","v":11.1},{"$f":"INDEX(SUPP_5b!K$3:K$23,MATCH((CONCATENATE($C$5,$AI12)),SUPP_5b!$R$3:$R$23,0))","v":8},{"$f":"INDEX(SUPP_5b!L$3:L$23,MATCH((CONCATENATE($C$5,$AI12)),SUPP_5b!$R$3:$R$23,0))","v":14.8},{"$f":"INDEX(SUPP_5b!M$3:M$23,MATCH((CONCATENATE($C$5,$AI12)),SUPP_5b!$R$3:$R$23,0))","v":85.2},{"$f":"INDEX(SUPP_5b!N$3:N$23,MATCH((CONCATENATE($C$5,$AI12)),SUPP_5b!$R$3:$R$23,0))","v":162},null,null,null,null,null,null,null,null,null,null,null,null,null,null,null,null,null,null,null,null,"Applied Science"]
["Health & Social Care",null,{"$f":"INDEX(SUPP_5b!C$3:C$23,MATCH((CONCATENATE($C$5,$AI13)),SUPP_5b!$R$3:$R$23,0))","v":4.0999999999999996},{"$f":"INDEX(SUPP_5b!D$3:D$23,MATCH((CONCATENATE($C$5,$AI13)),SUPP_5b!$R$3:$R$23,0))","v":6.5},{"$f":"INDEX(SUPP_5b!E$3:E$23,MATCH((CONCATENATE($C$5,$AI13)),SUPP_5b!$R$3:$R$23,0))","v":9.9},{"$f":"INDEX(SUPP_5b!F$3:F$23,MATCH((CONCATENATE($C$5,$AI13)),SUPP_5b!$R$3:$R$23,0))","v":12.3},{"$f":"INDEX(SUPP_5b!G$3:G$23,MATCH((CONCATENATE($C$5,$AI13)),SUPP_5b!$R$3:$R$23,0))","v":15.1},{"$f":"INDEX(SUPP_5b!H$3:H$23,MATCH((CONCATENATE($C$5,$AI13)),SUPP_5b!$R$3:$R$23,0))","v":15.4},{"$f":"INDEX(SUPP_5b!I$3:I$23,MATCH((CONCATENATE($C$5,$AI13)),SUPP_5b!$R$3:$R$23,0))","v":13.9},{"$f":"INDEX(SUPP_5b!J$3:J$23,MATCH((CONCATENATE($C$5,$AI13)),SUPP_5b!$R$3:$R$23,0))","v":10.9},{"$f":"INDEX(SUPP_5b!K$3:K$23,MATCH((CONCATENATE($C$5,$AI13)),SUPP_5b!$R$3:$R$23,0))","v":5.9},{"$f":"INDEX(SUPP_5b!L$3:L$23,MATCH((CONCATENATE($C$5,$AI13)),SUPP_5b!$R$3:$R$23,0))","v":6},{"$f":"INDEX(SUPP_5b!M$3:M$23,MATCH((CONCATENATE($C$5,$AI13)),SUPP_5b!$R$3:$R$23,0))","v":94},{"$f":"INDEX(SUPP_5b!N$3:N$23,MATCH((CONCATENATE($C$5,$AI13)),SUPP_5b!$R$3:$R$23,0))","v":1670},null,null,null,null,null,null,null,null,null,null,null,null,null,null,null,null,null,null,null,null,"Health & Social Care"]
["Travel & Tourism",null,{"$f":"INDEX(SUPP_5b!C$3:C$23,MATCH((CONCATENATE($C$5,$AI14)),SUPP_5b!$R$3:$R$23,0))","v":10.9},{"$f":"INDEX(SUPP_5b!D$3:D$23,MATCH((CONCATENATE($C$5,$AI14)),SUPP_5b!$R$3:$R$23,0))","v":9.1},{"$f":"INDEX(SUPP_5b!E$3:E$23,MATCH((CONCATENATE($C$5,$AI14)),SUPP_5b!$R$3:$R$23,0))","v":23.6},{"$f":"INDEX(SUPP_5b!F$3:F$23,MATCH((CONCATENATE($C$5,$AI14)),SUPP_5b!$R$3:$R$23,0))","v":16.399999999999999},{"$f":"INDEX(SUPP_5b!G$3:G$23,MATCH((CONCATENATE($C$5,$AI14)),SUPP_5b!$R$3:$R$23,0))","v":16.399999999999999},{"$f":"INDEX(SUPP_5b!H$3:H$23,MATCH((CONCATENATE($C$5,$AI14)),SUPP_5b!$R$3:$R$23,0))","v":14.5},{"$f":"INDEX(SUPP_5b!I$3:I$23,MATCH((CONCATENATE($C$5,$AI14)),SUPP_5b!$R$3:$R$23,0))","v":"x"},{"$f":"INDEX(SUPP_5b!J$3:J$23,MATCH((CONCATENATE($C$5,$AI14)),SUPP_5b!$R$3:$R$23,0))","v":"x"},{"$f":"INDEX(SUPP_5b!K$3:K$23,MATCH((CONCATENATE($C$5,$AI14)),SUPP_5b!$R$3:$R$23,0))","v":"x"},{"$f":"INDEX(SUPP_5b!L$3:L$23,MATCH((CONCATENATE($C$5,$AI14)),SUPP_5b!$R$3:$R$23,0))","v":0},{"$f":"INDEX(SUPP_5b!M$3:M$23,MATCH((CONCATENATE($C$5,$AI14)),SUPP_5b!$R$3:$R$23,0))","v":100},{"$f":"INDEX(SUPP_5b!N$3:N$23,MATCH((CONCATENATE($C$5,$AI14)),SUPP_5b!$R$3:$R$23,0))","v":55},null,null,null,null,null,null,null,null,null,null,null,null,null,null,null,null,null,null,null,null,"Travel & Tourism"]
[]
["All subjects",null,{"$f":"INDEX(SUPP_5b!C$3:C$23,MATCH((CONCATENATE($C$5,$AI16)),SUPP_5b!$R$3:$R$23,0))","v":6.1},{"$f":"INDEX(SUPP_5b!D$3:D$23,MATCH((CONCATENATE($C$5,$AI16)),SUPP_5b!$R$3:$R$23,0))","v":7},{"$f":"INDEX(SUPP_5b!E$3:E$23,MATCH((CONCATENATE($C$5,$AI16)),SUPP_5b!$R$3:$R$23,0))","v":10.6},{"$f":"INDEX(SUPP_5b!F$3:F$23,MATCH((CONCATENATE($C$5,$AI16)),SUPP_5b!$R$3:$R$23,0))","v":13.3},{"$f":"INDEX(SUPP_5b!G$3:G$23,MATCH((CONCATENATE($C$5,$AI16)),SUPP_5b!$R$3:$R$23,0))","v":14.8},{"$f":"INDEX(SUPP_5b!H$3:H$23,MATCH((CONCATENATE($C$5,$AI16)),SUPP_5b!$R$3:$R$23,0))","v":14.1},{"$f":"INDEX(SUPP_5b!I$3:I$23,MATCH((CONCATENATE($C$5,$AI16)),SUPP_5b!$R$3:$R$23,0))","v":12.6},{"$f":"INDEX(SUPP_5b!J$3:J$23,MATCH((CONCATENATE($C$5,$AI16)),SUPP_5b!$R$3:$R$23,0))","v":9.6},{"$f":"INDEX(SUPP_5b!K$3:K$23,MATCH((CONCATENATE($C$5,$AI16)),SUPP_5b!$R$3:$R$23,0))","v":5.4},{"$f":"INDEX(SUPP_5b!L$3:L$23,MATCH((CONCATENATE($C$5,$AI16)),SUPP_5b!$R$3:$R$23,0))","v":6.4},{"$f":"INDEX(SUPP_5b!M$3:M$23,MATCH((CONCATENATE($C$5,$AI16)),SUPP_5b!$R$3:$R$23,0))","v":93.6},{"$f":"INDEX(SUPP_5b!N$3:N$23,MATCH((CONCATENATE($C$5,$AI16)),SUPP_5b!$R$3:$R$23,0))","v":2863},null,null,null,null,null,null,null,null,null,null,null,null,null,null,null,null,null,null,null,null,"NULL"]
[]
[null,null,null,null,null,null,null,null,null,null,null,null,null,"Source: 2015/16 16-18 attainment data (provisional)"]
["1. Covers applied double award AS level examination results for the 2015/16 academic year."]
["2. Covers students aged 16, 17 or 18 at the start of the 2015/16 academic year, ie 31 August 2015."]
["3. Includes ungraded, no award (absent/declined) and pending."]
["4. Information, Communication and Technology."]
[]
["Notes:"]
["x indicates figure has been suppressed where underlying numbers are small (ie, 1 or 2) or where secondary suppression has been applied."]
["Percentages are rounded to one decimal place and therefore may not sum to totals."]
["Where qualifications taken by a student are in the same subject area and similar in content ‘discounting’ rules have been applied to avoid double counting qualifications."]
["Refer to 'Quality and Methodology Information' document."]

{"sheet":"Table 6","index":30,"n_rows":67,"n_cols":4,"rows_kept":67,"cut":false,"hidden":false,"merged":[[4,1,4,3],[64,0,65,3]]}
["Table 6: Applied general entries 1,2  by subject and gender"]
["Year: 2015/16 (provisional)"]
["Coverage: England"]
[]
[null,"Number of entries"]
["Subject","Females","Males","All"]
[]
["Agriculture, Horticulture and Animal Care"]
["Environmental Sustainability","x","x",144]
[]
["Arts, Media and Publishing"]
["Art and design",6384,2685,9069]
["Interactive media",0,0,0]
["Music",2714,3826,6540]
["Performing arts",9834,3580,13414]
[]
["Business, administration and law"]
["Business",16087,22815,38902]
["Enterprise and entrepreneurship",236,408,644]
["Finance",2676,4778,7454]
["Legal services",2066,1383,3449]
[]
["Child development and well-being"]
["Children's play and learning",253,9,262]
[]
["Construction, planning and the built environment"]
["Construction and the built environment","x","x",32]
[]
["Engineering and manufacturing technologies"]
["Engineering",65,759,824]
[]
["Health, public services and care"]
["Health and social care",28911,1664,30575]
[]
["Information and communication technology"]
["IT3",5839,20433,26272]
[]
["Leisure, travel and tourism"]
["Sport and exercise",8955,30602,39557]
["Travel and tourism",730,447,1177]
[]
["Preparation for life and work"]
["Enterprise, employability and personal finance",51,79,130]
["Personal effectiveness",463,254,717]
[]
["Retail and commercial enterprise"]
["Food science and nutrition",43,29,72]
["Retail knowledge",0,"x","x"]
[]
["General science"]
["Applied science",12488,10263,22751]
[]
["Social sciences"]
["Criminology",281,97,378]
[]
["All subjects",98125,104240,202365]
[]
[null,null,null,"Source: 2015/16 16-18 attainment data (provisional)"]
[]
["1. Covers applied general qualification entries for the 2015/16 academic year."]
["2. Covers students aged 16, 17 or 18 at the start of the 2015/16 academic year, ie 31 August 2015."]
["3. Information Technology"]
[]
["Notes:"]
["Where qualifications taken by a student are in the same subject area and similar in content ‘discounting’ rules have been applied to avoid double counting qualifications. Refer to 'Quality and Methodology Information' document."]
[]
["Qualification grades are not provided as the applied general qualifications shown in this table have different sizes and grade structures."]

{"sheet":"Table 7","index":31,"n_rows":110,"n_cols":4,"rows_kept":110,"cut":false,"hidden":false,"merged":[[4,1,4,3],[107,0,108,3]]}
["Table 7: Tech level entries1,2  by subject and gender"]
["Year: 2015/16 (provisional)"]
["Coverage: England"]
[]
[null,"Number of entries"]
["Subject","Females","Males","All"]
[]
["Agriculture, Horticulture and Animal Care"]
["Agriculture",331,801,1132]
["Animal management",5304,990,6294]
["Countryside management",105,426,531]
["Fish management","x","x",82]
["Floristry","x","x",66]
["Forestry and arboriculture",5,233,238]
["Horse management",1289,55,1344]
["Horticulture",29,181,210]
["Land-based technology",5,235,240]
["Veterinary nursing",7,0,7]
[]
["Arts, Media and Publishing"]
["Art and design",7964,3797,11761]
["Creative media",4710,9084,13794]
["Media",345,734,1079]
["Music practitioners",199,573,772]
["Photography",0,0,0]
["Production arts",808,415,1223]
["Sound and composition techniques",0,0,0]
["Sound engineering",220,1055,1275]
[]
["Business, administration and law"]
["Accounting",425,648,1073]
["Administration",109,28,137]
["Legal services",2055,1348,3403]
["Medical services",3,0,3]
[]
["Child development and well-being"]
["Early years educator",1485,34,1519]
["Playwork",0,"x","x"]
[]
["Construction, planning and the built environment"]
["Bench joinery",3,151,154]
["Bricklaying",3,274,277]
["Building services engineering for technicians","x","x",3]
["Construction and the built environment",149,1707,1856]
["Electrical installation",12,971,983]
["Gas utilisation",0,16,16]
["Heating and ventilating",0,0,0]
["Painting and decorating",5,17,22]
["Plant maintenance",0,0,0]
["Plastering",0,22,22]
["Plumbing",4,513,517]
["Refrigeration, air conditioning and heat pump systems",0,0,0]
["Site carpentry",5,608,613]
["Stonemasonry",0,7,7]
["Tiling",0,"x","x"]
[]
["Engineering and manufacturing technologies"]
["Aeronautical engineering",20,261,281]
["Aircraft maintenance",0,0,0]
["Auto electrical and mobile electrical principles",0,14,14]
["Aviation operations",259,121,380]
["Blacksmithing and metalwork","x","x",20]
["Bus and coach engineering and maintenance",0,6,6]
["Electrical engineering",32,827,859]
["Engineering",616,9543,10159]
["Fabrication and welding","x","x",19]
["Heavy vehicle maintenance and repair",0,18,18]
["Light vehicle maintenance and repair",35,978,1013]
["Manufacturing engineering",21,403,424]
["Mechanical engineering",25,425,450]
["Motorcycle maintenance and repair","x","x",20]
["Motorsport vehicle maintenance and repair",3,62,65]
["Operations and maintenance engineering","x","x",167]
["Vehicle accident repair principles",4,66,70]
["Vehicle technology",16,324,340]
[]
["Health, public services and care"]
["Complementary therapies","x","x",89]
["Health and social care",5,0,5]
["Healthcare support",9,0,9]
["Pharmaceutical science","x",0,"x"]
[]
["Information and communication technology"]
["IT3",1000,9141,10141]
["ICT4 systems","x","x",48]
[]
["Leisure, travel and tourism "]
["Sport and active leisure",74,183,257]
["Travel and tourism",6165,1582,7747]
[]
["Retail and commercial enterprise"]
["Beauty",1784,9,1793]
["Cookery",19,21,40]
["Food and beverage service supervision",72,49,121]
["Hairdressing",935,38,973]
["Hospitality and catering",143,60,203]
[]
["All subjects",36978,49410,86388]
[]
[null,null,null,"Source: 2015/16 16-18 attainment data (provisional)"]
[]
["1. Covers tech level qualification entries for the 2015/16 academic year."]
["2. Covers students aged 16, 17 or 18 at the start of the 2015/16 academic year, ie 31 August 2015."]
["3. Information Technology"]
["4. Information Communication Technology"]
[]
["Notes:"]
["Where qualifications taken by a student are in the same subject area and similar in content ‘discounting’ rules have been applied to avoid double counting qualifications. Refer to 'Quality and Methodology Information' document."]
[]
["Qualification grades are not provided as the tech level qualifications shown in this table have different sizes and grade structures."]

{"sheet":"Table 8a","index":32,"n_rows":41,"n_cols":6,"rows_kept":41,"cut":false,"hidden":false,"merged":[[0,0,1,10],[5,3,5,5],[34,0,34,10]]}
["Table 8a: GCSE English and other below level 3 English qualification1 entries and results2,3 by qualification type, grade and gender"]
[]
["Year: 2015/16 (provisional)"]
["Coverage: England"]
[]
[null,"     Select gender: ",null,"All"]
["Level of Learning Post 16",null,null,"Number of entries4","Number of Passes","Percentage achieving a pass"]
[]
["GCSE",null,null,{"$f":"IF($D$6=\"All\",'Table 10a all'!D6,IF('Table 8a'!$D$6=\"Females\",'Table 10a female'!D6,IF('Table 8a'!$D$6=\"Males\",'Table 10a male'!D6,0)))","v":115143},{"$f":"IF($D$6=\"All\",'Table 10a all'!E6,IF('Table 8a'!$D$6=\"Females\",'Table 10a female'!E6,IF('Table 8a'!$D$6=\"Males\",'Table 10a male'!E6,0)))","v":104793},{"$f":"IF($D$6=\"All\",'Table 10a all'!F6,IF('Table 8a'!$D$6=\"Females\",'Table 10a female'!F6,IF('Table 8a'!$D$6=\"Males\",'Table 10a male'!F6,0)))","v":91.011177405487089}]
["Of which:","Grade A*-C",null,null,{"$f":"IF($D$6=\"All\",'Table 10a all'!E7,IF('Table 8a'!$D$6=\"Females\",'Table 10a female'!E7,IF('Table 8a'!$D$6=\"Males\",'Table 10a male'!E7,0)))","v":26021},{"$f":"IF($D$6=\"All\",'Table 10a all'!F7,IF('Table 8a'!$D$6=\"Females\",'Table 10a female'!F7,IF('Table 8a'!$D$6=\"Males\",'Table 10a male'!F7,0)))","v":22.598855336407773}]
[null,"Grade D-G",null,null,{"$f":"IF($D$6=\"All\",'Table 10a all'!E8,IF('Table 8a'!$D$6=\"Females\",'Table 10a female'!E8,IF('Table 8a'!$D$6=\"Males\",'Table 10a male'!E8,0)))","v":78772},{"$f":"IF($D$6=\"All\",'Table 10a all'!F8,IF('Table 8a'!$D$6=\"Females\",'Table 10a female'!F8,IF('Table 8a'!$D$6=\"Males\",'Table 10a male'!F8,0)))","v":68.412322069079323}]
[]
["Level 1/ level 2 Certificates5",null,null,{"$f":"IF($D$6=\"All\",'Table 10a all'!D10,IF('Table 8a'!$D$6=\"Females\",'Table 10a female'!D10,IF('Table 8a'!$D$6=\"Males\",'Table 10a male'!D10,0)))","v":41985},{"$f":"IF($D$6=\"All\",'Table 10a all'!E10,IF('Table 8a'!$D$6=\"Females\",'Table 10a female'!E10,IF('Table 8a'!$D$6=\"Males\",'Table 10a male'!E10,0)))","v":38127},{"$f":"IF($D$6=\"All\",'Table 10a all'!F10,IF('Table 8a'!$D$6=\"Females\",'Table 10a female'!F10,IF('Table 8a'!$D$6=\"Males\",'Table 10a male'!F10,0)))","v":90.811003929974987}]
["Of which:","Grade A*-C",null,null,{"$f":"IF($D$6=\"All\",'Table 10a all'!E11,IF('Table 8a'!$D$6=\"Females\",'Table 10a female'!E11,IF('Table 8a'!$D$6=\"Males\",'Table 10a male'!E11,0)))","v":17983},{"$f":"IF($D$6=\"All\",'Table 10a all'!F11,IF('Table 8a'!$D$6=\"Females\",'Table 10a female'!F11,IF('Table 8a'!$D$6=\"Males\",'Table 10a male'!F11,0)))","v":42.831963796594017}]
[null,"Grade D-G",null,null,{"$f":"IF($D$6=\"All\",'Table 10a all'!E12,IF('Table 8a'!$D$6=\"Females\",'Table 10a female'!E12,IF('Table 8a'!$D$6=\"Males\",'Table 10a male'!E12,0)))","v":20144},{"$f":"IF($D$6=\"All\",'Table 10a all'!F12,IF('Table 8a'!$D$6=\"Females\",'Table 10a female'!F12,IF('Table 8a'!$D$6=\"Males\",'Table 10a male'!F12,0)))","v":47.97904013338097}]
[]
["Other Level 2 Qualifications",null,null,{"$f":"IF($D$6=\"All\",'Table 10a all'!D14,IF('Table 8a'!$D$6=\"Females\",'Table 10a female'!D14,IF('Table 8a'!$D$6=\"Males\",'Table 10a male'!D14,0)))","v":22355},{"$f":"IF($D$6=\"All\",'Table 10a all'!E14,IF('Table 8a'!$D$6=\"Females\",'Table 10a female'!E14,IF('Table 8a'!$D$6=\"Males\",'Table 10a male'!E14,0)))","v":17739},{"$f":"IF($D$6=\"All\",'Table 10a all'!F14,IF('Table 8a'!$D$6=\"Females\",'Table 10a female'!F14,IF('Table 8a'!$D$6=\"Males\",'Table 10a male'!F14,0)))","v":79.351375531201072}]
["Of which:","Functional Skills",null,{"$f":"IF($D$6=\"All\",'Table 10a all'!D15,IF('Table 8a'!$D$6=\"Females\",'Table 10a female'!D15,IF('Table 8a'!$D$6=\"Males\",'Table 10a male'!D15,0)))","v":14394},{"$f":"IF($D$6=\"All\",'Table 10a all'!E15,IF('Table 8a'!$D$6=\"Females\",'Table 10a female'!E15,IF('Table 8a'!$D$6=\"Males\",'Table 10a male'!E15,0)))","v":11436},{"$f":"IF($D$6=\"All\",'Table 10a all'!F15,IF('Table 8a'!$D$6=\"Females\",'Table 10a female'!F15,IF('Table 8a'!$D$6=\"Males\",'Table 10a male'!F15,0)))","v":79.449770737807427}]
[]
["Other Level 1 Qualifications",null,null,{"$f":"IF($D$6=\"All\",'Table 10a all'!D17,IF('Table 8a'!$D$6=\"Females\",'Table 10a female'!D17,IF('Table 8a'!$D$6=\"Males\",'Table 10a male'!D17,0)))","v":35067},{"$f":"IF($D$6=\"All\",'Table 10a all'!E17,IF('Table 8a'!$D$6=\"Females\",'Table 10a female'!E17,IF('Table 8a'!$D$6=\"Males\",'Table 10a male'!E17,0)))","v":32251},{"$f":"IF($D$6=\"All\",'Table 10a all'!F17,IF('Table 8a'!$D$6=\"Females\",'Table 10a female'!F17,IF('Table 8a'!$D$6=\"Males\",'Table 10a male'!F17,0)))","v":91.969658083098068}]
["Of which:","Functional Skills",null,{"$f":"IF($D$6=\"All\",'Table 10a all'!D18,IF('Table 8a'!$D$6=\"Females\",'Table 10a female'!D18,IF('Table 8a'!$D$6=\"Males\",'Table 10a male'!D18,0)))","v":24568},{"$f":"IF($D$6=\"All\",'Table 10a all'!E18,IF('Table 8a'!$D$6=\"Females\",'Table 10a female'!E18,IF('Table 8a'!$D$6=\"Males\",'Table 10a male'!E18,0)))","v":21756},{"$f":"IF($D$6=\"All\",'Table 10a all'!F18,IF('Table 8a'!$D$6=\"Females\",'Table 10a female'!F18,IF('Table 8a'!$D$6=\"Males\",'Table 10a male'!F18,0)))","v":88.554216867469876}]
[]
["Entry Level Qualifications",null,null,{"$f":"IF($D$6=\"All\",'Table 10a all'!D20,IF('Table 8a'!$D$6=\"Females\",'Table 10a female'!D20,IF('Table 8a'!$D$6=\"Males\",'Table 10a male'!D20,0)))","v":26488},{"$f":"IF($D$6=\"All\",'Table 10a all'!E20,IF('Table 8a'!$D$6=\"Females\",'Table 10a female'!E20,IF('Table 8a'!$D$6=\"Males\",'Table 10a male'!E20,0)))","v":26174},{"$f":"IF($D$6=\"All\",'Table 10a all'!F20,IF('Table 8a'!$D$6=\"Females\",'Table 10a female'!F20,IF('Table 8a'!$D$6=\"Males\",'Table 10a male'!F20,0)))","v":98.814557535487765}]
["Of which:","Functional Skills",null,{"$f":"IF($D$6=\"All\",'Table 10a all'!D21,IF('Table 8a'!$D$6=\"Females\",'Table 10a female'!D21,IF('Table 8a'!$D$6=\"Males\",'Table 10a male'!D21,0)))","v":23717},{"$f":"IF($D$6=\"All\",'Table 10a all'!E21,IF('Table 8a'!$D$6=\"Females\",'Table 10a female'!E21,IF('Table 8a'!$D$6=\"Males\",'Table 10a male'!E21,0)))","v":23440},{"$f":"IF($D$6=\"All\",'Table 10a all'!F21,IF('Table 8a'!$D$6=\"Females\",'Table 10a female'!F21,IF('Table 8a'!$D$6=\"Males\",'Table 10a male'!F21,0)))","v":98.832061390563723}]
[" ","Of which Entry 1",null,null,{"$f":"IF($D$6=\"All\",'Table 10a all'!E22,IF('Table 8a'!$D$6=\"Females\",'Table 10a female'!E22,IF('Table 8a'!$D$6=\"Males\",'Table 10a male'!E22,0)))","v":1716},{"$f":"IF($D$6=\"All\",'Table 10a all'!F22,IF('Table 8a'!$D$6=\"Females\",'Table 10a female'!F22,IF('Table 8a'!$D$6=\"Males\",'Table 10a male'!F22,0)))","v":7.235316439684615}]
[null,"             Entry 2",null,null,{"$f":"IF($D$6=\"All\",'Table 10a all'!E23,IF('Table 8a'!$D$6=\"Females\",'Table 10a female'!E23,IF('Table 8a'!$D$6=\"Males\",'Table 10a male'!E23,0)))","v":5018},{"$f":"IF($D$6=\"All\",'Table 10a all'!F23,IF('Table 8a'!$D$6=\"Females\",'Table 10a female'!F23,IF('Table 8a'!$D$6=\"Males\",'Table 10a male'!F23,0)))","v":21.157819285744402}]
[null,"             Entry 3",null,null,{"$f":"IF($D$6=\"All\",'Table 10a all'!E24,IF('Table 8a'!$D$6=\"Females\",'Table 10a female'!E24,IF('Table 8a'!$D$6=\"Males\",'Table 10a male'!E24,0)))","v":16706},{"$f":"IF($D$6=\"All\",'Table 10a all'!F24,IF('Table 8a'!$D$6=\"Females\",'Table 10a female'!F24,IF('Table 8a'!$D$6=\"Males\",'Table 10a male'!F24,0)))","v":70.438925665134704}]
[]
[null,null,null,null,null,"Source: 2015/16 16-18 attainment data (provisional)"]
[]
["1. See methodology note for further information on what qualifications are included."]
["2. Covers GCSE English and other below level 3 English qualification examination entries and results for the 2015/16 academic year."]
["3. Covers students aged 16, 17 or 18 at the start of the 2015/16 academic year, ie 31 August 2015, regardless of their achievement in English at key stage 4."]
["4. Includes ungraded, no award (absent/declined) and pending."]
["5. Includes level 1/level 2 certificates, also known as regulated international GCSEs, issued by Cambridge International and Pearson."]
[]
[]
["Notes:"]
["Percentages are rounded to one decimal place and therefore may not sum to totals."]
["Where qualifications taken by a student are in the same subject area and similar in content ‘discounting’ rules have been applied to avoid double counting qualifications."]
["Refer to 'Quality and Methodology Information' document."]

{"sheet":"Table 8b","index":33,"n_rows":40,"n_cols":6,"rows_kept":40,"cut":false,"hidden":false,"merged":[[0,0,1,9],[5,3,5,5],[34,0,34,9]]}
["Table 8b: GCSE mathematics and other below level 3 mathematics qualification1 entries and results2,3 by qualification type, grade and gender"]
[]
["Year: 2015/16 (provisional)"]
["Coverage: England"]
[]
[null,"     Select gender: ",null,"All"]
["Level of Learning Post 16",null,null,"Number of entries4","Number of Passes","Percentage achieving a pass"]
[]
["GCSE",null,null,{"$f":"IF($D$6=\"All\",'Table 10b all'!D6,IF($D$6=\"Females\",'Table 10b female'!D6,IF($D$6=\"Males\",'Table 10b male'!D6,0)))","v":171177},{"$f":"IF($D$6=\"All\",'Table 10b all'!E6,IF($D$6=\"Females\",'Table 10b female'!E6,IF($D$6=\"Males\",'Table 10b male'!E6,0)))","v":152068},{"$f":"IF($D$6=\"All\",'Table 10b all'!F6,IF($D$6=\"Females\",'Table 10b female'!F6,IF($D$6=\"Males\",'Table 10b male'!F6,0)))","v":88.836701192333081}]
["Of which:","Grade A*-C",null,null,{"$f":"IF($D$6=\"All\",'Table 10b all'!E7,IF($D$6=\"Females\",'Table 10b female'!E7,IF($D$6=\"Males\",'Table 10b male'!E7,0)))","v":38171},{"$f":"IF($D$6=\"All\",'Table 10b all'!F7,IF($D$6=\"Females\",'Table 10b female'!F7,IF($D$6=\"Males\",'Table 10b male'!F7,0)))","v":22.299140655578729}]
[null,"Grade D-G",null,null,{"$f":"IF($D$6=\"All\",'Table 10b all'!E8,IF($D$6=\"Females\",'Table 10b female'!E8,IF($D$6=\"Males\",'Table 10b male'!E8,0)))","v":113897},{"$f":"IF($D$6=\"All\",'Table 10b all'!F8,IF($D$6=\"Females\",'Table 10b female'!F8,IF($D$6=\"Males\",'Table 10b male'!F8,0)))","v":66.537560536754356}]
[]
["Level 1/ level 2 Certificates5",null,null,{"$f":"IF($D$6=\"All\",'Table 10b all'!D10,IF($D$6=\"Females\",'Table 10b female'!D10,IF($D$6=\"Males\",'Table 10b male'!D10,0)))","v":3606},{"$f":"IF($D$6=\"All\",'Table 10b all'!E10,IF($D$6=\"Females\",'Table 10b female'!E10,IF($D$6=\"Males\",'Table 10b male'!E10,0)))","v":3226},{"$f":"IF($D$6=\"All\",'Table 10b all'!F10,IF($D$6=\"Females\",'Table 10b female'!F10,IF($D$6=\"Males\",'Table 10b male'!F10,0)))","v":89.462007764836386}]
["Of which:","Grade A*-C",null,null,{"$f":"IF($D$6=\"All\",'Table 10b all'!E11,IF($D$6=\"Females\",'Table 10b female'!E11,IF($D$6=\"Males\",'Table 10b male'!E11,0)))","v":514},{"$f":"IF($D$6=\"All\",'Table 10b all'!F11,IF($D$6=\"Females\",'Table 10b female'!F11,IF($D$6=\"Males\",'Table 10b male'!F11,0)))","v":14.254021075984472}]
[null,"Grade D-G",null,null,{"$f":"IF($D$6=\"All\",'Table 10b all'!E12,IF($D$6=\"Females\",'Table 10b female'!E12,IF($D$6=\"Males\",'Table 10b male'!E12,0)))","v":2712},{"$f":"IF($D$6=\"All\",'Table 10b all'!F12,IF($D$6=\"Females\",'Table 10b female'!F12,IF($D$6=\"Males\",'Table 10b male'!F12,0)))","v":75.207986688851918}]
[]
["Other Level 2 Qualifications",null,null,{"$f":"IF($D$6=\"All\",'Table 10b all'!D14,IF($D$6=\"Females\",'Table 10b female'!D14,IF($D$6=\"Males\",'Table 10b male'!D14,0)))","v":23465},{"$f":"IF($D$6=\"All\",'Table 10b all'!E14,IF($D$6=\"Females\",'Table 10b female'!E14,IF($D$6=\"Males\",'Table 10b male'!E14,0)))","v":11089},{"$f":"IF($D$6=\"All\",'Table 10b all'!F14,IF($D$6=\"Females\",'Table 10b female'!F14,IF($D$6=\"Males\",'Table 10b male'!F14,0)))","v":47.257617728531855}]
["Of which:","Functional Skills",null,{"$f":"IF($D$6=\"All\",'Table 10b all'!D15,IF($D$6=\"Females\",'Table 10b female'!D15,IF($D$6=\"Males\",'Table 10b male'!D15,0)))","v":18900},{"$f":"IF($D$6=\"All\",'Table 10b all'!E15,IF($D$6=\"Females\",'Table 10b female'!E15,IF($D$6=\"Males\",'Table 10b male'!E15,0)))","v":7618},{"$f":"IF($D$6=\"All\",'Table 10b all'!F15,IF($D$6=\"Females\",'Table 10b female'!F15,IF($D$6=\"Males\",'Table 10b male'!F15,0)))","v":40.306878306878311}]
[]
["Other Level 1 Qualifications",null,null,{"$f":"IF($D$6=\"All\",'Table 10b all'!D17,IF($D$6=\"Females\",'Table 10b female'!D17,IF($D$6=\"Males\",'Table 10b male'!D17,0)))","v":57217},{"$f":"IF($D$6=\"All\",'Table 10b all'!E17,IF($D$6=\"Females\",'Table 10b female'!E17,IF($D$6=\"Males\",'Table 10b male'!E17,0)))","v":36620},{"$f":"IF($D$6=\"All\",'Table 10b all'!F17,IF($D$6=\"Females\",'Table 10b female'!F17,IF($D$6=\"Males\",'Table 10b male'!F17,0)))","v":64.001957460195385}]
["Of which:","Functional Skills",null,{"$f":"IF($D$6=\"All\",'Table 10b all'!D18,IF($D$6=\"Females\",'Table 10b female'!D18,IF($D$6=\"Males\",'Table 10b male'!D18,0)))","v":47959},{"$f":"IF($D$6=\"All\",'Table 10b all'!E18,IF($D$6=\"Females\",'Table 10b female'!E18,IF($D$6=\"Males\",'Table 10b male'!E18,0)))","v":29083},{"$f":"IF($D$6=\"All\",'Table 10b all'!F18,IF($D$6=\"Females\",'Table 10b female'!F18,IF($D$6=\"Males\",'Table 10b male'!F18,0)))","v":60.641381179757715}]
[]
["Entry Level Qualifications",null,null,{"$f":"IF($D$6=\"All\",'Table 10b all'!D20,IF($D$6=\"Females\",'Table 10b female'!D20,IF($D$6=\"Males\",'Table 10b male'!D20,0)))","v":46261},{"$f":"IF($D$6=\"All\",'Table 10b all'!E20,IF($D$6=\"Females\",'Table 10b female'!E20,IF($D$6=\"Males\",'Table 10b male'!E20,0)))","v":45908},{"$f":"IF($D$6=\"All\",'Table 10b all'!F20,IF($D$6=\"Females\",'Table 10b female'!F20,IF($D$6=\"Males\",'Table 10b male'!F20,0)))","v":99.236938241715492}]
["Of which:","Functional Skills",null,{"$f":"IF($D$6=\"All\",'Table 10b all'!D21,IF($D$6=\"Females\",'Table 10b female'!D21,IF($D$6=\"Males\",'Table 10b male'!D21,0)))","v":42084},{"$f":"IF($D$6=\"All\",'Table 10b all'!E21,IF($D$6=\"Females\",'Table 10b female'!E21,IF($D$6=\"Males\",'Table 10b male'!E21,0)))","v":41790},{"$f":"IF($D$6=\"All\",'Table 10b all'!F21,IF($D$6=\"Females\",'Table 10b female'!F21,IF($D$6=\"Males\",'Table 10b male'!F21,0)))","v":99.301397205588827}]
[" ","Of which Entry 1",null,null,{"$f":"IF($D$6=\"All\",'Table 10b all'!E22,IF($D$6=\"Females\",'Table 10b female'!E22,IF($D$6=\"Males\",'Table 10b male'!E22,0)))","v":3084},{"$f":"IF($D$6=\"All\",'Table 10b all'!F22,IF($D$6=\"Females\",'Table 10b female'!F22,IF($D$6=\"Males\",'Table 10b male'!F22,0)))","v":7.3282007413743937}]
[null,"             Entry 2",null,null,{"$f":"IF($D$6=\"All\",'Table 10b all'!E23,IF($D$6=\"Females\",'Table 10b female'!E23,IF($D$6=\"Males\",'Table 10b male'!E23,0)))","v":8140},{"$f":"IF($D$6=\"All\",'Table 10b all'!F23,IF($D$6=\"Females\",'Table 10b female'!F23,IF($D$6=\"Males\",'Table 10b male'!F23,0)))","v":19.342267845261858}]
[null,"             Entry 3",null,null,{"$f":"IF($D$6=\"All\",'Table 10b all'!E24,IF($D$6=\"Females\",'Table 10b female'!E24,IF($D$6=\"Males\",'Table 10b male'!E24,0)))","v":30566},{"$f":"IF($D$6=\"All\",'Table 10b all'!F24,IF($D$6=\"Females\",'Table 10b female'!F24,IF($D$6=\"Males\",'Table 10b male'!F24,0)))","v":72.630928618952566}]
[]
[null,null,null,null,null,"Source: 2015/16 16-18 attainment data (provisional)"]
[]
["1. See methodology note for further information on what qualifications are included."]
["2. Covers GCSE mathematics and other below level 3 mathematics examination entries and results for the 2015/16 academic year."]
["3. Covers students aged 16, 17 or 18 at the start of the 2015/16 academic year, ie 31 August 2015, regardless of their achievement in mathematics at key stage 4."]
["4. Includes ungraded, no award (absent/declined) and pending."]
["5. Includes level 1/level 2 certificates, also known as regulated international GCSEs, issued by Cambridge International and Pearson."]
[]
["Notes:"]
["Percentages are rounded to one decimal place and therefore may not sum to totals."]
["Where qualifications taken by a student are in the same subject area and similar in content ‘discounting’ rules have been applied to avoid double counting qualifications."]
["Refer to 'Quality and Methodology Information' document."]

{"sheet":"Table 10a_10b working_all","index":34,"n_rows":88,"n_cols":7,"rows_kept":88,"cut":false,"hidden":true,"merged":[]}
["ENTRIES BASED:"]
["COPY DATA FOR ALL MATHS FROM 'GENDER SPLIT TABLE 10b' WORKTAB "]
[]
["MATHS"]
["qual_level","passes","entries"]
["FS entry 1 pass",3084,3084,{"$f":"SUM(C6,C7,C8,C9)","v":42084},"all FS"]
["FS entry 2 pass",8140,8140]
["FS entry 3 pass",30566,30566]
["FS entry fail",0,294]
["FS level1",29083,47959,{"$f":"C10","v":47959},"fs1"]
["FS level2",7618,18900,{"$f":"C11","v":18900},"fs2"]
["GCSE only A*-C",38171,38171,{"$f":"SUM(C12,C13,C14)","v":171177},"all gcse",{"$f":"SUM(D12,D15)","v":174783},"all gcse/igcse"]
["GCSE only D-G",113897,113897]
["GCSE only fail",0,19109]
["Level 1/Level 2 Certificate A*-C",514,514,{"$f":"SUM(C15,C16,C17)","v":3606},"all igcse"]
["Level 1/Level 2 Certificate D-G",2712,2712]
["Level 1/Level 2 Certificate fail",0,380]
["other entry level",4118,4177,{"$f":"SUM(C18,D6)","v":46261},"all entry"]
["other level 1",7537,9258,{"$f":"SUM(C19,D10)","v":57217},"all level1"]
["other level 2",3471,4404,{"$f":"SUM(C20,C11,C21)","v":23465},"all level2"]
["use of maths/other 2 fail",0,161,null,null,{"$f":"C20-B20","v":933}]
[]
["Level and type of qualification",null,null,"Number of entries","Number of passes","Pass rate"]
[]
["GCSE",null,null,{"$f":"D12","v":171177},{"$f":"SUM(B12:B13)","v":152068},{"$f":"E25/D25*100","v":88.836701192333081}]
["Of which:","Grade A*-C",null,null,{"$f":"B12","v":38171},{"$f":"E26/D25*100","v":22.299140655578729}]
[null,"Grade D-G",null,null,{"$f":"B13","v":113897},{"$f":"SUM(E27/D25*100)","v":66.537560536754356}]
[]
["Level 1/Level 2 Certificates",null,null,{"$f":"D15","v":3606},{"$f":"SUM(B15:B16)","v":3226},{"$f":"E29/D29*100","v":89.462007764836386}]
["Of which:","Grade A*-C",null,null,{"$f":"C15","v":514},{"$f":"E30/D29*100","v":14.254021075984472}]
[null,"Grade D-G",null,null,{"$f":"C16","v":2712},{"$f":"SUM(E31/D29*100)","v":75.207986688851918}]
[]
["Other level 2 qualifications",null,null,{"$f":"D20","v":23465},{"$f":"SUM(B20,B11)","v":11089},{"$f":"E33/D33*100","v":47.257617728531855}]
["Of which:","Functional Skills",null,{"$f":"C11","v":18900},{"$f":"B11","v":7618},{"$f":"E34/D34*100","v":40.306878306878311}]
[]
["Other level 1 qualifications",null,null,{"$f":"D19","v":57217},{"$f":"SUM(B19,B10)","v":36620},{"$f":"E36/D36*100","v":64.001957460195385}]
["Of which:","Functional Skills",null,{"$f":"D10","v":47959},{"$f":"B10","v":29083},{"$f":"E37/D37*100","v":60.641381179757715}]
[]
["Entry level qualifications",null,null,{"$f":"D18","v":46261},{"$f":"SUM(B18,B6:B8)","v":45908},{"$f":"E39/D39*100","v":99.236938241715492}]
["Of which:","Functional Skills",null,{"$f":"D6","v":42084},{"$f":"SUM(B6:B8)","v":41790},{"$f":"E40/D40*100","v":99.301397205588827}]
[null,"Of which:","Entry 1",null,{"$f":"B6","v":3084},{"$f":"E41/D40*100","v":7.3282007413743937}]
[null,null,"Entry 2",null,{"$f":"B7","v":8140},{"$f":"E42/D40*100","v":19.342267845261858}]
[null,null,"Entry 3",null,{"$f":"B8","v":30566},{"$f":"E43/D40*100","v":72.630928618952566}]
[]
[]
["COPY DATA FOR ALL ENGLISH FROM 'GENDER SPLIT TABLE 10a' WORKTAB "]
[]
[]
["ENGLISH"]
["qual_level","passes","entries"]
["FS entry 1 pass",1716,1716,{"$f":"SUM(C51,C52,C53,C54)","v":23717},"all FS"]
["FS entry 2 pass",5018,5018]
["FS entry 3 pass",16706,16706]
["FS entry fail",0,277]
["FS level1",21756,24568,{"$f":"C55","v":24568},"fs1"]
["FS level2",11436,14394,{"$f":"C56","v":14394},"fs2"]
["GCSE only A*-C",26021,26021,{"$f":"SUM(C57,C58,C59)","v":115143},"all gcse",{"$f":"SUM(D57,D60)","v":157128},"all gcse/igcse"]
["GCSE only D-G",78772,78772]
["GCSE only fail",0,10350]
["Level 1/Level 2 Certificate A*-C",17983,17983,{"$f":"SUM(C60,C61,C62)","v":41985},"all igcse"]
["Level 1/Level 2 Certificate D-G",20144,20144]
["Level 1/Level 2 Certificate fail",0,3858]
["other entry level",2734,2771,{"$f":"SUM(C63,D51)","v":26488},"all entry"]
["other level 1",10495,10499,{"$f":"SUM(C64,D55)","v":35067},"all level1"]
["other level 2",6303,6303,{"$f":"SUM(C65,C56,C66)","v":22355},"all level2"]
["other level 2 fail",0,1658]
[]
["Level and type of qualification",null,null,"Number of entries","Number of passes","Pass rate"]
[]
["GCSE",null,null,{"$f":"D57","v":115143},{"$f":"SUM(B57:B58)","v":104793},{"$f":"E70/D70*100","v":91.011177405487089}]
["Of which:","Grade A*-C",null,null,{"$f":"B57","v":26021},{"$f":"E71/D70*100","v":22.598855336407773}]
[null,"Grade D-G",null,null,{"$f":"B58","v":78772},{"$f":"SUM(E72/D70*100)","v":68.412322069079323}]
[]
["Level 1/Level 2 Certificate",null,null,{"$f":"D60","v":41985},{"$f":"SUM(B60:B61)","v":38127},{"$f":"E74/D74*100","v":90.811003929974987}]
["Of which:","Grade A*-C",null,null,{"$f":"C60","v":17983},{"$f":"E75/D74*100","v":42.831963796594017}]
[null,"Grade D-G",null,null,{"$f":"C61","v":20144},{"$f":"SUM(E76/D74*100)","v":47.97904013338097}]
[]
["Other level 2 qualifications",null,null,{"$f":"D65","v":22355},{"$f":"SUM(B65,B56)","v":17739},{"$f":"E78/D78*100","v":79.351375531201072}]
["Of which:","Functional Skills",null,{"$f":"C56","v":14394},{"$f":"B56","v":11436},{"$f":"E79/D79*100","v":79.449770737807427}]
[]
["Other level 1 qualifications",null,null,{"$f":"D64","v":35067},{"$f":"SUM(B64,B55)","v":32251},{"$f":"E81/D81*100","v":91.969658083098068}]
["Of which:","Functional Skills",null,{"$f":"D55","v":24568},{"$f":"B55","v":21756},{"$f":"E82/D82*100","v":88.554216867469876}]
[]
["Entry level qualifications",null,null,{"$f":"D63","v":26488},{"$f":"SUM(B63,B51:B53)","v":26174},{"$f":"E84/D84*100","v":98.814557535487765}]
["Of which:","Functional Skills",null,{"$f":"D51","v":23717},{"$f":"SUM(B51:B53)","v":23440},{"$f":"E85/D85*100","v":98.832061390563723}]
[null,"Of which:","Entry 1",null,{"$f":"B51","v":1716},{"$f":"E86/D85*100","v":7.235316439684615}]
[null,null,"Entry 2",null,{"$f":"B52","v":5018},{"$f":"E87/D85*100","v":21.157819285744402}]
[null,null,"Entry 3",null,{"$f":"B53","v":16706},{"$f":"E88/D85*100","v":70.438925665134704}]

{"sheet":"Table 10a_10b working_male","index":35,"n_rows":88,"n_cols":7,"rows_kept":88,"cut":false,"hidden":true,"merged":[]}
["ENTRIES BASED:"]
["COPY DATA FOR MALE MATHS FROM 'GENDER SPLIT TABLE 10b' WORKTAB "]
[]
["MATHS"]
["qual_level","passes","entries"]
["FS entry 1 pass",2000,2000,{"$f":"SUM(C6,C7,C8,C9)","v":23563},"all FS"]
["FS entry 2 pass",4592,4592]
["FS entry 3 pass",16791,16791]
["FS entry fail",0,180]
["FS level1",16254,25668,{"$f":"C10","v":25668},"fs1"]
["FS level2",4703,10501,{"$f":"C11","v":10501},"fs2"]
["GCSE only A*-C",19258,19258,{"$f":"SUM(C12,C13,C14)","v":80384},"all gcse",{"$f":"SUM(D12,D15)","v":82050},"all gcse/igcse"]
["GCSE only D-G",51136,51136]
["GCSE only fail",0,9990]
["Level 1/Level 2 Certificate A*-C",251,251,{"$f":"SUM(C15,C16,C17)","v":1666},"all igcse"]
["Level 1/Level 2 Certificate D-G",1217,1217]
["Level 1/Level 2 Certificate fail",0,198]
["other entry level",2552,2591,{"$f":"SUM(C18,D6)","v":26154},"all entry"]
["other level 1",3371,4230,{"$f":"SUM(C19,D10)","v":29898},"all level1"]
["other level 2",1840,2290,{"$f":"SUM(C20,C11,C21)","v":12868},"all level2"]
["use of maths/other 2 fail",0,77]
[]
["Level and type of qualification",null,null,"Number of entries","Number of passes","Pass rate"]
[]
["GCSE",null,null,{"$f":"D12","v":80384},{"$f":"SUM(B12:B13)","v":70394},{"$f":"E25/D25*100","v":87.572153662420376}]
["Of which:","Grade A*-C",null,null,{"$f":"B12","v":19258},{"$f":"E26/D25*100","v":23.957503980891719}]
[null,"Grade D-G",null,null,{"$f":"B13","v":51136},{"$f":"SUM(E27/D25*100)","v":63.614649681528668}]
[]
["Level 1/Level 2 Certificates",null,null,{"$f":"D15","v":1666},{"$f":"SUM(B15:B16)","v":1468},{"$f":"E29/D29*100","v":88.115246098439371}]
["Of which:","Grade A*-C",null,null,{"$f":"C15","v":251},{"$f":"E30/D29*100","v":15.066026410564227}]
[null,"Grade D-G",null,null,{"$f":"C16","v":1217},{"$f":"SUM(E31/D29*100)","v":73.049219687875151}]
[]
["Other level 2 qualifications",null,null,{"$f":"D20","v":12868},{"$f":"SUM(B20,B11)","v":6543},{"$f":"E33/D33*100","v":50.847062480571957}]
["Of which:","Functional Skills",null,{"$f":"C11","v":10501},{"$f":"B11","v":4703},{"$f":"E34/D34*100","v":44.786210837063138}]
[]
["Other level 1 qualifications",null,null,{"$f":"D19","v":29898},{"$f":"SUM(B19,B10)","v":19625},{"$f":"E36/D36*100","v":65.639842129908359}]
["Of which:","Functional Skills",null,{"$f":"D10","v":25668},{"$f":"B10","v":16254},{"$f":"E37/D37*100","v":63.323983169705464}]
[]
["Entry level qualifications",null,null,{"$f":"D18","v":26154},{"$f":"SUM(B18,B6:B8)","v":25935},{"$f":"E39/D39*100","v":99.1626519844001}]
["Of which:","Functional Skills",null,{"$f":"D6","v":23563},{"$f":"SUM(B6:B8)","v":23383},{"$f":"E40/D40*100","v":99.236090480838598}]
[null,"Of which:","Entry 1",null,{"$f":"B6","v":2000},{"$f":"E41/D40*100","v":8.4878835462377449}]
[null,null,"Entry 2",null,{"$f":"B7","v":4592},{"$f":"E42/D40*100","v":19.488180622161863}]
[null,null,"Entry 3",null,{"$f":"B8","v":16791},{"$f":"E43/D40*100","v":71.260026312438995}]
[]
[]
["COPY DATA FOR MALE ENGLISH FROM 'GENDER SPLIT TABLE 10a' WORKTAB "]
[]
[]
["ENGLISH"]
["qual_level","passes","entries"]
["FS entry 1 pass",1111,1111,{"$f":"SUM(C51,C52,C53,C54)","v":15252},"all FS"]
["FS entry 2 pass",3196,3196]
["FS entry 3 pass",10760,10760]
["FS entry fail",0,185]
["FS level1",14076,15884,{"$f":"C55","v":15884},"fs1"]
["FS level2",7812,9589,{"$f":"C56","v":9589},"fs2"]
["GCSE only A*-C",13923,13923,{"$f":"SUM(C57,C58,C59)","v":68425},"all gcse",{"$f":"SUM(D57,D60)","v":93101},"all gcse/igcse"]
["GCSE only D-G",47754,47754]
["GCSE only fail",0,6748]
["Level 1/Level 2 Certificate A*-C",10429,10429,{"$f":"SUM(C60,C61,C62)","v":24676},"all igcse"]
["Level 1/Level 2 Certificate D-G",11849,11849]
["Level 1/Level 2 Certificate fail",0,2398]
["other entry level",1788,1812,{"$f":"SUM(C63,D51)","v":17064},"all entry"]
["other level 1",6553,6557,{"$f":"SUM(C64,D55)","v":22441},"all level1"]
["other level 2",3574,3574,{"$f":"SUM(C65,C56,C66)","v":14218},"all level2"]
["other level 2 fail",0,1055]
[]
["Level and type of qualification",null,null,"Number of entries","Number of passes","Pass rate"]
[]
["GCSE",null,null,{"$f":"D57","v":68425},{"$f":"SUM(B57:B58)","v":61677},{"$f":"E70/D70*100","v":90.138107416879791}]
["Of which:","Grade A*-C",null,null,{"$f":"B57","v":13923},{"$f":"E71/D70*100","v":20.347826086956523}]
[null,"Grade D-G",null,null,{"$f":"B58","v":47754},{"$f":"SUM(E72/D70*100)","v":69.790281329923275}]
[]
["Level 1/Level 2 Certificate",null,null,{"$f":"D60","v":24676},{"$f":"SUM(B60:B61)","v":22278},{"$f":"E74/D74*100","v":90.282055438482729}]
["Of which:","Grade A*-C",null,null,{"$f":"C60","v":10429},{"$f":"E75/D74*100","v":42.263738045064031}]
[null,"Grade D-G",null,null,{"$f":"C61","v":11849},{"$f":"SUM(E76/D74*100)","v":48.018317393418705}]
[]
["Other level 2 qualifications",null,null,{"$f":"D65","v":14218},{"$f":"SUM(B65,B56)","v":11386},{"$f":"E78/D78*100","v":80.081586721057818}]
["Of which:","Functional Skills",null,{"$f":"C56","v":9589},{"$f":"B56","v":7812},{"$f":"E79/D79*100","v":81.46834915006778}]
[]
["Other level 1 qualifications",null,null,{"$f":"D64","v":22441},{"$f":"SUM(B64,B55)","v":20629},{"$f":"E81/D81*100","v":91.925493516331713}]
["Of which:","Functional Skills",null,{"$f":"D55","v":15884},{"$f":"B55","v":14076},{"$f":"E82/D82*100","v":88.617476706119362}]
[]
["Entry level qualifications",null,null,{"$f":"D63","v":17064},{"$f":"SUM(B63,B51:B53)","v":16855},{"$f":"E84/D84*100","v":98.775199249882789}]
["Of which:","Functional Skills",null,{"$f":"D51","v":15252},{"$f":"SUM(B51:B53)","v":15067},{"$f":"E85/D85*100","v":98.787044322056133}]
[null,"Of which:","Entry 1",null,{"$f":"B51","v":1111},{"$f":"E86/D85*100","v":7.2842905848413322}]
[null,null,"Entry 2",null,{"$f":"B52","v":3196},{"$f":"E87/D85*100","v":20.95462890112772}]
[null,null,"Entry 3",null,{"$f":"B53","v":10760},{"$f":"E88/D85*100","v":70.548124836087069}]

{"sheet":"Table 10a_10b working_female","index":36,"n_rows":88,"n_cols":7,"rows_kept":88,"cut":false,"hidden":true,"merged":[]}
["ENTRIES BASED:"]
["COPY DATA FOR FEMALE MATHS FROM 'GENDER SPLIT TABLE 10b' WORKTAB "]
[]
["MATHS"]
["qual_level","passes","entries"]
["FS entry 1 pass",1084,1084,{"$f":"SUM(C6,C7,C8,C9)","v":18521},"all FS"]
["FS entry 2 pass",3548,3548]
["FS entry 3 pass",13775,13775]
["FS entry fail",0,114]
["FS level1",12829,22291,{"$f":"C10","v":22291},"fs1"]
["FS level2",2915,8399,{"$f":"C11","v":8399},"fs2"]
["GCSE only A*-C",18913,18913,{"$f":"SUM(C12,C13,C14)","v":90793},"all gcse",{"$f":"SUM(D12,D15)","v":92733},"all gcse/igcse"]
["GCSE only D-G",62761,62761]
["GCSE only fail",0,9119]
["Level 1/Level 2 Certificate A*-C",263,263,{"$f":"SUM(C15,C16,C17)","v":1940},"all igcse"]
["Level 1/Level 2 Certificate D-G",1495,1495]
["Level 1/Level 2 Certificate fail",0,182]
["other entry level",1566,1586,{"$f":"SUM(C18,D6)","v":20107},"all entry"]
["other level 1",4166,5028,{"$f":"SUM(C19,D10)","v":27319},"all level1"]
["other level 2",1631,2114,{"$f":"SUM(C20,C11,C21)","v":10597},"all level2"]
["use of maths/other 2 fail",0,84]
[]
["Level and type of qualification",null,null,"Number of entries","Number of passes","Pass rate"]
[]
["GCSE",null,null,{"$f":"D12","v":90793},{"$f":"SUM(B12:B13)","v":81674},{"$f":"E25/D25*100","v":89.956274162105004}]
["Of which:","Grade A*-C",null,null,{"$f":"B12","v":18913},{"$f":"E26/D25*100","v":20.830901060654455}]
[null,"Grade D-G",null,null,{"$f":"B13","v":62761},{"$f":"SUM(E27/D25*100)","v":69.125373101450549}]
[]
["Level 1/Level 2 Certificates",null,null,{"$f":"D15","v":1940},{"$f":"SUM(B15:B16)","v":1758},{"$f":"E29/D29*100","v":90.618556701030926}]
["Of which:","Grade A*-C",null,null,{"$f":"C15","v":263},{"$f":"E30/D29*100","v":13.556701030927835}]
[null,"Grade D-G",null,null,{"$f":"C16","v":1495},{"$f":"SUM(E31/D29*100)","v":77.0618556701031}]
[]
["Other level 2 qualifications",null,null,{"$f":"D20","v":10597},{"$f":"SUM(B20,B11)","v":4546},{"$f":"E33/D33*100","v":42.898933660469943}]
["Of which:","Functional Skills",null,{"$f":"C11","v":8399},{"$f":"B11","v":2915},{"$f":"E34/D34*100","v":34.706512680080962}]
[]
["Other level 1 qualifications",null,null,{"$f":"D19","v":27319},{"$f":"SUM(B19,B10)","v":16995},{"$f":"E36/D36*100","v":62.209451297631688}]
["Of which:","Functional Skills",null,{"$f":"D10","v":22291},{"$f":"B10","v":12829},{"$f":"E37/D37*100","v":57.55237539814275}]
[]
["Entry level qualifications",null,null,{"$f":"D18","v":20107},{"$f":"SUM(B18,B6:B8)","v":19973},{"$f":"E39/D39*100","v":99.333565424976371}]
["Of which:","Functional Skills",null,{"$f":"D6","v":18521},{"$f":"SUM(B6:B8)","v":18407},{"$f":"E40/D40*100","v":99.384482479347767}]
[null,"Of which:","Entry 1",null,{"$f":"B6","v":1084},{"$f":"E41/D40*100","v":5.8528157226931592}]
[null,null,"Entry 2",null,{"$f":"B7","v":3548},{"$f":"E42/D40*100","v":19.156633011176503}]
[null,null,"Entry 3",null,{"$f":"B8","v":13775},{"$f":"E43/D40*100","v":74.375033745478106}]
[]
[]
["COPY DATA FOR FEMALE ENGLISH FROM 'GENDER SPLIT TABLE 10a' WORKTAB "]
[]
[]
["ENGLISH"]
["qual_level","passes","entries"]
["FS entry 1 pass",605,605,{"$f":"SUM(C51,C52,C53,C54)","v":8465},"all FS"]
["FS entry 2 pass",1822,1822]
["FS entry 3 pass",5946,5946]
["FS entry fail",0,92]
["FS level1",7680,8684,{"$f":"C55","v":8684},"fs1"]
["FS level2",3624,4805,{"$f":"C56","v":4805},"fs2"]
["GCSE only A*-C",12098,12098,{"$f":"SUM(C57,C58,C59)","v":46718},"all gcse",{"$f":"SUM(D57,D60)","v":64027},"all gcse/igcse"]
["GCSE only D-G",31018,31018]
["GCSE only fail",0,3602]
["Level 1/Level 2 Certificate A*-C",7554,7554,{"$f":"SUM(C60,C61,C62)","v":17309},"all igcse"]
["Level 1/Level 2 Certificate D-G",8295,8295]
["Level 1/Level 2 Certificate fail",0,1460]
["other entry level",946,959,{"$f":"SUM(C63,D51)","v":9424},"all entry"]
["other level 1",3942,3942,{"$f":"SUM(C64,D55)","v":12626},"all level1"]
["other level 2",2729,2729,{"$f":"SUM(C65,C56,C66)","v":8137},"all level2"]
["other level 2 fail",0,603]
[]
["Level and type of qualification",null,null,"Number of entries","Number of passes","Pass rate"]
[]
["GCSE",null,null,{"$f":"D57","v":46718},{"$f":"SUM(B57:B58)","v":43116},{"$f":"E70/D70*100","v":92.289909670790706}]
["Of which:","Grade A*-C",null,null,{"$f":"B57","v":12098},{"$f":"E71/D70*100","v":25.895800333918405}]
[null,"Grade D-G",null,null,{"$f":"B58","v":31018},{"$f":"SUM(E72/D70*100)","v":66.394109336872305}]
[]
["Level 1/Level 2 Certificate",null,null,{"$f":"D60","v":17309},{"$f":"SUM(B60:B61)","v":15849},{"$f":"E74/D74*100","v":91.565081749378948}]
["Of which:","Grade A*-C",null,null,{"$f":"C60","v":7554},{"$f":"E75/D74*100","v":43.642035935062687}]
[null,"Grade D-G",null,null,{"$f":"C61","v":8295},{"$f":"SUM(E76/D74*100)","v":47.923045814316254}]
[]
["Other level 2 qualifications",null,null,{"$f":"D65","v":8137},{"$f":"SUM(B65,B56)","v":6353},{"$f":"E78/D78*100","v":78.075457785424604}]
["Of which:","Functional Skills",null,{"$f":"C56","v":4805},{"$f":"B56","v":3624},{"$f":"E79/D79*100","v":75.421436004162331}]
[]
["Other level 1 qualifications",null,null,{"$f":"D64","v":12626},{"$f":"SUM(B64,B55)","v":11622},{"$f":"E81/D81*100","v":92.048154601615721}]
["Of which:","Functional Skills",null,{"$f":"D55","v":8684},{"$f":"B55","v":7680},{"$f":"E82/D82*100","v":88.438507600184252}]
[]
["Entry level qualifications",null,null,{"$f":"D63","v":9424},{"$f":"SUM(B63,B51:B53)","v":9319},{"$f":"E84/D84*100","v":98.885823429541603}]
["Of which:","Functional Skills",null,{"$f":"D51","v":8465},{"$f":"SUM(B51:B53)","v":8373},{"$f":"E85/D85*100","v":98.913171884229172}]
[null,"Of which:","Entry 1",null,{"$f":"B51","v":605},{"$f":"E86/D85*100","v":7.1470761961015938}]
[null,null,"Entry 2",null,{"$f":"B52","v":1822},{"$f":"E87/D85*100","v":21.523922031896042}]
[null,null,"Entry 3",null,{"$f":"B53","v":5946},{"$f":"E88/D85*100","v":70.242173656231543}]

{"sheet":"Table 10a all","index":37,"n_rows":24,"n_cols":6,"rows_kept":24,"cut":false,"hidden":true,"merged":[[25,0,25,6]]}
["Table 8: Entries1 in GCSE English and other english qualifications2 by 16-183 year olds, 2014/15 "]
["Coverage: England"]
[]
["Level of learning",null,null,"Number of entries","Number of passes","Pass rate"]
[]
["GCSE",null,null,{"$f":"'Table 10a_10b working_all'!D70","v":115143},{"$f":"'Table 10a_10b working_all'!E70","v":104793},{"$f":"'Table 10a_10b working_all'!F70","v":91.011177405487089}]
["Of which:","Grade A*-C",null,null,{"$f":"'Table 10a_10b working_all'!E71","v":26021},{"$f":"'Table 10a_10b working_all'!F71","v":22.598855336407773}]
[null,"Grade D-G",null,null,{"$f":"'Table 10a_10b working_all'!E72","v":78772},{"$f":"'Table 10a_10b working_all'!F72","v":68.412322069079323}]
[]
["Level 1/Level 2 Certificates4",null,null,{"$f":"'Table 10a_10b working_all'!D74","v":41985},{"$f":"'Table 10a_10b working_all'!E74","v":38127},{"$f":"'Table 10a_10b working_all'!F74","v":90.811003929974987}]
["Of which:","Grade A*-C",null,null,{"$f":"'Table 10a_10b working_all'!E75","v":17983},{"$f":"'Table 10a_10b working_all'!F75","v":42.831963796594017}]
[null,"Grade D-G",null,null,{"$f":"'Table 10a_10b working_all'!E76","v":20144},{"$f":"'Table 10a_10b working_all'!F76","v":47.97904013338097}]
[]
["Other level 2 qualifications",null,null,{"$f":"'Table 10a_10b working_all'!D78","v":22355},{"$f":"'Table 10a_10b working_all'!E78","v":17739},{"$f":"'Table 10a_10b working_all'!F78","v":79.351375531201072}]
["Of which:","Functional Skills",null,{"$f":"'Table 10a_10b working_all'!D79","v":14394},{"$f":"'Table 10a_10b working_all'!E79","v":11436},{"$f":"'Table 10a_10b working_all'!F79","v":79.449770737807427}]
[]
["Other level 1 qualifications",null,null,{"$f":"'Table 10a_10b working_all'!D81","v":35067},{"$f":"'Table 10a_10b working_all'!E81","v":32251},{"$f":"'Table 10a_10b working_all'!F81","v":91.969658083098068}]
["Of which:","Functional Skills",null,{"$f":"'Table 10a_10b working_all'!D82","v":24568},{"$f":"'Table 10a_10b working_all'!E82","v":21756},{"$f":"'Table 10a_10b working_all'!F82","v":88.554216867469876}]
[]
["Entry level qualifications",null,null,{"$f":"'Table 10a_10b working_all'!D84","v":26488},{"$f":"'Table 10a_10b working_all'!E84","v":26174},{"$f":"'Table 10a_10b working_all'!F84","v":98.814557535487765}]
["Of which:","Functional Skills",null,{"$f":"'Table 10a_10b working_all'!D85","v":23717},{"$f":"'Table 10a_10b working_all'!E85","v":23440},{"$f":"'Table 10a_10b working_all'!F85","v":98.832061390563723}]
[null,"Of which:","Entry 1",null,{"$f":"'Table 10a_10b working_all'!E86","v":1716},{"$f":"'Table 10a_10b working_all'!F86","v":7.235316439684615}]
[null,null,"Entry 2",null,{"$f":"'Table 10a_10b working_all'!E87","v":5018},{"$f":"'Table 10a_10b working_all'!F87","v":21.157819285744402}]
[null,null,"Entry 3",null,{"$f":"'Table 10a_10b working_all'!E88","v":16706},{"$f":"'Table 10a_10b working_all'!F88","v":70.438925665134704}]

{"sheet":"Table 10a female","index":38,"n_rows":24,"n_cols":6,"rows_kept":24,"cut":false,"hidden":true,"merged":[[26,0,26,6]]}
["Table 8: Entries1 in GCSE English and other english qualifications2 by 16-183 year olds, 2014/15 "]
["Coverage: England"]
[]
["Level of learning",null,null,"Number of entries","Number of passes","Pass rate"]
[]
["GCSE",null,null,{"$f":"'Table 10a_10b working_female'!D70","v":46718},{"$f":"'Table 10a_10b working_female'!E70","v":43116},{"$f":"'Table 10a_10b working_female'!F70","v":92.289909670790706}]
["Of which:","Grade A*-C",null,null,{"$f":"'Table 10a_10b working_female'!E71","v":12098},{"$f":"'Table 10a_10b working_female'!F71","v":25.895800333918405}]
[null,"Grade D-G",null,null,{"$f":"'Table 10a_10b working_female'!E72","v":31018},{"$f":"'Table 10a_10b working_female'!F72","v":66.394109336872305}]
[]
["Level 1/Level 2 Certificates4",null,null,{"$f":"'Table 10a_10b working_female'!D74","v":17309},{"$f":"'Table 10a_10b working_female'!E74","v":15849},{"$f":"'Table 10a_10b working_female'!F74","v":91.565081749378948}]
["Of which:","Grade A*-C",null,null,{"$f":"'Table 10a_10b working_female'!E75","v":7554},{"$f":"'Table 10a_10b working_female'!F75","v":43.642035935062687}]
[null,"Grade D-G",null,null,{"$f":"'Table 10a_10b working_female'!E76","v":8295},{"$f":"'Table 10a_10b working_female'!F76","v":47.923045814316254}]
[]
["Other level 2 qualifications",null,null,{"$f":"'Table 10a_10b working_female'!D78","v":8137},{"$f":"'Table 10a_10b working_female'!E78","v":6353},{"$f":"'Table 10a_10b working_female'!F78","v":78.075457785424604}]
["Of which:","Functional Skills",null,{"$f":"'Table 10a_10b working_female'!D79","v":4805},{"$f":"'Table 10a_10b working_female'!E79","v":3624},{"$f":"'Table 10a_10b working_female'!F79","v":75.421436004162331}]
[]
["Other level 1 qualifications",null,null,{"$f":"'Table 10a_10b working_female'!D81","v":12626},{"$f":"'Table 10a_10b working_female'!E81","v":11622},{"$f":"'Table 10a_10b working_female'!F81","v":92.048154601615721}]
["Of which:","Functional Skills",null,{"$f":"'Table 10a_10b working_female'!D82","v":8684},{"$f":"'Table 10a_10b working_female'!E82","v":7680},{"$f":"'Table 10a_10b working_female'!F82","v":88.438507600184252}]
[]
["Entry level qualifications",null,null,{"$f":"'Table 10a_10b working_female'!D84","v":9424},{"$f":"'Table 10a_10b working_female'!E84","v":9319},{"$f":"'Table 10a_10b working_female'!F84","v":98.885823429541603}]
["Of which:","Functional Skills",null,{"$f":"'Table 10a_10b working_female'!D85","v":8465},{"$f":"'Table 10a_10b working_female'!E85","v":8373},{"$f":"'Table 10a_10b working_female'!F85","v":98.913171884229172}]
[null,"Of which:","Entry 1",null,{"$f":"'Table 10a_10b working_female'!E86","v":605},{"$f":"'Table 10a_10b working_female'!F86","v":7.1470761961015938}]
[null,null,"Entry 2",null,{"$f":"'Table 10a_10b working_female'!E87","v":1822},{"$f":"'Table 10a_10b working_female'!F87","v":21.523922031896042}]
[null,null,"Entry 3",null,{"$f":"'Table 10a_10b working_female'!E88","v":5946},{"$f":"'Table 10a_10b working_female'!F88","v":70.242173656231543}]

{"sheet":"Table 10a male","index":39,"n_rows":24,"n_cols":6,"rows_kept":24,"cut":false,"hidden":true,"merged":[[26,0,26,6]]}
["Table 8: Entries1 in GCSE English and other english qualifications2 by 16-183 year olds, 2014/15 "]
["Coverage: England"]
[]
["Level of learning",null,null,"Number of entries","Number of passes","Pass rate"]
[]
["GCSE",null,null,{"$f":"'Table 10a_10b working_male'!D70","v":68425},{"$f":"'Table 10a_10b working_male'!E70","v":61677},{"$f":"'Table 10a_10b working_male'!F70","v":90.138107416879791}]
["Of which:","Grade A*-C",null,null,{"$f":"'Table 10a_10b working_male'!E71","v":13923},{"$f":"'Table 10a_10b working_male'!F71","v":20.347826086956523}]
[null,"Grade D-G",null,null,{"$f":"'Table 10a_10b working_male'!E72","v":47754},{"$f":"'Table 10a_10b working_male'!F72","v":69.790281329923275}]
[]
["Level 1/Level 2 Certificates4",null,null,{"$f":"'Table 10a_10b working_male'!D74","v":24676},{"$f":"'Table 10a_10b working_male'!E74","v":22278},{"$f":"'Table 10a_10b working_male'!F74","v":90.282055438482729}]
["Of which:","Grade A*-C",null,null,{"$f":"'Table 10a_10b working_male'!E75","v":10429},{"$f":"'Table 10a_10b working_male'!F75","v":42.263738045064031}]
[null,"Grade D-G",null,null,{"$f":"'Table 10a_10b working_male'!E76","v":11849},{"$f":"'Table 10a_10b working_male'!F76","v":48.018317393418705}]
[]
["Other level 2 qualifications",null,null,{"$f":"'Table 10a_10b working_male'!D78","v":14218},{"$f":"'Table 10a_10b working_male'!E78","v":11386},{"$f":"'Table 10a_10b working_male'!F78","v":80.081586721057818}]
["Of which:","Functional Skills",null,{"$f":"'Table 10a_10b working_male'!D79","v":9589},{"$f":"'Table 10a_10b working_male'!E79","v":7812},{"$f":"'Table 10a_10b working_male'!F79","v":81.46834915006778}]
[]
["Other level 1 qualifications",null,null,{"$f":"'Table 10a_10b working_male'!D81","v":22441},{"$f":"'Table 10a_10b working_male'!E81","v":20629},{"$f":"'Table 10a_10b working_male'!F81","v":91.925493516331713}]
["Of which:","Functional Skills",null,{"$f":"'Table 10a_10b working_male'!D82","v":15884},{"$f":"'Table 10a_10b working_male'!E82","v":14076},{"$f":"'Table 10a_10b working_male'!F82","v":88.617476706119362}]
[]
["Entry level qualifications",null,null,{"$f":"'Table 10a_10b working_male'!D84","v":17064},{"$f":"'Table 10a_10b working_male'!E84","v":16855},{"$f":"'Table 10a_10b working_male'!F84","v":98.775199249882789}]
["Of which:","Functional Skills",null,{"$f":"'Table 10a_10b working_male'!D85","v":15252},{"$f":"'Table 10a_10b working_male'!E85","v":15067},{"$f":"'Table 10a_10b working_male'!F85","v":98.787044322056133}]
[null,"Of which:","Entry 1",null,{"$f":"'Table 10a_10b working_male'!E86","v":1111},{"$f":"'Table 10a_10b working_male'!F86","v":7.2842905848413322}]
[null,null,"Entry 2",null,{"$f":"'Table 10a_10b working_male'!E87","v":3196},{"$f":"'Table 10a_10b working_male'!F87","v":20.95462890112772}]
[null,null,"Entry 3",null,{"$f":"'Table 10a_10b working_male'!E88","v":10760},{"$f":"'Table 10a_10b working_male'!F88","v":70.548124836087069}]

{"sheet":"Table 10b all","index":40,"n_rows":24,"n_cols":6,"rows_kept":24,"cut":false,"hidden":true,"merged":[[26,0,26,6]]}
["Table 9: Entries1 in GCSE mathematics and other mathematics qualifications2 by 16-183 year olds, 2014/15 "]
["Coverage: England"]
[]
["Level of learning",null,null,"Number of entries","Number of passes","Pass rate"]
[]
["GCSE",null,null,{"$f":"'Table 10a_10b working_all'!D25","v":171177},{"$f":"'Table 10a_10b working_all'!E25","v":152068},{"$f":"'Table 10a_10b working_all'!F25","v":88.836701192333081}]
["Of which:","Grade A*-C",null,null,{"$f":"'Table 10a_10b working_all'!E26","v":38171},{"$f":"'Table 10a_10b working_all'!F26","v":22.299140655578729}]
[null,"Grade D-G",null,null,{"$f":"'Table 10a_10b working_all'!E27","v":113897},{"$f":"'Table 10a_10b working_all'!F27","v":66.537560536754356}]
[]
["Level 1/Level 2 Certificates4",null,null,{"$f":"'Table 10a_10b working_all'!D29","v":3606},{"$f":"'Table 10a_10b working_all'!E29","v":3226},{"$f":"'Table 10a_10b working_all'!F29","v":89.462007764836386}]
["Of which:","Grade A*-C",null,null,{"$f":"'Table 10a_10b working_all'!E30","v":514},{"$f":"'Table 10a_10b working_all'!F30","v":14.254021075984472}]
[null,"Grade D-G",null,null,{"$f":"'Table 10a_10b working_all'!E31","v":2712},{"$f":"'Table 10a_10b working_all'!F31","v":75.207986688851918}]
[]
["Other level 2 qualifications",null,null,{"$f":"'Table 10a_10b working_all'!D33","v":23465},{"$f":"'Table 10a_10b working_all'!E33","v":11089},{"$f":"'Table 10a_10b working_all'!F33","v":47.257617728531855}]
["Of which:","Functional Skills",null,{"$f":"'Table 10a_10b working_all'!D34","v":18900},{"$f":"'Table 10a_10b working_all'!E34","v":7618},{"$f":"'Table 10a_10b working_all'!F34","v":40.306878306878311}]
[]
["Other level 1 qualifications",null,null,{"$f":"'Table 10a_10b working_all'!D36","v":57217},{"$f":"'Table 10a_10b working_all'!E36","v":36620},{"$f":"'Table 10a_10b working_all'!F36","v":64.001957460195385}]
["Of which:","Functional Skills",null,{"$f":"'Table 10a_10b working_all'!D37","v":47959},{"$f":"'Table 10a_10b working_all'!E37","v":29083},{"$f":"'Table 10a_10b working_all'!F37","v":60.641381179757715}]
[]
["Entry level qualifications",null,null,{"$f":"'Table 10a_10b working_all'!D39","v":46261},{"$f":"'Table 10a_10b working_all'!E39","v":45908},{"$f":"'Table 10a_10b working_all'!F39","v":99.236938241715492}]
["Of which:","Functional Skills",null,{"$f":"'Table 10a_10b working_all'!D40","v":42084},{"$f":"'Table 10a_10b working_all'!E40","v":41790},{"$f":"'Table 10a_10b working_all'!F40","v":99.301397205588827}]
[null,"Of which:","Entry 1",null,{"$f":"'Table 10a_10b working_all'!E41","v":3084},{"$f":"'Table 10a_10b working_all'!F41","v":7.3282007413743937}]
[null,null,"Entry 2",null,{"$f":"'Table 10a_10b working_all'!E42","v":8140},{"$f":"'Table 10a_10b working_all'!F42","v":19.342267845261858}]
[null,null,"Entry 3",null,{"$f":"'Table 10a_10b working_all'!E43","v":30566},{"$f":"'Table 10a_10b working_all'!F43","v":72.630928618952566}]

{"sheet":"Table 10b female","index":41,"n_rows":24,"n_cols":6,"rows_kept":24,"cut":false,"hidden":true,"merged":[[25,0,25,6]]}
["Table 9: Entries1 in GCSE mathematics and other mathematics qualifications2 by 16-183 year olds, 2014/15 "]
["Coverage: England"]
[]
["Level of learning",null,null,"Number of entries","Number of passes","Pass rate"]
[]
["GCSE",null,null,{"$f":"'Table 10a_10b working_female'!D25","v":90793},{"$f":"'Table 10a_10b working_female'!E25","v":81674},{"$f":"'Table 10a_10b working_female'!F25","v":89.956274162105004}]
["Of which:","Grade A*-C",null,null,{"$f":"'Table 10a_10b working_female'!E26","v":18913},{"$f":"'Table 10a_10b working_female'!F26","v":20.830901060654455}]
[null,"Grade D-G",null,null,{"$f":"'Table 10a_10b working_female'!E27","v":62761},{"$f":"'Table 10a_10b working_female'!F27","v":69.125373101450549}]
[]
["Level 1/Level 2 Certificates4",null,null,{"$f":"'Table 10a_10b working_female'!D29","v":1940},{"$f":"'Table 10a_10b working_female'!E29","v":1758},{"$f":"'Table 10a_10b working_female'!F29","v":90.618556701030926}]
["Of which:","Grade A*-C",null,null,{"$f":"'Table 10a_10b working_female'!E30","v":263},{"$f":"'Table 10a_10b working_female'!F30","v":13.556701030927835}]
[null,"Grade D-G",null,null,{"$f":"'Table 10a_10b working_female'!E31","v":1495},{"$f":"'Table 10a_10b working_female'!F31","v":77.0618556701031}]
[]
["Other level 2 qualifications",null,null,{"$f":"'Table 10a_10b working_female'!D33","v":10597},{"$f":"'Table 10a_10b working_female'!E33","v":4546},{"$f":"'Table 10a_10b working_female'!F33","v":42.898933660469943}]
["Of which:","Functional Skills",null,{"$f":"'Table 10a_10b working_female'!D34","v":8399},{"$f":"'Table 10a_10b working_female'!E34","v":2915},{"$f":"'Table 10a_10b working_female'!F34","v":34.706512680080962}]
[]
["Other level 1 qualifications",null,null,{"$f":"'Table 10a_10b working_female'!D36","v":27319},{"$f":"'Table 10a_10b working_female'!E36","v":16995},{"$f":"'Table 10a_10b working_female'!F36","v":62.209451297631688}]
["Of which:","Functional Skills",null,{"$f":"'Table 10a_10b working_female'!D37","v":22291},{"$f":"'Table 10a_10b working_female'!E37","v":12829},{"$f":"'Table 10a_10b working_female'!F37","v":57.55237539814275}]
[]
["Entry level qualifications",null,null,{"$f":"'Table 10a_10b working_female'!D39","v":20107},{"$f":"'Table 10a_10b working_female'!E39","v":19973},{"$f":"'Table 10a_10b working_female'!F39","v":99.333565424976371}]
["Of which:","Functional Skills",null,{"$f":"'Table 10a_10b working_female'!D40","v":18521},{"$f":"'Table 10a_10b working_female'!E40","v":18407},{"$f":"'Table 10a_10b working_female'!F40","v":99.384482479347767}]
[null,"Of which:","Entry 1",null,{"$f":"'Table 10a_10b working_female'!E41","v":1084},{"$f":"'Table 10a_10b working_female'!F41","v":5.8528157226931592}]
[null,null,"Entry 2",null,{"$f":"'Table 10a_10b working_female'!E42","v":3548},{"$f":"'Table 10a_10b working_female'!F42","v":19.156633011176503}]
[null,null,"Entry 3",null,{"$f":"'Table 10a_10b working_female'!E43","v":13775},{"$f":"'Table 10a_10b working_female'!F43","v":74.375033745478106}]

{"sheet":"Table 10b male","index":42,"n_rows":24,"n_cols":6,"rows_kept":24,"cut":false,"hidden":true,"merged":[[26,0,26,6]]}
["Table 9: Entries1 in GCSE mathematics and other mathematics qualifications2 by 16-183 year olds, 2014/15 "]
["Coverage: England"]
[]
["Level of learning",null,null,"Number of entries","Number of passes","Pass rate"]
[]
["GCSE",null,null,{"$f":"'Table 10a_10b working_male'!D25","v":80384},{"$f":"'Table 10a_10b working_male'!E25","v":70394},{"$f":"'Table 10a_10b working_male'!F25","v":87.572153662420376}]
["Of which:","Grade A*-C",null,null,{"$f":"'Table 10a_10b working_male'!E26","v":19258},{"$f":"'Table 10a_10b working_male'!F26","v":23.957503980891719}]
[null,"Grade D-G",null,null,{"$f":"'Table 10a_10b working_male'!E27","v":51136},{"$f":"'Table 10a_10b working_male'!F27","v":63.614649681528668}]
[]
["Level 1/Level 2 Certificates4",null,null,{"$f":"'Table 10a_10b working_male'!D29","v":1666},{"$f":"'Table 10a_10b working_male'!E29","v":1468},{"$f":"'Table 10a_10b working_male'!F29","v":88.115246098439371}]
["Of which:","Grade A*-C",null,null,{"$f":"'Table 10a_10b working_male'!E30","v":251},{"$f":"'Table 10a_10b working_male'!F30","v":15.066026410564227}]
[null,"Grade D-G",null,null,{"$f":"'Table 10a_10b working_male'!E31","v":1217},{"$f":"'Table 10a_10b working_male'!F31","v":73.049219687875151}]
[]
["Other level 2 qualifications",null,null,{"$f":"'Table 10a_10b working_male'!D33","v":12868},{"$f":"'Table 10a_10b working_male'!E33","v":6543},{"$f":"'Table 10a_10b working_male'!F33","v":50.847062480571957}]
["Of which:","Functional Skills",null,{"$f":"'Table 10a_10b working_male'!D34","v":10501},{"$f":"'Table 10a_10b working_male'!E34","v":4703},{"$f":"'Table 10a_10b working_male'!F34","v":44.786210837063138}]
[]
["Other level 1 qualifications",null,null,{"$f":"'Table 10a_10b working_male'!D36","v":29898},{"$f":"'Table 10a_10b working_male'!E36","v":19625},{"$f":"'Table 10a_10b working_male'!F36","v":65.639842129908359}]
["Of which:","Functional Skills",null,{"$f":"'Table 10a_10b working_male'!D37","v":25668},{"$f":"'Table 10a_10b working_male'!E37","v":16254},{"$f":"'Table 10a_10b working_male'!F37","v":63.323983169705464}]
[]
["Entry level qualifications",null,null,{"$f":"'Table 10a_10b working_male'!D39","v":26154},{"$f":"'Table 10a_10b working_male'!E39","v":25935},{"$f":"'Table 10a_10b working_male'!F39","v":99.1626519844001}]
["Of which:","Functional Skills",null,{"$f":"'Table 10a_10b working_male'!D40","v":23563},{"$f":"'Table 10a_10b working_male'!E40","v":23383},{"$f":"'Table 10a_10b working_male'!F40","v":99.236090480838598}]
[null,"Of which:","Entry 1",null,{"$f":"'Table 10a_10b working_male'!E41","v":2000},{"$f":"'Table 10a_10b working_male'!F41","v":8.4878835462377449}]
[null,null,"Entry 2",null,{"$f":"'Table 10a_10b working_male'!E42","v":4592},{"$f":"'Table 10a_10b working_male'!F42","v":19.488180622161863}]
[null,null,"Entry 3",null,{"$f":"'Table 10a_10b working_male'!E43","v":16791},{"$f":"'Table 10a_10b working_male'!F43","v":71.260026312438995}]