{"text_format":"1","workbook":"xlsx","n_sheets":6,"sheets":["Standing data","Budget forecast 2014-2015","Reference","Local authorities","Num Data","Char Data"],"not_rendered":{"charts":0,"images":0,"macros":1,"external_links":1,"defined_names":17,"comments":0,"pivot_tables":0},"unopened":[],"bounds":{"document_bytes":16777216,"sheet_cells":100000,"rows_first":2000,"rows_last":500,"rows_between":2000,"halvings":0,"cell_chars":16384,"cell_head_chars":4096},"cells_cut":0,"cells_raw":0,"read":"whole","date_system":"1900"}

{"sheet":"Standing data","index":0,"n_rows":157,"n_cols":20,"rows_kept":157,"cut":false,"hidden":false,"merged":[[43,8,43,10],[53,8,53,10],[42,8,42,10],[25,5,25,7],[31,8,31,10],[2,5,2,9],[5,5,5,9],[19,5,19,7],[22,5,22,7],[37,8,37,10],[38,8,38,10],[32,0,36,1],[32,8,32,10],[33,8,33,10],[34,8,34,10],[35,8,35,10],[36,8,36,10],[39,8,39,10],[40,8,40,10],[41,8,41,10],[73,8,73,10],[74,8,74,10],[75,8,75,10],[44,8,44,10],[45,8,45,10],[46,8,46,10],[47,8,47,10],[54,8,54,10],[51,8,51,10],[52,8,52,10],[48,8,48,10],[49,8,49,10],[50,8,50,10],[64,8,64,10],[65,8,65,10],[66,8,66,10],[67,8,67,10],[68,8,68,10],[69,8,69,10],[70,8,70,10],[71,8,71,10],[72,8,72,10],[55,8,55,10],[56,8,56,10],[57,8,57,10],[58,8,58,10],[59,8,59,10],[60,8,60,10],[61,8,61,10],[62,8,62,10],[63,8,63,10],[99,8,99,10],[76,8,76,10],[77,8,77,10],[78,8,78,10],[88,8,88,10],[89,8,89,10],[79,8,79,10],[80,8,80,10],[81,8,81,10],[82,8,82,10],[91,8,91,10],[92,8,92,10],[93,8,93,10],[94,8,94,10],[95,8,95,10],[96,8,96,10],[97,8,97,10],[98,8,98,10],[83,8,83,10],[90,8,90,10],[84,8,84,10],[85,8,85,10],[86,8,86,10],[87,8,87,10],[126,8,126,10],[103,8,103,10],[104,8,104,10],[105,8,105,10],[106,8,106,10],[107,8,107,10],[114,8,114,10],[100,8,100,10],[101,8,101,10],[102,8,102,10],[120,8,120,10],[121,8,121,10],[108,8,108,10],[109,8,109,10],[110,8,110,10],[111,8,111,10],[112,8,112,10],[113,8,113,10],[115,8,115,10],[116,8,116,10],[117,8,117,10],[118,8,118,10],[119,8,119,10],[122,8,122,10],[123,8,123,10],[124,8,124,10],[125,8,125,10],[138,4,138,5],[139,4,139,5],[140,4,140,5],[153,1,153,3],[147,0,147,4],[148,0,148,4],[150,1,150,3],[151,0,151,3],[127,8,127,10],[128,8,128,10],[129,8,129,10],[130,8,130,10],[131,8,131,10]]}
["2014/15 Academies Budget Forecast "]
[]
["Academy Trust company name",null,null,"Type name here"]
[null,null,null,"Enter company name in the cell above",null,"If the Academy Trust has changed its name in the period please enter the previous name in the cell above"]
[null,null,null,null,null,null,null,null,null,null,null,null,null,null,null,null,null,"Conversion Date",{"$f":"IF(F13=\"\",D13,F13)","v":{"$error":"#N/A"}}]
["Academy Trust's trading name",null,null,"Academy name"]
[null,null,null,"Select from drop-down box in the cell above",null,"If 'Other' please enter the correct trading name in the cell above"]
[]
[]
["Academy UPIN",null,null,{"$f":"VLOOKUP(D$6,Reference!O8:P4113,2,FALSE)","v":{"$error":"#N/A"}},null,null,null,null,null,null,null,null,null,null,null,null,null,"Check for number",null,{"$f":"IF(ISERROR(D10),\"XXXXXX\",IF(OR(D10=\"Multiple\",D10=\"000000\"),IF(F10<>\"\",F10,\"XXXXXX\"),D10))","v":"XXXXXX"}]
[null,null,null,"UPIN will populate automatically in the cell above",null,"If pre-populated UPIN is incorrect, or shows '000000' please enter the correct number in the cell above",null,null,null,null,null,null,null,null,null,null,null,"Random numner",null,{"$f":"IF(T10<>\"XXXXXX\",\"\",INT(RAND()*100000000))","v":28909509}]
[]
["Conversion date",null,null,{"$f":"VLOOKUP(D6,Reference!O8:S4113,3,FALSE)","v":{"$error":"#N/A"}},null,null,null,null,null,null,null,null,null,null,null,null,null,"File name to save",null,{"$f":"IF(T11=\"\",T10,T10&\" - \"&T11)","v":"XXXXXX - 28909509"}]
[null,null,null,"Date will populate automatically in the cell above",null,"If pre-populated date is incorrect please enter the correct date in the cell above"]
[]
["Incorporation date"]
[null,null,null,"Enter company's incorporation date in the cell above"]
[]
[]
["Region",null,null,{"$f":"VLOOKUP($D$6,Reference!$O$8:$S$4113,4,FALSE)","v":{"$error":"#N/A"}}]
[null,null,null,"Region will populate automatically above",null,"If pre-populated region is incorrect please enter the correct region in the cell above"]
[]
["local authority",null,null,{"$f":"VLOOKUP($D$6,Reference!$O$8:$S$4113,5,FALSE)","v":{"$error":"#N/A"}}]
[null,null,null,"Local authority will populate automatically above",null,"If pre-populated local authority is incorrect please enter the correct local authority in the cell above"]
[]
["Academy type"]
[null,null,null,"Select from drop-down box in the cell above",null,"If 'Other' please enter the correct academy type in the cell above"]
[]
["Multi-academy Trust/Federation",null,null,{"$f":"IF(OR(D6=\"Federation\",D6=\"Multi-academy trust\"),\"Yes\",\"No\")","v":"No"}]
[null,null,null,"Trust status will populate automatically above"]
[]
[null,null,null,"Multi-academy Trust/Federation\nacademy school names","Academy UPIN","New or existing member","Date joined if new",null,"Correct Academy name",null,null,null,"Correct UPIN"]
["Academies included within this Budget Forecast Return submitted by a Multi-academy Trust or Federation",null,null,"Academy name",{"$f":"IF(D33<>\"Academy name\",VLOOKUP(D33,Reference!$O$8:$P$4113,2,FALSE),\"\")","v":""}]
[null,null,null,"Academy name",{"$f":"IF(D34<>\"Academy name\",VLOOKUP(D34,Reference!$O$8:$P$4113,2,FALSE),\"\")","v":""}]
[null,null,null,"Academy name",{"$f":"IF(D35<>\"Academy name\",VLOOKUP(D35,Reference!$O$8:$P$4113,2,FALSE),\"\")","v":""}]
[null,null,null,"Academy name",{"$f":"IF(D36<>\"Academy name\",VLOOKUP(D36,Reference!$O$8:$P$4113,2,FALSE),\"\")","v":""}]
[null,null,null,"Academy name",{"$f":"IF(D37<>\"Academy name\",VLOOKUP(D37,Reference!$O$8:$P$4113,2,FALSE),\"\")","v":""}]
[null,null,null,"Academy name",{"$f":"IF(D38<>\"Academy name\",VLOOKUP(D38,Reference!$O$8:$P$4113,2,FALSE),\"\")","v":""}]
[null,null,null,"Academy name",{"$f":"IF(D39<>\"Academy name\",VLOOKUP(D39,Reference!$O$8:$P$4113,2,FALSE),\"\")","v":""}]
[null,null,null,"Academy name",{"$f":"IF(D40<>\"Academy name\",VLOOKUP(D40,Reference!$O$8:$P$4113,2,FALSE),\"\")","v":""}]
[null,null,null,"Academy name",{"$f":"IF(D41<>\"Academy name\",VLOOKUP(D41,Reference!$O$8:$P$4113,2,FALSE),\"\")","v":""}]
[null,null,null,"Academy name",{"$f":"IF(D42<>\"Academy name\",VLOOKUP(D42,Reference!$O$8:$P$4113,2,FALSE),\"\")","v":""}]
[null,null,null,"Academy name",{"$f":"IF(D43<>\"Academy name\",VLOOKUP(D43,Reference!$O$8:$P$4113,2,FALSE),\"\")","v":""}]
[null,null,null,"Academy name",{"$f":"IF(D44<>\"Academy name\",VLOOKUP(D44,Reference!$O$8:$P$4113,2,FALSE),\"\")","v":""}]
[null,null,null,"Academy name",{"$f":"IF(D45<>\"Academy name\",VLOOKUP(D45,Reference!$O$8:$P$4113,2,FALSE),\"\")","v":""}]
[null,null,null,"Academy name",{"$f":"IF(D46<>\"Academy name\",VLOOKUP(D46,Reference!$O$8:$P$4113,2,FALSE),\"\")","v":""}]
[null,null,null,"Academy name",{"$f":"IF(D47<>\"Academy name\",VLOOKUP(D47,Reference!$O$8:$P$4113,2,FALSE),\"\")","v":""}]
[null,null,null,"Academy name",{"$f":"IF(D48<>\"Academy name\",VLOOKUP(D48,Reference!$O$8:$P$4113,2,FALSE),\"\")","v":""}]
[null,null,null,"Academy name",{"$f":"IF(D49<>\"Academy name\",VLOOKUP(D49,Reference!$O$8:$P$4113,2,FALSE),\"\")","v":""}]
[null,null,null,"Academy name",{"$f":"IF(D50<>\"Academy name\",VLOOKUP(D50,Reference!$O$8:$P$4113,2,FALSE),\"\")","v":""}]
[null,null,null,"Academy name",{"$f":"IF(D51<>\"Academy name\",VLOOKUP(D51,Reference!$O$8:$P$4113,2,FALSE),\"\")","v":""}]
[null,null,null,"Academy name",{"$f":"IF(D52<>\"Academy name\",VLOOKUP(D52,Reference!$O$8:$P$4113,2,FALSE),\"\")","v":""}]
[null,null,null,"Academy name",{"$f":"IF(D53<>\"Academy name\",VLOOKUP(D53,Reference!$O$8:$P$4113,2,FALSE),\"\")","v":""}]
[null,null,null,"Academy name",{"$f":"IF(D54<>\"Academy name\",VLOOKUP(D54,Reference!$O$8:$P$4113,2,FALSE),\"\")","v":""}]
[null,null,null,"Academy name",{"$f":"IF(D55<>\"Academy name\",VLOOKUP(D55,Reference!$O$8:$P$4113,2,FALSE),\"\")","v":""}]
[null,null,null,"Academy name",{"$f":"IF(D56<>\"Academy name\",VLOOKUP(D56,Reference!$O$8:$P$4113,2,FALSE),\"\")","v":""}]
[null,null,null,"Academy name",{"$f":"IF(D57<>\"Academy name\",VLOOKUP(D57,Reference!$O$8:$P$4113,2,FALSE),\"\")","v":""}]
[null,null,null,"Academy name",{"$f":"IF(D58<>\"Academy name\",VLOOKUP(D58,Reference!$O$8:$P$4113,2,FALSE),\"\")","v":""}]
[null,null,null,"Academy name",{"$f":"IF(D59<>\"Academy name\",VLOOKUP(D59,Reference!$O$8:$P$4113,2,FALSE),\"\")","v":""}]
[null,null,null,"Academy name",{"$f":"IF(D60<>\"Academy name\",VLOOKUP(D60,Reference!$O$8:$P$4113,2,FALSE),\"\")","v":""}]
[null,null,null,"Academy name",{"$f":"IF(D61<>\"Academy name\",VLOOKUP(D61,Reference!$O$8:$P$4113,2,FALSE),\"\")","v":""}]
[null,null,null,"Academy name",{"$f":"IF(D62<>\"Academy name\",VLOOKUP(D62,Reference!$O$8:$P$4113,2,FALSE),\"\")","v":""}]
[null,null,null,"Academy name",{"$f":"IF(D63<>\"Academy name\",VLOOKUP(D63,Reference!$O$8:$P$4113,2,FALSE),\"\")","v":""}]
[null,null,null,"Academy name",{"$f":"IF(D64<>\"Academy name\",VLOOKUP(D64,Reference!$O$8:$P$4113,2,FALSE),\"\")","v":""}]
[null,null,null,"Academy name",{"$f":"IF(D65<>\"Academy name\",VLOOKUP(D65,Reference!$O$8:$P$4113,2,FALSE),\"\")","v":""}]
[null,null,null,"Academy name",{"$f":"IF(D66<>\"Academy name\",VLOOKUP(D66,Reference!$O$8:$P$4113,2,FALSE),\"\")","v":""}]
[null,null,null,"Academy name",{"$f":"IF(D67<>\"Academy name\",VLOOKUP(D67,Reference!$O$8:$P$4113,2,FALSE),\"\")","v":""}]
[null,null,null,"Academy name",{"$f":"IF(D68<>\"Academy name\",VLOOKUP(D68,Reference!$O$8:$P$4113,2,FALSE),\"\")","v":""}]
[null,null,null,"Academy name",{"$f":"IF(D69<>\"Academy name\",VLOOKUP(D69,Reference!$O$8:$P$4113,2,FALSE),\"\")","v":""}]
[null,null,null,"Academy name",{"$f":"IF(D70<>\"Academy name\",VLOOKUP(D70,Reference!$O$8:$P$4113,2,FALSE),\"\")","v":""}]
[null,null,null,"Academy name",{"$f":"IF(D71<>\"Academy name\",VLOOKUP(D71,Reference!$O$8:$P$4113,2,FALSE),\"\")","v":""}]
[null,null,null,"Academy name",{"$f":"IF(D72<>\"Academy name\",VLOOKUP(D72,Reference!$O$8:$P$4113,2,FALSE),\"\")","v":""}]
[null,null,null,"Academy name",{"$f":"IF(D73<>\"Academy name\",VLOOKUP(D73,Reference!$O$8:$P$4113,2,FALSE),\"\")","v":""}]
[null,null,null,"Academy name",{"$f":"IF(D74<>\"Academy name\",VLOOKUP(D74,Reference!$O$8:$P$4113,2,FALSE),\"\")","v":""}]
[null,null,null,"Academy name",{"$f":"IF(D75<>\"Academy name\",VLOOKUP(D75,Reference!$O$8:$P$4113,2,FALSE),\"\")","v":""}]
[null,null,null,"Academy name",{"$f":"IF(D76<>\"Academy name\",VLOOKUP(D76,Reference!$O$8:$P$4113,2,FALSE),\"\")","v":""}]
[null,null,null,"Academy name",{"$f":"IF(D77<>\"Academy name\",VLOOKUP(D77,Reference!$O$8:$P$4113,2,FALSE),\"\")","v":""}]
[null,null,null,"Academy name",{"$f":"IF(D78<>\"Academy name\",VLOOKUP(D78,Reference!$O$8:$P$4113,2,FALSE),\"\")","v":""}]
[null,null,null,"Academy name",{"$f":"IF(D79<>\"Academy name\",VLOOKUP(D79,Reference!$O$8:$P$4113,2,FALSE),\"\")","v":""}]
[null,null,null,"Academy name",{"$f":"IF(D80<>\"Academy name\",VLOOKUP(D80,Reference!$O$8:$P$4113,2,FALSE),\"\")","v":""}]
[null,null,null,"Academy name",{"$f":"IF(D81<>\"Academy name\",VLOOKUP(D81,Reference!$O$8:$P$4113,2,FALSE),\"\")","v":""}]
[null,null,null,"Academy name",{"$f":"IF(D82<>\"Academy name\",VLOOKUP(D82,Reference!$O$8:$P$4113,2,FALSE),\"\")","v":""}]
[null,null,null,"Academy name",{"$f":"IF(D83<>\"Academy name\",VLOOKUP(D83,Reference!$O$8:$P$4113,2,FALSE),\"\")","v":""}]
[null,null,null,"Academy name",{"$f":"IF(D84<>\"Academy name\",VLOOKUP(D84,Reference!$O$8:$P$4113,2,FALSE),\"\")","v":""}]
[null,null,null,"Academy name",{"$f":"IF(D85<>\"Academy name\",VLOOKUP(D85,Reference!$O$8:$P$4113,2,FALSE),\"\")","v":""}]
[null,null,null,"Academy name",{"$f":"IF(D86<>\"Academy name\",VLOOKUP(D86,Reference!$O$8:$P$4113,2,FALSE),\"\")","v":""}]
[null,null,null,"Academy name",{"$f":"IF(D87<>\"Academy name\",VLOOKUP(D87,Reference!$O$8:$P$4113,2,FALSE),\"\")","v":""}]
[null,null,null,"Academy name",{"$f":"IF(D88<>\"Academy name\",VLOOKUP(D88,Reference!$O$8:$P$4113,2,FALSE),\"\")","v":""}]
[null,null,null,"Academy name",{"$f":"IF(D89<>\"Academy name\",VLOOKUP(D89,Reference!$O$8:$P$4113,2,FALSE),\"\")","v":""}]
[null,null,null,"Academy name",{"$f":"IF(D90<>\"Academy name\",VLOOKUP(D90,Reference!$O$8:$P$4113,2,FALSE),\"\")","v":""}]
[null,null,null,"Academy name",{"$f":"IF(D91<>\"Academy name\",VLOOKUP(D91,Reference!$O$8:$P$4113,2,FALSE),\"\")","v":""}]
[null,null,null,"Academy name",{"$f":"IF(D92<>\"Academy name\",VLOOKUP(D92,Reference!$O$8:$P$4113,2,FALSE),\"\")","v":""}]
[null,null,null,"Academy name",{"$f":"IF(D93<>\"Academy name\",VLOOKUP(D93,Reference!$O$8:$P$4113,2,FALSE),\"\")","v":""}]
[null,null,null,"Academy name",{"$f":"IF(D94<>\"Academy name\",VLOOKUP(D94,Reference!$O$8:$P$4113,2,FALSE),\"\")","v":""}]
[null,null,null,"Academy name",{"$f":"IF(D95<>\"Academy name\",VLOOKUP(D95,Reference!$O$8:$P$4113,2,FALSE),\"\")","v":""}]
[null,null,null,"Academy name",{"$f":"IF(D96<>\"Academy name\",VLOOKUP(D96,Reference!$O$8:$P$4113,2,FALSE),\"\")","v":""}]
[null,null,null,"Academy name",{"$f":"IF(D97<>\"Academy name\",VLOOKUP(D97,Reference!$O$8:$P$4113,2,FALSE),\"\")","v":""}]
[null,null,null,"Academy name",{"$f":"IF(D98<>\"Academy name\",VLOOKUP(D98,Reference!$O$8:$P$4113,2,FALSE),\"\")","v":""}]
[null,null,null,"Academy name",{"$f":"IF(D99<>\"Academy name\",VLOOKUP(D99,Reference!$O$8:$P$4113,2,FALSE),\"\")","v":""}]
[null,null,null,"Academy name",{"$f":"IF(D100<>\"Academy name\",VLOOKUP(D100,Reference!$O$8:$P$4113,2,FALSE),\"\")","v":""}]
[null,null,null,"Academy name",{"$f":"IF(D101<>\"Academy name\",VLOOKUP(D101,Reference!$O$8:$P$4113,2,FALSE),\"\")","v":""}]
[null,null,null,"Academy name",{"$f":"IF(D102<>\"Academy name\",VLOOKUP(D102,Reference!$O$8:$P$4113,2,FALSE),\"\")","v":""}]
[null,null,null,0,{"$f":"IF(D103<>\"Academy name\",VLOOKUP(D103,Reference!$O$8:$P$4113,2,FALSE),\"\")","v":{"$error":"#N/A"}}]
[null,null,null,0,{"$f":"IF(D104<>\"Academy name\",VLOOKUP(D104,Reference!$O$8:$P$4113,2,FALSE),\"\")","v":{"$error":"#N/A"}}]
[null,null,null,"Academy name",{"$f":"IF(D105<>\"Academy name\",VLOOKUP(D105,Reference!$O$8:$P$4113,2,FALSE),\"\")","v":""}]
[null,null,null,"Academy name",{"$f":"IF(D106<>\"Academy name\",VLOOKUP(D106,Reference!$O$8:$P$4113,2,FALSE),\"\")","v":""}]
[null,null,null,0,{"$f":"IF(D107<>\"Academy name\",VLOOKUP(D107,Reference!$O$8:$P$4113,2,FALSE),\"\")","v":{"$error":"#N/A"}}]
[null,null,null,"Academy name",{"$f":"IF(D108<>\"Academy name\",VLOOKUP(D108,Reference!$O$8:$P$4113,2,FALSE),\"\")","v":""}]
[null,null,null,0,{"$f":"IF(D109<>\"Academy name\",VLOOKUP(D109,Reference!$O$8:$P$4113,2,FALSE),\"\")","v":{"$error":"#N/A"}}]
[null,null,null,0,{"$f":"IF(D110<>\"Academy name\",VLOOKUP(D110,Reference!$O$8:$P$4113,2,FALSE),\"\")","v":{"$error":"#N/A"}}]
[null,null,null,"Academy name",{"$f":"IF(D111<>\"Academy name\",VLOOKUP(D111,Reference!$O$8:$P$4113,2,FALSE),\"\")","v":""}]
[null,null,null,"Academy name",{"$f":"IF(D112<>\"Academy name\",VLOOKUP(D112,Reference!$O$8:$P$4113,2,FALSE),\"\")","v":""}]
[null,null,null,"Academy name",{"$f":"IF(D113<>\"Academy name\",VLOOKUP(D113,Reference!$O$8:$P$4113,2,FALSE),\"\")","v":""}]
[null,null,null,"Academy name",{"$f":"IF(D114<>\"Academy name\",VLOOKUP(D114,Reference!$O$8:$P$4113,2,FALSE),\"\")","v":""}]
[null,null,null,"Academy name",{"$f":"IF(D115<>\"Academy name\",VLOOKUP(D115,Reference!$O$8:$P$4113,2,FALSE),\"\")","v":""}]
[null,null,null,"Academy name",{"$f":"IF(D116<>\"Academy name\",VLOOKUP(D116,Reference!$O$8:$P$4113,2,FALSE),\"\")","v":""}]
[null,null,null,"Academy name",{"$f":"IF(D117<>\"Academy name\",VLOOKUP(D117,Reference!$O$8:$P$4113,2,FALSE),\"\")","v":""}]
[null,null,null,"Academy name",{"$f":"IF(D118<>\"Academy name\",VLOOKUP(D118,Reference!$O$8:$P$4113,2,FALSE),\"\")","v":""}]
[null,null,null,"Academy name",{"$f":"IF(D119<>\"Academy name\",VLOOKUP(D119,Reference!$O$8:$P$4113,2,FALSE),\"\")","v":""}]
[null,null,null,"Academy name",{"$f":"IF(D120<>\"Academy name\",VLOOKUP(D120,Reference!$O$8:$P$4113,2,FALSE),\"\")","v":""}]
[null,null,null,"Academy name",{"$f":"IF(D121<>\"Academy name\",VLOOKUP(D121,Reference!$O$8:$P$4113,2,FALSE),\"\")","v":""}]
[null,null,null,"Academy name",{"$f":"IF(D122<>\"Academy name\",VLOOKUP(D122,Reference!$O$8:$P$4113,2,FALSE),\"\")","v":""}]
[null,null,null,"Academy name",{"$f":"IF(D123<>\"Academy name\",VLOOKUP(D123,Reference!$O$8:$P$4113,2,FALSE),\"\")","v":""}]
[null,null,null,"Academy name",{"$f":"IF(D124<>\"Academy name\",VLOOKUP(D124,Reference!$O$8:$P$4113,2,FALSE),\"\")","v":""}]
[null,null,null,"Academy name",{"$f":"IF(D125<>\"Academy name\",VLOOKUP(D125,Reference!$O$8:$P$4113,2,FALSE),\"\")","v":""}]
[null,null,null,"Academy name",{"$f":"IF(D126<>\"Academy name\",VLOOKUP(D126,Reference!$O$8:$P$4113,2,FALSE),\"\")","v":""}]
[null,null,null,"Academy name",{"$f":"IF(D127<>\"Academy name\",VLOOKUP(D127,Reference!$O$8:$P$4113,2,FALSE),\"\")","v":""}]
[null,null,null,"Academy name",{"$f":"IF(D128<>\"Academy name\",VLOOKUP(D128,Reference!$O$8:$P$4113,2,FALSE),\"\")","v":""}]
[null,null,null,"Academy name",{"$f":"IF(D129<>\"Academy name\",VLOOKUP(D129,Reference!$O$8:$P$4113,2,FALSE),\"\")","v":""}]
[null,null,null,"Academy name",{"$f":"IF(D130<>\"Academy name\",VLOOKUP(D130,Reference!$O$8:$P$4113,2,FALSE),\"\")","v":""}]
[null,null,null,"Academy name",{"$f":"IF(D131<>\"Academy name\",VLOOKUP(D131,Reference!$O$8:$P$4113,2,FALSE),\"\")","v":""}]
[null,null,null,"Academy name",{"$f":"IF(D132<>\"Academy name\",VLOOKUP(D132,Reference!$O$8:$P$4113,2,FALSE),\"\")","v":""}]
[null,null,null,"Please select names from the drop-down box in \nthe cells above",null,"Select from drop-down box in the cells above"]
[]
[]
["PREPARER sign off"]
["Contact details of person completing the form:"]
[" (please enter these details, so EFA can contact you if there are any questions)"]
["Contact Name:     "]
["Contact Telephone Number:     "]
["Contact E-mail Address:     "]
[]
[]
[]
[]
["ACADEMY TRUST DECLARATION"]
[]
[]
["I certify that the information contained in this budget forecast is supported by appropriate working papers and is accurate and complete."]
[]
["Signed:   ","Please type name here"]
["Accounting Officer"]
[]
["Date: ","Please type date here"]
[]
["including May 2014 openers"]
[null,"2014-05-29"]

{"sheet":"Budget forecast 2014-2015","index":1,"n_rows":302,"n_cols":21,"rows_kept":302,"cut":false,"hidden":false,"merged":[[154,13,154,14],[154,16,154,17],[154,19,154,20]]}
["2014/15 Academies Budget Forecast",null,null,null,null,null,null,null,null,null,null,"BLUE CELLS - enter data"]
["Please enter all numbers (income and expenditure) as positive figures",null,null,null,null,null,null,null,null,null,null,"GREY CELLS - calculated"]
["Please enter 0 in cells which have no income or expenditure recorded",null,null,null,null,null,null,null,null,null,null,"ORANGE CELLS - enter comment"]
["Balance sheet and new academies assets signage to be determined by cell as noted",null,null,null,null,null,null,null,null,null,null,"Grey dotted cells No input required"]
["Academy name:"]
[{"$f":"+'Standing data'!D6","v":"Academy name"}]
[]
[null,null,null,"Actuals","Forecast","Outturn",null,"Forecast","Forecast","TOTAL"]
["REVENUE ",null,null,"Sept 13 - Mar 14","Apr 14 - Aug 14","2013/14",null,"Sept 14 - Mar 15","Apr 15 - Aug 15","2014/15",null,null,null,"Lower limit","Upper limit "]
["Revenue income",null,"Line no.","£'000","£'000","£'000",null,"£'000","£'000","£'000",null,"Comments",null,"£000","£000"]
["EFA: ","20% Rates Relief",101,null,{"$f":"F11-D11","v":0},null,null,null,null,{"$f":"SUM(H11:I11)","v":0},null,null,null,0,100000]
[null,"Pupil Led Factors",102,null,{"$f":"F12-D12","v":0},null,null,null,null,{"$f":"SUM(H12:I12)","v":0},null,null,null,0,100000]
[null,"Academy Post 16 Bursary Funding",103,null,{"$f":"F13-D13","v":0},null,null,null,null,{"$f":"SUM(H13:I13)","v":0},null,null,null,0,100000]
[null,"Start Up Grant - A",104,null,0,null,null,null,null,0,null,null,null,0,100000]
[null,"Start Up Grant - B Formula",105,null,0,null,null,null,null,0,null,null,null,0,100000]
[null,"Start Up Grant - B Assessment",106,null,{"$f":"F16-D16","v":0},null,null,null,null,{"$f":"SUM(H16:I16)","v":0},null,null,null,0,100000]
[null,"Insurance",107,null,0,null,null,null,null,0,null,null,null,0,100000]
[null,"Pupil Premium",108,null,0,null,null,null,null,0,null,null,null,0,100000]
[null,"Advances & Abatements",109,null,0,null,null,null,null,0,null,null,null,-50000,100000]
[null,"Admission Appeals",110,null,0,null,null,null,null,0,null,null,null,0,100000]
[null,"Generic EAG",111,null,0,null,null,null,null,0,null,null,null,0,100000]
[null,"EAG Additional PFI Costs",112,null,0,null,null,null,null,0,null,null,null,0,100000]
[null,"Deficit Funding ",113,null,0,null,null,null,null,0,null,"Please provide details",null,0,100000]
[null,"Restructuring & TUPE",114,null,0,null,null,null,null,0,null,null,null,0,100000]
[null,"PE Sports grant",115,null,{"$f":"F25-D25","v":0},null,null,null,null,0,null,null,null,0,100000]
[null,"16-19 Allocation ",116,null,{"$f":"F26-D26","v":0},null,null,null,null,0,null,null,null,0,100000]
[null,"Other Factors ",117,null,{"$f":"F27-D27","v":0},null,null,null,null,0,null,null,null,0,100000]
[null,"Exceptional Factors ",118,null,{"$f":"F28-D28","v":0},null,null,null,null,0,null,null,null,0,100000]
[null,"Minimum Funding Guarantee (MFG)",119,null,{"$f":"F29-D29","v":0},null,null,null,null,{"$f":"SUM(H29:I29)","v":0},null,null,null,-100000,100000]
[null,"Insurance Top Up",120,null,{"$f":"F30-D30","v":0},null,null,null,null,0,null,null,null,0,100000]
[null,"Education Services Grant ",121,null,0,null,null,null,null,0,null,null,null,0,100000]
[null,"Post 16 High Needs Block ",122,null,0,null,null,null,null,0,null,null,null,0,100000]
[null,"Pupil Premium Summer School ",123,null,0,null,null,null,null,0,null,null,null,0,100000]
[null,"Year 7 Catch Up ",124,null,0,null,null,null,null,0,null,null,null,0,100000]
[null,"Pre 16 High Needs Block",125,null,0,null,null,null,null,0,null,null,null,0,100000]
[null,"Universal Infant Free School Meals",126,null,0,null,null,null,null,0,null,null,null,0,100000]
[null,"Allocation Protection",127,null,0,null,null,null,null,0,null,null,null,0,100000]
[null,"SEN LACSEG Adjustment  ",128,null,0,null,null,null,null,0,null,null,null,-100000,100000]
[null,"Free meals in FE ",129,null,{"$f":"F39-D39","v":0},null,null,null,null,{"$f":"SUM(H39:I39)","v":0},null,null,null,0,100000]
[null,"Other income - Revenue",130,null,0,null,null,null,null,{"$f":"SUM(H40:I40)","v":0},null,null,null,0,100000]
["Other DfE family revenue Grants",null,131,null,0,null,null,null,null,0,null,null,null,0,100000]
["Total DfE revenue Income",null,199,{"$f":"SUM(D11:D41)","v":0},{"$f":"SUM(E11:E41)","v":0},{"$f":"SUM(F11:F41)","v":0},null,{"$f":"SUM(H11:H41)","v":0},{"$f":"SUM(I11:I41)","v":0},{"$f":"SUM(J11:J41)","v":0}]
[]
["Local authority:","Revenue income",200,null,{"$f":"F44-D44","v":0},null,null,null,null,{"$f":"SUM(H44:I44)","v":0},null,null,null,0,100000]
[null,"Revenue surplus transfer to academy on conversion(excluding pensions and fixed assets which are to be included in the breakdown from 800 to 899)",201,null,{"$f":"F45-D45","v":0},null,null,null,null,0,null,null,null,0,100000]
["Voluntary income:","From assets donated on conversion from any party other than local authority (breakdown of figure to be provide at line 900 onwards)",202,null,0,null,null,null,null,0,null,null,null,0,150000]
[null,"Donated assets in the year excluding assets transferred on conversion (dealt with on line above)",203,null,0,null,null,null,null,0,null,null,null,0,100000]
[null,"Other",204,null,0,null,null,null,null,{"$f":"SUM(H48:I48)","v":0},null,null,null,0,100000]
["Other Government Grant revenue income",null,205,null,0,null,null,null,null,0,null,null,null,0,100000]
["Activities for Generating Funds",null,206,null,0,null,null,null,null,0,null,null,null,0,100000]
["Investment income",null,207,null,0,null,null,null,null,0,null,null,null,0,100000]
["Other Income:","Gift aid from Trading Subsidiary",208,null,0,null,null,null,null,0,null,null,null,0,100000]
[null,"Other",209,null,0,null,null,null,null,0,null,null,null,0,100000]
["Total Other revenue Income",null,250,{"$f":"SUM(D44:D53)","v":0},{"$f":"SUM(E44:E53)","v":0},{"$f":"SUM(F44:F53)","v":0},null,{"$f":"SUM(H44:H53)","v":0},{"$f":"SUM(I44:I53)","v":0},{"$f":"SUM(J44:J53)","v":0}]
[]
["Transfer in Revenue from Capital (line 585)",null,255,{"$f":"D110","v":0},{"$f":"F56-D56","v":0},{"$f":"F110","v":0},null,{"$f":"H110","v":0},{"$f":"I110","v":0},{"$f":"SUM(H56:I56)","v":0}]
[]
["Total Revenue Income",null,299,{"$f":"+D42+D54+D56","v":0},{"$f":"+E42+E54+E56","v":0},{"$f":"+F42+F54+F56","v":0},null,{"$f":"+H42+H54+H56","v":0},{"$f":"+I42+I54+I56","v":0},{"$f":"+J42+J54+J56","v":0}]
[]
["Expenditure excluding depreciation and LGPS movements"]
["Staff Costs:          ","Teaching staff",300,null,{"$f":"F61-D61","v":0},null,null,null,null,{"$f":"SUM(H61:I61)","v":0},null,null,null,0,100000]
[null,"Supply/Agency Teaching staff",301,null,0,null,null,null,null,0,null,null,null,0,100000]
[null,"Educational support",302,null,0,null,null,null,null,0,null,null,null,0,100000]
[null,"Other staff",303,null,0,null,null,null,null,0,null,null,null,0,100000]
[null,"Indirect employee expenses",304,null,0,null,null,null,null,0,null,null,null,0,100000]
[null,"Staff development",305,null,0,null,null,null,null,0,null,null,null,0,100000]
["Total Staff expenditure",null,310,{"$f":"SUM(D61:D66)","v":0},0,{"$f":"SUM(F61:F66)","v":0},null,{"$f":"SUM(H61:H66)","v":0},{"$f":"SUM(I61:I66)","v":0},0,null,null,null,0,100000]
["Transfer of revenue deficit from local authority on conversion(excluding pensions and fixed assets)",null,320,null,0,null,null,null,null,0,null,null,null,-100000,100000]
["Premises:","Rent",330,null,0,null,null,null,null,0,null,null,null,0,100000]
[null,"Rates",331,null,0,null,null,null,null,0,null,null,null,0,100000]
[null,"Maintenance and services",332,null,0,null,null,null,null,0,null,null,null,0,100000]
[null,"Other Premises",333,null,0,null,null,null,null,0,null,null,null,0,100000]
["Operating leases (excluding Land and Building) payments in period.",null,334,null,0,null,null,null,null,0,null,null,null,0,100000]
["Insurance",null,340,null,0,null,null,null,null,0,null,null,null,0,100000]
["Supplies and Services:","Educational IT",345,null,0,null,null,null,null,0,null,null,null,0,100000]
[null,"Educational Other (exclude IT)",346,null,0,null,null,null,null,0,null,null,null,0,100000]
[null,"Non Educational",347,null,0,null,null,null,null,0,null,null,null,0,100000]
["Other Support costs",null,360,null,0,null,null,null,null,0,null,null,null,0,100000]
["Bank interest and charges",null,361,null,0,null,null,null,null,0,null,null,null,0,100000]
["PFI charge",null,362,null,0,null,null,null,null,0,null,null,null,0,100000]
["Interest on loans",null,370,null,0,null,null,null,null,0,null,"Please provide details",null,0,100000]
["Governance costs: ","Auditors remuneration",375,null,0,null,null,null,null,0,null,null,null,0,100000]
[null,"Legal & Professional",376,null,0,null,null,null,null,0,null,null,null,0,100000]
[null,"Other",377,null,0,null,null,null,null,0,null,null,null,0,100000]
["Total revenue expenditure",null,380,{"$f":"SUM(D61:D66,D68:D84)","v":0},0,{"$f":"SUM(F61:F66,F68:F84)","v":0},null,{"$f":"SUM(H61:H66,H68:H84)","v":0},{"$f":"SUM(I61:I66,I68:I84)","v":0},0]
[]
["Net revenue income/(expenditure) for the period",null,400,{"$f":"+D58-D85","v":0},{"$f":"+E58-E85","v":0},{"$f":"+F58-F85","v":0},null,{"$f":"+H58-H85","v":0},{"$f":"+I58-I85","v":0},{"$f":"+J58-J85","v":0}]
["Balance B/Fwd from previous period",null,410,null,{"$f":"+D90","v":0},{"$f":"D88","v":0},null,{"$f":"+E90","v":0},{"$f":"+H90","v":0},{"$f":"H88","v":0},null,"Please provide details of where balances were previously reported",null,-100000,100000]
["Less transfers to capital fund",null,420,null,{"$f":"F89-D89","v":0},null,null,null,null,{"$f":"SUM(H89:I89)","v":0},null,null,null,0,150000]
["Balance C/Fwd to next period *",null,430,{"$f":"+D87+D88-D89","v":0},{"$f":"+E87+E88-E89","v":0},{"$f":"E90","v":0},null,{"$f":"+H87+H88-H89","v":0},{"$f":"+I87+I88-I89","v":0},{"$f":"I90","v":0},null,"If negative please provide explanation",null,-100000,100000]
[]
[]
[]
[null,null,null,"Actuals","Forecast","Outturn",null,"Forecast","Forecast","TOTAL"]
["CAPITAL",null,null,"Sept 13 - Mar 14","Apr 14 - Aug 14","2013/14",null,"Sept 14 - Mar 15","Apr 15 - Aug 15","2014/15",null,null,null,"Lower limit","Upper limit "]
["Capital income",null,null,"£'000","£'000","£'000",null,"£'000","£'000","£'000",null,null,null,"£000","£000"]
["EFA ","16-19 Demographic Growth Capital fund",500,null,{"$f":"F97-D97","v":0},null,null,null,null,{"$f":"SUM(H97:I97)","v":0},null,null,null,0,100000]
[null,"Devolved formula capital for young people aged 16 at academies",501,null,{"$f":"F98-D98","v":0},null,null,null,null,{"$f":"SUM(H98:I98)","v":0},null,null,null,0,100000]
[null,"EFA Devolved programmes - academies capital maintenance",502,null,{"$f":"F99-D99","v":0},null,null,null,null,{"$f":"SUM(H99:I99)","v":0},null,null,null,0,100000]
[null,"EFA - Other income - Capital",503,null,{"$f":"F100-D100","v":0},null,null,null,null,{"$f":"SUM(H100:I100)","v":0},null,null,null,0,100000]
["Other DfE family Capital Grants",null,504,null,{"$f":"F101-D101","v":0},null,null,null,null,{"$f":"SUM(H101:I101)","v":0},null,null,null,0,100000]
["Total DfE Capital Income",null,550,{"$f":"SUM(D97:D101)","v":0},{"$f":"SUM(E97:E101)","v":0},{"$f":"SUM(F97:F101)","v":0},null,{"$f":"SUM(H97:H101)","v":0},{"$f":"SUM(I97:I101)","v":0},{"$f":"SUM(J97:J101)","v":0}]
[]
["Local authority Capital income",null,560,null,{"$f":"F104-D104","v":0},null,null,null,null,{"$f":"SUM(H104:I104)","v":0},null,null,null,0,100000]
["Transfer from revenue reserves (line 420)",null,565,{"$f":"+D89","v":0},{"$f":"+E89","v":0},{"$f":"SUM(D105:E105)","v":0},null,{"$f":"+H89","v":0},{"$f":"+I89","v":0},{"$f":"SUM(H105:I105)","v":0}]
["Other:","Non government capital income (including Endowment)",570,null,{"$f":"F106-D106","v":0},null,null,null,null,{"$f":"SUM(H106:I106)","v":0},null,null,null,0,100000]
[null,"Other Government Grant Capital income",571,null,{"$f":"F107-D107","v":0},null,null,null,null,{"$f":"SUM(H107:I107)","v":0},null,null,null,0,100000]
["Total Other Capital Income",null,580,{"$f":"SUM(D104:D107)","v":0},{"$f":"SUM(E104:E107)","v":0},{"$f":"SUM(F104:F107)","v":0},null,0,0,0]
[]
["Transfer to Revenue from Capital (line 255)",null,585,null,{"$f":"F110-D110","v":0},null,null,null,null,{"$f":"SUM(H110:I110)","v":0},null,null,null,-100000,100000]
[]
["Total Capital Income",null,599,{"$f":"+D102+D108-D110","v":0},{"$f":"+E102+E108-E110","v":0},{"$f":"+F102+F108-F110","v":0},null,{"$f":"+H102+H108-H110","v":0},{"$f":"+I102+I108-I110","v":0},{"$f":"+J102+J108-J110","v":0}]
[]
["Capital Expenditure"]
["Land & buildings",null,600,null,{"$f":"F115-D115","v":0},null,null,null,null,{"$f":"SUM(H115:I115)","v":0},null,null,null,0,100000]
["Other additions",null,601,null,{"$f":"F116-D116","v":0},null,null,null,null,{"$f":"SUM(H116:I116)","v":0},null,null,null,0,100000]
[]
["Total Capital Expenditure",null,650,{"$f":"SUM(D115:D116)","v":0},{"$f":"SUM(E115:E116)","v":0},{"$f":"SUM(F115:F116)","v":0},null,{"$f":"SUM(H115:H116)","v":0},{"$f":"SUM(I115:I116)","v":0},{"$f":"SUM(J115:J116)","v":0}]
[]
[]
["Net Capital income/(expenditure) for the period",null,660,{"$f":"+D112-D118","v":0},{"$f":"+E112-E118","v":0},{"$f":"+F112-F118","v":0},null,{"$f":"+H112-H118","v":0},{"$f":"+I112-I118","v":0},{"$f":"+J112-J118","v":0}]
["Balance B/Fwd from previous period",null,670,null,{"$f":"+D123","v":0},{"$f":"D122","v":0},null,{"$f":"+E123","v":0},{"$f":"+H123","v":0},{"$f":"H122","v":0},null,null,null,-50000,100000]
["Balance C/Fwd to next period ",null,680,{"$f":"SUM(D121:D122)","v":0},{"$f":"SUM(E121:E122)","v":0},{"$f":"E123","v":0},null,{"$f":"SUM(H121:H122)","v":0},{"$f":"SUM(I121:I122)","v":0},{"$f":"I123","v":0}]
[]
[]
[]
["OTHER ITEMS",null,null,"Balance b/fwd  at 1 Sept 13","Balance c/fwd  at 31 Mar 14","Balance c/fwd  at 31 Aug 14",null,"Balance c/fwd  at 31 Mar 15","Balance c/fwd at 31 Aug 15",null,null,null,null,"Lower limit","Upper limit "]
["Cash as at",null,null,"£'000","£'000","£'000",null,"£'000","£'000",null,null,null,null,"£000","£000"]
["Cash at bank and in hand",null,700,null,null,null,null,null,null,null,null,"If negative please provide explanation",null,-5000,100000]
[]
[null,null,null,"Actuals","Forecast","Outturn",null,"Forecast","Forecast","TOTAL"]
[null,null,null,"Sept 13 - Mar 14","Apr 14 - Aug 14","2013/14",null,"Sept 14 - Mar 15","Apr 15 - Aug 15","2014/15",null,null,null,"Lower limit","Upper limit "]
["Depreciation as at",null,null,"£'000","£'000","£'000",null,"£'000","£'000","£'000",null,null,null,"£000","£000"]
["Depreciation:","Building",750,null,{"$f":"F134-D134","v":0},null,null,null,null,{"$f":"SUM(H134:I134)","v":0},null,null,null,0,100000]
[null,"Donated assets",751,null,{"$f":"F135-D135","v":0},null,null,null,null,{"$f":"SUM(H135:I135)","v":0},null,null,null,0,100000]
[null,"Other",752,null,{"$f":"F136-D136","v":0},null,null,null,null,{"$f":"SUM(H136:I136)","v":0},null,null,null,0,100000]
["Total Depreciation",null,770,{"$f":"SUM(D134:D136)","v":0},{"$f":"SUM(E134:E136)","v":0},{"$f":"SUM(F134:F136)","v":0},null,{"$f":"SUM(H134:H136)","v":0},{"$f":"SUM(I134:I136)","v":0},{"$f":"SUM(J134:J136)","v":0}]
[]
[]
[null,null,null,"Balance b/fwd at 1 Sept 13 and movements to 31 Mar 14","Balance b/fwd at 1 Apr 14 and movements to 31 Aug 14","Balance b/fwd at 1 Sept 14 and movements to 31 Mar 15",null,"Balance b/fwd at 1 Apr 15 and movements to 31 Aug 15","Balance b/fwd at 1 Sept 15 and movements to 31 Mar 16",null,null,null,null,"Lower limit","Upper limit "]
["Provisions:",null,null,"£'000","£'000","£'000",null,"£'000","£'000",null,null,null,null,"£000","£000"]
["Opening provision",null,780,null,{"$f":"D146","v":0},{"$f":"E146","v":0},null,{"$f":"F146","v":0},{"$f":"H146","v":0},null,null,null,null,0,50000]
["Creation / increase",null,781,null,null,null,null,null,null,null,null,null,null,-50000,50000]
["Provisions release",null,782,null,null,null,null,null,null,null,null,null,null,-50000,0]
["In year utilisation",null,783,null,null,null,null,null,null,null,null,null,null,-50000,0]
["Closing position",null,784,{"$f":"SUM(D142:D145)","v":0},{"$f":"SUM(E142:E145)","v":0},{"$f":"SUM(F142:F145)","v":0},null,{"$f":"SUM(H142:H145)","v":0},{"$f":"SUM(I142:I145)","v":0}]
[]
[]
["Loans as at"]
["Opening outstanding loans",null,790,null,{"$f":"D152","v":0},{"$f":"E152","v":0},null,{"$f":"F152","v":0},{"$f":"H152","v":0},null,null,"Please provide details",null,0,50000]
["Increase/Decrease in outstanding loans",null,791,null,null,null,null,null,null,null,null,"Please provide details",null,-50000,50000]
["Closing outstanding loans",null,792,{"$f":"SUM(D150:D151)","v":0},{"$f":"SUM(E150:E151)","v":0},{"$f":"SUM(F150:F151)","v":0},null,{"$f":"SUM(H150:H151)","v":0},{"$f":"SUM(I150:I151)","v":0},null,null,"Please provide details",null,0,50000]
[]
[]
[null,null,null,null,null,null,null,null,null,null,null,null,null,"Columns E & F",null,null,"Column I",null,null,"Column H & J"]
["New Academies Assets ( Sept'13  - Aug'14)",null,null,"Total","Land and Building","Other Fixed Assets",null,"Cash Surplus/Deficit","Pension Liability","Other",null,null,null,"Lower limit","Upper limit ",null,"Lower limit","Upper limit ",null,"Lower limit","Upper limit "]
["Transfer of Assets/Liabilities on Conversion:",null,null,"£'000","£'000","£'000",null,"£'000","£'000","£'000",null,null,null,"£000","£000",null,"£000","£000",null,"£000","£000"]
["Local Authorities:",null,800,{"$f":"+E158+F158+H158+I158+J158","v":0},null,null,null,null,null,null,null,null,null,0,150000,null,-100000,50000,null,-50000,100000]
[null,null,801,{"$f":"+E159+F159+H159+I159+J159","v":0},null,null,null,null,null,null,null,null,null,{"$f":"N158","v":0},{"$f":"O158","v":150000},null,{"$f":"Q158","v":-100000},{"$f":"R158","v":50000},null,{"$f":"T158","v":-50000},{"$f":"U158","v":100000}]
[null,null,802,{"$f":"+E160+F160+H160+I160+J160","v":0},null,null,null,null,null,null,null,null,null,{"$f":"N159","v":0},150000,null,{"$f":"Q159","v":-100000},50000,null,{"$f":"T159","v":-50000},100000]
[null,null,803,0,null,null,null,null,null,null,null,null,null,0,150000,null,-100000,50000,null,-50000,100000]
[null,null,804,0,null,null,null,null,null,null,null,null,null,0,150000,null,-100000,50000,null,-50000,100000]
[null,null,805,0,null,null,null,null,null,null,null,null,null,0,150000,null,-100000,50000,null,-50000,100000]
[null,null,806,0,null,null,null,null,null,null,null,null,null,0,150000,null,-100000,50000,null,-50000,100000]
[null,null,807,0,null,null,null,null,null,null,null,null,null,0,150000,null,-100000,50000,null,-50000,100000]
[null,null,808,0,null,null,null,null,null,null,null,null,null,0,150000,null,-100000,50000,null,-50000,100000]
[null,null,809,0,null,null,null,null,null,null,null,null,null,0,150000,null,-100000,50000,null,-50000,100000]
[null,null,810,0,null,null,null,null,null,null,null,null,null,0,150000,null,-100000,50000,null,-50000,100000]
[null,null,811,0,null,null,null,null,null,null,null,null,null,0,150000,null,-100000,50000,null,-50000,100000]
[null,null,812,0,null,null,null,null,null,null,null,null,null,0,150000,null,-100000,50000,null,-50000,100000]
[null,null,813,0,null,null,null,null,null,null,null,null,null,0,150000,null,-100000,50000,null,-50000,100000]
[null,null,814,0,null,null,null,null,null,null,null,null,null,0,150000,null,-100000,50000,null,-50000,100000]
[null,null,815,0,null,null,null,null,null,null,null,null,null,0,150000,null,-100000,50000,null,-50000,100000]
[null,null,816,0,null,null,null,null,null,null,null,null,null,0,150000,null,-100000,50000,null,-50000,100000]
[null,null,817,0,null,null,null,null,null,null,null,null,null,0,150000,null,-100000,50000,null,-50000,100000]
[null,null,818,0,null,null,null,null,null,null,null,null,null,{"$f":"N175","v":0},150000,null,{"$f":"Q175","v":-100000},50000,null,{"$f":"T175","v":-50000},100000]
[null,null,819,0,null,null,null,null,null,null,null,null,null,0,150000,null,-100000,50000,null,-50000,100000]
[null,null,820,0,null,null,null,null,null,null,null,null,null,0,150000,null,-100000,50000,null,-50000,100000]
[null,null,821,0,null,null,null,null,null,null,null,null,null,0,150000,null,-100000,50000,null,-50000,100000]
[null,null,822,0,null,null,null,null,null,null,null,null,null,0,150000,null,-100000,50000,null,-50000,100000]
[null,null,823,0,null,null,null,null,null,null,null,null,null,0,150000,null,-100000,50000,null,-50000,100000]
[null,null,824,0,null,null,null,null,null,null,null,null,null,0,150000,null,-100000,50000,null,-50000,100000]
[null,null,825,0,null,null,null,null,null,null,null,null,null,0,150000,null,-100000,50000,null,-50000,100000]
[null,null,826,0,null,null,null,null,null,null,null,null,null,0,150000,null,-100000,50000,null,-50000,100000]
[null,null,827,0,null,null,null,null,null,null,null,null,null,0,150000,null,-100000,50000,null,-50000,100000]
[null,null,828,0,null,null,null,null,null,null,null,null,null,0,150000,null,-100000,50000,null,-50000,100000]
[null,null,829,0,null,null,null,null,null,null,null,null,null,0,150000,null,-100000,50000,null,-50000,100000]
[null,null,830,0,null,null,null,null,null,null,null,null,null,0,150000,null,-100000,50000,null,-50000,100000]
[null,null,831,0,null,null,null,null,null,null,null,null,null,0,150000,null,-100000,50000,null,-50000,100000]
[null,null,832,0,null,null,null,null,null,null,null,null,null,0,150000,null,-100000,50000,null,-50000,100000]
[null,null,833,0,null,null,null,null,null,null,null,null,null,0,150000,null,-100000,50000,null,-50000,100000]
[null,null,834,0,null,null,null,null,null,null,null,null,null,{"$f":"N191","v":0},150000,null,{"$f":"Q191","v":-100000},50000,null,{"$f":"T191","v":-50000},100000]
[null,null,835,0,null,null,null,null,null,null,null,null,null,0,150000,null,-100000,50000,null,-50000,100000]
[null,null,836,0,null,null,null,null,null,null,null,null,null,0,150000,null,-100000,50000,null,-50000,100000]
[null,null,837,0,null,null,null,null,null,null,null,null,null,0,150000,null,-100000,50000,null,-50000,100000]
[null,null,838,0,null,null,null,null,null,null,null,null,null,0,150000,null,-100000,50000,null,-50000,100000]
[null,null,839,0,null,null,null,null,null,null,null,null,null,0,150000,null,-100000,50000,null,-50000,100000]
[null,null,840,0,null,null,null,null,null,null,null,null,null,0,150000,null,-100000,50000,null,-50000,100000]
[null,null,841,0,null,null,null,null,null,null,null,null,null,0,150000,null,-100000,50000,null,-50000,100000]
[null,null,842,0,null,null,null,null,null,null,null,null,null,0,150000,null,-100000,50000,null,-50000,100000]
[null,null,843,0,null,null,null,null,null,null,null,null,null,0,150000,null,-100000,50000,null,-50000,100000]
[null,null,844,0,null,null,null,null,null,null,null,null,null,0,150000,null,-100000,50000,null,-50000,100000]
[null,null,845,0,null,null,null,null,null,null,null,null,null,0,150000,null,-100000,50000,null,-50000,100000]
[null,null,846,0,null,null,null,null,null,null,null,null,null,0,150000,null,-100000,50000,null,-50000,100000]
[null,null,847,0,null,null,null,null,null,null,null,null,null,0,150000,null,-100000,50000,null,-50000,100000]
[null,null,848,0,null,null,null,null,null,null,null,null,null,0,150000,null,-100000,50000,null,-50000,100000]
[null,null,849,0,null,null,null,null,null,null,null,null,null,0,150000,null,-100000,50000,null,-50000,100000]
[null,null,850,0,null,null,null,null,null,null,null,null,null,{"$f":"N207","v":0},150000,null,{"$f":"Q207","v":-100000},50000,null,{"$f":"T207","v":-50000},100000]
[null,null,851,0,null,null,null,null,null,null,null,null,null,0,150000,null,-100000,50000,null,-50000,100000]
[null,null,852,0,null,null,null,null,null,null,null,null,null,0,150000,null,-100000,50000,null,-50000,100000]
[null,null,853,0,null,null,null,null,null,null,null,null,null,0,150000,null,-100000,50000,null,-50000,100000]
[null,null,854,0,null,null,null,null,null,null,null,null,null,0,150000,null,-100000,50000,null,-50000,100000]
[null,null,855,0,null,null,null,null,null,null,null,null,null,0,150000,null,-100000,50000,null,-50000,100000]
[null,null,856,0,null,null,null,null,null,null,null,null,null,0,150000,null,-100000,50000,null,-50000,100000]
[null,null,857,0,null,null,null,null,null,null,null,null,null,0,150000,null,-100000,50000,null,-50000,100000]
[null,null,858,0,null,null,null,null,null,null,null,null,null,0,150000,null,-100000,50000,null,-50000,100000]
[null,null,859,0,null,null,null,null,null,null,null,null,null,0,150000,null,-100000,50000,null,-50000,100000]
[null,null,860,0,null,null,null,null,null,null,null,null,null,0,150000,null,-100000,50000,null,-50000,100000]
[null,null,861,0,null,null,null,null,null,null,null,null,null,0,150000,null,-100000,50000,null,-50000,100000]
[null,null,862,0,null,null,null,null,null,null,null,null,null,0,150000,null,-100000,50000,null,-50000,100000]
[null,null,863,0,null,null,null,null,null,null,null,null,null,0,150000,null,-100000,50000,null,-50000,100000]
[null,null,864,{"$f":"+E222+F222+H222+I222+J222","v":0},null,null,null,null,null,null,null,null,null,0,150000,null,-100000,50000,null,-50000,100000]
[null,null,865,0,null,null,null,null,null,null,null,null,null,0,150000,null,-100000,50000,null,-50000,100000]
[null,null,866,0,null,null,null,null,null,null,null,null,null,{"$f":"N223","v":0},150000,null,{"$f":"Q223","v":-100000},50000,null,{"$f":"T223","v":-50000},100000]
[null,null,867,0,null,null,null,null,null,null,null,null,null,0,150000,null,-100000,50000,null,-50000,100000]
[null,null,868,0,null,null,null,null,null,null,null,null,null,0,150000,null,-100000,50000,null,-50000,100000]
[null,null,869,0,null,null,null,null,null,null,null,null,null,0,150000,null,-100000,50000,null,-50000,100000]
[null,null,870,0,null,null,null,null,null,null,null,null,null,0,150000,null,-100000,50000,null,-50000,100000]
[null,null,871,0,null,null,null,null,null,null,null,null,null,0,150000,null,-100000,50000,null,-50000,100000]
[null,null,872,0,null,null,null,null,null,null,null,null,null,0,150000,null,-100000,50000,null,-50000,100000]
[null,null,873,0,null,null,null,null,null,null,null,null,null,0,150000,null,-100000,50000,null,-50000,100000]
[null,null,874,0,null,null,null,null,null,null,null,null,null,0,150000,null,-100000,50000,null,-50000,100000]
[null,null,875,0,null,null,null,null,null,null,null,null,null,0,150000,null,-100000,50000,null,-50000,100000]
[null,null,876,0,null,null,null,null,null,null,null,null,null,0,150000,null,-100000,50000,null,-50000,100000]
[null,null,877,0,null,null,null,null,null,null,null,null,null,0,150000,null,-100000,50000,null,-50000,100000]
[null,null,878,0,null,null,null,null,null,null,null,null,null,0,150000,null,-100000,50000,null,-50000,100000]
[null,null,879,0,null,null,null,null,null,null,null,null,null,0,150000,null,-100000,50000,null,-50000,100000]
[null,null,880,0,null,null,null,null,null,null,null,null,null,0,150000,null,-100000,50000,null,-50000,100000]
[null,null,881,0,null,null,null,null,null,null,null,null,null,0,150000,null,-100000,50000,null,-50000,100000]
[null,null,882,0,null,null,null,null,null,null,null,null,null,{"$f":"N239","v":0},150000,null,{"$f":"Q239","v":-100000},50000,null,{"$f":"T239","v":-50000},100000]
[null,null,883,0,null,null,null,null,null,null,null,null,null,0,150000,null,-100000,50000,null,-50000,100000]
[null,null,884,0,null,null,null,null,null,null,null,null,null,0,150000,null,-100000,50000,null,-50000,100000]
[null,null,885,0,null,null,null,null,null,null,null,null,null,0,150000,null,-100000,50000,null,-50000,100000]
[null,null,886,0,null,null,null,null,null,null,null,null,null,0,150000,null,-100000,50000,null,-50000,100000]
[null,null,887,0,null,null,null,null,null,null,null,null,null,0,150000,null,-100000,50000,null,-50000,100000]
[null,null,888,0,null,null,null,null,null,null,null,null,null,0,150000,null,-100000,50000,null,-50000,100000]
[null,null,889,0,null,null,null,null,null,null,null,null,null,0,150000,null,-100000,50000,null,-50000,100000]
[null,null,890,0,null,null,null,null,null,null,null,null,null,0,150000,null,-100000,50000,null,-50000,100000]
[null,null,891,0,null,null,null,null,null,null,null,null,null,0,150000,null,-100000,50000,null,-50000,100000]
[null,null,892,0,null,null,null,null,null,null,null,null,null,0,150000,null,-100000,50000,null,-50000,100000]
[null,null,893,0,null,null,null,null,null,null,null,null,null,0,150000,null,-100000,50000,null,-50000,100000]
[null,null,894,0,null,null,null,null,null,null,null,null,null,0,150000,null,-100000,50000,null,-50000,100000]
[null,null,895,0,null,null,null,null,null,null,null,null,null,0,150000,null,-100000,50000,null,-50000,100000]
[null,null,896,{"$f":"+E254+F254+H254+I254+J254","v":0},null,null,null,null,null,null,null,null,null,0,150000,null,-100000,50000,null,-50000,100000]
[null,null,897,{"$f":"+E255+F255+H255+I255+J255","v":0},null,null,null,null,null,null,null,null,null,0,150000,null,-100000,50000,null,-50000,100000]
[null,null,898,{"$f":"+E256+F256+H256+I256+J256","v":0},null,null,null,null,null,null,null,null,null,{"$f":"N255","v":0},{"$f":"O255","v":150000},null,{"$f":"Q255","v":-100000},{"$f":"R255","v":50000},null,{"$f":"T255","v":-50000},{"$f":"U255","v":100000}]
[null,null,899,{"$f":"+E257+F257+H257+I257+J257","v":0},null,null,null,null,null,null,null,null,null,{"$f":"N256","v":0},{"$f":"O256","v":150000},null,{"$f":"Q256","v":-100000},{"$f":"R256","v":50000},null,{"$f":"T256","v":-50000},{"$f":"U256","v":100000}]
[null,"Select from drop-down box in the cell above"]
[]
["From Other:",null,900,{"$f":"+E260+F260+H260+I260+J260","v":0},null,null,null,null,null,null,null,null,null,0,100000,null,-100000,50000,null,-50000,100000]
[null,null,901,0,null,null,null,null,null,null,null,null,null,{"$f":"N260","v":0},{"$f":"O260","v":100000},null,{"$f":"Q260","v":-100000},{"$f":"R260","v":50000},null,{"$f":"T260","v":-50000},{"$f":"U260","v":100000}]
[null,null,902,0,null,null,null,null,null,null,null,null,null,{"$f":"N261","v":0},100000,null,{"$f":"Q261","v":-100000},50000,null,{"$f":"T261","v":-50000},100000]
[null,null,903,0,null,null,null,null,null,null,null,null,null,0,100000,null,-100000,50000,null,-50000,100000]
[null,null,904,0,null,null,null,null,null,null,null,null,null,0,100000,null,-100000,50000,null,-50000,100000]
[null,null,905,0,null,null,null,null,null,null,null,null,null,0,100000,null,-100000,50000,null,-50000,100000]
[null,null,906,0,null,null,null,null,null,null,null,null,null,0,100000,null,-100000,50000,null,-50000,100000]
[null,null,907,0,null,null,null,null,null,null,null,null,null,0,100000,null,-100000,50000,null,-50000,100000]
[null,null,908,0,null,null,null,null,null,null,null,null,null,0,100000,null,-100000,50000,null,-50000,100000]
[null,null,909,0,null,null,null,null,null,null,null,null,null,0,100000,null,-100000,50000,null,-50000,100000]
[null,null,910,0,null,null,null,null,null,null,null,null,null,0,100000,null,-100000,50000,null,-50000,100000]
[null,null,911,0,null,null,null,null,null,null,null,null,null,0,100000,null,-100000,50000,null,-50000,100000]
[null,null,912,0,null,null,null,null,null,null,null,null,null,0,100000,null,-100000,50000,null,-50000,100000]
[null,null,913,0,null,null,null,null,null,null,null,null,null,0,100000,null,-100000,50000,null,-50000,100000]
[null,null,914,0,null,null,null,null,null,null,null,null,null,0,100000,null,-100000,50000,null,-50000,100000]
[null,null,915,0,null,null,null,null,null,null,null,null,null,0,100000,null,-100000,50000,null,-50000,100000]
[null,null,916,0,null,null,null,null,null,null,null,null,null,0,100000,null,-100000,50000,null,-50000,100000]
[null,null,917,0,null,null,null,null,null,null,null,null,null,0,100000,null,-100000,50000,null,-50000,100000]
[null,null,918,0,null,null,null,null,null,null,null,null,null,{"$f":"N277","v":0},100000,null,{"$f":"Q277","v":-100000},50000,null,{"$f":"T277","v":-50000},100000]
[null,null,919,0,null,null,null,null,null,null,null,null,null,0,100000,null,-100000,50000,null,-50000,100000]
[null,null,920,0,null,null,null,null,null,null,null,null,null,0,100000,null,-100000,50000,null,-50000,100000]
[null,null,921,0,null,null,null,null,null,null,null,null,null,0,100000,null,-100000,50000,null,-50000,100000]
[null,null,922,0,null,null,null,null,null,null,null,null,null,0,100000,null,-100000,50000,null,-50000,100000]
[null,null,923,0,null,null,null,null,null,null,null,null,null,0,100000,null,-100000,50000,null,-50000,100000]
[null,null,924,0,null,null,null,null,null,null,null,null,null,0,100000,null,-100000,50000,null,-50000,100000]
[null,null,925,0,null,null,null,null,null,null,null,null,null,0,100000,null,-100000,50000,null,-50000,100000]
[null,null,926,0,null,null,null,null,null,null,null,null,null,0,100000,null,-100000,50000,null,-50000,100000]
[null,null,927,0,null,null,null,null,null,null,null,null,null,0,100000,null,-100000,50000,null,-50000,100000]
[null,null,928,0,null,null,null,null,null,null,null,null,null,0,100000,null,-100000,50000,null,-50000,100000]
[null,null,929,0,null,null,null,null,null,null,null,null,null,0,100000,null,-100000,50000,null,-50000,100000]
[null,null,930,0,null,null,null,null,null,null,null,null,null,0,100000,null,-100000,50000,null,-50000,100000]
[null,null,931,0,null,null,null,null,null,null,null,null,null,0,100000,null,-100000,50000,null,-50000,100000]
[]
[]
[]
[]
[]
[]
[]
[]
[]
[null,null,null,null,null,null,null,{"$f":"+H158+F68","v":0}]
[null,null,null,null,null,null,null,{"$f":"H158-F45","v":0}]

{"sheet":"Reference","index":2,"n_rows":4113,"n_cols":20,"rows_kept":4113,"cut":false,"hidden":true,"merged":[]}
["EFA Accounts Return"]
["Period end:","2013-03-31"]
[]
["LOOKUPS AND DATA TABLES"]
[]
[]
["Year end",null,null,null,"Period length",null,"New or existing member",null,"Pension Schemes",null,null,"Pension scheme types",null,null,"NAME","CODE","Date of conversion","Region","Local Authority","Type"]
["2011-09-30",null,"Yes",null,"Year",null,"Existing member",null,"LGPS",1,null,"Defined benefit scheme(s) - multi-employer allocated scheme assets and liabilities",null,null,"Multi-academy Trust","Multiple","Multiple","Multiple","Multiple"]
["2011-10-31",null,"No",null,"Short first period",null,"New member",null,"Teachers Pension Scheme",2,null,"Defined benefit scheme(s) - single employer",null,null,"Federation","Multiple","Multiple","Multiple","Multiple"]
["2011-11-30",null,null,null,"Long first period",null,null,null,"Stakeholder/private pension scheme provider",3,null,"Defined benefit scheme(s) - multi-employer unallocated scheme assets and liabilities",null,null,"Other","000000"]
["2011-12-31",null,null,null,"Short later period",null,null,null,"Other",4,null,"Defined contribution scheme(s)",null,null,"Ab Kettleby Community Primary School",130335,"2014-04-01","East Midlands","Leicestershire"]
["2012-01-31",null,null,null,"Long later period",null,null,null,"Scheme Name",5,null,"Stakeholder/private pension provision",null,null,"Abacus Primary School","123288","2013-09-01","London","Camden"]
["2012-02-29",null,null,null,null,null,null,null,null,6,null,"Scheme Type",null,null,"Abbey College, Ramseys","120322","2011-09-01","East of England","Cambridgeshire"]
["2012-03-31",null,null,null,null,null,null,null,null,7,null,null,null,null,"Abbey Grange Church of England High School","120083","2011-08-01","Yorkshire & The Humber","Leeds"]
["2012-04-30",null,null,null,null,null,null,null,null,8,null,null,null,null,"Abbey Hey Primary School","124243","2013-12-01","North West","Manchester"]
["2012-05-31",null,null,null,null,null,null,null,null,9,null,null,null,null,"Abbey Hill School and Technology College","124569","2013-08-01T13:06:20","North East","Stockton-on-Tees"]
["2012-06-30",null,null,null,null,null,null,null,null,10,null,null,null,null,"Abbey Infants' School","119988","2011-08-01","North East","Darlington"]
["2012-07-31",null,null,null,"Special payments and losses",null,null,null,"Audit opinion",null,null,null,null,null,"Abbey Junior School","119989","2011-08-01","North East","Darlington"]
["2012-08-31",null,null,null,"Cash losses",null,null,null,"Unqualified",null,null,null,null,null,"Abbey Park Junior, Infant and Nursery School","126329","2013-12-01","Yorkshire & The Humber","Calderdale"]
["2012-09-30",null,null,null,"Claims abandoned",null,null,null,"Qualified",null,null,null,null,null,"Abbey School, The","120154","2011-08-01","South East","Kent"]
["2012-10-31",null,null,null,"Administration write-offs",null,null,null,"N/A - 31 March",null,null,null,null,null,"Abbey View (CCT Learning)","123404","2013-09-01","South West","Gloucestershire"]
["2012-11-30",null,null,null,"Fruitless payments",null,null,null,null,null,null,null,null,null,"Abbey Woods Academy","123534","2013-09-01","South East","Oxfordshire"]
["2012-12-31",null,null,null,"Store/stock losses",null,null,null,null,null,null,"LGPS Schemes",null,null,"Abbeyfield School","122250","2012-10-01T15:56:04","East Midlands","Northamptonshire"]
["2013-01-31",null,null,null,"Special payments",null,null,null,null,null,null,"Barking and Dagenham - LGPS",null,null,"Abbeywood Community School","122309","2013-01-01","South West","South Gloucestershire"]
["2013-02-28",null,null,null,"Gifts",null,null,null,null,null,null,"Barnet - LGPS",null,null,"Abbots Hall Primary School","122896","2013-05-01","East of England","Thurrock "]
["2013-03-31",null,null,null,null,null,null,null,null,null,null,"Bath and North East Somerset Council - LGPS",null,null,"Abbs Cross Academy and Art College","119551","2011-04-01","London","Havering"]
["2013-04-30",null,null,null,null,null,null,null,null,null,null,"Bedfordshire Pension Fund - LGPS",null,null,"Abington Academy","121203","2012-04-01","East Midlands","Leicestershire"]
[null,null,null,null,null,null,null,null,null,null,null,"Bexley - LGPS",null,null,"Abington Vale Primary School","121187","2012-11-01","East Midlands","Northamptonshire"]
[null,null,null,null,"Academy Type",null,null,null,null,null,null,"Brent - LGPS",null,null,"Abraham Darby Academy - Telford","119101","2008-09-02","West Midlands","Telford and Wrekin"]
[null,null,null,null,"Sponsored Academy",null,null,null,null,null,null,"Bromley - LGPS",null,null,"Abraham Guest Academy - Wigan","120210","2012-01-01","North West","Wigan"]
[null,null,null,null,"Converter Academy",null,null,null,null,null,null,"Buckinghamshire County Council- LGPS",null,null,"Academy 360","119119","2008-09-01","North East","Sunderland"]
[null,null,null,null,"Fast Track Sponsored",null,null,null,null,null,null,"Cambridgeshire County Council - LGPS",null,null,"Academy at Shotton Hall, The","119508","2011-02-01","North East","Durham"]
[null,null,null,null,"Free School",null,null,null,null,null,null,"Camden - LGPS",null,null,"Academy of Central Bedfordshire, The","123407","2013-09-01","East of England","Bedford"]
[null,null,null,null,"University Technical College",null,null,null,null,null,null,"Cheshire Pension Fund - LGPS",null,null,"Academy of St Francis of Assisi, The","119111","2005-09-01","North West","Liverpool"]
[null,null,null,null,"Special School",null,null,null,null,null,null,"Cornwall County Council - LGPS",null,null,"Academy St Joseph’s Catholic Primary School, Aylesham","125019","2014-01-01","South East","Kent"]
[null,null,null,null,"Studio School",null,null,null,null,null,null,"Corporation of London - LGPS",null,null,"Accrington Academy","118597","2008-09-01","North West","Lancashire"]
[null,null,null,null,"Multiple",null,null,null,null,null,null,"Croydon - LGPS",null,null,"Accrington St Christopher's Church of England High School","120359","2011-09-01","North West","Lancashire"]
[null,null,null,null,"Other",null,null,null,null,null,null,"Cumbria County Council - LGPS",null,null,"Acle High School","122565","2012-09-01","East of England","Norfolk"]
[null,null,null,null,null,null,null,null,null,null,null,"Derbyshire County Council - LGPS",null,null,"Acocks Green Primary School","123272","2013-04-01","West Midlands","Birmingham "]
[null,null,null,null,null,null,null,null,null,null,null,"Devon County Council - LGPS",null,null,"Acorn Free School, The","123412","2013-09-01","East Midlands","Lincolnshire"]
[null,null,null,null,null,null,null,null,null,null,null,"Dorset County Council  - LGPS",null,null,"Acre Hall Academy","122311","2013-07-01","North West","Trafford"]
[null,null,null,null,null,null,null,null,null,null,null,"Durham County Council - LGPS",null,null,"Acre Rigg Junior School","122739","2012-12-01","North East","Durham"]
[null,null,null,null,null,null,null,null,null,null,null,"Ealing - LGPS",null,null,"Adams' Grammar School","120418","2011-09-01","West Midlands","Telford and Wrekin"]
[null,null,null,null,null,null,null,null,null,null,null,"East Riding Pension Fund - LGPS",null,null,"Addington High School","122641","2013-06-01","London","Croydon"]
[null,null,null,null,null,null,null,null,null,null,null,"East Sussex County Council - LGPS",null,null,"Adelaide School","129409","2013-12-01","North West","Cheshire East"]
[null,null,null,null,null,null,null,null,null,null,null,"Enfield - LGPS",null,null,"Admiral Lord Nelson School",129010,"2014-04-01","South East","Portsmouth"]
[null,null,null,null,null,null,null,null,null,null,null,"Environment Agency - LGPS",null,null,"Admirals' Junior School","122656","2012-11-01","East of England","Norfolk"]
[null,null,null,null,null,null,null,null,null,null,null,"Essex County Council - LGPS",null,null,"Aerodrome School, The","123037","2012-12-01","London","Croydon"]
[null,null,null,null,null,null,null,null,null,null,null,"Gloucestershire County Council - LGPS",null,null,"Ainthorpe Primary School","124306","2013-12-01","Yorkshire & The Humber","Hull"]
[null,null,null,null,null,null,null,null,null,null,null,"Greater Manchester Pension Fund - LGPS",null,null,"Airedale Academy Trust","119563","2011-04-01","Yorkshire & The Humber","Wakefield"]
[null,null,null,null,null,null,null,null,null,null,null,"Greenwich - LGPS",null,null,"Al Madinah School","122100","2012-09-01","East Midlands","Derby"]
[null,null,null,null,null,null,null,null,null,null,null,"Hackney - LGPS",null,null,"Alameda Middle School","120249","2011-08-01","East of England","Central Bedfordshire"]
[null,null,null,null,null,null,null,null,null,null,null,"Hammersmith and Fulham - LGPS",null,null,"Alban Church of England Academy Trust - Bedford","119583","2011-04-01","East of England","Bedford"]
[null,null,null,null,null,null,null,null,null,null,null,"Hampshire Pension Fund - LGPS",null,null,"Alban City Free School - St Albans","122102","2012-09-01","East of England","Hertfordshire"]
[null,null,null,null,null,null,null,null,null,null,null,"Haringey - LGPS",null,null,"Albany Science College","121853","2012-08-01","North West","Lancashire"]
[null,null,null,null,null,null,null,null,null,null,null,"Harrow - LGPS",null,null,"Albany, The - Havering","120189","2011-08-01","London","Havering"]
[null,null,null,null,null,null,null,null,null,null,null,"Havering - LGPS",null,null,"Albion Academy, The","121940","2012-09-01","North West","Salford"]
[null,null,null,null,null,null,null,null,null,null,null,"Hertfordshire County Council - LGPS",null,null,"Alcester Academy","120172","2011-08-01","West Midlands","Warwickshire"]
[null,null,null,null,null,null,null,null,null,null,null,"Hillingdon - LGPS",null,null,"Alcester Grammar School","119579","2011-04-01","West Midlands","Warwickshire"]
[null,null,null,null,null,null,null,null,null,null,null,"Hounslow - LGPS",null,null,"Aldborough E-ACT Free School","120534","2011-09-01","London","Redbridge"]
[null,null,null,null,null,null,null,null,null,null,null,"Isle of Wight Council - LGPS",null,null,"Alderbrook Leading Edge School and Arts College","119994","2011-08-01","West Midlands","Solihull"]
[null,null,null,null,null,null,null,null,null,null,null,"Islington - LGPS",null,null,"Alderman Jacobs Primary School","119676","2011-04-01","East of England","Cambridgeshire"]
[null,null,null,null,null,null,null,null,null,null,null,"Kensington and Chelsea - LGPS",null,null,"Alderman White School","122717","2012-10-01","East Midlands","Nottinghamshire"]
[null,null,null,null,null,null,null,null,null,null,null,"Kent County Council (Kent Pension Fund) - LGPS",null,null,"Aldersley High School","122992","2013-01-01","West Midlands","Wolverhampton"]
[null,null,null,null,null,null,null,null,null,null,null,"Kingston upon Thames - LGPS",null,null,"Aldridge School - A Science College","121205","2012-04-01","West Midlands","Walsall"]
[null,null,null,null,null,null,null,null,null,null,null,"Lambeth - LGPS",null,null,"Alec Hunter Humanities College","123939","2013-04-01","East of England","Essex "]
[null,null,null,null,null,null,null,null,null,null,null,"Lancashire County Council - LGPS",null,null,"Alec Reed Academy, THe","118409","2003-09-01","London","Ealing"]
[null,null,null,null,null,null,null,null,null,null,null,"Leicestershire County Council - LGPS",null,null,"Alexandra College of Enterprise Academy, The","122775","2013-03-01T15:53:24","West Midlands","Sandwell"]
[null,null,null,null,null,null,null,null,null,null,null,"Lewisham - LGPS",null,null,"Alexandra Infant School","125230","2013-12-01","London","Bromley"]
[null,null,null,null,null,null,null,null,null,null,null,"Lincolnshire County Council - LGPS",null,null,"Alexandra Junior School","125200","2013-09-01","London","Bromley"]
[null,null,null,null,null,null,null,null,null,null,null,"London Pension Fund Authority - LGPS",null,null,"Alexandra Park School","120567","2011-10-01","London","Haringey"]
[null,null,null,null,null,null,null,null,null,null,null,"Merseyside Pension Fund - LGPS",null,null,"Alexandra School - Harrow","124171","2013-09-01","London","Harrow"]
[null,null,null,null,null,null,null,null,null,null,null,"Merton - LGPS",null,null,"Alfriston School","120753","2012-03-01","South East","Buckinghamshire"]
[null,null,null,null,null,null,null,null,null,null,null,"Newham - LGPS",null,null,"All Faiths' Children's Community School","121000","2012-06-01","South East","Medway"]
[null,null,null,null,null,null,null,null,null,null,null,"Norfolk County Council - LGPS",null,null,"All Hallows Catholic College","123111","2013-01-01","North West","Cheshire East"]
[null,null,null,null,null,null,null,null,null,null,null,"North Yorkshire County Council - LGPS",null,null,"All Saints Academy - Barnsley","120930","2012-09-01","Yorkshire & The Humber","Barnsley"]
[null,null,null,null,null,null,null,null,null,null,null,"Northamptonshire County Council - LGPS",null,null,"All Saints Academy - Bedford","119040","2009-09-01","East of England","Central Bedfordshire"]
[null,null,null,null,null,null,null,null,null,null,null,"Northumberland County Council - LGPS",null,null,"All Saints' Academy, The - Cheltenham","119150","2011-09-01","South West","Gloucestershire"]
[null,null,null,null,null,null,null,null,null,null,null,"Nottinghamshire County Council - LGPS",null,null,"All Saints Babbacombe CofE Primary School",130163,"2014-03-01","South West","Torbay"]
[null,null,null,null,null,null,null,null,null,null,null,"Oxfordshire County Council - LGPS",null,null,"All Saints Catholic College","124644","2013-06-01","North West","Tameside"]
[null,null,null,null,null,null,null,null,null,null,null,"Redbridge - LGPS",null,null,"All Saints' Catholic High School - Sheffield","121197","2012-07-01","Yorkshire & The Humber","Sheffield"]
[null,null,null,null,null,null,null,null,null,null,null,"Richmond upon Thames - LGPS",null,null,"All Saints Church of England Academy - Plymouth","119199","2010-09-01","South West","Plymouth"]
[null,null,null,null,null,null,null,null,null,null,null,"Royal County of Berkshire Pension Fund - LGPS",null,null,"All Saints CofE School - Stockton-on Tees","120760","2013-05-01","North East","Stockton-on-Tees "]
[null,null,null,null,null,null,null,null,null,null,null,"Shropshire County Pension Fund - LGPS",null,null,"All Saints Interchurch Academy","124183","2013-04-01","East of England","Cambridgeshire "]
[null,null,null,null,null,null,null,null,null,null,null,"Somerset County Council - LGPS",null,null,"All Saints Junior School - Reading","120504","2011-09-01","South East","Reading"]
[null,null,null,null,null,null,null,null,null,null,null,"South Yorkshire Integrated Transport Pension Fund - LGPS",null,null,"All Saints RC Comprehensive School",129891,"2014-04-01","East Midlands","Nottinghamshire"]
[null,null,null,null,null,null,null,null,null,null,null,"South Yorkshire Pension Authority - LGPS",null,null,"All Saints VA CofE Lower School - Shefford","123206","2013-10-01","East of England","Central Bedfordshire"]
[null,null,null,null,null,null,null,null,null,null,null,"Southwark - LGPS",null,null,"All Saints VA CofE Primary School - Salisbury",129424,"2014-04-01","South West","Wiltshire"]
[null,null,null,null,null,null,null,null,null,null,null,"Staffordshire County Council - LGPS",null,null,"Allestree Woodlands School","121014","2012-03-01T12:15:32","East Midlands","Derby"]
[null,null,null,null,null,null,null,null,null,null,null,"Suffolk County Council - LGPS",null,null,"Alleyne's High School","123084","2013-09-01","West Midlands","Staffordshire"]
[null,null,null,null,null,null,null,null,null,null,null,"Surrey County Council - LGPS",null,null,"Allhallows Primary School","124701","2013-09-01","South East","Medway"]
[null,null,null,null,null,null,null,null,null,null,null,"Sutton - LGPS",null,null,"Allington Primary School","122969","2012-12-01","South East","Kent"]
[null,null,null,null,null,null,null,null,null,null,null,"Teesside Pension Fund - LPGS",null,null,"Alma Primary","123357","2013-09-01","London","Barnet"]
[null,null,null,null,null,null,null,null,null,null,null,"Tower Hamlets - LGPS",null,null,"Alperton Community School","122325","2012-09-01","London","Brent"]
[null,null,null,null,null,null,null,null,null,null,null,"Tyne and Wear Pension Fund - LGPS",null,null,"Alsager School","124251","2013-09-01","North West","Cheshire East"]
[null,null,null,null,null,null,null,null,null,null,null,"Waltham Forest - LGPS",null,null,"Altrincham College of Arts","122124","2012-09-01","North West","Trafford"]
[null,null,null,null,null,null,null,null,null,null,null,"Wandsworth - LGPS",null,null,"Altrincham Grammar School for Boys","119511","2011-02-01","North West","Trafford"]
[null,null,null,null,null,null,null,null,null,null,null,"Warwickshire County Council - LGPS",null,null,"Altrincham Grammar School for Girls","120289","2011-08-17","North West","Trafford"]
[null,null,null,null,null,null,null,null,null,null,null,"West Midlands Pension Fund - LGPS",null,null,"Altwood CofE Secondary School","122326","2012-07-01","South East","Windsor and Maidenhead"]
[null,null,null,null,null,null,null,null,null,null,null,"West Sussex County Council - LGPS",null,null,"Ambleside Primary School","122945","2013-04-01","East Midlands","Nottingham "]
[null,null,null,null,null,null,null,null,null,null,null,"West Yorkshire Pension Fund - LGPS",null,null,"Amersham School","120372","2011-09-01","South East","Buckinghamshire"]
[null,null,null,null,null,null,null,null,null,null,null,"Westminster City Council - LGPS",null,null,"Amery Hill School","120500","2011-10-01","South East","Hampshire"]
[null,null,null,null,null,null,null,null,null,null,null,"Wiltshire County Council - LGPS",null,null,"Amherst School","119499","2011-03-01","South East","Kent"]
[null,null,null,null,null,null,null,null,null,null,null,"Worcestershire County Council - LGPS",null,null,"Anand Primary School","123289","2013-09-01","West Midlands","Wolverhampton"]
[null,null,null,null,null,null,null,null,null,null,null,null,null,null,"Anchorsholme Primary School","124111","2013-09-01","North West","Blackpool"]
[null,null,null,null,null,null,null,null,null,null,null,null,null,null,"Anglesey Foundation","123086","2012-12-01","West Midlands","Staffordshire"]
[null,null,null,null,null,null,null,null,null,null,null,null,null,null,"Anglo European School","120813","2011-12-01T12:06:56","East of England","Essex"]
[null,null,null,null,null,null,null,null,null,null,null,null,null,null,"Ansford Academy","119839","2011-07-01","South West","Somerset"]
[null,null,null,null,null,null,null,null,null,null,null,null,null,null,"Appleby Grammar School","120251","2011-08-01","North West","Cumbria"]
[null,null,null,null,null,null,null,null,null,null,null,null,null,null,"Applecroft School","120654","2012-03-01","East of England","Hertfordshire"]
[null,null,null,null,null,null,null,null,null,null,null,null,null,null,"Applegarth Nursery and Infant School","123941","2013-04-01","London","Croydon  "]
[null,null,null,null,null,null,null,null,null,null,null,null,null,null,"Appleton Academy - Bradford","119126","2009-09-01","Yorkshire & The Humber","Bradford"]
[null,null,null,null,null,null,null,null,null,null,null,null,null,null,"Appleton Primary School - Hull","124252","2013-10-01","Yorkshire & The Humber","Hull"]
[null,null,null,null,null,null,null,null,null,null,null,null,null,null,"Appleton School, The - Benfleet","119556","2011-04-01","East of England","Essex"]
[null,null,null,null,null,null,null,null,null,null,null,null,null,null,"Arbours Academy, The","122541","2013-01-01","East Midlands","Northamptonshire"]
[null,null,null,null,null,null,null,null,null,null,null,null,null,null,"Archbishop Benson CofE Primary School","120258","2011-08-01","South West","Cornwall"]
[null,null,null,null,null,null,null,null,null,null,null,null,null,null,"Archbishop Cranmer Church of England Academy","124584","2014-02-01","East Midlands","Nottinghamshire"]
[null,null,null,null,null,null,null,null,null,null,null,null,null,null,"Archbishop Holgate's School","119523","2011-04-01","Yorkshire & The Humber","City of York"]
[null,null,null,null,null,null,null,null,null,null,null,null,null,null,"Archbishop Sentamu Academy","119095","2008-09-01","Yorkshire & The Humber","Hull"]
[null,null,null,null,null,null,null,null,null,null,null,null,null,null,"Archer Academy, The","123349","2013-09-01","London","Barnet"]
[null,null,null,null,null,null,null,null,null,null,null,null,null,null,"Arden Academy","119276","2010-10-01","West Midlands","Solihull"]
[null,null,null,null,null,null,null,null,null,null,null,null,null,null,"Arden Grove Infant and Nursery School","124389","2013-06-01","East of England","Norfolk"]
[null,null,null,null,null,null,null,null,null,null,null,null,null,null,"Ardley Hill Academy","121192","2012-06-01","East of England","Central Bedfordshire"]
[null,null,null,null,null,null,null,null,null,null,null,null,null,null,"ARK Academy - Wembley","118659","2008-09-30","London","Brent"]
[null,null,null,null,null,null,null,null,null,null,null,null,null,null,"ARK All Saints Academy","122186","2013-09-01","London","Southwark"]
[null,null,null,null,null,null,null,null,null,null,null,null,null,null,"ARK Atwood Primary Academy","120505","2011-09-01","London","Westminster"]
[null,null,null,null,null,null,null,null,null,null,null,null,null,null,"ARK Ayrton Primary Academy","123906","2013-09-01","South East","Portsmouth"]
[null,null,null,null,null,null,null,null,null,null,null,null,null,null,"ARK Bentworth Primary Academy","122381","2012-09-01","London","Hammersmith and Fulham"]
[null,null,null,null,null,null,null,null,null,null,null,null,null,null,"ARK Bolingbroke Academy","122013","2012-09-01","London","Wandsworth"]
[null,null,null,null,null,null,null,null,null,null,null,null,null,null,"ARK Brunel Primary Academy","124488","2013-09-01","London","Royal Borough of Kensington and Chelsea"]
[null,null,null,null,null,null,null,null,null,null,null,null,null,null,"ARK Conway Primary Academy","120506","2011-09-01","London","Hammersmith and Fulham"]
[null,null,null,null,null,null,null,null,null,null,null,null,null,null,"ARK Franklin Primary Academy","124680","2013-09-01","London","Brent"]
[null,null,null,null,null,null,null,null,null,null,null,null,null,null,"ARK John Keats Academy","123290","2013-09-01","London","Enfield"]
[null,null,null,null,null,null,null,null,null,null,null,null,null,null,"ARK Kings Academy","120907","2012-09-01","West Midlands","Birmingham"]
[null,null,null,null,null,null,null,null,null,null,null,null,null,null,"ARK Oval Primary Academy","120114","2011-09-01","London","Croydon"]
[null,null,null,null,null,null,null,null,null,null,null,null,null,null,"ARK Priory Primary Academy","121923","2013-09-01","London","Ealing"]
[null,null,null,null,null,null,null,null,null,null,null,null,null,null,"ARK Putney Academy","122388","2012-09-01","London","Wandsworth"]
[null,null,null,null,null,null,null,null,null,null,null,null,null,null,"ARK Rose Academy","121847","2012-09-01","West Midlands","Birmingham"]
[null,null,null,null,null,null,null,null,null,null,null,null,null,null,"ARK Swift Primary Academy","124224","2013-09-01","London","Hammersmith and Fulham"]
[null,null,null,null,null,null,null,null,null,null,null,null,null,null,"ARK Tindal Primary Academy","120992","2012-09-01","West Midlands","Birmingham"]
[null,null,null,null,null,null,null,null,null,null,null,null,null,null,"ARK William Parker Academy","124511","2013-09-01","South East","East Sussex"]
[null,null,null,null,null,null,null,null,null,null,null,null,null,null,"Armthorpe School, The","121002","2012-07-01","Yorkshire & The Humber","Doncaster"]
[null,null,null,null,null,null,null,null,null,null,null,null,null,null,"Arnbrook Primary School",127778,"2014-04-01","East Midlands","Nottinghamshire"]
[null,null,null,null,null,null,null,null,null,null,null,null,null,null,"Arnewood School Academy, The","119649","2011-04-01","South East","Hampshire"]
[null,null,null,null,null,null,null,null,null,null,null,null,null,null,"Arnold Hill School and Technology College","120591","2011-10-01","East Midlands","Nottinghamshire"]
[null,null,null,null,null,null,null,null,null,null,null,null,null,null,"Arnold Middle School","119841","2011-07-01","East of England","Central Bedfordshire"]
[null,null,null,null,null,null,null,null,null,null,null,null,null,null,"Arnside National CofE School","120652","2011-12-01","North West","Cumbria"]
[null,null,null,null,null,null,null,null,null,null,null,null,null,null,"Arrow Vale RSA Academy","122314","2012-09-01","West Midlands","Worcestershire"]
[null,null,null,null,null,null,null,null,null,null,null,null,null,null,"Arthur Mellows Village College","119274","2010-09-01","East of England","Peterborough"]
[null,null,null,null,null,null,null,null,null,null,null,null,null,null,"Arthur Terry School, The","120018","2012-05-01","West Midlands","Birmingham"]
[null,null,null,null,null,null,null,null,null,null,null,null,null,null,"Asfordby Hill Primary School","124150","2013-03-01","East Midlands","Leicestershire"]
[null,null,null,null,null,null,null,null,null,null,null,null,null,null,"Ash Field Academy","121036","2012-04-01","East Midlands","Leicester"]
[null,null,null,null,null,null,null,null,null,null,null,null,null,null,"Ash Green School and Arts College","120803","2012-01-01","West Midlands","Warwickshire"]
[null,null,null,null,null,null,null,null,null,null,null,null,null,null,"Ash Grove Primary and Nursery School","124642","2013-12-01","North West","Cheshire East"]
[null,null,null,null,null,null,null,null,null,null,null,null,null,null,"Ash Hill Academy","120458","2011-09-01","Yorkshire & The Humber","Doncaster"]
[null,null,null,null,null,null,null,null,null,null,null,null,null,null,"Ashburton Primary School","119678","2011-04-01","South West","Devon"]
[null,null,null,null,null,null,null,null,null,null,null,null,null,null,"Ashby Hill Top Primary School","122680","2012-10-01","East Midlands","Leicestershire"]
[null,null,null,null,null,null,null,null,null,null,null,null,null,null,"Ashby School","122080","2012-10-01","East Midlands","Leicestershire"]
[null,null,null,null,null,null,null,null,null,null,null,null,null,null,"Ashcroft Technology Academy","118598","2007-09-01","London","Wandsworth"]
[null,null,null,null,null,null,null,null,null,null,null,null,null,null,"Ashfield Comprehensive School","121097","2012-04-01","East Midlands","Nottingham"]
[null,null,null,null,null,null,null,null,null,null,null,null,null,null,"Ashingdon Primary Academy","120332","2011-09-01","East of England","Essex"]
[null,null,null,null,null,null,null,null,null,null,null,null,null,null,"Ashlawn School Academy Trust","119553","2011-04-01","West Midlands","Warwickshire"]
[null,null,null,null,null,null,null,null,null,null,null,null,null,null,"Ashley School, The","120339","2011-09-01","East of England","Suffolk"]
[null,null,null,null,null,null,null,null,null,null,null,null,null,null,"Ashmole Academy","119277","2010-10-01","London","Barnet"]
[null,null,null,null,null,null,null,null,null,null,null,null,null,null,"Ashperton Primary Academy","119524","2011-04-01","West Midlands","Herefordshire"]
[null,null,null,null,null,null,null,null,null,null,null,null,null,null,"Ashton-on-Mersey School","122001","2012-05-01T14:15:11","North West","Trafford"]
[null,null,null,null,null,null,null,null,null,null,null,null,null,null,"Ashwell Pupil Referral Unit","123233","2013-04-01","Yorkshire & The Humber","Hull "]
[null,null,null,null,null,null,null,null,null,null,null,null,null,null,"Aspinal Primary School","124752","2013-09-01","North West","Manchester"]
[null,null,null,null,null,null,null,null,null,null,null,null,null,null,"Aston Academy - Rotherham","119718","2011-05-01","Yorkshire & The Humber","Rotherham"]
[null,null,null,null,null,null,null,null,null,null,null,null,null,null,"Aston Manor Academy - Birmingham","119882","2011-07-01","West Midlands","Birmingham"]
[null,null,null,null,null,null,null,null,null,null,null,null,null,null,"Aston UTC - Birmingham","122150","2012-09-01","West Midlands","Birmingham"]
[null,null,null,null,null,null,null,null,null,null,null,null,null,null,"Astor College","122113","2012-06-01","South East","Kent"]
[null,null,null,null,null,null,null,null,null,null,null,null,null,null,"Astwood Bank First School","124767","2013-10-01","West Midlands","Worcestershire"]
[null,null,null,null,null,null,null,null,null,null,null,null,null,null,"Atherton Community School","121960","2012-09-01","North West","Wigan"]
[null,null,null,null,null,null,null,null,null,null,null,null,null,null,"Atkinson Road Primary School","121210","2012-06-01","North East","Newcastle Upon Tyne"]
[null,null,null,null,null,null,null,null,null,null,null,null,null,null,"Attleborough High School","127652","2014-01-01","East of England","Norfolk"]
[null,null,null,null,null,null,null,null,null,null,null,null,null,null,"Atwood Primary School","128107","2014-01-01","London","Croydon"]
[null,null,null,null,null,null,null,null,null,null,null,null,null,null,"Auckley Junior and Infant School","120431","2011-09-01","Yorkshire & The Humber","Doncaster"]
[null,null,null,null,null,null,null,null,null,null,null,null,null,null,"Audenshaw School","119350","2010-09-01","North West","Tameside"]
[null,null,null,null,null,null,null,null,null,null,null,null,null,null,"Austrey CofE Primary School","123227","2013-09-01","West Midlands","Warwickshire"]
[null,null,null,null,null,null,null,null,null,null,null,null,null,null,"Avanti House School","123026","2012-09-01","London","Harrow"]
[null,null,null,null,null,null,null,null,null,null,null,null,null,null,"Avenue School, The","120383","2011-09-01","South East","Reading"]
[null,null,null,null,null,null,null,null,null,null,null,null,null,null,"Aveton Gifford CofE Primary School","122910","2012-09-01","South West","Devon"]
[null,null,null,null,null,null,null,null,null,null,null,null,null,null,"Avishayes Community Primary School","120174","2011-08-01","South West","Somerset"]
[null,null,null,null,null,null,null,null,null,null,null,null,null,null,"Avonbourne School","121944","2012-06-01","South West","Bournemouth"]
[null,null,null,null,null,null,null,null,null,null,null,null,null,null,"Axbridge Church of England First School","122395","2012-09-01","South West","Somerset"]
[null,null,null,null,null,null,null,null,null,null,null,null,null,null,"Axholme Academy, The","120982","2012-01-01","Yorkshire & The Humber","North Lincolnshire"]
[null,null,null,null,null,null,null,null,null,null,null,null,null,null,"Aylesbury Grammar School","119884","2011-07-01","South East","Buckinghamshire"]
[null,null,null,null,null,null,null,null,null,null,null,null,null,null,"Aylesbury High School","119846","2011-07-01","South East","Buckinghamshire"]
[null,null,null,null,null,null,null,null,null,null,null,null,null,null,"Aylesbury Vale Academy, The","118894","2009-09-01","South East","Buckinghamshire"]
[null,null,null,null,null,null,null,null,null,null,null,null,null,null,"Aylesford Primary School","124228","2013-12-01","South East","Kent"]
[null,null,null,null,null,null,null,null,null,null,null,null,null,null,"Aylesford School & Sixth Form College","120810","2012-01-01","West Midlands","Warwickshire"]
[null,null,null,null,null,null,null,null,null,null,null,null,null,null,"Aylward Academy - Enfield","119211","2010-09-01","London","Enfield"]
[null,null,null,null,null,null,null,null,null,null,null,null,null,null,"Aylward Primary School - Stanmore",130326,"2014-04-01","London","Harrow"]
[null,null,null,null,null,null,null,null,null,null,null,null,null,null,"Backwell School","119719","2011-05-01","South West","North Somerset"]
[null,null,null,null,null,null,null,null,null,null,null,null,null,null,"Bacon's College","118383","2007-09-01","London","Southwark"]
[null,null,null,null,null,null,null,null,null,null,null,null,null,null,"Bacup and Rawtenstall Grammar School","122800","2012-10-01","North West","Lancashire"]
[null,null,null,null,null,null,null,null,null,null,null,null,null,null,"Baird Primary Academy, The","124819","2014-01-01","South East","East Sussex"]
[null,null,null,null,null,null,null,null,null,null,null,null,null,null,"Balby Carr Community Sports and Science College","124987","2013-11-01T14:14:42","Yorkshire & The Humber","Doncaster"]
[null,null,null,null,null,null,null,null,null,null,null,null,null,null,"Balcarras School","119474","2011-02-01","South West","Gloucestershire"]
[null,null,null,null,null,null,null,null,null,null,null,null,null,null,"Balgowan Primary School","120216","2011-08-01","London","Bromley"]
[null,null,null,null,null,null,null,null,null,null,null,null,null,null,"Balsall Common Primary School","122160","2012-08-01","West Midlands","Solihull"]
[null,null,null,null,null,null,null,null,null,null,null,null,null,null,"Bamford Academy","120360","2011-09-01","North West","Rochdale"]
[null,null,null,null,null,null,null,null,null,null,null,null,null,null,"Banbury Academy","120641","2012-08-01T12:41:05","South East","Oxfordshire"]
[null,null,null,null,null,null,null,null,null,null,null,null,null,null,"Bank Leaze Primary School","122246","2012-09-01","South West","Bristol City"]
[null,null,null,null,null,null,null,null,null,null,null,null,null,null,"Bannerman Road Community Academy","122940","2013-01-01","South West","Bristol City"]
[null,null,null,null,null,null,null,null,null,null,null,null,null,null,"Banstead Infant School",128240,"2014-04-01","South East","Surrey"]
[null,null,null,null,null,null,null,null,null,null,null,null,null,null,"Barbara Priestman School","122338","2012-08-01","North East","Sunderland"]
[null,null,null,null,null,null,null,null,null,null,null,null,null,null,"Barclay Primary School","122408","2012-09-01","London","Waltham Forest"]
[null,null,null,null,null,null,null,null,null,null,null,null,null,null,"Barnby Dun Primary School","121426","2012-06-01","Yorkshire & The Humber","Doncaster"]
[null,null,null,null,null,null,null,null,null,null,null,null,null,null,"Barnby Road Academy Primary and Nursery School","119256","2010-09-06","East Midlands","Nottinghamshire"]
[null,null,null,null,null,null,null,null,null,null,null,null,null,null,"Barnehurst Infant School","126400","2013-11-01","London","Bexley"]
[null,null,null,null,null,null,null,null,null,null,null,null,null,null,"Barnehurst Junior (Foundation) School","126291","2013-11-01","London","Bexley"]
[null,null,null,null,null,null,null,null,null,null,null,null,null,null,"Barnfield Business and Enterprise Studio Academy","119325","2010-09-01","East of England","Luton"]
[null,null,null,null,null,null,null,null,null,null,null,null,null,null,"Barnfield Moorlands Free School","120524","2011-09-01","East of England","Luton"]
[null,null,null,null,null,null,null,null,null,null,null,null,null,null,"Barnfield South Academy - Luton","118599","2007-09-01","East of England","Luton"]
[null,null,null,null,null,null,null,null,null,null,null,null,null,null,"Barnfield Vale Academy - Dunstable","120860","2012-09-01","East of England","Central Bedfordshire"]
[null,null,null,null,null,null,null,null,null,null,null,null,null,null,"Barnfield West Academy - Luton","118600","2007-09-01","East of England","Luton"]
[null,null,null,null,null,null,null,null,null,null,null,null,null,null,"Barnhill Community High School","120071","2012-02-01","London","Hillingdon"]
[null,null,null,null,null,null,null,null,null,null,null,null,null,null,"Barnsbury Primary School","127442","2014-01-01","South East","Surrey"]
[null,null,null,null,null,null,null,null,null,null,null,null,null,null,"Barnsley Academy","118649","2006-09-01","Yorkshire & The Humber","Barnsley"]
[null,null,null,null,null,null,null,null,null,null,null,null,null,null,"Barnwell Academy Trust",127259,"2014-04-01","North East","Sunderland"]
[null,null,null,null,null,null,null,null,null,null,null,null,null,null,"Barr Beacon School","119885","2011-07-01","West Midlands","Walsall"]
[null,null,null,null,null,null,null,null,null,null,null,null,null,null,"Barrow 1618","121961","2012-09-01","West Midlands","Shropshire"]
[null,null,null,null,null,null,null,null,null,null,null,null,null,null,"Barrow Hall Orchard Church of England Primary School","124068","2013-10-01","East Midlands","Leicestershire"]
[null,null,null,null,null,null,null,null,null,null,null,null,null,null,"Barrs Court School","122903","2013-05-01","West Midlands","Herefordshire "]
[null,null,null,null,null,null,null,null,null,null,null,null,null,null,"Bartholomew School","120914","2012-03-01T10:15:07","South East","Oxfordshire"]
[null,null,null,null,null,null,null,null,null,null,null,null,null,null,"Bartley Green School","119552","2011-04-01","West Midlands","Birmingham"]
[null,null,null,null,null,null,null,null,null,null,null,null,null,null,"Barton Court Grammar School","120444","2011-09-01","South East","Kent"]
[null,null,null,null,null,null,null,null,null,null,null,null,null,null,"Barton Hill Primary Academy","120920","2012-09-01","South West","Torbay"]
[null,null,null,null,null,null,null,null,null,null,null,null,null,null,"Barton Junior School","122170","2012-06-01","South East","Kent"]
[null,null,null,null,null,null,null,null,null,null,null,null,null,null,"Barwell Church of England Junior School","122989","2012-11-01","East Midlands","Leicestershire"]
[null,null,null,null,null,null,null,null,null,null,null,null,null,null,"Basildon Lower Academy, The","119146","2009-09-01","East of England","Essex"]
[null,null,null,null,null,null,null,null,null,null,null,null,null,null,"Basildon Upper Academy, The","119147","2009-09-01","East of England","Essex"]
[null,null,null,null,null,null,null,null,null,null,null,null,null,null,"Bassingbourn Village College","120401","2011-09-01","East of England","Cambridgeshire"]
[null,null,null,null,null,null,null,null,null,null,null,null,null,null,"Bath Community Academy","120949","2012-09-01","South West","Bath & North East Somerset"]
[null,null,null,null,null,null,null,null,null,null,null,null,null,null,"Batley Girls' High School","120432","2011-09-01","Yorkshire & The Humber","Kirklees"]
[null,null,null,null,null,null,null,null,null,null,null,null,null,null,"Batley Grammar School","120487","2011-09-01","Yorkshire & The Humber","Kirklees"]
[null,null,null,null,null,null,null,null,null,null,null,null,null,null,"Battle Primary Academy","122633","2013-01-01","South East","Reading"]
[null,null,null,null,null,null,null,null,null,null,null,null,null,null,"Battling Brook Community Primary School","124192","2013-06-01","East Midlands","Leicestershire"]
[null,null,null,null,null,null,null,null,null,null,null,null,null,null,"Baverstock Foundation School and Specialist Sports College","124250","2013-06-01","West Midlands","Birmingham"]
[null,null,null,null,null,null,null,null,null,null,null,null,null,null,"Baxter College","122417","2012-09-01","West Midlands","Worcestershire"]
[null,null,null,null,null,null,null,null,null,null,null,null,null,null,"Bay House School","120781","2012-01-01","South East","Hampshire"]
[null,null,null,null,null,null,null,null,null,null,null,null,null,null,"Baylis Court School","120259","2011-08-01","South East","Slough"]
[null,null,null,null,null,null,null,null,null,null,null,null,null,null,"BBG Academy Trust","121045","2012-05-01","Yorkshire & The Humber","Kirklees"]
[null,null,null,null,null,null,null,null,null,null,null,null,null,null,"Beachcroft School",129561,"2014-04-01","London","Westminster"]
[null,null,null,null,null,null,null,null,null,null,null,null,null,null,"Beacon Academy - Loughborough","122916","2012-12-01","East Midlands","Leicestershire"]
[null,null,null,null,null,null,null,null,null,null,null,null,null,null,"Beacon Community College - Crowborough","113087","2012-04-01","South East","East Sussex"]
[null,null,null,null,null,null,null,null,null,null,null,null,null,null,"Beacon Hill Academy","121872","2012-09-01","East of England","Thurrock"]
[null,null,null,null,null,null,null,null,null,null,null,null,null,null,"Beacon School, The - Banstead","120708","2011-12-01T12:23:36","South East","Surrey"]
[null,null,null,null,null,null,null,null,null,null,null,null,null,null,"Beaconsfield School, The","123082","2013-03-01T15:57:34","South East","Buckinghamshire"]
[null,null,null,null,null,null,null,null,null,null,null,null,null,null,"Beal High School","129576","2014-02-01","London","Redbridge"]
[null,null,null,null,null,null,null,null,null,null,null,null,null,null,"Beanfield Primary School","122248","2012-09-01","East Midlands","Northamptonshire"]
[null,null,null,null,null,null,null,null,null,null,null,null,null,null,"Beauchamp College, The","113692","2013-05-01","East Midlands","Leicestershire "]
[null,null,null,null,null,null,null,null,null,null,null,null,null,null,"Beaufort Community School","125001","2013-10-01","South West","Gloucestershire"]
[null,null,null,null,null,null,null,null,null,null,null,null,null,null,"Beaufort Primary School","126292","2014-01-01","South East","Surrey"]
[null,null,null,null,null,null,null,null,null,null,null,null,null,null,"Beaumont Hill Academy","120531","2012-04-01","North East","Darlington"]
[null,null,null,null,null,null,null,null,null,null,null,null,null,null,"Beaumont School","122174","2012-07-01","East of England","Hertfordshire"]
[null,null,null,null,null,null,null,null,null,null,null,null,null,null,"Beaver Road Primary School","125217","2013-11-01","North West","Manchester"]
[null,null,null,null,null,null,null,null,null,null,null,null,null,null,"Beaverwood School for Girls","119467","2011-03-01","London","Bromley"]
[null,null,null,null,null,null,null,null,null,null,null,null,null,null,"Beccles Free School, The","122025","2012-09-01","East of England","Suffolk"]
[null,null,null,null,null,null,null,null,null,null,null,null,null,null,"Becket Keys Church School","121966","2012-09-01","East of England","Essex"]
[null,null,null,null,null,null,null,null,null,null,null,null,null,null,"Becket School, The","120279","2011-09-01","East Midlands","Nottinghamshire"]
[null,null,null,null,null,null,null,null,null,null,null,null,null,null,"Beckfoot School","121064","2013-08-01T12:58:15","Yorkshire & The Humber","Bradford"]
[null,null,null,null,null,null,null,null,null,null,null,null,null,null,"Bede Academy","118883","2009-09-01","North East","Northumberland"]
[null,null,null,null,null,null,null,null,null,null,null,null,null,null,"Bedford Academy, The","119151","2010-09-01","East of England","Bedford"]
[null,null,null,null,null,null,null,null,null,null,null,null,null,null,"Bedford Free School","122011","2012-09-01","East of England","Bedford"]
[null,null,null,null,null,null,null,null,null,null,null,null,null,null,"Bedford Hall Methodist Primary School","124687","2013-09-01","North West","Wigan"]
[null,null,null,null,null,null,null,null,null,null,null,null,null,null,"Bedminster Down School","120556","2012-06-01","South West","Bristol City"]
[null,null,null,null,null,null,null,null,null,null,null,null,null,null,"Beech Hill Junior and Infant School","120433","2011-09-01","Yorkshire & The Humber","Calderdale"]
[null,null,null,null,null,null,null,null,null,null,null,null,null,null,"Beechen Cliff School","119570","2011-04-01","South West","Bath & North East Somerset"]
[null,null,null,null,null,null,null,null,null,null,null,null,null,null,"Beechwood Junior School","125244","2013-10-01","South East","Southampton"]
[null,null,null,null,null,null,null,null,null,null,null,null,null,null,"Beecroft Lower School","124120","2013-11-01","East of England","Central Bedfordshire"]
[null,null,null,null,null,null,null,null,null,null,null,null,null,null,"Begbrook Primary School","122143","2012-09-01","South West","Bristol City"]
[null,null,null,null,null,null,null,null,null,null,null,null,null,null,"Beis Yaakov High School","120898","2012-09-01","North West","Salford"]
[null,null,null,null,null,null,null,null,null,null,null,null,null,null,"Belfairs High School","120834","2012-06-01","East of England","Southend-on-Sea"]
[null,null,null,null,null,null,null,null,null,null,null,null,null,null,"Belgrave St. Bartholomew’s Academy","119546","2011-04-01","West Midlands","Stoke on Trent"]
[null,null,null,null,null,null,null,null,null,null,null,null,null,null,"Belle Vue Girls' School","120720","2012-04-01","Yorkshire & The Humber","Bradford"]
[null,null,null,null,null,null,null,null,null,null,null,null,null,null,"Bellerive FCJ Catholic College","122087","2012-06-01","North West","Liverpool"]
[null,null,null,null,null,null,null,null,null,null,null,null,null,null,"Belleville Primary School","120640","2011-10-01","London","Wandsworth"]
[null,null,null,null,null,null,null,null,null,null,null,null,null,null,"Bellfield Primary School","124079","2013-07-01","Yorkshire & The Humber","Hull"]
[null,null,null,null,null,null,null,null,null,null,null,null,null,null,"Belmont Castle Academy","122972","2012-12-01","East of England","Thurrock"]
[null,null,null,null,null,null,null,null,null,null,null,null,null,null,"Belmore Primary Academy","122850","2012-12-01","London","Hillingdon"]
[null,null,null,null,null,null,null,null,null,null,null,null,null,null,"Belthorn Academy Primary School","120507","2011-10-01","North West","Lancashire"]
[null,null,null,null,null,null,null,null,null,null,null,null,null,null,"Belvedere Academy, The","118601","2007-09-01","North West","Liverpool"]
[null,null,null,null,null,null,null,null,null,null,null,null,null,null,"Belvedere Junior School","122812","2013-04-01","London","Bexley  "]
[null,null,null,null,null,null,null,null,null,null,null,null,null,null,"Belvoir High School and Melton Vale Post 16 Centre","122736","2012-10-01","East Midlands","Leicestershire"]
[null,null,null,null,null,null,null,null,null,null,null,null,null,null,"Benedict Biscop Church of England Aided Primary School","121022","2012-02-01","North East","Sunderland"]
[null,null,null,null,null,null,null,null,null,null,null,null,null,null,"Benedict Primary School","127409","2014-01-01","London","Merton"]
[null,null,null,null,null,null,null,null,null,null,null,null,null,null,"Bennett Memorial Diocesan School","119633","2011-04-01","South East","Kent"]
[null,null,null,null,null,null,null,null,null,null,null,null,null,null,"Benson Primary and Nursery School","124735","2013-09-01","London","Croydon"]
[null,null,null,null,null,null,null,null,null,null,null,null,null,null,"Bentley Heath Church of England Primary School","124781","2013-12-01","West Midlands","Solihull"]
[null,null,null,null,null,null,null,null,null,null,null,null,null,null,"Bentley Wood High School","120178","2011-08-01","London","Harrow"]
[null,null,null,null,null,null,null,null,null,null,null,null,null,null,"Benyon Primary School","123282","2013-04-01","East of England","Thurrock "]
[null,null,null,null,null,null,null,null,null,null,null,null,null,null,"Berrybrook Primary School",129809,"2014-04-01","West Midlands","Wolverhampton"]
[null,null,null,null,null,null,null,null,null,null,null,null,null,null,"Berrygrove Academy","121889","2012-09-01","East of England","Hertfordshire"]
[null,null,null,null,null,null,null,null,null,null,null,null,null,null,"Berwick Academy","120647","2011-11-01T13:35:20","North East","Northumberland"]
[null,null,null,null,null,null,null,null,null,null,null,null,null,null,"Bethnal Green Academy","120739","2012-01-01","London","Tower Hamlets"]
[null,null,null,null,null,null,null,null,null,null,null,null,null,null,"Beths Grammar School","119278","2010-10-01","London","Bexley"]
[null,null,null,null,null,null,null,null,null,null,null,null,null,null,"Beverley Grammar School","119995","2011-08-01","Yorkshire & The Humber","East Riding of Yorkshire"]
[null,null,null,null,null,null,null,null,null,null,null,null,null,null,"Bewbush Academy, The","121160","2012-04-01","South East","West Sussex"]
[null,null,null,null,null,null,null,null,null,null,null,null,null,null,"Bexhill High School","122894","2012-11-01","South East","East Sussex"]
[null,null,null,null,null,null,null,null,null,null,null,null,null,null,"Bexhill Primary School","119487","2011-03-01","North East","Sunderland"]
[null,null,null,null,null,null,null,null,null,null,null,null,null,null,"Bexley Grammar School","119389","2011-01-01","London","Bexley"]
[null,null,null,null,null,null,null,null,null,null,null,null,null,null,"Bexleyheath Academy","120138","2011-09-01","London","Bexley"]
[null,null,null,null,null,null,null,null,null,null,null,null,null,null,"Bickleigh on Exe Church of England Primary School","120895","2012-01-01","South West","Devon"]
[null,null,null,null,null,null,null,null,null,null,null,null,null,null,"Biddick School Sports College","124397","2013-07-01","North East","Sunderland"]
[null,null,null,null,null,null,null,null,null,null,null,null,null,null,"Biddulph High School","120427","2011-09-01","West Midlands","Staffordshire"]
[null,null,null,null,null,null,null,null,null,null,null,null,null,null,"Biggin Hill Primary Academy - Hull","122915","2013-04-01","Yorkshire & The Humber","Hull "]
[null,null,null,null,null,null,null,null,null,null,null,null,null,null,"Biggin Hill Primary School - Bromley","120244","2011-08-01","London","Bromley"]
[null,null,null,null,null,null,null,null,null,null,null,null,null,null,"Bilingual Primary School for Brighton and Hove","121967","2012-09-01","South East","Brighton and Hove"]
[null,null,null,null,null,null,null,null,null,null,null,null,null,null,"Billericay School, The","119861","2011-07-01","East of England","Essex"]
[null,null,null,null,null,null,null,null,null,null,null,null,null,null,"Billesley Primary School","122846","2012-11-01","West Midlands","Birmingham"]
[null,null,null,null,null,null,null,null,null,null,null,null,null,null,"Billing Brook Special School","125231","2013-12-01","East Midlands","Northamptonshire"]
[null,null,null,null,null,null,null,null,null,null,null,null,null,null,"Bilton School","120838","2011-12-01","West Midlands","Warwickshire"]
[null,null,null,null,null,null,null,null,null,null,null,null,null,null,"Birchills Church of England Primary Community School","123862","2013-07-01","West Midlands","Walsall"]
[null,null,null,null,null,null,null,null,null,null,null,null,null,null,"Birchwood Community High School","124126","2013-07-01","North West","Warrington"]
[null,null,null,null,null,null,null,null,null,null,null,null,null,null,"Birchwood High School - Bishops Stortford","120632","2011-11-01T15:46:00","East of England","Hertfordshire"]
[null,null,null,null,null,null,null,null,null,null,null,null,null,null,"Birchwood Primary School - Tamworth","122649","2012-11-01","West Midlands","Warwickshire"]
[null,null,null,null,null,null,null,null,null,null,null,null,null,null,"Birdwell Primary School","124162","2013-04-01","South West","North Somerset  "]
[null,null,null,null,null,null,null,null,null,null,null,null,null,null,"Birkdale High School","120297","2011-08-17","North West","Sefton"]
[null,null,null,null,null,null,null,null,null,null,null,null,null,null,"Birkenhead High School Academy","118888","2009-09-01","North West","Wirral"]
[null,null,null,null,null,null,null,null,null,null,null,null,null,null,"Birklands Primary and Nursery School",129418,"2014-04-01","East Midlands","Nottinghamshire"]
[null,null,null,null,null,null,null,null,null,null,null,null,null,null,"Birmingham Ormiston Academy","119944","2011-09-01","West Midlands","Birmingham"]
[null,null,null,null,null,null,null,null,null,null,null,null,null,null,"Birstall Community Primary School","123240","2013-03-01","Yorkshire & The Humber","Kirklees"]
[null,null,null,null,null,null,null,null,null,null,null,null,null,null,"Biscovey Junior School","120945","2012-01-01","South West","Cornwall"]
[null,null,null,null,null,null,null,null,null,null,null,null,null,null,"Bishop Alexander Primary and Nursery School","129240","2014-02-01","East Midlands","Nottinghamshire"]
[null,null,null,null,null,null,null,null,null,null,null,null,null,null,"Bishop Blue Coat Church of England High School","119587","2011-04-01","North West","Cheshire West and Chester"]
[null,null,null,null,null,null,null,null,null,null,null,null,null,null,"Bishop Bronescombe CofE VA School","127392","2013-12-01","South West","Cornwall"]
[null,null,null,null,null,null,null,null,null,null,null,null,null,null,"Bishop Creighton Academy","119720","2011-05-01","East of England","Peterborough"]
[null,null,null,null,null,null,null,null,null,null,null,null,null,null,"Bishop Fox's Community School","119851","2011-07-01","South West","Somerset"]
[null,null,null,null,null,null,null,null,null,null,null,null,null,null,"Bishop Justus Church of England School","119466","2011-03-01","London","Bromley"]
[null,null,null,null,null,null,null,null,null,null,null,null,null,null,"Bishop Luffa Church of England School, Chichester","127604","2013-12-01","South East","West Sussex"]
[null,null,null,null,null,null,null,null,null,null,null,null,null,null,"Bishop Milner Catholic School","124380","2013-09-01","West Midlands","Dudley"]
[null,null,null,null,null,null,null,null,null,null,null,null,null,null,"Bishop of Rochester Academy","119166","2010-09-01","South East","Medway"]
[null,null,null,null,null,null,null,null,null,null,null,null,null,null,"Bishop of Winchester Academy, The","119200","2010-09-01","South West","Bournemouth"]
[null,null,null,null,null,null,null,null,null,null,null,null,null,null,"Bishop Perowne Church of England College","121136","2012-05-01","West Midlands","Worcestershire"]
[null,null,null,null,null,null,null,null,null,null,null,null,null,null,"Bishop Ramsey","120457","2011-09-01","London","Hillingdon"]
[null,null,null,null,null,null,null,null,null,null,null,null,null,null,"Bishop Rawstorne Church of England Language College","120296","2011-08-17","North West","Lancashire"]
[null,null,null,null,null,null,null,null,null,null,null,null,null,null,"Bishop Stopford School","120086","2011-08-01","East Midlands","Northamptonshire"]
[null,null,null,null,null,null,null,null,null,null,null,null,null,null,"Bishop Vesey's Grammar School","120745","2012-04-01","West Midlands","Birmingham"]
[null,null,null,null,null,null,null,null,null,null,null,null,null,null,"Bishop Walsh Catholic Secondary School","123911","2014-01-01","West Midlands","Birmingham"]
[null,null,null,null,null,null,null,null,null,null,null,null,null,null,"Bishop Wand Church of England School, The","122089","2012-08-01T12:33:13","South East","Surrey"]
[null,null,null,null,null,null,null,null,null,null,null,null,null,null,"Bishop Wordsworth's Grammar School","119500","2011-03-01","South West","Wiltshire"]
[null,null,null,null,null,null,null,null,null,null,null,null,null,null,"Bishops Cleeve Primary School","120271","2011-08-01","South West","Gloucestershire"]
[null,null,null,null,null,null,null,null,null,null,null,null,null,null,"Bishop's Hatfield Girls' School","120821","2012-01-01","East of England","Hertfordshire"]
[null,null,null,null,null,null,null,null,null,null,null,null,null,null,"Bishopshalt School","120519","2011-11-01","London","Hillingdon"]
[null,null,null,null,null,null,null,null,null,null,null,null,null,null,"Bishopton Redmarshall CofE Primary School","120021","2011-08-01","North East","Darlington"]
[null,null,null,null,null,null,null,null,null,null,null,null,null,null,"Black Country UTC","119933","2011-09-01","West Midlands","Walsall"]
[null,null,null,null,null,null,null,null,null,null,null,null,null,null,"Blackfen School for Girls","121186","2012-04-01","London","Bexley"]
[null,null,null,null,null,null,null,null,null,null,null,null,null,null,"Blackpool Church of England Primary School","120479","2011-11-01","South West","Devon"]
[null,null,null,null,null,null,null,null,null,null,null,null,null,null,"Blackthorn Primary School","122845","2012-12-01","East Midlands","Northamptonshire"]
[null,null,null,null,null,null,null,null,null,null,null,null,null,null,"Blakenhale Junior School","122847","2013-02-01","West Midlands","Birmingham"]
[null,null,null,null,null,null,null,null,null,null,null,null,null,null,"Blenheim High School","120717","2012-03-01T10:17:16","South East","Surrey"]
[null,null,null,null,null,null,null,null,null,null,null,null,null,null,"Blessed Robert Widmerpool Catholic Primary and Nursery School","120042","2011-09-01","East Midlands","Nottingham"]
[null,null,null,null,null,null,null,null,null,null,null,null,null,null,"Blockley Church of England Primary School","120799","2013-04-01","South West","Gloucestershire "]
[null,null,null,null,null,null,null,null,null,null,null,null,null,null,"Blue Bell Hill Academy Trust","124253","2013-10-01","East Midlands","Nottingham"]
[null,null,null,null,null,null,null,null,null,null,null,null,null,null,"Blue Coat Church of England Academy - Walsall","122313","2012-09-01","West Midlands","Walsall"]
[null,null,null,null,null,null,null,null,null,null,null,null,null,null,"Blue Coat CofE School, The - Oldham","120133","2011-08-01","North West","Oldham"]
[null,null,null,null,null,null,null,null,null,null,null,null,null,null,"Blue Coat School, The - Liverpool","120903","2012-03-01T12:02:03","North West","Liverpool"]
[null,null,null,null,null,null,null,null,null,null,null,null,null,null,"Blue School, The - Wells","120285","2011-08-17","South West","Somerset"]
[null,null,null,null,null,null,null,null,null,null,null,null,null,null,"Bluecoat Academy - Nottingham","120792","2012-01-01","East Midlands","Nottingham"]
[null,null,null,null,null,null,null,null,null,null,null,null,null,null,"Blyth Academy","113218","2013-10-01","North East","Northumberland"]
[null,null,null,null,null,null,null,null,null,null,null,null,null,null,"Blyth Morpeth Road First School","124151","2013-06-01","North East","Northumberland"]
[null,null,null,null,null,null,null,null,null,null,null,null,null,null,"Boddington Church of England Voluntary School","124087","2013-09-01","East Midlands","Northamptonshire"]
[null,null,null,null,null,null,null,null,null,null,null,null,null,null,"Bodmin College","119408","2011-01-01","South West","Cornwall"]
[null,null,null,null,null,null,null,null,null,null,null,null,null,null,"Bodriggy Academy","119584","2011-04-01","South West","Cornwall"]
[null,null,null,null,null,null,null,null,null,null,null,null,null,null,"Bohunt School","119646","2011-04-01","South East","Hampshire"]
[null,null,null,null,null,null,null,null,null,null,null,null,null,null,"Bolsover School, The","120597","2012-10-01","East Midlands","Derbyshire"]
[null,null,null,null,null,null,null,null,null,null,null,null,null,null,"Bolton Brow Junior Infant and Nursery School","120434","2011-09-01","Yorkshire & The Humber","Calderdale"]
[null,null,null,null,null,null,null,null,null,null,null,null,null,null,"Bolton St Catherine's Academy","119135","2009-09-01","North West","Bolton"]
[null,null,null,null,null,null,null,null,null,null,null,null,null,null,"Boothroyd Primary Academy","124702","2013-10-01","Yorkshire & The Humber","Kirklees"]
[null,null,null,null,null,null,null,null,null,null,null,null,null,null,"Borden Grammar School","120721","2012-01-01","South East","Kent"]
[null,null,null,null,null,null,null,null,null,null,null,null,null,null,"Boston Grammar School, The","123054","2013-01-01","East Midlands","Lincolnshire"]
[null,null,null,null,null,null,null,null,null,null,null,null,null,null,"Boston High School","122993","2013-01-01","East Midlands","Lincolnshire"]
[null,null,null,null,null,null,null,null,null,null,null,null,null,null,"Boston Pioneers Free School Academy","123293","2013-09-01","East Midlands","Lincolnshire"]
[null,null,null,null,null,null,null,null,null,null,null,null,null,null,"Boston West Primary School","122016","2012-07-01","East Midlands","Lincolnshire"]
[null,null,null,null,null,null,null,null,null,null,null,null,null,null,"Boswells School, The","120999","2012-02-01","East of England","Essex"]
[null,null,null,null,null,null,null,null,null,null,null,null,null,null,"Bosworth Academy","121188","2012-04-01","East Midlands","Leicestershire"]
[null,null,null,null,null,null,null,null,null,null,null,null,null,null,"Bottesford Church of England Primary School","122714","2012-11-01","East Midlands","Leicestershire"]
[null,null,null,null,null,null,null,null,null,null,null,null,null,null,"Bottisham Village College","119687","2011-04-01","East of England","Cambridgeshire"]
[null,null,null,null,null,null,null,null,null,null,null,null,null,null,"Boughton Primary School","121833","2012-09-01","East Midlands","Northamptonshire"]
[null,null,null,null,null,null,null,null,null,null,null,null,null,null,"Boulevard Academy, The","122527","2013-09-01","Yorkshire & The Humber","Hull"]
[null,null,null,null,null,null,null,null,null,null,null,null,null,null,"Bourn CofE Primary Academy","120572","2011-11-01","East of England","Cambridgeshire"]
[null,null,null,null,null,null,null,null,null,null,null,null,null,null,"Bourne Abbey Church of England Primary School","119379","2010-12-01","East Midlands","Lincolnshire"]
[null,null,null,null,null,null,null,null,null,null,null,null,null,null,"Bourne Academy - Bourne","120400","2011-09-01","East Midlands","Lincolnshire"]
[null,null,null,null,null,null,null,null,null,null,null,null,null,null,"Bourne Academy, The - Bournemouth","119201","2010-09-01","South West","Bournemouth"]
[null,null,null,null,null,null,null,null,null,null,null,null,null,null,"Bourne Grammar School - Bourne","120801","2012-01-01","East Midlands","Lincolnshire"]
[null,null,null,null,null,null,null,null,null,null,null,null,null,null,"Bourne Westfield Primary Academy","120639","2011-11-01","East Midlands","Lincolnshire"]
[null,null,null,null,null,null,null,null,null,null,null,null,null,null,"Bournemouth School","120387","2011-09-01","South West","Bournemouth"]
[null,null,null,null,null,null,null,null,null,null,null,null,null,null,"Bournemouth School for Girls","119996","2011-08-01","South West","Bournemouth"]
[null,null,null,null,null,null,null,null,null,null,null,null,null,null,"Bourton Meadow Academy","120734","2012-03-01","South East","Buckinghamshire"]
[null,null,null,null,null,null,null,null,null,null,null,null,null,null,"Bourton-on-the-Water Primary School","120736","2013-02-01","South West","Gloucestershire"]
[null,null,null,null,null,null,null,null,null,null,null,null,null,null,"Bovingdon Primary Academy","119825","2011-07-01","East of England","Hertfordshire"]
[null,null,null,null,null,null,null,null,null,null,null,null,null,null,"Bower Park School","123072","2013-02-01","London","Havering"]
[null,null,null,null,null,null,null,null,null,null,null,null,null,null,"Bowland High","119997","2011-08-01","North West","Lancashire"]
[null,null,null,null,null,null,null,null,null,null,null,null,null,null,"Boxgrove Primary School","124514","2013-09-01","South East","Surrey"]
[null,null,null,null,null,null,null,null,null,null,null,null,null,null,"Boyton Community Primary School","129560","2014-02-01","South West","Cornwall"]
[null,null,null,null,null,null,null,null,null,null,null,null,null,null,"Bracebridge Infant and Nursery School","123122","2013-01-01","East Midlands","Lincolnshire"]
[null,null,null,null,null,null,null,null,null,null,null,null,null,null,"Braddock CofE Primary School","124513","2013-12-01","South West","Cornwall"]
[null,null,null,null,null,null,null,null,null,null,null,null,null,null,"Bradfield School - Sheffield","120972","2012-12-01","Yorkshire & The Humber","Sheffield"]
[null,null,null,null,null,null,null,null,null,null,null,null,null,null,"Bradfields School - Chatham",128020,"2014-04-01","South East","Medway"]
[null,null,null,null,null,null,null,null,null,null,null,null,null,null,"Bradford Academy","118603","2007-09-01","Yorkshire & The Humber","Bradford"]
[null,null,null,null,null,null,null,null,null,null,null,null,null,null,"Bradford Girls' Grammar School","123294","2013-09-01","Yorkshire & The Humber","Bradford"]
[null,null,null,null,null,null,null,null,null,null,null,null,null,null,"Bradley Stoke Community School","120766","2012-01-01","South West","South Gloucestershire"]
[null,null,null,null,null,null,null,null,null,null,null,null,null,null,"Bradshaw Primary School","121004","2012-04-01","Yorkshire & The Humber","Calderdale"]
[null,null,null,null,null,null,null,null,null,null,null,null,null,null,"Bradworthy Primary Academy","119492","2011-03-01","South West","Devon"]
[null,null,null,null,null,null,null,null,null,null,null,null,null,null,"Brambles Primary School","122242","2012-09-01","North East","Middlesbrough"]
[null,null,null,null,null,null,null,null,null,null,null,null,null,null,"Bramcote School, The","122719","2012-10-01","East Midlands","Nottinghamshire"]
[null,null,null,null,null,null,null,null,null,null,null,null,null,null,"Bramford Primary School","123893","2013-06-01","West Midlands","Dudley"]
[null,null,null,null,null,null,null,null,null,null,null,null,null,null,"Brampton Manor Academy","119684","2011-04-01","London","Newham"]
[null,null,null,null,null,null,null,null,null,null,null,null,null,null,"Bransgore Church of England Primary School","120617","2011-12-01","South East","Hampshire"]
[null,null,null,null,null,null,null,null,null,null,null,null,null,null,"Branston Community Academy","119378","2010-12-01","East Midlands","Lincolnshire"]
[null,null,null,null,null,null,null,null,null,null,null,null,null,null,"Branston Junior Academy","122339","2012-08-01","East Midlands","Lincolnshire"]
[null,null,null,null,null,null,null,null,null,null,null,null,null,null,"Braunton School and Community College","120993","2012-04-01","South West","Devon"]
[null,null,null,null,null,null,null,null,null,null,null,null,null,null,"Brent Primary School, The","129429","2014-02-01","South East","Kent"]
[null,null,null,null,null,null,null,null,null,null,null,null,null,null,"Brentford School for Girls","122944","2012-12-01","London","Hounslow"]
[null,null,null,null,null,null,null,null,null,null,null,null,null,null,"Brentside Primary School","123055","2013-04-01","London","Ealing  "]
[null,null,null,null,null,null,null,null,null,null,null,null,null,null,"Brentwood Ursuline Convent High School","122961","2012-10-01","East of England","Essex"]
[null,null,null,null,null,null,null,null,null,null,null,null,null,null,"Briar Hill Primary School","122799","2012-11-01","East Midlands","Northamptonshire"]
[null,null,null,null,null,null,null,null,null,null,null,null,null,null,"Bricknell Primary School","124245","2013-10-01","Yorkshire & The Humber","Hull"]
[null,null,null,null,null,null,null,null,null,null,null,null,null,null,"Bridge Academy, The - Hackney","118650","2007-09-06","London","Hackney"]
[null,null,null,null,null,null,null,null,null,null,null,null,null,null,"Bridge AP Academy, The","122831","2013-04-01","London","Hammersmith and Fulham  "]
[null,null,null,null,null,null,null,null,null,null,null,null,null,null,"Bridge Learning Campus","120926","2013-03-01","South West","Bristol City"]
[null,null,null,null,null,null,null,null,null,null,null,null,null,null,"Bridge, The","126429","2013-10-01","South East","Milton Keynes"]
[null,null,null,null,null,null,null,null,null,null,null,null,null,null,"Bridgemary School","121885","2012-09-01","South East","Hampshire"]
[null,null,null,null,null,null,null,null,null,null,null,null,null,null,"Bridgewater Park Primary School",124825,"2014-04-01","North West","Halton"]
[null,null,null,null,null,null,null,null,null,null,null,null,null,null,"Bridgnorth Endowed School","122900","2013-03-01T15:53:45","West Midlands","Shropshire"]
[null,null,null,null,null,null,null,null,null,null,null,null,null,null,"Bridgwater Academy","120953","2012-09-01","South West","Somerset"]
[null,null,null,null,null,null,null,null,null,null,null,null,null,null,"Brighouse High School","119609","2011-04-01","Yorkshire & The Humber","Calderdale"]
[null,null,null,null,null,null,null,null,null,null,null,null,null,null,"Brighton Aldridge Community Academy","119232","2010-09-01","South East","Brighton and Hove"]
[null,null,null,null,null,null,null,null,null,null,null,null,null,null,"Brill Church of England Combined School","122683","2013-04-01","South East","Buckinghamshire "]
[null,null,null,null,null,null,null,null,null,null,null,null,null,null,"Brine Leas High School","119250","2010-09-02","North West","Cheshire East"]
[null,null,null,null,null,null,null,null,null,null,null,null,null,null,"Brinsworth School","119279","2010-10-01","Yorkshire & The Humber","Rotherham"]
[null,null,null,null,null,null,null,null,null,null,null,null,null,null,"Briscoe Academy","121877","2012-09-01","East of England","Essex"]
[null,null,null,null,null,null,null,null,null,null,null,null,null,null,"Briscoe Lane Primary School","122142","2012-09-01","North West","Manchester"]
[null,null,null,null,null,null,null,null,null,null,null,null,null,null,"Bristnall Hall Technology College","123843","2012-12-01","West Midlands","Sandwell"]
[null,null,null,null,null,null,null,null,null,null,null,null,null,null,"Bristol Brunel Academy","118609","2007-09-01","South West","Bristol City"]
[null,null,null,null,null,null,null,null,null,null,null,null,null,null,"Bristol Cathedral Choir School","118660","2008-09-04","South West","Bristol City"]
[null,null,null,null,null,null,null,null,null,null,null,null,null,null,"Bristol Free School","120522","2011-09-01","South West","Bristol City"]
[null,null,null,null,null,null,null,null,null,null,null,null,null,null,"Bristol Metropolitan Academy","119139","2009-09-01","South West","Bristol City"]
[null,null,null,null,null,null,null,null,null,null,null,null,null,null,"Bristol Technology and Engineering Academy","122153","2013-09-01","South West","South Gloucestershire"]
[null,null,null,null,null,null,null,null,null,null,null,null,null,null,"BRIT School for the Performing Arts & Technology, The","118384","1991-10-22","London","Croydon"]
[null,null,null,null,null,null,null,null,null,null,null,null,null,null,"Brittons Academy Trust, The","119558","2011-04-01","London","Havering"]
[null,null,null,null,null,null,null,null,null,null,null,null,null,null,"Brixham College","120789","2012-01-01","South West","Torbay"]
[null,null,null,null,null,null,null,null,null,null,null,null,null,null,"Broadclyst Community Primary School","119258","2010-09-01","South West","Devon"]
[null,null,null,null,null,null,null,null,null,null,null,null,null,null,"Broadfield East Infant School and Nursery","122284","2012-09-01","South East","West Sussex"]
[null,null,null,null,null,null,null,null,null,null,null,null,null,null,"Broadfield East Junior School","122064","2012-09-01","South East","West Sussex"]
[null,null,null,null,null,null,null,null,null,null,null,null,null,null,"Broadfields Primary School","124302","2013-10-01","London","Barnet"]
[null,null,null,null,null,null,null,null,null,null,null,null,null,null,"Broadlands School","122287","2012-12-01","South West","Bath & North East Somerset"]
[null,null,null,null,null,null,null,null,null,null,null,null,null,null,"Broadmere Community Primary School","123856","2013-04-01","South East","Surrey "]
[null,null,null,null,null,null,null,null,null,null,null,null,null,null,"Broadoak Mathematics and Computing College","120912","2012-02-01","South West","North Somerset"]
[null,null,null,null,null,null,null,null,null,null,null,null,null,null,"Broadoak Primary School","120550","2011-10-01","North West","Salford"]
[null,null,null,null,null,null,null,null,null,null,null,null,null,null,"Broadoak School","122012","2012-05-01","North West","Trafford"]
[null,null,null,null,null,null,null,null,null,null,null,null,null,null,"Broadway School","124188","2013-07-01","West Midlands","Birmingham"]
[null,null,null,null,null,null,null,null,null,null,null,null,null,null,"Brockhampton Primary School","120599","2011-11-01","West Midlands","Herefordshire"]
[null,null,null,null,null,null,null,null,null,null,null,null,null,null,"Brockhill Park Performing Arts College","120466","2011-09-01","South East","Kent"]
[null,null,null,null,null,null,null,null,null,null,null,null,null,null,"Brockington College","122370","2012-08-01","East Midlands","Leicestershire"]
[null,null,null,null,null,null,null,null,null,null,null,null,null,null,"Brocks Hill Primary School","124323","2013-06-01","East Midlands","Leicestershire"]
[null,null,null,null,null,null,null,null,null,null,null,null,null,null,"Brockworth Primary School","121848","2012-09-01","South West","Gloucestershire"]
[null,null,null,null,null,null,null,null,null,null,null,null,null,null,"Bromfords School, The","123077","2013-01-01","East of England","Essex"]
[null,null,null,null,null,null,null,null,null,null,null,null,null,null,"Brompton Academy","119167","2010-09-01","South East","Medway"]
[null,null,null,null,null,null,null,null,null,null,null,null,null,null,"Brooke Hill Academy","120065","2011-09-01","East Midlands","Rutland"]
[null,null,null,null,null,null,null,null,null,null,null,null,null,null,"Brooke Weston Academy","118385","2008-08-18","East Midlands","Northamptonshire"]
[null,null,null,null,null,null,null,null,null,null,null,null,null,null,"Brookfield Academy Trust","119537","2011-04-01","East Midlands","Derbyshire"]
[null,null,null,null,null,null,null,null,null,null,null,null,null,null,"Brookfield House School","122405","2012-09-01","London","Waltham Forest"]
[null,null,null,null,null,null,null,null,null,null,null,null,null,null,"Brookfield Primary Academy","127103","2014-01-01","Yorkshire & The Humber","Rotherham"]
[null,null,null,null,null,null,null,null,null,null,null,null,null,null,"Brooklands Middle School","120638","2011-11-01","East of England","Central Bedfordshire"]
[null,null,null,null,null,null,null,null,null,null,null,null,null,null,"Brooksbank School, The","120495","2011-10-01","Yorkshire & The Humber","Calderdale"]
[null,null,null,null,null,null,null,null,null,null,null,null,null,null,"Brookside Community Primary School - Street","119826","2011-07-01","South West","Somerset"]
[null,null,null,null,null,null,null,null,null,null,null,null,null,null,"Brookside Primary School - Hayes","122808","2013-04-01","London","Hillingdon  "]
[null,null,null,null,null,null,null,null,null,null,null,null,null,null,"Brookvale High School - Groby","122091","2012-07-01","East Midlands","Leicestershire"]
[null,null,null,null,null,null,null,null,null,null,null,null,null,null,"Brookvale Primary School - Erdington","122695","2013-04-01","West Midlands","Birmingham "]
[null,null,null,null,null,null,null,null,null,null,null,null,null,null,"Broom Leys School","122960","2012-11-01","East Midlands","Leicestershire"]
[null,null,null,null,null,null,null,null,null,null,null,null,null,null,"Broomfield Primary School","122368","2012-10-01","East Midlands","Leicestershire"]
[null,null,null,null,null,null,null,null,null,null,null,null,null,null,"Broughton Jewish Cassel Fox Primary School","121902","2012-08-01","North West","Salford"]
[null,null,null,null,null,null,null,null,null,null,null,null,null,null,"Broughton Primary School","120605","2011-10-01","North West","Cumbria"]
[null,null,null,null,null,null,null,null,null,null,null,null,null,null,"Browney Primary Academy",126485,"2014-03-01","North East","Durham"]
[null,null,null,null,null,null,null,null,null,null,null,null,null,null,"Brownhill Primary School","121963","2012-12-01","Yorkshire & The Humber","Leeds"]
[null,null,null,null,null,null,null,null,null,null,null,null,null,null,"Brownlow Primary School",130342,"2014-04-01","East Midlands","Leicestershire"]
[null,null,null,null,null,null,null,null,null,null,null,null,null,null,"Broxbourne School, The","119410","2011-01-01","East of England","Hertfordshire"]
[null,null,null,null,null,null,null,null,null,null,null,null,null,null,"Brunel Academy","119957","2011-08-01","South West","Cornwall"]
[null,null,null,null,null,null,null,null,null,null,null,null,null,null,"Brunts School, The","120785","2012-01-01","East Midlands","Nottinghamshire"]
[null,null,null,null,null,null,null,null,null,null,null,null,null,null,"Brymore School","123954","2013-09-01","South West","Somerset"]
[null,null,null,null,null,null,null,null,null,null,null,null,null,null,"Buckden CofE Primary School","120593","2011-11-01","East of England","Cambridgeshire"]
[null,null,null,null,null,null,null,null,null,null,null,null,null,null,"Buckfastleigh Primary School","119679","2011-04-01","South West","Devon"]
[null,null,null,null,null,null,null,null,null,null,null,null,null,null,"Buckinghamshire UTC","122154","2013-09-01","South East","Buckinghamshire"]
[null,null,null,null,null,null,null,null,null,null,null,null,null,null,"Buckland Church of England Primary School","124562","2013-11-01","South East","Oxfordshire"]
[null,null,null,null,null,null,null,null,null,null,null,null,null,null,"Bucklers Mead Academy","120193","2011-08-01","South West","Somerset"]
[null,null,null,null,null,null,null,null,null,null,null,null,null,null,"Bude Park Primary School","122912","2013-04-01","Yorkshire & The Humber","Hull "]
[null,null,null,null,null,null,null,null,null,null,null,null,null,null,"Bullers Wood School","119721","2011-05-01","London","Bromley"]
[null,null,null,null,null,null,null,null,null,null,null,null,null,null,"Bulwell Academy, The","118884","2009-09-01","East Midlands","Nottingham"]
[null,null,null,null,null,null,null,null,null,null,null,null,null,null,"Bungay High School","119998","2011-08-01","East of England","Suffolk"]
[null,null,null,null,null,null,null,null,null,null,null,null,null,null,"Burbage Primary School","123286","2013-04-01","South West","Wiltshire "]
[null,null,null,null,null,null,null,null,null,null,null,null,null,null,"Burford School","121840","2012-07-01","South East","Oxfordshire"]
[null,null,null,null,null,null,null,null,null,null,null,null,null,null,"Burgate School and Sixth Form, The","119737","2011-05-01","South East","Hampshire"]
[null,null,null,null,null,null,null,null,null,null,null,null,null,null,"Burghill Community Primary School","120629","2013-05-01","West Midlands","Herefordshire "]
[null,null,null,null,null,null,null,null,null,null,null,null,null,null,"Burlington Danes Academy","118604","2006-09-01","London","Hammersmith and Fulham"]
[null,null,null,null,null,null,null,null,null,null,null,null,null,null,"Burnage Academy for Boys",126456,"2014-04-01","North West","Manchester"]
[null,null,null,null,null,null,null,null,null,null,null,null,null,null,"Burnham Grammar School","120551","2011-10-01","South East","Buckinghamshire"]
[null,null,null,null,null,null,null,null,null,null,null,null,null,null,"Burnham Park E-ACT Academy","120931","2012-04-01","South East","Slough"]
[null,null,null,null,null,null,null,null,null,null,null,null,null,null,"Burnley Road Academy","120435","2011-09-01","Yorkshire & The Humber","Calderdale"]
[null,null,null,null,null,null,null,null,null,null,null,null,null,null,"Burnt Mill Comprehensive School","120833","2011-12-01","East of England","Essex"]
[null,null,null,null,null,null,null,null,null,null,null,null,null,null,"Burntwood School","124381","2013-07-01","London","Wandsworth"]
[null,null,null,null,null,null,null,null,null,null,null,null,null,null,"Burrington Church of England Controlled Primary School","120026","2011-08-01","South West","Devon"]
[null,null,null,null,null,null,null,null,null,null,null,null,null,null,"Burrowmoor Primary School","124979","2013-07-01","East of England","Cambridgeshire"]
[null,null,null,null,null,null,null,null,null,null,null,null,null,null,"Burrsville Community Infant School","124684","2013-12-01","East of England","Essex"]
[null,null,null,null,null,null,null,null,null,null,null,null,null,null,"Bursar Primary Academy","121143","2012-08-01","Yorkshire & The Humber","North East Lincolnshire"]
[null,null,null,null,null,null,null,null,null,null,null,null,null,null,"Bursley Academy","121042","2012-04-01","West Midlands","Staffordshire"]
[null,null,null,null,null,null,null,null,null,null,null,null,null,null,"Bursted Wood Primary School","124678","2013-12-01","London","Bexley"]
[null,null,null,null,null,null,null,null,null,null,null,null,null,null,"Burton Morewood CofE Primary School","120512","2011-10-01","North West","Cumbria"]
[null,null,null,null,null,null,null,null,null,null,null,null,null,null,"Bury CofE Primary School","123367","2013-07-01","East of England","Cambridgeshire"]
[null,null,null,null,null,null,null,null,null,null,null,null,null,null,"Bury St Edmunds County Upper School","119990","2011-08-01","East of England","Suffolk"]
[null,null,null,null,null,null,null,null,null,null,null,null,null,null,"Bushey Academy, The","119103","2009-09-01","East of England","Hertfordshire"]
[null,null,null,null,null,null,null,null,null,null,null,null,null,null,"Bushey Meads School","121008","2012-02-01T13:31:30","East of England","Hertfordshire"]
[null,null,null,null,null,null,null,null,null,null,null,null,null,null,"Bushloe High School","122601","2012-11-01","East Midlands","Leicestershire"]
[null,null,null,null,null,null,null,null,null,null,null,null,null,null,"Business Academy Bexley, The","118403","2002-09-01","London","Bexley"]
[null,null,null,null,null,null,null,null,null,null,null,null,null,null,"Buttsbury Junior School, The","119722","2011-05-01","East of England","Essex"]
[null,null,null,null,null,null,null,null,null,null,null,null,null,null,"By Brook Valley Academy Trust","120844","2012-05-01","South West","Wiltshire"]
[null,null,null,null,null,null,null,null,null,null,null,null,null,null,"Byrchall High School, The","122801","2012-09-01","North West","Wigan"]
[null,null,null,null,null,null,null,null,null,null,null,null,null,null,"Caistor Grammar School","119377","2010-12-01","East Midlands","Lincolnshire"]
[null,null,null,null,null,null,null,null,null,null,null,null,null,null,"Caistor Yarborough School","119958","2011-08-01","East Midlands","Lincolnshire"]
[null,null,null,null,null,null,null,null,null,null,null,null,null,null,"Calday Grange Grammar School","121860","2013-01-01","North West","Wirral"]
[null,null,null,null,null,null,null,null,null,null,null,null,null,null,"Caldew School","120254","2011-08-01","North West","Cumbria"]
[null,null,null,null,null,null,null,null,null,null,null,null,null,null,"Caldicotes Primary School","123882","2013-04-01","North East","Middlesbrough "]
[null,null,null,null,null,null,null,null,null,null,null,null,null,null,"Callington Community College","119608","2011-04-01","South West","Cornwall"]
[null,null,null,null,null,null,null,null,null,null,null,null,null,null,"Callington Primary School","129568","2014-02-01","South West","Cornwall"]
[null,null,null,null,null,null,null,null,null,null,null,null,null,null,"Caludon Castle School","120328","2013-02-01","West Midlands","Coventry"]
[null,null,null,null,null,null,null,null,null,null,null,null,null,null,"Camborne Science and International Academy","119596","2011-04-01","South West","Cornwall"]
[null,null,null,null,null,null,null,null,null,null,null,null,null,null,"Cambourne Village College","123295","2013-09-01","East of England","Cambridgeshire"]
[null,null,null,null,null,null,null,null,null,null,null,null,null,null,"Cambridge Park Academy","120437","2011-09-01","Yorkshire & The Humber","North East Lincolnshire"]
[null,null,null,null,null,null,null,null,null,null,null,null,null,null,"Campion School - Leamington Spa","120347","2012-01-01","West Midlands","Warwickshire"]
[null,null,null,null,null,null,null,null,null,null,null,null,null,null,"Campion School - Northampton","120087","2011-08-01","East Midlands","Northamptonshire"]
[null,null,null,null,null,null,null,null,null,null,null,null,null,null,"Campion School, The - Hornchurch","120040","2011-08-01","London","Havering"]
[null,null,null,null,null,null,null,null,null,null,null,null,null,null,"Campsmount Technology College","120489","2012-05-01T14:07:30","Yorkshire & The Humber","Doncaster"]
[null,null,null,null,null,null,null,null,null,null,null,null,null,null,"Cams Hill School","120494","2011-10-01","South East","Hampshire"]
[null,null,null,null,null,null,null,null,null,null,null,null,null,null,"Canary Wharf College","120467","2011-09-01","London","Tower Hamlets"]
[null,null,null,null,null,null,null,null,null,null,null,null,null,null,"Canklow Woods Primary School","124559","2013-09-01","Yorkshire & The Humber","Rotherham"]
[null,null,null,null,null,null,null,null,null,null,null,null,null,null,"Cann Hall Primary School","122279","2012-11-01","East of England","Essex"]
[null,null,null,null,null,null,null,null,null,null,null,null,null,null,"Cannock Chase High School","120423","2011-09-01","West Midlands","Staffordshire"]
[null,null,null,null,null,null,null,null,null,null,null,null,null,null,"Canon Pyon CofE Primary School","121115","2013-02-01","West Midlands","Herefordshire"]
[null,null,null,null,null,null,null,null,null,null,null,null,null,null,"Canons High School","120199","2011-08-01","London","Harrow"]
[null,null,null,null,null,null,null,null,null,null,null,null,null,null,"Canterbury Academy, The","119281","2010-10-01","South East","Kent"]
[null,null,null,null,null,null,null,null,null,null,null,null,null,null,"Canterbury Primary School, The","119282","2010-10-01","South East","Kent"]
[null,null,null,null,null,null,null,null,null,null,null,null,null,null,"Capital City Academy","118386","2003-09-01","London","Brent"]
[null,null,null,null,null,null,null,null,null,null,null,null,null,null,"Captains Close Primary School","124187","2013-07-01","East Midlands","Leicestershire"]
[null,null,null,null,null,null,null,null,null,null,null,null,null,null,"Cardinal Hume Catholic School","120889","2012-02-01T13:32:29","North East","Gateshead"]
[null,null,null,null,null,null,null,null,null,null,null,null,null,null,"Carew Academy","123956","2013-09-01","London","Sutton"]
[null,null,null,null,null,null,null,null,null,null,null,null,null,null,"Carleton Community High School A Specialist Science College","123252","2013-04-01","Yorkshire & The Humber","Wakefield "]
[null,null,null,null,null,null,null,null,null,null,null,null,null,null,"Carlton Academy","120085","2011-09-01","East Midlands","Nottinghamshire"]
[null,null,null,null,null,null,null,null,null,null,null,null,null,null,"Carlton Le Willows Academy","119542","2011-04-01","East Midlands","Nottinghamshire"]
[null,null,null,null,null,null,null,null,null,null,null,null,null,null,"Carlton Primary School","122772","2012-12-01","Yorkshire & The Humber","Barnsley"]
[null,null,null,null,null,null,null,null,null,null,null,null,null,null,"Carlton Road Academy","121234","2012-09-01","East Midlands","Lincolnshire"]
[null,null,null,null,null,null,null,null,null,null,null,null,null,null,"Carmel College, A Catholic Academy","120603","2011-11-01T13:51:42","North East","Darlington"]
[null,null,null,null,null,null,null,null,null,null,null,null,null,null,"Carmountside Primary School","122114","2013-07-01","West Midlands","Stoke on Trent"]
[null,null,null,null,null,null,null,null,null,null,null,null,null,null,"Caroline Chisholm School","120089","2011-08-01","East Midlands","Northamptonshire"]
[null,null,null,null,null,null,null,null,null,null,null,null,null,null,"Carradon PRU","122708","2013-06-01","South West","Cornwall"]
[null,null,null,null,null,null,null,null,null,null,null,null,null,null,"Carre's Grammar School","120213","2011-08-01","East Midlands","Lincolnshire"]
[null,null,null,null,null,null,null,null,null,null,null,null,null,null,"Carshalton Boys Sports College","119760","2011-06-01","London","Sutton"]
[null,null,null,null,null,null,null,null,null,null,null,null,null,null,"Carshalton High School for Girls","119761","2011-06-01","London","Sutton"]
[null,null,null,null,null,null,null,null,null,null,null,null,null,null,"Carter Community School","122880","2013-04-01","South West","Poole "]
[null,null,null,null,null,null,null,null,null,null,null,null,null,null,"Cartmel Priory CofE School","120410","2011-09-01","North West","Cumbria"]
[null,null,null,null,null,null,null,null,null,null,null,null,null,null,"Casterton Business & Enterprise College","120405","2011-09-01","East Midlands","Rutland"]
[null,null,null,null,null,null,null,null,null,null,null,null,null,null,"Castle Academy - Doncaster","121987","2012-09-01","Yorkshire & The Humber","Doncaster"]
[null,null,null,null,null,null,null,null,null,null,null,null,null,null,"Castle Academy - Northampton","127821","2014-01-01","East Midlands","Northamptonshire"]
[null,null,null,null,null,null,null,null,null,null,null,null,null,null,"Castle Carrock School","120361","2011-11-01","North West","Cumbria"]
[null,null,null,null,null,null,null,null,null,null,null,null,null,null,"Castle Community College","119280","2010-10-01","South East","Kent"]
[null,null,null,null,null,null,null,null,null,null,null,null,null,null,"Castle Donington Community College","122372","2012-10-01","East Midlands","Leicestershire"]
[null,null,null,null,null,null,null,null,null,null,null,null,null,null,"Castle Hall School: A Specialist Language College","120438","2011-09-01","Yorkshire & The Humber","Kirklees"]
[null,null,null,null,null,null,null,null,null,null,null,null,null,null,"Castle Hill Academy","124668","2013-11-01","London","Croydon"]
[null,null,null,null,null,null,null,null,null,null,null,null,null,null,"Castle Manor Business and Enterprise College","120815","2012-06-01","East of England","Suffolk"]
[null,null,null,null,null,null,null,null,null,null,null,null,null,null,"Castle Rock High School","122135","2012-08-01","East Midlands","Leicestershire"]
[null,null,null,null,null,null,null,null,null,null,null,null,null,null,"Castle School, The - Taunton","119916","2011-07-01","South West","Somerset"]
[null,null,null,null,null,null,null,null,null,null,null,null,null,null,"Castle School, The - Thornbury","123062","2013-03-01T15:57:05","South West","South Gloucestershire"]
[null,null,null,null,null,null,null,null,null,null,null,null,null,null,"Castle View Enterprise Academy","119127","2009-09-01","North East","Sunderland"]
[null,null,null,null,null,null,null,null,null,null,null,null,null,null,"Castlecombe Primary School","127709","2014-01-01","London","Bromley"]
[null,null,null,null,null,null,null,null,null,null,null,null,null,null,"Castleford Academy","119602","2011-04-01","Yorkshire & The Humber","Wakefield"]
[null,null,null,null,null,null,null,null,null,null,null,null,null,null,"Castleford Glasshoughton Infant School","124999","2013-11-01","Yorkshire & The Humber","Wakefield"]
[null,null,null,null,null,null,null,null,null,null,null,null,null,null,"Castleford Park Junior School","122958","2013-03-01","Yorkshire & The Humber","Wakefield"]
[null,null,null,null,null,null,null,null,null,null,null,null,null,null,"Castleview Primary School","122340","2012-09-01","South East","Slough"]
[null,null,null,null,null,null,null,null,null,null,null,null,null,null,"Catcote School","124489","2013-08-01T13:04:06","North East","Hartlepool"]
[null,null,null,null,null,null,null,null,null,null,null,null,null,null,"Cathedral Primary School","123296","2013-09-01","South West","Bristol"]
[null,null,null,null,null,null,null,null,null,null,null,null,null,null,"Cathedral School of St Mary, The - Plymouth",130107,"2014-04-01","South West","Plymouth"]
[null,null,null,null,null,null,null,null,null,null,null,null,null,null,"Cathedral School, The","120756","2012-01-01","Yorkshire & The Humber","Wakefield"]
[null,null,null,null,null,null,null,null,null,null,null,null,null,null,"Catholic High School, The - Chester","123813","2013-03-01T15:57:51","North West","Cheshire West and Chester"]
[null,null,null,null,null,null,null,null,null,null,null,null,null,null,"Catmose College","119527","2011-04-01","East Midlands","Rutland"]
[null,null,null,null,null,null,null,null,null,null,null,null,null,null,"Catmose Primary","121113","2012-05-01","East Midlands","Rutland"]
[null,null,null,null,null,null,null,null,null,null,null,null,null,null,"Cavendish High School","125223","2014-02-01","North West","Halton"]
[null,null,null,null,null,null,null,null,null,null,null,null,null,null,"Cavendish School, The","122177","2012-08-01","South East","East Sussex"]
[null,null,null,null,null,null,null,null,null,null,null,null,null,null,"Cawston Grange Primary School","123212","2013-09-01","West Midlands","Warwickshire"]
[null,null,null,null,null,null,null,null,null,null,null,null,null,null,"Cedar Mount Academy","120927","2012-08-01","North West","Manchester"]
[null,null,null,null,null,null,null,null,null,null,null,null,null,null,"Cedar Road Primary School","120686","2012-06-01","East Midlands","Northamptonshire"]
[null,null,null,null,null,null,null,null,null,null,null,null,null,null,"Cedars School, The - Gateshead","122702","2012-09-01","North East","Gateshead"]
[null,null,null,null,null,null,null,null,null,null,null,null,null,null,"Cedars Upper School - Leighton Buzzard","120411","2011-09-01","East of England","Central Bedfordshire"]
[null,null,null,null,null,null,null,null,null,null,null,null,null,null,"Central Bedfordshire UTC","122156","2012-09-01","East of England","Central Bedfordshire"]
[null,null,null,null,null,null,null,null,null,null,null,null,null,null,"Centre School, The","120340","2011-09-01","East of England","Cambridgeshire"]
[null,null,null,null,null,null,null,null,null,null,null,null,null,null,"CET Primary School - Tower Hamlets","122034","2012-09-01","London","Tower Hamlets"]
[null,null,null,null,null,null,null,null,null,null,null,null,null,null,"CET Primary School - Westminster","121952","2012-09-01","London","Westminster"]
[null,null,null,null,null,null,null,null,null,null,null,null,null,null,"Chacombe Church of England Voluntary Aided Primary School","123887","2013-09-01","East Midlands","Northamptonshire"]
[null,null,null,null,null,null,null,null,null,null,null,null,null,null,"Chadsmead Primary Academy","120268","2011-08-01","West Midlands","Staffordshire"]
[null,null,null,null,null,null,null,null,null,null,null,null,null,null,"Chadwell Heath Academy, The","119269","2010-09-01","London","Redbridge"]
[null,null,null,null,null,null,null,null,null,null,null,null,null,null,"Chafford Hundred Primary School","121887","2012-07-01","East of England","Thurrock"]
[null,null,null,null,null,null,null,null,null,null,null,null,null,null,"Chafford School, A Specialist Business and Enterprise College, The","124495","2013-11-01","London","Havering"]
[null,null,null,null,null,null,null,null,null,null,null,null,null,null,"Chalfont St Peter CofE Academy","119723","2011-05-01","South East","Buckinghamshire"]
[null,null,null,null,null,null,null,null,null,null,null,null,null,null,"Chalfont Valley E-ACT Primary Academy","120924","2012-09-01","South East","Buckinghamshire"]
[null,null,null,null,null,null,null,null,null,null,null,null,null,null,"Chalfonts Community College, The","120215","2011-08-01","South East","Buckinghamshire"]
[null,null,null,null,null,null,null,null,null,null,null,null,null,null,"Challney High School For Boys and Community College","119648","2011-04-01","East of England","Luton"]
[null,null,null,null,null,null,null,null,null,null,null,null,null,null,"Chandlers Ridge Primary School","122120","2012-09-01","North East","Middlesbrough"]
[null,null,null,null,null,null,null,null,null,null,null,null,null,null,"Chantry Community Academy - Gravesend","122685","2013-06-01","South East","Kent"]
[null,null,null,null,null,null,null,null,null,null,null,null,null,null,"Chantry Primary School - Luton","122103","2012-08-01","East of England","Luton"]
[null,null,null,null,null,null,null,null,null,null,null,null,null,null,"Chantry School, The - Worcester","119897","2011-07-01","West Midlands","Worcestershire"]
[null,null,null,null,null,null,null,null,null,null,null,null,null,null,"Chapel End Junior Academy","122882","2013-04-01","London","Waltham Forest  "]
[null,null,null,null,null,null,null,null,null,null,null,null,null,null,"Charfield Primary School","124579","2013-09-01","South West","South Gloucestershire"]
[null,null,null,null,null,null,null,null,null,null,null,null,null,null,"Charles Coddy Walker Academy, The","123087","2013-01-01","West Midlands","Walsall"]
[null,null,null,null,null,null,null,null,null,null,null,null,null,null,"Charles Darwin School","119586","2011-04-01","London","Bromley"]
[null,null,null,null,null,null,null,null,null,null,null,null,null,null,"Charles Read Academy, The","119479","2011-02-01","East Midlands","Lincolnshire"]
[null,null,null,null,null,null,null,null,null,null,null,null,null,null,"Charles Warren Academy","121954","2012-09-01","South East","Milton Keynes"]
[null,null,null,null,null,null,null,null,null,null,null,null,null,null,"Charlestown Primary School","119799","2011-06-01","South West","Cornwall"]
[null,null,null,null,null,null,null,null,null,null,null,null,null,null,"Charlton Kings Infant School","119999","2011-08-01","South West","Gloucestershire"]
[null,null,null,null,null,null,null,null,null,null,null,null,null,null,"Charlton Kings Junior School","120266","2011-08-01","South West","Gloucestershire"]
[null,null,null,null,null,null,null,null,null,null,null,null,null,null,"Charlton Park Academy","122099","2012-08-01","London","Greenwich"]
[null,null,null,null,null,null,null,null,null,null,null,null,null,null,"Charlton Primary School","124203","2013-10-01","South East","Oxfordshire"]
[null,null,null,null,null,null,null,null,null,null,null,null,null,null,"Charter Academy - Portsmouth","119137","2009-09-01","South East","Portsmouth"]
[null,null,null,null,null,null,null,null,null,null,null,null,null,null,"Charter School, The - Southwark","119271","2010-09-06","London","Southwark"]
[null,null,null,null,null,null,null,null,null,null,null,null,null,null,"Charters School - Windosr & Maidenhead","120779","2012-10-01","South East","Windsor and Maidenhead"]
[null,null,null,null,null,null,null,null,null,null,null,null,null,null,"Charville Primary School","123176","2013-05-01","London","Hillingdon  "]
[null,null,null,null,null,null,null,null,null,null,null,null,null,null,"Chase, The - Malvern","120628","2011-11-01","West Midlands","Worcestershire"]
[null,null,null,null,null,null,null,null,null,null,null,null,null,null,"Chatham Grammar School for Boys","119601","2011-04-01","South East","Medway"]
[null,null,null,null,null,null,null,null,null,null,null,null,null,null,"Chatham Grammar School for Girls","120429","2011-09-01","South East","Medway"]
[null,null,null,null,null,null,null,null,null,null,null,null,null,null,"Chatham House Grammar School","119418","2011-01-01","South East","Kent"]
[null,null,null,null,null,null,null,null,null,null,null,null,null,null,"Chattenden Primary School","121879","2012-07-01","South East","Medway"]
[null,null,null,null,null,null,null,null,null,null,null,null,null,null,"Chaucer School Academy","120928","2012-09-01","Yorkshire & The Humber","Sheffield"]
[null,null,null,null,null,null,null,null,null,null,null,null,null,null,"Chaulden Junior School","124062","2013-05-01","East of England","Hertfordshire "]
[null,null,null,null,null,null,null,null,null,null,null,null,null,null,"Chauncy School, The","120090","2011-08-01","East of England","Hertfordshire"]
[null,null,null,null,null,null,null,null,null,null,null,null,null,null,"Cheadle Academy, The","119959","2011-08-01","West Midlands","Staffordshire"]
[null,null,null,null,null,null,null,null,null,null,null,null,null,null,"Cheadle Hulme High School","120752","2012-02-01","North West","Stockport"]
[null,null,null,null,null,null,null,null,null,null,null,null,null,null,"Cheam High School","119775","2011-06-01","London","Sutton"]
[null,null,null,null,null,null,null,null,null,null,null,null,null,null,"Cheam Park Farm Infants' School","125010","2013-10-01","London","Sutton"]
[null,null,null,null,null,null,null,null,null,null,null,null,null,null,"Cheam Park Farm Junior School","119591","2011-04-01","London","Sutton"]
[null,null,null,null,null,null,null,null,null,null,null,null,null,null,"Cheddon Fitzpaine Church of England Primary School","124578","2013-09-01","South West","Somerset"]
[null,null,null,null,null,null,null,null,null,null,null,null,null,null,"Cheetham CofE Community Academy","120528","2011-11-01","North West","Manchester"]
[null,null,null,null,null,null,null,null,null,null,null,null,null,null,"Chellaston Academy","119381","2010-12-01","East Midlands","Derby"]
[null,null,null,null,null,null,null,null,null,null,null,null,null,null,"Chelmer Valley High School","120260","2011-08-01","East of England","Essex"]
[null,null,null,null,null,null,null,null,null,null,null,null,null,null,"Chelmsford County High School","119432","2011-01-01","East of England","Essex"]
[null,null,null,null,null,null,null,null,null,null,null,null,null,null,"Chelsea Academy","118895","2009-09-01","London","Royal Borough of Kensington and Chelsea"]
[null,null,null,null,null,null,null,null,null,null,null,null,null,null,"Cheltenham Bournside School and Sixth Form Centre","119724","2011-05-01","South West","Gloucestershire"]
[null,null,null,null,null,null,null,null,null,null,null,null,null,null,"Chenderit School","120989","2012-02-01T13:40:46","East Midlands","Northamptonshire"]
[null,null,null,null,null,null,null,null,null,null,null,null,null,null,"Cheney School","123080","2013-01-01","South East","Oxfordshire"]
[null,null,null,null,null,null,null,null,null,null,null,null,null,null,"Chepping View Primary School","121029","2012-04-01","South East","Buckinghamshire"]
[null,null,null,null,null,null,null,null,null,null,null,null,null,null,"Cherwell School, The","121116","2012-04-01","South East","Oxfordshire"]
[null,null,null,null,null,null,null,null,null,null,null,null,null,null,"Chesham Grammar School","120091","2011-08-01","South East","Buckinghamshire"]
[null,null,null,null,null,null,null,null,null,null,null,null,null,null,"Chesterfield High School","120486","2011-10-01","North West","Sefton"]
[null,null,null,null,null,null,null,null,null,null,null,null,null,null,"Chesterton Community College Academy - Cambridge","119887","2011-07-01","East of England","Cambridgeshire"]
[null,null,null,null,null,null,null,null,null,null,null,null,null,null,"Chesterton Community Sports College - Newcastle","124993","2013-12-01","West Midlands","Staffordshire"]
[null,null,null,null,null,null,null,null,null,null,null,null,null,null,"Chesterton Primary School - Cambridge","126498","2013-09-01","East of England","Cambridgeshire"]
[null,null,null,null,null,null,null,null,null,null,null,null,null,null,"Chestnut Grove School","119883","2011-07-01","London","Wandsworth"]
[null,null,null,null,null,null,null,null,null,null,null,null,null,null,"Chetwynd Primary Academy","120890","2012-04-01","East Midlands","Nottinghamshire"]
[null,null,null,null,null,null,null,null,null,null,null,null,null,null,"Chew Stoke CofE VA Primary School","122392","2012-09-01","South West","Bath & North East Somerset"]
[null,null,null,null,null,null,null,null,null,null,null,null,null,null,"Chichester Free School","123297","2013-09-01","South East","West Sussex"]
[null,null,null,null,null,null,null,null,null,null,null,null,null,null,"Chichester High School for Boys","124980","2013-09-01","South East","West Sussex"]
[null,null,null,null,null,null,null,null,null,null,null,null,null,null,"Chichester High School for Girls","124981","2013-09-01","South East","West Sussex"]
[null,null,null,null,null,null,null,null,null,null,null,null,null,null,"Chickerell Primary Academy","123171","2013-01-01","South West","Dorset"]
[null,null,null,null,null,null,null,null,null,null,null,null,null,null,"Chiddingstone Church of England Voluntary Controlled Primary School","120625","2011-12-01","South East","Kent"]
[null,null,null,null,null,null,null,null,null,null,null,null,null,null,"Childwall Sports and Science Academy","122492","2012-09-01","North West","Liverpool"]
[null,null,null,null,null,null,null,null,null,null,null,null,null,null,"Chiltern Hills Academy","120280","2011-09-01","South East","Buckinghamshire"]
[null,null,null,null,null,null,null,null,null,null,null,null,null,null,"Chilwell Croft Primary School","122259","2012-09-01","West Midlands","Birmingham"]
[null,null,null,null,null,null,null,null,null,null,null,null,null,null,"Chingford Foundation School","122263","2012-09-01","London","Waltham Forest"]
[null,null,null,null,null,null,null,null,null,null,null,null,null,null,"Chingford Hall Primary School","121432","2012-07-01","London","Waltham Forest"]
[null,null,null,null,null,null,null,null,null,null,null,null,null,null,"Chipping Campden School","119960","2011-08-01","South West","Gloucestershire"]
[null,null,null,null,null,null,null,null,null,null,null,null,null,null,"Chipping Norton School","113956","2012-03-01T10:22:20","South East","Oxfordshire"]
[null,null,null,null,null,null,null,null,null,null,null,null,null,null,"Chipping Warden School","124173","2013-09-01","East Midlands","Northamptonshire"]
[null,null,null,null,null,null,null,null,null,null,null,null,null,null,"Chipstead Valley Primary School",129897,"2014-04-01","London","Croydon"]
[null,null,null,null,null,null,null,null,null,null,null,null,null,null,"Chislehurst and Sidcup Grammar School","120344","2011-09-01","London","Bexley"]
[null,null,null,null,null,null,null,null,null,null,null,null,null,null,"Chiswick School","121123","2012-03-01T10:23:56","London","Hounslow"]
[null,null,null,null,null,null,null,null,null,null,null,null,null,null,"Chivenor Primary School","124208","2014-02-01","West Midlands","Birmingham"]
[null,null,null,null,null,null,null,null,null,null,null,null,null,null,"Chobham Academy","121928","2013-09-01","London","Newham"]
[null,null,null,null,null,null,null,null,null,null,null,null,null,null,"Cholsey Primary School","124596","2013-11-01","South East","Oxfordshire"]
[null,null,null,null,null,null,null,null,null,null,null,null,null,null,"Chorlton High School","122953","2013-01-01","North West","Manchester"]
[null,null,null,null,null,null,null,null,null,null,null,null,null,null,"Chosen Hill School","119611","2011-04-01","South West","Gloucestershire"]
[null,null,null,null,null,null,null,null,null,null,null,null,null,null,"Christ Church Academy","119961","2011-08-01","West Midlands","Staffordshire"]
[null,null,null,null,null,null,null,null,null,null,null,null,null,null,"Christ Church Church of England Primary School - Bristol","121013","2012-07-01","South West","Bristol City"]
[null,null,null,null,null,null,null,null,null,null,null,null,null,null,"Christ Church Church of England School - Rickmansworth","122959","2013-04-01","East of England","Hertfordshire "]
[null,null,null,null,null,null,null,null,null,null,null,null,null,null,"Christ Church CofE Primary School - Cheltenham","122715","2012-11-01","South West","Gloucestershire"]
[null,null,null,null,null,null,null,null,null,null,null,null,null,null,"Christ Church Woodhouse C of E (Voluntary Aided) Junior, Infant & Early Years School","121859","2012-09-01","Yorkshire & The Humber","Kirklees"]
[null,null,null,null,null,null,null,null,null,null,null,null,null,null,"Christ Church, Erith, CofE VA Primary School","122919","2013-05-01","London","Bexley  "]
[null,null,null,null,null,null,null,null,null,null,null,null,null,null,"Christ The King Catholic Primary School - Bournemouth",130116,"2014-04-01","South West","Bournemouth"]
[null,null,null,null,null,null,null,null,null,null,null,null,null,null,"Christ The King Catholic Voluntary Academy - Nottingham","121100","2012-10-01","East Midlands","Nottinghamshire"]
[null,null,null,null,null,null,null,null,null,null,null,null,null,null,"Christian Malford CofE Primary School","127978","2013-12-01","South West","Wiltshire"]
[null,null,null,null,null,null,null,null,null,null,null,null,null,null,"Christleton High School","119680","2011-04-01","North West","Cheshire West and Chester"]
[null,null,null,null,null,null,null,null,null,null,null,null,null,null,"Christopher Whitehead Language College","119890","2011-07-01","West Midlands","Worcestershire"]
[null,null,null,null,null,null,null,null,null,null,null,null,null,null,"Christow Community School","121088","2012-09-01","South West","Devon"]
[null,null,null,null,null,null,null,null,null,null,null,null,null,null,"Christ's College Finchley","120345","2011-09-01","London","Barnet"]
[null,null,null,null,null,null,null,null,null,null,null,null,null,null,"Chudleigh Knighton Church of England Primary School","120474","2011-11-01","South West","Devon"]
[null,null,null,null,null,null,null,null,null,null,null,null,null,null,"Chulmleigh Community College","120024","2011-08-01","South West","Devon"]
[null,null,null,null,null,null,null,null,null,null,null,null,null,null,"Chulmleigh Primary School","120023","2011-08-01","South West","Devon"]
[null,null,null,null,null,null,null,null,null,null,null,null,null,null,"Church Hill Church of England Junior School","122394","2012-11-01","East Midlands","Leicestershire"]
[null,null,null,null,null,null,null,null,null,null,null,null,null,null,"Church Hill Infant School","122410","2012-11-01","East Midlands","Leicestershire"]
[null,null,null,null,null,null,null,null,null,null,null,null,null,null,"Church Stretton School","123865","2013-04-01","West Midlands","Shropshire "]
[null,null,null,null,null,null,null,null,null,null,null,null,null,null,"Churchdown School","119956","2011-11-01T13:54:52","South West","Gloucestershire"]
[null,null,null,null,null,null,null,null,null,null,null,null,null,null,"Churchdown Village Infant School","120173","2011-08-01","South West","Gloucestershire"]
[null,null,null,null,null,null,null,null,null,null,null,null,null,null,"Churchend School","119461","2011-02-01","South East","Reading"]
[null,null,null,null,null,null,null,null,null,null,null,null,null,null,"Churchfield Church School","122817","2013-04-01","South West","Somerset "]
[null,null,null,null,null,null,null,null,null,null,null,null,null,null,"Churchfields Academy","120388","2011-09-01","South West","Swindon"]
[null,null,null,null,null,null,null,null,null,null,null,null,null,null,"Churchfields Primary School","124639","2013-12-01","West Midlands","Staffordshire"]
[null,null,null,null,null,null,null,null,null,null,null,null,null,null,"Churchill Academy and Sixth Form Centre","120000","2011-08-01","South West","North Somerset"]
[null,null,null,null,null,null,null,null,null,null,null,null,null,null,"Churchill Gardens Community Primary School","126330","2013-09-01","London","Westminster"]
[null,null,null,null,null,null,null,null,null,null,null,null,null,null,"Churchill Special Free School","123396","2013-09-01","East of England","Suffolk"]
[null,null,null,null,null,null,null,null,null,null,null,null,null,null,"Churston Ferrers Grammar School","119406","2011-01-01","South West","Torbay"]
[null,null,null,null,null,null,null,null,null,null,null,null,null,null,"Cippenham Infant School","121194","2012-04-01","South East","Slough"]
[null,null,null,null,null,null,null,null,null,null,null,null,null,null,"Cippenham Primary School","121195","2012-04-01","South East","Slough"]
[null,null,null,null,null,null,null,null,null,null,null,null,null,null,"Cirencester Deer Park School","119533","2011-04-01","South West","Gloucestershire"]
[null,null,null,null,null,null,null,null,null,null,null,null,null,null,"Cirencester Kingshill School","120217","2011-08-01","South West","Gloucestershire"]
[null,null,null,null,null,null,null,null,null,null,null,null,null,null,"City Academy - Norwich","119104","2009-09-01","East of England","Norfolk"]
[null,null,null,null,null,null,null,null,null,null,null,null,null,null,"City Academy Whitehawk","123896","2013-09-01","South East","Brighton and Hove"]
[null,null,null,null,null,null,null,null,null,null,null,null,null,null,"City Academy, The - Bristol","117017","2003-09-01","South West","Bristol City"]
[null,null,null,null,null,null,null,null,null,null,null,null,null,null,"City Academy, The - Hackney","118896","2009-09-03","London","Hackney"]
[null,null,null,null,null,null,null,null,null,null,null,null,null,null,"City Gateway","122804","2012-09-01","London","Tower Hamlets"]
[null,null,null,null,null,null,null,null,null,null,null,null,null,null,"City Heights E-ACT Academy","121926","2013-09-01","London","Hackney"]
[null,null,null,null,null,null,null,null,null,null,null,null,null,null,"City of Derby Academy","121869","2013-06-01","East Midlands","Derby"]
[null,null,null,null,null,null,null,null,null,null,null,null,null,null,"City of Ely Community College","120613","2012-01-01","East of England","Cambridgeshire"]
[null,null,null,null,null,null,null,null,null,null,null,null,null,null,"City of London Academy, The - Islington","118605","2008-09-01","London","Islington"]
[null,null,null,null,null,null,null,null,null,null,null,null,null,null,"City of London Academy, The - Southwark","118387","2003-09-01","London","Southwark"]
[null,null,null,null,null,null,null,null,null,null,null,null,null,null,"City of Peterborough Academy","124497","2013-09-01","East of England","Peterborough"]
[null,null,null,null,null,null,null,null,null,null,null,null,null,null,"City of Peterborough Academy Special School","122220","2012-09-01","East of England","Peterborough"]
[null,null,null,null,null,null,null,null,null,null,null,null,null,null,"City Road Primary School","123855","2013-07-01","West Midlands","Birmingham"]
[null,null,null,null,null,null,null,null,null,null,null,null,null,null,"City School, The - Sheffield","124294","2014-01-01","Yorkshire & The Humber","Sheffield"]
[null,null,null,null,null,null,null,null,null,null,null,null,null,null,"Clacton Coastal Academy","119097","2009-09-01","East of England","Essex"]
[null,null,null,null,null,null,null,null,null,null,null,null,null,null,"Clacton County High School","121144","2012-04-01","East of England","Essex"]
[null,null,null,null,null,null,null,null,null,null,null,null,null,null,"Clapton Girls' Academy","119950","2011-09-01","London","Hackney"]
[null,null,null,null,null,null,null,null,null,null,null,null,null,null,"Claremont High School Academy Trust","119612","2011-04-01","London","Brent"]
[null,null,null,null,null,null,null,null,null,null,null,null,null,null,"Clarendon College, The","122867","2012-12-01","South West","Wiltshire"]
[null,null,null,null,null,null,null,null,null,null,null,null,null,null,"Clarendon House Grammar School, The","119417","2011-01-01","South East","Kent"]
[null,null,null,null,null,null,null,null,null,null,null,null,null,null,"Clayton-le-Moors All Saints Church of England Primary School","120548","2011-11-01","North West","Lancashire"]
[null,null,null,null,null,null,null,null,null,null,null,null,null,null,"Cleethorpes Academy","119311","2010-09-01","Yorkshire & The Humber","North East Lincolnshire"]
[null,null,null,null,null,null,null,null,null,null,null,null,null,null,"Cleeve Park School","121830","2012-09-01","London","Bexley"]
[null,null,null,null,null,null,null,null,null,null,null,null,null,null,"Cleeve Primary School","125222","2013-12-01","Yorkshire & The Humber","Hull"]
[null,null,null,null,null,null,null,null,null,null,null,null,null,null,"Cleeve School","119773","2011-06-01","South West","Gloucestershire"]
[null,null,null,null,null,null,null,null,null,null,null,null,null,null,"Clevedon School","120636","2012-02-01T15:06:13","South West","North Somerset"]
[null,null,null,null,null,null,null,null,null,null,null,null,null,null,"Cleves Cross Primary School","128237","2013-11-01","North East","Durham"]
[null,null,null,null,null,null,null,null,null,null,null,null,null,null,"Cleves School","119358","2010-11-01","South East","Surrey"]
[null,null,null,null,null,null,null,null,null,null,null,null,null,null,"Cliff Park Infant School","123953","2013-04-01","East of England","Norfolk "]
[null,null,null,null,null,null,null,null,null,null,null,null,null,null,"Cliff Park Junior School","123937","2013-04-01","East of England","Norfolk "]
[null,null,null,null,null,null,null,null,null,null,null,null,null,null,"Cliff Park Ormiston Academy","123121","2014-01-01","Yorkshire & The Humber","North East Lincolnshire"]
[null,null,null,null,null,null,null,null,null,null,null,null,null,null,"Cliffdale Primary School","124217","2013-12-01","South East","Portsmouth"]
[null,null,null,null,null,null,null,null,null,null,null,null,null,null,"Cliffe Woods Primary","119827","2011-07-01","South East","Medway"]
[null,null,null,null,null,null,null,null,null,null,null,null,null,null,"Cliftonville Primary School","125021","2013-12-01","South East","Kent"]
[null,null,null,null,null,null,null,null,null,null,null,null,null,null,"Clitheroe Royal Grammar School","119403","2011-01-01","North West","Lancashire"]
[null,null,null,null,null,null,null,null,null,null,null,null,null,null,"Cloughwood School","124771","2013-09-01","North West","Cheshire West and Chester"]
[null,null,null,null,null,null,null,null,null,null,null,null,null,null,"Clyst Vale Academy Trust","119545","2011-04-01","South West","Devon"]
[null,null,null,null,null,null,null,null,null,null,null,null,null,null,"Cobden Primary School & Children's Centre","123074","2013-03-01","East Midlands","Leicestershire"]
[null,null,null,null,null,null,null,null,null,null,null,null,null,null,"Cobham Free School","121974","2012-09-01","South East","Surrey"]
[null,null,null,null,null,null,null,null,null,null,null,null,null,null,"Cockington Community Primary School","124153","2013-09-01","South West","Torbay"]
[null,null,null,null,null,null,null,null,null,null,null,null,null,null,"Colchester Academy","119333","2010-09-01","East of England","Essex"]
[null,null,null,null,null,null,null,null,null,null,null,null,null,null,"Colchester County High School for Girls","120554","2011-10-01","East of England","Essex"]
[null,null,null,null,null,null,null,null,null,null,null,null,null,null,"Colchester Royal Grammar School","120596","2012-01-01","East of England","Essex"]
[null,null,null,null,null,null,null,null,null,null,null,null,null,null,"Colebrook Infant Academy","120614","2011-11-01","South West","Swindon"]
[null,null,null,null,null,null,null,null,null,null,null,null,null,null,"Coleridge Community College","119664","2011-04-01","East of England","Cambridgeshire"]
[null,null,null,null,null,null,null,null,null,null,null,null,null,null,"Coleridge Primary School","122335","2013-04-01","Yorkshire & The Humber","Rotherham  "]
[null,null,null,null,null,null,null,null,null,null,null,null,null,null,"Coleshill School, The","119986","2011-08-01","West Midlands","Warwickshire"]
[null,null,null,null,null,null,null,null,null,null,null,null,null,null,"Collective Spirit","123298","2013-09-01","North West","Oldham"]
[null,null,null,null,null,null,null,null,null,null,null,null,null,null,"Collingwood College","119837","2011-07-01","South East","Surrey"]
[null,null,null,null,null,null,null,null,null,null,null,null,null,null,"Collingwood Primary School","124081","2013-07-01","Yorkshire & The Humber","Hull"]
[null,null,null,null,null,null,null,null,null,null,null,null,null,null,"Colnbrook Church of England Primary School","124561","2013-06-01","South East","Slough"]
[null,null,null,null,null,null,null,null,null,null,null,null,null,null,"Colne Community School and College","120460","2011-09-01","East of England","Essex"]
[null,null,null,null,null,null,null,null,null,null,null,null,null,null,"Colne Primet High School","122260","2013-01-01","North West","Lancashire"]
[null,null,null,null,null,null,null,null,null,null,null,null,null,null,"Colston's Girls' School","118661","2008-09-02","South West","Bristol City"]
[null,null,null,null,null,null,null,null,null,null,null,null,null,null,"Colston's Primary School","120843","2012-09-01","South West","Bristol City"]
[null,null,null,null,null,null,null,null,null,null,null,null,null,null,"Columbus School and College","120671","2012-05-01","East of England","Essex"]
[null,null,null,null,null,null,null,null,null,null,null,null,null,null,"Colyton Grammar School","119405","2011-01-01","South West","Devon"]
[null,null,null,null,null,null,null,null,null,null,null,null,null,null,"Combe Pafford School","124141","2013-04-01","South West","Torbay "]
[null,null,null,null,null,null,null,null,null,null,null,null,null,null,"Comberton Village College","119503","2011-02-01","East of England","Cambridgeshire"]
[null,null,null,null,null,null,null,null,null,null,null,null,null,null,"Commonweal School, The","120190","2011-08-01","South West","Swindon"]
[null,null,null,null,null,null,null,null,null,null,null,null,null,null,"Community & Hospital Education Service","122700","2013-06-01","South West","Cornwall"]
[null,null,null,null,null,null,null,null,null,null,null,null,null,null,"Compass School","121990","2013-09-01","London","Southwark"]
[null,null,null,null,null,null,null,null,null,null,null,null,null,null,"Complementary Education","122728","2012-11-01","East Midlands","Northamptonshire"]
[null,null,null,null,null,null,null,null,null,null,null,null,null,null,"Compton School, The","119441","2011-01-01","London","Barnet"]
[null,null,null,null,null,null,null,null,null,null,null,null,null,null,"Concord Junior School",128063,"2014-03-01","Yorkshire and the Humber","Sheffield"]
[null,null,null,null,null,null,null,null,null,null,null,null,null,null,"Congleton High School","119672","2011-04-01","North West","Cheshire East"]
[null,null,null,null,null,null,null,null,null,null,null,null,null,null,"Conisbrough Ivanhoe Primary Academy","120757","2012-01-01","Yorkshire & The Humber","Doncaster"]
[null,null,null,null,null,null,null,null,null,null,null,null,null,null,"Connaught Junior School","124574","2013-10-01","South East","Surrey"]
[null,null,null,null,null,null,null,null,null,null,null,null,null,null,"Connaught School for Girls","123061","2013-02-01","London","Waltham Forest"]
[null,null,null,null,null,null,null,null,null,null,null,null,null,null,"Connell Sixth Form College","123351","2013-09-01","North West","Manchester"]
[null,null,null,null,null,null,null,null,null,null,null,null,null,null,"Consett Academy","120915","2012-01-01","North East","Durham"]
[null,null,null,null,null,null,null,null,null,null,null,null,null,null,"ContinU Plus Academy","123408","2013-09-01","West Midlands","Worcestershire"]
[null,null,null,null,null,null,null,null,null,null,null,null,null,null,"Convent of Jesus and Mary Language College","121834","2012-04-01","London","Brent"]
[null,null,null,null,null,null,null,null,null,null,null,null,null,null,"Conyers School","123323","2013-02-01","North East","Stockton-on-Tees"]
[null,null,null,null,null,null,null,null,null,null,null,null,null,null,"Cooks Spinney Academy","124689","2013-12-01","East of England","Essex"]
[null,null,null,null,null,null,null,null,null,null,null,null,null,null,"Coombe Boys' School","120886","2012-02-01","London","Kingston Upon Thames"]
[null,null,null,null,null,null,null,null,null,null,null,null,null,null,"Coombe Dean School Academy Trust","119575","2011-04-01","South West","Plymouth"]
[null,null,null,null,null,null,null,null,null,null,null,null,null,null,"Coombe Girls' School","120864","2012-02-01","London","Kingston Upon Thames"]
[null,null,null,null,null,null,null,null,null,null,null,null,null,null,"Coombeshead Academy","120176","2011-08-01","South West","Devon"]
[null,null,null,null,null,null,null,null,null,null,null,null,null,null,"Co-operative Academy of Leeds, The","121005","2012-09-01","Yorkshire & The Humber","Leeds"]
[null,null,null,null,null,null,null,null,null,null,null,null,null,null,"Co-operative Academy of Manchester, The","119221","2010-09-01","North West","Manchester"]
[null,null,null,null,null,null,null,null,null,null,null,null,null,null,"Co-operative Academy of Stoke on Trent, The","119168","2010-09-01","West Midlands","Stoke on Trent"]
[null,null,null,null,null,null,null,null,null,null,null,null,null,null,"Coopers' Company and Coborn School, The","119636","2011-04-01","London","Havering"]
[null,null,null,null,null,null,null,null,null,null,null,null,null,null,"Coopers Technology College","119504","2011-03-01","London","Bromley"]
[null,null,null,null,null,null,null,null,null,null,null,null,null,null,"Copleston High School","119835","2011-07-01","East of England","Suffolk"]
[null,null,null,null,null,null,null,null,null,null,null,null,null,null,"Copley High School","123081","2013-02-01","North West","Tameside"]
[null,null,null,null,null,null,null,null,null,null,null,null,null,null,"Coppice Primary Academy","123263","2013-09-01","North West","Oldham"]
[null,null,null,null,null,null,null,null,null,null,null,null,null,null,"Copthall School","120826","2012-09-01","London","Barnet"]
[null,null,null,null,null,null,null,null,null,null,null,null,null,null,"Corbet School Technology College, The","120430","2011-09-01","West Midlands","Shropshire"]
[null,null,null,null,null,null,null,null,null,null,null,null,null,null,"Corby Business Academy, The","118606","2008-09-03","East Midlands","Northamptonshire"]
[null,null,null,null,null,null,null,null,null,null,null,null,null,null,"Corby Primary Academy","126905","2013-09-01","East Midlands","Northamptonshire"]
[null,null,null,null,null,null,null,null,null,null,null,null,null,null,"Corby Technical School","121975","2012-09-01","East Midlands","Northamptonshire"]
[null,null,null,null,null,null,null,null,null,null,null,null,null,null,"Cordeaux Academy","122315","2013-01-01","East Midlands","Lincolnshire"]
[null,null,null,null,null,null,null,null,null,null,null,null,null,null,"Cordwalles Junior School","124348","2013-12-01","South East","Surrey"]
[null,null,null,null,null,null,null,null,null,null,null,null,null,null,"Corelli College","120350","2011-09-01","London","Greenwich"]
[null,null,null,null,null,null,null,null,null,null,null,null,null,null,"Corfe Hills School Academy Trust","119560","2011-04-01","South West","Poole"]
[null,null,null,null,null,null,null,null,null,null,null,null,null,null,"Cornelius Vermuyden School, The","125020","2013-11-01","East of England","Essex"]
[null,null,null,null,null,null,null,null,null,null,null,null,null,null,"Corngreaves Primary School","122996","2013-06-01","West Midlands","Sandwell"]
[null,null,null,null,null,null,null,null,null,null,null,null,null,null,"Cornwallis Academy","118607","2007-09-01","South East","Kent"]
[null,null,null,null,null,null,null,null,null,null,null,null,null,null,"Corpus Christi Catholic Primary School","120295","2011-08-17","London","Lambeth"]
[null,null,null,null,null,null,null,null,null,null,null,null,null,null,"Corringham Primary School","124988","2013-10-01","East of England","Thurrock"]
[null,null,null,null,null,null,null,null,null,null,null,null,null,null,"Corsham Primary School","119565","2011-04-01","South West","Wiltshire"]
[null,null,null,null,null,null,null,null,null,null,null,null,null,null,"Corsham Regis Primary School","122832","2013-01-01","South West","Wiltshire"]
[null,null,null,null,null,null,null,null,null,null,null,null,null,null,"Corsham School, The","119625","2011-04-01","South West","Wiltshire"]
[null,null,null,null,null,null,null,null,null,null,null,null,null,null,"Cosby Primary School","122373","2012-08-01","East Midlands","Leicestershire"]
[null,null,null,null,null,null,null,null,null,null,null,null,null,null,"Costello School, The","121453","2012-07-01","South East","Hampshire"]
[null,null,null,null,null,null,null,null,null,null,null,null,null,null,"Costessey Infant School","124742","2013-09-01","East of England","Norfolk"]
[null,null,null,null,null,null,null,null,null,null,null,null,null,null,"Costessey Junior School","121043","2012-09-01","East of England","Norfolk"]
[null,null,null,null,null,null,null,null,null,null,null,null,null,null,"Coteford Junior School","122984","2013-02-01","London","Hillingdon"]
[null,null,null,null,null,null,null,null,null,null,null,null,null,null,"Cotgrave Candleby Lane School","121190","2012-07-01","East Midlands","Nottinghamshire"]
[null,null,null,null,null,null,null,null,null,null,null,null,null,null,"Cotham School","120389","2011-09-01","South West","Bristol City"]
[null,null,null,null,null,null,null,null,null,null,null,null,null,null,"Cotswold School, The","119252","2010-09-06","South West","Gloucestershire"]
[null,null,null,null,null,null,null,null,null,null,null,null,null,null,"Cottenham Academy","120325","2011-09-01","East of England","Cambridgeshire"]
[null,null,null,null,null,null,null,null,null,null,null,null,null,null,"Cottesbrooke Infant School",129559,"2014-04-01","West Midlands","Birmingham"]
[null,null,null,null,null,null,null,null,null,null,null,null,null,null,"Cottingham High School and Sixth Form College","119907","2011-07-01","Yorkshire & The Humber","East Riding of Yorkshire"]
[null,null,null,null,null,null,null,null,null,null,null,null,null,null,"Cottingley Primary School","122304","2012-12-01","Yorkshire & The Humber","Leeds"]
[null,null,null,null,null,null,null,null,null,null,null,null,null,null,"Coundon Court School and Community College","121126","2012-04-01","West Midlands","Coventry"]
[null,null,null,null,null,null,null,null,null,null,null,null,null,null,"Countess Anne Voluntary Aided Church of England Primary School, Hatfield","124586","2013-10-01","East of England","Hertfordshire"]
[null,null,null,null,null,null,null,null,null,null,null,null,null,null,"Countesthorpe Community College","122374","2012-08-01T15:47:35","East Midlands","Leicestershire"]
[null,null,null,null,null,null,null,null,null,null,null,null,null,null,"County High School Leftwich, The","122134","2012-09-01","North West","Cheshire West and Chester"]
[null,null,null,null,null,null,null,null,null,null,null,null,null,null,"Court Fields Community School","124670","2014-01-01","South West","Somerset"]
[null,null,null,null,null,null,null,null,null,null,null,null,null,null,"Courtyard AP Academy, The","124256","2013-04-01","London","Hammersmith and Fulham  "]
[null,null,null,null,null,null,null,null,null,null,null,null,null,null,"Coventry Blue Coat Church of England School and Music College, The","120275","2011-07-12","West Midlands","Coventry"]
[null,null,null,null,null,null,null,null,null,null,null,null,null,null,"Coverack Community Primary School",126521,"2014-03-01","South West","Cornwall"]
[null,null,null,null,null,null,null,null,null,null,null,null,null,null,"Cowley St Laurence CofE Primary School","123160","2013-02-01","London","Hillingdon"]
[null,null,null,null,null,null,null,null,null,null,null,null,null,null,"Cowplain Community School","120847","2012-04-01","South East","Hampshire"]
[null,null,null,null,null,null,null,null,null,null,null,null,null,null,"Cox Green School","120817","2011-12-01T12:12:20","South East","Windsor and Maidenhead"]
[null,null,null,null,null,null,null,null,null,null,null,null,null,null,"Crabbs' Cross Academy","123828","2013-09-01","West Midlands","Worcestershire"]
[null,null,null,null,null,null,null,null,null,null,null,null,null,null,"Crabtree Infants' School",124780,"2014-04-01","East of England","Hertfordshire"]
[null,null,null,null,null,null,null,null,null,null,null,null,null,null,"Crabtree Junior School",124744,"2014-04-01","East of England","Hertfordshire"]
[null,null,null,null,null,null,null,null,null,null,null,null,null,null,"Cramlington Learning Village","120424","2011-09-01","North East","Northumberland"]
[null,null,null,null,null,null,null,null,null,null,null,null,null,null,"Cramlington Village Primary School","121976","2012-09-01","North East","Northumberland"]
[null,null,null,null,null,null,null,null,null,null,null,null,null,null,"Cranberry Primary School","124635","2013-11-01","North West","Cheshire East"]
[null,null,null,null,null,null,null,null,null,null,null,null,null,null,"Cranbrook School","120626","2011-12-01T12:12:36","South East","Kent"]
[null,null,null,null,null,null,null,null,null,null,null,null,null,null,"Cranfield VC Lower School","120772","2012-02-01","East of England","Central Bedfordshire"]
[null,null,null,null,null,null,null,null,null,null,null,null,null,null,"Cranford Community College","119613","2011-04-01","London","Hounslow"]
[null,null,null,null,null,null,null,null,null,null,null,null,null,null,"Cranford Park Primary School","122678","2012-09-01","London","Hillingdon"]
[null,null,null,null,null,null,null,null,null,null,null,null,null,null,"Craven Primary School","124229","2013-11-01","Yorkshire & The Humber","Hull"]
[null,null,null,null,null,null,null,null,null,null,null,null,null,null,"Cravenwood Primary Academy",127109,"2014-04-01","North West","Manchester"]
[null,null,null,null,null,null,null,null,null,null,null,null,null,null,"Crawshaw School","122149","2012-07-01","Yorkshire & The Humber","Leeds"]
[null,null,null,null,null,null,null,null,null,null,null,null,null,null,"Crescent Primary School","119941","2012-08-01","West Midlands","Stoke on Trent"]
[null,null,null,null,null,null,null,null,null,null,null,null,null,null,"Crest Boys' Academy","119084","2009-09-09","London","Brent"]
[null,null,null,null,null,null,null,null,null,null,null,null,null,null,"Crest Girls' Academy","119083","2009-09-07","London","Brent"]
[null,null,null,null,null,null,null,null,null,null,null,null,null,null,"Crigglestone St James Church of England Voluntary Controlled Junior and Infant School","122119","2012-07-01","Yorkshire & The Humber","Wakefield"]
[null,null,null,null,null,null,null,null,null,null,null,null,null,null,"Cringle Brook Primary School",130474,"2014-04-01","North West","Manchester"]
[null,null,null,null,null,null,null,null,null,null,null,null,null,null,"Crispin School","119913","2011-07-01","South West","Somerset"]
[null,null,null,null,null,null,null,null,null,null,null,null,null,null,"Croft Academy - Walsall","122046","2012-09-01","West Midlands","Walsall"]
[null,null,null,null,null,null,null,null,null,null,null,null,null,null,"Croft Primary School, The - Swindon","121917","2012-09-01","South West","Swindon"]
[null,null,null,null,null,null,null,null,null,null,null,null,null,null,"Crofton High School - Wakefield","120001","2011-08-01","Yorkshire & The Humber","Wakefield"]
[null,null,null,null,null,null,null,null,null,null,null,null,null,null,"Crofton Infant School - Orpington","122398","2012-09-01","London","Bromley"]
[null,null,null,null,null,null,null,null,null,null,null,null,null,null,"Crofton Junior School - Orpington","120518","2011-12-01","London","Bromley"]
[null,null,null,null,null,null,null,null,null,null,null,null,null,null,"Croftway Primary School","124118","2013-06-01","North East","Northumberland"]
[null,null,null,null,null,null,null,null,null,null,null,null,null,null,"Cromer Academy","120326","2011-09-01","East of England","Norfolk"]
[null,null,null,null,null,null,null,null,null,null,null,null,null,null,"Crompton House CofE School","120294","2011-08-17","North West","Oldham"]
[null,null,null,null,null,null,null,null,null,null,null,null,null,null,"Cromwell Community College","121145","2012-06-01","East of England","Cambridgeshire"]
[null,null,null,null,null,null,null,null,null,null,null,null,null,null,"Crookesbroom Primary Academy","120897","2012-04-01","Yorkshire & The Humber","Doncaster"]
[null,null,null,null,null,null,null,null,null,null,null,null,null,null,"Crosby-on-Eden CofE School","123053","2012-11-01","North West","Cumbria"]
[null,null,null,null,null,null,null,null,null,null,null,null,null,null,"Cross Flatts Park Primary School","122482","2012-09-01","Yorkshire & The Humber","Leeds"]
[null,null,null,null,null,null,null,null,null,null,null,null,null,null,"Crossacres Primary School",124334,"2014-04-01","North West","Manchester"]
[null,null,null,null,null,null,null,null,null,null,null,null,null,null,"Crosshall Infant School","119283","2010-10-01","East of England","Cambridgeshire"]
[null,null,null,null,null,null,null,null,null,null,null,null,null,null,"Crosshall Junior School","119284","2010-10-01","East of England","Cambridgeshire"]
[null,null,null,null,null,null,null,null,null,null,null,null,null,null,"Crossley Heath School, The","120701","2013-01-01","Yorkshire & The Humber","Calderdale"]
[null,null,null,null,null,null,null,null,null,null,null,null,null,null,"Crowle Primary School","122995","2012-12-01","Yorkshire & The Humber","North Lincolnshire"]
[null,null,null,null,null,null,null,null,null,null,null,null,null,null,"Croxton Kerrial Church of England Primary School","127313","2013-11-01","East Midlands","Leicestershire"]
[null,null,null,null,null,null,null,null,null,null,null,null,null,null,"Crypt School, The","119557","2011-04-01","South West","Gloucestershire"]
[null,null,null,null,null,null,null,null,null,null,null,null,null,null,"CTC Kingshurst Academy","117814","2008-09-05","West Midlands","Solihull"]
[null,null,null,null,null,null,null,null,null,null,null,null,null,null,"Cuckoo Hall Academy","119260","2010-09-01","London","Enfield"]
[null,null,null,null,null,null,null,null,null,null,null,null,null,null,"Culloden Primary School","122986","2013-09-01","London","Tower Hamlets"]
[null,null,null,null,null,null,null,null,null,null,null,null,null,null,"Culworth Church of England School","124157","2013-09-01","East Midlands","Northamptonshire"]
[null,null,null,null,null,null,null,null,null,null,null,null,null,null,"Curledge Street Academy","122662","2012-09-01","South West","Torbay"]
[null,null,null,null,null,null,null,null,null,null,null,null,null,null,"Cutteslowe Primary School","122430","2013-04-01","South East","Oxfordshire "]
[null,null,null,null,null,null,null,null,null,null,null,null,null,null,"Da Vinci Studio School of Creative Enterprise, The","123381","2013-09-01","East of England","Hertfordshire"]
[null,null,null,null,null,null,null,null,null,null,null,null,null,null,"Da Vinci Studio School of Science and Engineering","122525","2012-09-01","East of England","Hertfordshire"]
[null,null,null,null,null,null,null,null,null,null,null,null,null,null,"Dallam School","120205","2011-08-01","North West","Cumbria"]
[null,null,null,null,null,null,null,null,null,null,null,null,null,null,"Dallow Primary School","123262","2013-12-01","East of England","Luton"]
[null,null,null,null,null,null,null,null,null,null,null,null,null,null,"Dame Alice Owen's School","119614","2011-04-01","East of England","Hertfordshire"]
[null,null,null,null,null,null,null,null,null,null,null,null,null,null,"Dame Janet Primary Academy","121938","2012-12-01","South East","Kent"]
[null,null,null,null,null,null,null,null,null,null,null,null,null,null,"Dane Court Grammar School","119663","2011-04-01","South East","Kent"]
[null,null,null,null,null,null,null,null,null,null,null,null,null,null,"Danesfield Church of England Voluntary Controlled Community Middle School",127273,"2014-03-01","South West","Somerset"]
[null,null,null,null,null,null,null,null,null,null,null,null,null,null,"Daneswood Junior School","124829","2013-09-01","East Midlands","Nottinghamshire"]
[null,null,null,null,null,null,null,null,null,null,null,null,null,null,"Danetree Junior School","122792","2012-09-01","South East","Surrey"]
[null,null,null,null,null,null,null,null,null,null,null,null,null,null,"Danum Academy","120490","2011-10-01","Yorkshire & The Humber","Doncaster"]
[null,null,null,null,null,null,null,null,null,null,null,null,null,null,"Darfield Upperwood Primary School","120601","2012-09-01","Yorkshire & The Humber","Barnsley"]
[null,null,null,null,null,null,null,null,null,null,null,null,null,null,"Darfield Valley Primary School","124061","2013-09-01","Yorkshire & The Humber","Barnsley"]
[null,null,null,null,null,null,null,null,null,null,null,null,null,null,"Darlinghurst School","129557","2014-01-01","East of England","Southend-on-Sea"]
[null,null,null,null,null,null,null,null,null,null,null,null,null,null,"Darlington School of Maths and Science","120122","2012-01-01","North East","Darlington"]
[null,null,null,null,null,null,null,null,null,null,null,null,null,null,"Darrick Wood Infant School","120032","2011-08-01","London","Bromley"]
[null,null,null,null,null,null,null,null,null,null,null,null,null,null,"Darrick Wood School","119382","2010-12-01","London","Bromley"]
[null,null,null,null,null,null,null,null,null,null,null,null,null,null,"Darrington Church of England Voluntary Controlled Junior and Infant School","124643","2013-09-01","Yorkshire & The Humber","Wakefield"]
[null,null,null,null,null,null,null,null,null,null,null,null,null,null,"Dartford Grammar School","119383","2010-12-01","South East","Kent"]
[null,null,null,null,null,null,null,null,null,null,null,null,null,null,"Dartmouth Academy","119337","2010-09-01","South West","Devon"]
[null,null,null,null,null,null,null,null,null,null,null,null,null,null,"Darton Primary School","126451","2014-02-01","Yorkshire & The Humber","Barnsley"]
[null,null,null,null,null,null,null,null,null,null,null,null,null,null,"Darwen Aldridge Community Academy","118611","2008-09-01","North West","Blackburn with Darwen"]
[null,null,null,null,null,null,null,null,null,null,null,null,null,null,"Darwen Aldridge Enterprise Studio","123382","2013-09-01","North West","Blackburn with Darwen"]
[null,null,null,null,null,null,null,null,null,null,null,null,null,null,"Dashwood Primary Academy","120592","2012-08-01","South East","Oxfordshire"]
[null,null,null,null,null,null,null,null,null,null,null,null,null,null,"Datchet St Mary's CofE Primary School","120827","2012-01-01","South East","Windsor and Maidenhead"]
[null,null,null,null,null,null,null,null,null,null,null,null,null,null,"Daubeney Middle School","121098","2012-04-01","East of England","Bedford"]
[null,null,null,null,null,null,null,null,null,null,null,null,null,null,"Dauntsey's (Aided) Primary School","124328","2013-08-01","South Wiltshire","Wiltshire"]
[null,null,null,null,null,null,null,null,null,null,null,null,null,null,"Davenant Foundation School","119539","2011-04-01","East of England","Essex"]
[null,null,null,null,null,null,null,null,null,null,null,null,null,null,"Daventry Abbey Junior School","127210","2013-12-01","East Midlands","Northamptonshire"]
[null,null,null,null,null,null,null,null,null,null,null,null,null,null,"Daventry UTC","122157","2013-09-01","East Midlands","Northamptonshire"]
[null,null,null,null,null,null,null,null,null,null,null,null,null,null,"David Livingstone Primary School","120195","2011-08-01","London","Croydon"]
[null,null,null,null,null,null,null,null,null,null,null,null,null,null,"David Young Community Academy","118608","2006-09-01","Yorkshire & The Humber","Leeds"]
[null,null,null,null,null,null,null,null,null,null,null,null,null,null,"Days Lane Primary School",129546,"2014-04-01","London","Bexley"]
[null,null,null,null,null,null,null,null,null,null,null,null,null,null,"De Aston School","119491","2011-03-01","East Midlands","Lincolnshire"]
[null,null,null,null,null,null,null,null,null,null,null,null,null,null,"De Ferrers Academy, The","119433","2011-01-01","West Midlands","Staffordshire"]
[null,null,null,null,null,null,null,null,null,null,null,null,null,null,"De La Salle Academy","119442","2011-01-01","North West","Liverpool"]
[null,null,null,null,null,null,null,null,null,null,null,null,null,null,"De Lacy Academy","121031","2012-04-01","Yorkshire & The Humber","Wakefield"]
[null,null,null,null,null,null,null,null,null,null,null,null,null,null,"De Lisle Catholic School - Loughborough","122501","2012-07-01","East Midlands","Leicestershire"]
[null,null,null,null,null,null,null,null,null,null,null,null,null,null,"De Warenne Academy","119133","2009-09-01","Yorkshire & The Humber","Doncaster"]
[null,null,null,null,null,null,null,null,null,null,null,null,null,null,"Dean Academy, The","121945","2012-11-01","South West","Gloucestershire"]
[null,null,null,null,null,null,null,null,null,null,null,null,null,null,"Deanery Church of England Voluntary Aided Primary School, The","120155","2011-08-01","West Midlands","Birmingham"]
[null,null,null,null,null,null,null,null,null,null,null,null,null,null,"Deansbrook Junior School","123058","2013-04-01","London","Barnet  "]
[null,null,null,null,null,null,null,null,null,null,null,null,null,null,"Dearham Primary School","120651","2011-11-01","North West","Cumbria"]
[null,null,null,null,null,null,null,null,null,null,null,null,null,null,"Dearne Carrfield Primary School","121198","2012-09-01","Yorkshire & The Humber","Barnsley"]
[null,null,null,null,null,null,null,null,null,null,null,null,null,null,"Dearne Highgate Primary School","121073","2012-09-01","Yorkshire & The Humber","Barnsley"]
[null,null,null,null,null,null,null,null,null,null,null,null,null,null,"Debden Park High School","119681","2011-04-01","East of England","Essex"]
[null,null,null,null,null,null,null,null,null,null,null,null,null,null,"Debenham High School","119434","2011-01-01","East of England","Suffolk"]
[null,null,null,null,null,null,null,null,null,null,null,null,null,null,"Deepings School, The","120710","2012-02-01","East Midlands","Lincolnshire"]
[null,null,null,null,null,null,null,null,null,null,null,null,null,null,"Delamere CofE Primary Academy","119528","2011-04-01","North West","Cheshire West and Chester"]
[null,null,null,null,null,null,null,null,null,null,null,null,null,null,"Delce Academy",129573,"2014-04-01","South East","Medway"]
[null,null,null,null,null,null,null,null,null,null,null,null,null,null,"Denbigh High School - Luton","119351","2010-11-01","East of England","Luton"]
[null,null,null,null,null,null,null,null,null,null,null,null,null,null,"Denbigh School - Milton Keynes","119468","2011-03-01","South East","Milton Keynes"]
[null,null,null,null,null,null,null,null,null,null,null,null,null,null,"Dene Magna School","120422","2011-09-01","South West","Gloucestershire"]
[null,null,null,null,null,null,null,null,null,null,null,null,null,null,"Denefield School","120913","2012-01-01","South East","West Berkshire"]
[null,null,null,null,null,null,null,null,null,null,null,null,null,null,"Denes High School, The","120566","2013-06-01","East of England","Suffolk"]
[null,null,null,null,null,null,null,null,null,null,null,null,null,null,"Denham Green E-ACT Academy","123805","2013-09-01","South East","Buckinghamshire"]
[null,null,null,null,null,null,null,null,null,null,null,null,null,null,"Denton West End Primary School","120561","2012-06-01","North West","Tameside"]
[null,null,null,null,null,null,null,null,null,null,null,null,null,null,"Derby Pride Academy","122536","2012-09-01","East Midlands","Derby"]
[null,null,null,null,null,null,null,null,null,null,null,null,null,null,"Desborough College","123430","2012-10-01","South East","Windsor and Maidenhead"]
[null,null,null,null,null,null,null,null,null,null,null,null,null,null,"Devizes School","111451","2012-09-01","South West","Wiltshire"]
[null,null,null,null,null,null,null,null,null,null,null,null,null,null,"Devon Studio School","123383","2013-09-01","South West","Torbay"]
[null,null,null,null,null,null,null,null,null,null,null,null,null,null,"Devonport High School for Boys","119496","2011-03-01","South West","Plymouth"]
[null,null,null,null,null,null,null,null,null,null,null,null,null,null,"Devonport High School for Girls","119615","2011-04-01","South West","Plymouth"]
[null,null,null,null,null,null,null,null,null,null,null,null,null,null,"Devonshire Primary School - Blackpool","124114","2013-09-01","North West","Blackpool"]
[null,null,null,null,null,null,null,null,null,null,null,null,null,null,"Deyes High School","120485","2011-10-01","North West","Sefton"]
[null,null,null,null,null,null,null,null,null,null,null,null,null,null,"Diamond Academy","121957","2012-09-01","East of England","Norfolk"]
[null,null,null,null,null,null,null,null,null,null,null,null,null,null,"Diamond Hall Infant School","124576","2013-07-01","North East","Sunderland"]
[null,null,null,null,null,null,null,null,null,null,null,null,null,null,"Didcot Girls' School","122589","2012-08-01T12:36:59","South East","Oxfordshire"]
[null,null,null,null,null,null,null,null,null,null,null,null,null,null,"Dilkes Primary School","120782","2012-12-01","East of England","Thurrock"]
[null,null,null,null,null,null,null,null,null,null,null,null,null,null,"Discovery Academy - Stoke-on-Trent","119522","2011-09-01","West Midlands","Stoke on Trent"]
[null,null,null,null,null,null,null,null,null,null,null,null,null,null,"Discovery New School - Crawley","120473","2011-09-01","South East","West Sussex"]
[null,null,null,null,null,null,null,null,null,null,null,null,null,null,"Diss High School","120092","2011-08-01","East of England","Norfolk"]
[null,null,null,null,null,null,null,null,null,null,null,null,null,null,"Ditchingham Church of England Primary School","127777","2014-02-01","East of England","Norfolk"]
[null,null,null,null,null,null,null,null,null,null,null,null,null,null,"Dixons Allerton Academy","118885","2009-09-01","Yorkshire & The Humber","Bradford"]
[null,null,null,null,null,null,null,null,null,null,null,null,null,null,"Dixons Bradford Moor","127700","2014-01-01","Yorkshire & The Humber","Bradford"]
[null,null,null,null,null,null,null,null,null,null,null,null,null,null,"Dixons City Academy","118388","2005-09-01","Yorkshire & The Humber","Bradford"]
[null,null,null,null,null,null,null,null,null,null,null,null,null,null,"Dixons Music Primary","121977","2012-09-01","Yorkshire & The Humber","Bradford"]
[null,null,null,null,null,null,null,null,null,null,null,null,null,null,"Dixons Trinity Academy","122017","2012-09-01","Yorkshire & The Humber","Bradford"]
[null,null,null,null,null,null,null,null,null,null,null,null,null,null,"Djanogly City Academy","118389","2003-09-01","East Midlands","Nottingham"]
[null,null,null,null,null,null,null,null,null,null,null,null,null,null,"Djanogly Northgate Academy","120182","2011-08-01","East Midlands","Nottingham"]
[null,null,null,null,null,null,null,null,null,null,null,null,null,null,"Djanogly Strelley Academy","129257","2014-02-01","East Midlands","Nottingham"]
[null,null,null,null,null,null,null,null,null,null,null,null,null,null,"Dodworth St John the Baptist CE Primary Academy","124145","2014-01-01","Yorkshire & The Humber","Barnsley"]
[null,null,null,null,null,null,null,null,null,null,null,null,null,null,"Dolphin School, The","122299","2012-09-01","South West","Bristol City"]
[null,null,null,null,null,null,null,null,null,null,null,null,null,null,"Don Valley Academy","120472","2011-09-01","Yorkshire & The Humber","Doncaster"]
[null,null,null,null,null,null,null,null,null,null,null,null,null,null,"Dorcan Academy","120699","2011-12-01","South West","Swindon"]
[null,null,null,null,null,null,null,null,null,null,null,null,null,null,"Dorchester Middle School - Dorset","122131","2012-06-01","South West","Dorset"]
[null,null,null,null,null,null,null,null,null,null,null,null,null,null,"Dorchester Primary School - Hull","124143","2013-04-01","Yorkshire & The Humber","Hull "]
[null,null,null,null,null,null,null,null,null,null,null,null,null,null,"Dordon Community Primary School","122571","2012-11-01","West Midlands","Warwickshire"]
[null,null,null,null,null,null,null,null,null,null,null,null,null,null,"Dormanstown Primary School","124653","2013-09-01","North East","Redcar and Cleveland"]
[null,null,null,null,null,null,null,null,null,null,null,null,null,null,"Dorothy Goodman School Hinckley","121016","2012-06-01","East Midlands","Leicestershire"]
[null,null,null,null,null,null,null,null,null,null,null,null,null,null,"Dorrington Academy Trust","121865","2012-06-01","West Midlands","Birmingham"]
[null,null,null,null,null,null,null,null,null,null,null,null,null,null,"Douay Martyrs Catholic School, The","121058","2012-03-01T12:02:47","London","Hillingdon"]
[null,null,null,null,null,null,null,null,null,null,null,null,null,null,"Dove House School","120565","2011-11-01","South East","Hampshire"]
[null,null,null,null,null,null,null,null,null,null,null,null,null,null,"Dover Christ Church Academy","119220","2010-09-01","South East","Kent"]
[null,null,null,null,null,null,null,null,null,null,null,null,null,null,"Dover Road Primary Academy","123900","2013-11-01","South East","Kent"]
[null,null,null,null,null,null,null,null,null,null,null,null,null,null,"Downend Comprehensive School","123248","2013-03-01T15:56:44","South West","South Gloucestershire"]
[null,null,null,null,null,null,null,null,null,null,null,null,null,null,"Downham Market High School - Technology College","122810","2013-07-01","East of England","Norfolk"]
[null,null,null,null,null,null,null,null,null,null,null,null,null,null,"Downview Primary School","124527","2013-09-01","South East","West Sussex"]
[null,null,null,null,null,null,null,null,null,null,null,null,null,null,"Dr Challoner's Grammar School","119435","2011-01-01","South East","Buckinghamshire"]
[null,null,null,null,null,null,null,null,null,null,null,null,null,null,"Dr Challoner's High School","120219","2011-08-01","South East","Buckinghamshire"]
[null,null,null,null,null,null,null,null,null,null,null,null,null,null,"Drapers' Academy","119152","2010-09-01","London","Havering"]
[null,null,null,null,null,null,null,null,null,null,null,null,null,null,"Drapers Mills Primary School","122031","2012-12-01","South East","Kent"]
[null,null,null,null,null,null,null,null,null,null,null,null,null,null,"Drayton Manor High School","120221","2011-08-01","London","Ealing"]
[null,null,null,null,null,null,null,null,null,null,null,null,null,null,"Droitwich Spa High School","119902","2011-07-01","West Midlands","Worcestershire"]
[null,null,null,null,null,null,null,null,null,null,null,null,null,null,"Drove Primary School","122002","2012-07-01","South West","Swindon"]
[null,null,null,null,null,null,null,null,null,null,null,null,null,null,"Droylsden Academy","118886","2009-09-03","North West","Tameside"]
[null,null,null,null,null,null,null,null,null,null,null,null,null,null,"DSLV E-ACT Academy","121069","2012-04-01","East Midlands","Northamptonshire"]
[null,null,null,null,null,null,null,null,null,null,null,null,null,null,"Duchy of Lancaster Methwold CofE Primary School",130354,"2014-04-01","East of England","Norfolk"]
[null,null,null,null,null,null,null,null,null,null,null,null,null,null,"Duchy School Bradninch, The","123249","2013-09-01","South West","Devon"]
[null,null,null,null,null,null,null,null,null,null,null,null,null,null,"Dudley Infant School","125028","2013-11-01","South East","East Sussex"]
[null,null,null,null,null,null,null,null,null,null,null,null,null,null,"Duke of York's Royal Military School","119233","2010-09-10","South East","Kent"]
[null,null,null,null,null,null,null,null,null,null,null,null,null,null,"Dukeries Academy","122429","2013-01-01","East Midlands","Nottinghamshire"]
[null,null,null,null,null,null,null,null,null,null,null,null,null,null,"Dukesgate Primary School","122086","2012-09-01","North West","Salford"]
[null,null,null,null,null,null,null,null,null,null,null,null,null,null,"Dulwich Hamlet Junior School Educational Trust","119581","2011-04-01","London","Southwark"]
[null,null,null,null,null,null,null,null,null,null,null,null,null,null,"Dunbury Church of England Primary Academy, The","124725","2014-02-01","South West","Dorset"]
[null,null,null,null,null,null,null,null,null,null,null,null,null,null,"Dunraven School","120093","2011-08-01","London","Lambeth"]
[null,null,null,null,null,null,null,null,null,null,null,null,null,null,"Dunsville Primary School - Doncaster","122690","2012-11-01","Yorkshire & The Humber","Doncaster"]
[null,null,null,null,null,null,null,null,null,null,null,null,null,null,"Dunswell Primary School - Hull","126428","2013-09-01","Yorkshire & The Humber","East Riding of Yorkshire"]
[null,null,null,null,null,null,null,null,null,null,null,null,null,null,"Durand Primary School","119264","2010-09-01","London","Lambeth"]
[null,null,null,null,null,null,null,null,null,null,null,null,null,null,"Durham Free School, The","123299","2013-09-01","North East","Durham"]
[null,null,null,null,null,null,null,null,null,null,null,null,null,null,"Durrington High Academy",129565,"2014-04-01","South East","West Sussex"]
[null,null,null,null,null,null,null,null,null,null,null,null,null,null,"Dursley Church of England Primary School","123052","2013-06-01","South West","Gloucestershire"]
[null,null,null,null,null,null,null,null,null,null,null,null,null,null,"Duston School, The","119935","2012-06-01","East Midlands","Northamptonshire"]
[null,null,null,null,null,null,null,null,null,null,null,null,null,null,"Dyke House Sports and Technology College","124065","2013-04-01","North East","Hartlepool "]
[null,null,null,null,null,null,null,null,null,null,null,null,null,null,"Dyson Perrins CofE Sports College","120186","2011-08-01","West Midlands","Worcestershire"]
[null,null,null,null,null,null,null,null,null,null,null,null,null,null,"E-ACT Blackley Academy","120973","2012-01-01","North West","Manchester"]
[null,null,null,null,null,null,null,null,null,null,null,null,null,null,"E-ACT Leeds East Academy","119926","2011-09-01","Yorkshire & The Humber","Leeds"]
[null,null,null,null,null,null,null,null,null,null,null,null,null,null,"E-ACT Parker Academy","121897","2012-09-01","East Midlands","Northamptonshire"]
[null,null,null,null,null,null,null,null,null,null,null,null,null,null,"Eaglesfield Paddle Church of England VA Primary School","119758","2011-06-01","North West","Cumbria"]
[null,null,null,null,null,null,null,null,null,null,null,null,null,null,"Eagley Infant School","121150","2012-04-01","North West","Bolton"]
[null,null,null,null,null,null,null,null,null,null,null,null,null,null,"Eagley Junior School","121164","2012-06-01","North West","Bolton"]
[null,null,null,null,null,null,null,null,null,null,null,null,null,null,"Earls High School, The","120746","2012-01-01","West Midlands","Dudley"]
[null,null,null,null,null,null,null,null,null,null,null,null,null,null,"Easington Church of England Voluntary Controlled Primary School",129707,"2014-04-01","Yorkshire & The Humber","East Riding of Yorkshire"]
[null,null,null,null,null,null,null,null,null,null,null,null,null,null,"Easington Community Science College","121001","2012-04-01","North East","Durham"]
[null,null,null,null,null,null,null,null,null,null,null,null,null,null,"East Barnet School","119674","2011-04-01","London","Barnet"]
[null,null,null,null,null,null,null,null,null,null,null,null,null,null,"East Bergholt High School","120218","2011-08-01","East of England","Suffolk"]
[null,null,null,null,null,null,null,null,null,null,null,null,null,null,"East Bridgford St Peter’s Church of England Academy","124629","2014-02-01","East Midlands","Nottinghamshire"]
[null,null,null,null,null,null,null,null,null,null,null,null,null,null,"East Dene Primary","122323","2013-04-01","Yorkshire & The Humber","Rotherham  "]
[null,null,null,null,null,null,null,null,null,null,null,null,null,null,"East Garforth Primary School","125195","2013-09-01","Yorkshire & The Humber","Leeds"]
[null,null,null,null,null,null,null,null,null,null,null,null,null,null,"East Herrington Primary School","122083","2012-07-01","North East","Sunderland"]
[null,null,null,null,null,null,null,null,null,null,null,null,null,null,"East Leake Academy","122413","2012-11-01T14:52:48","East Midlands","Nottinghamshire"]
[null,null,null,null,null,null,null,null,null,null,null,null,null,null,"East London Science School","123300","2013-09-01","London","Tower Hamlets"]
[null,null,null,null,null,null,null,null,null,null,null,null,null,null,"East Manchester Academy, The","119145","2010-09-01","North West","Manchester"]
[null,null,null,null,null,null,null,null,null,null,null,null,null,null,"East Point Academy","120134","2011-09-01","East of England","Suffolk"]
[null,null,null,null,null,null,null,null,null,null,null,null,null,null,"East Ravendale CofE School Academy","120770","2012-01-01","Yorkshire & The Humber","North East Lincolnshire"]
[null,null,null,null,null,null,null,null,null,null,null,null,null,null,"East Tilbury Infant School","121024","2012-04-01","East of England","Thurrock"]
[null,null,null,null,null,null,null,null,null,null,null,null,null,null,"East Tilbury Junior School","122014","2012-04-01","East of England","Thurrock"]
[null,null,null,null,null,null,null,null,null,null,null,null,null,null,"East Wickham Infant School","119662","2011-04-01","London","Bexley"]
[null,null,null,null,null,null,null,null,null,null,null,null,null,null,"East Worlington Primary School","120025","2011-08-01","South West","Devon"]
[null,null,null,null,null,null,null,null,null,null,null,null,null,null,"Eastbourne Academy","119169","2010-09-01","South East","East Sussex"]
[null,null,null,null,null,null,null,null,null,null,null,null,null,null,"Eastbrook Primary Academy","123101","2013-09-01","West Midlands","Worcestershire"]
[null,null,null,null,null,null,null,null,null,null,null,null,null,null,"Easterside Primary School",125018,"2014-04-01","North East","Middlesbrough"]
[null,null,null,null,null,null,null,null,null,null,null,null,null,null,"Eastfield Academy","120935","2012-11-01","East Midlands","Northamptonshire"]
[null,null,null,null,null,null,null,null,null,null,null,null,null,null,"Eastfield Primary School - Hull","124080","2013-07-01","Yorkshire & The Humber","Hull"]
[null,null,null,null,null,null,null,null,null,null,null,null,null,null,"Eastfield Primary School - Immingham","124597","2013-08-01","Yorkshire & The Humber","North East"]
[null,null,null,null,null,null,null,null,null,null,null,null,null,null,"Eastfield Primary School - Leicester","122375","2012-10-01","East Midlands","Leicestershire"]
[null,null,null,null,null,null,null,null,null,null,null,null,null,null,"Eastgate Community Primary School",129544,"2014-04-01","East of England","Norfolk"]
[null,null,null,null,null,null,null,null,null,null,null,null,null,null,"Easton Royal Primary School","122140","2012-09-01","South West","Wiltshire"]
[null,null,null,null,null,null,null,null,null,null,null,null,null,null,"Eastrop Infant School","120390","2011-09-01","South West","Swindon"]
[null,null,null,null,null,null,null,null,null,null,null,null,null,null,"Eastwood Academy, The","120284","2011-08-17","East of England","Southend-on-Sea"]
[null,null,null,null,null,null,null,null,null,null,null,null,null,null,"Eaton Bank Academy - Congleton","122027","2012-09-01","North West","Cheshire East"]
[null,null,null,null,null,null,null,null,null,null,null,null,null,null,"Eaton Bray Academy - Dunstable","119536","2011-04-01","East of England","Central Bedfordshire"]
[null,null,null,null,null,null,null,null,null,null,null,null,null,null,"Eaton Hall School","122975","2012-12-01","East of England","Norfolk"]
[null,null,null,null,null,null,null,null,null,null,null,null,null,null,"Eaton Park Primary School","120783","2012-08-01","West Midlands","Stoke on Trent"]
[null,null,null,null,null,null,null,null,null,null,null,null,null,null,"Ebbsfleet Academy, The","120981","2013-11-01","South East","Kent"]
[null,null,null,null,null,null,null,null,null,null,null,null,null,null,"EBN East Birmingham Network Free School","122537","2012-09-01","West Midlands","Birmingham"]
[null,null,null,null,null,null,null,null,null,null,null,null,null,null,"Ecclesbourne Primary School - Croydon","119661","2011-04-01","London","Croydon"]
[null,null,null,null,null,null,null,null,null,null,null,null,null,null,"Ecclesbourne School, The - Belper","119514","2011-03-01","East Midlands","Derbyshire"]
[null,null,null,null,null,null,null,null,null,null,null,null,null,null,"Ecclesfield School",124700,"2014-04-01","Yorkshire & The Humber","Sheffield"]
[null,null,null,null,null,null,null,null,null,null,null,null,null,null,"Echelford Primary Academy","124665","2013-10-01","South East","Surrey"]
[null,null,null,null,null,null,null,null,null,null,null,null,null,null,"Ecton Brook Primary School","121428","2012-11-01","East Midlands","Northamptonshire"]
[null,null,null,null,null,null,null,null,null,null,null,null,null,null,"Edale Rise Primary & Nursery School",129899,"2014-04-01","East Midlands","Nottingham"]
[null,null,null,null,null,null,null,null,null,null,null,null,null,null,"Eden Park Primary School Academy - Brixham","119892","2011-07-01","South West","Torbay"]
[null,null,null,null,null,null,null,null,null,null,null,null,null,null,"Eden Primary School - Muswell Hill","120469","2011-09-01","London","Haringey"]
[null,null,null,null,null,null,null,null,null,null,null,null,null,null,"Edgar Stammers Primary School","124115","2013-07-01","West Midlands","Walsall"]
[null,null,null,null,null,null,null,null,null,null,null,null,null,null,"Edna G Olds Primary and Nursery School","120574","2011-10-01","East Midlands","Nottingham"]
[null,null,null,null,null,null,null,null,null,null,null,null,null,null,"Edward Bryant Primary School","121007","2012-04-01","South East","West Sussex"]
[null,null,null,null,null,null,null,null,null,null,null,null,null,null,"Edward Heneage Primary School","121995","2012-10-01","Yorkshire & The Humber","North East Lincolnshire"]
[null,null,null,null,null,null,null,null,null,null,null,null,null,null,"Eggar's School","120832","2012-09-01","South East","Hampshire"]
[null,null,null,null,null,null,null,null,null,null,null,null,null,null,"Eggbuckland Community College","124785","2013-09-01","South West","Plymouth"]
[null,null,null,null,null,null,null,null,null,null,null,null,null,null,"Elaine Primary Academy","121893","2012-09-01","South East","Medway"]
[null,null,null,null,null,null,null,null,null,null,null,null,null,null,"Elburton Primary School","121458","2012-07-01","South West","Plymouth"]
[null,null,null,null,null,null,null,null,null,null,null,null,null,null,"Eldon Grove Primary School","124581","2013-07-01","North East","Hartlepool"]
[null,null,null,null,null,null,null,null,null,null,null,null,null,null,"Elizabeth Woodville School","123041","2012-12-01","East Midlands","Northamptonshire"]
[null,null,null,null,null,null,null,null,null,null,null,null,null,null,"Elizabethan High School, The","120873","2012-04-01","East Midlands","Nottinghamshire"]
[null,null,null,null,null,null,null,null,null,null,null,null,null,null,"Ellacombe Primary School Academy","121154","2012-04-01","South West","Torbay"]
[null,null,null,null,null,null,null,null,null,null,null,null,null,null,"Ellison Boulters Church of England Primary School","122676","2012-09-01","East Midlands","Lincolnshire"]
[null,null,null,null,null,null,null,null,null,null,null,null,null,null,"Elmlea Junior School","119843","2011-07-01","South West","Bristol City"]
[null,null,null,null,null,null,null,null,null,null,null,null,null,null,"Elmridge Primary School","122009","2012-09-01","North West","Trafford"]
[null,null,null,null,null,null,null,null,null,null,null,null,null,null,"Elstree UTC, The","123376","2013-09-01","East of England","Hertfordshire"]
[null,null,null,null,null,null,null,null,null,null,null,null,null,null,"Elveden Church of England Voluntary Aided Primary School","122802","2013-01-01","East of England","Suffolk"]
[null,null,null,null,null,null,null,null,null,null,null,null,null,null,"Emerson Park School","120346","2011-09-01","London","Havering"]
[null,null,null,null,null,null,null,null,null,null,null,null,null,null,"Emmanuel College","118390","1991-04-05","North East","Gateshead"]
[null,null,null,null,null,null,null,null,null,null,null,null,null,null,"Emmanuel Community School","122320","2012-09-01","London","Waltham Forest"]
[null,null,null,null,null,null,null,null,null,null,null,null,null,null,"Enderby Danemill Primary School","126441","2013-11-01","East Midlands","Leicestershire"]
[null,null,null,null,null,null,null,null,null,null,null,null,null,null,"Endike Primary School","124992","2013-11-01","Yorkshire & The Humber","Hull"]
[null,null,null,null,null,null,null,null,null,null,null,null,null,null,"Enfield Grammar School","120094","2011-08-01","London","Enfield"]
[null,null,null,null,null,null,null,null,null,null,null,null,null,null,"Enfield Heights Academy","121979","2012-09-01","London","Enfield"]
[null,null,null,null,null,null,null,null,null,null,null,null,null,null,"English Martyrs' Catholic Primary - Nottingham","126519","2013-09-01","East Midlands","Derbyshire"]
[null,null,null,null,null,null,null,null,null,null,null,null,null,null,"English Martyrs' Catholic Primary School - Biddulph","123377","2013-09-01","West Midlands","Staffordshire"]
[null,null,null,null,null,null,null,null,null,null,null,null,null,null,"English Martyrs' Catholic Primary School - Oakham","124329","2013-05-01","East Midlands","Rutland "]
[null,null,null,null,null,null,null,null,null,null,null,null,null,null,"English Martyrs School and Sixth Form College, The",129903,"2014-05-01T11:35:47","North East","Hartlepool"]
[null,null,null,null,null,null,null,null,null,null,null,null,null,null,"Enmore Church of England Primary School","120391","2011-09-01","South West","Somerset"]
[null,null,null,null,null,null,null,null,null,null,null,null,null,null,"Enterprise South Liverpool Academy","119202","2010-09-01","North West","Liverpool"]
[null,null,null,null,null,null,null,null,null,null,null,null,null,null,"Epiphany Church of England Primary School, The","121086","2012-04-01","South West","Bournemouth"]
[null,null,null,null,null,null,null,null,null,null,null,null,null,null,"Eppleton Primary School","122067","2012-06-01","North East","Sunderland"]
[null,null,null,null,null,null,null,null,null,null,null,null,null,null,"Epsom and Ewell High School","120508","2011-10-01","South East","Surrey"]
[null,null,null,null,null,null,null,null,null,null,null,null,null,null,"Epworth Primary Academy","122066","2012-09-01","Yorkshire & The Humber","North Lincolnshire"]
[null,null,null,null,null,null,null,null,null,null,null,null,null,null,"Erasmus Darwin Academy","119886","2011-07-01","West Midlands","Staffordshire"]
[null,null,null,null,null,null,null,null,null,null,null,null,null,null,"Erdington Hall Primary School","121166","2012-06-01","West Midlands","Birmingham"]
[null,null,null,null,null,null,null,null,null,null,null,null,null,null,"Eresby School, Spilsby, The","122974","2013-05-01","East Midlands","Lincolnshire "]
[null,null,null,null,null,null,null,null,null,null,null,null,null,null,"Erith School","119285","2010-10-01","London","Bexley"]
[null,null,null,null,null,null,null,null,null,null,null,null,null,null,"Ermine Primary School","119871","2011-07-01","East Midlands","Lincolnshire"]
[null,null,null,null,null,null,null,null,null,null,null,null,null,null,"Ernesford Grange Community School","126323","2014-01-01","West Midlands","Coventry"]
[null,null,null,null,null,null,null,null,null,null,null,null,null,null,"Ernulf Academy","120187","2011-08-01","East of England","Cambridgeshire"]
[null,null,null,null,null,null,null,null,null,null,null,null,null,null,"Esher CofE High School",124917,"2014-03-01","South East","Surrey"]
[null,null,null,null,null,null,null,null,null,null,null,null,null,null,"Essa Academy","119125","2009-01-05","North West","Bolton"]
[null,null,null,null,null,null,null,null,null,null,null,null,null,null,"Estcourt Primary School",129564,"2014-04-01","Yorkshire & The Humber","Hull"]
[null,null,null,null,null,null,null,null,null,null,null,null,null,null,"Eston Park Academy","120911","2012-01-01","North East","Redcar and Cleveland"]
[null,null,null,null,null,null,null,null,null,null,null,null,null,null,"Ethel Wainwright Primary School","122495","2012-09-01","East Midlands","Nottinghamshire"]
[null,null,null,null,null,null,null,null,null,null,null,null,null,null,"Etonbury Academy","120584","2011-11-01","East of England","Central Bedfordshire"]
[null,null,null,null,null,null,null,null,null,null,null,null,null,null,"Etone Technology Language Vocational College","120804","2012-01-01","West Midlands","Warwickshire"]
[null,null,null,null,null,null,null,null,null,null,null,null,null,null,"Etz Chaim Jewish Primary School","120538","2011-09-01","London","Barnet"]
[null,null,null,null,null,null,null,null,null,null,null,null,null,null,"Europa School UK","121980","2012-09-01","South East","Oxfordshire"]
[null,null,null,null,null,null,null,null,null,null,null,null,null,null,"Evelyn Grace Academy","118662","2009-09-01","London","Lambeth"]
[null,null,null,null,null,null,null,null,null,null,null,null,null,null,"Everest Community Academy","120113","2011-09-01","South East","Hampshire"]
[null,null,null,null,null,null,null,null,null,null,null,null,null,null,"Eversholt Lower School","119946","2011-10-01","East of England","Central Bedfordshire"]
[null,null,null,null,null,null,null,null,null,null,null,null,null,null,"Everton in the Community Free School Trust","122538","2012-09-01","North West","Liverpool"]
[null,null,null,null,null,null,null,null,null,null,null,null,null,null,"Excelsior Academy","118610","2008-09-01","North East","Newcastle Upon Tyne"]
[null,null,null,null,null,null,null,null,null,null,null,null,null,null,"Exeter Primary School","122586","2013-01-01","East Midlands","Northamptonshire"]
[null,null,null,null,null,null,null,null,null,null,null,null,null,null,"Exmouth Community College","119526","2011-04-01","South West","Devon"]
[null,null,null,null,null,null,null,null,null,null,null,null,null,null,"Eynsham Community Primary School",126315,"2014-05-01","South East","Oxfordshire"]
[null,null,null,null,null,null,null,null,null,null,null,null,null,null,"Faber Catholic Primary School, The","122660","2012-09-01","West Midlands","Staffordshire"]
[null,null,null,null,null,null,null,null,null,null,null,null,null,null,"Fair Oak Academy","120100","2011-09-01","West Midlands","Staffordshire"]
[null,null,null,null,null,null,null,null,null,null,null,null,null,null,"Fairchildes Primary School",129884,"2014-04-01","London","Croydon"]
[null,null,null,null,null,null,null,null,null,null,null,null,null,null,"Fairfax School","119908","2011-07-01","West Midlands","Birmingham"]
[null,null,null,null,null,null,null,null,null,null,null,null,null,null,"Fairfield High School - Hereford",128342,"2014-05-01","South West","Bristol"]
[null,null,null,null,null,null,null,null,null,null,null,null,null,null,"Fairfield High School for Girls - Droylsden","119603","2011-04-01","North West","Tameside"]
[null,null,null,null,null,null,null,null,null,null,null,null,null,null,"Fairfield Primary School - Nottingham","123274","2013-09-01","East Midlands","Nottinghamshire"]
[null,null,null,null,null,null,null,null,null,null,null,null,null,null,"Fairfield Primary School - Wigston","121158","2012-03-01","East Midlands","Leicestershire"]
[null,null,null,null,null,null,null,null,null,null,null,null,null,null,"Fairway Primary School - Kings Norton","123210","2013-04-01","West Midlands","Birmingham "]
[null,null,null,null,null,null,null,null,null,null,null,null,null,null,"Fakenham High School and College","123891","2013-10-01","East of England","Norfolk"]
[null,null,null,null,null,null,null,null,null,null,null,null,null,null,"Falconer's Hill Community Junior School",130305,"2014-05-01","East Midlands","Northamptonshire"]
[null,null,null,null,null,null,null,null,null,null,null,null,null,null,"Fallibroome Academy","119251","2010-09-01","North West","Cheshire East"]
[null,null,null,null,null,null,null,null,null,null,null,null,null,null,"Falmouth Primary School","124651","2013-12-01","South West","Cornwall"]
[null,null,null,null,null,null,null,null,null,null,null,null,null,null,"Falmouth School","120223","2011-08-01","South West","Cornwall"]
[null,null,null,null,null,null,null,null,null,null,null,null,null,null,"Faringdon Community College","121091","2012-04-01","South East","Oxfordshire"]
[null,null,null,null,null,null,null,null,null,null,null,null,null,null,"Faringdon Infant School - Faringdon","121092","2012-04-01","South East","Oxfordshire"]
[null,null,null,null,null,null,null,null,null,null,null,null,null,null,"Faringdon Junior School - Faringdon","121162","2012-04-01","South East","Oxfordshire"]
[null,null,null,null,null,null,null,null,null,null,null,null,null,null,"Farlingaye High School","119834","2011-07-01","East of England","Suffolk"]
[null,null,null,null,null,null,null,null,null,null,null,null,null,null,"Farmor's School","120097","2011-08-01","South West","Gloucestershire"]
[null,null,null,null,null,null,null,null,null,null,null,null,null,null,"Farnborough Primary School","125242","2013-12-01","London","Bromley"]
[null,null,null,null,null,null,null,null,null,null,null,null,null,null,"Farndon Fields Primary School","122176","2012-07-01","East Midlands","Leicestershire"]
[null,null,null,null,null,null,null,null,null,null,null,null,null,null,"Farnham Heath End School","123222","2013-04-01","South East","Surrey "]
[null,null,null,null,null,null,null,null,null,null,null,null,null,null,"Farnley Academy, The","121065","2012-02-01","Yorkshire & The Humber","Leeds"]
[null,null,null,null,null,null,null,null,null,null,null,null,null,null,"Farringdon Community Sports College","124537","2013-07-01","North East","Sunderland"]
[null,null,null,null,null,null,null,null,null,null,null,null,null,null,"Farringdon Primary School - Sunderland","123118","2012-12-01","North East","Sunderland"]
[null,null,null,null,null,null,null,null,null,null,null,null,null,null,"Featherstone High School","120693","2011-12-01T12:13:56","London","Ealing"]
[null,null,null,null,null,null,null,null,null,null,null,null,null,null,"Felixstowe Academy","120321","2011-09-01","East of England","Suffolk"]
[null,null,null,null,null,null,null,null,null,null,null,null,null,null,"Feltham Community College","120514","2011-11-01T14:11:45","London","Hounslow"]
[null,null,null,null,null,null,null,null,null,null,null,null,null,null,"Feltham Hill Junior School",130331,"2014-04-01","London","Hounslow"]
[null,null,null,null,null,null,null,null,null,null,null,null,null,null,"Fen Park Community Primary School",129428,"2014-03-01","East of England","Suffolk"]
[null,null,null,null,null,null,null,null,null,null,null,null,null,null,"Ferns Primary Academy, The","121852","2012-09-01","North West","Bolton"]
[null,null,null,null,null,null,null,null,null,null,null,null,null,null,"Fernwood Academy Trust, The","119738","2011-05-01","East Midlands","Nottingham"]
[null,null,null,null,null,null,null,null,null,null,null,null,null,null,"Ferrars Infant School","122710","2013-05-01","East of England","Luton "]
[null,null,null,null,null,null,null,null,null,null,null,null,null,null,"Ferrers Specialist Arts College, The","124777","2013-08-01T12:54:38","East Midlands","Northamptonshire"]
[null,null,null,null,null,null,null,null,null,null,null,null,null,null,"Feversham College","119962","2011-08-01","Yorkshire & The Humber","Bradford"]
[null,null,null,null,null,null,null,null,null,null,null,null,null,null,"Feversham Primary School","122249","2012-11-01","Yorkshire & The Humber","Bradford"]
[null,null,null,null,null,null,null,null,null,null,null,null,null,null,"Field Court Church of England Infant School","120393","2011-09-01","South West","Gloucestershire"]
[null,null,null,null,null,null,null,null,null,null,null,null,null,null,"Field Court Junior School","120392","2011-09-01","South West","Gloucestershire"]
[null,null,null,null,null,null,null,null,null,null,null,null,null,null,"Field Lane Primary School","122079","2012-09-01","Yorkshire & The Humber","Calderdale"]
[null,null,null,null,null,null,null,null,null,null,null,null,null,null,"Fieldhead Junior Infant and Nursery School","123234","2013-03-01","Yorkshire & The Humber","Kirklees"]
[null,null,null,null,null,null,null,null,null,null,null,null,null,null,"Filton Avenue Infant School","121179","2012-09-01","South West","Bristol City"]
[null,null,null,null,null,null,null,null,null,null,null,null,null,null,"Finham Park School","119963","2011-08-01","West Midlands","Coventry"]
[null,null,null,null,null,null,null,null,null,null,null,null,null,null,"Fir Tree Primary School and Nursery","122632","2013-03-01","South East","West Berkshire"]
[null,null,null,null,null,null,null,null,null,null,null,null,null,null,"Fir Vale School","120750","2012-11-01","Yorkshire & The Humber","Sheffield"]
[null,null,null,null,null,null,null,null,null,null,null,null,null,null,"Firbeck Primary and Nursery School with Individual Needs Centre for Deaf Children","123934","2013-07-01","East Midlands","Nottingham"]
[null,null,null,null,null,null,null,null,null,null,null,null,null,null,"Firs Lower School, The","120795","2012-01-01","East of England","Central Bedfordshire"]
[null,null,null,null,null,null,null,null,null,null,null,null,null,null,"Firth Park Community Arts College","123198","2013-08-01","Yorkshire & The Humber","Sheffield"]
[null,null,null,null,null,null,null,null,null,null,null,null,null,null,"Firthmoor Primary School","121831","2012-05-01","North East","Darlington"]
[null,null,null,null,null,null,null,null,null,null,null,null,null,null,"Fishponds CofE Academy","120961","2012-09-01","South West","Bristol City"]
[null,null,null,null,null,null,null,null,null,null,null,null,null,null,"Fishtoft School, The","123158","2013-02-01","East Midlands","Lincolnshire"]
[null,null,null,null,null,null,null,null,null,null,null,null,null,null,"Fitzwaryn School","123157","2013-02-01","South East","Oxfordshire"]
[null,null,null,null,null,null,null,null,null,null,null,null,null,null,"Flamstead End Primary and Nursery School","123151","2013-04-01","East of England","Hertfordshire "]
[null,null,null,null,null,null,null,null,null,null,null,null,null,null,"Flanshaw St Michaels CofE (Voluntary Controlled) Primary (Nij) School","122881","2013-05-01","Yorkshire & The Humber","Wakefield "]
[null,null,null,null,null,null,null,null,null,null,null,null,null,null,"Flax Hill Junior Academy","124729","2014-01-01","West Midlands","Staffordshire"]
[null,null,null,null,null,null,null,null,null,null,null,null,null,null,"Fleetville Infant and Nursery School","121094","2012-06-01","East of England","Hertfordshire"]
[null,null,null,null,null,null,null,null,null,null,null,null,null,null,"Fleetville Junior School","121193","2012-06-01","East of England","Hertfordshire"]
[null,null,null,null,null,null,null,null,null,null,null,null,null,null,"Flegg High School","122343","2012-09-01","East of England","Norfolk"]
[null,null,null,null,null,null,null,null,null,null,null,null,null,null,"Flitch Green Academy","119450","2011-02-01","East of England","Essex"]
[null,null,null,null,null,null,null,null,null,null,null,null,null,null,"Flixton Girls' High School","119965","2011-08-01","North West","Trafford"]
[null,null,null,null,null,null,null,null,null,null,null,null,null,null,"Flying Bull Primary School",128000,"2014-04-01","South East","Portsmouth"]
[null,null,null,null,null,null,null,null,null,null,null,null,null,null,"Flying High Academy at Ladybrook, The","124750","2014-01-01","East Midlands","Nottinghamshire"]
[null,null,null,null,null,null,null,null,null,null,null,null,null,null,"Foleshill Church of England Primary School","123851","2013-04-01","West Midlands","Coventry "]
[null,null,null,null,null,null,null,null,null,null,null,null,null,null,"Folkestone Academy, The","118612","2007-09-01","South East","Kent"]
[null,null,null,null,null,null,null,null,null,null,null,null,null,null,"Folkestone Christ Church CofE Primary School","123038","2013-03-01","South East","Kent"]
[null,null,null,null,null,null,null,null,null,null,null,null,null,null,"Folkestone School for Girls, The","120899","2012-02-01T14:39:03","South East","Kent"]
[null,null,null,null,null,null,null,null,null,null,null,null,null,null,"Folkestone, St Mary's Church of England Primary School","123049","2013-02-01","South East","Kent"]
[null,null,null,null,null,null,null,null,null,null,null,null,null,null,"Forest Academy - Brandon","119371","2010-11-01","East of England","Suffolk"]
[null,null,null,null,null,null,null,null,null,null,null,null,null,null,"Forest Academy - Ilford","121111","2012-01-01","London","Redbridge"]
[null,null,null,null,null,null,null,null,null,null,null,null,null,null,"Forest E-ACT Academy - Cinderford","120938","2012-09-01","South West","Gloucestershire"]
[null,null,null,null,null,null,null,null,null,null,null,null,null,null,"Forest Gate Community Primary School","122240","2012-09-01","North West","Trafford"]
[null,null,null,null,null,null,null,null,null,null,null,null,null,null,"Forest School - Wokingham","124300","2013-07-01","South East","Wokingham"]
[null,null,null,null,null,null,null,null,null,null,null,null,null,null,"Forest View Primary School","122977","2013-02-01","South West","Gloucestershire"]
[null,null,null,null,null,null,null,null,null,null,null,null,null,null,"Forest Way School - Coalville","120879","2012-03-01","East Midlands","Leicestershire"]
[null,null,null,null,null,null,null,null,null,null,null,null,null,null,"Formby High School","120363","2011-09-01","North West","Sefton"]
[null,null,null,null,null,null,null,null,null,null,null,null,null,null,"Fort Pitt Grammar School","119357","2010-11-01","South East","Medway"]
[null,null,null,null,null,null,null,null,null,null,null,null,null,null,"Fosse Way Academy - Lincoln","119764","2011-06-01","East Midlands","Lincolnshire"]
[null,null,null,null,null,null,null,null,null,null,null,null,null,null,"Fosse Way School - Bath","120394","2011-09-01","South West","Bath & North East Somerset"]
[null,null,null,null,null,null,null,null,null,null,null,null,null,null,"Four Dwellings Academy","122290","2013-03-01","West Midlands","Birmingham"]
[null,null,null,null,null,null,null,null,null,null,null,null,null,null,"Four Dwellings Primary School","122485","2013-01-01","West Midlands","Birmingham"]
[null,null,null,null,null,null,null,null,null,null,null,null,null,null,"Fox Hill Primary School","122652","2013-04-01","Yorkshire & The Humber","Sheffield "]
[null,null,null,null,null,null,null,null,null,null,null,null,null,null,"Foxbrough Primary School","123886","2014-01-01","South East","Slough"]
[null,null,null,null,null,null,null,null,null,null,null,null,null,null,"Foxhole Primary School","124703","2013-12-01","South West","Cornwall"]
[null,null,null,null,null,null,null,null,null,null,null,null,null,null,"Foxwood Foundation School and Technology College","122350","2012-09-01","East Midlands","Nottinghamshire"]
[null,null,null,null,null,null,null,null,null,null,null,null,null,null,"Framwellgate School Durham","120818","2011-12-01T12:14:24","North East","Durham"]
[null,null,null,null,null,null,null,null,null,null,null,null,null,null,"Frances Bardsley School for Girls, The","121842","2012-07-01","London","Havering"]
[null,null,null,null,null,null,null,null,null,null,null,null,null,null,"Francis Combe Academy","118887","2009-09-01","East of England","Hertfordshire"]
[null,null,null,null,null,null,null,null,null,null,null,null,null,null,"Fred Longworth High School","120364","2011-09-01","North West","Wigan"]
[null,null,null,null,null,null,null,null,null,null,null,null,null,null,"Frederick Nattrass Primary School","124155","2013-09-01","North East","Stockton-on-Tees"]
[null,null,null,null,null,null,null,null,null,null,null,null,null,null,"Free School Norwich, The","120521","2011-09-01","East of England","Norfolk"]
[null,null,null,null,null,null,null,null,null,null,null,null,null,null,"Freebrough Academy","119192","2010-09-01","North East","Redcar and Cleveland"]
[null,null,null,null,null,null,null,null,null,null,null,null,null,null,"Freemans Endowed Church of England Junior School","123073","2013-04-01","East Midlands","Northamptonshire "]
[null,null,null,null,null,null,null,null,null,null,null,null,null,null,"Freemantle Church of England Community Academy","119616","2011-04-01","South East","Southampton"]
[null,null,null,null,null,null,null,null,null,null,null,null,null,null,"Freeston Business and Enterprise College, The","120509","2011-11-01","Yorkshire & The Humber","Wakefield"]
[null,null,null,null,null,null,null,null,null,null,null,null,null,null,"Freman College","120002","2011-08-01","East of England","Hertfordshire"]
[null,null,null,null,null,null,null,null,null,null,null,null,null,null,"Freshwaters Primary Academy","123935","2013-09-01","East of England","Essex"]
[null,null,null,null,null,null,null,null,null,null,null,null,null,null,"Friars School","123859","2013-11-01T14:13:12","East Midlands","Northamptonshire"]
[null,null,null,null,null,null,null,null,null,null,null,null,null,null,"Frisby Church of England Primary School","124085","2013-06-01","East Midlands","Leicestershire"]
[null,null,null,null,null,null,null,null,null,null,null,null,null,null,"Frogmore Junior School","124249","2013-09-01","South East","Hampshire"]
[null,null,null,null,null,null,null,null,null,null,null,null,null,null,"Frome Vale Academy","121075","2012-09-01","South West","Bristol City"]
[null,null,null,null,null,null,null,null,null,null,null,null,null,null,"Front Lawn Primary Academy","122000","2013-04-01","South East","Hampshire "]
[null,null,null,null,null,null,null,null,null,null,null,null,null,null,"Fulbridge Primary School","122774","2013-03-01","East of England","Peterborough"]
[null,null,null,null,null,null,null,null,null,null,null,null,null,null,"Fulbrook Academy - Milton Keynes","121231","2012-03-01","East of England","Central Bedfordshire"]
[null,null,null,null,null,null,null,null,null,null,null,null,null,null,"Fulham College Boys' School","123178","2013-03-01","London","Hammersmith and Fulham"]
[null,null,null,null,null,null,null,null,null,null,null,null,null,null,"Fulham Cross Girls' School and Language College","123175","2013-03-01","London","Hammersmith and Fulham"]
[null,null,null,null,null,null,null,null,null,null,null,null,null,null,"Fullbrook School - Addlestone","120003","2011-08-01","South East","Surrey"]
[null,null,null,null,null,null,null,null,null,null,null,null,null,null,"Fulston Manor School","119286","2010-10-01","South East","Kent"]
[null,null,null,null,null,null,null,null,null,null,null,null,null,null,"Fulwell Infant School","122990","2012-12-01","North East","Sunderland"]
[null,null,null,null,null,null,null,null,null,null,null,null,null,null,"Fulwood Academy","119131","2009-09-07","North West","Lancashire"]
[null,null,null,null,null,null,null,null,null,null,null,null,null,null,"Furley Park Primary School","127276","2013-11-01","South East","Kent"]
[null,null,null,null,null,null,null,null,null,null,null,null,null,null,"Furness Academy","119132","2009-09-01","North West","Cumbria"]
[null,null,null,null,null,null,null,null,null,null,null,null,null,null,"Furze Platt Senior School","120695","2011-12-01T12:14:51","South East","Windsor and Maidenhead"]
[null,null,null,null,null,null,null,null,null,null,null,null,null,null,"Gable Hall School","119854","2011-07-01","East of England","Thurrock"]
[null,null,null,null,null,null,null,null,null,null,null,null,null,null,"Gaddesby Primary School","122376","2012-10-01","East Midlands","Leicestershire"]
[null,null,null,null,null,null,null,null,null,null,null,null,null,null,"Gainsborough Benjamin Adlard Community School","120676","2012-04-01","East Midlands","Lincolnshire"]
[null,null,null,null,null,null,null,null,null,null,null,null,null,null,"Gainsborough Parish Church Primary School, The","122498","2012-09-01","East Midlands","Lincolnshire"]
[null,null,null,null,null,null,null,null,null,null,null,null,null,null,"Gamlingay Village College","120990","2012-02-01","East of England","Cambridgeshire"]
[null,null,null,null,null,null,null,null,null,null,null,null,null,null,"Garden City Academy","121888","2012-09-01","East of England","Hertfordshire"]
[null,null,null,null,null,null,null,null,null,null,null,null,null,null,"Garforth Academy","119360","2010-11-01","Yorkshire & The Humber","Leeds"]
[null,null,null,null,null,null,null,null,null,null,null,null,null,null,"Garstang Community Academy","120365","2011-09-01","North West","Lancashire"]
[null,null,null,null,null,null,null,null,null,null,null,null,null,null,"Gartree High School Oadby","122041","2012-06-01","East Midlands","Leicestershire"]
[null,null,null,null,null,null,null,null,null,null,null,null,null,null,"Gateway Academy - Free School, The","121982","2012-09-01","East of England","Thurrock"]
[null,null,null,null,null,null,null,null,null,null,null,null,null,null,"Gateway Academy, The - Grays","118651","2006-09-01","East of England","Thurrock"]
[null,null,null,null,null,null,null,null,null,null,null,null,null,null,"Gateway Primary School - London","124529","2013-09-01","London","Westminster"]
[null,null,null,null,null,null,null,null,null,null,null,null,null,null,"Gateway Primary School, The - Dartford","129440","2014-02-01","South East","Kent"]
[null,null,null,null,null,null,null,null,null,null,null,null,null,null,"Gawthorpe Community Primary School","120661","2011-11-01","Yorkshire & The Humber","Wakefield"]
[null,null,null,null,null,null,null,null,null,null,null,null,null,null,"George Abbot School","119853","2011-07-01","South East","Surrey"]
[null,null,null,null,null,null,null,null,null,null,null,null,null,null,"George Betts Primary School","124335","2013-07-01","West Midlands","Sandwell"]
[null,null,null,null,null,null,null,null,null,null,null,null,null,null,"George Dixon International School and Sixth Form Centre","121912","2012-09-01","West Midlands","Birmingham"]
[null,null,null,null,null,null,null,null,null,null,null,null,null,null,"George Elliot School, The","120079","2011-09-01","West Midlands","Warwickshire"]
[null,null,null,null,null,null,null,null,null,null,null,null,null,null,"George Salter Collegiate Academy","118613","2007-09-01","West Midlands","Sandwell"]
[null,null,null,null,null,null,null,null,null,null,null,null,null,null,"George Spencer Academy","119255","2010-09-01","East Midlands","Nottinghamshire"]
[null,null,null,null,null,null,null,null,null,null,null,null,null,null,"Gerrards Cross Church of England School, The","120777","2012-01-01","South East","Buckinghamshire"]
[null,null,null,null,null,null,null,null,null,null,null,null,null,null,"Ghyllside Primary School","122418","2012-09-01","North West","Cumbria"]
[null,null,null,null,null,null,null,null,null,null,null,null,null,null,"Giffard Catholic Primary School, The","125015","2013-07-01","West Midlands","Wolverhampton"]
[null,null,null,null,null,null,null,null,null,null,null,null,null,null,"Giffards Primary School - Stanford-le-Hope",129883,"2014-04-01","East of England","Thurrock"]
[null,null,null,null,null,null,null,null,null,null,null,null,null,null,"Gilberd School, The","121141","2012-03-01","East of England","Essex"]
[null,null,null,null,null,null,null,null,null,null,null,null,null,null,"Gilbert Inglefield Academy","120835","2012-04-01","East of England","Central Bedfordshire"]
[null,null,null,null,null,null,null,null,null,null,null,null,null,null,"Gildredge House","123301","2013-09-01","South East","East Sussex"]
[null,null,null,null,null,null,null,null,null,null,null,null,null,null,"Giles Academy, The","119247","2010-09-01","East Midlands","Lincolnshire"]
[null,null,null,null,null,null,null,null,null,null,null,null,null,null,"Gillbrook Academy","120909","2012-09-01","North East","Redcar and Cleveland"]
[null,null,null,null,null,null,null,null,null,null,null,null,null,null,"Gillotts School","120811","2012-03-01","South East","Oxfordshire"]
[null,null,null,null,null,null,null,null,null,null,null,null,null,null,"Gilmorton Chandler Church of England Primary School","124185","2013-07-01","East Midlands","Leicestershire"]
[null,null,null,null,null,null,null,null,null,null,null,null,null,null,"Gilsland CofE Primary School","121886","2012-06-01","North West","Cumbria"]
[null,null,null,null,null,null,null,null,null,null,null,null,null,null,"Gipsey Bridge Primary School","123124","2013-02-01","East Midlands","Lincolnshire"]
[null,null,null,null,null,null,null,null,null,null,null,null,null,null,"Glapton Academy, The","124177","2013-10-01","East Midlands","Nottingham"]
[null,null,null,null,null,null,null,null,null,null,null,null,null,null,"Glebe Primary School","124519","2013-11-01","West Midlands","Stoke on Trent"]
[null,null,null,null,null,null,null,null,null,null,null,null,null,null,"Glen Hills Primary School","121039","2012-03-01","East Midlands","Leicestershire"]
[null,null,null,null,null,null,null,null,null,null,null,null,null,null,"Glenbrook Primary School",128050,"2014-04-01","East Midlands","Nottingham"]
[null,null,null,null,null,null,null,null,null,null,null,null,null,null,"Glendene School","122597","2012-09-01","North East","Durham"]
[null,null,null,null,null,null,null,null,null,null,null,null,null,null,"Glenfield Infant School","129437","2014-01-01","South East","Southampton"]
[null,null,null,null,null,null,null,null,null,null,null,null,null,null,"Glenleigh Park Academy","122042","2012-09-01","South East","East Sussex"]
[null,null,null,null,null,null,null,null,null,null,null,null,null,null,"Glenmere Community Primary School","124533","2013-07-01","East Midlands","Leicestershire"]
[null,null,null,null,null,null,null,null,null,null,null,null,null,null,"Glenmoor School","127405","2013-09-01","South West","Bournemouth"]
[null,null,null,null,null,null,null,null,null,null,null,null,null,null,"Glenthorne High School","119914","2011-07-01","London","Sutton"]
[null,null,null,null,null,null,null,null,null,null,null,null,null,null,"Globe Academy","118614","2008-09-01","London","Southwark"]
[null,null,null,null,null,null,null,null,null,null,null,null,null,null,"Gloucester Academy","119328","2010-09-01","South West","Gloucestershire"]
[null,null,null,null,null,null,null,null,null,null,null,null,null,null,"Glyn School","119592","2011-04-01","South East","Surrey"]
[null,null,null,null,null,null,null,null,null,null,null,null,null,null,"Glyne Gap School","122127","2013-04-01","South East","East Sussex "]
[null,null,null,null,null,null,null,null,null,null,null,null,null,null,"Glynn House Short Stay School","122605","2013-06-01","South West","Cornwall"]
[null,null,null,null,null,null,null,null,null,null,null,null,null,null,"Goddard Park Community Primary School","119352","2010-09-22","South West","Swindon"]
[null,null,null,null,null,null,null,null,null,null,null,null,null,null,"Godmanchester Primary School","121209","2012-04-01","East of England","Cambridgeshire"]
[null,null,null,null,null,null,null,null,null,null,null,null,null,null,"Godolphin Infant School","122296","2012-09-01","South East","Slough"]
[null,null,null,null,null,null,null,null,null,null,null,null,null,null,"Godolphin Junior School","122294","2012-07-01","South East","Slough"]
[null,null,null,null,null,null,null,null,null,null,null,null,null,null,"Goffs School","120515","2011-10-01","East of England","Hertfordshire"]
[null,null,null,null,null,null,null,null,null,null,null,null,null,null,"Golden Hillock School. A Specialist College for Sport","125180","2013-10-01","West Midlands","Birmingham"]
[null,null,null,null,null,null,null,null,null,null,null,null,null,null,"Goldington Academy","119531","2011-04-01","East of England","Bedford"]
[null,null,null,null,null,null,null,null,null,null,null,null,null,null,"Goldington Green Academy","123268","2013-04-01","East of England","Bedford "]
[null,null,null,null,null,null,null,null,null,null,null,null,null,null,"Goldsmith Primary Academy","122141","2012-09-01","West Midlands","Walsall"]
[null,null,null,null,null,null,null,null,null,null,null,null,null,null,"Goldsworth Primary School","120673","2012-02-01","South East","Surrey"]
[null,null,null,null,null,null,null,null,null,null,null,null,null,null,"Gonville Academy","119725","2011-05-01","London","Croydon"]
[null,null,null,null,null,null,null,null,null,null,null,null,null,null,"Good Shepherd Primary Catholic Voluntary Academy, The","121096","2012-10-01","East Midlands","Nottinghamshire"]
[null,null,null,null,null,null,null,null,null,null,null,null,null,null,"Goole Create Studio School","123385","2013-09-01","Yorkshire & The Humber","East Riding of Yorkshire"]
[null,null,null,null,null,null,null,null,null,null,null,null,null,null,"Goole High School","120316","2011-08-17","Yorkshire & The Humber","East Riding of Yorkshire"]
[null,null,null,null,null,null,null,null,null,null,null,null,null,null,"Goose Green Primary School","122559","2012-10-01","London","Southwark"]
[null,null,null,null,null,null,null,null,null,null,null,null,null,null,"Gooseacre Academy","121937","2012-09-01","Yorkshire & The Humber","Barnsley"]
[null,null,null,null,null,null,null,null,null,null,null,null,null,null,"Gordano School","119856","2011-07-01","South West","North Somerset"]
[null,null,null,null,null,null,null,null,null,null,null,null,null,null,"Gordon Infant School",128087,"2014-03-01","South East","Medway"]
[null,null,null,null,null,null,null,null,null,null,null,null,null,null,"Gordon Junior School",124823,"2014-03-01","South East","Medway"]
[null,null,null,null,null,null,null,null,null,null,null,null,null,null,"Gordon's School","120674","2013-01-01","South East","Surrey"]
[null,null,null,null,null,null,null,null,null,null,null,null,null,null,"Gorse Hill Primary School","121867","2012-04-01","South West","Swindon"]
[null,null,null,null,null,null,null,null,null,null,null,null,null,null,"Gorton Mount Academy","120937","2012-09-01","North West","Manchester"]
[null,null,null,null,null,null,null,null,null,null,null,null,null,null,"Gosberton Community Primary School","123820","2013-01-01","East Midlands","Lincolnshire"]
[null,null,null,null,null,null,null,null,null,null,null,null,null,null,"Gosford Hill School","122906","2012-11-01T14:55:58","South East","Oxfordshire"]
[null,null,null,null,null,null,null,null,null,null,null,null,null,null,"Gosforth Academy","119376","2010-12-01","North East","Newcastle Upon Tyne"]
[null,null,null,null,null,null,null,null,null,null,null,null,null,null,"Gosforth Junior High Academy","119375","2010-12-01","North East","Newcastle Upon Tyne"]
[null,null,null,null,null,null,null,null,null,null,null,null,null,null,"Gotherington Primary School","120207","2011-08-01","South West","Gloucestershire"]
[null,null,null,null,null,null,null,null,null,null,null,null,null,null,"Gothic Mede Lower School","123200","2013-11-01","East of England","Central Bedfordshire"]
[null,null,null,null,null,null,null,null,null,null,null,null,null,null,"Grace Academy - Coventry","118616","2008-09-01","West Midlands","Coventry"]
[null,null,null,null,null,null,null,null,null,null,null,null,null,null,"Grace Academy - Darlaston","119087","2009-09-01","West Midlands","Walsall"]
[null,null,null,null,null,null,null,null,null,null,null,null,null,null,"Grace Academy - Solihull","118615","2006-09-01","West Midlands","Solihull"]
[null,null,null,null,null,null,null,null,null,null,null,null,null,null,"Grade-Ruan CofE School",126434,"2014-03-01","South West","Cornwall"]
[null,null,null,null,null,null,null,null,null,null,null,null,null,null,"Graham James Primary School","122907","2013-05-01","East of England","Thurrock "]
[null,null,null,null,null,null,null,null,null,null,null,null,null,null,"Grampian Primary School","122256","2012-12-01","East Midlands","Derby"]
[null,null,null,null,null,null,null,null,null,null,null,null,null,null,"Grampound Road Village CofE School","127842","2013-12-01","South West","Cornwall"]
[null,null,null,null,null,null,null,null,null,null,null,null,null,null,"Grampound-with-Creed CofE School","127480","2013-12-01","South West","Cornwall"]
[null,null,null,null,null,null,null,null,null,null,null,null,null,null,"Grange Community School","124322","2013-08-01","East Midlands","Northamptonshire"]
[null,null,null,null,null,null,null,null,null,null,null,null,null,null,"Grange Lane Infant Academy","120439","2011-09-01","Yorkshire & The Humber","Doncaster"]
[null,null,null,null,null,null,null,null,null,null,null,null,null,null,"Grange Primary - Shrewsbury","124655","2013-08-01","West Midlands","Shropshire"]
[null,null,null,null,null,null,null,null,null,null,null,null,null,null,"Grange School - Bedford","122976","2013-03-01","East of England","Bedford"]
[null,null,null,null,null,null,null,null,null,null,null,null,null,null,"Grange School, The - Shrewsbury","123159","2013-04-01","West Midlands","Shropshire "]
[null,null,null,null,null,null,null,null,null,null,null,null,null,null,"Grange Technology College - Bradford","120525","2013-08-01","Yorkshire & The Humber","Bradford Metropolitan"]
[null,null,null,null,null,null,null,null,null,null,null,null,null,null,"Grangefield Academy, The","124590","2014-01-01","North East","Stockton-on-Tees"]
[null,null,null,null,null,null,null,null,null,null,null,null,null,null,"Grangewood School","121112","2012-06-01","London","Hillingdon"]
[null,null,null,null,null,null,null,null,null,null,null,null,null,null,"Grasmere Academy","122274","2012-09-01","North East","North Tyneside"]
[null,null,null,null,null,null,null,null,null,null,null,null,null,null,"Grasvenor Avenue Infant School","122386","2012-09-01","London","Barnet"]
[null,null,null,null,null,null,null,null,null,null,null,null,null,null,"Graveney Primary School","120829","2012-02-01","South East","Kent"]
[null,null,null,null,null,null,null,null,null,null,null,null,null,null,"Graveney School","120005","2011-08-01","London","Wandsworth"]
[null,null,null,null,null,null,null,null,null,null,null,null,null,null,"Gravenhurst Lower School","122383","2013-09-01","East of England","Central Bedfordshire"]
[null,null,null,null,null,null,null,null,null,null,null,null,null,null,"Gravesend Grammar School","120099","2011-08-01","South East","Kent"]
[null,null,null,null,null,null,null,null,null,null,null,null,null,null,"Grays Farm Primary Academy","123079","2013-09-01","London","Bromley"]
[null,null,null,null,null,null,null,null,null,null,null,null,null,null,"Grays School Media Arts College, The","124320","2013-07-01","East of England","Thurrock"]
[null,null,null,null,null,null,null,null,null,null,null,null,null,null,"Great Baddow High School","119855","2011-07-01","East of England","Essex"]
[null,null,null,null,null,null,null,null,null,null,null,null,null,null,"Great Barr Primary School","122125","2012-09-01","West Midlands","Birmingham"]
[null,null,null,null,null,null,null,null,null,null,null,null,null,null,"Great Berry Primary School","120226","2011-08-01","East of England","Essex"]
[null,null,null,null,null,null,null,null,null,null,null,null,null,null,"Great Bowden Church of England Primary School","122049","2012-07-01","East Midlands","Leicestershire"]
[null,null,null,null,null,null,null,null,null,null,null,null,null,null,"Great Chesterford Church of England Primary Academy","120510","2011-10-01","East of England","Essex"]
[null,null,null,null,null,null,null,null,null,null,null,null,null,null,"Great Clacton Church of England (Voluntary Aided) Junior School",127907,"2014-03-01","East of England","Essex"]
[null,null,null,null,null,null,null,null,null,null,null,null,null,null,"Great Corby Primary School","120366","2012-02-01","North West","Cumbria"]
[null,null,null,null,null,null,null,null,null,null,null,null,null,null,"Great Dalby School","123868","2013-03-01","East Midlands","Leicestershire"]
[null,null,null,null,null,null,null,null,null,null,null,null,null,null,"Great Malvern Primary School","119984","2011-08-01","West Midlands","Worcestershire"]
[null,null,null,null,null,null,null,null,null,null,null,null,null,null,"Great Marlow School","119964","2011-08-01","South East","Buckinghamshire"]
[null,null,null,null,null,null,null,null,null,null,null,null,null,null,"Great Missenden CofE Combined School",126436,"2014-04-01","South East","Buckinghamshire"]
[null,null,null,null,null,null,null,null,null,null,null,null,null,null,"Great Sankey High School","122006","2013-01-01","North West","Warrington"]
[null,null,null,null,null,null,null,null,null,null,null,null,null,null,"Great Smeaton School","120442","2011-09-01","Yorkshire & The Humber","North Yorkshire"]
[null,null,null,null,null,null,null,null,null,null,null,null,null,null,"Great Staughton Primary School","127610","2014-01-01","East of England","Cambridgeshire"]
[null,null,null,null,null,null,null,null,null,null,null,null,null,null,"Great Yarmouth Primary Academy","122285","2012-09-01","East of England","Norfolk"]
[null,null,null,null,null,null,null,null,null,null,null,null,null,null,"Green End Primary School","124673","2013-09-01","North West","Manchester"]
[null,null,null,null,null,null,null,null,null,null,null,null,null,null,"Greenfield Academy - Dursley","121881","2012-09-01","South West","Gloucestershire"]
[null,null,null,null,null,null,null,null,null,null,null,null,null,null,"Green Lane Primary Academy - Leeds","119356","2010-11-01","Yorkshire & The Humber","Leeds"]
[null,null,null,null,null,null,null,null,null,null,null,null,null,null,"Green Lane Primary School - Middlesbrough",130047,"2014-04-01","North East","Middlesbrough"]
[null,null,null,null,null,null,null,null,null,null,null,null,null,null,"Green Oaks Primary Academy","126496","2014-01-01","East Midlands","Northamptonshire"]
[null,null,null,null,null,null,null,null,null,null,null,null,null,null,"Green Rock Primary School","126483","2013-11-01","West Midlands","Walsall"]
[null,null,null,null,null,null,null,null,null,null,null,null,null,null,"Green School, The - Isleworth","124560","2013-08-01T12:55:44","London - Hounslow","Hounslow London"]
[null,null,null,null,null,null,null,null,null,null,null,null,null,null,"Green Street Green Primary School","120067","2011-08-01","London","Bromley"]
[null,null,null,null,null,null,null,null,null,null,null,null,null,null,"Green Way Academy, The","121837","2012-09-01","Yorkshire & The Humber","Hull"]
[null,null,null,null,null,null,null,null,null,null,null,null,null,null,"Greenacre School","120888","2012-04-01","South East","Medway"]
[null,null,null,null,null,null,null,null,null,null,null,null,null,null,"Greenbank High School","120609","2011-11-01","North West","Sefton"]
[null,null,null,null,null,null,null,null,null,null,null,null,null,null,"Greenfield CofE VC Lower School","120290","2011-08-17","East of England","Central Bedfordshire"]
[null,null,null,null,null,null,null,null,null,null,null,null,null,null,"Greenfield E-ACT Primary Academy","122291","2012-09-01","South West","Bristol City"]
[null,null,null,null,null,null,null,null,null,null,null,null,null,null,"Greenfields Community Primary School","126997","2013-11-01","East Midlands","Northamptonshire"]
[null,null,null,null,null,null,null,null,null,null,null,null,null,null,"Greengate Lane Primary School","123125","2013-02-01","Yorkshire & The Humber","Sheffield"]
[null,null,null,null,null,null,null,null,null,null,null,null,null,null,"Greenhill Primary School","128097","2014-02-01","North West","Oldham"]
[null,null,null,null,null,null,null,null,null,null,null,null,null,null,"Greenholm Primary School","122075","2012-09-01","West Midlands","Birmingham"]
[null,null,null,null,null,null,null,null,null,null,null,null,null,null,"Greenshaw High School","119768","2011-06-01","London","Sutton"]
[null,null,null,null,null,null,null,null,null,null,null,null,null,null,"Greensted Junior School","122247","2012-09-01","East of England","Essex"]
[null,null,null,null,null,null,null,null,null,null,null,null,null,null,"Greensward Academy","118664","2008-09-04","East of England","Essex"]
[null,null,null,null,null,null,null,null,null,null,null,null,null,null,"Greenway School","122295","2012-08-01","South East","West Sussex"]
[null,null,null,null,null,null,null,null,null,null,null,null,null,null,"Greenwich Free School, The","122037","2012-09-01","London","Greenwich"]
[null,null,null,null,null,null,null,null,null,null,null,null,null,null,"Greenwood Academy","122297","2013-01-01","West Midlands","Birmingham"]
[null,null,null,null,null,null,null,null,null,null,null,null,null,null,"Greetland Academy, The","119396","2011-01-01","Yorkshire & The Humber","Calderdale"]
[null,null,null,null,null,null,null,null,null,null,null,null,null,null,"Greig City Academy","118391","2002-09-01","London","Haringey"]
[null,null,null,null,null,null,null,null,null,null,null,null,null,null,"Greneway School, The","119945","2011-11-01","East of England","Hertfordshire"]
[null,null,null,null,null,null,null,null,null,null,null,null,null,null,"Grestone Primary School","124649","2013-10-01","West Midlands","Birmingham"]
[null,null,null,null,null,null,null,null,null,null,null,null,null,null,"Gretton Primary School - Cheltenham","120623","2012-02-01","South West","Gloucestershire"]
[null,null,null,null,null,null,null,null,null,null,null,null,null,null,"Gretton Primary School - Corby","122743","2012-09-01","East Midlands","Northamptonshire"]
[null,null,null,null,null,null,null,null,null,null,null,null,null,null,"Grey Coat Hospital, The","122178","2012-07-01","London","Westminster"]
[null,null,null,null,null,null,null,null,null,null,null,null,null,null,"Grey Court School","122576","2012-10-01","London","Richmond Upon Thames"]
[null,null,null,null,null,null,null,null,null,null,null,null,null,null,"Greys Education Centre","122674","2013-02-01","East of England","Bedford"]
[null,null,null,null,null,null,null,null,null,null,null,null,null,null,"Grindon Hall Christian School","121984","2012-09-01","North East","Sunderland"]
[null,null,null,null,null,null,null,null,null,null,null,null,null,null,"Groby Community College","122282","2012-09-01","East Midlands","Leicestershire"]
[null,null,null,null,null,null,null,null,null,null,null,null,null,null,"Grove Church of England School","125228","2013-12-01","South East","Oxfordshire"]
[null,null,null,null,null,null,null,null,null,null,null,null,null,null,"Grove Park Community Primary School","121895","2012-06-01","South East","Kent"]
[null,null,null,null,null,null,null,null,null,null,null,null,null,null,"Grove Primary School - Lowestoft",129866,"2014-05-01","East of England","Suffolk"]
[null,null,null,null,null,null,null,null,null,null,null,null,null,null,"Gryphon School, The","122602","2012-08-01T12:45:40","South West","Dorset"]
[null,null,null,null,null,null,null,null,null,null,null,null,null,null,"GTS Academy Trust","120228","2011-08-01","South West","Devon"]
[null,null,null,null,null,null,null,null,null,null,null,null,null,null,"Guildford County School","123854","2013-01-01","South East","Surrey"]
[null,null,null,null,null,null,null,null,null,null,null,null,null,null,"Guilsborough School","119489","2011-03-01","East Midlands","Northamptonshire"]
[null,null,null,null,null,null,null,null,null,null,null,null,null,null,"Gumley House RC Convent School, FCJ","121127","2012-03-01","London","Hounslow"]
[null,null,null,null,null,null,null,null,null,null,null,null,null,null,"Gurney Pease Primary","122356","2012-07-01","North East","Darlington"]
[null,null,null,null,null,null,null,null,null,null,null,null,null,null,"Guru Nanak Academy","119373","2010-11-01","London","Hillingdon"]
[null,null,null,null,null,null,null,null,null,null,null,null,null,null,"Gusford Community Primary School","124627","2013-08-01","East of England","Suffolk"]
[null,null,null,null,null,null,null,null,null,null,null,null,null,null,"Guthlaxton College Wigston","122917","2012-11-01T14:56:30","East Midlands","Leicestershire"]
[null,null,null,null,null,null,null,null,null,null,null,null,null,null,"Haberdashers' Aske's Crayford Academy","119138","2009-09-01","London","Bexley"]
[null,null,null,null,null,null,null,null,null,null,null,null,null,null,"Haberdashers' Aske's Hatcham Academy","118392","2005-09-01","London","Lewisham"]
[null,null,null,null,null,null,null,null,null,null,null,null,null,null,"Haberdashers' Aske's Hatcham Temple Grove Free School","123307","2013-09-01","London","Lewisham"]
[null,null,null,null,null,null,null,null,null,null,null,null,null,null,"Haberdashers' Aske's Knights Academy","118617","2005-09-01","London","Lewisham"]
[null,null,null,null,null,null,null,null,null,null,null,null,null,null,"Hackney New School","123305","2013-09-01","London","Hackney"]
[null,null,null,null,null,null,null,null,null,null,null,null,null,null,"Hackney UTC","122152","2012-09-01","London","Hackney"]
[null,null,null,null,null,null,null,null,null,null,null,null,null,null,"Hadden Park High School",128027,"2014-04-01","East Midlands","Nottingham"]
[null,null,null,null,null,null,null,null,null,null,null,null,null,null,"Hadleigh High School","119918","2011-07-01","East of England","Suffolk"]
[null,null,null,null,null,null,null,null,null,null,null,null,null,null,"Hadleigh Infant and Nursery School","120027","2011-08-01","East of England","Essex"]
[null,null,null,null,null,null,null,null,null,null,null,null,null,null,"Hadleigh Junior School","120327","2011-09-01","East of England","Essex"]
[null,null,null,null,null,null,null,null,null,null,null,null,null,null,"Hadlow Rural Community School","123306","2013-09-01","South East","Kent"]
[null,null,null,null,null,null,null,null,null,null,null,null,null,null,"Hadrian Academy","120668","2012-01-01","East of England","Central Bedfordshire"]
[null,null,null,null,null,null,null,null,null,null,null,null,null,null,"Hagley Park Academy","120103","2011-09-01","West Midlands","Staffordshire"]
[null,null,null,null,null,null,null,null,null,null,null,null,null,null,"Hailsham Community College","122327","2012-08-01T12:44:51","South East","East Sussex"]
[null,null,null,null,null,null,null,null,null,null,null,null,null,null,"Halewood Centre for Learning","121011","2013-05-01","North West","Knowsley  "]
[null,null,null,null,null,null,null,null,null,null,null,null,null,null,"Halifax High at Wellesley Park","123165","2013-11-01","Yorkshire & The Humber","Calderdale"]
[null,null,null,null,null,null,null,null,null,null,null,null,null,null,"Halifax Holy Trinity CofE (VA) Primary School","122132","2012-07-01","Yorkshire & The Humber","Calderdale"]
[null,null,null,null,null,null,null,null,null,null,null,null,null,null,"Hall Cross School","120696","2012-02-01","Yorkshire & The Humber","Doncaster"]
[null,null,null,null,null,null,null,null,null,null,null,null,null,null,"Hall Green School","120887","2012-02-01","West Midlands","Birmingham"]
[null,null,null,null,null,null,null,null,null,null,null,null,null,null,"Hall Mead School","120197","2011-08-01","London","Havering"]
[null,null,null,null,null,null,null,null,null,null,null,null,null,null,"Hall Road Academy","121838","2012-09-01","Yorkshire & The Humber","Hull"]
[null,null,null,null,null,null,null,null,null,null,null,null,null,null,"Haltwhistle Community Campus Lower School","124121","2013-09-01","North East","Northumberland"]
[null,null,null,null,null,null,null,null,null,null,null,null,null,null,"Haltwhistle Community Campus Upper School","124122","2013-09-01","North East","Northumberland"]
[null,null,null,null,null,null,null,null,null,null,null,null,null,null,"Hambleton Primary School","119413","2011-01-01","North West","Lancashire"]
[null,null,null,null,null,null,null,null,null,null,null,null,null,null,"Hamford Primary Academy","121076","2012-04-01","East of England","Essex"]
[null,null,null,null,null,null,null,null,null,null,null,null,null,null,"Hamilton Primary School","121202","2012-04-01","South East","Buckinghamshire"]
[null,null,null,null,null,null,null,null,null,null,null,null,null,null,"Hammersmith Academy","119223","2011-09-01","London","Hammersmith and Fulham"]
[null,null,null,null,null,null,null,null,null,null,null,null,null,null,"Hammond Primary School, The","120238","2011-08-01","East of England","Hertfordshire"]
[null,null,null,null,null,null,null,null,null,null,null,null,null,null,"Hamp Academy","122934","2013-09-01","South West","Somerset"]
[null,null,null,null,null,null,null,null,null,null,null,null,null,null,"Hampton Academy","119170","2010-09-01","London","Richmond Upon Thames"]
[null,null,null,null,null,null,null,null,null,null,null,null,null,null,"Hampton Primary School","121204","2012-04-01","South East","Kent"]
[null,null,null,null,null,null,null,null,null,null,null,null,null,null,"Hamstead Hall Community Learning Centre","124640","2013-06-01","West Midlands","Birmingham"]
[null,null,null,null,null,null,null,null,null,null,null,null,null,null,"Hamstreet Primary School","127318","2013-11-01","South East","Kent"]
[null,null,null,null,null,null,null,null,null,null,null,null,null,null,"Handsworth Wood Girls' School","122707","2012-11-01T14:57:15","West Midlands","Birmingham"]
[null,null,null,null,null,null,null,null,null,null,null,null,null,null,"Hanley Castle High School","120101","2011-08-01","West Midlands","Worcestershire"]
[null,null,null,null,null,null,null,null,null,null,null,null,null,null,"Hans Price Academy","119753","2011-05-01","South West","North Somerset"]
[null,null,null,null,null,null,null,null,null,null,null,null,null,null,"Hanwell Fields Community School","120808","2012-03-01","South East","Oxfordshire"]
[null,null,null,null,null,null,null,null,null,null,null,null,null,null,"Harborne Academy","119308","2010-09-01","West Midlands","Birmingham"]
[null,null,null,null,null,null,null,null,null,null,null,null,null,null,"Harden Primary School","124738","2013-09-01","Yorkshire & The Humber","Bradford"]
[null,null,null,null,null,null,null,null,null,null,null,null,null,null,"Hardenhuish School","111710","2010-09-01","South West","Wiltshire"]
[null,null,null,null,null,null,null,null,null,null,null,null,null,null,"Hardingstone Primary School","127606","2014-01-01","East Midlands","Northamptonshire"]
[null,null,null,null,null,null,null,null,null,null,null,null,null,null,"Hardwick Green Primary School","123944","2013-06-01","North East","Stockton-on-Tees"]
[null,null,null,null,null,null,null,null,null,null,null,null,null,null,"Hareclive Academy Trust","121121","2012-08-01","South West","Bristol City"]
[null,null,null,null,null,null,null,null,null,null,null,null,null,null,"Harefield Academy","118404","2005-09-01","London","Hillingdon"]
[null,null,null,null,null,null,null,null,null,null,null,null,null,null,"Harefield Primary School","124069","2013-06-01","South East","Southampton"]
[null,null,null,null,null,null,null,null,null,null,null,null,null,null,"Harewood College","121968","2012-06-01","South West","Bournemouth"]
[null,null,null,null,null,null,null,null,null,null,null,null,null,null,"Haringey Pupil Referral Unit",130144,"2014-04-01","London","Haringey"]
[null,null,null,null,null,null,null,null,null,null,null,null,null,null,"Haringey Sixth Form Centre","123244","2013-03-01T15:56:24","London","Haringey"]
[null,null,null,null,null,null,null,null,null,null,null,null,null,null,"Harlands Primary School",129562,"2014-04-01","South East","West Sussex"]
[null,null,null,null,null,null,null,null,null,null,null,null,null,null,"Harlington Lower School","122126","2013-04-01","East of England","Bedford "]
[null,null,null,null,null,null,null,null,null,null,null,null,null,null,"Harlington Upper School","119954","2012-03-01T10:47:07","East of England","Central Bedfordshire"]
[null,null,null,null,null,null,null,null,null,null,null,null,null,null,"Harmonize Academy","122539","2013-04-01","North West","Liverpool "]
[null,null,null,null,null,null,null,null,null,null,null,null,null,null,"Harpenden Free School","121986","2012-09-01","East of England","Hertfordshire"]
[null,null,null,null,null,null,null,null,null,null,null,null,null,null,"Harpfield Primary School","122488","2013-05-01","West Midlands","Stoke on Trent "]
[null,null,null,null,null,null,null,null,null,null,null,null,null,null,"Harriers Ground Community Primary School","123223","2013-02-01","South East","Oxfordshire"]
[null,null,null,null,null,null,null,null,null,null,null,null,null,null,"Harris Academy - Peckham","118402","2003-09-01","London","Southwark"]
[null,null,null,null,null,null,null,null,null,null,null,null,null,null,"Harris Academy Beckenham","120121","2011-09-01","London","Bromley"]
[null,null,null,null,null,null,null,null,null,null,null,null,null,null,"Harris Academy Bermondsey","118633","2006-09-01","London","Southwark"]
[null,null,null,null,null,null,null,null,null,null,null,null,null,null,"Harris Academy Bromley","120343","2011-09-01","London","Bromley"]
[null,null,null,null,null,null,null,null,null,null,null,null,null,null,"Harris Academy Chafford Hundred","120594","2011-10-01","East of England","Thurrock"]
[null,null,null,null,null,null,null,null,null,null,null,null,null,null,"Harris Academy Falconwood","118665","2008-09-03","London","Bexley"]
[null,null,null,null,null,null,null,null,null,null,null,null,null,null,"Harris Academy Greenwich","120964","2012-09-01","London","Greenwich"]
[null,null,null,null,null,null,null,null,null,null,null,null,null,null,"Harris Academy Merton","118634","2006-09-01","London","Merton"]
[null,null,null,null,null,null,null,null,null,null,null,null,null,null,"Harris Academy Morden","122637","2013-03-01","London","Merton"]
[null,null,null,null,null,null,null,null,null,null,null,null,null,null,"Harris Academy Purley","118967","2009-09-01","London","Croydon"]
[null,null,null,null,null,null,null,null,null,null,null,null,null,null,"Harris Academy South Norwood","118618","2007-09-01","London","Croydon"]
[null,null,null,null,null,null,null,null,null,null,null,null,null,null,"Harris Academy Upper Norwood","124212","2013-09-01","London","Croydon"]
[null,null,null,null,null,null,null,null,null,null,null,null,null,null,"Harris Aspire Academy","123409","2013-09-01","London","Croydon"]
[null,null,null,null,null,null,null,null,null,null,null,null,null,null,"Harris Boys' Academy East Dulwich","118889","2009-09-01","London","Southwark"]
[null,null,null,null,null,null,null,null,null,null,null,null,null,null,"Harris City Academy Crystal Palace","118619","2007-09-01","London","Croydon"]
[null,null,null,null,null,null,null,null,null,null,null,null,null,null,"Harris Girls' Academy East Dulwich","118635","2006-09-01","London","Southwark"]
[null,null,null,null,null,null,null,null,null,null,null,null,null,null,"Harris Junior Academy Carshalton","124236","2013-09-01","London","Sutton"]
[null,null,null,null,null,null,null,null,null,null,null,null,null,null,"Harris Primary Academy Coleraine Park","121949","2012-09-01","London","Haringey"]
[null,null,null,null,null,null,null,null,null,null,null,null,null,null,"Harris Primary Academy Crystal Palace","124223","2013-09-01","London","Bromley"]
[null,null,null,null,null,null,null,null,null,null,null,null,null,null,"Harris Primary Academy Kenley","123899","2013-09-01","London","Croydon"]
[null,null,null,null,null,null,null,null,null,null,null,null,null,null,"Harris Primary Academy Kent House","123018","2013-09-01","London","Bromley"]
[null,null,null,null,null,null,null,null,null,null,null,null,null,null,"Harris Primary Academy Philip Lane","122303","2012-09-01","London","Haringey"]
[null,null,null,null,null,null,null,null,null,null,null,null,null,null,"Harris Primary Free School Peckham","122026","2012-09-01","London","Southwark"]
[null,null,null,null,null,null,null,null,null,null,null,null,null,null,"Harris School - Rugby","124641","2014-01-01","West Midlands","Warwickshire"]
[null,null,null,null,null,null,null,null,null,null,null,null,null,null,"Harrogate Grammar School","119497","2011-03-01","Yorkshire & The Humber","North Yorkshire"]
[null,null,null,null,null,null,null,null,null,null,null,null,null,null,"Harrogate High School","120719","2012-06-01","Yorkshire & The Humber","North Yorkshire"]
[null,null,null,null,null,null,null,null,null,null,null,null,null,null,"Harrogate Pupil Referral Service","122951","2013-09-01","Yorkshire & The Humber","North Yorkshire"]
[null,null,null,null,null,null,null,null,null,null,null,null,null,null,"Harrold Priory Middle School","119472","2011-02-01","East of England","Bedford"]
[null,null,null,null,null,null,null,null,null,null,null,null,null,null,"Harrow High School and Sports College","120177","2011-08-01","London","Harrow"]
[null,null,null,null,null,null,null,null,null,null,null,null,null,null,"Harrowbarrow School","120604","2011-10-01","South West","Cornwall"]
[null,null,null,null,null,null,null,null,null,null,null,null,null,null,"Harrowby Church of England Infant School, The","122360","2012-07-01","East Midlands","Lincolnshire"]
[null,null,null,null,null,null,null,null,null,null,null,null,null,null,"Hartismere School","119243","2010-09-01","East of England","Suffolk"]
[null,null,null,null,null,null,null,null,null,null,null,null,null,null,"Hartley Brook Primary School","121165","2012-05-01","Yorkshire & The Humber","Sheffield"]
[null,null,null,null,null,null,null,null,null,null,null,null,null,null,"Hartley Primary School","122281","2013-05-01","South East","Kent "]
[null,null,null,null,null,null,null,null,null,null,null,null,null,null,"Hartsbrook E-ACT Free School","121985","2012-09-01","London","Haringey"]
[null,null,null,null,null,null,null,null,null,null,null,null,null,null,"Hartsdown Technology College","119564","2011-04-01","South East","Kent"]
[null,null,null,null,null,null,null,null,null,null,null,null,null,null,"Hartshill School","120882","2012-09-01","West Midlands","Warwickshire"]
[null,null,null,null,null,null,null,null,null,null,null,null,null,null,"Hartsholme Primary School","120730","2012-01-01","East Midlands","Lincolnshire"]
[null,null,null,null,null,null,null,null,null,null,null,null,null,null,"Hartwell Primary School","119588","2011-04-01","East Midlands","Northamptonshire"]
[null,null,null,null,null,null,null,null,null,null,null,null,null,null,"Harvey Grammar School, The","122101","2012-08-01T12:43:55","South East","Kent"]
[null,null,null,null,null,null,null,null,null,null,null,null,null,null,"Harwich School, The","121047","2012-03-01T12:08:22","East of England","Essex"]
[null,null,null,null,null,null,null,null,null,null,null,null,null,null,"Harwood Meadows Primary School","121072","2012-04-01","North West","Bolton"]
[null,null,null,null,null,null,null,null,null,null,null,null,null,null,"Hasmonean High School","120480","2011-10-01","London","Barnet"]
[null,null,null,null,null,null,null,null,null,null,null,null,null,null,"Hassenbrook School Specialist Technology College","120449","2011-09-01","East of England","Thurrock"]
[null,null,null,null,null,null,null,null,null,null,null,null,null,null,"Hasting Hill Academy","122310","2012-12-01","North East","Sunderland"]
[null,null,null,null,null,null,null,null,null,null,null,null,null,null,"Hastings Academy, The","119430","2011-09-01","South East","East Sussex"]
[null,null,null,null,null,null,null,null,null,null,null,null,null,null,"Hastings High School - Hinckley","124626","2013-09-01","East Midlands","Leicestershire"]
[null,null,null,null,null,null,null,null,null,null,null,null,null,null,"Hatch End High School","120204","2011-08-01","London","Harrow"]
[null,null,null,null,null,null,null,null,null,null,null,null,null,null,"Hatfield Community Free School","121988","2012-09-01","East of England","Hertfordshire"]
[null,null,null,null,null,null,null,null,null,null,null,null,null,null,"Hatfield Primary School - Sheffield","121147","2012-05-01","Yorkshire & The Humber","Sheffield"]
[null,null,null,null,null,null,null,null,null,null,null,null,null,null,"Hatfield Woodhouse Primary Academy","120894","2012-04-01","Yorkshire & The Humber","Doncaster"]
[null,null,null,null,null,null,null,null,null,null,null,null,null,null,"Hathershaw College of Technology & Sport, The","120039","2011-08-01","North West","Oldham"]
[null,null,null,null,null,null,null,null,null,null,null,null,null,null,"Hatton Park Primary School","122568","2012-12-01","East of England","Cambridgeshire"]
[null,null,null,null,null,null,null,null,null,null,null,null,null,null,"Haughton Community School","120585","2012-04-01","North East","Darlington"]
[null,null,null,null,null,null,null,null,null,null,null,null,null,null,"Havant Academy","119228","2010-09-01","South East","Hampshire"]
[null,null,null,null,null,null,null,null,null,null,null,null,null,null,"Haveley Hey Community School","123284","2013-04-01","North West","Manchester "]
[null,null,null,null,null,null,null,null,null,null,null,null,null,null,"Havelock Academy","118620","2007-09-01","Yorkshire & The Humber","North East Lincolnshire"]
[null,null,null,null,null,null,null,null,null,null,null,null,null,null,"Havelock Infant School","124528","2013-09-01","East Midlands","Northamptonshire"]
[null,null,null,null,null,null,null,null,null,null,null,null,null,null,"Havelock Junior School","126427","2013-09-01","East Midlands","Northamptonshire"]
[null,null,null,null,null,null,null,null,null,null,null,null,null,null,"Haven High Academy","121172","2012-09-01","East Midlands","Lincolnshire"]
[null,null,null,null,null,null,null,null,null,null,null,null,null,null,"Havercroft Academy","123191","2013-09-01","Yorkshire & The Humber","Wakefield"]
[null,null,null,null,null,null,null,null,null,null,null,null,null,null,"Hawes Side Primary School","122117","2012-08-01","North West","Blackpool"]
[null,null,null,null,null,null,null,null,null,null,null,null,null,null,"Hawkesley Coe Primary School","122875","2013-06-01","West Midlands","Birmingham"]
[null,null,null,null,null,null,null,null,null,null,null,null,null,null,"Hawkley Hall High School","121935","2012-05-01","North West","Wigan"]
[null,null,null,null,null,null,null,null,null,null,null,null,null,null,"Hawthorne’s Free School, The","121969","2012-09-01","North West","Sefton"]
[null,null,null,null,null,null,null,null,null,null,null,null,null,null,"Hawthorns Community School","124301","2013-09-01","North West","Tameside"]
[null,null,null,null,null,null,null,null,null,null,null,null,null,null,"Haxby Road Primary Academy","124733","2014-02-01","Yorkshire & The Humber","City of York"]
[null,null,null,null,null,null,null,null,null,null,null,null,null,null,"Haybridge High School and Sixth Form","119898","2011-07-01","West Midlands","Worcestershire"]
[null,null,null,null,null,null,null,null,null,null,null,null,null,null,"Haybrook College","124756","2013-10-01","South East","Slough"]
[null,null,null,null,null,null,null,null,null,null,null,null,null,null,"Haybrook College PRU","124388","2013-10-01","South East","Slough"]
[null,null,null,null,null,null,null,null,null,null,null,null,null,null,"Haydon School","119610","2011-04-01","London","Hillingdon"]
[null,null,null,null,null,null,null,null,null,null,null,null,null,null,"Hayes Primary School","119920","2011-07-01","London","Bromley"]
[null,null,null,null,null,null,null,null,null,null,null,null,null,null,"Hayes School - Bromley","119617","2011-04-01","London","Bromley"]
[null,null,null,null,null,null,null,null,null,null,null,null,null,null,"Hayes School - Paignton","119677","2011-04-01","South West","Torbay"]
[null,null,null,null,null,null,null,null,null,null,null,null,null,null,"Hayesbrook School, The","119302","2010-12-01","South East","Kent"]
[null,null,null,null,null,null,null,null,null,null,null,null,null,null,"Hayesdown First School","124648","2013-09-01","South West","Somerset"]
[null,null,null,null,null,null,null,null,null,null,null,null,null,null,"Hayesfield Girls School","119966","2011-08-01","South West","Bath & North East Somerset"]
[null,null,null,null,null,null,null,null,null,null,null,null,null,null,"Hayfield School, The","119623","2011-04-01","Yorkshire & The Humber","Doncaster"]
[null,null,null,null,null,null,null,null,null,null,null,null,null,null,"Haygrove Secondary School","119917","2011-07-01","South West","Somerset"]
[null,null,null,null,null,null,null,null,null,null,null,null,null,null,"Haywood Engineering College","120546","2012-08-01","West Midlands","Stoke on Trent"]
[null,null,null,null,null,null,null,null,null,null,null,null,null,null,"Hazel Grove High School","120837","2012-03-01","North West","Stockport"]
[null,null,null,null,null,null,null,null,null,null,null,null,null,null,"Hazelbeck Special School","122344","2013-08-01","Yorkshire & The Humber","Bradford"]
[null,null,null,null,null,null,null,null,null,null,null,null,null,null,"Hazeley Academy, The","119844","2011-07-01","South East","Milton Keynes"]
[null,null,null,null,null,null,null,null,null,null,null,null,null,null,"Hazelwick School","120263","2011-08-01","South East","West Sussex"]
[null,null,null,null,null,null,null,null,null,null,null,null,null,null,"Hazelwood Academy","122818","2013-06-01","South West","Swindon"]
[null,null,null,null,null,null,null,null,null,null,null,null,null,null,"Headlands Primary School","121459","2012-11-01","East Midlands","Northamptonshire"]
[null,null,null,null,null,null,null,null,null,null,null,null,null,null,"Healing School","119265","2010-09-01","Yorkshire & The Humber","North East Lincolnshire"]
[null,null,null,null,null,null,null,null,null,null,null,null,null,null,"Heanor Gate Science College","120578","2011-11-01T14:18:05","East Midlands","Derbyshire"]
[null,null,null,null,null,null,null,null,null,null,null,null,null,null,"Heart of England School - Balsall Common","119909","2011-07-01","West Midlands","Solihull"]
[null,null,null,null,null,null,null,null,null,null,null,null,null,null,"Heartlands Academy - Birmingham","119140","2009-09-01","West Midlands","Birmingham"]
[null,null,null,null,null,null,null,null,null,null,null,null,null,null,"Heartlands High School","124247","2013-05-01","London","Haringey  "]
[null,null,null,null,null,null,null,null,null,null,null,null,null,null,"Heartsease Primary School","122097","2013-04-01","East of England","Norfolk "]
[null,null,null,null,null,null,null,null,null,null,null,null,null,null,"Heath Hayes Academy","129555","2014-01-01","West Midlands","Staffordshire"]
[null,null,null,null,null,null,null,null,null,null,null,null,null,null,"Heath Park Business and Enterprise College","120754","2011-12-01T12:15:14","West Midlands","Wolverhampton"]
[null,null,null,null,null,null,null,null,null,null,null,null,null,null,"Heath School, The","119790","2011-06-01","North West","Halton"]
[null,null,null,null,null,null,null,null,null,null,null,null,null,null,"Heather Garth Primary School","123110","2013-06-01","Yorkshire & The Humber","Barnsley"]
[null,null,null,null,null,null,null,null,null,null,null,null,null,null,"Heathfield Academy, The - Leicester","122081","2012-07-01","East Midlands","Leicestershire"]
[null,null,null,null,null,null,null,null,null,null,null,null,null,null,"Heathfield Primary School - Darlington","121941","2012-06-01","North East","Darlington"]
[null,null,null,null,null,null,null,null,null,null,null,null,null,null,"Heckmondwike Grammar School","119267","2010-09-01","Yorkshire & The Humber","Kirklees"]
[null,null,null,null,null,null,null,null,null,null,null,null,null,null,"Hedingham School and Sixth Form","123066","2013-01-01","East of England","Essex"]
[null,null,null,null,null,null,null,null,null,null,null,null,null,null,"Heighington Church of England Primary School","120022","2011-08-01","North East","Darlington"]
[null,null,null,null,null,null,null,null,null,null,null,null,null,null,"Heighington Millfield Primary Academy","120201","2011-08-01","East Midlands","Lincolnshire"]
[null,null,null,null,null,null,null,null,null,null,null,null,null,null,"Heights Free School, The","123413","2013-09-01","North West","Blackburn with Darwen"]
[null,null,null,null,null,null,null,null,null,null,null,null,null,null,"Helena Romanes School and Sixth Form Centre","121057","2012-04-01","East of England","Essex"]
[null,null,null,null,null,null,null,null,null,null,null,null,null,null,"Helenswood Academy","124685","2013-09-01","South East","East Sussex"]
[null,null,null,null,null,null,null,null,null,null,null,null,null,null,"Hele's Trust","119576","2011-04-01","South West","Plymouth"]
[null,null,null,null,null,null,null,null,null,null,null,null,null,null,"Hellesdon High School","120916","2012-04-01","East of England","Norfolk"]
[null,null,null,null,null,null,null,null,null,null,null,null,null,null,"Hemlington Hall Academy","125017","2014-01-01","North East","Middlesbrough"]
[null,null,null,null,null,null,null,null,null,null,null,null,null,null,"Hemsworth Arts and Community College","123199","2013-08-01T12:37:46","Yorkshire & The Humber","Wakefield"]
[null,null,null,null,null,null,null,null,null,null,null,null,null,null,"Hemsworth St Helens Church of England Voluntary Aided Junior and Infant School","124308","2013-07-01","Yorkshire & The Humber","Wakefield"]
[null,null,null,null,null,null,null,null,null,null,null,null,null,null,"Hemyock Primary School","120543","2011-11-01","South West","Devon"]
[null,null,null,null,null,null,null,null,null,null,null,null,null,null,"Henbury Court Primary School","122813","2013-04-01","South West","Bristol "]
[null,null,null,null,null,null,null,null,null,null,null,null,null,null,"Henbury School","120840","2012-06-01","South West","Bristol City"]
[null,null,null,null,null,null,null,null,null,null,null,null,null,null,"Hendon School","120517","2011-11-01","London","Barnet"]
[null,null,null,null,null,null,null,null,null,null,null,null,null,null,"Hendreds Church of England School, The","125250","2013-12-01","South East","Oxfordshire"]
[null,null,null,null,null,null,null,null,null,null,null,null,null,null,"Henleaze Junior School","120492","2011-10-01","South West","Bristol City"]
[null,null,null,null,null,null,null,null,null,null,null,null,null,null,"Henley in Arden High School","119991","2011-08-01","West Midlands","Warwickshire"]
[null,null,null,null,null,null,null,null,null,null,null,null,null,null,"Henley-In-Arden Voluntary Aided CofE Primary School","123059","2013-09-01","West Midlands","Warwickshire"]
[null,null,null,null,null,null,null,null,null,null,null,null,null,null,"Henlow Church of England Academy","120570","2012-04-01","East of England","Central Bedfordshire"]
[null,null,null,null,null,null,null,null,null,null,null,null,null,null,"Henrietta Barnett School, The","120690","2012-04-01","London","Barnet"]
[null,null,null,null,null,null,null,null,null,null,null,null,null,null,"Henry Box School, The","122060","2012-06-01","South East","Oxfordshire"]
[null,null,null,null,null,null,null,null,null,null,null,null,null,null,"Henry Hinde Infant School","120905","2012-04-01","West Midlands","Warwickshire"]
[null,null,null,null,null,null,null,null,null,null,null,null,null,null,"Henry Hinde Junior","127508","2014-01-01","West Midlands","Warwickshire"]
[null,null,null,null,null,null,null,null,null,null,null,null,null,null,"Hereford Academy, The","118672","2008-09-08","West Midlands","Herefordshire"]
[null,null,null,null,null,null,null,null,null,null,null,null,null,null,"Hermitage Academy, The - Chester le Street","119665","2011-04-01","North East","Durham"]
[null,null,null,null,null,null,null,null,null,null,null,null,null,null,"Hermitage Primary School - Holmes Chapel",127573,"2014-04-01","North West","Cheshire East"]
[null,null,null,null,null,null,null,null,null,null,null,null,null,null,"Hermitage School, The - Woking","127810","2014-02-01","South East","Surrey"]
[null,null,null,null,null,null,null,null,null,null,null,null,null,null,"Herne Bay High School","119506","2011-03-01","South East","Kent"]
[null,null,null,null,null,null,null,null,null,null,null,null,null,null,"Heron Hall Academy","123308","2013-09-01","London","Enfield"]
[null,null,null,null,null,null,null,null,null,null,null,null,null,null,"Heron Park Primary Academy","122019","2012-09-01","South East","East Sussex"]
[null,null,null,null,null,null,null,null,null,null,null,null,null,null,"Herons' Moor Academy","122651","2012-09-01","South West","North Somerset"]
[null,null,null,null,null,null,null,null,null,null,null,null,null,null,"Heronsgate School","123231","2013-04-01","South East","Milton Keynes "]
[null,null,null,null,null,null,null,null,null,null,null,null,null,null,"Herringham Primary School","121044","2012-11-01","East of England","Thurrock"]
[null,null,null,null,null,null,null,null,null,null,null,null,null,null,"Herschel Grammar School","120995","2012-02-01","South East","Slough"]
[null,null,null,null,null,null,null,null,null,null,null,null,null,null,"Hersden Community Primary School","122255","2012-09-01","South East","Kent"]
[null,null,null,null,null,null,null,null,null,null,null,null,null,null,"Hertfordshire & Essex High School and Science College, The",125220,"2014-04-01","East of England","Hertfordshire"]
[null,null,null,null,null,null,null,null,null,null,null,null,null,null,"Hertswood School","120802","2012-09-01","East of England","Hertfordshire"]
[null,null,null,null,null,null,null,null,null,null,null,null,null,null,"Hessle High School and Sixth Form College","120306","2011-08-17","Yorkshire & The Humber","East Riding of Yorkshire"]
[null,null,null,null,null,null,null,null,null,null,null,null,null,null,"Hessle Penshurst Primary School","120307","2011-08-17","Yorkshire & The Humber","East Riding of Yorkshire"]
[null,null,null,null,null,null,null,null,null,null,null,null,null,null,"Heston Community School","121146","2012-11-01T14:58:09","London","Hounslow"]
[null,null,null,null,null,null,null,null,null,null,null,null,null,null,"Hethersett High School and Science College","126311","2013-11-01","East of England","Norfolk"]
[null,null,null,null,null,null,null,null,null,null,null,null,null,null,"Hewens College","120078","2011-08-01","London","Hillingdon"]
[null,null,null,null,null,null,null,null,null,null,null,null,null,null,"Hewens Primary School","123309","2013-09-01","London","Hillingdon"]
[null,null,null,null,null,null,null,null,null,null,null,null,null,null,"Heybridge Primary School","123102","2012-12-01","East of England","Essex"]
[null,null,null,null,null,null,null,null,null,null,null,null,null,null,"Heyford Park Free School","123310","2013-09-01","South East","Oxfordshire"]
[null,null,null,null,null,null,null,null,null,null,null,null,null,null,"Hibaldstow Academy","121052","2012-04-01","Yorkshire & The Humber","North Lincolnshire"]
[null,null,null,null,null,null,null,null,null,null,null,null,null,null,"High Arcal School, The","120823","2011-12-01","West Midlands","Dudley"]
[null,null,null,null,null,null,null,null,null,null,null,null,null,null,"High Halstow Primary School","121054","2012-04-01","South East","Medway"]
[null,null,null,null,null,null,null,null,null,null,null,null,null,null,"High School for Girls","119682","2011-04-01","South West","Gloucestershire"]
[null,null,null,null,null,null,null,null,null,null,null,null,null,null,"High Weald Academy","120934","2012-09-01","South East","Kent"]
[null,null,null,null,null,null,null,null,null,null,null,null,null,null,"Higham Lane School, A Business & Enterprise College","120853","2012-01-01","West Midlands","Warwickshire"]
[null,null,null,null,null,null,null,null,null,null,null,null,null,null,"Highams Park School","120484","2011-10-01","London","Waltham Forest"]
[null,null,null,null,null,null,null,null,null,null,null,null,null,null,"Highbank Primary and Nursery School","125182","2013-10-01","East Midlands","Nottingham"]
[null,null,null,null,null,null,null,null,null,null,null,null,null,null,"Highcliffe Primary School and Community Centre",130367,"2014-04-01","East Midlands","Leicestershire"]
[null,null,null,null,null,null,null,null,null,null,null,null,null,null,"Highcliffe School","119769","2011-06-01","South West","Dorset"]
[null,null,null,null,null,null,null,null,null,null,null,null,null,null,"Highcrest Community School","119858","2011-07-01","South East","Buckinghamshire"]
[null,null,null,null,null,null,null,null,null,null,null,null,null,null,"Highdown School and Sixth Form Centre","119364","2010-11-01","South East","Reading"]
[null,null,null,null,null,null,null,null,null,null,null,null,null,null,"Highfield Infants' School","125203","2013-09-01","London","Bromley"]
[null,null,null,null,null,null,null,null,null,null,null,null,null,null,"Highfield Junior School","125204","2013-10-01","London","Bromley"]
[null,null,null,null,null,null,null,null,null,null,null,null,null,null,"Highfields Primary Academy - Doncaster","120952","2012-04-01","Yorkshire & The Humber","Doncaster"]
[null,null,null,null,null,null,null,null,null,null,null,null,null,null,"Highlands Primary School - Hull","122898","2013-04-01","Yorkshire & The Humber","Hull "]
[null,null,null,null,null,null,null,null,null,null,null,null,null,null,"Highlees Community Primary School","124667","2013-09-01","East of England","Peterborough"]
[null,null,null,null,null,null,null,null,null,null,null,null,null,null,"Highnam Church of England Primary School","120102","2011-08-01","South West","Gloucestershire"]
[null,null,null,null,null,null,null,null,null,null,null,null,null,null,"Highsted Grammar School","119287","2010-10-01","South East","Kent"]
[null,null,null,null,null,null,null,null,null,null,null,null,null,null,"Hightown Primary School","124679","2013-09-01","South East","Southampton"]
[null,null,null,null,null,null,null,null,null,null,null,null,null,null,"Highwoods Community Primary School","123224","2013-04-01","East of England","Essex "]
[null,null,null,null,null,null,null,null,null,null,null,null,null,null,"Highworth Grammar School","119416","2011-01-01","South East","Kent"]
[null,null,null,null,null,null,null,null,null,null,null,null,null,null,"Highworth Warneford School","119860","2011-07-01","South West","Swindon"]
[null,null,null,null,null,null,null,null,null,null,null,null,null,null,"Hilbre High School","120885","2012-07-01","North West","Wirral"]
[null,null,null,null,null,null,null,null,null,null,null,null,null,null,"Hill Farm Academy","124127","2013-09-01","West Midlands","Coventry"]
[null,null,null,null,null,null,null,null,null,null,null,null,null,null,"Hill Primary School, The","121211","2012-09-01","Yorkshire & The Humber","Barnsley"]
[null,null,null,null,null,null,null,null,null,null,null,null,null,null,"Hill West Primary School","122599","2013-04-01","West Midlands","Birmingham "]
[null,null,null,null,null,null,null,null,null,null,null,null,null,null,"Hillcrest Early Years Academy","122008","2012-07-01","East Midlands","Lincolnshire"]
[null,null,null,null,null,null,null,null,null,null,null,null,null,null,"Hillcrest Primary School","124293","2014-01-01","Yorkshire & The Humber","Leeds"]
[null,null,null,null,null,null,null,null,null,null,null,null,null,null,"Hillcrest School A Specialist Maths and Computing College and Sixth Form Centre","120482","2011-09-01","West Midlands","Birmingham"]
[null,null,null,null,null,null,null,null,null,null,null,null,null,null,"Hillcroft Primary School",130347,"2014-05-01","South East","Surrey"]
[null,null,null,null,null,null,null,null,null,null,null,null,null,null,"Hills Academy, The","123278","2013-04-01","East of England","Bedford "]
[null,null,null,null,null,null,null,null,null,null,null,null,null,null,"Hillsborough Primary School","125023","2013-11-01","Yorkshire & The Humber","Sheffield"]
[null,null,null,null,null,null,null,null,null,null,null,null,null,null,"Hillside Primary and Nursery School","124737","2013-11-01","East Midlands","Nottinghamshire"]
[null,null,null,null,null,null,null,null,null,null,null,null,null,null,"Hillside Primary School","121862","2012-09-01","London","Bromley"]
[null,null,null,null,null,null,null,null,null,null,null,null,null,null,"Hilltop Junior School","120245","2011-08-01","East of England","Essex"]
[null,null,null,null,null,null,null,null,null,null,null,null,null,null,"Hilltop Primary School","122063","2012-09-01","South East","West Sussex"]
[null,null,null,null,null,null,null,null,null,null,null,null,null,null,"Hillview School for Girls","120104","2011-08-01","South East","Kent"]
[null,null,null,null,null,null,null,null,null,null,null,null,null,null,"Hillyfield Academy","119436","2011-01-11","London","Waltham Forest"]
[null,null,null,null,null,null,null,null,null,null,null,null,null,null,"Hilton Academy","122905","2012-12-01","North East","Newcastle Upon Tyne"]
[null,null,null,null,null,null,null,null,null,null,null,null,null,null,"Hinchingbrooke School","120503","2011-09-01","East of England","Cambridgeshire"]
[null,null,null,null,null,null,null,null,null,null,null,null,null,null,"Hinchley Wood School","120416","2012-02-01T14:24:19","South East","Surrey"]
[null,null,null,null,null,null,null,null,null,null,null,null,null,null,"Hinde House 3-16 School","122797","2013-07-01","Yorkshire & The Humber","Sheffield"]
[null,null,null,null,null,null,null,null,null,null,null,null,null,null,"Hinderwell Community Primary School","124746","2013-11-01","Yorkshire & The Humber","North Yorkshire"]
[null,null,null,null,null,null,null,null,null,null,null,null,null,null,"Hipperholme and Lightcliffe High School and Sports College","120036","2011-08-01","Yorkshire & The Humber","Calderdale"]
[null,null,null,null,null,null,null,null,null,null,null,null,null,null,"Histon and Impington Infant School","122679","2012-12-01","East of England","Cambridgeshire"]
[null,null,null,null,null,null,null,null,null,null,null,null,null,null,"Histon and Impington Junior School","122718","2012-12-01","East of England","Cambridgeshire"]
[null,null,null,null,null,null,null,null,null,null,null,null,null,null,"Hitchin Boys' School","122668","2013-01-01","East of England","Hertfordshire"]
[null,null,null,null,null,null,null,null,null,null,null,null,null,null,"Hitchin Girls' School","120288","2011-08-17","East of England","Hertfordshire"]
[null,null,null,null,null,null,null,null,null,null,null,null,null,null,"Hobart High School","122709","2013-02-01","East of England","Norfolk"]
[null,null,null,null,null,null,null,null,null,null,null,null,null,null,"Hockerill Anglo-European College","119482","2011-02-01","East of England","Hertfordshire"]
[null,null,null,null,null,null,null,null,null,null,null,null,null,null,"Hockley Heath Academy","121857","2012-08-01","West Midlands","Solihull"]
[null,null,null,null,null,null,null,null,null,null,null,null,null,null,"Hodgson Academy","119726","2011-05-01","North West","Lancashire"]
[null,null,null,null,null,null,null,null,null,null,null,null,null,null,"Hogarth Primary and Nursery School","126107","2013-11-01","East Midlands","Nottingham"]
[null,null,null,null,null,null,null,null,null,null,null,null,null,null,"Hogsthorpe Primary Academy","122262","2012-09-01","East Midlands","Lincolnshire"]
[null,null,null,null,null,null,null,null,null,null,null,null,null,null,"Holbrook High School","120208","2011-08-01","East of England","Suffolk"]
[null,null,null,null,null,null,null,null,null,null,null,null,null,null,"Holden Lane High School Specialist Sports College",123238,"2014-03-01","West Midlands","Stoke-on-Trent"]
[null,null,null,null,null,null,null,null,null,null,null,null,null,null,"Holgate Comprehensive School, The","124990","2013-09-01","East Midlands","Nottinghamshire"]
[null,null,null,null,null,null,null,null,null,null,null,null,null,null,"Holland Park School","124090","2013-09-01","London","Royal Borough of Kensington and Chelsea"]
[null,null,null,null,null,null,null,null,null,null,null,null,null,null,"Holley Park Primary School","122147","2012-08-01","North East","Sunderland"]
[null,null,null,null,null,null,null,null,null,null,null,null,null,null,"Hollingworth Business and Enterprise College","120921","2013-09-01","North West","Rochdale"]
[null,null,null,null,null,null,null,null,null,null,null,null,null,null,"Holly Hall Maths and Computing College","120425","2011-09-01","West Midlands","Dudley"]
[null,null,null,null,null,null,null,null,null,null,null,null,null,null,"Hollybrook Infant School","122588","2012-11-01","South East","Southampton"]
[null,null,null,null,null,null,null,null,null,null,null,null,null,null,"Hollybrook Junior School","122859","2013-05-01","South East","Southampton "]
[null,null,null,null,null,null,null,null,null,null,null,null,null,null,"Hollyfield School and Sixth Form Centre, The","120544","2011-12-01T12:24:21","London","Kingston Upon Thames"]
[null,null,null,null,null,null,null,null,null,null,null,null,null,null,"Hollywood, the Coppice Primary School","120715","2011-12-01","West Midlands","Worcestershire"]
[null,null,null,null,null,null,null,null,null,null,null,null,null,null,"Holme Church of England Controlled Primary School, The","124580","2013-09-01","South East","Hampshire"]
[null,null,null,null,null,null,null,null,null,null,null,null,null,null,"Holmemead Middle School","120576","2012-03-01","East of England","Central Bedfordshire"]
[null,null,null,null,null,null,null,null,null,null,null,null,null,null,"Holmer CofE Primary School","120499","2011-12-01","West Midlands","Herefordshire"]
[null,null,null,null,null,null,null,null,null,null,null,null,null,null,"Holmer Green Senior School","121070","2012-04-01","South East","Buckinghamshire"]
[null,null,null,null,null,null,null,null,null,null,null,null,null,null,"Holmes Chapel Comprehensive School","120367","2011-09-01","North West","Cheshire East"]
[null,null,null,null,null,null,null,null,null,null,null,null,null,null,"Holmes Chapel Primary School","124565","2013-09-01","North West","Cheshire East"]
[null,null,null,null,null,null,null,null,null,null,null,null,null,null,"Holt School, The","119880","2011-07-01","South East","Wokingham"]
[null,null,null,null,null,null,null,null,null,null,null,null,null,null,"Holy Cross Catholic Primary School - Harlow","119967","2011-08-01","East of England","Essex"]
[null,null,null,null,null,null,null,null,null,null,null,null,null,null,"Holy Cross Catholic Primary School - Nottingham","121055","2012-10-01","East Midlands","Nottinghamshire"]
[null,null,null,null,null,null,null,null,null,null,null,null,null,null,"Holy Cross Catholic Primary School - Plymouth",130084,"2014-04-01","South West","Plymouth"]
[null,null,null,null,null,null,null,null,null,null,null,null,null,null,"Holy Cross Catholic Primary School - Sutton Coldfield","123902","2014-01-01","West Midlands","Birmingham"]
[null,null,null,null,null,null,null,null,null,null,null,null,null,null,"Holy Cross Catholic Primary School - Whitwick","122363","2012-07-01","East Midlands","Leicestershire"]
[null,null,null,null,null,null,null,null,null,null,null,null,null,null,"Holy Cross School, The - New Malden","122725","2012-08-01T12:49:41","London","Kingston Upon Thames"]
[null,null,null,null,null,null,null,null,null,null,null,null,null,null,"Holy Family Catholic Academy - Cleethorpes","123904","2013-09-01","Yorkshire & The Humber","North East Lincolnshire"]
[null,null,null,null,null,null,null,null,null,null,null,null,null,null,"Holy Family Catholic Primary School - Swindon","122507","2012-09-01","South West","Swindon"]
[null,null,null,null,null,null,null,null,null,null,null,null,null,null,"Holy Family RC Primary School - Darlington","124097","2013-04-01","North East","Darlington "]
[null,null,null,null,null,null,null,null,null,null,null,null,null,null,"Holy Rood Catholic Infant School - Swindon","120074","2011-08-01","South West","Swindon"]
[null,null,null,null,null,null,null,null,null,null,null,null,null,null,"Holy Rood Catholic Junior School - Swindon","119981","2011-08-01","South West","Swindon"]
[null,null,null,null,null,null,null,null,null,null,null,null,null,null,"Holy Trinity Catholic School - Newark",126366,"2014-04-01","East Midlands","Nottinghamshire"]
[null,null,null,null,null,null,null,null,null,null,null,null,null,null,"Holy Trinity Church of England Primary Academy - Calne","121913","2012-05-01","South West","Wiltshire"]
[null,null,null,null,null,null,null,null,null,null,null,null,null,null,"Holy Trinity Church of England Primary School - Handsworth","124168","2013-12-01","West Midlands","Birmingham"]
[null,null,null,null,null,null,null,null,null,null,null,null,null,null,"Holy Trinity Church of England Voluntary Aided School, The - Devizes","120441","2011-09-01","South West","Wiltshire"]
[null,null,null,null,null,null,null,null,null,null,null,null,null,null,"Holy Trinity CofE Primary School - Tottenham","123196","2013-02-01","London","Haringey"]
[null,null,null,null,null,null,null,null,null,null,null,null,null,null,"Holyhead School - Birmingham","120034","2011-08-01","West Midlands","Birmingham"]
[null,null,null,null,null,null,null,null,null,null,null,null,null,null,"Holyrood Academy - Chard","119244","2010-09-01","South West","Somerset"]
[null,null,null,null,null,null,null,null,null,null,null,null,null,null,"Holywell Primary School - Loughborough","122555","2012-11-01","East Midlands","Leicestershire"]
[null,null,null,null,null,null,null,null,null,null,null,null,null,null,"Holywell School - Bedford","122088","2012-10-01","East of England","Central Bedfordshire"]
[null,null,null,null,null,null,null,null,null,null,null,null,null,null,"Homewood School and Sixth Form Centre","120373","2011-09-01","South East","Kent"]
[null,null,null,null,null,null,null,null,null,null,null,null,null,null,"Honeybourne First School","124330","2013-06-01","West Midlands","Worcestershire"]
[null,null,null,null,null,null,null,null,null,null,null,null,null,null,"Honiton Community College","119912","2011-07-01","South West","Devon"]
[null,null,null,null,null,null,null,null,null,null,null,null,null,null,"Honywood Community Science School","119727","2011-05-01","East of England","Essex"]
[null,null,null,null,null,null,null,null,null,null,null,null,null,null,"Hooe Primary School","122819","2013-03-01","South West","Plymouth"]
[null,null,null,null,null,null,null,null,null,null,null,null,null,null,"Hook-with-Warsash Church of England Academy","122163","2012-09-01","South East","Hampshire"]
[null,null,null,null,null,null,null,null,null,null,null,null,null,null,"Hope Academy - Newton-le-Willows","119925","2011-09-01","North West","St Helens"]
[null,null,null,null,null,null,null,null,null,null,null,null,null,null,"Hope Community School - Sidcup","123313","2013-09-01","London","Bexley"]
[null,null,null,null,null,null,null,null,null,null,null,null,null,null,"Hope Valley College","120066","2011-09-01","East Midlands","Derbyshire"]
[null,null,null,null,null,null,null,null,null,null,null,null,null,null,"Horbury Bridge Church of England Voluntary Controlled Junior and Infant School","120893","2012-04-01","Yorkshire & The Humber","Wakefield"]
[null,null,null,null,null,null,null,null,null,null,null,null,null,null,"Horbury School","122558","2012-09-01","Yorkshire & The Humber","Wakefield"]
[null,null,null,null,null,null,null,null,null,null,null,null,null,null,"Horizon Primary Academy","120136","2011-09-01","South East","Kent"]
[null,null,null,null,null,null,null,null,null,null,null,null,null,null,"Horringer Court Middle School","120179","2011-08-01","East of England","Suffolk"]
[null,null,null,null,null,null,null,null,null,null,null,null,null,null,"Horrington Primary School","124132","2013-05-01","South West","Somerset "]
[null,null,null,null,null,null,null,null,null,null,null,null,null,null,"Horsell Village School","123940","2013-09-01","South East","Surrey"]
[null,null,null,null,null,null,null,null,null,null,null,null,null,null,"Horsforth School","120765","2012-01-01","Yorkshire & The Humber","Leeds"]
[null,null,null,null,null,null,null,null,null,null,null,null,null,null,"Horsington Church of England Primary School","125025","2013-12-01","South West","Somerset"]
[null,null,null,null,null,null,null,null,null,null,null,null,null,null,"Hotwells Primary School",124144,"2014-04-01","South West","Bristol"]
[null,null,null,null,null,null,null,null,null,null,null,null,null,null,"Hounsdown School","120229","2011-08-01","South East","Hampshire"]
[null,null,null,null,null,null,null,null,null,null,null,null,null,null,"Howard of Effingham","119833","2011-07-01","South East","Surrey"]
[null,null,null,null,null,null,null,null,null,null,null,null,null,null,"Hoyland Common Primary School","123036","2013-10-01","Yorkshire & The Humber","Barnsley"]
[null,null,null,null,null,null,null,null,null,null,null,null,null,null,"Huish Episcopi School","119245","2010-09-02","South West","Somerset"]
[null,null,null,null,null,null,null,null,null,null,null,null,null,null,"Huish Primary School","124759","2013-12-01","South West","Somerset"]
[null,null,null,null,null,null,null,null,null,null,null,null,null,null,"Hull Studio School","122028","2012-09-01","Yorkshire & The Humber","Hull"]
[null,null,null,null,null,null,null,null,null,null,null,null,null,null,"Hull Trinity House Academy","120922","2012-04-01","Yorkshire & The Humber","Hull"]
[null,null,null,null,null,null,null,null,null,null,null,null,null,null,"Humberston Academy","120200","2011-08-01","Yorkshire & The Humber","North East Lincolnshire"]
[null,null,null,null,null,null,null,null,null,null,null,null,null,null,"Humberston Cloverfields Primary School",121839,"2014-04-01","Yorkshire & The Humber","North East Lincolnshire"]
[null,null,null,null,null,null,null,null,null,null,null,null,null,null,"Humberston Park School","120443","2011-09-01","Yorkshire & The Humber","North East Lincolnshire"]
[null,null,null,null,null,null,null,null,null,null,null,null,null,null,"Humberstone Junior School","124337","2013-08-01","East Midlands","Leicester"]
[null,null,null,null,null,null,null,null,null,null,null,null,null,null,"Hummersknott Academy","119838","2011-07-01","North East","Darlington"]
[null,null,null,null,null,null,null,null,null,null,null,null,null,null,"Humphrey Perkins High School & Community Centre","120901","2012-01-01","East Midlands","Leicestershire"]
[null,null,null,null,null,null,null,null,null,null,null,null,null,null,"Huncote Community Primary School","122173","2012-07-01","East Midlands","Leicestershire"]
[null,null,null,null,null,null,null,null,null,null,null,null,null,null,"Hundred of Hoo Academy, The","120119","2011-09-01","South East","Medway"]
[null,null,null,null,null,null,null,null,null,null,null,null,null,null,"Hungerhill School","120940","2012-03-01","Yorkshire & The Humber","Doncaster"]
[null,null,null,null,null,null,null,null,null,null,null,null,null,null,"Huntcliff School","120568","2012-02-01","Yorkshire & The Humber","North Lincolnshire"]
[null,null,null,null,null,null,null,null,null,null,null,null,null,null,"Huntingdon Primary and Nursery School","120539","2011-10-01","East Midlands","Nottingham"]
[null,null,null,null,null,null,null,null,null,null,null,null,null,null,"Huntingtower Community Primary School","124181","2013-05-01","East Midlands","Lincolnshire "]
[null,null,null,null,null,null,null,null,null,null,null,null,null,null,"Hurst Primary School","124620","2013-10-01","London","Bexley"]
[null,null,null,null,null,null,null,null,null,null,null,null,null,null,"Hurstmere Foundation School for Boys","120404","2011-09-01","London","Bexley"]
[null,null,null,null,null,null,null,null,null,null,null,null,null,null,"Hurworth Primary School","121832","2012-06-01","North East","Darlington"]
[null,null,null,null,null,null,null,null,null,null,null,null,null,null,"Hurworth School","119572","2011-04-01","North East","Darlington"]
[null,null,null,null,null,null,null,null,null,null,null,null,null,null,"Huttoft Primary School","122869","2012-10-01","East Midlands","Lincolnshire"]
[null,null,null,null,null,null,null,null,null,null,null,null,null,null,"Hutton All Saints' Church of England Primary School","120718","2011-12-01","East of England","Essex"]
[null,null,null,null,null,null,null,null,null,null,null,null,null,null,"Huxlow Science College","121017","2012-04-01","East Midlands","Northamptonshire"]
[null,null,null,null,null,null,null,null,null,null,null,null,null,null,"Hyde School, The","124345","2013-09-01","London","Barnet"]
[null,null,null,null,null,null,null,null,null,null,null,null,null,null,"Hylands School","120072","2011-08-01","East of England","Essex"]
[null,null,null,null,null,null,null,null,null,null,null,null,null,null,"Hyndburn Studio School (Closed 31st August 2013)","122529","2012-09-01","North West","Lancashire"]
[null,null,null,null,null,null,null,null,null,null,null,null,null,null,"Ibstock Community College","122655","2012-09-01","East Midlands","Leicestershire"]
[null,null,null,null,null,null,null,null,null,null,null,null,null,null,"Iceni Academy, The","122542","2013-01-01","East of England","Norfolk"]
[null,null,null,null,null,null,null,null,null,null,null,null,null,null,"Icknield High School","120569","2011-12-01","East of England","Luton"]
[null,null,null,null,null,null,null,null,null,null,null,null,null,null,"IES Breckland Free School","122015","2012-09-01","East of England","Suffolk"]
[null,null,null,null,null,null,null,null,null,null,null,null,null,null,"Ilford Ursuline High School","120348","2011-09-01","London","Redbridge"]
[null,null,null,null,null,null,null,null,null,null,null,null,null,null,"Ilfracombe Arts College","124360","2013-05-01","South West","Devon "]
[null,null,null,null,null,null,null,null,null,null,null,null,null,null,"Ilkley Grammar School","119821","2011-07-01","Yorkshire & The Humber","Bradford"]
[null,null,null,null,null,null,null,null,null,null,null,null,null,null,"Ilminster Avenue E-ACT Academy","120906","2012-01-01","South West","Bristol City"]
[null,null,null,null,null,null,null,null,null,null,null,null,null,null,"Ilsham Church of England Primary School","120304","2011-08-17","South West","Torbay"]
[null,null,null,null,null,null,null,null,null,null,null,null,null,null,"Ilsington Church of England Primary School","119919","2011-07-01","South West","Devon"]
[null,null,null,null,null,null,null,null,null,null,null,null,null,null,"Impington Village College","120714","2012-02-01T14:26:06","East of England","Cambridgeshire"]
[null,null,null,null,null,null,null,null,null,null,null,null,null,null,"Independent Jewish Day School","120303","2011-08-17","London","Barnet"]
[null,null,null,null,null,null,null,null,null,null,null,null,null,null,"Ingoldmells Primary School","121167","2012-09-01","East Midlands","Lincolnshire"]
[null,null,null,null,null,null,null,null,null,null,null,null,null,null,"International Food and Travel Studio","122530","2012-09-01","Yorkshire & The Humber","Bradford"]
[null,null,null,null,null,null,null,null,null,null,null,null,null,null,"Invenio Academy","120004","2011-08-01","Yorkshire & The Humber","North Lincolnshire"]
[null,null,null,null,null,null,null,null,null,null,null,null,null,null,"Inverteign Community Nursery and Primary School","119493","2011-03-01","South West","Devon"]
[null,null,null,null,null,null,null,null,null,null,null,null,null,null,"Invicta Grammar School","119660","2011-04-01","South East","Kent"]
[null,null,null,null,null,null,null,null,null,null,null,null,null,null,"Ipsley CE RSA Academy","122543","2013-01-01","West Midlands","Worcestershire"]
[null,null,null,null,null,null,null,null,null,null,null,null,null,null,"Ipswich Academy","119502","2011-03-01","East of England","Suffolk"]
[null,null,null,null,null,null,null,null,null,null,null,null,null,null,"Iqra Community Primary School","124195","2013-09-01","Yorkshire & The Humber","Bradford"]
[null,null,null,null,null,null,null,null,null,null,null,null,null,null,"Isaac Newton Academy","120917","2012-09-01","London","Redbridge"]
[null,null,null,null,null,null,null,null,null,null,null,null,null,null,"Isca College of Media Arts","122640","2013-10-01","South West","Devon"]
[null,null,null,null,null,null,null,null,null,null,null,null,null,null,"Isis Academy, The - Oxford","122868","2013-02-01","South East","Oxfordshire"]
[null,null,null,null,null,null,null,null,null,null,null,null,null,null,"Isle of Portland Aldridge Community Academy","120983","2012-09-01","South West","Dorset"]
[null,null,null,null,null,null,null,null,null,null,null,null,null,null,"Isle of Sheppey Academy, The","119099","2009-09-01","South East","Kent"]
[null,null,null,null,null,null,null,null,null,null,null,null,null,null,"Isleworth and Syon School for Boys","120870","2012-03-01T10:53:14","London","Hounslow"]
[null,null,null,null,null,null,null,null,null,null,null,null,null,null,"Ivanhoe College Ashby-De-La-Zouch","122128","2012-07-01","East Midlands","Leicestershire"]
[null,null,null,null,null,null,null,null,null,null,null,null,null,null,"Ivybridge Community College","119367","2010-11-01","South West","Devon"]
[null,null,null,null,null,null,null,null,null,null,null,null,null,null,"James Brindley School","120663","2013-04-01","West Midlands","Birmingham "]
[null,null,null,null,null,null,null,null,null,null,null,null,null,null,"James Elliman Academy","123285","2013-04-01","South East","Slough "]
[null,null,null,null,null,null,null,null,null,null,null,null,null,null,"James Hornsby School, The","121878","2012-10-01","East of England","Essex"]
[null,null,null,null,null,null,null,null,null,null,null,null,null,null,"JCB Academy","119213","2010-09-01","West Midlands","Staffordshire"]
[null,null,null,null,null,null,null,null,null,null,null,null,null,null,"Jerry Clay Academy","120148","2011-08-01","Yorkshire & The Humber","Wakefield"]
[null,null,null,null,null,null,null,null,null,null,null,null,null,null,"Jewell Academy Bournemouth","126491","2013-09-01","South West","Bournemouth"]
[null,null,null,null,null,null,null,null,null,null,null,null,null,null,"John Baskeyfield VC CofE Primary School",123857,"2014-03-01","West Midlands","Stoke-on-Trent"]
[null,null,null,null,null,null,null,null,null,null,null,null,null,null,"John Bentley School, The","120571","2011-11-01","South West","Wiltshire"]
[null,null,null,null,null,null,null,null,null,null,null,null,null,null,"John Blandy VC Primary School","124731","2013-11-01","South East","Oxfordshire"]
[null,null,null,null,null,null,null,null,null,null,null,null,null,null,"John Cabot Academy","118621","2007-09-01","South West","South Gloucestershire"]
[null,null,null,null,null,null,null,null,null,null,null,null,null,null,"John Cleveland College","122331","2012-07-01","East Midlands","Leicestershire"]
[null,null,null,null,null,null,null,null,null,null,null,null,null,null,"John Colet School","120261","2011-08-01","South East","Buckinghamshire"]
[null,null,null,null,null,null,null,null,null,null,null,null,null,null,"John Donne Primary School","129075","2014-01-01","London","Southwark"]
[null,null,null,null,null,null,null,null,null,null,null,null,null,null,"John Ferneley College","120644","2011-11-01","East Midlands","Leicestershire"]
[null,null,null,null,null,null,null,null,null,null,null,null,null,null,"John Hampden Grammar School","119770","2011-06-01","South East","Buckinghamshire"]
[null,null,null,null,null,null,null,null,null,null,null,null,null,null,"John Henry Newman Catholic College - Solihull","119437","2011-01-01","West Midlands","Solihull"]
[null,null,null,null,null,null,null,null,null,null,null,null,null,null,"John Henry Newman Catholic School, The - Stevenage","121183","2012-03-01T12:09:12","East of England","Hertfordshire"]
[null,null,null,null,null,null,null,null,null,null,null,null,null,null,"John Henry Newman CofE (A) Primary School, The - Oxford","122336","2012-09-01","South East","Oxfordshire"]
[null,null,null,null,null,null,null,null,null,null,null,null,null,null,"John Kyrle High School and Sixth Form Centre","119414","2011-01-01","West Midlands","Herefordshire"]
[null,null,null,null,null,null,null,null,null,null,null,null,null,null,"John Madejski Academy","118622","2006-09-01","South East","Reading"]
[null,null,null,null,null,null,null,null,null,null,null,null,null,null,"John Masefield High School","119800","2011-06-01","West Midlands","Herefordshire"]
[null,null,null,null,null,null,null,null,null,null,null,null,null,null,"John Mason School","129426","2014-02-01","South East","Oxfordshire"]
[null,null,null,null,null,null,null,null,null,null,null,null,null,null,"John of Gaunt School, The","120822","2012-04-01","South West","Wiltshire"]
[null,null,null,null,null,null,null,null,null,null,null,null,null,null,"John Port School","119618","2011-04-01","East Midlands","Derbyshire"]
[null,null,null,null,null,null,null,null,null,null,null,null,null,null,"John Smeaton Academy, The","120516","2014-01-01","Yorkshire & The Humber","Leeds"]
[null,null,null,null,null,null,null,null,null,null,null,null,null,null,"John Spendluffe Foundation Technology College","119968","2011-08-01","East Midlands","Lincolnshire"]
[null,null,null,null,null,null,null,null,null,null,null,null,null,null,"John Taylor High School","119353","2010-11-01","West Midlands","Staffordshire"]
[null,null,null,null,null,null,null,null,null,null,null,null,null,null,"John Wallis Church of England Academy, The","119309","2010-09-01","South East","Kent"]
[null,null,null,null,null,null,null,null,null,null,null,null,null,null,"John Warner School, The","119627","2011-04-01","East of England","Hertfordshire"]
[null,null,null,null,null,null,null,null,null,null,null,null,null,null,"John Whitgift Academy","120464","2011-09-01","Yorkshire & The Humber","North East Lincolnshire"]
[null,null,null,null,null,null,null,null,null,null,null,null,null,null,"Joseph Clarke School",125014,"2014-04-01","London","Waltham Forest"]
[null,null,null,null,null,null,null,null,null,null,null,null,null,null,"Joseph Leckie Academy","120848","2012-02-01","West Midlands","Walsall"]
[null,null,null,null,null,null,null,null,null,null,null,null,null,null,"Joseph Swan School","120691","2012-03-01T10:58:56","North East","Gateshead"]
[null,null,null,null,null,null,null,null,null,null,null,null,null,null,"Joseph Whitaker School","120678","2011-11-01","East Midlands","Nottinghamshire"]
[null,null,null,null,null,null,null,null,null,null,null,null,null,null,"Jotmans Hall Primary School","120247","2011-08-01","East of England","Essex"]
[null,null,null,null,null,null,null,null,null,null,null,null,null,null,"Joydens Wood Infant School","120619","2011-11-01","South East","Kent"]
[null,null,null,null,null,null,null,null,null,null,null,null,null,null,"Joydens Wood Junior School","120618","2011-11-01","South East","Kent"]
[null,null,null,null,null,null,null,null,null,null,null,null,null,null,"Jubilee Academy - Walsall","122043","2012-08-01","West Midlands","Walsall"]
[null,null,null,null,null,null,null,null,null,null,null,null,null,null,"Jubilee Academy, The - Harrow","123414","2013-09-01","London","Harrow"]
[null,null,null,null,null,null,null,null,null,null,null,null,null,null,"Jubilee High School - Addlestone","124734","2013-09-01","South East","Surrey"]
[null,null,null,null,null,null,null,null,null,null,null,null,null,null,"Jubilee Park Primary School - Tipton","124117","2013-09-01","West Midlands","Sandwell"]
[null,null,null,null,null,null,null,null,null,null,null,null,null,null,"Judith Kerr Primary School","123315","2013-09-01","London","Southwark"]
[null,null,null,null,null,null,null,null,null,null,null,null,null,null,"Kader Primary School",129905,"2014-05-01","North East","Middlesbrough"]
[null,null,null,null,null,null,null,null,null,null,null,null,null,null,"Kajans Hospitality & Catering Studio College - Khcsc","123387","2013-09-01","West Midlands","Birmingham"]
[null,null,null,null,null,null,null,null,null,null,null,null,null,null,"Kanes Hill Primary School","123860","2013-05-01","South East","Southampton "]
[null,null,null,null,null,null,null,null,null,null,null,null,null,null,"Katharine Lady Berkeley's School","120033","2011-08-01","South West","Gloucestershire"]
[null,null,null,null,null,null,null,null,null,null,null,null,null,null,"Kearsley Academy","119227","2010-09-01","North West","Bolton"]
[null,null,null,null,null,null,null,null,null,null,null,null,null,null,"Kedington Primary School","123254","2013-04-01","East of England","Suffolk "]
[null,null,null,null,null,null,null,null,null,null,null,null,null,null,"Kelsall Primary School","122569","2012-09-01","North West","Cheshire West and Chester"]
[null,null,null,null,null,null,null,null,null,null,null,null,null,null,"Kelvedon St Mary's Church of England Primary School","123161","2013-03-01","East of England","Essex"]
[null,null,null,null,null,null,null,null,null,null,null,null,null,null,"Kemnal Technology College","119273","2010-09-01","London","Bromley"]
[null,null,null,null,null,null,null,null,null,null,null,null,null,null,"Kemsley Primary School","123946","2013-04-01","South East","Kent "]
[null,null,null,null,null,null,null,null,null,null,null,null,null,null,"Kendray Primary School","122857","2013-05-01","Yorkshire & The Humber","Barnsley  "]
[null,null,null,null,null,null,null,null,null,null,null,null,null,null,"Kendrick School","119464","2011-02-01","South East","Reading"]
[null,null,null,null,null,null,null,null,null,null,null,null,null,null,"Kennet School - Thatcham","119645","2011-04-01","South East","West Berkshire"]
[null,null,null,null,null,null,null,null,null,null,null,null,null,null,"Kennett Community Primary School - Newmarket","122516","2012-12-01","East of England","Cambridgeshire"]
[null,null,null,null,null,null,null,null,null,null,null,null,null,null,"Kenningtons Primary School","122566","2012-09-01","East of England","Thurrock"]
[null,null,null,null,null,null,null,null,null,null,null,null,null,null,"Kenton School Newcastle","120910","2012-05-01T14:16:05","North East","Newcastle Upon Tyne"]
[null,null,null,null,null,null,null,null,null,null,null,null,null,null,"Kents Hill Infant School","120330","2011-09-01","East of England","Essex"]
[null,null,null,null,null,null,null,null,null,null,null,null,null,null,"Kents Hill Junior School","120586","2011-11-01","East of England","Essex"]
[null,null,null,null,null,null,null,null,null,null,null,null,null,null,"Kenyngton Manor Primary School","124295","2013-12-01","South East","Surrey"]
[null,null,null,null,null,null,null,null,null,null,null,null,null,null,"Kepier (Houghton Kepier Sports College Academy Trust)","120262","2011-08-01","North East","Sunderland"]
[null,null,null,null,null,null,null,null,null,null,null,null,null,null,"Kesgrave High School","119969","2011-08-01","East of England","Suffolk"]
[null,null,null,null,null,null,null,null,null,null,null,null,null,null,"Kesteven and Grantham Girls' School","122564","2012-09-01","East Midlands","Lincolnshire"]
[null,null,null,null,null,null,null,null,null,null,null,null,null,null,"Kesteven and Sleaford High School","120675","2011-11-01","East Midlands","Lincolnshire"]
[null,null,null,null,null,null,null,null,null,null,null,null,null,null,"Keston Church of England Primary School",129900,"2014-04-01","London","Bromley"]
[null,null,null,null,null,null,null,null,null,null,null,null,null,null,"Keswick School","119862","2011-07-01","North West","Cumbria"]
[null,null,null,null,null,null,null,null,null,null,null,null,null,null,"Kettering Buccleuch Academy","119105","2009-09-01","East Midlands","Northamptonshire"]
[null,null,null,null,null,null,null,null,null,null,null,null,null,null,"Kettering Science Academy","119106","2009-09-01","East Midlands","Northamptonshire"]
[null,null,null,null,null,null,null,null,null,null,null,null,null,null,"Keyham Barton Catholic Primary School",130085,"2014-04-01","South West","Plymouth"]
[null,null,null,null,null,null,null,null,null,null,null,null,null,null,"Khalsa Science Academy - Leeds","123316","2013-09-01","Yorkshire & The Humber","Leeds"]
[null,null,null,null,null,null,null,null,null,null,null,null,null,null,"Khalsa Secondary Acdemy - Stoke Poges","123317","2013-09-01","South East","Slough"]
[null,null,null,null,null,null,null,null,null,null,null,null,null,null,"Kibblesworth Academy","121908","2012-06-01","North East","Gateshead"]
[null,null,null,null,null,null,null,null,null,null,null,null,null,null,"Kibworth Church of England Primary School","122048","2012-07-01","East Midlands","Leicestershire"]
[null,null,null,null,null,null,null,null,null,null,null,null,null,null,"Kibworth High School & Community Technology College","120555","2011-10-01","East Midlands","Leicestershire"]
[null,null,null,null,null,null,null,null,null,null,null,null,null,null,"Kilton Thorpe School","122603","2012-12-01","North East","Redcar and Cleveland"]
[null,null,null,null,null,null,null,null,null,null,null,null,null,null,"Kimberley 16 - 19 Stem College - Bedford","123318","2013-09-01","East of England","Bedford"]
[null,null,null,null,null,null,null,null,null,null,null,null,null,null,"Kimberley School, The - Nottingham","122726","2012-09-01","East Midlands","Nottinghamshire"]
[null,null,null,null,null,null,null,null,null,null,null,null,null,null,"King Alfred's - Wantage","120140","2011-08-01","South East","Oxfordshire"]
[null,null,null,null,null,null,null,null,null,null,null,null,null,null,"King Charles I Secondary School","121012","2012-04-01","West Midlands","Worcestershire"]
[null,null,null,null,null,null,null,null,null,null,null,null,null,null,"King David High School, The","120309","2011-08-17","North West","Manchester"]
[null,null,null,null,null,null,null,null,null,null,null,null,null,null,"King David Primary School","123275","2013-06-01","North West","Manchester"]
[null,null,null,null,null,null,null,null,null,null,null,null,null,null,"King Ecgbert School","121930","2012-10-01","Yorkshire & The Humber","Sheffield"]
[null,null,null,null,null,null,null,null,null,null,null,null,null,null,"King Edmund School, The","119868","2011-07-01","East of England","Essex"]
[null,null,null,null,null,null,null,null,null,null,null,null,null,null,"King Edward VI Academy - Spilsby","121215","2012-09-01","East Midlands","Lincolnshire"]
[null,null,null,null,null,null,null,null,null,null,null,null,null,null,"King Edward VI Aston School","120043","2011-08-01","West Midlands","Birmingham"]
[null,null,null,null,null,null,null,null,null,null,null,null,null,null,"King Edward VI Camp Hill School for Boys","120045","2011-08-01","West Midlands","Birmingham"]
[null,null,null,null,null,null,null,null,null,null,null,null,null,null,"King Edward VI Camp Hill School for Girls","120044","2011-08-01","West Midlands","Birmingham"]
[null,null,null,null,null,null,null,null,null,null,null,null,null,null,"King Edward VI Five Ways School","120046","2011-08-01","West Midlands","Birmingham"]
[null,null,null,null,null,null,null,null,null,null,null,null,null,null,"King Edward VI Grammar School - Chelmsford","119685","2011-04-01","East of England","Essex"]
[null,null,null,null,null,null,null,null,null,null,null,null,null,null,"King Edward VI Handsworth School","120047","2011-08-01","West Midlands","Birmingham"]
[null,null,null,null,null,null,null,null,null,null,null,null,null,null,"King Edward VI School - Stratford upon Avon","120302","2011-08-17","West Midlands","Warwickshire"]
[null,null,null,null,null,null,null,null,null,null,null,null,null,null,"King Edward VI Sheldon Heath Academy","119208","2010-09-01","West Midlands","Birmingham"]
[null,null,null,null,null,null,null,null,null,null,null,null,null,null,"King Edward VII Science and Sport College","114115","2012-10-01","East Midlands","Leicestershire"]
[null,null,null,null,null,null,null,null,null,null,null,null,null,null,"King Ethelbert School","119658","2011-04-01","South East","Kent"]
[null,null,null,null,null,null,null,null,null,null,null,null,null,null,"King Harold School","119365","2010-11-01","East of England","Essex"]
[null,null,null,null,null,null,null,null,null,null,null,null,null,null,"King James I Community Arts College","119771","2011-06-01","North East","Durham"]
[null,null,null,null,null,null,null,null,null,null,null,null,null,null,"King James's School","122293","2012-09-01","Yorkshire & The Humber","Kirklees"]
[null,null,null,null,null,null,null,null,null,null,null,null,null,null,"King John School, The","119652","2011-04-01","East of England","Essex"]
[null,null,null,null,null,null,null,null,null,null,null,null,null,null,"King Offa Academy","122301","2012-09-01","South East","East Sussex"]
[null,null,null,null,null,null,null,null,null,null,null,null,null,null,"King Solomon Academy","118623","2007-09-01","London","Westminster"]
[null,null,null,null,null,null,null,null,null,null,null,null,null,null,"King William Street Church of England Primary School","121875","2012-08-01","South West","Swindon"]
[null,null,null,null,null,null,null,null,null,null,null,null,null,null,"Kingdown School - Warminster","120230","2011-08-01","South West","Wiltshire"]
[null,null,null,null,null,null,null,null,null,null,null,null,null,null,"Kingfisher Academy, The - Bristol","122666","2013-04-01","South West","Bristol "]
[null,null,null,null,null,null,null,null,null,null,null,null,null,null,"Kingfisher Community Primary School - Chatham","124656","2013-09-01","South East","Medway"]
[null,null,null,null,null,null,null,null,null,null,null,null,null,null,"Kingfisher Hall Primary Academy","121993","2012-09-01","London","Enfield"]
[null,null,null,null,null,null,null,null,null,null,null,null,null,null,"Kingfisher School - Abingdon","122544","2013-02-01","South East","Oxfordshire"]
[null,null,null,null,null,null,null,null,null,null,null,null,null,null,"Kingfisher School, The - Redditch","127196","2014-01-01","West Midlands","Worcestershire"]
[null,null,null,null,null,null,null,null,null,null,null,null,null,null,"King's Academy","118405","2003-09-01","North East","Middlesbrough"]
[null,null,null,null,null,null,null,null,null,null,null,null,null,null,"Kings Ash Primary School","122663","2012-09-01","South West","Torbay"]
[null,null,null,null,null,null,null,null,null,null,null,null,null,null,"Kings Caple Primary School","119795","2011-06-01","West Midlands","Herefordshire"]
[null,null,null,null,null,null,null,null,null,null,null,null,null,null,"Kings Heath Academy","124669","2014-02-01","East Midlands","Northamptonshire"]
[null,null,null,null,null,null,null,null,null,null,null,null,null,null,"Kings Houghton Middle School","121836","2012-09-01","East of England","Central Bedfordshire"]
[null,null,null,null,null,null,null,null,null,null,null,null,null,null,"Kings Langley School","123186","2012-12-01","East of England","Hertfordshire"]
[null,null,null,null,null,null,null,null,null,null,null,null,null,null,"King's Leadership Academy","121989","2012-09-01","North West","Warrington"]
[null,null,null,null,null,null,null,null,null,null,null,null,null,null,"King's Lynn Academy","119326","2010-09-01","East of England","Norfolk"]
[null,null,null,null,null,null,null,null,null,null,null,null,null,null,"Kings Norton Girls School","119621","2011-04-01","West Midlands","Birmingham"]
[null,null,null,null,null,null,null,null,null,null,null,null,null,null,"King's Oak Academy","120106","2011-09-01","South West","South Gloucestershire"]
[null,null,null,null,null,null,null,null,null,null,null,null,null,null,"Kings of Wessex School, The","119289","2011-06-01","South West","Somerset"]
[null,null,null,null,null,null,null,null,null,null,null,null,null,null,"Kings Park Primary Academy","122852","2013-04-01","South West","Wiltshire "]
[null,null,null,null,null,null,null,null,null,null,null,null,null,null,"Kings Priory School","123100","2013-09-01","North East","North Tyneside"]
[null,null,null,null,null,null,null,null,null,null,null,null,null,null,"Kings Rise Community Primary School","122851","2012-11-01","West Midlands","Birmingham"]
[null,null,null,null,null,null,null,null,null,null,null,null,null,null,"King's School Hove","123319","2013-09-01","South East","Brighton and Hove"]
[null,null,null,null,null,null,null,null,null,null,null,null,null,null,"King's School Specialising in Mathematics and Computing, The - Wakefield","123220","2013-04-01","Yorkshire & The Humber","Wakefield "]
[null,null,null,null,null,null,null,null,null,null,null,null,null,null,"King's School, The - Devon","119688","2011-04-01","South West","Devon"]
[null,null,null,null,null,null,null,null,null,null,null,null,null,null,"King's School, The - Grantham","120166","2011-08-01","East Midlands","Lincolnshire"]
[null,null,null,null,null,null,null,null,null,null,null,null,null,null,"King's School, The - Peterborough","119404","2011-01-01","East of England","Peterborough"]
[null,null,null,null,null,null,null,null,null,null,null,null,null,null,"Kings Science Academy - Bradford","120465","2011-09-01","Yorkshire & The Humber","Bradford"]
[null,null,null,null,null,null,null,null,null,null,null,null,null,null,"Kings Sutton Primary School","124193","2013-09-01","East Midlands","Northamptonshire"]
[null,null,null,null,null,null,null,null,null,null,null,null,null,null,"Kingsbridge Community College","119402","2011-01-01","South West","Devon"]
[null,null,null,null,null,null,null,null,null,null,null,null,null,null,"Kingsbury High School","120732","2011-12-01T12:16:59","London","Brent"]
[null,null,null,null,null,null,null,null,null,null,null,null,null,null,"Kingsdale Foundation School","119361","2010-11-01","London","Southwark"]
[null,null,null,null,null,null,null,null,null,null,null,null,null,null,"Kingsdown School","120265","2011-08-01","South West","Swindon"]
[null,null,null,null,null,null,null,null,null,null,null,null,null,null,"Kingshill Church School","122815","2013-04-01","South West","North Somerset  "]
[null,null,null,null,null,null,null,null,null,null,null,null,null,null,"Kingsley Academy (Hounslow Manor School)","121991","2013-04-01","London","Hounslow  "]
[null,null,null,null,null,null,null,null,null,null,null,null,null,null,"Kingsley School - Kettering","120656","2012-02-01","East Midlands","Northamptonshire"]
[null,null,null,null,null,null,null,null,null,null,null,null,null,null,"Kingsmead Academy - Taunton","119540","2011-04-01","South West","Somerset"]
[null,null,null,null,null,null,null,null,null,null,null,null,null,null,"Kingsmead School - Enfield","119288","2010-10-01","London","Enfield"]
[null,null,null,null,null,null,null,null,null,null,null,null,null,null,"Kingsmoor Primary School","122841","2012-12-01","East of England","Essex"]
[null,null,null,null,null,null,null,null,null,null,null,null,null,null,"Kingsthorpe College","122371","2012-11-01T14:53:40","East Midlands","Northamptonshire"]
[null,null,null,null,null,null,null,null,null,null,null,null,null,null,"Kingston Park Primary and Nursery School","122956","2012-12-01","East Midlands","Nottinghamshire"]
[null,null,null,null,null,null,null,null,null,null,null,null,null,null,"Kingston School - Thundersley","120220","2011-08-01","East of England","Essex"]
[null,null,null,null,null,null,null,null,null,null,null,null,null,null,"Kingstone and Thruxton Primary School","120426","2011-09-01","West Midlands","Herefordshire"]
[null,null,null,null,null,null,null,null,null,null,null,null,null,null,"Kingstone High School","120073","2011-08-01","West Midlands","Herefordshire"]
[null,null,null,null,null,null,null,null,null,null,null,null,null,null,"Kingswinford School & Science College, The","120520","2012-01-01","West Midlands","Dudley"]
[null,null,null,null,null,null,null,null,null,null,null,null,null,null,"Kingswood Academy - Hull","122809","2013-07-01","Yorkshire & The Humber","Hull"]
[null,null,null,null,null,null,null,null,null,null,null,null,null,null,"Kingswood Primary Academy - Corby","122684","2013-04-01","East Midlands","Northamptonshire "]
[null,null,null,null,null,null,null,null,null,null,null,null,null,null,"Kingswood School, The - Corby","124835","2013-09-01","East Midlands","Northamptonshire"]
[null,null,null,null,null,null,null,null,null,null,null,null,null,null,"Kirby Muxloe Primary School","126355","2013-11-01","East Midlands","Leicestershire"]
[null,null,null,null,null,null,null,null,null,null,null,null,null,null,"Kirby Primary School - Frinton-on-Sea","124683","2013-10-01","East of England","Essex"]
[null,null,null,null,null,null,null,null,null,null,null,null,null,null,"Kirk Hallam Community Technology & Sports College","119485","2011-03-01","East Midlands","Derbyshire"]
[null,null,null,null,null,null,null,null,null,null,null,null,null,null,"Kirk Sandall Infant School","122723","2012-11-01","Yorkshire & The Humber","Doncaster"]
[null,null,null,null,null,null,null,null,null,null,null,null,null,null,"Kirkbie Kendal School","119686","2011-04-01","North West","Cumbria"]
[null,null,null,null,null,null,null,null,null,null,null,null,null,null,"Kirkby College - Kirkby-in-Ashfield","121041","2012-08-01T12:43:15","East Midlands","Nottinghamshire"]
[null,null,null,null,null,null,null,null,null,null,null,null,null,null,"Kirkby High School","124216","2013-09-01","North West","Knowsley"]
[null,null,null,null,null,null,null,null,null,null,null,null,null,null,"Kirkby Stephen Grammar School","120107","2011-08-01","North West","Cumbria"]
[null,null,null,null,null,null,null,null,null,null,null,null,null,null,"Kirkby-la-Thorpe Church of England Primary School, The","124736","2013-12-01","East Midlands","Lincolnshire"]
[null,null,null,null,null,null,null,null,null,null,null,null,null,null,"Knights Templar School, The","119626","2011-04-01","East of England","Hertfordshire"]
[null,null,null,null,null,null,null,null,null,null,null,null,null,null,"Knightsfield School","122167","2012-08-01","East of England","Hertfordshire"]
[null,null,null,null,null,null,null,null,null,null,null,null,null,null,"Knole Academy","119193","2010-09-01","South East","Kent"]
[null,null,null,null,null,null,null,null,null,null,null,null,null,null,"Knollmead Primary School",130138,"2014-04-01","London","Royal Borough of Kingston Upon Thames"]
[null,null,null,null,null,null,null,null,null,null,null,null,null,null,"Knottingley Church of England Voluntary Controlled Junior and Infant School","122738","2012-12-01","Yorkshire & The Humber","Wakefield"]
[null,null,null,null,null,null,null,null,null,null,null,null,null,null,"Knottingley England Lane Junior Infant and Nursery School","127205","2013-12-01","Yorkshire & The Humber","Wakefield"]
[null,null,null,null,null,null,null,null,null,null,null,null,null,null,"Knowle Church of England Primary School","123878","2013-04-01","West Midlands","Solihull  "]
[null,null,null,null,null,null,null,null,null,null,null,null,null,null,"Knutsford High School","121163","2012-04-01","North West","Cheshire East"]
[null,null,null,null,null,null,null,null,null,null,null,null,null,null,"Krishna-Avanti Primary School - Harrow","122713","2012-09-01","London","Harrow"]
[null,null,null,null,null,null,null,null,null,null,null,null,null,null,"Krishna-Avanti Primary School - Leicester","120530","2011-09-01","East Midlands","Leicester"]
[null,null,null,null,null,null,null,null,null,null,null,null,null,null,"Laceby Acres Primary School","128058","2014-02-01","Yorkshire & The Humber","North East Lincolnshire"]
[null,null,null,null,null,null,null,null,null,null,null,null,null,null,"Lacey Green Primary School","120368","2011-09-01","North West","Cheshire East"]
[null,null,null,null,null,null,null,null,null,null,null,null,null,null,"Ladock CofE School","127543","2013-12-01","South West","Cornwall"]
[null,null,null,null,null,null,null,null,null,null,null,null,null,null,"Lady Hawkins High School","120540","2011-11-01","West Midlands","Herefordshire"]
[null,null,null,null,null,null,null,null,null,null,null,null,null,null,"Lady Jane Grey Primary School","122816","2012-10-01","East Midlands","Leicestershire"]
[null,null,null,null,null,null,null,null,null,null,null,null,null,null,"Lady Margaret School","122577","2012-09-01","London","Hammersmith and Fulham"]
[null,null,null,null,null,null,null,null,null,null,null,null,null,null,"Lady Seaward's Church of England Primary School","120523","2011-11-01","South West","Devon"]
[null,null,null,null,null,null,null,null,null,null,null,null,null,null,"Ladybarn Primary School","124681","2013-09-01","North West","Manchester"]
[null,null,null,null,null,null,null,null,null,null,null,null,null,null,"Ladygrove Park Primary School","123909","2013-06-01","South East","Oxfordshire"]
[null,null,null,null,null,null,null,null,null,null,null,null,null,null,"Lakelands School, Sports and Language College, The","122587","2012-12-01","West Midlands","Shropshire"]
[null,null,null,null,null,null,null,null,null,null,null,null,null,null,"Lambeth Academy","118624","2004-09-01","London","Lambeth"]
[null,null,null,null,null,null,null,null,null,null,null,null,null,null,"Lampton School","119270","2010-09-01","London","Hounslow"]
[null,null,null,null,null,null,null,null,null,null,null,null,null,null,"Lancaster Girls' Grammar School","119412","2011-01-01","North West","Lancashire"]
[null,null,null,null,null,null,null,null,null,null,null,null,null,null,"Lancaster Royal Grammar School","119751","2011-04-15","North West","Lancashire"]
[null,null,null,null,null,null,null,null,null,null,null,null,null,null,"Landau Forte Academy - Amington","119203","2010-09-01","West Midlands","Staffordshire"]
[null,null,null,null,null,null,null,null,null,null,null,null,null,null,"Landau Forte Academy - Moorhead","121918","2012-09-01","East Midlands","Derby"]
[null,null,null,null,null,null,null,null,null,null,null,null,null,null,"Landau Forte Academy - QEMS","120146","2011-09-01","West Midlands","Staffordshire"]
[null,null,null,null,null,null,null,null,null,null,null,null,null,null,"Landau Forte Academy Greenacres","123267","2013-09-01","West Midlands","Staffordshire"]
[null,null,null,null,null,null,null,null,null,null,null,null,null,null,"Landau Forte College - Derby","118636","2006-09-01","East Midlands","Derby"]
[null,null,null,null,null,null,null,null,null,null,null,null,null,null,"Landulph School","127406","2014-01-01","South West","Cornwall"]
[null,null,null,null,null,null,null,null,null,null,null,null,null,null,"Langdale Free School","123320","2013-09-01","North West","Blackpool"]
[null,null,null,null,null,null,null,null,null,null,null,null,null,null,"Langdon Academy","127703","2014-01-01","London","Newham"]
[null,null,null,null,null,null,null,null,null,null,null,null,null,null,"Langer Primary School","121077","2012-05-01","East of England","Suffolk"]
[null,null,null,null,null,null,null,null,null,null,null,null,null,null,"Langham CofE (Controlled) Primary School","124624","2013-07-01","East Midlands","Rutland"]
[null,null,null,null,null,null,null,null,null,null,null,null,null,null,"Langley Academy - Slough","118632","2008-09-14","South East","Slough"]
[null,null,null,null,null,null,null,null,null,null,null,null,null,null,"Langley Grammar School - Langley","119554","2011-04-01","South East","Slough"]
[null,null,null,null,null,null,null,null,null,null,null,null,null,null,"Langley Hall Primary Academy - Langley","120461","2011-09-01","South East","Slough"]
[null,null,null,null,null,null,null,null,null,null,null,null,null,null,"Langley Park School for Boys","119544","2011-04-01","London","Bromley"]
[null,null,null,null,null,null,null,null,null,null,null,null,null,null,"Langley Park School for Girls","120006","2011-08-01","London","Bromley"]
[null,null,null,null,null,null,null,null,null,null,null,null,null,null,"Langley School, Specialist College - Solihull","120007","2011-08-01","West Midlands","Solihull"]
[null,null,null,null,null,null,null,null,null,null,null,null,null,null,"Langmoor Primary School Oadby","124538","2013-07-01","East Midlands","Leicestershire"]
[null,null,null,null,null,null,null,null,null,null,null,null,null,null,"Langtons Junior School","124242","2013-04-01","London","Havering  "]
[null,null,null,null,null,null,null,null,null,null,null,null,null,null,"Langtree School","120994","2012-04-01","South East","Oxfordshire"]
[null,null,null,null,null,null,null,null,null,null,null,null,null,null,"Lansdowne Primary Academy","121152","2012-04-01","East of England","Thurrock"]
[null,null,null,null,null,null,null,null,null,null,null,null,null,null,"Lapford Community Primary School","120869","2012-01-01","South West","Devon"]
[null,null,null,null,null,null,null,null,null,null,null,null,null,null,"Lark Hall Infant and Nursery Academy","124782","2014-01-01","West Midlands","Staffordshire"]
[null,null,null,null,null,null,null,null,null,null,null,null,null,null,"Lark Rise Lower School","119290","2010-10-01","East of England","Central Bedfordshire"]
[null,null,null,null,null,null,null,null,null,null,null,null,null,null,"Larkman Primary School","124572","2013-09-01","East of England","Norfolk"]
[null,null,null,null,null,null,null,null,null,null,null,null,null,null,"Latchmere School","122414","2012-09-01","London","Kingston Upon Thames"]
[null,null,null,null,null,null,null,null,null,null,null,null,null,null,"Latimer Education Centre/Pupil Referral Unit, The",129567,"2014-04-01","London","Royal Borough of Kensington and Chelsea"]
[null,null,null,null,null,null,null,null,null,null,null,null,null,null,"Launceston College","123169","2013-01-01","South West","Cornwall"]
[null,null,null,null,null,null,null,null,null,null,null,null,null,null,"Launde Primary School","124350","2013-06-01","East Midlands","Leicestershire"]
[null,null,null,null,null,null,null,null,null,null,null,null,null,null,"Laurel Lane Primary School","122935","2013-04-01","London","Hillingdon  "]
[null,null,null,null,null,null,null,null,null,null,null,null,null,null,"Lavington School","119400","2011-01-01","South West","Wiltshire"]
[null,null,null,null,null,null,null,null,null,null,null,null,null,null,"LeAF Primary Academy","123051","2012-12-01","South West","Bournemouth"]
[null,null,null,null,null,null,null,null,null,null,null,null,null,null,"LeAF Studio School, The","122885","2012-09-01","South West","Bournemouth"]
[null,null,null,null,null,null,null,null,null,null,null,null,null,null,"Leamington Primary and Nursery School","124824","2013-09-01","East Midlands","Nottinghamshire"]
[null,null,null,null,null,null,null,null,null,null,null,null,null,null,"Lee Chapel Primary School","120108","2011-08-01","East of England","Essex"]
[null,null,null,null,null,null,null,null,null,null,null,null,null,null,"Leeds Jewish Free School","123321","2013-09-01","Yorkshire & The Humber","Leeds"]
[null,null,null,null,null,null,null,null,null,null,null,null,null,null,"Leeds West Academy","119091","2009-09-01","Yorkshire & The Humber","Leeds"]
[null,null,null,null,null,null,null,null,null,null,null,null,null,null,"Lees Brook Community Sports College","120095","2011-09-01","East Midlands","Derby"]
[null,null,null,null,null,null,null,null,null,null,null,null,null,null,"Leigh Primary School","127383","2014-01-01","West Midlands","Birmingham"]
[null,null,null,null,null,null,null,null,null,null,null,null,null,null,"Leigh Technology Academy","118686","2007-09-01","South East","Kent"]
[null,null,null,null,null,null,null,null,null,null,null,null,null,null,"Leigh Westleigh Methodist Primary School","124692","2013-09-01","North West","Wigan"]
[null,null,null,null,null,null,null,null,null,null,null,null,null,null,"Leighfield Primary School","123260","2013-04-01","East Midlands","Rutland "]
[null,null,null,null,null,null,null,null,null,null,null,null,null,null,"Leighton Primary School","124179","2013-06-01","North West","Cheshire East"]
[null,null,null,null,null,null,null,null,null,null,null,null,null,null,"Lena Gardens Primary School",129583,"2014-03-01","London","Hammersmith and Fulham"]
[null,null,null,null,null,null,null,null,null,null,null,null,null,null,"Lerryn CofE Primary School","123078","2012-12-01","South West","Cornwall"]
[null,null,null,null,null,null,null,null,null,null,null,null,null,null,"Lethbridge Primary School","120191","2011-08-01","South West","Swindon"]
[null,null,null,null,null,null,null,null,null,null,null,null,null,null,"Leventhorpe School, The","120156","2011-08-01","East of England","Hertfordshire"]
[null,null,null,null,null,null,null,null,null,null,null,null,null,null,"Lever Edge Primary Academy","119392","2011-01-01","North West","Bolton"]
[null,null,null,null,null,null,null,null,null,null,null,null,null,null,"Leverington Primary Academy","119585","2011-04-01","East of England","Cambridgeshire"]
[null,null,null,null,null,null,null,null,null,null,null,null,null,null,"Lewannick Community Primary School","129552","2014-02-01","South West","Cornwall"]
[null,null,null,null,null,null,null,null,null,null,null,null,null,null,"Ley Hill Junior and Infant (NC) School","124324","2013-07-01","West Midlands","Birmingham"]
[null,null,null,null,null,null,null,null,null,null,null,null,null,null,"Leysland High School","122377","2012-08-01","East Midlands","Leicestershire"]
[null,null,null,null,null,null,null,null,null,null,null,null,null,null,"Lickhill Primary School","120615","2012-02-01","West Midlands","Worcestershire"]
[null,null,null,null,null,null,null,null,null,null,null,null,null,null,"Light Hall School Specialist Mathematics and Computing College","120231","2011-08-01","West Midlands","Solihull"]
[null,null,null,null,null,null,null,null,null,null,null,null,null,null,"Lighthouse School","122534","2012-09-01","Yorkshire & The Humber","Leeds"]
[null,null,null,null,null,null,null,null,null,null,null,null,null,null,"Lime Tree Primary School - Sale",127505,"2014-05-01","North West","Trafford"]
[null,null,null,null,null,null,null,null,null,null,null,null,null,null,"Lime Tree Primary School - Reigate","126289","2013-08-01","South East","Surrey"]
[null,null,null,null,null,null,null,null,null,null,null,null,null,null,"Limehurst Academy","120098","2011-09-01","East Midlands","Leicestershire"]
[null,null,null,null,null,null,null,null,null,null,null,null,null,null,"Lincoln Carlton Academy","126508","2013-10-01","East Midlands","Lincolnshire"]
[null,null,null,null,null,null,null,null,null,null,null,null,null,null,"Lincoln Castle Academy","119669","2011-04-01","East Midlands","Lincolnshire"]
[null,null,null,null,null,null,null,null,null,null,null,null,null,null,"Lincoln Christ's Hospital School","120408","2011-09-01","East Midlands","Lincolnshire"]
[null,null,null,null,null,null,null,null,null,null,null,null,null,null,"Lincoln Manor Leas Junior School, The","124196","2013-04-01","East Midlands","Lincolnshire "]
[null,null,null,null,null,null,null,null,null,null,null,null,null,null,"Lincroft Middle School","119471","2011-02-01","East of England","Bedford"]
[null,null,null,null,null,null,null,null,null,null,null,null,null,null,"Lindley Junior School","120547","2011-10-01","Yorkshire & The Humber","Kirklees"]
[null,null,null,null,null,null,null,null,null,null,null,null,null,null,"Lings Primary School","122490","2012-11-01","East Midlands","Northamptonshire"]
[null,null,null,null,null,null,null,null,null,null,null,null,null,null,"Link School, The - Bath",128037,"2014-04-01","South West","Bath & North East Somerset"]
[null,null,null,null,null,null,null,null,null,null,null,null,null,null,"Links Education Support Centre, The","122706","2013-02-01","East of England","Hertfordshire"]
[null,null,null,null,null,null,null,null,null,null,null,null,null,null,"Linslade Middle School","119759","2011-06-01","East of England","Central Bedfordshire"]
[null,null,null,null,null,null,null,null,null,null,null,null,null,null,"Linton Village College","119451","2011-02-01","East of England","Cambridgeshire"]
[null,null,null,null,null,null,null,null,null,null,null,null,null,null,"Lipson Cooperative Academy Trust","119683","2011-04-01","South West","Plymouth"]
[null,null,null,null,null,null,null,null,null,null,null,null,null,null,"Lisle Marsden Church of England Academy","120559","2011-11-01","Yorkshire & The Humber","North East Lincolnshire"]
[null,null,null,null,null,null,null,null,null,null,null,null,null,null,"Little Gonerby Church of England Infant School, The","122711","2012-10-01","East Midlands","Lincolnshire"]
[null,null,null,null,null,null,null,null,null,null,null,null,null,null,"Little Mead Primary School","122769","2012-11-01","South West","Bristol City"]
[null,null,null,null,null,null,null,null,null,null,null,null,null,null,"Little Parndon Primary School",124688,"2014-04-01","East of England","Essex"]
[null,null,null,null,null,null,null,null,null,null,null,null,null,null,"Little Reddings Primary School","121208","2012-02-01","East of England","Hertfordshire"]
[null,null,null,null,null,null,null,null,null,null,null,null,null,null,"Littledown School","124730","2013-10-01","South East","Slough"]
[null,null,null,null,null,null,null,null,null,null,null,null,null,null,"Littlehampton Academy, The","118853","2009-09-01","South East","West Sussex"]
[null,null,null,null,null,null,null,null,null,null,null,null,null,null,"Littletown Primary School","120849","2011-12-01","South West","Devon"]
[null,null,null,null,null,null,null,null,null,null,null,null,null,null,"Littleworth Academy","121939","2013-09-01","Yorkshire & The Humber","Barnsley"]
[null,null,null,null,null,null,null,null,null,null,null,null,null,null,"Liverpool College","122814","2013-09-01","North West","Liverpool"]
[null,null,null,null,null,null,null,null,null,null,null,null,null,null,"Liverpool Life Sciences UTC","122158","2013-09-01","North West","Liverpool"]
[null,null,null,null,null,null,null,null,null,null,null,null,null,null,"Llangrove CofE Primary School","122821","2013-02-01","West Midlands","Herefordshire"]
[null,null,null,null,null,null,null,null,null,null,null,null,null,null,"Loatlands Primary School","124516","2013-09-01","East Midlands","Northamptonshire"]
[null,null,null,null,null,null,null,null,null,null,null,null,null,null,"Lode Heath School","120008","2011-08-01","West Midlands","Solihull"]
[null,null,null,null,null,null,null,null,null,null,null,null,null,null,"Lodge Park Academy","120943","2013-01-01","East Midlands","Northamptonshire"]
[null,null,null,null,null,null,null,null,null,null,null,null,null,null,"Lofthouse Gate Primary School","124778","2013-09-01","Yorkshire & The Humber","Wakefield"]
[null,null,null,null,null,null,null,null,null,null,null,null,null,null,"London Academy - Barnet","118396","2004-09-01","London","Barnet"]
[null,null,null,null,null,null,null,null,null,null,null,null,null,null,"London Academy of Excellence - Newham","121994","2012-09-01","London","Newham"]
[null,null,null,null,null,null,null,null,null,null,null,null,null,null,"London Oratory School, The","120157","2011-08-01","London","Hammersmith and Fulham"]
[null,null,null,null,null,null,null,null,null,null,null,null,null,null,"Long Bennington Church of England Primary School","121040","2012-04-01","East Midlands","Lincolnshire"]
[null,null,null,null,null,null,null,null,null,null,null,null,null,null,"Long Eaton School, The","119650","2011-04-01","East Midlands","Derbyshire"]
[null,null,null,null,null,null,null,null,null,null,null,null,null,null,"Long Field School","122654","2012-09-01","East Midlands","Leicestershire"]
[null,null,null,null,null,null,null,null,null,null,null,null,null,null,"Longcot and Fernham Church of England Primary School","124532","2013-11-01","South East","Oxfordshire"]
[null,null,null,null,null,null,null,null,null,null,null,null,null,null,"Longdean School","120110","2011-08-01","East of England","Hertfordshire"]
[null,null,null,null,null,null,null,null,null,null,null,null,null,null,"Longfield Academy","118625","2008-09-01","South East","Kent"]
[null,null,null,null,null,null,null,null,null,null,null,null,null,null,"Longfield Academy of Sport","120222","2011-08-01","North East","Darlington"]
[null,null,null,null,null,null,null,null,null,null,null,null,null,null,"Longhill Primary School","124261","2013-10-01","Yorkshire & The Humber","Hull"]
[null,null,null,null,null,null,null,null,null,null,null,null,null,null,"Longley Primary School","124615","2013-09-01","Yorkshire & The Humber","Sheffield"]
[null,null,null,null,null,null,null,null,null,null,null,null,null,null,"Longsands College","119992","2011-08-01","East of England","Cambridgeshire"]
[null,null,null,null,null,null,null,null,null,null,null,null,null,null,"Longsight Community Primary","123322","2013-09-01","North West","Manchester"]
[null,null,null,null,null,null,null,null,null,null,null,null,null,null,"Longspee School","124205","2013-09-01","South West","Poole"]
[null,null,null,null,null,null,null,null,null,null,null,null,null,null,"Looe Community School","120828","2012-02-01","South West","Cornwall"]
[null,null,null,null,null,null,null,null,null,null,null,null,null,null,"Looe Primary School","125175","2013-11-01","South West","Cornwall"]
[null,null,null,null,null,null,null,null,null,null,null,null,null,null,"Lord Derby Academy","124231","2014-02-01","North West","Knowsley"]
[null,null,null,null,null,null,null,null,null,null,null,null,null,null,"Lord Lawson of Beamish Academy","120758","2012-03-01T11:00:19","North East","Gateshead"]
[null,null,null,null,null,null,null,null,null,null,null,null,null,null,"Lord Scudamore Foundation School","119796","2011-06-01","West Midlands","Herefordshire"]
[null,null,null,null,null,null,null,null,null,null,null,null,null,null,"Lord Silkin School, The","124325","2013-04-01","West Midlands","Telford and Wrekin "]
[null,null,null,null,null,null,null,null,null,null,null,null,null,null,"Lord Williams's School","122280","2012-09-01","South East","Oxfordshire"]
[null,null,null,null,null,null,null,null,null,null,null,null,null,null,"Lord Wilson School",130352,"2014-04-01","South East","Hampshire"]
[null,null,null,null,null,null,null,null,null,null,null,null,null,null,"Lordswood Boys' School","122557","2013-01-01","West Midlands","Birmingham"]
[null,null,null,null,null,null,null,null,null,null,null,null,null,null,"Lordswood Girls School and Sixth Form Centre","119622","2011-04-01","West Midlands","Birmingham"]
[null,null,null,null,null,null,null,null,null,null,null,null,null,null,"Lordswood School - Chatham","124659","2013-11-01","South East","Medway"]
[null,null,null,null,null,null,null,null,null,null,null,null,null,null,"Loreto College - St. Albans","121920","2012-05-01T14:05:41","East of England","Hertfordshire"]
[null,null,null,null,null,null,null,null,null,null,null,null,null,null,"Loreto Grammar School - Trafford","122561","2012-08-01T12:24:43","North West","Trafford"]
[null,null,null,null,null,null,null,null,null,null,null,null,null,null,"Lostock Hall Community High School and Arts College","120111","2011-08-01","North West","Lancashire"]
[null,null,null,null,null,null,null,null,null,null,null,null,null,null,"Loughton School - Milton Keynes","124158","2013-07-01","South East","Milton Keynes"]
[null,null,null,null,null,null,null,null,null,null,null,null,null,null,"Lound Infant School","124315","2013-07-01","Yorkshire & The Humber","Sheffield"]
[null,null,null,null,null,null,null,null,null,null,null,null,null,null,"Lound Junior School","124298","2013-07-01","Yorkshire & The Humber","Sheffield"]
[null,null,null,null,null,null,null,null,null,null,null,null,null,null,"Louth Kidgate Primary School","121871","2012-09-01","East Midlands","Lincolnshire"]
[null,null,null,null,null,null,null,null,null,null,null,null,null,null,"Lowbrook Primary School","119659","2011-04-01","South East","Windsor and Maidenhead"]
[null,null,null,null,null,null,null,null,null,null,null,null,null,null,"Loxford School of Science and Technology","126527","2013-12-01","London","Redbridge"]
[null,null,null,null,null,null,null,null,null,null,null,null,null,null,"Lubenham All Saints Church of England Primary School","124556","2013-07-01","East Midlands","Leicestershire"]
[null,null,null,null,null,null,null,null,null,null,null,null,null,null,"Luddendenfoot Junior and Infant School","120764","2011-12-01","Yorkshire & The Humber","Calderdale"]
[null,null,null,null,null,null,null,null,null,null,null,null,null,null,"Luddenham School","121132","2012-04-01","South East","Kent"]
[null,null,null,null,null,null,null,null,null,null,null,null,null,null,"Ludgvan Community Primary School","120395","2011-09-01","South West","Cornwall"]
[null,null,null,null,null,null,null,null,null,null,null,null,null,null,"Ludlow Infant School - Southampton","122604","2012-09-01","South East","Southampton"]
[null,null,null,null,null,null,null,null,null,null,null,null,null,null,"Ludlow Junior School - Southampton","122948","2012-12-01","South East","Southampton"]
[null,null,null,null,null,null,null,null,null,null,null,null,null,null,"Lugwardine Primary School","121087","2012-04-01","West Midlands","Herefordshire"]
[null,null,null,null,null,null,null,null,null,null,null,null,null,null,"Lumbertubs Primary School","122254","2012-11-01","East Midlands","Northamptonshire"]
[null,null,null,null,null,null,null,null,null,null,null,null,null,null,"Lutterworth College","121464","2012-06-01","East Midlands","Leicestershire"]
[null,null,null,null,null,null,null,null,null,null,null,null,null,null,"Lutterworth High School","120115","2011-08-01","East Midlands","Leicestershire"]
[null,null,null,null,null,null,null,null,null,null,null,null,null,null,"Lydiard Park Academy","120264","2011-08-01","South West","Swindon"]
[null,null,null,null,null,null,null,null,null,null,null,null,null,null,"Lymm High Voluntary Controlled School","122502","2012-09-01","North West","Warrington"]
[null,null,null,null,null,null,null,null,null,null,null,null,null,null,"Lynch Hill (Foundation Primary) School","120010","2011-08-01","South East","Slough"]
[null,null,null,null,null,null,null,null,null,null,null,null,null,null,"Lyndhurst Junior School","122991","2013-04-01","South East","Portsmouth "]
[null,null,null,null,null,null,null,null,null,null,null,null,null,null,"Lynn Grove High School","120607","2011-10-01","East of England","Norfolk"]
[null,null,null,null,null,null,null,null,null,null,null,null,null,null,"Lynsted & Norton Primary School","120374","2011-09-01","South East","Kent"]
[null,null,null,null,null,null,null,null,null,null,null,null,null,null,"Lyons Hall Primary School","121080","2012-04-01","East of England","Essex"]
[null,null,null,null,null,null,null,null,null,null,null,null,null,null,"Mablethorpe Community Primary and Nursery School","121873","2012-09-01","East Midlands","Lincolnshire"]
[null,null,null,null,null,null,null,null,null,null,null,null,null,null,"Macaulay School","122794","2012-11-01","Yorkshire & The Humber","North East Lincolnshire"]
[null,null,null,null,null,null,null,null,null,null,null,null,null,null,"Macclesfield Academy, The","120064","2011-09-01","North West","Cheshire East"]
[null,null,null,null,null,null,null,null,null,null,null,null,null,null,"Macmillan Academy","118397","2005-09-01","North East","Middlesbrough"]
[null,null,null,null,null,null,null,null,null,null,null,null,null,null,"Madeley Academy - Telford","119112","2007-04-01","West Midlands","Telford and Wrekin"]
[null,null,null,null,null,null,null,null,null,null,null,null,null,null,"Madeley High School - Crewe","124490","2013-09-01","West Midlands","Staffordshire"]
[null,null,null,null,null,null,null,null,null,null,null,null,null,null,"Magdalen College School","122354","2013-01-01","East Midlands","Northamptonshire"]
[null,null,null,null,null,null,null,null,null,null,null,null,null,null,"Maghull High School","120488","2011-10-01","North West","Sefton"]
[null,null,null,null,null,null,null,null,null,null,null,null,null,null,"Magna Academy - Poole","123952","2013-09-01","South West","Poole"]
[null,null,null,null,null,null,null,null,null,null,null,null,null,null,"Magna Carta School, The - Staines","120116","2011-08-01","South East","Surrey"]
[null,null,null,null,null,null,null,null,null,null,null,null,null,null,"Magnus CofE School","127677","2014-02-01","East Midlands","Nottinghamshire"]
[null,null,null,null,null,null,null,null,null,null,null,null,null,null,"Maharishi School","120462","2011-09-01","North West","Lancashire"]
[null,null,null,null,null,null,null,null,null,null,null,null,null,null,"Maiden Beech Middle School","120118","2011-08-01","South West","Somerset"]
[null,null,null,null,null,null,null,null,null,null,null,null,null,null,"Maiden Erlegh School","119547","2011-04-01","South East","Wokingham"]
[null,null,null,null,null,null,null,null,null,null,null,null,null,null,"Maidstone, St John's Church of England Primary School","120672","2011-11-01","South East","Kent"]
[null,null,null,null,null,null,null,null,null,null,null,null,null,null,"Malcolm Arnold Academy","119331","2010-09-01","East Midlands","Northamptonshire"]
[null,null,null,null,null,null,null,null,null,null,null,null,null,null,"Malcolm Sargent Primary School, The","120735","2011-12-01","East Midlands","Lincolnshire"]
[null,null,null,null,null,null,null,null,null,null,null,null,null,null,"Malmesbury Church of England Primary School","121117","2013-06-01","South West","Wiltshire"]
[null,null,null,null,null,null,null,null,null,null,null,null,null,null,"Malmesbury School","120308","2011-08-17","South West","Wiltshire"]
[null,null,null,null,null,null,null,null,null,null,null,null,null,null,"Maltby Academy","119142","2010-01-04","Yorkshire & The Humber","Rotherham"]
[null,null,null,null,null,null,null,null,null,null,null,null,null,null,"Maltby Redwood Junior and Infant School","127292","2014-02-01","Yorkshire & The Humber","Rotherham"]
[null,null,null,null,null,null,null,null,null,null,null,null,null,null,"Maltings Academy - Witham","118666","2008-09-04","East of England","Essex"]
[null,null,null,null,null,null,null,null,null,null,null,null,null,null,"Maltings Free College, The - Halifax","123356","2013-09-01","Yorkshire & The Humber","Calderdale"]
[null,null,null,null,null,null,null,null,null,null,null,null,null,null,"Malvin's Close Primary School","124147","2013-06-01","North East","Northumberland"]
[null,null,null,null,null,null,null,null,null,null,null,null,null,null,"Manaccan Primary School",126513,"2014-03-01","South West","Cornwall"]
[null,null,null,null,null,null,null,null,null,null,null,null,null,null,"Manchester Academy","119074","2003-09-01","North West","Manchester"]
[null,null,null,null,null,null,null,null,null,null,null,null,null,null,"Manchester Communications Academy","119171","2010-09-01","North West","Manchester"]
[null,null,null,null,null,null,null,null,null,null,null,null,null,null,"Manchester Creative and Media Academy (Boys)","119149","2009-09-04","North West","Manchester"]
[null,null,null,null,null,null,null,null,null,null,null,null,null,null,"Manchester Creative and Media Academy (Girls)","119148","2009-09-04","North West","Manchester"]
[null,null,null,null,null,null,null,null,null,null,null,null,null,null,"Manchester Creative Learning Academy","120496","2012-09-01","North West","Manchester"]
[null,null,null,null,null,null,null,null,null,null,null,null,null,null,"Manchester Enterprise Academy","118890","2009-09-07","North West","Manchester"]
[null,null,null,null,null,null,null,null,null,null,null,null,null,null,"Manchester Health Academy","118891","2009-09-07","North West","Manchester"]
[null,null,null,null,null,null,null,null,null,null,null,null,null,null,"Mandeville Primary School","123179","2013-01-01","East of England","Hertfordshire"]
[null,null,null,null,null,null,null,null,null,null,null,null,null,null,"Manningtree High School","121170","2012-03-01","East of England","Essex"]
[null,null,null,null,null,null,null,null,null,null,null,null,null,null,"Manor Academy, The - Mansfield","120158","2011-08-01","East Midlands","Nottinghamshire"]
[null,null,null,null,null,null,null,null,null,null,null,null,null,null,"Manor Church of England Academy Trust - York","119567","2011-04-01","Yorkshire & The Humber","City of York"]
[null,null,null,null,null,null,null,null,null,null,null,null,null,null,"Manor CofE VC Primary School, The - Melksham","122796","2012-09-01","South West","Wiltshire"]
[null,null,null,null,null,null,null,null,null,null,null,null,null,null,"Manor Court Community Primary School - Chard","123849","2013-04-01","South West","Somerset "]
[null,null,null,null,null,null,null,null,null,null,null,null,null,null,"Manor Croft Academy","122426","2013-09-01","Yorkshire & The Humber","Kirklees"]
[null,null,null,null,null,null,null,null,null,null,null,null,null,null,"Manor High School Oadby","120120","2011-08-01","East Midlands","Leicestershire"]
[null,null,null,null,null,null,null,null,null,null,null,null,null,null,"Manor Leas Infants School","122137","2012-06-01","East Midlands","Lincolnshire"]
[null,null,null,null,null,null,null,null,null,null,null,null,null,null,"Manor Oak Primary School","125184","2013-12-01","London","Bromley"]
[null,null,null,null,null,null,null,null,null,null,null,null,null,null,"Manor School - Didcot","123897","2013-06-01","South East","Oxfordshire"]
[null,null,null,null,null,null,null,null,null,null,null,null,null,null,"Manor School and Sports College - Wellingborough","120606","2011-11-01","East Midlands","Northamptonshire"]
[null,null,null,null,null,null,null,null,null,null,null,null,null,null,"Mansel Primary School","122653","2013-04-01","Yorkshire & The Humber","Sheffield "]
[null,null,null,null,null,null,null,null,null,null,null,null,null,null,"Mansfield Green Academy - Birmingham","122848","2013-01-01","West Midlands","Birmingham"]
[null,null,null,null,null,null,null,null,null,null,null,null,null,null,"Mansfield Primary Academy - Mansfield","122494","2012-09-01","East Midlands","Nottinghamshire"]
[null,null,null,null,null,null,null,null,null,null,null,null,null,null,"Manston St James Church of England Primary School","122162","2012-10-01","Yorkshire & The Humber","Leeds"]
[null,null,null,null,null,null,null,null,null,null,null,null,null,null,"Maple Court Primary School","122487","2013-06-01","West Midlands","Stoke on Trent"]
[null,null,null,null,null,null,null,null,null,null,null,null,null,null,"Maplefields School","120716","2012-09-01","East Midlands","Northamptonshire"]
[null,null,null,null,null,null,null,null,null,null,null,null,null,null,"Maplesden Noakes School, The","120854","2012-02-01","South East","Kent"]
[null,null,null,null,null,null,null,null,null,null,null,null,null,null,"Marchbank Free School","123397","2013-09-01","North East","Darlington"]
[null,null,null,null,null,null,null,null,null,null,null,null,null,null,"Marches School and Technology College, The","119979","2011-08-01","West Midlands","Shropshire"]
[null,null,null,null,null,null,null,null,null,null,null,null,null,null,"Marden Lodge Primary School - Caterham","124747","2013-09-01","South East","Surrey"]
[null,null,null,null,null,null,null,null,null,null,null,null,null,null,"Marden Primary School - Hereford","127115","2014-01-01","West Midlands","Herefordshire"]
[null,null,null,null,null,null,null,null,null,null,null,null,null,null,"Margaret Beaufort Middle School and Arts College","119475","2011-02-01","East of England","Bedford"]
[null,null,null,null,null,null,null,null,null,null,null,null,null,null,"Marine Academy Plymouth","119222","2010-09-01","South West","Plymouth"]
[null,null,null,null,null,null,null,null,null,null,null,null,null,null,"Marine Academy Primary (Map2)","123324","2013-09-01","South West","Plymouth"]
[null,null,null,null,null,null,null,null,null,null,null,null,null,null,"Marish Primary School","122065","2012-06-01","South East","Slough"]
[null,null,null,null,null,null,null,null,null,null,null,null,null,null,"Mark Hall Academy","122431","2013-09-01","East of England","Essex"]
[null,null,null,null,null,null,null,null,null,null,null,null,null,null,"Mark Rutherford School","123075","2013-01-01","East of England","Bedford"]
[null,null,null,null,null,null,null,null,null,null,null,null,null,null,"Market Bosworth High School","121956","2012-05-01","East Midlands","Leicestershire"]
[null,null,null,null,null,null,null,null,null,null,null,null,null,null,"Marlborough Church of England School, The - Woodstock","122590","2012-10-01","South East","Oxfordshire"]
[null,null,null,null,null,null,null,null,null,null,null,null,null,null,"Marlborough Road Academy - Salford","120942","2012-09-01","North West","Salford"]
[null,null,null,null,null,null,null,null,null,null,null,null,null,null,"Marlborough Science Academy, The - St Albans","121214","2012-04-01","East of England","Hertfordshire"]
[null,null,null,null,null,null,null,null,null,null,null,null,null,null,"Marling School","120123","2011-08-01","South West","Gloucestershire"]
[null,null,null,null,null,null,null,null,null,null,null,null,null,null,"Marlowe Academy","118398","2005-09-01","South East","Kent"]
[null,null,null,null,null,null,null,null,null,null,null,null,null,null,"Marsh Academy","118626","2007-09-01","South East","Kent"]
[null,null,null,null,null,null,null,null,null,null,null,null,null,null,"Marston Green Infant School",130151,"2014-04-01","West Midlands","Solihull"]
[null,null,null,null,null,null,null,null,null,null,null,null,null,null,"Marston Vale Middle School","122735","2013-01-01","East of England","Bedford"]
[null,null,null,null,null,null,null,null,null,null,null,null,null,null,"Martham Foundation Primary School and Nursery","119384","2010-12-01","East of England","Norfolk"]
[null,null,null,null,null,null,null,null,null,null,null,null,null,null,"Martin High School","121032","2012-02-01","East Midlands","Leicestershire"]
[null,null,null,null,null,null,null,null,null,null,null,null,null,null,"Mary Rose School","123241","2013-11-01","South East","Portsmouth"]
[null,null,null,null,null,null,null,null,null,null,null,null,null,null,"Maryhill High School","124084","2013-06-01","West Midlands","Staffordshire"]
[null,null,null,null,null,null,null,null,null,null,null,null,null,null,"Maryhill Primary School","125183","2013-09-01","West Midlands","Staffordshire"]
[null,null,null,null,null,null,null,null,null,null,null,null,null,null,"Mascalls School","119847","2011-07-01","South East","Kent"]
[null,null,null,null,null,null,null,null,null,null,null,null,null,null,"Matchborough First School","126349","2013-11-01","West Midlands","Worcestershire"]
[null,null,null,null,null,null,null,null,null,null,null,null,null,null,"Matthew Arnold School, The","120819","2012-09-01","South East","Surrey"]
[null,null,null,null,null,null,null,null,null,null,null,null,null,null,"Maybury Primary School","124241","2013-10-01","Yorkshire & The Humber","Hull"]
[null,null,null,null,null,null,null,null,null,null,null,null,null,null,"Mayfield Grammar","120867","2012-02-01","South East","Kent"]
[null,null,null,null,null,null,null,null,null,null,null,null,null,null,"Mayflower Community Academy - Plymouth","123103","2013-09-01","South West","Plymouth"]
[null,null,null,null,null,null,null,null,null,null,null,null,null,null,"Mayflower High School - Billericay","120048","2011-08-01","East of England","Essex"]
[null,null,null,null,null,null,null,null,null,null,null,null,null,null,"McAuley Catholic High School, The",130146,"2014-05-01T11:30:42","Yorkshire & The Humber","Doncaster"]
[null,null,null,null,null,null,null,null,null,null,null,null,null,null,"Mead Academy Trust, The","121106","2012-05-01","South West","Wiltshire"]
[null,null,null,null,null,null,null,null,null,null,null,null,null,null,"Meadgate Primary School",127997,"2014-04-01","East of England","Essex"]
[null,null,null,null,null,null,null,null,null,null,null,null,null,null,"Meadow Community Primary School, The","121890","2012-06-01","East Midlands","Leicestershire"]
[null,null,null,null,null,null,null,null,null,null,null,null,null,null,"Meadow Park Academy","121899","2012-09-01","South East","Reading"]
[null,null,null,null,null,null,null,null,null,null,null,null,null,null,"Meadow Primary School",129549,"2014-04-01","East of England","Cambridgeshire"]
[null,null,null,null,null,null,null,null,null,null,null,null,null,null,"Meadowdale Middle School - Bedlington","120868","2012-04-01","North East","Northumberland"]
[null,null,null,null,null,null,null,null,null,null,null,null,null,null,"Meadowdale Primary School - Market Harborough","122092","2012-07-01","East Midlands","Leicestershire"]
[null,null,null,null,null,null,null,null,null,null,null,null,null,null,"Meadowhead School - Sheffield","121019","2012-08-01","Yorkshire & The Humber","Sheffield"]
[null,null,null,null,null,null,null,null,null,null,null,null,null,null,"Measham Church of England Primary School","123060","2012-12-01","East Midlands","Leicestershire"]
[null,null,null,null,null,null,null,null,null,null,null,null,null,null,"Meden School and Technology College, The","122396","2012-09-01","East Midlands","Nottinghamshire"]
[null,null,null,null,null,null,null,null,null,null,null,null,null,null,"Medmerry Primary School","120375","2011-09-01","South East","West Sussex"]
[null,null,null,null,null,null,null,null,null,null,null,null,null,null,"Melbourn Village College","120478","2011-10-01","East of England","Cambridgeshire"]
[null,null,null,null,null,null,null,null,null,null,null,null,null,null,"Melior Community Academy","122636","2013-01-01","Yorkshire & The Humber","North Lincolnshire"]
[null,null,null,null,null,null,null,null,null,null,null,null,null,null,"Melland High School","122273","2012-08-01","North West","Manchester"]
[null,null,null,null,null,null,null,null,null,null,null,null,null,null,"Mellor Primary School","120643","2011-10-01","North West","Stockport"]
[null,null,null,null,null,null,null,null,null,null,null,null,null,null,"Meopham Community Academy","119385","2010-12-01","South East","Kent"]
[null,null,null,null,null,null,null,null,null,null,null,null,null,null,"Meopham School","120845","2013-02-01","South East","Kent"]
[null,null,null,null,null,null,null,null,null,null,null,null,null,null,"Meppershall CofE VA Lower School","124180","2013-07-01","East of England","Central Bedfordshire"]
[null,null,null,null,null,null,null,null,null,null,null,null,null,null,"Mercenfeld Primary School","123269","2013-04-01","East Midlands","Leicestershire "]
[null,null,null,null,null,null,null,null,null,null,null,null,null,null,"Merchants' Academy","118627","2008-09-10","South West","Bristol City"]
[null,null,null,null,null,null,null,null,null,null,null,null,null,null,"Mere Green Combined School","122693","2013-04-01","West Midlands","Birmingham "]
[null,null,null,null,null,null,null,null,null,null,null,null,null,null,"Meridian School","119940","2011-11-01","East of England","Hertfordshire"]
[null,null,null,null,null,null,null,null,null,null,null,null,null,null,"Merlin Top Primary School","122854","2013-04-01","Yorkshire & The Humber","Bradford   "]
[null,null,null,null,null,null,null,null,null,null,null,null,null,null,"Merrill Academy, The","120960","2013-01-01","East Midlands","Derby"]
[null,null,null,null,null,null,null,null,null,null,null,null,null,null,"Merritts Brook E-ACT Primary Academy","122661","2013-01-01","West Midlands","Birmingham"]
[null,null,null,null,null,null,null,null,null,null,null,null,null,null,"Mersey Primary School","124661","2013-10-01","Yorkshire & The Humber","Hull"]
[null,null,null,null,null,null,null,null,null,null,null,null,null,null,"Merton Primary School, The","122384","2012-10-01","East Midlands","Leicestershire"]
[null,null,null,null,null,null,null,null,null,null,null,null,null,null,"Messing Primary School","122876","2013-09-01","East of England","Essex"]
[null,null,null,null,null,null,null,null,null,null,null,null,null,null,"Mesty Croft Academy","120645","2012-04-01","West Midlands","Sandwell"]
[null,null,null,null,null,null,null,null,null,null,null,null,null,null,"Meynell Community Primary School","122779","2013-04-01","Yorkshire & The Humber","Sheffield "]
[null,null,null,null,null,null,null,null,null,null,null,null,null,null,"Middlefield Community Primary School","122077","2012-06-01","East of England","Cambridgeshire"]
[null,null,null,null,null,null,null,null,null,null,null,null,null,null,"Middlethorpe Primary Academy","121082","2012-04-01","Yorkshire & The Humber","North East Lincolnshire"]
[null,null,null,null,null,null,null,null,null,null,null,null,null,null,"Middleton Cheney Community Primary School","124170","2013-09-01","East Midlands","Northamptonshire"]
[null,null,null,null,null,null,null,null,null,null,null,null,null,null,"Middleton Primary School - Milton Keynes",129882,"2014-04-01","South East","Milton Keynes"]
[null,null,null,null,null,null,null,null,null,null,null,null,null,null,"Midhurst Rother College","118907","2009-01-01","South East","West Sussex"]
[null,null,null,null,null,null,null,null,null,null,null,null,null,null,"Midland Studio College - Hinckley","122528","2012-09-01","East Midlands","Leicestershire"]
[null,null,null,null,null,null,null,null,null,null,null,null,null,null,"Midland Studio College - Nuneaton","123389","2013-09-01","West Midlands","Warwickshire"]
[null,null,null,null,null,null,null,null,null,null,null,null,null,null,"Mildenhall College of Technology","124383","2013-07-01","East of England","Suffolk"]
[null,null,null,null,null,null,null,null,null,null,null,null,null,null,"Milestone School","120666","2012-02-01","South East","Kent"]
[null,null,null,null,null,null,null,null,null,null,null,null,null,null,"Milford Primary School - Nottingham","122716","2012-09-01","East Midlands","Nottingham"]
[null,null,null,null,null,null,null,null,null,null,null,null,null,null,"Milford-on-Sea Church of England Primary School","124765","2013-09-01","South East","Hampshire"]
[null,null,null,null,null,null,null,null,null,null,null,null,null,null,"Mill Chase Community Technology College","124995","2013-11-01","South East","Hampshire"]
[null,null,null,null,null,null,null,null,null,null,null,null,null,null,"Mill Hill County High School","119934","2011-09-01","London","Barnet"]
[null,null,null,null,null,null,null,null,null,null,null,null,null,null,"Mill Primary School, The","124064","2013-09-01","South East","West Sussex"]
[null,null,null,null,null,null,null,null,null,null,null,null,null,null,"Millbank Primary School","122182","2012-09-01","London","Westminster"]
[null,null,null,null,null,null,null,null,null,null,null,null,null,null,"Millbrook Academy - Gloucester","120918","2012-01-01","South West","Gloucestershire"]
[null,null,null,null,null,null,null,null,null,null,null,null,null,null,"Millbrook CofE VA Primary School - Torpoint","124515","2013-12-01","South West","Cornwall"]
[null,null,null,null,null,null,null,null,null,null,null,null,null,null,"Millbrook Primary School - Swindon","124164","2013-11-01","South West","Swindon"]
[null,null,null,null,null,null,null,null,null,null,null,null,null,null,"Millfield L.E.A.D Academy","122872","2013-01-01","East Midlands","Leicestershire"]
[null,null,null,null,null,null,null,null,null,null,null,null,null,null,"Milstead and Frinsted Church of England Primary School","120376","2011-09-01","South East","Kent"]
[null,null,null,null,null,null,null,null,null,null,null,null,null,null,"Milton Court Primary School - Kent","123947","2013-04-01","South East","Kent "]
[null,null,null,null,null,null,null,null,null,null,null,null,null,null,"Milton Keynes Academy, The - Milton Keynes","118892","2009-09-01","South East","Milton Keynes"]
[null,null,null,null,null,null,null,null,null,null,null,null,null,null,"Minehead Middle School","119774","2011-06-01","South West","Somerset"]
[null,null,null,null,null,null,null,null,null,null,null,null,null,null,"Minerva Primary Academy","121085","2012-09-01","South West","Bristol City"]
[null,null,null,null,null,null,null,null,null,null,null,null,null,null,"Minsthorpe Community College","120011","2011-08-01","Yorkshire & The Humber","Wakefield"]
[null,null,null,null,null,null,null,null,null,null,null,null,null,null,"Mirfield Free Grammar and Sixth Form, The","119643","2011-04-01","Yorkshire & The Humber","Kirklees"]
[null,null,null,null,null,null,null,null,null,null,null,null,null,null,"Mirus Academy, The","120274","2012-01-01","West Midlands","Walsall"]
[null,null,null,null,null,null,null,null,null,null,null,null,null,null,"Mitton Manor Primary School","127725","2014-01-01","South West","Gloucestershire"]
[null,null,null,null,null,null,null,null,null,null,null,null,null,null,"Molehill Copse Primary School","121174","2012-06-01","South East","Kent"]
[null,null,null,null,null,null,null,null,null,null,null,null,null,null,"Monk's Walk School","122506","2012-09-01","East of England","Hertfordshire"]
[null,null,null,null,null,null,null,null,null,null,null,null,null,null,"Monkton Infants' School","123068","2013-02-01","North East","South Tyneside"]
[null,null,null,null,null,null,null,null,null,null,null,null,null,null,"Monkton Junior School","120763","2012-04-01","North East","South Tyneside"]
[null,null,null,null,null,null,null,null,null,null,null,null,null,null,"Monkwearmouth School","129441","2013-12-01","North East","Sunderland"]
[null,null,null,null,null,null,null,null,null,null,null,null,null,null,"Monkwick Infant and Nursery School",130353,"2014-04-01","East of England","Essex"]
[null,null,null,null,null,null,null,null,null,null,null,null,null,null,"Monkwick Junior School",129414,"2014-04-01","East of England","Essex"]
[null,null,null,null,null,null,null,null,null,null,null,null,null,null,"Montacute School","120286","2011-10-01","South West","Poole"]
[null,null,null,null,null,null,null,null,null,null,null,null,null,null,"Montagu Primary School",130147,"2014-05-01","Yorkshire & The Humber","Doncaster"]
[null,null,null,null,null,null,null,null,null,null,null,null,null,null,"Monteclefe Church of England VA Junior School","122181","2012-08-01","South West","Somerset"]
[null,null,null,null,null,null,null,null,null,null,null,null,null,null,"Montem Primary School","126341","2013-12-01","South East","Slough"]
[null,null,null,null,null,null,null,null,null,null,null,null,null,null,"Monteney Primary School","122646","2013-04-01","Yorkshire & The Humber","Sheffield "]
[null,null,null,null,null,null,null,null,null,null,null,null,null,null,"Montgomery High School - Blackpool","121827","2012-04-01","North West","Blackpool"]
[null,null,null,null,null,null,null,null,null,null,null,null,null,null,"Montgomery Primary Academy - Birmingham","122298","2012-10-01","West Midlands","Birmingham"]
[null,null,null,null,null,null,null,null,null,null,null,null,null,null,"Montsaye Community College","120049","2011-08-01","East Midlands","Northamptonshire"]
[null,null,null,null,null,null,null,null,null,null,null,null,null,null,"Moor End Technology College","120016","2011-08-17","Yorkshire & The Humber","Kirklees"]
[null,null,null,null,null,null,null,null,null,null,null,null,null,null,"Moor Green Primary","122924","2013-01-01","West Midlands","Birmingham"]
[null,null,null,null,null,null,null,null,null,null,null,null,null,null,"Moorcroft School","121020","2012-06-01","London","Hillingdon"]
[null,null,null,null,null,null,null,null,null,null,null,null,null,null,"Moorlands CofE Voluntary Controlled Primary School","124696","2013-11-01","East of England","Norfolk"]
[null,null,null,null,null,null,null,null,null,null,null,null,null,null,"Moorside Community Primary Academy School","123811","2013-04-01","North West","Lancashire "]
[null,null,null,null,null,null,null,null,null,null,null,null,null,null,"Mordiford CofE Primary School","122598","2013-12-01","West Midlands","Herefordshire"]
[null,null,null,null,null,null,null,null,null,null,null,null,null,null,"Moredon Primary School - Swindon","121861","2013-10-01","South West","Swindon"]
[null,null,null,null,null,null,null,null,null,null,null,null,null,null,"Morehall Primary School - Kent",127197,"2014-04-01","South East","Kent"]
[null,null,null,null,null,null,null,null,null,null,null,null,null,null,"Morgan's Vale and Woodfalls Church of England Voluntary Aided Primary School","124566","2013-09-01","South West","Wiltshire"]
[null,null,null,null,null,null,null,null,null,null,null,null,null,null,"Morley Academy","119424","2011-01-01","Yorkshire & The Humber","Leeds"]
[null,null,null,null,null,null,null,null,null,null,null,null,null,null,"Morpeth Chantry Middle School","120712","2011-12-01","North East","Northumberland"]
[null,null,null,null,null,null,null,null,null,null,null,null,null,null,"Morpeth Newminster Middle School","120670","2011-12-01","North East","Northumberland"]
[null,null,null,null,null,null,null,null,null,null,null,null,null,null,"Mosaic Jewish Primary School","123339","2013-09-01","London","Wandsworth"]
[null,null,null,null,null,null,null,null,null,null,null,null,null,null,"Moseley Park - Wolverhampton","120977","2012-06-01","West Midlands","Wolverhampton"]
[null,null,null,null,null,null,null,null,null,null,null,null,null,null,"Mosley Primary School - Burton on Trent","122512","2012-11-01","West Midlands","Staffordshire"]
[null,null,null,null,null,null,null,null,null,null,null,null,null,null,"Mossbourne Community Academy","119080","2004-09-01","London","Hackney"]
[null,null,null,null,null,null,null,null,null,null,null,null,null,null,"Mottram St Andrew Primary School","119607","2011-04-01","North West","Cheshire East"]
[null,null,null,null,null,null,null,null,null,null,null,null,null,null,"Moulsham High School and Humanities College","119863","2011-07-01","East of England","Essex"]
[null,null,null,null,null,null,null,null,null,null,null,null,null,null,"Moulsham Infant School","119830","2011-07-01","East of England","Essex"]
[null,null,null,null,null,null,null,null,null,null,null,null,null,null,"Moulsham Junior School","121180","2012-04-01","East of England","Essex"]
[null,null,null,null,null,null,null,null,null,null,null,null,null,null,"Moulton School and Science College","120662","2011-11-01","East Midlands","Northamptonshire"]
[null,null,null,null,null,null,null,null,null,null,null,null,null,null,"Mount Grace High School - Hinckley","122510","2012-08-01","East Midlands","Leicestershire"]
[null,null,null,null,null,null,null,null,null,null,null,null,null,null,"Mount Grace School - Potters Bar","120224","2011-08-01","East of England","Hertfordshire"]
[null,null,null,null,null,null,null,null,null,null,null,null,null,null,"Mount Hawke Academy","119635","2011-04-01","South West","Cornwall"]
[null,null,null,null,null,null,null,null,null,null,null,null,null,null,"Mount Pellon Junior and Infant School","121898","2013-04-01","Yorkshire & The Humber","Calderdale  "]
[null,null,null,null,null,null,null,null,null,null,null,null,null,null,"Mount Street Infant and Nursery School","120627","2011-10-01","East Midlands","Lincolnshire"]
[null,null,null,null,null,null,null,null,null,null,null,null,null,null,"Mountbatten School, The","119642","2011-04-01","South East","Hampshire"]
[null,null,null,null,null,null,null,null,null,null,null,null,null,null,"Mountfields Lodge School","122694","2012-12-01","East Midlands","Leicestershire"]
[null,null,null,null,null,null,null,null,null,null,null,null,null,null,"Mountford Manor Primary School","121903","2012-07-01","South West","Swindon"]
[null,null,null,null,null,null,null,null,null,null,null,null,null,null,"Mounts Bay School","119873","2011-07-01","South West","Cornwall"]
[null,null,null,null,null,null,null,null,null,null,null,null,null,null,"Mowden Infants' School","122168","2012-06-01","North East","Darlington"]
[null,null,null,null,null,null,null,null,null,null,null,null,null,null,"Mowden Junior School","122070","2012-06-01","North East","Darlington"]
[null,null,null,null,null,null,null,null,null,null,null,null,null,null,"Murrow Primary School","124410","2013-07-01","East of England","Cambridgeshire"]
[null,null,null,null,null,null,null,null,null,null,null,null,null,null,"Murton Community Primary School","122347","2012-09-01","North East","Durham"]
[null,null,null,null,null,null,null,null,null,null,null,null,null,null,"Myton School","119900","2011-07-01","West Midlands","Warwickshire"]
[null,null,null,null,null,null,null,null,null,null,null,null,null,null,"Nailsea School","122737","2012-08-01T12:47:16","South West","North Somerset"]
[null,null,null,null,null,null,null,null,null,null,null,null,null,null,"Nanaksar Primary School","123325","2013-09-01","London","Hillingdon"]
[null,null,null,null,null,null,null,null,null,null,null,null,null,null,"Nansen Primary Schoool","122484","2012-10-01","West Midlands","Birmingham"]
[null,null,null,null,null,null,null,null,null,null,null,null,null,null,"Nansloe Community Primary School","120684","2011-11-01","South West","Cornwall"]
[null,null,null,null,null,null,null,null,null,null,null,null,null,null,"Narborough The Pastures Primary School","123880","2013-05-01","East Midlands","Leicestershire "]
[null,null,null,null,null,null,null,null,null,null,null,null,null,null,"Nas Thames Valley School, The","123399","2013-09-01","South East","Reading"]
[null,null,null,null,null,null,null,null,null,null,null,null,null,null,"Naseby Church of England Primary School",126346,"2014-04-01","East Midlands","Northamptonshire"]
[null,null,null,null,null,null,null,null,null,null,null,null,null,null,"National Church of England Junior School, The - Grantham","122359","2012-07-01","East Midlands","Lincolnshire"]
[null,null,null,null,null,null,null,null,null,null,null,null,null,null,"National School, A CofE Technology College, The","120159","2011-08-01","East Midlands","Nottinghamshire"]
[null,null,null,null,null,null,null,null,null,null,null,null,null,null,"Neale-Wade Academy, The","122936","2013-04-01","East of England","Cambridgeshire "]
[null,null,null,null,null,null,null,null,null,null,null,null,null,null,"Neasden Primary School","124775","2013-10-01","Yorkshire & The Humber","Hull"]
[null,null,null,null,null,null,null,null,null,null,null,null,null,null,"Nechells Junior and Infant School","122258","2012-09-01","West Midlands","Birmingham"]
[null,null,null,null,null,null,null,null,null,null,null,null,null,null,"Nelson Academy, The - Downham Market","127386","2014-01-01","East of England","Norfolk"]
[null,null,null,null,null,null,null,null,null,null,null,null,null,null,"Nelson Primary School - Whitton","126481","2014-01-01","London","Richmond Upon Thames"]
[null,null,null,null,null,null,null,null,null,null,null,null,null,null,"Nene Infant School, The - Wisbech","125026","2013-10-01","East of England","Cambridgeshire"]
[null,null,null,null,null,null,null,null,null,null,null,null,null,null,"Nene Park Academy - Peterborough","120082","2011-09-01","East of England","Peterborough"]
[null,null,null,null,null,null,null,null,null,null,null,null,null,null,"Neston High School","121828","2012-07-01","North West","Cheshire West and Chester"]
[null,null,null,null,null,null,null,null,null,null,null,null,null,null,"Nethergate School","121026","2012-03-01","East Midlands","Nottingham"]
[null,null,null,null,null,null,null,null,null,null,null,null,null,null,"Nethersole CofE Primary School,The","122486","2013-04-01","West Midlands","Warwickshire "]
[null,null,null,null,null,null,null,null,null,null,null,null,null,null,"Netherthorpe School","120700","2012-03-01T11:30:42","East Midlands","Derbyshire"]
[null,null,null,null,null,null,null,null,null,null,null,null,null,null,"Nettleham Infant School, The","122698","2012-09-01","East Midlands","Lincolnshire"]
[null,null,null,null,null,null,null,null,null,null,null,null,null,null,"Neville Lovett Community School and Continuing Education Centre, The","124768","2013-09-01","South East","Hampshire"]
[null,null,null,null,null,null,null,null,null,null,null,null,null,null,"New Bridge School","121914","2012-09-01","North West","Oldham"]
[null,null,null,null,null,null,null,null,null,null,null,null,null,null,"New Campus Basildon Studio School","123390","2013-09-01","East of England","Essex"]
[null,null,null,null,null,null,null,null,null,null,null,null,null,null,"New Chapter Primary School","119938","2013-01-01","South East","Milton Keynes"]
[null,null,null,null,null,null,null,null,null,null,null,null,null,null,"New Charter Academy","118628","2008-09-04","North West","Tameside"]
[null,null,null,null,null,null,null,null,null,null,null,null,null,null,"New Forest Academy","122253","2012-09-01","South East","Hampshire"]
[null,null,null,null,null,null,null,null,null,null,null,null,null,null,"New Haw Community Junior School",124758,"2014-05-01","South East","Surrey"]
[null,null,null,null,null,null,null,null,null,null,null,null,null,null,"New Islington Free School","123326","2013-09-01","North West","Manchester"]
[null,null,null,null,null,null,null,null,null,null,null,null,null,null,"New Line Learning Academy","119073","2007-09-01","South East","Kent"]
[null,null,null,null,null,null,null,null,null,null,null,null,null,null,"New Monument School","123877","2013-07-01","South East","Surrey"]
[null,null,null,null,null,null,null,null,null,null,null,null,null,null,"New North Community School","119939","2011-09-01","London","Islington"]
[null,null,null,null,null,null,null,null,null,null,null,null,null,null,"New Penshaw Academy","123943","2013-04-01","North East","Sunderland "]
[null,null,null,null,null,null,null,null,null,null,null,null,null,null,"New Rickstones Academy","118667","2008-09-04","East of England","Essex"]
[null,null,null,null,null,null,null,null,null,null,null,null,null,null,"New Road Primary School","127443","2014-01-01","East of England","Cambridgeshire"]
[null,null,null,null,null,null,null,null,null,null,null,null,null,null,"New Seaham Primary School","122264","2012-10-01","North East","Durham"]
[null,null,null,null,null,null,null,null,null,null,null,null,null,null,"New Waltham Academy","120768","2012-01-01","Yorkshire & The Humber","North East Lincolnshire"]
[null,null,null,null,null,null,null,null,null,null,null,null,null,null,"Newark Academy, The","122307","2012-11-01T14:50:34","East Midlands","Nottinghamshire"]
[null,null,null,null,null,null,null,null,null,null,null,null,null,null,"Newark Hill Primary School",129415,"2014-04-01","East of England","Peterborough"]
[null,null,null,null,null,null,null,null,null,null,null,null,null,null,"Newbold Riverside Primary School","122862","2012-11-01","West Midlands","Warwickshire"]
[null,null,null,null,null,null,null,null,null,null,null,null,null,null,"Newbottle Primary School","127708","2014-02-01","North East","Sunderland"]
[null,null,null,null,null,null,null,null,null,null,null,null,null,null,"Newbridge High School","122107","2012-07-01","East Midlands","Leicestershire"]
[null,null,null,null,null,null,null,null,null,null,null,null,null,null,"Newbridge Short Stay Secondary School",127250,"2014-04-01","West Midlands","Worcestershire"]
[null,null,null,null,null,null,null,null,null,null,null,null,null,null,"Newent Community School and Sixth Form Centre","114738","2012-09-01","South West","Gloucestershire"]
[null,null,null,null,null,null,null,null,null,null,null,null,null,null,"Newfield Secondary School",127665,"2014-05-01","Yorkshire & The Humber","Sheffield"]
[null,null,null,null,null,null,null,null,null,null,null,null,null,null,"Newington Primary School","121850","2012-09-01","Yorkshire & The Humber","Hull"]
[null,null,null,null,null,null,null,null,null,null,null,null,null,null,"Newlands Primary School - Ramsgate","121947","2012-09-01","South East","Kent"]
[null,null,null,null,null,null,null,null,null,null,null,null,null,null,"Newlands School - Southwark","126464","2013-09-01","London","Southwark"]
[null,null,null,null,null,null,null,null,null,null,null,null,null,null,"Newlands Spring Primary School","122104","2012-08-01","East of England","Essex"]
[null,null,null,null,null,null,null,null,null,null,null,null,null,null,"Newnham Primary School","124327","2013-09-01","East Midlands","Northamptonshire"]
[null,null,null,null,null,null,null,null,null,null,null,null,null,null,"Newport Community School","120012","2011-08-01","South West","Devon"]
[null,null,null,null,null,null,null,null,null,null,null,null,null,null,"Newport Free Grammar School","122136","2012-09-01","East of England","Essex"]
[null,null,null,null,null,null,null,null,null,null,null,null,null,null,"Newport Girls' High School Academy Trust","119605","2011-04-01","West Midlands","Telford and Wrekin"]
[null,null,null,null,null,null,null,null,null,null,null,null,null,null,"Newquay Junior School","119407","2011-01-01","South West","Cornwall"]
[null,null,null,null,null,null,null,null,null,null,null,null,null,null,"Newquay Tretherras","119593","2011-04-01","South West","Cornwall"]
[null,null,null,null,null,null,null,null,null,null,null,null,null,null,"Newstead Primary School - Stoke on Trent","124632","2013-11-01","West Midlands","Stoke on Trent"]
[null,null,null,null,null,null,null,null,null,null,null,null,null,null,"Newstead Wood School - Orpington","119582","2011-04-01","London","Bromley"]
[null,null,null,null,null,null,null,null,null,null,null,null,null,null,"Newton Abbot College","120124","2011-08-01","South West","Devon"]
[null,null,null,null,null,null,null,null,null,null,null,null,null,null,"Newton Ferrers Church of England Primary School","120476","2011-11-01","South West","Devon"]
[null,null,null,null,null,null,null,null,null,null,null,null,null,null,"Newton Regis CofE Primary School","123247","2013-09-01","West Midlands","Warwickshire"]
[null,null,null,null,null,null,null,null,null,null,null,null,null,null,"Newton Road Community Primary School","124676","2013-06-01","East Midlands","Northamptonshire"]
[null,null,null,null,null,null,null,null,null,null,null,null,null,null,"Nicholas Breakspear Catholic School","121182","2012-03-01T11:32:19","East of England","Hertfordshire"]
[null,null,null,null,null,null,null,null,null,null,null,null,null,null,"Nicholas Chamberlaine Technology College","124658","2013-09-01","West Midlands","Warwickshire"]
[null,null,null,null,null,null,null,null,null,null,null,null,null,null,"Nicholas Hawksmoor Primary School","119480","2011-02-01","East Midlands","Northamptonshire"]
[null,null,null,null,null,null,null,null,null,null,null,null,null,null,"Nightingale Academy","119229","2010-09-01","London","Enfield"]
[null,null,null,null,null,null,null,null,null,null,null,null,null,null,"Nine Maidens Short Stay School","122704","2013-06-01","South West","Cornwall"]
[null,null,null,null,null,null,null,null,null,null,null,null,null,null,"Ninestiles School","119291","2011-01-01","West Midlands","Birmingham"]
[null,null,null,null,null,null,null,null,null,null,null,null,null,null,"Nishkam Primary School","120502","2011-09-01","West Midlands","Birmingham"]
[null,null,null,null,null,null,null,null,null,null,null,null,null,null,"Nishkam School Trust","122052","2012-09-01","West Midlands","Birmingham"]
[null,null,null,null,null,null,null,null,null,null,null,null,null,null,"Nishkam School West London","123327","2013-09-01","London","Hounslow"]
[null,null,null,null,null,null,null,null,null,null,null,null,null,null,"Noadswood School","120125","2011-08-01","South East","Hampshire"]
[null,null,null,null,null,null,null,null,null,null,null,null,null,null,"Noel Park Primary Academy","121950","2012-09-01","London","Haringey"]
[null,null,null,null,null,null,null,null,null,null,null,null,null,null,"Nonsuch High School for Girls","119772","2011-06-01","London","Sutton"]
[null,null,null,null,null,null,null,null,null,null,null,null,null,null,"Norbreck Primary Academy","122169","2012-09-01","North West","Blackpool"]
[null,null,null,null,null,null,null,null,null,null,null,null,null,null,"Norbridge Primary School","120105","2011-09-01","East Midlands","Nottinghamshire"]
[null,null,null,null,null,null,null,null,null,null,null,null,null,null,"Norbury Manor Business and Enterprise College for Girls","120706","2012-01-01","London","Croydon"]
[null,null,null,null,null,null,null,null,null,null,null,null,null,null,"North Birmingham Academy","119143","2010-01-01","West Midlands","Birmingham"]
[null,null,null,null,null,null,null,null,null,null,null,null,null,null,"North Cambridge Academy","123938","2013-09-01","East of England","Cambridgeshire"]
[null,null,null,null,null,null,null,null,null,null,null,null,null,null,"North Cornwall Short Stay School","122703","2013-06-01","South West","Cornwall"]
[null,null,null,null,null,null,null,null,null,null,null,null,null,null,"North Durham Academy, The","119929","2011-09-01","North East","Durham"]
[null,null,null,null,null,null,null,null,null,null,null,null,null,null,"North East Wolverhampton Academy","119237","2010-09-01","West Midlands","Wolverhampton"]
[null,null,null,null,null,null,null,null,null,null,null,null,null,null,"North Halifax Grammar School, The","119786","2011-06-01","Yorkshire & The Humber","Calderdale"]
[null,null,null,null,null,null,null,null,null,null,null,null,null,null,"North Hykeham Ling Moor Primary School","122378","2012-09-01","East Midlands","Lincolnshire"]
[null,null,null,null,null,null,null,null,null,null,null,null,null,null,"North Kesteven School","119870","2011-07-01","East Midlands","Lincolnshire"]
[null,null,null,null,null,null,null,null,null,null,null,null,null,null,"North Leverton CofE Primary School","120728","2012-04-01","East Midlands","Nottinghamshire"]
[null,null,null,null,null,null,null,null,null,null,null,null,null,null,"North Liverpool Academy","118629","2006-09-01","North West","Liverpool"]
[null,null,null,null,null,null,null,null,null,null,null,null,null,null,"North Ormesby Primary School","122833","2012-10-01","North East","Middlesbrough"]
[null,null,null,null,null,null,null,null,null,null,null,null,null,null,"North Oxfordshire Academy","118908","2007-09-01","South East","Oxfordshire"]
[null,null,null,null,null,null,null,null,null,null,null,null,null,null,"North Shore Academy","119210","2010-09-01","North East","Stockton-on-Tees"]
[null,null,null,null,null,null,null,null,null,null,null,null,null,null,"North Thoresby Primary School","123823","2013-07-01","East Midlands","Lincolnshire"]
[null,null,null,null,null,null,null,null,null,null,null,null,null,null,"North Town Primary School","120126","2011-08-01","South West","Somerset"]
[null,null,null,null,null,null,null,null,null,null,null,null,null,null,"Northampton Academy","118399","2004-09-01","East Midlands","Northamptonshire"]
[null,null,null,null,null,null,null,null,null,null,null,null,null,null,"Northampton School for Boys","119246","2010-09-01","East Midlands","Northamptonshire"]
[null,null,null,null,null,null,null,null,null,null,null,null,null,null,"Northampton School for Girls","124176","2014-01-01","East Midlands","Northamptonshire"]
[null,null,null,null,null,null,null,null,null,null,null,null,null,null,"North-County Primary School, The","124222","2013-03-01","East Midlands","Lincolnshire"]
[null,null,null,null,null,null,null,null,null,null,null,null,null,null,"Northdown Primary School","122517","2012-09-01","South East","Kent"]
[null,null,null,null,null,null,null,null,null,null,null,null,null,null,"Northern House School","122146","2012-09-01","South East","Oxfordshire"]
[null,null,null,null,null,null,null,null,null,null,null,null,null,null,"Northgate Primary School","122109","2012-08-01","East of England","Hertfordshire"]
[null,null,null,null,null,null,null,null,null,null,null,null,null,null,"Northgate School Arts College","120135","2011-09-01","East Midlands","Northamptonshire"]
[null,null,null,null,null,null,null,null,null,null,null,null,null,null,"Northumberland Church of England Academy","118897","2009-09-01","North East","Northumberland"]
[null,null,null,null,null,null,null,null,null,null,null,null,null,null,"Northumberland Heath Primary School","119947","2011-09-01","London","Bexley"]
[null,null,null,null,null,null,null,null,null,null,null,null,null,null,"Northwood Primary School - Isle of Wight","124066","2013-04-01","South East","Isle of Wight "]
[null,null,null,null,null,null,null,null,null,null,null,null,null,null,"Northwood School - Northwood","120877","2012-02-01","London","Hillingdon"]
[null,null,null,null,null,null,null,null,null,null,null,null,null,null,"Norton Canes Academy","129553","2014-01-01","West Midlands","Staffordshire"]
[null,null,null,null,null,null,null,null,null,null,null,null,null,null,"Norton College","119743","2011-05-01","Yorkshire & The Humber","North Yorkshire"]
[null,null,null,null,null,null,null,null,null,null,null,null,null,null,"Norton Hill School","119292","2010-10-01","South West","Bath & North East Somerset"]
[null,null,null,null,null,null,null,null,null,null,null,null,null,null,"Norton Knatchbull School, THe","121028","2012-04-01","South East","Kent"]
[null,null,null,null,null,null,null,null,null,null,null,null,null,null,"Norton Primary Academy","127309","2014-01-01","North East","Stockton-on-Tees"]
[null,null,null,null,null,null,null,null,null,null,null,null,null,null,"Norwich Road Academy","124318","2013-08-01","East of England","Norfolk"]
[null,null,null,null,null,null,null,null,null,null,null,null,null,null,"Norwood Green Junior School","124313","2013-07-01","London","Hounslow"]
[null,null,null,null,null,null,null,null,null,null,null,null,null,null,"Notley Green Primary School","122074","2012-11-01","East of England","Essex"]
[null,null,null,null,null,null,null,null,null,null,null,null,null,null,"Notley High School","120013","2011-08-01","East of England","Essex"]
[null,null,null,null,null,null,null,null,null,null,null,null,null,null,"Notre Dame High School - Norwich","121105","2012-03-01T11:34:09","East of England","Norfolk"]
[null,null,null,null,null,null,null,null,null,null,null,null,null,null,"Notre Dame High School - Sheffield","121460","2012-07-01","Yorkshire & The Humber","Sheffield"]
[null,null,null,null,null,null,null,null,null,null,null,null,null,null,"Notre Dame RC School - Plymouth",130088,"2014-04-01","South West","Plymouth"]
[null,null,null,null,null,null,null,null,null,null,null,null,null,null,"Nottingham Academy","118893","2009-09-01","East Midlands","Nottingham"]
[null,null,null,null,null,null,null,null,null,null,null,null,null,null,"Nottingham Emmanuel School, The","123817","2013-06-01","East Midlands","Nottingham"]
[null,null,null,null,null,null,null,null,null,null,null,null,null,null,"Nottingham Girls' Academy","120184","2011-09-01","East Midlands","Nottingham"]
[null,null,null,null,null,null,null,null,null,null,null,null,null,null,"Nottingham University Samworth Academy","118852","2009-09-01","East Midlands","Nottingham"]
[null,null,null,null,null,null,null,null,null,null,null,null,null,null,"Nova Hreod Academy","121084","2014-01-01","South West","Swindon"]
[null,null,null,null,null,null,null,null,null,null,null,null,null,null,"Nower Hill High School","120028","2011-08-01","London","Harrow"]
[null,null,null,null,null,null,null,null,null,null,null,null,null,null,"Nuneaton Academy","119230","2010-09-01","West Midlands","Warwickshire"]
[null,null,null,null,null,null,null,null,null,null,null,null,null,null,"Nunnery Wood High School","120051","2011-08-01","West Midlands","Worcestershire"]
[null,null,null,null,null,null,null,null,null,null,null,null,null,null,"Nunthorpe School","122721","2012-10-01","North East","Redcar and Cleveland"]
[null,null,null,null,null,null,null,null,null,null,null,null,null,null,"Nyland School","121900","2012-07-01","South West","Swindon"]
[null,null,null,null,null,null,null,null,null,null,null,null,null,null,"Oak Bank School","124078","2013-11-01T14:17:32","East of England","Central Bedfordshire"]
[null,null,null,null,null,null,null,null,null,null,null,null,null,null,"Oak Tree Primary School, The","124161","2013-09-01","North East","Stockton-on-Tees"]
[null,null,null,null,null,null,null,null,null,null,null,null,null,null,"Oak View Academy, The - Winsford (Greenfields Primary School)",129289,"2014-04-01","North West","Cheshire West and Chester"]
[null,null,null,null,null,null,null,null,null,null,null,null,null,null,"Oak Wood Primary School","124142","2013-04-01","West Midlands","Warwickshire "]
[null,null,null,null,null,null,null,null,null,null,null,null,null,null,"Oak Wood Secondary School","124146","2013-04-01","West Midlands","Warwickshire "]
[null,null,null,null,null,null,null,null,null,null,null,null,null,null,"Oakbank School","121997","2012-09-01","South East","Wokingham"]
[null,null,null,null,null,null,null,null,null,null,null,null,null,null,"Oakefield Primary and Nursery School","124762","2013-11-01","North West","Cheshire East"]
[null,null,null,null,null,null,null,null,null,null,null,null,null,null,"Oakfield Primary School - Rugby","122866","2012-11-01","West Midlands","Warwickshire"]
[null,null,null,null,null,null,null,null,null,null,null,null,null,null,"Oakfield School - Frome","119970","2011-08-01","South West","Somerset"]
[null,null,null,null,null,null,null,null,null,null,null,null,null,null,"Oakgrove School","119509","2011-02-01","South East","Milton Keynes"]
[null,null,null,null,null,null,null,null,null,null,null,null,null,null,"Oakhill Primary Academy","120577","2012-02-01","Yorkshire & The Humber","Barnsley"]
[null,null,null,null,null,null,null,null,null,null,null,null,null,null,"Oaklands Catholic School","120377","2011-09-01","South East","Hampshire"]
[null,null,null,null,null,null,null,null,null,null,null,null,null,null,"Oaklands Primary School, The","122954","2013-01-01","West Midlands","Birmingham"]
[null,null,null,null,null,null,null,null,null,null,null,null,null,null,"Oakley Vale Primary School","124135","2013-09-01","East Midlands","Northamptonshire"]
[null,null,null,null,null,null,null,null,null,null,null,null,null,null,"Oakmead College of Technology","123089","2012-12-01","South West","Bournemouth"]
[null,null,null,null,null,null,null,null,null,null,null,null,null,null,"Oaks Academy - Maidstone","122237","2012-04-01","South East","Kent"]
[null,null,null,null,null,null,null,null,null,null,null,null,null,null,"Oaks Primary School, The - Crawley","122130","2012-09-01","South East","West Sussex"]
[null,null,null,null,null,null,null,null,null,null,null,null,null,null,"Oaktree School, The","123873","2013-09-01","South East","Surrey"]
[null,null,null,null,null,null,null,null,null,null,null,null,null,null,"Oakwood Academy, Visual Arts, Technology and Sports College","120825","2012-05-01","North West","Salford"]
[null,null,null,null,null,null,null,null,null,null,null,null,null,null,"Oakwood High School","127503","2013-12-01","Yorkshire & The Humber","Rotherham"]
[null,null,null,null,null,null,null,null,null,null,null,null,null,null,"Oakwood Park Grammar School","119728","2011-05-01","South East","Kent"]
[null,null,null,null,null,null,null,null,null,null,null,null,null,null,"Oakwood Primary Academy - Eastbourne","122020","2012-09-01","South East","East Sussex"]
[null,null,null,null,null,null,null,null,null,null,null,null,null,null,"Oakwood Primary School - Leeds","122639","2013-09-01","Yorkshire & The Humber","Leeds"]
[null,null,null,null,null,null,null,null,null,null,null,null,null,null,"Oasis Academy Blakenhale Infants","122788","2013-02-01","West Midlands","Birmingham"]
[null,null,null,null,null,null,null,null,null,null,null,null,null,null,"Oasis Academy Boulton","122839","2013-04-01","West Midlands","Birmingham "]
[null,null,null,null,null,null,null,null,null,null,null,null,null,null,"Oasis Academy Brightstowe","118668","2008-09-03","South West","Bristol City"]
[null,null,null,null,null,null,null,null,null,null,null,null,null,null,"Oasis Academy Byron","122111","2012-09-01","London","Croydon"]
[null,null,null,null,null,null,null,null,null,null,null,null,null,null,"Oasis Academy Connaught","121855","2012-09-01","South West","Bristol City"]
[null,null,null,null,null,null,null,null,null,null,null,null,null,null,"Oasis Academy Coulsdon","119122","2008-09-08","London","Croydon"]
[null,null,null,null,null,null,null,null,null,null,null,null,null,null,"Oasis Academy Enfield","118630","2007-09-01","London","Enfield"]
[null,null,null,null,null,null,null,null,null,null,null,null,null,null,"Oasis Academy Foundry","124160","2014-01-01","West Midlands","Birmingham"]
[null,null,null,null,null,null,null,null,null,null,null,null,null,null,"Oasis Academy Hadley","119085","2009-09-01","London","Enfield"]
[null,null,null,null,null,null,null,null,null,null,null,null,null,null,"Oasis Academy Harpur Mount","122044","2013-01-01","North West","Manchester"]
[null,null,null,null,null,null,null,null,null,null,null,null,null,null,"Oasis Academy Henderson Avenue","122321","2012-12-01","Yorkshire & The Humber","North Lincolnshire"]
[null,null,null,null,null,null,null,null,null,null,null,null,null,null,"Oasis Academy Hextable","124336","2013-09-01","South East","Kent"]
[null,null,null,null,null,null,null,null,null,null,null,null,null,null,"Oasis Academy Hobmoor","122838","2013-09-01","West Midlands","Birmingham"]
[null,null,null,null,null,null,null,null,null,null,null,null,null,null,"Oasis Academy Immingham","118631","2007-09-01","Yorkshire & The Humber","North East Lincolnshire"]
[null,null,null,null,null,null,null,null,null,null,null,null,null,null,"Oasis Academy Johanna","120349","2011-09-01","London","Lambeth"]
[null,null,null,null,null,null,null,null,null,null,null,null,null,null,"Oasis Academy John Williams","118671","2008-09-03","South West","Bristol City"]
[null,null,null,null,null,null,null,null,null,null,null,null,null,null,"Oasis Academy Lister Park","124211","2013-09-01","Yorkshire & The Humber","Bradford"]
[null,null,null,null,null,null,null,null,null,null,null,null,null,null,"Oasis Academy Long Cross","124602","2014-01-01","South West","Bristol"]
[null,null,null,null,null,null,null,null,null,null,null,null,null,null,"Oasis Academy Longmeadow","122884","2013-04-01","South West","Wiltshire "]
[null,null,null,null,null,null,null,null,null,null,null,null,null,null,"Oasis Academy Lord's Hill","119120","2008-09-01","South East","Southampton"]
[null,null,null,null,null,null,null,null,null,null,null,null,null,null,"Oasis Academy Mayfield","119121","2008-09-01","South East","Southampton"]
[null,null,null,null,null,null,null,null,null,null,null,null,null,null,"Oasis Academy MediaCityUK","118669","2008-09-08","North West","Salford"]
[null,null,null,null,null,null,null,null,null,null,null,null,null,null,"Oasis Academy New Oak","121199","2012-09-01","South West","Bristol City"]
[null,null,null,null,null,null,null,null,null,null,null,null,null,null,"Oasis Academy Nunsthorpe","120947","2012-09-01","Yorkshire & The Humber","North East Lincolnshire"]
[null,null,null,null,null,null,null,null,null,null,null,null,null,null,"Oasis Academy Oldham","119153","2010-09-01","North West","Oldham"]
[null,null,null,null,null,null,null,null,null,null,null,null,null,null,"Oasis Academy Parkwood","122849","2012-12-01","Yorkshire & The Humber","North Lincolnshire"]
[null,null,null,null,null,null,null,null,null,null,null,null,null,null,"Oasis Academy Pinewood","125027","2013-10-01","London","Havering"]
[null,null,null,null,null,null,null,null,null,null,null,null,null,null,"Oasis Academy Ryelands",129585,"2014-05-01","London","Croydon"]
[null,null,null,null,null,null,null,null,null,null,null,null,null,null,"Oasis Academy Shirley Park","119141","2009-09-01","London","Croydon"]
[null,null,null,null,null,null,null,null,null,null,null,null,null,null,"Oasis Academy Short Heath","122853","2013-02-01","West Midlands","Birmingham"]
[null,null,null,null,null,null,null,null,null,null,null,null,null,null,"Oasis Academy South Bank","123328","2013-09-01","London","Lambeth"]
[null,null,null,null,null,null,null,null,null,null,null,null,null,null,"Oasis Academy Wintringham","118637","2007-09-01","Yorkshire & The Humber","North East Lincolnshire"]
[null,null,null,null,null,null,null,null,null,null,null,null,null,null,"Oasis Limeside Academy","120369","2011-09-01","North West","Oldham"]
[null,null,null,null,null,null,null,null,null,null,null,null,null,null,"Ockendon School, The","119409","2011-01-01","East of England","Thurrock"]
[null,null,null,null,null,null,null,null,null,null,null,null,null,null,"Ocker Hill Junior School","124123","2013-09-01","West Midlands","Sandwell"]
[null,null,null,null,null,null,null,null,null,null,null,null,null,null,"Offa's Mead Primary School","122243","2012-09-01","South West","Gloucestershire"]
[null,null,null,null,null,null,null,null,null,null,null,null,null,null,"Old Basford Primary and Nursery School","122672","2012-09-01","East Midlands","Nottingham"]
[null,null,null,null,null,null,null,null,null,null,null,null,null,null,"Old Clee Primary School","124184","2013-04-01","Yorkshire & The Humber","North East Lincolnshire "]
[null,null,null,null,null,null,null,null,null,null,null,null,null,null,"Old Cleeve CofE School, Washford",124606,"2014-03-01","South West","Somerset"]
[null,null,null,null,null,null,null,null,null,null,null,null,null,null,"Old Dalby Church of England Primary School","124067","2013-09-01","East Midlands","Leicestershire"]
[null,null,null,null,null,null,null,null,null,null,null,null,null,null,"Old Earth Primary School","120445","2011-09-01","Yorkshire & The Humber","Calderdale"]
[null,null,null,null,null,null,null,null,null,null,null,null,null,null,"Old Ford Primary School","122994","2013-09-01","London","Tower Hamlets"]
[null,null,null,null,null,null,null,null,null,null,null,null,null,null,"Old Priory Junior Academy","120729","2012-02-01","South West","Plymouth"]
[null,null,null,null,null,null,null,null,null,null,null,null,null,null,"Old Trafford Community School",130136,"2014-04-01","North West","Trafford"]
[null,null,null,null,null,null,null,null,null,null,null,null,null,null,"Oldbury College of Sport","120610","2011-12-01T12:18:51","West Midlands","Sandwell"]
[null,null,null,null,null,null,null,null,null,null,null,null,null,null,"Oldershaw Academy, The","119895","2011-07-01","North West","Wirral"]
[null,null,null,null,null,null,null,null,null,null,null,null,null,null,"Oldfield School","119483","2011-02-01","South West","Bath & North East Somerset"]
[null,null,null,null,null,null,null,null,null,null,null,null,null,null,"Oldham Academy North, The","119194","2010-09-01","North West","Oldham"]
[null,null,null,null,null,null,null,null,null,null,null,null,null,null,"Oldknow Junior School","120428","2012-04-01","West Midlands","Birmingham"]
[null,null,null,null,null,null,null,null,null,null,null,null,null,null,"Olive School Blackburn, The","123359","2013-09-01","North West","Blackburn with Darwen"]
[null,null,null,null,null,null,null,null,null,null,null,null,null,null,"Olive School Hackney, The","123360","2013-09-01","London","Hackney"]
[null,null,null,null,null,null,null,null,null,null,null,null,null,null,"Olive Tree Primary School Bolton, The","123361","2013-09-01","North West","Bolton"]
[null,null,null,null,null,null,null,null,null,null,null,null,null,null,"Olney Infant School","119765","2011-06-01","South East","Milton Keynes"]
[null,null,null,null,null,null,null,null,null,null,null,null,null,null,"Olympic Primary School","124309","2013-05-01","East Midlands","Northamptonshire "]
[null,null,null,null,null,null,null,null,null,null,null,null,null,null,"One In A Million Free School","121998","2013-09-01","Yorkshire & The Humber","Bradford"]
[null,null,null,null,null,null,null,null,null,null,null,null,null,null,"Onslow St Audrey's School","120806","2012-01-01","East of England","Hertfordshire"]
[null,null,null,null,null,null,null,null,null,null,null,null,null,null,"Open Academy, The - Norwich","118673","2008-09-01","East of England","Norfolk"]
[null,null,null,null,null,null,null,null,null,null,null,null,null,null,"Orchard Meadow Primary School","122879","2013-08-01","South East","Oxfordshire"]
[null,null,null,null,null,null,null,null,null,null,null,null,null,null,"Orchard School - Bristol","120948","2012-09-01","South West","Bristol City"]
[null,null,null,null,null,null,null,null,null,null,null,null,null,null,"Orchard School - Milton Keynes","120963","2012-09-01","South East","Milton Keynes"]
[null,null,null,null,null,null,null,null,null,null,null,null,null,null,"Orchard Vale Community School","120527","2011-11-01","South West","Devon"]
[null,null,null,null,null,null,null,null,null,null,null,null,null,null,"Orchards Academy","119368","2010-11-01","South East","Kent"]
[null,null,null,null,null,null,null,null,null,null,null,null,null,null,"Ore Village Primary Academy","123949","2013-09-01","South East","East Sussex"]
[null,null,null,null,null,null,null,null,null,null,null,null,null,null,"Oreston Community Academy","119411","2011-01-01","South West","Plymouth"]
[null,null,null,null,null,null,null,null,null,null,null,null,null,null,"Oriel Primary School","125177","2013-10-01","London","Hounslow"]
[null,null,null,null,null,null,null,null,null,null,null,null,null,null,"Orleans Park School","121910","2012-09-01","London","Richmond Upon Thames"]
[null,null,null,null,null,null,null,null,null,null,null,null,null,null,"Ormesby School","122122","2012-09-01","North East","Middlesbrough"]
[null,null,null,null,null,null,null,null,null,null,null,null,null,null,"Ormiston Bolingbroke Academy","119335","2010-09-01","North West","Halton"]
[null,null,null,null,null,null,null,null,null,null,null,null,null,null,"Ormiston Bushfield Academy","118910","2009-09-01","East of England","Peterborough"]
[null,null,null,null,null,null,null,null,null,null,null,null,null,null,"Ormiston Endeavour Academy","120967","2012-01-01","East of England","Suffolk"]
[null,null,null,null,null,null,null,null,null,null,null,null,null,null,"Ormiston Enterprise Academy","120109","2011-09-01","East Midlands","Derbyshire"]
[null,null,null,null,null,null,null,null,null,null,null,null,null,null,"Ormiston Forge Academy","120919","2012-01-01","West Midlands","Sandwell"]
[null,null,null,null,null,null,null,null,null,null,null,null,null,null,"Ormiston Herman Academy","125172","2014-01-01","East of England","Norfolk"]
[null,null,null,null,null,null,null,null,null,null,null,null,null,null,"Ormiston Horizon Academy","119928","2011-09-01","West Midlands","Stoke on Trent"]
[null,null,null,null,null,null,null,null,null,null,null,null,null,null,"Ormiston Ilkeston Academy","120253","2011-08-01","East Midlands","Derbyshire"]
[null,null,null,null,null,null,null,null,null,null,null,null,null,null,"Ormiston Maritime Academy","120196","2011-08-01","Yorkshire & The Humber","North East Lincolnshire"]
[null,null,null,null,null,null,null,null,null,null,null,null,null,null,"Ormiston Meadows Academy","127191","2014-01-01","East of England","Peterborough"]
[null,null,null,null,null,null,null,null,null,null,null,null,null,null,"Ormiston Park Academy","119036","2009-09-01","East of England","Thurrock"]
[null,null,null,null,null,null,null,null,null,null,null,null,null,null,"Ormiston Rivers Academy","120152","2011-09-01","East of England","Essex"]
[null,null,null,null,null,null,null,null,null,null,null,null,null,null,"Ormiston Sandwell Community Academy","119066","2009-09-01","West Midlands","Sandwell"]
[null,null,null,null,null,null,null,null,null,null,null,null,null,null,"Ormiston Sir Stanley Matthews Academy","119209","2010-09-01","West Midlands","Stoke on Trent"]
[null,null,null,null,null,null,null,null,null,null,null,null,null,null,"Ormiston South Parade","122265","2012-10-01","Yorkshire & The Humber","North East Lincolnshire"]
[null,null,null,null,null,null,null,null,null,null,null,null,null,null,"Ormiston Sudbury Academy","121009","2012-09-01","East of England","Suffolk"]
[null,null,null,null,null,null,null,null,null,null,null,null,null,null,"Ormiston Venture Academy","119338","2010-09-01","East of England","Norfolk"]
[null,null,null,null,null,null,null,null,null,null,null,null,null,null,"Ormiston Victory Academy","119339","2010-09-01","East of England","Norfolk"]
[null,null,null,null,null,null,null,null,null,null,null,null,null,null,"Ossett Academy","119473","2011-02-01","Yorkshire & The Humber","Wakefield"]
[null,null,null,null,null,null,null,null,null,null,null,null,null,null,"Otley Prince Henry's Grammar School Specialist Language College","120702","2011-12-01","Yorkshire & The Humber","Leeds"]
[null,null,null,null,null,null,null,null,null,null,null,null,null,null,"Ouethiock CofE Primary School","129580","2013-12-01","South West","Cornwall"]
[null,null,null,null,null,null,null,null,null,null,null,null,null,null,"Our Lady and St Benedict Catholic Primary School","123405","2013-09-01","West Midlands","Stoke on Trent"]
[null,null,null,null,null,null,null,null,null,null,null,null,null,null,"Our Lady and St Edward's Catholic Primary School","120209","2011-09-01","East Midlands","Nottingham"]
[null,null,null,null,null,null,null,null,null,null,null,null,null,null,"Our Lady and St Patrick's Roman Catholic Primary School",130475,"2014-04-01","South West","Plymouth"]
[null,null,null,null,null,null,null,null,null,null,null,null,null,null,"Our Lady Immaculate Catholic Primary School","120790","2012-05-01","East of England","Essex"]
[null,null,null,null,null,null,null,null,null,null,null,null,null,null,"Our Lady of Good Counsel Catholic Primary School","124331","2013-05-01","East Midlands","Lincolnshire "]
[null,null,null,null,null,null,null,null,null,null,null,null,null,null,"Our Lady of Lincoln Catholic Primary School","124317","2013-05-01","East Midlands","Lincolnshire "]
[null,null,null,null,null,null,null,null,null,null,null,null,null,null,"Our Lady of Lourdes Catholic Primary School, Witney","124082","2013-04-01","South East","Oxfordshire "]
[null,null,null,null,null,null,null,null,null,null,null,null,null,null,"Our Lady of Perpetual Succour Catholic Primary School","122348","2012-07-01","East Midlands","Nottingham"]
[null,null,null,null,null,null,null,null,null,null,null,null,null,null,"Our Lady of Pity Catholic Primary School","125264","2013-12-01","North West","Wirral"]
[null,null,null,null,null,null,null,null,null,null,null,null,null,null,"Our Lady Roman Catholic Primary School","122399","2012-07-01","East of England","Hertfordshire"]
[null,null,null,null,null,null,null,null,null,null,null,null,null,null,"Our Lady's Catholic Primary School - Barnstaple",130108,"2014-04-01","South West","Devon"]
[null,null,null,null,null,null,null,null,null,null,null,null,null,null,"Our Lady's Catholic Primary School - Oxford","123876","2013-04-01","South East","Oxfordshire "]
[null,null,null,null,null,null,null,null,null,null,null,null,null,null,"Our Lady's Catholic Primary School - Stoke on Trent","124634","2013-11-01","West Midlands","Stoke on Trent"]
[null,null,null,null,null,null,null,null,null,null,null,null,null,null,"Ousedale School","120052","2011-08-01","South East","Milton Keynes"]
[null,null,null,null,null,null,null,null,null,null,null,null,null,null,"Outwood Academy - Acklam","122305","2013-09-01","North East","Middlesbrough"]
[null,null,null,null,null,null,null,null,null,null,null,null,null,null,"Outwood Academy - Adwick","119090","2009-09-01","Yorkshire & The Humber","Doncaster"]
[null,null,null,null,null,null,null,null,null,null,null,null,null,null,"Outwood Academy - Brumby","122932","2013-04-01","Yorkshire & The Humber","North Lincolnshire "]
[null,null,null,null,null,null,null,null,null,null,null,null,null,null,"Outwood Academy - Kirkhamgate","122312","2013-03-01","Yorkshire & The Humber","Wakefield"]
[null,null,null,null,null,null,null,null,null,null,null,null,null,null,"Outwood Academy - Portland","120143","2012-06-01","East Midlands","Nottinghamshire"]
[null,null,null,null,null,null,null,null,null,null,null,null,null,null,"Outwood Academy - Ripon","120447","2011-09-01","Yorkshire & The Humber","North Yorkshire"]
[null,null,null,null,null,null,null,null,null,null,null,null,null,null,"Outwood Grange Academy - Wakefield","119076","2009-09-01","Yorkshire & The Humber","Wakefield"]
[null,null,null,null,null,null,null,null,null,null,null,null,null,null,"Outwood Grange Academy Valley - Worksop","120144","2012-06-01","East Midlands","Nottinghamshire"]
[null,null,null,null,null,null,null,null,null,null,null,null,null,null,"Outwood Ledger Lane Junior and Infant School","122780","2012-12-01","Yorkshire & The Humber","Wakefield"]
[null,null,null,null,null,null,null,null,null,null,null,null,null,null,"Outwoods Edge Primary School","122669","2012-12-01","East Midlands","Leicestershire"]
[null,null,null,null,null,null,null,null,null,null,null,null,null,null,"Over Hall Community School","124307","2013-09-01","North West","Cheshire West and Chester"]
[null,null,null,null,null,null,null,null,null,null,null,null,null,null,"Overhills Primary School","127277","2014-01-01","East of England","Cambridgeshire"]
[null,null,null,null,null,null,null,null,null,null,null,null,null,null,"Overthorpe Church of England Voluntary Controlled Junior, Infant and Nursery School","122973","2013-03-01","Yorkshire & The Humber","Kirklees"]
[null,null,null,null,null,null,null,null,null,null,null,null,null,null,"Overton Grange School","119779","2011-06-01","London","Sutton"]
[null,null,null,null,null,null,null,null,null,null,null,null,null,null,"Owton Manor Primary School","124568","2013-07-01","North East","Hartlepool"]
[null,null,null,null,null,null,null,null,null,null,null,null,null,null,"Oxclose Community School","122983","2012-11-01","North East","Sunderland"]
[null,null,null,null,null,null,null,null,null,null,null,null,null,null,"Oxclose Village Primary School",127391,"2014-04-01","North East","Sunderland"]
[null,null,null,null,null,null,null,null,null,null,null,null,null,null,"Oxford Academy, The","118674","2008-09-02","South East","Oxfordshire"]
[null,null,null,null,null,null,null,null,null,null,null,null,null,null,"Oxford Spires Academy","119438","2011-01-01","South East","Oxfordshire"]
[null,null,null,null,null,null,null,null,null,null,null,null,null,null,"Oxley Park Primary School","119828","2011-07-01","South East","Milton Keynes"]
[null,null,null,null,null,null,null,null,null,null,null,null,null,null,"Paddington Academy","118638","2006-09-01","London","Westminster"]
[null,null,null,null,null,null,null,null,null,null,null,null,null,null,"Padstow School","120183","2011-08-01","South West","Cornwall"]
[null,null,null,null,null,null,null,null,null,null,null,null,null,null,"Paignton Community and Sports College","122789","2012-10-01","South West","Torbay"]
[null,null,null,null,null,null,null,null,null,null,null,null,null,null,"Painsley Catholic College","122686","2012-09-01","West Midlands","Staffordshire"]
[null,null,null,null,null,null,null,null,null,null,null,null,null,null,"Palace Fields Primary School","120301","2011-08-17","North West","Halton"]
[null,null,null,null,null,null,null,null,null,null,null,null,null,null,"Palatine Community Sports College","124998","2013-12-01","North West","Blackpool"]
[null,null,null,null,null,null,null,null,null,null,null,null,null,null,"Palmer Catholic Academy, The","120088","2011-08-01","London","Redbridge"]
[null,null,null,null,null,null,null,null,null,null,null,null,null,null,"Palmer Primary Academy, The","123180","2013-09-01","South East","Reading"]
[null,null,null,null,null,null,null,null,null,null,null,null,null,null,"Parbold Douglas Church of England Primary School","120127","2011-08-01","North West","Lancashire"]
[null,null,null,null,null,null,null,null,null,null,null,null,null,null,"Parish Church of England Primary School","120741","2013-08-01","London","Bromley"]
[null,null,null,null,null,null,null,null,null,null,null,null,null,null,"Park Hall Academy","118922","2009-09-01","West Midlands","Solihull"]
[null,null,null,null,null,null,null,null,null,null,null,null,null,null,"Park Hall Infant Academy","119293","2010-10-01","West Midlands","Walsall"]
[null,null,null,null,null,null,null,null,null,null,null,null,null,null,"Park Hall Junior School","120751","2012-01-01","West Midlands","Walsall"]
[null,null,null,null,null,null,null,null,null,null,null,null,null,null,"Park High School","120075","2011-08-01","London","Harrow"]
[null,null,null,null,null,null,null,null,null,null,null,null,null,null,"Park House School & Sports College","119729","2011-05-01","South East","West Berkshire"]
[null,null,null,null,null,null,null,null,null,null,null,null,null,null,"Park Lane (Foundation) Primary School, The - Whittlesey","121061","2014-01-01","East of England","Cambridgeshire"]
[null,null,null,null,null,null,null,null,null,null,null,null,null,null,"Park Lane Primary School Nursery and Parents' Centre - Nuneaton","124296","2013-11-01","West Midlands","Warwickshire"]
[null,null,null,null,null,null,null,null,null,null,null,null,null,null,"Park Primary School - Boston","123827","2013-01-01","East Midlands","Lincolnshire"]
[null,null,null,null,null,null,null,null,null,null,null,null,null,null,"Park Road Primary School - Altrincham","119393","2011-01-01","North West","Trafford"]
[null,null,null,null,null,null,null,null,null,null,null,null,null,null,"Park Road Primary School - Sale","124518","2013-09-01","North West","Trafford"]
[null,null,null,null,null,null,null,null,null,null,null,null,null,null,"Park School - Blackpool","124119","2013-09-01","North West","Blackpool"]
[null,null,null,null,null,null,null,null,null,null,null,null,null,null,"Park View Business and Enterprise School","120743","2012-04-01","West Midlands","Birmingham"]
[null,null,null,null,null,null,null,null,null,null,null,null,null,null,"Park View Community School","119971","2011-08-01","North East","Durham"]
[null,null,null,null,null,null,null,null,null,null,null,null,null,null,"Parkfield Community School - Birmingham","122778","2013-01-01","West Midlands","Birmingham"]
[null,null,null,null,null,null,null,null,null,null,null,null,null,null,"Parkfield Primary School - Barnet","124343","2013-08-01","London","Barnet"]
[null,null,null,null,null,null,null,null,null,null,null,null,null,null,"Parkfield School - Bournemouth","121999","2013-09-01","South West","Bournemouth"]
[null,null,null,null,null,null,null,null,null,null,null,null,null,null,"Parkland Primary School - Wigston","122115","2012-07-01","East Midlands","Leicestershire"]
[null,null,null,null,null,null,null,null,null,null,null,null,null,null,"Parklands High School","121171","2012-09-01","North West","Lancashire"]
[null,null,null,null,null,null,null,null,null,null,null,null,null,null,"Parkroyal Community School","126541","2013-12-01","North West","Cheshire East"]
[null,null,null,null,null,null,null,null,null,null,null,null,null,null,"Parks Primary School, The","124662","2013-12-01","Yorkshire & The Humber","Hull"]
[null,null,null,null,null,null,null,null,null,null,null,null,null,null,"Parkside Community College","119655","2011-04-01","East of England","Cambridgeshire"]
[null,null,null,null,null,null,null,null,null,null,null,null,null,null,"Parkside Primary Academy","122724","2012-12-01","Yorkshire & The Humber","Barnsley"]
[null,null,null,null,null,null,null,null,null,null,null,null,null,null,"Parkside Sports College","121093","2012-03-01","North East","Durham"]
[null,null,null,null,null,null,null,null,null,null,null,null,null,null,"Parkside Studio College","122531","2012-09-01","London","Hillingdon"]
[null,null,null,null,null,null,null,null,null,null,null,null,null,null,"Parkstone Grammar School","119399","2011-01-01","South West","Poole"]
[null,null,null,null,null,null,null,null,null,null,null,null,null,null,"Parkwood Academy","119130","2009-09-01","Yorkshire & The Humber","Sheffield"]
[null,null,null,null,null,null,null,null,null,null,null,null,null,null,"Parmiter's School","119869","2011-07-01","East of England","Hertfordshire"]
[null,null,null,null,null,null,null,null,null,null,null,null,null,null,"Parson Street Primary School","122891","2012-11-01","South West","Bristol City"]
[null,null,null,null,null,null,null,null,null,null,null,null,null,null,"Passmores Academy","120323","2011-09-01","East of England","Essex"]
[null,null,null,null,null,null,null,null,null,null,null,null,null,null,"Patchway Community College","124517","2013-11-01T14:13:42","South West","South Gloucestershire"]
[null,null,null,null,null,null,null,null,null,null,null,null,null,null,"Pate's Grammar School","119380","2010-12-01","South West","Gloucestershire"]
[null,null,null,null,null,null,null,null,null,null,null,null,null,null,"Patrington Church of England Voluntary Controlled Primary School",125179,"2014-04-01","Yorkshire & The Humber","East Riding of Yorkshire"]
[null,null,null,null,null,null,null,null,null,null,null,null,null,null,"Paulsgrove Primary School","122635","2013-01-01","South East","Portsmouth"]
[null,null,null,null,null,null,null,null,null,null,null,null,null,null,"Peafield Lane Academy",127357,"2014-03-01","East Midlands","Nottinghamshire"]
[null,null,null,null,null,null,null,null,null,null,null,null,null,null,"Peak Academy","121883","2012-09-01","South West","Gloucestershire"]
[null,null,null,null,null,null,null,null,null,null,null,null,null,null,"Pear Tree Primary School",129551,"2014-04-01","North West","Cheshire East"]
[null,null,null,null,null,null,null,null,null,null,null,null,null,null,"Peareswood Primary School","120329","2011-09-01","London","Bexley"]
[null,null,null,null,null,null,null,null,null,null,null,null,null,null,"Peaslake Free School","123329","2013-09-01","South East","Surrey"]
[null,null,null,null,null,null,null,null,null,null,null,null,null,null,"Peatmoor Community Primary School","124131","2013-11-01","South West","Swindon"]
[null,null,null,null,null,null,null,null,null,null,null,null,null,null,"Pebsham Community Primary School","124603","2014-01-01","South East","East Sussex"]
[null,null,null,null,null,null,null,null,null,null,null,null,null,null,"Peckham Park Primary School","120357","2011-09-01","London","Southwark"]
[null,null,null,null,null,null,null,null,null,null,null,null,null,null,"Peckover Primary School","124194","2013-04-01","East of England","Cambridgeshire "]
[null,null,null,null,null,null,null,null,null,null,null,null,null,null,"Pegasus Primary School - Birmingham","123852","2013-05-01","West Midlands","Birmingham "]
[null,null,null,null,null,null,null,null,null,null,null,null,null,null,"Pegasus School - Oxford","123093","2013-08-01","South East","Oxfordshire"]
[null,null,null,null,null,null,null,null,null,null,null,null,null,null,"Pelham Primary School","123912","2013-04-01","London","Bexley  "]
[null,null,null,null,null,null,null,null,null,null,null,null,null,null,"Pembroke Park Primary School","123850","2013-04-01","South West","Wiltshire "]
[null,null,null,null,null,null,null,null,null,null,null,null,null,null,"Pen Mill Infants' School","122745","2012-10-01","South West","Somerset"]
[null,null,null,null,null,null,null,null,null,null,null,null,null,null,"Penair School A Science College","119571","2011-04-01","South West","Cornwall"]
[null,null,null,null,null,null,null,null,null,null,null,null,null,null,"Pencalenick School","120396","2011-09-01","South West","Cornwall"]
[null,null,null,null,null,null,null,null,null,null,null,null,null,null,"Pendeen School",129953,"2014-04-01","South West","Cornwall"]
[null,null,null,null,null,null,null,null,null,null,null,null,null,null,"Pendle Primary Academy - Nelson","122316","2013-03-01","North West","Lancashire"]
[null,null,null,null,null,null,null,null,null,null,null,null,null,null,"Penketh High School","123091","2013-04-01","North West","Warrington "]
[null,null,null,null,null,null,null,null,null,null,null,null,null,null,"Pennine Way Junior School","120511","2011-10-01","East Midlands","Derbyshire"]
[null,null,null,null,null,null,null,null,null,null,null,null,null,null,"Penny Bridge CofE School","124983","2013-11-01","North West","Cumbria"]
[null,null,null,null,null,null,null,null,null,null,null,null,null,null,"Pennyman Primary School","122241","2012-09-01","North East","Middlesbrough"]
[null,null,null,null,null,null,null,null,null,null,null,null,null,null,"Penponds School",129413,"2014-04-01","South West","Cornwall"]
[null,null,null,null,null,null,null,null,null,null,null,null,null,null,"Penrice Community College","119561","2011-04-01","South West","Cornwall"]
[null,null,null,null,null,null,null,null,null,null,null,null,null,null,"Penryn College","119852","2011-07-01","South West","Cornwall"]
[null,null,null,null,null,null,null,null,null,null,null,null,null,null,"Penwith Short Stay School","122648","2013-06-01","South West","Cornwall"]
[null,null,null,null,null,null,null,null,null,null,null,null,null,null,"Percy Shurmer Primary School","122090","2012-09-01","West Midlands","Birmingham"]
[null,null,null,null,null,null,null,null,null,null,null,null,null,null,"Perins School A Community Sports College","120128","2011-08-01","South East","Hampshire"]
[null,null,null,null,null,null,null,null,null,null,null,null,null,null,"Perry Beeches 2 Free School","122185","2012-09-01","West Midlands","Birmingham"]
[null,null,null,null,null,null,null,null,null,null,null,null,null,null,"Perry Beeches III","128244","2013-09-01","West Midlands","Birmingham"]
[null,null,null,null,null,null,null,null,null,null,null,null,null,null,"Perry Beeches School","120050","2012-05-03","West Midlands","Birmingham"]
[null,null,null,null,null,null,null,null,null,null,null,null,null,null,"Perry Hall Primary School - Orpington","126479","2013-12-01","London","Bromley"]
[null,null,null,null,null,null,null,null,null,null,null,null,null,null,"Perry Hall Primary School - Wolverhampton","124207","2013-07-01","West Midlands","Wolverhampton"]
[null,null,null,null,null,null,null,null,null,null,null,null,null,null,"Perry Wood Primary and Nursery School","123088","2012-12-01","West Midlands","Worcestershire"]
[null,null,null,null,null,null,null,null,null,null,null,null,null,null,"Pershore High School","119905","2011-07-01","West Midlands","Worcestershire"]
[null,null,null,null,null,null,null,null,null,null,null,null,null,null,"Petchey Academy, The","118653","2006-09-01","London","Hackney"]
[null,null,null,null,null,null,null,null,null,null,null,null,null,null,"Petersfield School, The","119857","2011-07-01","South East","Hampshire"]
[null,null,null,null,null,null,null,null,null,null,null,null,null,null,"Petham Primary School","124764","2013-09-01","South East","Kent"]
[null,null,null,null,null,null,null,null,null,null,null,null,null,null,"Pewsey Primary School",129558,"2014-04-01","South West","Wiltshire"]
[null,null,null,null,null,null,null,null,null,null,null,null,null,null,"Pewsey Vale Specialist Arts College","119849","2011-07-01","South West","Wiltshire"]
[null,null,null,null,null,null,null,null,null,null,null,null,null,null,"Pheasant Bank Academy","120450","2011-09-01","Yorkshire & The Humber","Doncaster"]
[null,null,null,null,null,null,null,null,null,null,null,null,null,null,"Philip Morant School and College","120589","2011-11-01","East of England","Essex"]
[null,null,null,null,null,null,null,null,null,null,null,null,null,null,"Phoenix Junior Academy","121892","2012-09-01","South East","Medway"]
[null,null,null,null,null,null,null,null,null,null,null,null,null,null,"Phoenix School, The - Grantham","120724","2013-03-01","East Midlands","Lincolnshire"]
[null,null,null,null,null,null,null,null,null,null,null,null,null,null,"Phoenix School, The - Telford","123888","2013-06-01","West Midlands","Telford and Wrekin"]
[null,null,null,null,null,null,null,null,null,null,null,null,null,null,"Pickhurst Infant School","120069","2011-08-01","London","Bromley"]
[null,null,null,null,null,null,null,null,null,null,null,null,null,null,"Pickhurst Junior School","120070","2011-08-01","London","Bromley"]
[null,null,null,null,null,null,null,null,null,null,null,null,null,null,"Piggott Church of England School, The","119891","2011-07-01","South East","Wokingham"]
[null,null,null,null,null,null,null,null,null,null,null,null,null,null,"Pilgrims' Way Primary School and Nursery","120950","2013-12-01","South East","Kent"]
[null,null,null,null,null,null,null,null,null,null,null,null,null,null,"Pilton Community College","119867","2011-07-01","South West","Devon"]
[null,null,null,null,null,null,null,null,null,null,null,null,null,null,"Pilton the Bluecoat Church of England Junior School","122351","2012-07-01","South West","Devon"]
[null,null,null,null,null,null,null,null,null,null,null,null,null,null,"Pimlico Academy","118663","2008-09-01","London","Westminster"]
[null,null,null,null,null,null,null,null,null,null,null,null,null,null,"Pimlico Primary","122038","2013-09-01","London","Westminster"]
[null,null,null,null,null,null,null,null,null,null,null,null,null,null,"Pinkwell Primary School",130139,"2014-04-01","London","Hillingdon"]
[null,null,null,null,null,null,null,null,null,null,null,null,null,null,"Pioneer School, The","122071","2012-06-01","East of England","Essex"]
[null,null,null,null,null,null,null,null,null,null,null,null,null,null,"Pipers Grove Primary School","122844","2013-09-01","Yorkshire & The Humber","Barnsley"]
[null,null,null,null,null,null,null,null,null,null,null,null,null,null,"Place Farm Primary Academy","120836","2012-06-01","East of England","Suffolk"]
[null,null,null,null,null,null,null,null,null,null,null,null,null,null,"Plains Farm Primary School","123942","2013-04-01","North East","Sunderland "]
[null,null,null,null,null,null,null,null,null,null,null,null,null,null,"Plantsbrook School","120053","2011-08-01","West Midlands","Birmingham"]
[null,null,null,null,null,null,null,null,null,null,null,null,null,null,"Platt Bridge Community Primary School","123236","2013-02-01","North West","Wigan"]
[null,null,null,null,null,null,null,null,null,null,null,null,null,null,"Pluckley Church of England Primary School","120642","2012-04-01","South East","Kent"]
[null,null,null,null,null,null,null,null,null,null,null,null,null,null,"Plumberow Primary School","120333","2011-09-01","East of England","Essex"]
[null,null,null,null,null,null,null,null,null,null,null,null,null,null,"Plume School","120904","2012-01-01","East of England","Essex"]
[null,null,null,null,null,null,null,null,null,null,null,null,null,null,"Plymouth School of Creative Arts","123330","2013-09-01","South West","Plymouth"]
[null,null,null,null,null,null,null,null,null,null,null,null,null,null,"Plymstock School","119569","2011-04-01","South West","Plymouth"]
[null,null,null,null,null,null,null,null,null,null,null,null,null,null,"Pochin School, The","122406","2012-10-01","East Midlands","Leicestershire"]
[null,null,null,null,null,null,null,null,null,null,null,null,null,null,"Pokesdown Community Primary School","123915","2013-04-01","South West","Bournemouth "]
[null,null,null,null,null,null,null,null,null,null,null,null,null,null,"Polesworth School, The","119512","2011-02-01","West Midlands","Warwickshire"]
[null,null,null,null,null,null,null,null,null,null,null,null,null,null,"Pontefract Carleton Park Junior and Infant School","124600","2013-12-01","Yorkshire & The Humber","Wakefield"]
[null,null,null,null,null,null,null,null,null,null,null,null,null,null,"Pontefract De Lacy Primary School","124599","2013-10-01","Yorkshire & The Humber","Wakefield"]
[null,null,null,null,null,null,null,null,null,null,null,null,null,null,"Pontefract Halfpenny Lane Junior Infant and Nursery School","123279","2013-04-01","Yorkshire & The Humber","Wakefield "]
[null,null,null,null,null,null,null,null,null,null,null,null,null,null,"Pontefract Larks Hill Junior and Infant School","123215","2013-04-01","Yorkshire & The Humber","Wakefield "]
[null,null,null,null,null,null,null,null,null,null,null,null,null,null,"Pontefract Orchard Head Junior and Infant School","123209","2013-04-01","Yorkshire & The Humber","Wakefield "]
[null,null,null,null,null,null,null,null,null,null,null,null,null,null,"Pool Academy - Redruth","119590","2011-04-01","South West","Cornwall"]
[null,null,null,null,null,null,null,null,null,null,null,null,null,null,"Poole Grammar School","119850","2011-07-01","South West","Poole"]
[null,null,null,null,null,null,null,null,null,null,null,null,null,null,"Porter Croft Sheffield Church of England Primary School","124347","2013-08-01","Yorkshire & The Humber","Sheffield"]
[null,null,null,null,null,null,null,null,null,null,null,null,null,null,"Portfield Primary Academy","121962","2012-09-01","South East","West Sussex"]
[null,null,null,null,null,null,null,null,null,null,null,null,null,null,"Portland College","122328","2012-08-01","North East","Sunderland"]
[null,null,null,null,null,null,null,null,null,null,null,null,null,null,"Portland Primary and Nursery School","124989","2014-02-01","East Midlands","Nottingham"]
[null,null,null,null,null,null,null,null,null,null,null,null,null,null,"Portslade Aldridge Community Academy","119937","2011-09-01","South East","Brighton and Hove"]
[null,null,null,null,null,null,null,null,null,null,null,null,null,null,"Portsmouth Academy for Girls","123958","2013-09-01","South East","Portsmouth"]
[null,null,null,null,null,null,null,null,null,null,null,null,null,null,"Portswood Primary School","121114","2012-09-01","South East","Southampton"]
[null,null,null,null,null,null,null,null,null,null,null,null,null,null,"Potter Street Primary School","124618","2013-09-01","East of England","Essex"]
[null,null,null,null,null,null,null,null,null,null,null,null,null,null,"Powers Hall Junior School","124619","2013-07-01","East of England","Essex"]
[null,null,null,null,null,null,null,null,null,null,null,null,null,null,"Premier Academy, The - Milton Keynes","119259","2010-09-01","South East","Milton Keynes"]
[null,null,null,null,null,null,null,null,null,null,null,null,null,null,"Prenton High School for Girls","120130","2011-08-01","North West","Wirral"]
[null,null,null,null,null,null,null,null,null,null,null,null,null,null,"Presdales School","121129","2012-04-01","East of England","Hertfordshire"]
[null,null,null,null,null,null,null,null,null,null,null,null,null,null,"President Kennedy School and Community College","124494","2013-10-01","West Midlands","Coventry"]
[null,null,null,null,null,null,null,null,null,null,null,null,null,null,"Preston CofE VC Primary School","124783","2013-11-01","South West","Somerset"]
[null,null,null,null,null,null,null,null,null,null,null,null,null,null,"Preston Hedges Primary School","122505","2012-12-01","East Midlands","Northamptonshire"]
[null,null,null,null,null,null,null,null,null,null,null,null,null,null,"Preston Manor School","123910","2013-02-01","London","Brent"]
[null,null,null,null,null,null,null,null,null,null,null,null,null,null,"Preston School","119894","2011-07-01","South West","Somerset"]
[null,null,null,null,null,null,null,null,null,null,null,null,null,null,"Priestlands School","120129","2011-08-01","South East","Hampshire"]
[null,null,null,null,null,null,null,null,null,null,null,null,null,null,"Primrose Hill CofE Primary","123261","2013-10-01","South West","Gloucestershire"]
[null,null,null,null,null,null,null,null,null,null,null,null,null,null,"Prince Avenue Primary Foundation School and Nursery",120704,"2014-04-01","East of England","Southend-on-Sea"]
[null,null,null,null,null,null,null,null,null,null,null,null,null,null,"Prince Henry's High School","119469","2011-03-01","West Midlands","Worcestershire"]
[null,null,null,null,null,null,null,null,null,null,null,null,null,null,"Princes Risborough","120378","2011-09-01","South East","Buckinghamshire"]
[null,null,null,null,null,null,null,null,null,null,null,null,null,null,"Priors School, The","120470","2011-09-01","West Midlands","Warwickshire"]
[null,null,null,null,null,null,null,null,null,null,null,null,null,null,"Priorslee Primary School","119439","2011-02-01","West Midlands","Telford and Wrekin"]
[null,null,null,null,null,null,null,null,null,null,null,null,null,null,"Priorswood Primary School","123890","2013-04-01","South West","Somerset "]
[null,null,null,null,null,null,null,null,null,null,null,null,null,null,"Priory Academy - Dunstable","121207","2012-06-01","East of England","Central Bedfordshire"]
[null,null,null,null,null,null,null,null,null,null,null,null,null,null,"Priory Academy LSST, The","118690","2008-09-01","East Midlands","Lincolnshire"]
[null,null,null,null,null,null,null,null,null,null,null,null,null,null,"Priory Academy Trust, The - Orpington","121934","2012-05-01T14:10:20","London","Bromley"]
[null,null,null,null,null,null,null,null,null,null,null,null,null,null,"Priory Catholic Primary School Eastwood","121063","2012-03-01","East Midlands","Nottinghamshire"]
[null,null,null,null,null,null,null,null,null,null,null,null,null,null,"Priory City of Lincoln Academy","118689","2008-09-01","East Midlands","Lincolnshire"]
[null,null,null,null,null,null,null,null,null,null,null,null,null,null,"Priory Community School","120300","2011-08-17","South West","North Somerset"]
[null,null,null,null,null,null,null,null,null,null,null,null,null,null,"Priory Primary School - Hull","124766","2013-11-01","Yorkshire & The Humber","Hull"]
[null,null,null,null,null,null,null,null,null,null,null,null,null,null,"Priory Primary School, The - Tadley","119463","2011-02-01","South East","Hampshire"]
[null,null,null,null,null,null,null,null,null,null,null,null,null,null,"Priory Roman Catholic Primary School, Torquay",130117,"2014-04-01","South West","Torbay"]
[null,null,null,null,null,null,null,null,null,null,null,null,null,null,"Priory Ruskin Academy, The","119334","2010-09-01","East Midlands","Lincolnshire"]
[null,null,null,null,null,null,null,null,null,null,null,null,null,null,"Priory School - Bury St Edmunds","120334","2011-09-01","East of England","Suffolk"]
[null,null,null,null,null,null,null,null,null,null,null,null,null,null,"Priory School, The - A Business and Enterprise College - Shrewsbury","121168","2012-06-01","West Midlands","Shropshire"]
[null,null,null,null,null,null,null,null,null,null,null,null,null,null,"Priory Sports and Technology College - Penwortham","121835","2012-11-01","North West","Lancashire"]
[null,null,null,null,null,null,null,null,null,null,null,null,null,null,"Priory Witham Academy","118688","2008-09-01","East Midlands","Lincolnshire"]
[null,null,null,null,null,null,null,null,null,null,null,null,null,null,"Prospect School","119876","2011-07-01","South East","Reading"]
[null,null,null,null,null,null,null,null,null,null,null,null,null,null,"Pulloxhill Lower School","120291","2011-08-17","East of England","Central Bedfordshire"]
[null,null,null,null,null,null,null,null,null,null,null,null,null,null,"Purfleet Primary School","123281","2013-04-01","East of England","Thurrock "]
[null,null,null,null,null,null,null,null,null,null,null,null,null,null,"Purford Green Primary School","124751","2013-09-01","East of England","Essex"]
[null,null,null,null,null,null,null,null,null,null,null,null,null,null,"Purleigh Community Primary School",124760,"2014-04-01","East of England","Essex"]
[null,null,null,null,null,null,null,null,null,null,null,null,null,null,"Purston E-ACT Academy","120985","2012-09-01","Yorkshire & The Humber","Wakefield"]
[null,null,null,null,null,null,null,null,null,null,null,null,null,null,"Putnoe Primary School","123257","2013-04-01","East of England","Bedford "]
[null,null,null,null,null,null,null,null,null,null,null,null,null,null,"Pyrcroft Grange Primary School","124763","2013-12-01","South East","Surrey"]
[null,null,null,null,null,null,null,null,null,null,null,null,null,null,"Q3 Academy","118641","2008-09-01","West Midlands","Sandwell"]
[null,null,null,null,null,null,null,null,null,null,null,null,null,null,"Quarry Hill Primary and Pre School","124321","2013-07-01","East of England","Thurrock"]
[null,null,null,null,null,null,null,null,null,null,null,null,null,null,"Quarrydale School","120944","2012-02-01T14:32:12","East Midlands","Nottinghamshire"]
[null,null,null,null,null,null,null,null,null,null,null,null,null,null,"Quay School, The","122950","2013-04-01","South West","Poole "]
[null,null,null,null,null,null,null,null,null,null,null,null,null,null,"Queen Eleanor Primary Academy, The","123905","2013-09-01","East Midlands","Northamptonshire"]
[null,null,null,null,null,null,null,null,null,null,null,null,null,null,"Queen Elizabeth Grammar School - Penrith","119730","2011-05-01","North West","Cumbria"]
[null,null,null,null,null,null,null,null,null,null,null,null,null,null,"Queen Elizabeth Humanities College - Bromyard","120824","2011-12-01","West Midlands","Herefordshire"]
[null,null,null,null,null,null,null,null,null,null,null,null,null,null,"Queen Elizabeth School - Kirby Lonsdale","119387","2010-12-01","North West","Cumbria"]
[null,null,null,null,null,null,null,null,null,null,null,null,null,null,"Queen Elizabeth’s Grammar - Alford","119304","2010-10-01","East Midlands","Lincolnshire"]
[null,null,null,null,null,null,null,null,null,null,null,null,null,null,"Queen Elizabeth's Academy - Mansfield","121103","2012-01-01","East Midlands","Nottinghamshire"]
[null,null,null,null,null,null,null,null,null,null,null,null,null,null,"Queen Elizabeth's Academy Trust - Crediton","119673","2011-04-01","South West","Devon"]
[null,null,null,null,null,null,null,null,null,null,null,null,null,null,"Queen Elizabeth's Girls' School - Barnet","120131","2011-08-01","London","Barnet"]
[null,null,null,null,null,null,null,null,null,null,null,null,null,null,"Queen Elizabeth's Grammar School - Ashbourne","119972","2011-08-01","East Midlands","Derbyshire"]
[null,null,null,null,null,null,null,null,null,null,null,null,null,null,"Queen Elizabeth's Grammar School - Faversham","119566","2011-04-01","South East","Kent"]
[null,null,null,null,null,null,null,null,null,null,null,null,null,null,"Queen Elizabeth's Grammar School - Horncastle","122791","2012-09-01","East Midlands","Lincolnshire"]
[null,null,null,null,null,null,null,null,null,null,null,null,null,null,"Queen Elizabeth's School - Barnet","119272","2010-09-01","London","Barnet"]
[null,null,null,null,null,null,null,null,null,null,null,null,null,null,"Queen Katherine School, The","119629","2011-04-01","North West","Cumbria"]
[null,null,null,null,null,null,null,null,null,null,null,null,null,null,"Queen Mary's Grammar School","119780","2011-06-01","West Midlands","Walsall"]
[null,null,null,null,null,null,null,null,null,null,null,null,null,null,"Queen Mary's High School","119781","2011-06-01","West Midlands","Walsall"]
[null,null,null,null,null,null,null,null,null,null,null,null,null,null,"Queens Church of England Academy","124671","2014-01-01","West Midlands","Warwickshire"]
[null,null,null,null,null,null,null,null,null,null,null,null,null,null,"Queen's Park Academy - Bedford","119577","2011-04-01","East of England","Bedford"]
[null,null,null,null,null,null,null,null,null,null,null,null,null,null,"Queens Park Community School - Brent","122740","2012-09-01","London","Brent"]
[null,null,null,null,null,null,null,null,null,null,null,null,null,null,"Queens Park Infant School - Bournemouth","124136","2013-04-01","South West","Bournemouth "]
[null,null,null,null,null,null,null,null,null,null,null,null,null,null,"Queen's Park Junior School - Bournemouth","122570","2012-10-01","South West","Bournemouth"]
[null,null,null,null,null,null,null,null,null,null,null,null,null,null,"Queens' School - Bushey","119877","2011-07-01","East of England","Hertfordshire"]
[null,null,null,null,null,null,null,null,null,null,null,null,null,null,"Queensbury Academy","121863","2012-09-01","East of England","Central Bedfordshire"]
[null,null,null,null,null,null,null,null,null,null,null,null,null,null,"Queensmead Community Primary School - Leicester","122873","2012-11-01","East Midlands","Leicester"]
[null,null,null,null,null,null,null,null,null,null,null,null,null,null,"Queensmead School - Ruislip","119731","2011-05-01","London","Hillingdon"]
[null,null,null,null,null,null,null,null,null,null,null,null,null,null,"Queensway Catholic Primary School",130114,"2014-04-01","South West","Torbay"]
[null,null,null,null,null,null,null,null,null,null,null,null,null,null,"Queniborough Church of England Primary School","122369","2012-11-01","East Midlands","Leicestershire"]
[null,null,null,null,null,null,null,null,null,null,null,null,null,null,"Quest Academy, The","119329","2010-09-01","London","Croydon"]
[null,null,null,null,null,null,null,null,null,null,null,null,null,null,"Quinta Primary School, The","127590","2014-01-01","North West","Cheshire East"]
[null,null,null,null,null,null,null,null,null,null,null,null,null,null,"Quintin Kynaston School","120595","2011-11-01","London","Westminster"]
[null,null,null,null,null,null,null,null,null,null,null,null,null,null,"RA Butler Infant School, The","119355","2010-11-01","East of England","Essex"]
[null,null,null,null,null,null,null,null,null,null,null,null,null,null,"RA Butler Junior School, The","119354","2010-11-01","East of England","Essex"]
[null,null,null,null,null,null,null,null,null,null,null,null,null,null,"Race Leys Junior School","122244","2012-09-01","West Midlands","Warwickshire"]
[null,null,null,null,null,null,null,null,null,null,null,null,null,null,"Racemeadow Primary School","124654","2013-11-01","West Midlands","Warwickshire"]
[null,null,null,null,null,null,null,null,null,null,null,null,null,null,"Radcliffe Primary School","124288","2014-01-01","North West","Bury"]
[null,null,null,null,null,null,null,null,null,null,null,null,null,null,"Radford Primary School","126326","2014-01-01","West Midlands","Coventry"]
[null,null,null,null,null,null,null,null,null,null,null,null,null,null,"Raglan Primary School","121206","2013-09-01","London","Bromley"]
[null,null,null,null,null,null,null,null,null,null,null,null,null,null,"Rainbow Primary","120320","2011-09-01","Yorkshire & The Humber","Bradford"]
[null,null,null,null,null,null,null,null,null,null,null,null,null,null,"Rainham Mark Grammar School","119864","2011-07-01","South East","Medway"]
[null,null,null,null,null,null,null,null,null,null,null,null,null,null,"Rainham School for Girls","119462","2011-02-01","South East","Medway"]
[null,null,null,null,null,null,null,null,null,null,null,null,null,null,"Raleigh School, The","120014","2011-08-01","South East","Surrey"]
[null,null,null,null,null,null,null,null,null,null,null,null,null,null,"Ralph Allen School","122732","2012-08-01","South West","Bath & North East Somerset"]
[null,null,null,null,null,null,null,null,null,null,null,null,null,null,"Ralph Sadleir Middle School","121846","2013-10-01","East of England","Hertfordshire"]
[null,null,null,null,null,null,null,null,null,null,null,null,null,null,"Ramnoth Junior School","125173","2013-10-01","East of England","Cambridgeshire"]
[null,null,null,null,null,null,null,null,null,null,null,null,null,null,"Ramsey Academy, Halstead, The","120966","2013-09-01","East of England","Essex"]
[null,null,null,null,null,null,null,null,null,null,null,null,null,null,"Ramsgate, Christ Church Church of England Junior School","122877","2013-12-01","South East","Kent"]
[null,null,null,null,null,null,null,null,null,null,null,null,null,null,"Ranelagh Church of England School","120267","2011-08-01","South East","Bracknell"]
[null,null,null,null,null,null,null,null,null,null,null,null,null,null,"Range High School","120526","2011-11-01","North West","Sefton"]
[null,null,null,null,null,null,null,null,null,null,null,null,null,null,"Rastrick High School","120446","2011-09-01","Yorkshire & The Humber","Calderdale"]
[null,null,null,null,null,null,null,null,null,null,null,null,null,null,"Ratby Primary School","123085","2013-02-01","East Midlands","Leicestershire"]
[null,null,null,null,null,null,null,null,null,null,null,null,null,null,"Ratton School","122093","2012-08-01","South East","East Sussex"]
[null,null,null,null,null,null,null,null,null,null,null,null,null,null,"Rauceby Church of England Primary School","122082","2012-07-01","East Midlands","Lincolnshire"]
[null,null,null,null,null,null,null,null,null,null,null,null,null,null,"Ravens Academy - Clacton-on-Sea","122937","2013-09-01","East of England","Essex"]
[null,null,null,null,null,null,null,null,null,null,null,null,null,null,"Ravens Wood School - Bromley","119606","2011-04-01","London","Bromley"]
[null,null,null,null,null,null,null,null,null,null,null,null,null,null,"Ravensbourne School, The","119670","2011-04-01","London","Bromley"]
[null,null,null,null,null,null,null,null,null,null,null,null,null,null,"Ravensthorpe Infant and Nursery School","126480","2014-02-01","Yorkshire & The Humber","Kirklees"]
[null,null,null,null,null,null,null,null,null,null,null,null,null,null,"Rawlett Community Sports College","122358","2012-09-01","West Midlands","Staffordshire"]
[null,null,null,null,null,null,null,null,null,null,null,null,null,null,"Rawlins Community College","114120","2011-11-01","East Midlands","Leicestershire"]
[null,null,null,null,null,null,null,null,null,null,null,null,null,null,"Rawmarsh Ashwood Primary School",129887,"2014-04-01","Yorkshire & The Humber","Rotherham"]
[null,null,null,null,null,null,null,null,null,null,null,null,null,null,"Rawmarsh Sandhill Primary School","125201","2013-12-01","Yorkshire & The Humber","Rotherham"]
[null,null,null,null,null,null,null,null,null,null,null,null,null,null,"Rayleigh Primary School Academy Trust, The","123174","2013-04-01","East of England","Essex "]
[null,null,null,null,null,null,null,null,null,null,null,null,null,null,"Raynehurst Primary School","124227","2014-02-01","South East","Kent"]
[null,null,null,null,null,null,null,null,null,null,null,null,null,null,"Raynsford VC Lower School","122508","2013-04-01","East of England","Central Bedfordshire "]
[null,null,null,null,null,null,null,null,null,null,null,null,null,null,"Reach Academy: Feltham","122007","2012-09-01","London","Hounslow"]
[null,null,null,null,null,null,null,null,null,null,null,null,null,null,"Reach Free School, The - Watford","123363","2013-09-01","East of England","Hertfordshire"]
[null,null,null,null,null,null,null,null,null,null,null,null,null,null,"Reach School - Birmingham","123410","2013-09-01","West Midlands","Birmingham"]
[null,null,null,null,null,null,null,null,null,null,null,null,null,null,"Reading School","119465","2011-02-01","South East","Reading"]
[null,null,null,null,null,null,null,null,null,null,null,null,null,null,"Reaside Junior School","122591","2012-12-01","West Midlands","Birmingham"]
[null,null,null,null,null,null,null,null,null,null,null,null,null,null,"Red Hill Field Primary School","123258","2013-03-01","East Midlands","Leicestershire"]
[null,null,null,null,null,null,null,null,null,null,null,null,null,null,"Red House Academy","119144","2009-09-01","North East","Sunderland"]
[null,null,null,null,null,null,null,null,null,null,null,null,null,null,"Redborne Upper School and Community College","119574","2011-04-01","East of England","Central Bedfordshire"]
[null,null,null,null,null,null,null,null,null,null,null,null,null,null,"Redby Primary School","120356","2011-09-01","North East","Sunderland"]
[null,null,null,null,null,null,null,null,null,null,null,null,null,null,"Redcar Community College","123071","2012-12-01","North East","Redcar and Cleveland"]
[null,null,null,null,null,null,null,null,null,null,null,null,null,null,"Redden Court School","120351","2011-09-01","London","Havering"]
[null,null,null,null,null,null,null,null,null,null,null,null,null,null,"Reddish Vale Technology College","120733","2012-02-01","North West","Stockport"]
[null,null,null,null,null,null,null,null,null,null,null,null,null,null,"Redhill Academy","119386","2010-12-01","East Midlands","Nottinghamshire"]
[null,null,null,null,null,null,null,null,null,null,null,null,null,null,"Redhill Foundation Primary School","121006","2012-03-01","East Midlands","Derbyshire"]
[null,null,null,null,null,null,null,null,null,null,null,null,null,null,"Redhill School and Specialist Language College","123889","2013-07-01","West Midlands","Dudley"]
[null,null,null,null,null,null,null,null,null,null,null,null,null,null,"Redland Green","122427","2012-10-01","South West","Bristol City"]
[null,null,null,null,null,null,null,null,null,null,null,null,null,null,"Redmarley Church of England Primary School","120132","2011-08-01","South West","Gloucestershire"]
[null,null,null,null,null,null,null,null,null,null,null,null,null,null,"Redmoor High School Academy Trust","121153","2012-04-01","East Midlands","Leicestershire"]
[null,null,null,null,null,null,null,null,null,null,null,null,null,null,"Redriff Primary School","120878","2011-11-01","London","Southwark"]
[null,null,null,null,null,null,null,null,null,null,null,null,null,null,"Redstart Primary School, The","119903","2011-07-01","South West","Somerset"]
[null,null,null,null,null,null,null,null,null,null,null,null,null,null,"Reedswood E-ACT Primary Academy","122033","2012-09-01","West Midlands","Walsall"]
[null,null,null,null,null,null,null,null,null,null,null,null,null,null,"Reepham High School and College","122382","2012-10-01","East of England","Norfolk"]
[null,null,null,null,null,null,null,null,null,null,null,null,null,null,"Regency High School","125024","2013-10-01","West Midlands","Worcestershire"]
[null,null,null,null,null,null,null,null,null,null,null,null,null,null,"Regis Manor Community Primary School","119798","2011-06-01","South East","Kent"]
[null,null,null,null,null,null,null,null,null,null,null,null,null,null,"Regis School","120908","2012-01-01","South East","West Sussex"]
[null,null,null,null,null,null,null,null,null,null,null,null,null,null,"Reid Street Primary School","119836","2011-07-01","North East","Darlington"]
[null,null,null,null,null,null,null,null,null,null,null,null,null,null,"Rendell Primary School","122562","2012-11-01","East Midlands","Leicestershire"]
[null,null,null,null,null,null,null,null,null,null,null,null,null,null,"Restormel PRU","122701","2013-06-01","South West","Cornwall"]
[null,null,null,null,null,null,null,null,null,null,null,null,null,null,"Retford Oaks Academy","120117","2012-04-01","East Midlands","Nottinghamshire"]
[null,null,null,null,null,null,null,null,null,null,null,null,null,null,"Revoe Academy",129410,"2014-04-01","North West","Blackpool"]
[null,null,null,null,null,null,null,null,null,null,null,null,null,null,"Reynolds Primary School","124663","2013-09-01","Yorkshire & The Humber","North East Lincolnshire"]
[null,null,null,null,null,null,null,null,null,null,null,null,null,null,"Ribston Hall High School","119782","2011-06-01","South West","Gloucestershire"]
[null,null,null,null,null,null,null,null,null,null,null,null,null,null,"Richard Challoner School","120299","2011-08-17","London","Kingston Upon Thames"]
[null,null,null,null,null,null,null,null,null,null,null,null,null,null,"Richard Hale School","120857","2013-07-01","East of England","Hertfordshire"]
[null,null,null,null,null,null,null,null,null,null,null,null,null,null,"Richard Rose Central Academy","118687","2008-09-04","North West","Cumbria"]
[null,null,null,null,null,null,null,null,null,null,null,null,null,null,"Richard Rose Morton Academy","118691","2008-09-04","North West","Cumbria"]
[null,null,null,null,null,null,null,null,null,null,null,null,null,null,"Richmond Hill Primary School","129570","2014-02-01","Yorkshire & The Humber","Doncaster"]
[null,null,null,null,null,null,null,null,null,null,null,null,null,null,"Richmond Park Academy","119310","2010-09-01","London","Richmond Upon Thames"]
[null,null,null,null,null,null,null,null,null,null,null,null,null,null,"Richmond Primary School",127201,"2014-04-01","South East","Kent"]
[null,null,null,null,null,null,null,null,null,null,null,null,null,null,"Rickley Park Primary School","122608","2012-11-01","South East","Milton Keynes"]
[null,null,null,null,null,null,null,null,null,null,null,null,null,null,"Rickmansworth School","119620","2011-04-01","East of England","Hertfordshire"]
[null,null,null,null,null,null,null,null,null,null,null,null,null,null,"Riddlesdown Collegiate","121932","2012-06-01","London","Croydon"]
[null,null,null,null,null,null,null,null,null,null,null,null,null,null,"Ridge Academy, The","121882","2012-09-01","South West","Gloucestershire"]
[null,null,null,null,null,null,null,null,null,null,null,null,null,null,"Ridgeway Middle School","122957","2012-12-01","West Midlands","Worcestershire"]
[null,null,null,null,null,null,null,null,null,null,null,null,null,null,"Ridgeway Primary Academy - Market Harborough","122179","2012-07-01","East Midlands","Leicestershire"]
[null,null,null,null,null,null,null,null,null,null,null,null,null,null,"Ridgeway Primary School - South Shields","123050","2013-02-01","North East","South Tyneside"]
[null,null,null,null,null,null,null,null,null,null,null,null,null,null,"Ridgeway School - Plymouth","119599","2011-04-01","South West","Plymouth"]
[null,null,null,null,null,null,null,null,null,null,null,null,null,null,"Ridgeway School & Sixth Form College, The - Swindon","120160","2011-08-01","South West","Swindon"]
[null,null,null,null,null,null,null,null,null,null,null,null,null,null,"Ridgewood School","120553","2011-11-01","Yorkshire & The Humber","Doncaster"]
[null,null,null,null,null,null,null,null,null,null,null,null,null,null,"Ridpool Primary and Nursery School","122574","2012-12-01","West Midlands","Birmingham"]
[null,null,null,null,null,null,null,null,null,null,null,null,null,null,"Rimon Jewish Primary School","121983","2012-09-01","London","Barnet"]
[null,null,null,null,null,null,null,null,null,null,null,null,null,null,"Ringmer Academy","120232","2011-08-01","South East","East Sussex"]
[null,null,null,null,null,null,null,null,null,null,null,null,null,null,"Ringwood School","119644","2011-04-01","South East","Hampshire"]
[null,null,null,null,null,null,null,null,null,null,null,null,null,null,"Ripley St Thomas C of E High School","119732","2011-05-01","North West","Lancashire"]
[null,null,null,null,null,null,null,null,null,null,null,null,null,null,"River Bank Primary School","123332","2013-09-01","East of England","Luton"]
[null,null,null,null,null,null,null,null,null,null,null,null,null,null,"River Beach Primary School","124984","2013-09-01","South East","West Sussex"]
[null,null,null,null,null,null,null,null,null,null,null,null,null,null,"Riverley Primary School","123192","2013-11-01","London","Waltham Forest"]
[null,null,null,null,null,null,null,null,null,null,null,null,null,null,"Rivers Academy West London","120009","2011-08-01","London","Hounslow"]
[null,null,null,null,null,null,null,null,null,null,null,null,null,null,"Riverside Community Primary School Birstall",130368,"2014-04-01","East Midlands","Leicestershire"]
[null,null,null,null,null,null,null,null,null,null,null,null,null,null,"Riverside Primary Academy - Gateshead","122345","2012-07-01","North East","Gateshead"]
[null,null,null,null,null,null,null,null,null,null,null,null,null,null,"Riverside School - Barking","123355","2013-09-01","London","Barking and Dagenham"]
[null,null,null,null,null,null,null,null,null,null,null,null,null,null,"Riversides School - Worcester","127343","2014-01-01","West Midlands","Worcestershire"]
[null,null,null,null,null,null,null,null,null,null,null,null,null,null,"RNIB Three Spires Academy","124573","2013-09-01","West Midlands","Coventry"]
[null,null,null,null,null,null,null,null,null,null,null,null,null,null,"Robert Bakewell Primary School and Community Centre","122742","2013-12-01","East Midlands","Leicestershire"]
[null,null,null,null,null,null,null,null,null,null,null,null,null,null,"Robert Bloomfield Academy","119733","2011-05-01","East of England","Central Bedfordshire"]
[null,null,null,null,null,null,null,null,null,null,null,null,null,null,"Robert Drake Primary School, The","120246","2011-08-01","East of England","Essex"]
[null,null,null,null,null,null,null,null,null,null,null,null,null,null,"Robert Fitzroy Academy","122747","2012-09-01","London","Croydon"]
[null,null,null,null,null,null,null,null,null,null,null,null,null,null,"Robert May's School","120711","2012-05-01","South East","Hampshire"]
[null,null,null,null,null,null,null,null,null,null,null,null,null,null,"Robert Napier Academy","121891","2012-09-01","South East","Medway"]
[null,null,null,null,null,null,null,null,null,null,null,null,null,null,"Robert Owen Vocational School","123334","2013-09-01","West Midlands","Herefordshire"]
[null,null,null,null,null,null,null,null,null,null,null,null,null,null,"Robert Smyth School, The","120161","2011-08-01","East Midlands","Leicestershire"]
[null,null,null,null,null,null,null,null,null,null,null,null,null,null,"Robert Wilkinson Primary School","124206","2013-12-01","Yorkshire & The Humber","City of York"]
[null,null,null,null,null,null,null,null,null,null,null,null,null,null,"Robin Hood Junior and Infant School","125260","2013-10-01","West Midlands","Birmingham"]
[null,null,null,null,null,null,null,null,null,null,null,null,null,null,"Robinswood Primary School","119598","2011-04-01","South West","Gloucestershire"]
[null,null,null,null,null,null,null,null,null,null,null,null,null,null,"Rochester Grammar School, The","119362","2010-11-01","South East","Medway"]
[null,null,null,null,null,null,null,null,null,null,null,null,null,null,"Rochford Primary and Nursery School",129881,"2014-04-01","East of England","Essex"]
[null,null,null,null,null,null,null,null,null,null,null,null,null,null,"Rockingham Primary School","124646","2013-08-01","East Midlands","Northamptonshire"]
[null,null,null,null,null,null,null,null,null,null,null,null,null,null,"Rodborough Technology College","120019","2011-08-01","South East","Surrey"]
[null,null,null,null,null,null,null,null,null,null,null,null,null,null,"Rodbourne Cheney Primary School","121904","2012-07-01","South West","Swindon"]
[null,null,null,null,null,null,null,null,null,null,null,null,null,null,"Rodillian Academy, The","120842","2012-07-01","Yorkshire & The Humber","Leeds"]
[null,null,null,null,null,null,null,null,null,null,null,null,null,null,"Roger Ascham Primary School","119391","2011-01-01","London","Waltham Forest"]
[null,null,null,null,null,null,null,null,null,null,null,null,null,null,"Rolph Church of England Primary School","129443","2014-01-01","East of England","Essex"]
[null,null,null,null,null,null,null,null,null,null,null,null,null,null,"Romsey School, The","120239","2011-08-01","South East","Hampshire"]
[null,null,null,null,null,null,null,null,null,null,null,null,null,null,"Rookeries Carleton Junior and Infant School: With Hearing Impairment Resource, The","123205","2013-04-01","Yorkshire & The Humber","Wakefield "]
[null,null,null,null,null,null,null,null,null,null,null,null,null,null,"Rookery School & Children's Centre","120168","2011-08-01","West Midlands","Birmingham"]
[null,null,null,null,null,null,null,null,null,null,null,null,null,null,"Rooks Heath High School","120198","2011-08-01","London","Harrow"]
[null,null,null,null,null,null,null,null,null,null,null,null,null,null,"Rooks Nest Junior, Infant and Nursery School","120448","2011-09-01","Yorkshire & The Humber","Wakefield"]
[null,null,null,null,null,null,null,null,null,null,null,null,null,null,"Rosary Catholic Primary School, The","120419","2011-09-01","South West","Gloucestershire"]
[null,null,null,null,null,null,null,null,null,null,null,null,null,null,"Rose Wood Academy","125009","2014-01-01","North East","Middlesbrough"]
[null,null,null,null,null,null,null,null,null,null,null,null,null,null,"Roseacre Primary Academy","122389","2012-10-01","North West","Blackpool"]
[null,null,null,null,null,null,null,null,null,null,null,null,null,null,"Rosebery School","120707","2011-12-01T12:19:54","South East","Surrey"]
[null,null,null,null,null,null,null,null,null,null,null,null,null,null,"Rosedale College","120077","2011-08-01","London","Hillingdon"]
[null,null,null,null,null,null,null,null,null,null,null,null,null,null,"Roseland Community College, The","119562","2011-04-01","South West","Cornwall"]
[null,null,null,null,null,null,null,null,null,null,null,null,null,null,"Rosewood School","122535","2012-09-01","South East","Southampton"]
[null,null,null,null,null,null,null,null,null,null,null,null,null,null,"Rossett School","119896","2011-07-01","Yorkshire & The Humber","North Yorkshire"]
[null,null,null,null,null,null,null,null,null,null,null,null,null,null,"Rossington All Saints Academy","119754","2011-04-26","Yorkshire & The Humber","Doncaster"]
[null,null,null,null,null,null,null,null,null,null,null,null,null,null,"Rothley Church of England Primary School","122874","2013-07-01","East Midlands","Leicestershire"]
[null,null,null,null,null,null,null,null,null,null,null,null,null,null,"Rothwell Church of England Primary Academy - Leeds",127152,"2014-04-01","Yorkshire & The Humber","Leeds"]
[null,null,null,null,null,null,null,null,null,null,null,null,null,null,"Rothwell Junior School - Kettering","124520","2013-09-01","East Midlands","Northamptonshire"]
[null,null,null,null,null,null,null,null,null,null,null,null,null,null,"Rothwell Victoria Infant School - Kettering","124487","2013-09-01","East Midlands","Northamptonshire"]
[null,null,null,null,null,null,null,null,null,null,null,null,null,null,"Rough Hay Primary School","123864","2013-02-01","West Midlands","Walsall"]
[null,null,null,null,null,null,null,null,null,null,null,null,null,null,"Round House Primary School, The","124377","2013-08-01","East of England","Cambridgeshire"]
[null,null,null,null,null,null,null,null,null,null,null,null,null,null,"Roundhill Community College","121181","2012-04-01","East Midlands","Leicestershire"]
[null,null,null,null,null,null,null,null,null,null,null,null,null,null,"Roundthorn Community Primary School","124672","2013-09-01","North West","Oldham"]
[null,null,null,null,null,null,null,null,null,null,null,null,null,null,"Roundwood Park School","119973","2011-08-01","East of England","Hertfordshire"]
[null,null,null,null,null,null,null,null,null,null,null,null,null,null,"Route 39 Academy","123335","2013-09-01","South West","Devon"]
[null,null,null,null,null,null,null,null,null,null,null,null,null,null,"Rowanfield Junior School","120255","2011-08-01","South West","Gloucestershire"]
[null,null,null,null,null,null,null,null,null,null,null,null,null,null,"Rowde Church of England Voluntary Aided Primary School","123123","2013-01-01","South West","Wiltshire"]
[null,null,null,null,null,null,null,null,null,null,null,null,null,null,"Rowena Nursery and Infant Academy","120608","2011-11-01","Yorkshire & The Humber","Doncaster"]
[null,null,null,null,null,null,null,null,null,null,null,null,null,null,"Royal Grammar School, The - High Wycombe","119484","2011-02-01","South East","Buckinghamshire"]
[null,null,null,null,null,null,null,null,null,null,null,null,null,null,"Royal Latin School","120501","2011-09-01","South East","Buckinghamshire"]
[null,null,null,null,null,null,null,null,null,null,null,null,null,null,"Royal Wootton Bassett Academy","119911","2011-07-01","South West","Wiltshire"]
[null,null,null,null,null,null,null,null,null,null,null,null,null,null,"Roydon Primary School","123936","2013-12-01","East of England","Essex"]
[null,null,null,null,null,null,null,null,null,null,null,null,null,null,"Roysia Middle School","119949","2011-11-01","East of England","Hertfordshire"]
[null,null,null,null,null,null,null,null,null,null,null,null,null,null,"Royston Meadstead Primary School","122650","2013-06-01","Yorkshire & The Humber","Barnsley"]
[null,null,null,null,null,null,null,null,null,null,null,null,null,null,"Royston Summer Fields Primary School","122795","2012-12-01","Yorkshire & The Humber","Barnsley"]
[null,null,null,null,null,null,null,null,null,null,null,null,null,null,"RSA Academy, The - Tipton","118675","2008-09-01","West Midlands","Sandwell"]
[null,null,null,null,null,null,null,null,null,null,null,null,null,null,"Rudheath Community Primary School","123283","2013-04-01","North West","Cheshire West and Chester "]
[null,null,null,null,null,null,null,null,null,null,null,null,null,null,"Rugby High School","119632","2011-04-01","West Midlands","Warwickshire"]
[null,null,null,null,null,null,null,null,null,null,null,null,null,null,"Ruislip High School",129423,"2014-04-01","London","Hillingdon"]
[null,null,null,null,null,null,null,null,null,null,null,null,null,null,"Runwell Community Primary School","120054","2011-08-01","East of England","Essex"]
[null,null,null,null,null,null,null,null,null,null,null,null,null,null,"Rural Enterprise Academy, The","121970","2012-09-01","West Midlands","Staffordshire"]
[null,null,null,null,null,null,null,null,null,null,null,null,null,null,"Rush Common School","121074","2012-03-01","South East","Oxfordshire"]
[null,null,null,null,null,null,null,null,null,null,null,null,null,null,"Rush Croft Sports College","122667","2012-10-01","London","Waltham Forest"]
[null,null,null,null,null,null,null,null,null,null,null,null,null,null,"Rushcliffe School","122129","2012-08-01T12:42:40","East Midlands","Nottinghamshire"]
[null,null,null,null,null,null,null,null,null,null,null,null,null,null,"Rushden Community College, The","123097","2012-12-01","East Midlands","Northamptonshire"]
[null,null,null,null,null,null,null,null,null,null,null,null,null,null,"Rushton Primary School","124536","2013-09-01","East Midlands","Northamptonshire"]
[null,null,null,null,null,null,null,null,null,null,null,null,null,null,"Ruskin Junior School","122835","2012-11-01","East Midlands","Northamptonshire"]
[null,null,null,null,null,null,null,null,null,null,null,null,null,null,"Ruskington Chestnut Street Church of England Academy","121159","2012-07-01","East Midlands","Lincolnshire"]
[null,null,null,null,null,null,null,null,null,null,null,null,null,null,"Rustington Community Primary School","123883","2013-04-01","South East","West Sussex "]
[null,null,null,null,null,null,null,null,null,null,null,null,null,null,"Rutherford House School","123291","2013-09-01","London","Wandsworth"]
[null,null,null,null,null,null,null,null,null,null,null,null,null,null,"Rydal Academy, The - Darlington","123090","2012-12-01","North East","Darlington"]
[null,null,null,null,null,null,null,null,null,null,null,null,null,null,"Ryde Academy - Isle of Wight","119953","2011-09-01","South East","Isle of Wight"]
[null,null,null,null,null,null,null,null,null,null,null,null,null,null,"Rydens School","120137","2011-08-01","South East","Surrey"]
[null,null,null,null,null,null,null,null,null,null,null,null,null,null,"Ryders Hayes Academy Trust","119594","2011-04-01","West Midlands","Walsall"]
[null,null,null,null,null,null,null,null,null,null,null,null,null,null,"Rydon Primary School","120497","2011-10-01","South West","Devon"]
[null,null,null,null,null,null,null,null,null,null,null,null,null,null,"Rye College","122385","2012-09-01","South East","East Sussex"]
[null,null,null,null,null,null,null,null,null,null,null,null,null,null,"Rye Studio School","123391","2013-09-01","South East","East Sussex"]
[null,null,null,null,null,null,null,null,null,null,null,null,null,null,"Ryecroft Primary School - Leeds",130128,"2014-05-01","Yorkshire & The Humber","Leeds"]
[null,null,null,null,null,null,null,null,null,null,null,null,null,null,"Ryecroft Primary School - Bradford","122483","2012-09-01","Yorkshire & The Humber","Bradford"]
[null,null,null,null,null,null,null,null,null,null,null,null,null,null,"Ryvers School","121829","2012-06-01","South East","Slough"]
[null,null,null,null,null,null,null,null,null,null,null,null,null,null,"Sacred Heart Catholic Primary School - Carlton","121090","2012-10-01","East Midlands","Nottinghamshire"]
[null,null,null,null,null,null,null,null,null,null,null,null,null,null,"Sacred Heart Catholic Primary School - Leicester","121184","2012-04-01","East Midlands","Leicester"]
[null,null,null,null,null,null,null,null,null,null,null,null,null,null,"Sacred Heart Catholic Primary School - Sheffield","124631","2013-12-01","Yorkshire & The Humber","Sheffield"]
[null,null,null,null,null,null,null,null,null,null,null,null,null,null,"Sacred Heart Catholic Primary School - Wakefield","122409","2012-11-01","Yorkshire & The Humber","Wakefield"]
[null,null,null,null,null,null,null,null,null,null,null,null,null,null,"Sacred Heart Catholic Primary School, The - Bradford","123818","2013-04-01","Yorkshire & The Humber","Bradford   "]
[null,null,null,null,null,null,null,null,null,null,null,null,null,null,"Sacred Heart Catholic School - Torbay",130109,"2014-04-01","South West","Torbay"]
[null,null,null,null,null,null,null,null,null,null,null,null,null,null,"Sacred Heart Catholic Voluntary Academy - Leicester","122496","2012-07-01","East Midlands","Leicestershire"]
[null,null,null,null,null,null,null,null,null,null,null,null,null,null,"Sacred Heart High School - Hammersmith and Fulham","121110","2012-03-01","London","Hammersmith and Fulham"]
[null,null,null,null,null,null,null,null,null,null,null,null,null,null,"Sacred Heart High School - Newcastle-upon-Tyne","120896","2011-12-01","North East","Newcastle Upon Tyne"]
[null,null,null,null,null,null,null,null,null,null,null,null,null,null,"Sacred Heart of Mary Girls' School","120233","2011-08-01","London","Havering"]
[null,null,null,null,null,null,null,null,null,null,null,null,null,null,"Sacred Heart RC Voluntary Aided Primary School",130129,"2014-03-01","North East","Gateshead"]
[null,null,null,null,null,null,null,null,null,null,null,null,null,null,"Sacred Heart Roman Catholic Secondary School","121905","2012-11-01","London","Southwark"]
[null,null,null,null,null,null,null,null,null,null,null,null,null,null,"Saffron Walden County High School","119783","2011-06-01","East of England","Essex"]
[null,null,null,null,null,null,null,null,null,null,null,null,null,null,"Saint Augustine Webster Catholic Academy","121826","2012-04-01","Yorkshire & The Humber","North Lincolnshire"]
[null,null,null,null,null,null,null,null,null,null,null,null,null,null,"Saint Augustine's Catholic Primary School, Stamford, The","124332","2013-05-01","East Midlands","Lincolnshire "]
[null,null,null,null,null,null,null,null,null,null,null,null,null,null,"Saint Benedict Catholic School and Performing Arts College","122806","2012-09-01","East Midlands","Derby"]
[null,null,null,null,null,null,null,null,null,null,null,null,null,null,"Saint Gabriel's Catholic Voluntary Aided Primary School",129587,"2014-04-01","North East","Redcar and Cleveland"]
[null,null,null,null,null,null,null,null,null,null,null,null,null,null,"Saint George's Church of England School","120624","2011-11-01","South East","Kent"]
[null,null,null,null,null,null,null,null,null,null,null,null,null,null,"Saint Hugh's Catholic Primary School, Lincoln, The","124326","2013-05-01","East Midlands","Lincolnshire "]
[null,null,null,null,null,null,null,null,null,null,null,null,null,null,"Saint Joan of Arc Catholic School","121078","2012-03-01T11:49:16","East of England","Hertfordshire"]
[null,null,null,null,null,null,null,null,null,null,null,null,null,null,"Saint John Fisher Catholic Primary School - Wigston","121156","2012-04-01","East Midlands","Leicestershire"]
[null,null,null,null,null,null,null,null,null,null,null,null,null,null,"Saint John Houghton Catholic School","121034","2012-03-01","East Midlands","Derbyshire"]
[null,null,null,null,null,null,null,null,null,null,null,null,null,null,"Saint Martin's Catholic School - Stoke Golding","122402","2012-07-01","East Midlands","Leicestershire"]
[null,null,null,null,null,null,null,null,null,null,null,null,null,null,"Saint Mary's Catholic Primary School - Loughborough","122362","2012-07-01","East Midlands","Leicestershire"]
[null,null,null,null,null,null,null,null,null,null,null,null,null,null,"Saint Michael's Catholic High School","121157","2012-03-01T11:52:11","East of England","Hertfordshire"]
[null,null,null,null,null,null,null,null,null,null,null,null,null,null,"Saint Norbert's Catholic Primary School","121924","2012-10-01","Yorkshire & The Humber","North Lincolnshire"]
[null,null,null,null,null,null,null,null,null,null,null,null,null,null,"Saint Peter's Catholic College of Maths and Computing",129438,"2014-04-01","North East","Redcar and Cleveland"]
[null,null,null,null,null,null,null,null,null,null,null,null,null,null,"Saint Winefride's Catholic Primary School - Shepshed","122364","2012-07-01","East Midlands","Leicestershire"]
[null,null,null,null,null,null,null,null,null,null,null,null,null,null,"Salcombe Church of England Primary School","120475","2011-11-01","South West","Devon"]
[null,null,null,null,null,null,null,null,null,null,null,null,null,null,"Sale Grammar School","119498","2011-03-01","North West","Trafford"]
[null,null,null,null,null,null,null,null,null,null,null,null,null,null,"Salendine Nook High School","120713","2012-02-01","Yorkshire & The Humber","Kirklees"]
[null,null,null,null,null,null,null,null,null,null,null,null,null,null,"Salford City Academy","118916","2005-09-01","North West","Salford"]
[null,null,null,null,null,null,null,null,null,null,null,null,null,null,"Salmestone Primary School","122252","2012-09-01","South East","Kent"]
[null,null,null,null,null,null,null,null,null,null,null,null,null,null,"saltash.net Academy Trust","119559","2011-04-01","South West","Cornwall"]
[null,null,null,null,null,null,null,null,null,null,null,null,null,null,"Salterlee Primary School","120452","2011-09-01","Yorkshire & The Humber","Calderdale"]
[null,null,null,null,null,null,null,null,null,null,null,null,null,null,"Salvatorian Roman Catholic College","122500","2012-08-01","London","Harrow"]
[null,null,null,null,null,null,null,null,null,null,null,null,null,null,"Sampford Peverell Church of England Primary School","120477","2011-11-01","South West","Devon"]
[null,null,null,null,null,null,null,null,null,null,null,null,null,null,"Samuel Lister Academy, The","120923","2012-04-01","Yorkshire & The Humber","Bradford"]
[null,null,null,null,null,null,null,null,null,null,null,null,null,null,"Samuel Ryder Academy, The","121015","2012-09-01","East of England","Hertfordshire"]
[null,null,null,null,null,null,null,null,null,null,null,null,null,null,"Samuel Ward Academy","119369","2010-11-01","East of England","Suffolk"]
[null,null,null,null,null,null,null,null,null,null,null,null,null,null,"Samuel Whitbread Community College","119952","2012-03-01T11:54:02","East of England","Central Bedfordshire"]
[null,null,null,null,null,null,null,null,null,null,null,null,null,null,"Samworth Church Academy","118654","2008-09-01","East Midlands","Nottinghamshire"]
[null,null,null,null,null,null,null,null,null,null,null,null,null,null,"Samworth Enterprise Academy","119113","2007-09-01","East Midlands","Leicester"]
[null,null,null,null,null,null,null,null,null,null,null,null,null,null,"Sandal Magna Community Academy","122938","2013-05-01","Yorkshire & The Humber","Wakefield "]
[null,null,null,null,null,null,null,null,null,null,null,null,null,null,"Sandbach High School and Sixth Form College","119374","2010-11-01","North West","Cheshire East"]
[null,null,null,null,null,null,null,null,null,null,null,null,null,null,"Sandbach School","120535","2011-09-01","North West","Cheshire East"]
[null,null,null,null,null,null,null,null,null,null,null,null,null,null,"Sandon Primary School - Stoke-on-Trent",121233,"2014-05-01","West Midlands","Stoke on Trent"]
[null,null,null,null,null,null,null,null,null,null,null,null,null,null,"Sandon School, The - Chelmsford","120240","2011-08-01","East of England","Essex"]
[null,null,null,null,null,null,null,null,null,null,null,null,null,null,"Sandown Bay Academy","119927","2011-09-01","South East","Isle of Wight"]
[null,null,null,null,null,null,null,null,null,null,null,null,null,null,"Sandringham School","119628","2011-04-01","East of England","Hertfordshire"]
[null,null,null,null,null,null,null,null,null,null,null,null,null,null,"Sandwell Academy","118639","2006-09-01","West Midlands","Sandwell"]
[null,null,null,null,null,null,null,null,null,null,null,null,null,null,"Sandwich Technology School","119370","2010-11-01","South East","Kent"]
[null,null,null,null,null,null,null,null,null,null,null,null,null,null,"Sandy Hill Community Primary School","119359","2010-11-01","South West","Cornwall"]
[null,null,null,null,null,null,null,null,null,null,null,null,null,null,"Sandye Place Academy","119589","2011-04-01","East of England","Central Bedfordshire"]
[null,null,null,null,null,null,null,null,null,null,null,null,null,null,"Sandymoor School","122010","2012-09-01","North West","Halton"]
[null,null,null,null,null,null,null,null,null,null,null,null,null,null,"Sarum Academy","119238","2010-09-01","South West","Wiltshire"]
[null,null,null,null,null,null,null,null,null,null,null,null,null,null,"Sawston Village College","119791","2011-06-01","East of England","Cambridgeshire"]
[null,null,null,null,null,null,null,null,null,null,null,null,null,null,"Sawtry Community College","119974","2011-08-01","East of England","Cambridgeshire"]
[null,null,null,null,null,null,null,null,null,null,null,null,null,null,"Saxmundham Free School, The","121971","2012-09-01","East of England","Suffolk"]
[null,null,null,null,null,null,null,null,null,null,null,null,null,null,"Saxon Primary Academy","124732","2013-10-01","South East","Surrey"]
[null,null,null,null,null,null,null,null,null,null,null,null,null,null,"Saxon Way Primary School","124657","2013-09-01","South East","Medway"]
[null,null,null,null,null,null,null,null,null,null,null,null,null,null,"Scartho Junior Academy","120769","2012-01-01","Yorkshire & The Humber","North East Lincolnshire"]
[null,null,null,null,null,null,null,null,null,null,null,null,null,null,"Scawby Academy","121056","2012-04-01","Yorkshire & The Humber","North Lincolnshire"]
[null,null,null,null,null,null,null,null,null,null,null,null,null,null,"School 21","122021","2012-09-01","London","Newham"]
[null,null,null,null,null,null,null,null,null,null,null,null,null,null,"Scientia Academy","122807","2013-09-01","West Midlands","Staffordshire"]
[null,null,null,null,null,null,null,null,null,null,null,null,null,null,"Scotts Park Primary School - Bromley",129901,"2014-04-01","London","Bromley"]
[null,null,null,null,null,null,null,null,null,null,null,null,null,null,"Scout Road Primary School - Hebden Bridge","120456","2011-09-01","Yorkshire & The Humber","Calderdale"]
[null,null,null,null,null,null,null,null,null,null,null,null,null,null,"Seaford Head School","122276","2012-08-01","South East","East Sussex"]
[null,null,null,null,null,null,null,null,null,null,null,null,null,null,"Seahaven Academy",125004,"2014-04-01","South East","East Sussex"]
[null,null,null,null,null,null,null,null,null,null,null,null,null,null,"Seal Primary Academy","121155","2012-04-01","South East","West Sussex"]
[null,null,null,null,null,null,null,null,null,null,null,null,null,null,"Seaton Academy","119253","2010-09-01","North West","Cumbria"]
[null,null,null,null,null,null,null,null,null,null,null,null,null,null,"Seer Green Church of England Combined School","122955","2013-02-01","South East","Buckinghamshire"]
[null,null,null,null,null,null,null,null,null,null,null,null,null,null,"Sele School, The","120797","2012-08-01T12:39:54","East of England","Hertfordshire"]
[null,null,null,null,null,null,null,null,null,null,null,null,null,null,"Selling Church of England Primary School","120379","2011-09-01","South East","Kent"]
[null,null,null,null,null,null,null,null,null,null,null,null,null,null,"Selsey Academy, The","120096","2011-09-01","South East","West Sussex"]
[null,null,null,null,null,null,null,null,null,null,null,null,null,null,"Selwood Anglican/Methodist Middle School","120852","2011-12-01","South West","Somerset"]
[null,null,null,null,null,null,null,null,null,null,null,null,null,null,"Serlby Park Academy","120141","2011-09-01","East Midlands","Nottinghamshire"]
[null,null,null,null,null,null,null,null,null,null,null,null,null,null,"Settlebeck High School","120269","2011-08-01","North West","Cumbria"]
[null,null,null,null,null,null,null,null,null,null,null,null,null,null,"Seven Fields Primary School","121851","2012-04-01","South West","Swindon"]
[null,null,null,null,null,null,null,null,null,null,null,null,null,null,"Severn Vale School","120298","2011-08-17","South West","Gloucestershire"]
[null,null,null,null,null,null,null,null,null,null,null,null,null,null,"Severn View Primary Academy","122302","2012-09-01","South West","Gloucestershire"]
[null,null,null,null,null,null,null,null,null,null,null,null,null,null,"Severnbanks Primary School","123216","2013-01-01","South West","Gloucestershire"]
[null,null,null,null,null,null,null,null,null,null,null,null,null,null,"Severndale Specialist Academy","126347","2014-01-01","West Midlands","Shropshire"]
[null,null,null,null,null,null,null,null,null,null,null,null,null,null,"Sexey's School","120313","2011-08-17","South West","Somerset"]
[null,null,null,null,null,null,null,null,null,null,null,null,null,null,"Seymour Primary School - Crawley","122269","2012-09-01","South East","West Sussex"]
[null,null,null,null,null,null,null,null,null,null,null,null,null,null,"Seymour Road Primary School - Manchester","122638","2013-02-01","North West","Manchester"]
[null,null,null,null,null,null,null,null,null,null,null,null,null,null,"Shade Primary School, The","126497","2013-09-01","East of England","Cambridgeshire"]
[null,null,null,null,null,null,null,null,null,null,null,null,null,null,"Shafton Primary School","122914","2012-12-01","Yorkshire & The Humber","Barnsley"]
[null,null,null,null,null,null,null,null,null,null,null,null,null,null,"Sharnbrook John Gibbard Lower School","123070","2013-04-01","East of England","Bedford "]
[null,null,null,null,null,null,null,null,null,null,null,null,null,null,"Sharnbrook Upper School","119470","2011-02-01","East of England","Bedford"]
[null,null,null,null,null,null,null,null,null,null,null,null,null,null,"Shatterlocks Infant School","122116","2012-06-01","South East","Kent"]
[null,null,null,null,null,null,null,null,null,null,null,null,null,null,"Shaw Primary School","122985","2013-02-01","East of England","Thurrock"]
[null,null,null,null,null,null,null,null,null,null,null,null,null,null,"Shaw Ridge Primary School","124130","2013-11-01","South West","Swindon"]
[null,null,null,null,null,null,null,null,null,null,null,null,null,null,"Shaw Wood Primary School","121125","2012-09-01","Yorkshire & The Humber","Doncaster"]
[null,null,null,null,null,null,null,null,null,null,null,null,null,null,"Sheffield Park Academy","118640","2006-09-01","Yorkshire & The Humber","Sheffield"]
[null,null,null,null,null,null,null,null,null,null,null,null,null,null,"Sheffield Springs Academy","118642","2006-09-01","Yorkshire & The Humber","Sheffield"]
[null,null,null,null,null,null,null,null,null,null,null,null,null,null,"Sheffield UTC","122058","2013-09-01","Yorkshire & The Humber","Sheffield"]
[null,null,null,null,null,null,null,null,null,null,null,null,null,null,"Sheldon School","119550","2011-04-01","South West","Wiltshire"]
[null,null,null,null,null,null,null,null,null,null,null,null,null,null,"Sheldwich Primary School","120380","2011-09-01","South East","Kent"]
[null,null,null,null,null,null,null,null,null,null,null,null,null,null,"Shelfield Community Academy","118909","2009-01-01","West Midlands","Walsall"]
[null,null,null,null,null,null,null,null,null,null,null,null,null,null,"Shelley College","120454","2011-09-01","Yorkshire & The Humber","Kirklees"]
[null,null,null,null,null,null,null,null,null,null,null,null,null,null,"Shenfield High School","121067","2012-02-01T14:34:27","East of England","Essex"]
[null,null,null,null,null,null,null,null,null,null,null,null,null,null,"Shenley Academy","119086","2009-09-01","West Midlands","Birmingham"]
[null,null,null,null,null,null,null,null,null,null,null,null,null,null,"Shenley Brook End School","119734","2011-05-01","South East","Milton Keynes"]
[null,null,null,null,null,null,null,null,null,null,null,null,null,null,"Shepherdswell School","122329","2012-09-01","South East","Milton Keynes"]
[null,null,null,null,null,null,null,null,null,null,null,null,null,null,"Sheringham High School and Sixth Form Centre","120646","2011-11-01","East of England","Norfolk"]
[null,null,null,null,null,null,null,null,null,null,null,null,null,null,"Sherwood E-ACT Academy","120936","2012-09-01","East Midlands","Nottinghamshire"]
[null,null,null,null,null,null,null,null,null,null,null,null,null,null,"Sherwood Park Primary School","127459","2014-01-01","London","Bexley"]
[null,null,null,null,null,null,null,null,null,null,null,null,null,null,"Shibden Head Primary School","123251","2013-03-01","Yorkshire & The Humber","Bradford"]
[null,null,null,null,null,null,null,null,null,null,null,null,null,null,"Shiphay Learning Academy","119675","2011-04-01","South West","Torbay"]
[null,null,null,null,null,null,null,null,null,null,null,null,null,null,"Shipston High School","120649","2012-09-01","West Midlands","Warwickshire"]
[null,null,null,null,null,null,null,null,null,null,null,null,null,null,"Shire Oak Academy","119534","2011-04-01","West Midlands","Walsall"]
[null,null,null,null,null,null,null,null,null,null,null,null,null,null,"Shirebrook Academy","119195","2010-09-01","East Midlands","Derbyshire"]
[null,null,null,null,null,null,null,null,null,null,null,null,null,null,"Shireland Collegiate Academy","118644","2007-09-01","West Midlands","Sandwell"]
[null,null,null,null,null,null,null,null,null,null,null,null,null,null,"Shireland Hall Primary School","124361","2013-07-01","West Midlands","Sandwell"]
[null,null,null,null,null,null,null,null,null,null,null,null,null,null,"Shirestone Community Primary School","122556","2012-11-01","West Midlands","Birmingham"]
[null,null,null,null,null,null,null,null,null,null,null,null,null,null,"Shirley High School Performing Arts College","120742","2012-01-01","London","Croydon"]
[null,null,null,null,null,null,null,null,null,null,null,null,null,null,"Shirley Infant School","122357","2012-11-01","South East","Southampton"]
[null,null,null,null,null,null,null,null,null,null,null,null,null,null,"Shirley Junior School","122595","2012-11-01","South East","Southampton"]
[null,null,null,null,null,null,null,null,null,null,null,null,null,null,"Shirley Manor Primary School",129417,"2014-03-01","Yorkshire and the Humber","Bradford"]
[null,null,null,null,null,null,null,null,null,null,null,null,null,null,"Shoeburyness High School","120634","2011-12-01T12:20:56","East of England","Southend-on-Sea"]
[null,null,null,null,null,null,null,null,null,null,null,null,null,null,"Shooters Hill Post-16 Campus","122727","2012-11-01T15:12:01","London","Greenwich"]
[null,null,null,null,null,null,null,null,null,null,null,null,null,null,"Shoreham Academy","119107","2009-09-01","South East","West Sussex"]
[null,null,null,null,null,null,null,null,null,null,null,null,null,null,"Short Stay School for Norfolk",126351,"2014-04-01","East of England","Norfolk"]
[null,null,null,null,null,null,null,null,null,null,null,null,null,null,"Shrivenham Church of England Controlled School","124539","2013-11-01","South East","Oxfordshire"]
[null,null,null,null,null,null,null,null,null,null,null,null,null,null,"Sidbury Church of England Primary School","120545","2011-11-01","South West","Devon"]
[null,null,null,null,null,null,null,null,null,null,null,null,null,null,"Siddal Primary School","120564","2012-09-01","Yorkshire & The Humber","Calderdale"]
[null,null,null,null,null,null,null,null,null,null,null,null,null,null,"Sidegate Primary School",130125,"2014-05-01","East of England","Suffolk"]
[null,null,null,null,null,null,null,null,null,null,null,null,null,null,"Sidney Stringer Academy","119196","2010-09-01","West Midlands","Coventry"]
[null,null,null,null,null,null,null,null,null,null,null,null,null,null,"Signhills Academy - Cleethorpes","119975","2011-08-01","Yorkshire & The Humber","North East Lincolnshire"]
[null,null,null,null,null,null,null,null,null,null,null,null,null,null,"Signhills Infants' Academy - Cleethorpes","121175","2012-04-01","Yorkshire & The Humber","North East Lincolnshire"]
[null,null,null,null,null,null,null,null,null,null,null,null,null,null,"Sileby Redlands Community Primary School","122856","2013-09-01","East Midlands","Leicestershire"]
[null,null,null,null,null,null,null,null,null,null,null,null,null,null,"Silver Springs Primary Academy","120951","2012-04-01","North West","Tameside"]
[null,null,null,null,null,null,null,null,null,null,null,null,null,null,"Silverdale Primary Academy - Newcastle","124664","2014-01-01","West Midlands","Staffordshire"]
[null,null,null,null,null,null,null,null,null,null,null,null,null,null,"Silverdale School - Sheffield","122404","2013-01-01","Yorkshire & The Humber","Sheffield"]
[null,null,null,null,null,null,null,null,null,null,null,null,null,null,"Silverstone UTC","122050","2013-09-01","East Midlands","Northamptonshire"]
[null,null,null,null,null,null,null,null,null,null,null,null,null,null,"Simon Balle School","121196","2013-11-01T14:10:52","East of England","Hertfordshire"]
[null,null,null,null,null,null,null,null,null,null,null,null,null,null,"Simpson's Lane Academy","122161","2012-08-01","Yorkshire & The Humber","Wakefield"]
[null,null,null,null,null,null,null,null,null,null,null,null,null,null,"Sir Christopher Hatton School","121109","2012-03-01T11:55:07","East Midlands","Northamptonshire"]
[null,null,null,null,null,null,null,null,null,null,null,null,null,null,"Sir Harry Smith Community College","121151","2012-04-01","East of England","Cambridgeshire"]
[null,null,null,null,null,null,null,null,null,null,null,null,null,null,"Sir Henry Floyd Grammar School","119845","2011-07-01","South East","Buckinghamshire"]
[null,null,null,null,null,null,null,null,null,null,null,null,null,null,"Sir Herbert Leon Academy","121894","2012-09-01","South East","Milton Keynes"]
[null,null,null,null,null,null,null,null,null,null,null,null,null,null,"Sir Isaac Newton Sixth Form Free School","123337","2013-09-01","East of England","Norfolk"]
[null,null,null,null,null,null,null,null,null,null,null,null,null,null,"Sir John Gleed School","118043","2013-01-01","East Midlands","Lincolnshire"]
[null,null,null,null,null,null,null,null,null,null,null,null,null,null,"Sir John Lawes School","120270","2011-08-01","East of England","Hertfordshire"]
[null,null,null,null,null,null,null,null,null,null,null,null,null,null,"Sir John Leman High School","120055","2011-08-01","East of England","Suffolk"]
[null,null,null,null,null,null,null,null,null,null,null,null,null,null,"Sir Joseph Williamson's Mathematical School","119657","2011-04-01","South East","Medway"]
[null,null,null,null,null,null,null,null,null,null,null,null,null,null,"Sir Robert Geffery's Voluntary Aided Church of England Primary School","120257","2011-08-01","South West","Cornwall"]
[null,null,null,null,null,null,null,null,null,null,null,null,null,null,"Sir Robert Pattinson Academy","113716","2011-08-01","East Midlands","Lincolnshire"]
[null,null,null,null,null,null,null,null,null,null,null,null,null,null,"Sir Robert Woodard Academy","118898","2009-09-01","South East","West Sussex"]
[null,null,null,null,null,null,null,null,null,null,null,null,null,null,"Sir Roger Manwood's School","119501","2011-03-01","South East","Kent"]
[null,null,null,null,null,null,null,null,null,null,null,null,null,null,"Sir Thomas Fremantle School","123338","2013-09-01","South East","Buckinghamshire"]
[null,null,null,null,null,null,null,null,null,null,null,null,null,null,"Sir Thomas Rich's School","119297","2010-10-01","South West","Gloucestershire"]
[null,null,null,null,null,null,null,null,null,null,null,null,null,null,"Sir Thomas Wharton Community College","122731","2013-02-01","Yorkshire & The Humber","Doncaster"]
[null,null,null,null,null,null,null,null,null,null,null,null,null,null,"Sir William Borlase's Grammar School","119757","2011-06-01","South East","Buckinghamshire"]
[null,null,null,null,null,null,null,null,null,null,null,null,null,null,"Sir William Burrough Primary School","120557","2011-12-01","London","Tower Hamlets"]
[null,null,null,null,null,null,null,null,null,null,null,null,null,null,"Sir William Ramsay School","120256","2011-08-01","South East","Buckinghamshire"]
[null,null,null,null,null,null,null,null,null,null,null,null,null,null,"Sir William Robertson High School, The - Welbourn","122899","2012-10-01","East Midlands","Lincolnshire"]
[null,null,null,null,null,null,null,null,null,null,null,null,null,null,"Sir William Romney's School","119985","2011-08-01","South West","Gloucestershire"]
[null,null,null,null,null,null,null,null,null,null,null,null,null,null,"Sir William Stanier Community School","123945","2013-09-01","North West","Cheshire East"]
[null,null,null,null,null,null,null,null,null,null,null,null,null,null,"Sirius Academy","119129","2009-09-01","Yorkshire & The Humber","Hull"]
[null,null,null,null,null,null,null,null,null,null,null,null,null,null,"Sittingbourne Academy","121053","2012-01-01","South East","Kent"]
[null,null,null,null,null,null,null,null,null,null,null,null,null,null,"Skegness Academy","119332","2010-09-01","East Midlands","Lincolnshire"]
[null,null,null,null,null,null,null,null,null,null,null,null,null,null,"Skegness Grammar School, The","122110","2012-09-01","East Midlands","Lincolnshire"]
[null,null,null,null,null,null,null,null,null,null,null,null,null,null,"Skegness Infant School","122390","2012-09-01","East Midlands","Lincolnshire"]
[null,null,null,null,null,null,null,null,null,null,null,null,null,null,"Skegness Junior School","121189","2012-09-01","East Midlands","Lincolnshire"]
[null,null,null,null,null,null,null,null,null,null,null,null,null,null,"Skelton Primary School","126488","2013-11-01","North East","Redcar and Cleveland"]
[null,null,null,null,null,null,null,null,null,null,null,null,null,null,"Skerne Park Primary School","122909","2013-02-01","North East","Darlington"]
[null,null,null,null,null,null,null,null,null,null,null,null,null,null,"Skinner Street Primary School","122664","2013-09-01","South East","Medway"]
[null,null,null,null,null,null,null,null,null,null,null,null,null,null,"Skinners' Academy","119204","2010-09-01","London","Hackney"]
[null,null,null,null,null,null,null,null,null,null,null,null,null,null,"Skinners' Kent Academy","118899","2009-09-01","South East","Kent"]
[null,null,null,null,null,null,null,null,null,null,null,null,null,null,"Skinners' School, The","129554","2014-02-01","South East","Kent"]
[null,null,null,null,null,null,null,null,null,null,null,null,null,null,"Skipton Girls' High School","119580","2011-04-01","Yorkshire & The Humber","North Yorkshire"]
[null,null,null,null,null,null,null,null,null,null,null,null,null,null,"Slade Junior and Infant School","121173","2012-09-01","West Midlands","Birmingham"]
[null,null,null,null,null,null,null,null,null,null,null,null,null,null,"Slough and Eton CofE Business and Enterprise College","120287","2011-08-17","South East","Slough"]
[null,null,null,null,null,null,null,null,null,null,null,null,null,null,"Slough Grammar School","119440","2011-01-01","South East","Slough"]
[null,null,null,null,null,null,null,null,null,null,null,null,null,null,"Smarden Primary School","120588","2011-10-01","South East","Kent"]
[null,null,null,null,null,null,null,null,null,null,null,null,null,null,"Smestow School, A Specialist Sports College","128017","2014-02-01","West Midlands","Wolverhampton"]
[null,null,null,null,null,null,null,null,null,null,null,null,null,null,"Smithills School","124749","2014-01-01","North West","Bolton"]
[null,null,null,null,null,null,null,null,null,null,null,null,null,null,"Snaith School, The",122272,"2014-05-01","Yorkshire & The Humber","East Riding of Yorkshire"]
[null,null,null,null,null,null,null,null,null,null,null,null,null,null,"Sneinton St Stephen's CofE Primary School","120681","2013-01-01","East Midlands","Nottingham"]
[null,null,null,null,null,null,null,null,null,null,null,null,null,null,"Soham Village College","119624","2011-04-01","East of England","Cambridgeshire"]
[null,null,null,null,null,null,null,null,null,null,null,null,null,null,"Somerby Primary School",130294,"2014-04-01","East Midlands","Leicestershire"]
[null,null,null,null,null,null,null,null,null,null,null,null,null,null,"Somers Park Primary School","120292","2011-08-17","West Midlands","Worcestershire"]
[null,null,null,null,null,null,null,null,null,null,null,null,null,null,"Somervale School","119298","2010-10-01","South West","Bath & North East Somerset"]
[null,null,null,null,null,null,null,null,null,null,null,null,null,null,"South Avenue Infant School","129435","2014-01-01","South East","Kent"]
[null,null,null,null,null,null,null,null,null,null,null,null,null,null,"South Avenue Junior School","127043","2014-01-01","South East","Kent"]
[null,null,null,null,null,null,null,null,null,null,null,null,null,null,"South Axholme Academy","120683","2011-12-01","Yorkshire & The Humber","North Lincolnshire"]
[null,null,null,null,null,null,null,null,null,null,null,null,null,null,"South Benfleet Foundation Primary School","120029","2011-08-01","East of England","Essex"]
[null,null,null,null,null,null,null,null,null,null,null,null,null,null,"South Brent Primary School","120541","2011-11-01","South West","Devon"]
[null,null,null,null,null,null,null,null,null,null,null,null,null,null,"South Bromsgrove Community High School","123303","2013-11-01T14:12:07","West Midlands","Worcestershire"]
[null,null,null,null,null,null,null,null,null,null,null,null,null,null,"South Charnwood High School","123276","2013-04-01","East Midlands","Leicestershire "]
[null,null,null,null,null,null,null,null,null,null,null,null,null,null,"South Craven School","119735","2011-05-01","Yorkshire & The Humber","North Yorkshire"]
[null,null,null,null,null,null,null,null,null,null,null,null,null,null,"South Dartmoor Academy","119568","2011-04-01","South West","Devon"]
[null,null,null,null,null,null,null,null,null,null,null,null,null,null,"South Farnham School","119888","2011-07-01","South East","Surrey"]
[null,null,null,null,null,null,null,null,null,null,null,null,null,null,"South Hunsley School and Sixth Form College","119651","2011-04-01","Yorkshire & The Humber","East Riding of Yorkshire"]
[null,null,null,null,null,null,null,null,null,null,null,null,null,null,"South Leeds Academy","119092","2009-09-01","Yorkshire & The Humber","Leeds"]
[null,null,null,null,null,null,null,null,null,null,null,null,null,null,"South Nottinghamshire Academy","120112","2011-09-01","East Midlands","Nottinghamshire"]
[null,null,null,null,null,null,null,null,null,null,null,null,null,null,"South Ossett Infant School","120616","2011-12-01","Yorkshire & The Humber","Wakefield"]
[null,null,null,null,null,null,null,null,null,null,null,null,null,null,"South Wigston High School","121037","2012-03-01","East Midlands","Leicestershire"]
[null,null,null,null,null,null,null,null,null,null,null,null,null,null,"South Wiltshire Grammar School for Girls","119401","2011-01-01","South West","Wiltshire"]
[null,null,null,null,null,null,null,null,null,null,null,null,null,null,"South Wolds Academy & Sixth Form, The","121854","2012-06-01","East Midlands","Nottinghamshire"]
[null,null,null,null,null,null,null,null,null,null,null,null,null,null,"South Wolverhampton and Bilston Academy","119088","2009-09-01","West Midlands","Wolverhampton"]
[null,null,null,null,null,null,null,null,null,null,null,null,null,null,"Southampton Studio School","123392","2013-09-01","South East","Southampton"]
[null,null,null,null,null,null,null,null,null,null,null,null,null,null,"Southborough High School","120679","2012-03-01T11:57:32","London","Kingston Upon Thames"]
[null,null,null,null,null,null,null,null,null,null,null,null,null,null,"Southbroom CofE Junior School","124299","2013-12-01","South West","Wiltshire"]
[null,null,null,null,null,null,null,null,null,null,null,null,null,null,"Southend High School for Boys","119452","2011-02-01","East of England","Southend-on-Sea"]
[null,null,null,null,null,null,null,null,null,null,null,null,null,null,"Southend High School for Girls","119454","2011-02-01","East of England","Southend-on-Sea"]
[null,null,null,null,null,null,null,null,null,null,null,null,null,null,"Southend YMCA Community School","123411","2013-09-01","East of England","Essex"]
[null,null,null,null,null,null,null,null,null,null,null,null,null,null,"Southey Green Community Primary School and Nurseries","122787","2013-01-01","Yorkshire & The Humber","Sheffield"]
[null,null,null,null,null,null,null,null,null,null,null,null,null,null,"Southfield Junior School - Swindon","120398","2011-09-01","South West","Swindon"]
[null,null,null,null,null,null,null,null,null,null,null,null,null,null,"Southfield Primary School - Brackley","122355","2012-12-01","East Midlands","Northamptonshire"]
[null,null,null,null,null,null,null,null,null,null,null,null,null,null,"Southfield School - Bradford","120573","2013-08-01","Yorkshire & The Humber","Bradford"]
[null,null,null,null,null,null,null,null,null,null,null,null,null,null,"Southfield School for Girls - Kettering","119976","2011-08-01","East Midlands","Northamptonshire"]
[null,null,null,null,null,null,null,null,null,null,null,null,null,null,"Southfields Community College - Wandsworth","122705","2012-09-01","London","Wandsworth"]
[null,null,null,null,null,null,null,null,null,null,null,null,null,null,"Southlands Lower School (Closed 31st August 2013)","122268","2013-03-01","East of England","Central Bedfordshire"]
[null,null,null,null,null,null,null,null,null,null,null,null,null,null,"Southminster Church of England (Controlled) Primary School","123120","2013-11-01","East of England","Essex"]
[null,null,null,null,null,null,null,null,null,null,null,null,null,null,"Southmoor Academy","121955","2012-05-01","North East","Sunderland"]
[null,null,null,null,null,null,null,null,null,null,null,null,null,null,"Southwark Free School - London","122022","2012-09-01","London","Southwark"]
[null,null,null,null,null,null,null,null,null,null,null,null,null,null,"Southwark Primary School - Nottingham","120272","2011-09-01","East Midlands","Nottingham"]
[null,null,null,null,null,null,null,null,null,null,null,null,null,null,"Southwater Infant School","119866","2011-07-01","South East","West Sussex"]
[null,null,null,null,null,null,null,null,null,null,null,null,null,null,"Southwater Junior School","119865","2011-07-01","South East","West Sussex"]
[null,null,null,null,null,null,null,null,null,null,null,null,null,null,"Southway Primary School","121973","2012-09-01","South East","West Sussex"]
[null,null,null,null,null,null,null,null,null,null,null,null,null,null,"Spalding Grammar School","123875","2013-02-01","East Midlands","Lincolnshire"]
[null,null,null,null,null,null,null,null,null,null,null,null,null,null,"Sparkwell All Saints Primary School","123340","2013-09-01","South West","Devon"]
[null,null,null,null,null,null,null,null,null,null,null,null,null,null,"Spires Academy","119115","2007-09-01","South East","Kent"]
[null,null,null,null,null,null,null,null,null,null,null,null,null,null,"Sponne School","119488","2011-03-01","East Midlands","Northamptonshire"]
[null,null,null,null,null,null,null,null,null,null,null,null,null,null,"Spring Cottage Primary School","124260","2014-02-01","Yorkshire & The Humber","Hull"]
[null,null,null,null,null,null,null,null,null,null,null,null,null,null,"Spring Lane Primary School","122171","2012-11-01","East Midlands","Northamptonshire"]
[null,null,null,null,null,null,null,null,null,null,null,null,null,null,"Spring Park Primary School","124169","2013-09-01","London","Croydon"]
[null,null,null,null,null,null,null,null,null,null,null,null,null,null,"Springbank Primary Academy","120194","2011-08-01","South West","Gloucestershire"]
[null,null,null,null,null,null,null,null,null,null,null,null,null,null,"Springfield Academy - Darlington","120659","2012-04-01","North East","Darlington"]
[null,null,null,null,null,null,null,null,null,null,null,null,null,null,"Springfield Primary School - Sunbury-on-Thames","124349","2013-12-01","South East","Surrey"]
[null,null,null,null,null,null,null,null,null,null,null,null,null,null,"Springfields Academy - Calne","120399","2011-09-01","South West","Wiltshire"]
[null,null,null,null,null,null,null,null,null,null,null,null,null,null,"Springhill Catholic Primary School - Southampton","120293","2011-08-17","South East","Southampton"]
[null,null,null,null,null,null,null,null,null,null,null,null,null,null,"Springhill Primary Academy - Burntwood","129419","2014-01-01","West Midlands","Staffordshire"]
[null,null,null,null,null,null,null,null,null,null,null,null,null,null,"Springwell Dene School","123155","2013-02-01","North East","Sunderland"]
[null,null,null,null,null,null,null,null,null,null,null,null,null,null,"Springwood High School","119604","2011-04-01","East of England","Norfolk"]
[null,null,null,null,null,null,null,null,null,null,null,null,null,null,"St Agatha's Catholic Primary School - Kingston upon Thames","121033","2012-02-01","London","Kingston Upon Thames"]
[null,null,null,null,null,null,null,null,null,null,null,null,null,null,"St Aidan's Catholic Primary School - Ilford","127207","2013-11-01","London","Redbridge"]
[null,null,null,null,null,null,null,null,null,null,null,null,null,null,"St Aidan's Catholic School - Ashbrooke","124239","2013-04-01","North East","Sunderland "]
[null,null,null,null,null,null,null,null,null,null,null,null,null,null,"St Aidan's Church of England Academy - Darlington","119117","2007-09-01","North East","Darlington"]
[null,null,null,null,null,null,null,null,null,null,null,null,null,null,"St Alban's Academy - Birmingham","119134","2009-09-01","West Midlands","Birmingham"]
[null,null,null,null,null,null,null,null,null,null,null,null,null,null,"St Alban's Catholic High School - Ipswich","121003","2012-02-01T14:36:12","East of England","Suffolk"]
[null,null,null,null,null,null,null,null,null,null,null,null,null,null,"St Alban's Catholic Primary School - Harlow","120056","2011-08-01","East of England","Essex"]
[null,null,null,null,null,null,null,null,null,null,null,null,null,null,"St Albans Girls' School - St Albans","120335","2011-09-01","East of England","Hertfordshire"]
[null,null,null,null,null,null,null,null,null,null,null,null,null,null,"St Aldhelm's Academy","119348","2010-09-01","South West","Poole"]
[null,null,null,null,null,null,null,null,null,null,null,null,null,null,"St Ambrose College","120533","2012-05-01T14:11:35","North West","Trafford"]
[null,null,null,null,null,null,null,null,null,null,null,null,null,null,"St Andrew the Apostle Greek Orthodox School","123341","2013-09-01","London","Enfield"]
[null,null,null,null,null,null,null,null,null,null,null,null,null,null,"St Andrew's Church of England Primary School - Kettering",130148,"2014-05-01","East Midlands","Northamptonshire"]
[null,null,null,null,null,null,null,null,null,null,null,null,null,null,"St Andrew's Church of England Primary School - Taunton","124991","2013-09-01","South West","Somerset"]
[null,null,null,null,null,null,null,null,null,null,null,null,null,null,"St Andrew's CofE Primary School - Woodhall Spa","121858","2012-08-01","East Midlands","Lincolnshire"]
[null,null,null,null,null,null,null,null,null,null,null,null,null,null,"St Anne's Academy","118645","2007-09-01","North West","Rochdale"]
[null,null,null,null,null,null,null,null,null,null,null,null,null,null,"St Anne's Catholic School - Southampton","122697","2012-08-01T12:44:25","South East","Southampton"]
[null,null,null,null,null,null,null,null,null,null,null,null,null,null,"St Ann's Catholic Primary School - Sheffield","125202","2013-12-01","Yorkshire & The Humber","Sheffield"]
[null,null,null,null,null,null,null,null,null,null,null,null,null,null,"St Ann's CofE Primary School - Haringey","123204","2013-01-01","London","Haringey"]
[null,null,null,null,null,null,null,null,null,null,null,null,null,null,"St Anns Well Primary School - Nottingham","120631","2011-10-01","East Midlands","Nottingham"]
[null,null,null,null,null,null,null,null,null,null,null,null,null,null,"St Anselm's Catholic School - Canterbury",130345,"2014-05-01T11:32:17","South East","Kent"]
[null,null,null,null,null,null,null,null,null,null,null,null,null,null,"St Anselm's College - Prenton","119778","2011-06-01","North West","Wirral"]
[null,null,null,null,null,null,null,null,null,null,null,null,null,null,"St Anthony's Catholic Girls' School","121140","2012-04-01","North East","Sunderland"]
[null,null,null,null,null,null,null,null,null,null,null,null,null,null,"St Anthony's Catholic Primary School - Fareham","120381","2011-09-01","South East","Hampshire"]
[null,null,null,null,null,null,null,null,null,null,null,null,null,null,"St Anthony's Catholic Primary School - Manchester","123869","2013-04-01","North West","Manchester "]
[null,null,null,null,null,null,null,null,null,null,null,null,null,null,"St Anthony's School - Cinderford","123342","2013-09-01","South West","Gloucestershire"]
[null,null,null,null,null,null,null,null,null,null,null,null,null,null,"St Augustine Academy - Maidstone","119943","2011-09-01","South East","Kent"]
[null,null,null,null,null,null,null,null,null,null,null,null,null,null,"St Augustine of Canterbury CE Primary School","122918","2013-08-01","London","Bexley"]
[null,null,null,null,null,null,null,null,null,null,null,null,null,null,"St Augustine's Academy - Dunstable","122165","2012-09-01","East of England","Central Bedfordshire"]
[null,null,null,null,null,null,null,null,null,null,null,null,null,null,"St Augustine's Catholic College - Darlington","124088","2013-04-01","North East","Darlington "]
[null,null,null,null,null,null,null,null,null,null,null,null,null,null,"St Augustine's Catholic College - Trowbridge","120403","2011-09-01","South West","Wiltshire"]
[null,null,null,null,null,null,null,null,null,null,null,null,null,null,"St Augustine's Catholic Primary School, Weymouth",130070,"2014-04-01","South West","Dorset"]
[null,null,null,null,null,null,null,null,null,null,null,null,null,null,"St Augustine's RC (A) Primary School - Stoke on Trent","124652","2013-11-01","West Midlands","Stoke on Trent"]
[null,null,null,null,null,null,null,null,null,null,null,null,null,null,"St Barnabas CofE Academy","120957","2012-04-01","North West","Manchester"]
[null,null,null,null,null,null,null,null,null,null,null,null,null,null,"St Bartholomew’s Church of England Primary School","123806","2013-09-01","West Midlands","Coventry"]
[null,null,null,null,null,null,null,null,null,null,null,null,null,null,"St Bartholomew's School","120402","2011-09-01","South East","West Berkshire"]
[null,null,null,null,null,null,null,null,null,null,null,null,null,null,"St Bede Academy - Bolton","119889","2011-07-01","North West","Bolton"]
[null,null,null,null,null,null,null,null,null,null,null,null,null,null,"St Bede's Catholic College - Bristol","120562","2011-11-01","South West","Bristol City"]
[null,null,null,null,null,null,null,null,null,null,null,null,null,null,"St Bede's Catholic Comprehensive School and Sixth Form College - Lanchester","122144","2012-06-01","North East","Durham"]
[null,null,null,null,null,null,null,null,null,null,null,null,null,null,"St Bede's Catholic Primary School - Rotherham","124191","2013-07-01","Yorkshire & The Humber","Rotherham"]
[null,null,null,null,null,null,null,null,null,null,null,null,null,null,"St Bede's Catholic Primary School - Stockton-on-Tees","127917","2013-12-01","North East","Stockton-on-Tees"]
[null,null,null,null,null,null,null,null,null,null,null,null,null,null,"St Bede's Catholic Voluntary Academy - Scunthorpe","121200","2012-04-01","Yorkshire & The Humber","North Lincolnshire"]
[null,null,null,null,null,null,null,null,null,null,null,null,null,null,"St Bede's Inter-Church School - Cambridge","121102","2012-03-01","East of England","Cambridgeshire"]
[null,null,null,null,null,null,null,null,null,null,null,null,null,null,"St Bede's RC Primary School - Darlington","122352","2012-08-01","North East","Darlington"]
[null,null,null,null,null,null,null,null,null,null,null,null,null,null,"St Benedict's Catholic Primary School - Leeds","122365","2012-11-01","Yorkshire & The Humber","Leeds"]
[null,null,null,null,null,null,null,null,null,null,null,null,null,null,"St Bernadette's Catholic Primary Voluntary Academy - Scunthorpe","121925","2012-04-01","Yorkshire & The Humber","North Lincolnshire"]
[null,null,null,null,null,null,null,null,null,null,null,null,null,null,"St Bernard's Catholic High School - Rotherham","122062","2012-07-01","Yorkshire & The Humber","Rotherham"]
[null,null,null,null,null,null,null,null,null,null,null,null,null,null,"St Bernard's High School and Arts College -Westcliff-on-Sea","120312","2011-08-17","East of England","Southend-on-Sea"]
[null,null,null,null,null,null,null,null,null,null,null,null,null,null,"St Birinus School","122729","2012-09-01","South East","Oxfordshire"]
[null,null,null,null,null,null,null,null,null,null,null,null,null,null,"St Blasius Shanklin CofE Primary Academy","123808","2013-09-01","South East","Isle of Wight"]
[null,null,null,null,null,null,null,null,null,null,null,null,null,null,"St Boniface's RC College",130645,"2014-04-01","South West","Plymouth"]
[null,null,null,null,null,null,null,null,null,null,null,null,null,null,"St Breock Primary School","120142","2011-08-01","South West","Cornwall"]
[null,null,null,null,null,null,null,null,null,null,null,null,null,null,"St Buryan Primary School","119254","2010-09-01","South West","Cornwall"]
[null,null,null,null,null,null,null,null,null,null,null,null,null,null,"St Catherine of Siena Catholic Primary School","122511","2012-07-01","East of England","Hertfordshire"]
[null,null,null,null,null,null,null,null,null,null,null,null,null,null,"St Catherine's Catholic Primary School - Sheffield","125002","2014-02-01","Yorkshire & The Humber","Sheffield"]
[null,null,null,null,null,null,null,null,null,null,null,null,null,null,"St Catherine's Catholic Primary School - Swindon","122138","2012-09-01","South West","Swindon"]
[null,null,null,null,null,null,null,null,null,null,null,null,null,null,"St Catherine's Catholic Primary School, Wimborne",130115,"2014-04-01","South West","Dorset"]
[null,null,null,null,null,null,null,null,null,null,null,null,null,null,"St Catherine's Catholic School for Girls - Bexley","119931","2011-12-01","London","Bexley"]
[null,null,null,null,null,null,null,null,null,null,null,null,null,null,"St Catherine's Roman Catholic School - Dorset",130120,"2014-04-01","South West","Dorset"]
[null,null,null,null,null,null,null,null,null,null,null,null,null,null,"St Chad's Catholic Primary School - Dudley","124484","2013-09-01","West Midlands","Dudley"]
[null,null,null,null,null,null,null,null,null,null,null,null,null,null,"St Chad's CofE Primary School - Oldham","122166","2014-02-01","North West","Oldham"]
[null,null,null,null,null,null,null,null,null,null,null,null,null,null,"St Christopher School, The - Southend-on-Sea","121050","2012-04-01","East of England","Southend-on-Sea"]
[null,null,null,null,null,null,null,null,null,null,null,null,null,null,"St Christopher's Church of England School - Cowley","127580","2014-02-01","South East","Oxfordshire"]
[null,null,null,null,null,null,null,null,null,null,null,null,null,null,"St Christophers Lower School - Dunstable","120726","2012-04-01","East of England","Central Bedfordshire"]
[null,null,null,null,null,null,null,null,null,null,null,null,null,null,"St Clare's Catholic Primary School - Clacton-on-Sea","124555","2013-09-01","East of England","Essex"]
[null,null,null,null,null,null,null,null,null,null,null,null,null,null,"St Clare's Primary School - A Catholic Voluntary Academy - Coalville","122497","2012-07-01","East Midlands","Leicestershire"]
[null,null,null,null,null,null,null,null,null,null,null,null,null,null,"St Clement Danes School","119859","2011-07-01","East of England","Hertfordshire"]
[null,null,null,null,null,null,null,null,null,null,null,null,null,null,"St Clement's Church of England Academy - Birmingham","122108","2012-10-01","West Midlands","Birmingham"]
[null,null,null,null,null,null,null,null,null,null,null,null,null,null,"St Clement's High School - King's Lynn","129411","2014-02-01","East of England","Norfolk"]
[null,null,null,null,null,null,null,null,null,null,null,null,null,null,"St Clere's School - Stanford-le-Hope","120440","2011-09-01","East of England","Thurrock"]
[null,null,null,null,null,null,null,null,null,null,null,null,null,null,"St Columb Major Community Primary School","119822","2011-07-01","South West","Cornwall"]
[null,null,null,null,null,null,null,null,null,null,null,null,null,null,"St Columb Minor School","119823","2011-07-01","South West","Cornwall"]
[null,null,null,null,null,null,null,null,null,null,null,null,null,null,"St Columba Church of England Primary Academy - Fareham","121948","2012-09-01","South East","Hampshire"]
[null,null,null,null,null,null,null,null,null,null,null,null,null,null,"St Columba's Catholic Boys' School - Bexleyheath","121201","2012-09-01","London","Bexley"]
[null,null,null,null,null,null,null,null,null,null,null,null,null,null,"St Cuthbert's Church of England Infants School - Wells","120858","2012-11-01","South West","Somerset"]
[null,null,null,null,null,null,null,null,null,null,null,null,null,null,"St Cuthbert's High School - Newcastle upon Tyne","121035","2012-03-01T11:59:33","North East","Newcastle Upon Tyne"]
[null,null,null,null,null,null,null,null,null,null,null,null,null,null,"St Cyprian's Greek Orthodox Primary School - Thornton Heath","121191","2012-07-01","London","Croydon"]
[null,null,null,null,null,null,null,null,null,null,null,null,null,null,"St David's Church of England Primary School - Moreton-in-Marsh","120856","2013-01-01","South West","Gloucestershire"]
[null,null,null,null,null,null,null,null,null,null,null,null,null,null,"St Dominic's Catholic Primary School - Stroud","120407","2011-09-01","South West","Gloucestershire"]
[null,null,null,null,null,null,null,null,null,null,null,null,null,null,"St Dunstan's Community School - Glastonbury","120202","2011-08-01","South West","Somerset"]
[null,null,null,null,null,null,null,null,null,null,null,null,null,null,"St Eanswythe's Church of England Primary School - Folkestone","123048","2013-02-01","South East","Kent"]
[null,null,null,null,null,null,null,null,null,null,null,null,null,null,"St Edmund Campion Catholic Primary School - Nottingham","120273","2011-09-01","East Midlands","Nottinghamshire"]
[null,null,null,null,null,null,null,null,null,null,null,null,null,null,"St Edmunds Catholic School, A Specialist Mathematics & Computing College - Wolverhampton","125005","2013-07-01","West Midlands","Wolverhampton"]
[null,null,null,null,null,null,null,null,null,null,null,null,null,null,"St Edmund's Church of England Girls' School and Sports College","120611","2012-02-01","South West","Wiltshire"]
[null,null,null,null,null,null,null,null,null,null,null,null,null,null,"St Edmund's Roman Catholic Primary School - Calne","120397","2011-09-01","South West","Wiltshire"]
[null,null,null,null,null,null,null,null,null,null,null,null,null,null,"St Edward's Church of England School & Sixth Form College - Romford","120145","2011-08-01","London","Havering"]
[null,null,null,null,null,null,null,null,null,null,null,null,null,null,"St Edward's CofE (VA) Junior High School - Leek","122913","2013-01-01","West Midlands","Staffordshire"]
[null,null,null,null,null,null,null,null,null,null,null,null,null,null,"St Edward's College - Liverpool","119736","2011-05-01","North West","Liverpool"]
[null,null,null,null,null,null,null,null,null,null,null,null,null,null,"St Elizabeth's Catholic Primary School - Manchester",129574,"2014-04-01","North West","Manchester"]
[null,null,null,null,null,null,null,null,null,null,null,null,null,null,"St Filumena's Catholic Primary School","122657","2012-09-01","West Midlands","Staffordshire"]
[null,null,null,null,null,null,null,null,null,null,null,null,null,null,"St Francis Xavier's College","122503","2012-08-01T12:48:32","North West","Liverpool"]
[null,null,null,null,null,null,null,null,null,null,null,null,null,null,"St George and St Martin's Catholic Primary School","123406","2013-09-01","West Midlands","Stoke on Trent"]
[null,null,null,null,null,null,null,null,null,null,null,null,null,null,"St George RC School","121849","2013-03-01","London","Westminster"]
[null,null,null,null,null,null,null,null,null,null,null,null,null,null,"St Georges Academy - Hockley, Birmingham","123415","2013-09-01","West Midlands","Birmingham"]
[null,null,null,null,null,null,null,null,null,null,null,null,null,null,"St George's Academy - Sleaford","119012","2010-01-01","East Midlands","Lincolnshire"]
[null,null,null,null,null,null,null,null,null,null,null,null,null,null,"St George's Catholic Primary School - Derby","122691","2012-09-01","East Midlands","Derby"]
[null,null,null,null,null,null,null,null,null,null,null,null,null,null,"St George's CofE Junior and Infant School - Newtown, Birmingham","123197","2013-03-01","West Midlands","Birmingham"]
[null,null,null,null,null,null,null,null,null,null,null,null,null,null,"St George's CofE Primary School - Edgbaston. Birmingham","125720","2013-07-01","West Midlands","Birmingham"]
[null,null,null,null,null,null,null,null,null,null,null,null,null,null,"St George's CofE Primary School - Plymouth","124802","2013-09-01","South West","Plymouth"]
[null,null,null,null,null,null,null,null,null,null,null,null,null,null,"St George's CofE VA Primary School - Darlington","121844","2012-04-01","North East","Darlington"]
[null,null,null,null,null,null,null,null,null,null,null,null,null,null,"St George's School - Harpenden","120807","2012-07-01","East of England","Hertfordshire"]
[null,null,null,null,null,null,null,null,null,null,null,null,null,null,"St Georges School A Church of England Academy - Blackpool",129890,"2014-04-01","North West","Blackpool"]
[null,null,null,null,null,null,null,null,null,null,null,null,null,null,"St Gerard's Catholic Primary School - Rotherham","124186","2013-07-01","Yorkshire & The Humber","Rotherham"]
[null,null,null,null,null,null,null,null,null,null,null,null,null,null,"St Giles Catholic Primary School - Cheadle","122659","2012-09-01","West Midlands","Staffordshire"]
[null,null,null,null,null,null,null,null,null,null,null,null,null,null,"St Giles CofE (VA) J&I Pontefract","127247","2013-12-01","Yorkshire & The Humber","Wakefield"]
[null,null,null,null,null,null,null,null,null,null,null,null,null,null,"St Gregory the Great VA Catholic Secondary School","124075","2013-04-01","South East","Oxfordshire "]
[null,null,null,null,null,null,null,null,null,null,null,null,null,null,"St Gregory's Catholic Comprehensive School - Tunbridge Wells",123235,"2014-03-01","South East","Kent"]
[null,null,null,null,null,null,null,null,null,null,null,null,null,null,"St Gregory's Catholic Middle School - Bedford","123183","2013-04-01","East of England","Bedford "]
[null,null,null,null,null,null,null,null,null,null,null,null,null,null,"St Gregory's Catholic Primary School - Stockton-on-Tees","124074","2013-04-01","North East","Stockton-on-Tees "]
[null,null,null,null,null,null,null,null,null,null,null,null,null,null,"St Gregory's Catholic Primary School - Stoke-on-Trent","124638","2013-11-01","West Midlands","Stoke on Trent"]
[null,null,null,null,null,null,null,null,null,null,null,null,null,null,"St Gregory's Catholic Primary School, Margate",124289,"2014-05-01","South East","Kent"]
[null,null,null,null,null,null,null,null,null,null,null,null,null,null,"St Helena School - Colchester","121048","2012-03-01","East of England","Essex"]
[null,null,null,null,null,null,null,null,null,null,null,null,null,null,"St Helen's Catholic Junior School - Brentwood","119977","2011-08-01","East of England","Essex"]
[null,null,null,null,null,null,null,null,null,null,null,null,null,null,"St Helen's Primary Academy - Barnsley","122596","2012-12-01","Yorkshire & The Humber","Barnsley"]
[null,null,null,null,null,null,null,null,null,null,null,null,null,null,"St Hilary School - Penzance","119824","2011-07-01","South West","Cornwall"]
[null,null,null,null,null,null,null,null,null,null,null,null,null,null,"St Ignatius Catholic Primary School - Wakefield","122332","2012-11-01","Yorkshire & The Humber","Wakefield"]
[null,null,null,null,null,null,null,null,null,null,null,null,null,null,"St Ives Infant School - St Ives","120412","2011-09-01","South West","Cornwall"]
[null,null,null,null,null,null,null,null,null,null,null,null,null,null,"St Ives School, A Technology College - St Ives",130048,"2014-04-01","South West","Cornwall"]
[null,null,null,null,null,null,null,null,null,null,null,null,null,null,"St Ivo School - St Ives","120305","2011-08-17","East of England","Cambridgeshire"]
[null,null,null,null,null,null,null,null,null,null,null,null,null,null,"St James' Church of England Primary School - Bournemouth",130348,"2014-04-01","South West","Bournemouth"]
[null,null,null,null,null,null,null,null,null,null,null,null,null,null,"St James Church of England Voluntary Aided Junior School - Solihull","123047","2013-01-01","West Midlands","Solihull"]
[null,null,null,null,null,null,null,null,null,null,null,null,null,null,"St James' Church of England Voluntary Aided Primary School - Rochester","121953","2012-12-01","South East","Medway"]
[null,null,null,null,null,null,null,null,null,null,null,null,null,null,"St James Church School - Taunton","123119","2013-04-01","South West","Somerset "]
[null,null,null,null,null,null,null,null,null,null,null,null,null,null,"St James' CofE Junior School - Bedworth",130072,"2014-04-01","West Midlands","Warwickshire"]
[null,null,null,null,null,null,null,null,null,null,null,null,null,null,"St James' Roman Catholic Primary School - Orpington","121465","2012-04-01","London","Bromley"]
[null,null,null,null,null,null,null,null,null,null,null,null,null,null,"St James the Great Academy - East Maling","121099","2012-04-01","South East","Kent"]
[null,null,null,null,null,null,null,null,null,null,null,null,null,null,"St James the Great RC Primary and Nursery School","121461","2012-04-01","London","Croydon"]
[null,null,null,null,null,null,null,null,null,null,null,null,null,null,"St John and St Francis Church School","123098","2013-04-01","South West","Somerset "]
[null,null,null,null,null,null,null,null,null,null,null,null,null,null,"St John Fisher and Thomas More Catholic Primary School","123848","2013-04-01","North West","Manchester "]
[null,null,null,null,null,null,null,null,null,null,null,null,null,null,"St John Fisher Catholic College - Newcastle Under Lyme",129547,"2014-04-01","West Midlands","Staffordshire"]
[null,null,null,null,null,null,null,null,null,null,null,null,null,null,"St John Fisher Catholic Primary School - Alvaston","122133","2012-09-01","East Midlands","Derby"]
[null,null,null,null,null,null,null,null,null,null,null,null,null,null,"St John Fisher Catholic Primary School - Sheffield","124138","2013-12-01","Yorkshire & The Humber","Sheffield"]
[null,null,null,null,null,null,null,null,null,null,null,null,null,null,"St John Fisher Catholic Primary School, Littlemore","124083","2013-04-01","South East","Oxfordshire "]
[null,null,null,null,null,null,null,null,null,null,null,null,null,null,"St John Plessington Catholic College","122865","2012-12-01","North West","Wirral"]
[null,null,null,null,null,null,null,null,null,null,null,null,null,null,"St John Rigby Catholic Primary School","123150","2013-04-01","East of England","Bedford "]
[null,null,null,null,null,null,null,null,null,null,null,null,null,null,"St John Roman Catholic Primary School","122573","2012-07-01","East of England","Hertfordshire"]
[null,null,null,null,null,null,null,null,null,null,null,null,null,null,"St John the Baptist Roman Catholic Primary School, Dartmouth",130122,"2014-04-01","South West","Devon"]
[null,null,null,null,null,null,null,null,null,null,null,null,null,null,"St John the Evangelist Catholic Primary","123362","2013-09-01","West Midlands","Staffordshire"]
[null,null,null,null,null,null,null,null,null,null,null,null,null,null,"St John's and St Peter's Church of England Academy","122798","2012-11-01","West Midlands","Birmingham"]
[null,null,null,null,null,null,null,null,null,null,null,null,null,null,"St John's Catholic Primary School - Tiverton",130113,"2014-04-01","South West","Devon"]
[null,null,null,null,null,null,null,null,null,null,null,null,null,null,"St John's Catholic Primary School, Camborne",130133,"2014-04-01","South West","Cornwall"]
[null,null,null,null,null,null,null,null,null,null,null,null,null,null,"St John's Catholic School & Sixth Form Centre - Bishop Auckland","120831","2011-12-01","North East","Durham"]
[null,null,null,null,null,null,null,null,null,null,null,null,null,null,"St John's Church of England Primary School - Bromley",127097,"2014-04-01","London","Bromley"]
[null,null,null,null,null,null,null,null,null,null,null,null,null,null,"St John's Church of England Primary School - Coleford","122688","2012-09-01","South West","Gloucestershire"]
[null,null,null,null,null,null,null,null,null,null,null,null,null,null,"St John's Church of England Primary School - Darlington","121906","2012-05-01","North East","Darlington"]
[null,null,null,null,null,null,null,null,null,null,null,null,null,null,"St John's Church of England Primary School - Dorking","123099","2013-11-01","South East","Surrey"]
[null,null,null,null,null,null,null,null,null,null,null,null,null,null,"St John's CofE (VA) Primary School - Brighouse","120493","2011-10-01","Yorkshire & The Humber","Calderdale"]
[null,null,null,null,null,null,null,null,null,null,null,null,null,null,"St John's CofE Foundation Middle School - Bromsgrove","123250","2013-02-01","West Midlands","Worcestershire"]
[null,null,null,null,null,null,null,null,null,null,null,null,null,null,"St John's CofE Primary School - Birmingham","122106","2013-01-01","West Midlands","Birmingham"]
[null,null,null,null,null,null,null,null,null,null,null,null,null,null,"St John's CofE Primary School - Radstock","123245","2013-12-01","South West","Bath & North East Somerset"]
[null,null,null,null,null,null,null,null,null,null,null,null,null,null,"St John's CofE VA Primary School - Rishworth","122722","2012-12-01","Yorkshire & The Humber","Calderdale"]
[null,null,null,null,null,null,null,null,null,null,null,null,null,null,"St John's Marlborough","111443","2012-09-01","South West","Wiltshire"]
[null,null,null,null,null,null,null,null,null,null,null,null,null,null,"St John's Primary Academy","120809","2012-01-01","East Midlands","Lincolnshire"]
[null,null,null,null,null,null,null,null,null,null,null,null,null,null,"St John's Primary School - Oxfordshire","123907","2013-06-01","South East","Oxfordshire"]
[null,null,null,null,null,null,null,null,null,null,null,null,null,null,"St John's Primary School - Surrey","127095","2013-12-01","South East","Surrey"]
[null,null,null,null,null,null,null,null,null,null,null,null,null,null,"St John's School - Bedford","120336","2011-09-01","East of England","Bedford"]
[null,null,null,null,null,null,null,null,null,null,null,null,null,null,"St Joseph's Catholic College - Swindon","119980","2011-08-01","South West","Swindon"]
[null,null,null,null,null,null,null,null,null,null,null,null,null,null,"St Joseph's Catholic Lower School - Bedford","123152","2013-04-01","East of England","Bedford "]
[null,null,null,null,null,null,null,null,null,null,null,null,null,null,"St Joseph's Catholic Primary School - Aldershot","120382","2011-09-01","South East","Hampshire"]
[null,null,null,null,null,null,null,null,null,null,null,null,null,null,"St Joseph's Catholic Primary School - Castleford","122349","2012-11-01","Yorkshire & The Humber","Wakefield"]
[null,null,null,null,null,null,null,null,null,null,null,null,null,null,"St Joseph's Catholic Primary School - Devizes","120413","2011-09-01","South West","Wiltshire"]
[null,null,null,null,null,null,null,null,null,null,null,null,null,null,"St Joseph's Catholic Primary School - Doncaster","127180","2013-12-01","Yorkshire & The Humber","Doncaster"]
[null,null,null,null,null,null,null,null,null,null,null,null,null,null,"St Joseph's Catholic Primary School - Dudley","124442","2013-09-01","West Midlands","Dudley"]
[null,null,null,null,null,null,null,null,null,null,null,null,null,null,"St Joseph's Catholic Primary School - Exmouth",130130,"2014-04-01","South West","Devon"]
[null,null,null,null,null,null,null,null,null,null,null,null,null,null,"St Joseph's Catholic Primary School - Newton Abbot",130110,"2014-04-01","South West","Devon"]
[null,null,null,null,null,null,null,null,null,null,null,null,null,null,"St Joseph's Catholic Primary School - Otley","123824","2013-03-01","Yorkshire & The Humber","Leeds"]
[null,null,null,null,null,null,null,null,null,null,null,null,null,null,"St Joseph's Catholic Primary School - Plymouth",130089,"2014-04-01","South West","Plymouth"]
[null,null,null,null,null,null,null,null,null,null,null,null,null,null,"St Joseph's Catholic Primary School - Poole",130121,"2014-04-01","South West","Poole"]
[null,null,null,null,null,null,null,null,null,null,null,null,null,null,"St Joseph's Catholic Primary School - Pudsey","123861","2013-03-01","Yorkshire & The Humber","Leeds"]
[null,null,null,null,null,null,null,null,null,null,null,null,null,null,"St Joseph's Catholic Primary School - Rotherham","127307","2014-02-01","Yorkshire & The Humber","Rotherham"]
[null,null,null,null,null,null,null,null,null,null,null,null,null,null,"St Joseph's Catholic Primary School - Sheffield","123230","2013-03-01","Yorkshire & The Humber","Sheffield"]
[null,null,null,null,null,null,null,null,null,null,null,null,null,null,"St Joseph's Catholic Primary School - Uttoxeter","122834","2012-09-01","West Midlands","Staffordshire"]
[null,null,null,null,null,null,null,null,null,null,null,null,null,null,"St Joseph's Catholic Primary School - Wakefield","122403","2012-11-01","Yorkshire & The Humber","Wakefield"]
[null,null,null,null,null,null,null,null,null,null,null,null,null,null,"St Joseph's Catholic Primary School, Broadstairs",124290,"2014-03-01","South East","Kent"]
[null,null,null,null,null,null,null,null,null,null,null,null,null,null,"St Joseph's Catholic Primary School, Carterton","124056","2013-04-01","South East","Oxfordshire "]
[null,null,null,null,null,null,null,null,null,null,null,null,null,null,"St Joseph's Catholic Primary School, Goldenhill","123400","2013-09-01","West Midlands","Stoke on Trent"]
[null,null,null,null,null,null,null,null,null,null,null,null,null,null,"St Joseph's Catholic Primary School, Moorthorpe","129425","2014-02-01","Yorkshire & The Humber","Wakefield"]
[null,null,null,null,null,null,null,null,null,null,null,null,null,null,"St Joseph's Catholic Primary School, Thame","124099","2013-04-01","South East","Oxfordshire "]
[null,null,null,null,null,null,null,null,null,null,null,null,null,null,"St Joseph's Catholic Primary Voluntary Academy - Cleethorpes","121864","2012-04-01","Yorkshire & The Humber","North East Lincolnshire"]
[null,null,null,null,null,null,null,null,null,null,null,null,null,null,"St Joseph's Catholic Voluntary Academy - Leicester","121124","2012-05-01","East Midlands","Leicester"]
[null,null,null,null,null,null,null,null,null,null,null,null,null,null,"St Joseph's Catholic Voluntary Academy - Leicestershire","121177","2012-04-01","East Midlands","Leicestershire"]
[null,null,null,null,null,null,null,null,null,null,null,null,null,null,"St Joseph's College - Croydon","121138","2012-06-01","London","Croydon"]
[null,null,null,null,null,null,null,null,null,null,null,null,null,null,"St Joseph's College Edmund Rice Trust Academy","119510","2011-02-01","West Midlands","Stoke on Trent"]
[null,null,null,null,null,null,null,null,null,null,null,null,null,null,"St Josephs RC Primary School - Birmingham","123901","2014-01-01","West Midlands","Birmingham"]
[null,null,null,null,null,null,null,null,null,null,null,null,null,null,"St Joseph's RC Voluntary Aided Comprehensive School - Hebburn","124633","2013-07-01","North East","South Tyneside"]
[null,null,null,null,null,null,null,null,null,null,null,null,null,null,"St Jude's Church of England Primary School",127323,"2014-03-01","West Midlands","Wolverhampton"]
[null,null,null,null,null,null,null,null,null,null,null,null,null,null,"St Keverne Community Primary School",126520,"2014-03-01","South West","Cornwall"]
[null,null,null,null,null,null,null,null,null,null,null,null,null,null,"St Laurence in Thanet Church of England Junior School","122870","2012-12-01","South East","Kent"]
[null,null,null,null,null,null,null,null,null,null,null,null,null,null,"St Laurence School - Bradford-on-Avon","120057","2011-08-01","South West","Wiltshire"]
[null,null,null,null,null,null,null,null,null,null,null,null,null,null,"St Lawrence Academy, The - Scunthorpe","119124","2008-09-01","Yorkshire & The Humber","North Lincolnshire"]
[null,null,null,null,null,null,null,null,null,null,null,null,null,null,"St Lawrence CofE Primary School - Hassocks","124523","2013-07-01","South East","West Sussex"]
[null,null,null,null,null,null,null,null,null,null,null,null,null,null,"St Leonards Academy, The - St Leonards-on-Sea","119431","2011-09-01","South East","East Sussex"]
[null,null,null,null,null,null,null,null,null,null,null,null,null,null,"St Leonards CE Primary Academy - Swindon","120621","2011-11-01","South West","Swindon"]
[null,null,null,null,null,null,null,null,null,null,null,null,null,null,"St Louis Roman Catholic Primary School","124098","2013-04-01","East of England","Suffolk "]
[null,null,null,null,null,null,null,null,null,null,null,null,null,null,"St Loys Church of England Primary School, Weedon Lois","123874","2013-09-01","East Midlands","Northamptonshire"]
[null,null,null,null,null,null,null,null,null,null,null,null,null,null,"St Luke and St Philips Church of England Voluntary Aided Primary School",127420,"2014-05-01","North West","Blackburn with Darwen"]
[null,null,null,null,null,null,null,null,null,null,null,null,null,null,"St Luke’s Church of England School - London","120536","2011-09-01","London","Camden"]
[null,null,null,null,null,null,null,null,null,null,null,null,null,null,"St Luke's Catholic Primary School - Harlow","124522","2013-08-01","East of England","Essex"]
[null,null,null,null,null,null,null,null,null,null,null,null,null,null,"St Mabyn CofE School","123065","2012-12-01","South West","Cornwall"]
[null,null,null,null,null,null,null,null,null,null,null,null,null,null,"St Margaret Clitherow Catholic Primary School - Brixham",130111,"2014-04-01","South West","Torbay"]
[null,null,null,null,null,null,null,null,null,null,null,null,null,null,"St Margaret Clitherow Catholic Primary School - Nottingham","121059","2012-10-01","East Midlands","Nottingham"]
[null,null,null,null,null,null,null,null,null,null,null,null,null,null,"St Margaret Clitherows RC Primary School - Middlesbrough",128093,"2014-04-01","North East","Redcar and Cleveland"]
[null,null,null,null,null,null,null,null,null,null,null,null,null,null,"St Margaret Ward Catholic School and Arts College","123311","2013-09-01","West Midlands","Stoke on Trent"]
[null,null,null,null,null,null,null,null,null,null,null,null,null,null,"St Margaret's Academy - Torquay","119671","2011-04-01","South West","Torbay"]
[null,null,null,null,null,null,null,null,null,null,null,null,null,null,"St Margaret's Church of England High School - Liverpool","122342","2012-10-01","North West","Liverpool"]
[null,null,null,null,null,null,null,null,null,null,null,null,null,null,"St Maria Goretti Catholic Primary School","124616","2013-11-01","West Midlands","Stoke on Trent"]
[null,null,null,null,null,null,null,null,null,null,null,null,null,null,"St Marie's Catholic Primary School - Sheffield","122671","2012-10-01","Yorkshire & The Humber","Sheffield"]
[null,null,null,null,null,null,null,null,null,null,null,null,null,null,"St Mark's Catholic School - Hounslow","121095","2012-04-01","London","Hounslow"]
[null,null,null,null,null,null,null,null,null,null,null,null,null,null,"St Mark's Church of England Academy - Mitcham","118646","2006-09-01","London","Merton"]
[null,null,null,null,null,null,null,null,null,null,null,null,null,null,"St Mark's West Essex Catholic School","120058","2011-08-01","East of England","Essex"]
[null,null,null,null,null,null,null,null,null,null,null,null,null,null,"St Martin at Shouldham Church of England Voluntary Aided Primary School",129436,"2014-05-01","East of England","Norfolk"]
[null,null,null,null,null,null,null,null,null,null,null,null,null,null,"St Martin in the Fields High School for Girls","121874","2012-04-01","London","Lambeth"]
[null,null,null,null,null,null,null,null,null,null,null,null,null,null,"St Martin-in-Meneage Community Primary School",126523,"2014-03-01","South West","Cornwall"]
[null,null,null,null,null,null,null,null,null,null,null,null,null,null,"St Martin's Academy Chester","123343","2013-09-01","North West","Cheshire West and Chester"]
[null,null,null,null,null,null,null,null,null,null,null,null,null,null,"St Martin's CofE VA School - Liskeard","124485","2013-12-01","South West","Cornwall"]
[null,null,null,null,null,null,null,null,null,null,null,null,null,null,"St Martin's School - Brentwood","119875","2011-07-01","East of England","Essex"]
[null,null,null,null,null,null,null,null,null,null,null,null,null,null,"St Mary & St Joseph's Catholic Primary School",130141,"2014-04-01","South West","Dorset"]
[null,null,null,null,null,null,null,null,null,null,null,null,null,null,"St Mary and St John Catholic Primary School","124666","2013-07-01","West Midlands","Wolverhampton"]
[null,null,null,null,null,null,null,null,null,null,null,null,null,null,"St Mary Magdalene Academy - Islington","118670","2007-09-01","London","Islington"]
[null,null,null,null,null,null,null,null,null,null,null,null,null,null,"St Mary Magdalene Academy: the Courtyard - Islington","123398","2013-09-01","London","Islington"]
[null,null,null,null,null,null,null,null,null,null,null,null,null,null,"St Mary Roman Catholic Primary School","122600","2012-07-01","East of England","Hertfordshire"]
[null,null,null,null,null,null,null,null,null,null,null,null,null,null,"St Marychurch Church of England Primary and Nursery School",130165,"2014-03-01","South West","Torbay"]
[null,null,null,null,null,null,null,null,null,null,null,null,null,null,"St Marylebone Church of England Bridge School, The","123401","2013-09-01","London","Westminster"]
[null,null,null,null,null,null,null,null,null,null,null,null,null,null,"St Marylebone CofE School, The","120352","2011-09-01","London","Westminster"]
[null,null,null,null,null,null,null,null,null,null,null,null,null,null,"St Mary's (Melton Mowbray) Church of England Primary School","123149","2013-03-01","East Midlands","Leicestershire"]
[null,null,null,null,null,null,null,null,null,null,null,null,null,null,"St Mary's Catholic Comprehensive School - Menston","123825","2013-03-01T15:58:16","Yorkshire & The Humber","Leeds"]
[null,null,null,null,null,null,null,null,null,null,null,null,null,null,"St Mary's Catholic Comprehensive School - Newcastle","124614","2013-09-01","North East","Newcastle Upon Tyne"]
[null,null,null,null,null,null,null,null,null,null,null,null,null,null,"St Mary's Catholic First School, Dorchester",130124,"2014-04-01","South West","Dorset"]
[null,null,null,null,null,null,null,null,null,null,null,null,null,null,"St Mary's Catholic High School - Chesterfield","122513","2012-08-01T12:46:41","East Midlands","Derbyshire"]
[null,null,null,null,null,null,null,null,null,null,null,null,null,null,"St Mary's Catholic Primary School - Gloucester","120031","2011-08-01","South West","Gloucestershire"]
[null,null,null,null,null,null,null,null,null,null,null,null,null,null,"St Mary's Catholic Primary School - High Green","124623","2013-12-01","Yorkshire & The Humber","Sheffield"]
[null,null,null,null,null,null,null,null,null,null,null,null,null,null,"St Mary's Catholic Primary School - Horsforth","123819","2013-03-01","Yorkshire & The Humber","Leeds"]
[null,null,null,null,null,null,null,null,null,null,null,null,null,null,"St Mary's Catholic Primary School - Leek","122793","2012-09-01","West Midlands","Staffordshire"]
[null,null,null,null,null,null,null,null,null,null,null,null,null,null,"St Mary's Catholic Primary School - Maidenhead","124344","2013-07-01","South East","Windsor and Maidenhead"]
[null,null,null,null,null,null,null,null,null,null,null,null,null,null,"St Mary's Catholic Primary School - Maltby","124189","2013-07-01","Yorkshire & The Humber","Rotherham"]
[null,null,null,null,null,null,null,null,null,null,null,null,null,null,"St Mary's Catholic Primary School - Newcastle",129566,"2014-04-01","West Midlands","Staffordshire"]
[null,null,null,null,null,null,null,null,null,null,null,null,null,null,"St Mary's Catholic Primary School - Nottingham","122379","2012-07-01","East Midlands","Nottingham"]
[null,null,null,null,null,null,null,null,null,null,null,null,null,null,"St Mary's Catholic Primary School - Rotherham","124182","2013-07-01","Yorkshire & The Humber","Rotherham"]
[null,null,null,null,null,null,null,null,null,null,null,null,null,null,"St Marys Catholic Primary School - Stoke on Trent","123403","2013-09-01","West Midlands","Stoke on Trent"]
[null,null,null,null,null,null,null,null,null,null,null,null,null,null,"St Mary's Catholic Primary School - Swindon","120147","2011-08-01","South West","Swindon"]
[null,null,null,null,null,null,null,null,null,null,null,null,null,null,"St Mary's Catholic Primary School Voluntary Academy - Grimsby","123168","2012-12-01","Yorkshire & The Humber","North East Lincolnshire"]
[null,null,null,null,null,null,null,null,null,null,null,null,null,null,"St Mary's Catholic Primary School, Axminster",130131,"2014-04-01","South West","Devon"]
[null,null,null,null,null,null,null,null,null,null,null,null,null,null,"St Mary's Catholic Primary School, Bodmin",130090,"2014-04-01","South West","Cornwall"]
[null,null,null,null,null,null,null,null,null,null,null,null,null,null,"St Mary's Catholic Primary School, Buckfast",130142,"2014-04-01","South West","Devon"]
[null,null,null,null,null,null,null,null,null,null,null,null,null,null,"St Mary's Catholic Primary School, Falmouth",130093,"2014-04-01","South West","Cornwall"]
[null,null,null,null,null,null,null,null,null,null,null,null,null,null,"St Mary's Catholic Primary School, Marnhull",130132,"2014-04-01","South West","Dorset"]
[null,null,null,null,null,null,null,null,null,null,null,null,null,null,"St Mary's Catholic Primary School, Poole",130112,"2014-04-01","South West","Poole"]
[null,null,null,null,null,null,null,null,null,null,null,null,null,null,"St Mary's Catholic Primary Voluntary Academy - Brigg","121463","2012-04-01","Yorkshire & The Humber","North Lincolnshire"]
[null,null,null,null,null,null,null,null,null,null,null,null,null,null,"St Mary's Catholic School, Penzance",130095,"2014-04-01","South West","Cornwall"]
[null,null,null,null,null,null,null,null,null,null,null,null,null,null,"St Mary's CE Academy - Stotfold","120814","2012-04-01","East of England","Central Bedfordshire"]
[null,null,null,null,null,null,null,null,null,null,null,null,null,null,"St Mary's CE Primary School - Dilwyn","123344","2013-01-07","West Midlands","Herefordshire"]
[null,null,null,null,null,null,null,null,null,null,null,null,null,null,"St Mary's Church of England High School (VA) - Waltham Cross","121232","2012-07-01","East of England","Hertfordshire"]
[null,null,null,null,null,null,null,null,null,null,null,null,null,null,"St Mary's Church of England Junior School - Norwich","120311","2011-08-17","East of England","Norfolk"]
[null,null,null,null,null,null,null,null,null,null,null,null,null,null,"St Mary's Church of England Middle School - Puddletown","121942","2012-06-01","South West","Dorset"]
[null,null,null,null,null,null,null,null,null,null,null,null,null,null,"St Mary's Church of England Primary School - Beaminster","129542","2014-02-01","South West","Dorset"]
[null,null,null,null,null,null,null,null,null,null,null,null,null,null,"St Mary's Church of England Primary School - Burton Latimer","123064","2013-04-01","East Midlands","Northamptonshire "]
[null,null,null,null,null,null,null,null,null,null,null,null,null,null,"St Mary's Church of England Voluntary Aided Primary School - Barnsley","120549","2012-02-01","Yorkshire & The Humber","Barnsley"]
[null,null,null,null,null,null,null,null,null,null,null,null,null,null,"St Mary's Church of England Voluntary Aided Primary School - Bury St Edmunds","120337","2011-09-01","East of England","Suffolk"]
[null,null,null,null,null,null,null,null,null,null,null,null,null,null,"St Mary's Church of England Voluntary Aided Primary School - Kettering","123112","2013-04-01","East Midlands","Northamptonshire "]
[null,null,null,null,null,null,null,null,null,null,null,null,null,null,"St Mary's Church of England Voluntary Aided Primary School, Shenfield","124535","2013-06-01","East of England","Essex"]
[null,null,null,null,null,null,null,null,null,null,null,null,null,null,"St Mary's CofE Aided Primary School - Godalming","125176","2013-11-01","South East","Surrey"]
[null,null,null,null,null,null,null,null,null,null,null,null,null,null,"St Mary's CofE Junior and Infant School - Birmingham","121135","2013-02-01","West Midlands","Birmingham"]
[null,null,null,null,null,null,null,null,null,null,null,null,null,null,"St Mary's Hampton Church of England School","123345","2013-09-01","London","Richmond Upon Thames"]
[null,null,null,null,null,null,null,null,null,null,null,null,null,null,"St Mary's RC Primary School - Grangetown",129300,"2014-04-01","North East","Redcar and Cleveland"]
[null,null,null,null,null,null,null,null,null,null,null,null,null,null,"St Mary's Roman Catholic Primary School, Swanage",130126,"2014-04-01","South West","Dorset"]
[null,null,null,null,null,null,null,null,null,null,null,null,null,null,"St Matthew Academy - Blackheath","119114","2007-09-01","London","Lewisham"]
[null,null,null,null,null,null,null,null,null,null,null,null,null,null,"St Matthew's Church of England Primary School - Stockport","123908","2014-01-01","North West","Stockport"]
[null,null,null,null,null,null,null,null,null,null,null,null,null,null,"St Matthews CofE (A) Primary School - Stoke-on-Trent","123353","2013-11-01","West Midlands","Stoke on Trent"]
[null,null,null,null,null,null,null,null,null,null,null,null,null,null,"St Matthew's CofE Primary School - West Drayton","123166","2013-02-01","London","Hillingdon"]
[null,null,null,null,null,null,null,null,null,null,null,null,null,null,"St Matthias Church of England Primary School - Malvern Link","120185","2011-08-01","West Midlands","Worcestershire"]
[null,null,null,null,null,null,null,null,null,null,null,null,null,null,"St Meriadoc CE Infant Academy - Camborne",129442,"2014-04-01","South West","Cornwall"]
[null,null,null,null,null,null,null,null,null,null,null,null,null,null,"St Meriadoc CE Junior Academy - Camborne",129444,"2014-04-01","South West","Cornwall"]
[null,null,null,null,null,null,null,null,null,null,null,null,null,null,"St Merryn School - Padstow","120635","2011-11-01","South West","Cornwall"]
[null,null,null,null,null,null,null,null,null,null,null,null,null,null,"St Mewan Community Primary School - St Austell","120414","2011-09-01","South West","Cornwall"]
[null,null,null,null,null,null,null,null,null,null,null,null,null,null,"St Michael and All Angels CofE - Southwark","118647","2007-09-01","London","Southwark"]
[null,null,null,null,null,null,null,null,null,null,null,null,null,null,"St Michael and All Angels CofE (Aided) Primary School - Leicester","122412","2012-11-01","East Midlands","Leicestershire"]
[null,null,null,null,null,null,null,null,null,null,null,null,null,null,"St Michael C of E High School - Chorley","119893","2011-07-01","North West","Lancashire"]
[null,null,null,null,null,null,null,null,null,null,null,null,null,null,"St Michael’s Academy - Yeovil","122689","2012-10-01","South West","Somerset"]
[null,null,null,null,null,null,null,null,null,null,null,null,null,null,"St Michael’s CE Junior & Infants - Handsworth","121118","2012-10-01","West Midlands","Birmingham"]
[null,null,null,null,null,null,null,null,null,null,null,null,null,null,"St Michael's Catholic Academy - Billingham","123955","2013-09-01","North East","Stockton-on-Tees"]
[null,null,null,null,null,null,null,null,null,null,null,null,null,null,"St Michael's Catholic College - Bermondsey","121843","2012-11-01","London","Southwark"]
[null,null,null,null,null,null,null,null,null,null,null,null,null,null,"St Michael's Catholic Primary School - Wolverhampton","125007","2013-07-01","West Midlands","Wolverhampton"]
[null,null,null,null,null,null,null,null,null,null,null,null,null,null,"St Michael's Catholic Secondary School - Camborne","122024","2012-09-01","South West","Cornwall"]
[null,null,null,null,null,null,null,null,null,null,null,null,null,null,"St Michael's Church of England Aided Primary School - Birmingham","122771","2013-01-01","West Midlands","Birmingham"]
[null,null,null,null,null,null,null,null,null,null,null,null,null,null,"St Michael's Church of England VA Primary School - Exeter","124291","2013-09-01","South West","Devon"]
[null,null,null,null,null,null,null,null,null,null,null,null,null,null,"St Michael's CofE Primary School - Haringey","123207","2013-01-01","London","Haringey"]
[null,null,null,null,null,null,null,null,null,null,null,null,null,null,"St Michael's Voluntary Controlled CofE Primary School - Helston","124524","2013-12-01","South West","Cornwall"]
[null,null,null,null,null,null,null,null,null,null,null,null,null,null,"St Newlyn East Primary School - Newquay","123021","2013-09-01","South West","Cornwall"]
[null,null,null,null,null,null,null,null,null,null,null,null,null,null,"St Nicholas Catholic Primary School - Exeter","123948","2013-06-01","South West","Devon"]
[null,null,null,null,null,null,null,null,null,null,null,null,null,null,"St Nicholas Catholic Primary School - Sutton Coldfield","123913","2014-01-01","West Midlands","Birmingham"]
[null,null,null,null,null,null,null,null,null,null,null,null,null,null,"St Nicholas' CofE Primary - Alcester","122175","2013-04-01","West Midlands","Warwickshire "]
[null,null,null,null,null,null,null,null,null,null,null,null,null,null,"St Nicholas of Tolentine Catholic Primary School - Bristol","122858","2012-12-01","South West","Bristol City"]
[null,null,null,null,null,null,null,null,null,null,null,null,null,null,"St Nicolas' CE Combined School - Taplow","120946","2012-05-01","South East","Buckinghamshire"]
[null,null,null,null,null,null,null,null,null,null,null,null,null,null,"St Nicolas CofE (Voluntary Aided) Primary School - Nuneaton",123182,"2014-05-01","West Midlands","Warwickshire"]
[null,null,null,null,null,null,null,null,null,null,null,null,null,null,"St Nicolas' CofE VA School, Downderry","124525","2013-12-01","South West","Cornwall"]
[null,null,null,null,null,null,null,null,null,null,null,null,null,null,"St Osmund's Church of England Voluntary Aided Middle School","121933","2012-06-01","South West","Dorset"]
[null,null,null,null,null,null,null,null,null,null,null,null,null,null,"St Oswald's CofE Academy - Doncaster","122277","2012-09-01","Yorkshire & The Humber","Doncaster"]
[null,null,null,null,null,null,null,null,null,null,null,null,null,null,"St Oswald's CofE Primary School - Bradford","122245","2012-11-01","Yorkshire & The Humber","Bradford"]
[null,null,null,null,null,null,null,null,null,null,null,null,null,null,"St Patrick's Catholic Primary and Nursery School - Mansfield",126367,"2014-04-01","East Midlands","Nottinghamshire"]
[null,null,null,null,null,null,null,null,null,null,null,null,null,null,"St Patrick's Catholic Primary and Nursery School - Nottingham","124148","2013-04-01","East Midlands","Nottingham "]
[null,null,null,null,null,null,null,null,null,null,null,null,null,null,"St Patrick's Catholic Primary School - Bristol","122411","2012-08-01","South West","Bristol City"]
[null,null,null,null,null,null,null,null,null,null,null,null,null,null,"St Patrick's Catholic Primary School - Sheffield","123237","2013-03-01","Yorkshire & The Humber","Sheffield"]
[null,null,null,null,null,null,null,null,null,null,null,null,null,null,"St Patrick's CofE Junior and Infant School - Earlswood","119372","2010-11-01","West Midlands","Solihull"]
[null,null,null,null,null,null,null,null,null,null,null,null,null,null,"St Paul's Academy - Abbey Wood","119110","2005-09-01","London","Greenwich"]
[null,null,null,null,null,null,null,null,null,null,null,null,null,null,"St Paul's and All Hallows CofE Infant School - Haringey","123202","2013-01-01","London","Haringey"]
[null,null,null,null,null,null,null,null,null,null,null,null,null,null,"St Paul's and All Hallows CofE Junior School - Haringey","123208","2013-01-01","London","Haringey"]
[null,null,null,null,null,null,null,null,null,null,null,null,null,null,"St Paul's Catholic High School - Manchester","123866","2013-04-01","North West","Manchester "]
[null,null,null,null,null,null,null,null,null,null,null,null,null,null,"St Paul's CofE Primary School - Addlestone",124814,"2014-04-01","South East","Surrey"]
[null,null,null,null,null,null,null,null,null,null,null,null,null,null,"St Paul's CofE Primary School - Astley Bridge","122145","2012-10-01","North West","Bolton"]
[null,null,null,null,null,null,null,null,null,null,null,null,null,null,"St Paul's CofE Primary School - Hereford","121133","2012-04-01","West Midlands","Herefordshire"]
[null,null,null,null,null,null,null,null,null,null,null,null,null,null,"St Paul's Roman Catholic Primary School - Plymouth",130055,"2014-04-01","South West","Plymouth"]
[null,null,null,null,null,null,null,null,null,null,null,null,null,null,"St Peter and Paul Catholic Primary School, Yeadon","123826","2013-04-01","Yorkshire & The Humber","Leeds "]
[null,null,null,null,null,null,null,null,null,null,null,null,null,null,"St Peter and St Paul Church of England Academy - Syston","122380","2013-03-01","East Midlands","Leicestershire"]
[null,null,null,null,null,null,null,null,null,null,null,null,null,null,"St Peter and St Paul, Lincoln's Catholic High School, A Science College","124351","2013-05-01","East Midlands","Lincolnshire "]
[null,null,null,null,null,null,null,null,null,null,null,null,null,null,"St Peter's Academy - Stoke-on-Trent","119936","2011-09-01","West Midlands","Stoke on Trent"]
[null,null,null,null,null,null,null,null,null,null,null,null,null,null,"St Peter's Catholic High School and Sixth Form Centre - Tuffley","119982","2011-08-01","South West","Gloucestershire"]
[null,null,null,null,null,null,null,null,null,null,null,null,null,null,"St Peter's Catholic Primary School - Stoke-on-Trent","123402","2013-09-01","West Midlands","Stoke on Trent"]
[null,null,null,null,null,null,null,null,null,null,null,null,null,null,"St Peter's Catholic School - Bournemouth","120421","2011-09-01","South West","Bournemouth"]
[null,null,null,null,null,null,null,null,null,null,null,null,null,null,"St Peter's Church of England First School - Taunton",127243,"2014-03-01","South West","Somerset"]
[null,null,null,null,null,null,null,null,null,null,null,null,null,null,"St Peter's Church of England Junior School - Raunds","127147","2013-11-01","East Midlands","Northamptonshire"]
[null,null,null,null,null,null,null,null,null,null,null,null,null,null,"St Peter's Church of England Primary School - Market Bosworth","123044","2012-12-01","East Midlands","Leicestershire"]
[null,null,null,null,null,null,null,null,null,null,null,null,null,null,"St Peter's Collegiate Church of England School - Wolverhampton","122401","2012-10-01","West Midlands","Wolverhampton"]
[null,null,null,null,null,null,null,null,null,null,null,null,null,null,"St Peter's RC Primary School - Plymouth",130106,"2014-04-01","South West","Plymouth"]
[null,null,null,null,null,null,null,null,null,null,null,null,null,null,"St Peter's School - Huntingdon","120248","2011-08-01","East of England","Cambridgeshire"]
[null,null,null,null,null,null,null,null,null,null,null,null,null,null,"St Petroc's Church of England Voluntary Aided Primary School - Bodmin","123092","2012-12-01","South West","Cornwall"]
[null,null,null,null,null,null,null,null,null,null,null,null,null,null,"St Simon and Jude CofE Primary School - Bolton","121845","2012-11-01","North West","Bolton"]
[null,null,null,null,null,null,null,null,null,null,null,null,null,null,"St Simon Stock Catholic School - Maidstone","123872","2014-01-01","South East","Kent"]
[null,null,null,null,null,null,null,null,null,null,null,null,null,null,"St Stephen's Community Academy - Launceston","129009","2014-01-01","South West","Cornwall"]
[null,null,null,null,null,null,null,null,null,null,null,null,null,null,"St Stephen's Junior School - Canterbury","119415","2011-01-01","South East","Kent"]
[null,null,null,null,null,null,null,null,null,null,null,null,null,null,"St Teresa's Catholic (A) Primary School - Stoke-on-Trent",129556,"2014-04-01","West Midlands","Stoke on Trent"]
[null,null,null,null,null,null,null,null,null,null,null,null,null,null,"St Teresa's Catholic Primary School - Bristol","122864","2012-12-01","South West","Bristol City"]
[null,null,null,null,null,null,null,null,null,null,null,null,null,null,"St Teresa's Catholic Primary School - Colchester","122421","2012-07-01","East of England","Essex"]
[null,null,null,null,null,null,null,null,null,null,null,null,null,null,"St Teresa's Catholic Primary School - Nottingham","122361","2012-07-01","East Midlands","Nottingham"]
[null,null,null,null,null,null,null,null,null,null,null,null,null,null,"St Teresa's Catholic Primary School, Basildon","124577","2013-12-01","East of England","Essex"]
[null,null,null,null,null,null,null,null,null,null,null,null,null,null,"St Teresa's Catholic Primary School, Parkfield","125011","2013-07-01","West Midlands","Wolverhampton"]
[null,null,null,null,null,null,null,null,null,null,null,null,null,null,"St Thomas A Becket Catholic College - Wakefield","122353","2012-11-01","Yorkshire & The Humber","Wakefield"]
[null,null,null,null,null,null,null,null,null,null,null,null,null,null,"St Thomas Aquinas Catholic Primary School - Stoke-on-Trent",129548,"2014-04-01","West Midlands","Stoke on Trent"]
[null,null,null,null,null,null,null,null,null,null,null,null,null,null,"St Thomas Becket Catholic Primary School - Croydon","122730","2012-09-01","London","Croydon"]
[null,null,null,null,null,null,null,null,null,null,null,null,null,null,"St Thomas Cantilupe Church of England Academy","125145","2014-01-01","West Midlands","Herefordshire"]
[null,null,null,null,null,null,null,null,null,null,null,null,null,null,"St Thomas' Catholic Primary School - Stoke-on-Trent","122673","2012-09-01","West Midlands","Staffordshire"]
[null,null,null,null,null,null,null,null,null,null,null,null,null,null,"St Thomas More Catholic College - Stoke-on-Trent","125000","2013-11-01T14:14:27","West Midlands","Stoke on Trent"]
[null,null,null,null,null,null,null,null,null,null,null,null,null,null,"St Thomas More Catholic High School, A Specialist School for Maths & ICT - Crewe","123812","2013-06-01","North West","Cheshire East"]
[null,null,null,null,null,null,null,null,null,null,null,null,null,null,"St Thomas More Catholic Primary School - Leicester","121185","2012-06-01","East Midlands","Leicester"]
[null,null,null,null,null,null,null,null,null,null,null,null,null,null,"St Thomas More Catholic Primary School - Saffron Walden","120281","2011-08-01","East of England","Essex"]
[null,null,null,null,null,null,null,null,null,null,null,null,null,null,"St Thomas More Catholic Primary School, Kidlington","124073","2013-04-01","South East","Oxfordshire "]
[null,null,null,null,null,null,null,null,null,null,null,null,null,null,"St Thomas More Catholic School - Gateshead","120513","2012-02-01","North East","Gateshead"]
[null,null,null,null,null,null,null,null,null,null,null,null,null,null,"St Thomas More Catholic School - Haringey","123203","2013-03-01T15:55:45","London","Haringey"]
[null,null,null,null,null,null,null,null,null,null,null,null,null,null,"St Thomas More Catholic Teaching School - Bedford","123184","2013-04-01","East of England","Bedford "]
[null,null,null,null,null,null,null,null,null,null,null,null,null,null,"St Thomas More High School for Boys - Southend-on-Sea","120310","2011-08-17","East of England","Southend-on-Sea"]
[null,null,null,null,null,null,null,null,null,null,null,null,null,null,"St Thomas More Roman Catholic High School Aided - North Shields","120865","2011-12-01T12:23:16","North East","North Tyneside"]
[null,null,null,null,null,null,null,null,null,null,null,null,null,null,"St Thomas More Roman Catholic Primary School - Letchworth","122400","2012-07-01","East of England","Hertfordshire"]
[null,null,null,null,null,null,null,null,null,null,null,null,null,null,"St Thomas More's Catholic Primary School - Colchester","120324","2012-06-01","East of England","Essex"]
[null,null,null,null,null,null,null,null,null,null,null,null,null,null,"St Thomas of Canterbury Catholic Primary School - Sheffield","122514","2012-10-01","Yorkshire & The Humber","Sheffield"]
[null,null,null,null,null,null,null,null,null,null,null,null,null,null,"St Tudy CofE VA Primary School - Bodmin","123057","2012-12-01","South West","Cornwall"]
[null,null,null,null,null,null,null,null,null,null,null,null,null,null,"St Ursula’s E-ACT Academy - Bristol","120468","2011-09-01","South West","Bristol City"]
[null,null,null,null,null,null,null,null,null,null,null,null,null,null,"St Wilfrid's Catholic High School and Sixth Form College - Wakefield","122334","2012-11-01T14:52:09","Yorkshire & The Humber","Wakefield"]
[null,null,null,null,null,null,null,null,null,null,null,null,null,null,"St Wilfrid's Catholic Primary School - Sheffield","122712","2012-10-01","Yorkshire & The Humber","Sheffield"]
[null,null,null,null,null,null,null,null,null,null,null,null,null,null,"St Wilfrid's Catholic Primary School - Tunstall","123287","2013-09-01","West Midlands","Stoke on Trent"]
[null,null,null,null,null,null,null,null,null,null,null,null,null,null,"St Wilfrid's Cof E High School and Technology College - Blackburn","119872","2011-07-01","North West","Blackburn with Darwen"]
[null,null,null,null,null,null,null,null,null,null,null,null,null,null,"St Winnow CofE School - Lostwithiel","123164","2012-12-01","South West","Cornwall"]
[null,null,null,null,null,null,null,null,null,null,null,null,null,null,"St. Aidan's Church of England High School - Harrogate","120139","2011-08-01","Yorkshire & The Humber","North Yorkshire"]
[null,null,null,null,null,null,null,null,null,null,null,null,null,null,"St. Augustine’s Catholic Primary & Nursery School - Nottingham","120956","2012-09-01","East Midlands","Nottingham"]
[null,null,null,null,null,null,null,null,null,null,null,null,null,null,"St. John the Baptist Catholic Primary School - Wakefield","122330","2012-11-01","Yorkshire & The Humber","Wakefield"]
[null,null,null,null,null,null,null,null,null,null,null,null,null,null,"Stafford Leys Community Primary School","121946","2012-06-01","East Midlands","Leicestershire"]
[null,null,null,null,null,null,null,null,null,null,null,null,null,null,"Staffordshire University Academy","120164","2011-09-01","West Midlands","Staffordshire"]
[null,null,null,null,null,null,null,null,null,null,null,null,null,null,"Staindrop School A Business and Enterprise College","120234","2011-08-01","North East","Durham"]
[null,null,null,null,null,null,null,null,null,null,null,null,null,null,"Stalham Junior School",129865,"2014-05-01","East of England","Norfolk"]
[null,null,null,null,null,null,null,null,null,null,null,null,null,null,"Stamford Queen Eleanor School","120687","2011-11-01","East Midlands","Lincolnshire"]
[null,null,null,null,null,null,null,null,null,null,null,null,null,null,"Stamford St Gilberts Church of England Primary School","123217","2013-01-01","East Midlands","Lincolnshire"]
[null,null,null,null,null,null,null,null,null,null,null,null,null,null,"Stanborough School","120664","2012-02-01","East of England","Hertfordshire"]
[null,null,null,null,null,null,null,null,null,null,null,null,null,null,"Stanchester Community School","120080","2011-08-01","South West","Somerset"]
[null,null,null,null,null,null,null,null,null,null,null,null,null,null,"Standish St Wilfrid's CofE Primary School","124557","2013-07-01","North West","Wigan"]
[null,null,null,null,null,null,null,null,null,null,null,null,null,null,"Stanford-le-Hope Primary School","123879","2013-06-01","East of England","Thurrock"]
[null,null,null,null,null,null,null,null,null,null,null,null,null,null,"Stanground Academy - Peterborough","120991","2012-04-01","East of England","Peterborough"]
[null,null,null,null,null,null,null,null,null,null,null,null,null,null,"Stanground St Johns CofE Controlled Primary School - Peterborough","125178","2013-11-01","East of England","Peterborough"]
[null,null,null,null,null,null,null,null,null,null,null,null,null,null,"Staniland Academy - Boston","121139","2012-09-01","East Midlands","Lincolnshire"]
[null,null,null,null,null,null,null,null,null,null,null,null,null,null,"Stanley Green Infant School - Poole","127673","2014-01-01","South West","Poole"]
[null,null,null,null,null,null,null,null,null,null,null,null,null,null,"Stanley Grove Academy - Manchester","120962","2012-09-01","North West","Manchester"]
[null,null,null,null,null,null,null,null,null,null,null,null,null,null,"Stanton Harcourt CofE Primary School",130150,"2014-05-01","South East","Oxfordshire"]
[null,null,null,null,null,null,null,null,null,null,null,null,null,null,"Stanton Under Bardon Community Primary School","123270","2013-10-01","East Midlands","Leicestershire"]
[null,null,null,null,null,null,null,null,null,null,null,null,null,null,"Stanway School, The","121062","2012-03-01","East of England","Essex"]
[null,null,null,null,null,null,null,null,null,null,null,null,null,null,"Stapeley Broad Lane CofE Primary School","124197","2013-04-01","North West","Cheshire East "]
[null,null,null,null,null,null,null,null,null,null,null,null,null,null,"Star Academy","121119","2013-04-01","West Midlands","Stoke on Trent "]
[null,null,null,null,null,null,null,null,null,null,null,null,null,null,"Staunton and Corse Church of England Primary School","120149","2011-08-01","South West","Gloucestershire"]
[null,null,null,null,null,null,null,null,null,null,null,null,null,null,"Steiner Academy - Exeter","123346","2013-09-01","South West","Devon"]
[null,null,null,null,null,null,null,null,null,null,null,null,null,null,"Steiner Academy - Frome","121981","2012-09-01","South West","Somerset"]
[null,null,null,null,null,null,null,null,null,null,null,null,null,null,"Steiner Academy, The - Hereford","119118","2008-09-04","West Midlands","Herefordshire"]
[null,null,null,null,null,null,null,null,null,null,null,null,null,null,"Stem 6th Form Academy - Islington","123347","2013-09-01","London","Islington"]
[null,null,null,null,null,null,null,null,null,null,null,null,null,null,"Stephenson Academy - Milton Keynes","120965","2012-04-01","South East","Milton Keynes"]
[null,null,null,null,null,null,null,null,null,null,null,null,null,null,"Stephenson Studio School - Coalville","120459","2011-09-01","East Midlands","Leicestershire"]
[null,null,null,null,null,null,null,null,null,null,null,null,null,null,"Stephenson Way Community Primary School - Newton Aycliffe","122790","2012-12-01","North East","Durham"]
[null,null,null,null,null,null,null,null,null,null,null,null,null,null,"Stewards School - Harlow","120498","2011-10-01","East of England","Essex"]
[null,null,null,null,null,null,null,null,null,null,null,null,null,null,"Stewart Fleming Primary School - Bromley","120035","2011-08-01","London","Bromley"]
[null,null,null,null,null,null,null,null,null,null,null,null,null,null,"Stimpson Avenue Primary School - Northampton",129708,"2014-04-01","East Midlands","Northamptonshire"]
[null,null,null,null,null,null,null,null,null,null,null,null,null,null,"Stisted Church of England Voluntary Aided Primary School","120560","2011-10-01","East of England","Essex"]
[null,null,null,null,null,null,null,null,null,null,null,null,null,null,"Stockland Church of England Primary School - Honiton","120417","2011-09-01","South West","Devon"]
[null,null,null,null,null,null,null,null,null,null,null,null,null,null,"Stockland Green School - Birmingham","119993","2012-05-01","West Midlands","Birmingham"]
[null,null,null,null,null,null,null,null,null,null,null,null,null,null,"Stockley Academy Hillingdon","118400","2004-09-01","London","Hillingdon"]
[null,null,null,null,null,null,null,null,null,null,null,null,null,null,"Stockport Academy","118648","2007-09-01","North West","Stockport"]
[null,null,null,null,null,null,null,null,null,null,null,null,null,null,"Stockport Technical School","123348","2013-09-01","North West","Stockport"]
[null,null,null,null,null,null,null,null,null,null,null,null,null,null,"Stockwell Park High School","119507","2011-02-01","London","Lambeth"]
[null,null,null,null,null,null,null,null,null,null,null,null,null,null,"Stoke Bishop Church of England Primary School","123225","2013-04-01","South West","Bristol "]
[null,null,null,null,null,null,null,null,null,null,null,null,null,null,"Stoke Damerel Community College","119541","2011-04-01","South West","Plymouth"]
[null,null,null,null,null,null,null,null,null,null,null,null,null,null,"Stoke High School - Ormiston Academy","124773","2013-10-01","East of England","Suffolk"]
[null,null,null,null,null,null,null,null,null,null,null,null,null,null,"Stoke Lodge Primary School","124739","2013-10-01","South West","South Gloucestershire"]
[null,null,null,null,null,null,null,null,null,null,null,null,null,null,"Stoke Studio College for Construction and the Built Environment","122526","2012-09-01","West Midlands","Stoke on Trent"]
[null,null,null,null,null,null,null,null,null,null,null,null,null,null,"Stoke Studio College for Manufacturing and Design Engineering","123393","2013-09-01","West Midlands","Stoke on Trent"]
[null,null,null,null,null,null,null,null,null,null,null,null,null,null,"Stone Soup Learns - Nottingham","122803","2012-09-01","East Midlands","Nottingham"]
[null,null,null,null,null,null,null,null,null,null,null,null,null,null,"Stone with Woodford Church of England Primary School","124598","2013-08-01","South Gloucestershire","Gloucestershire"]
[null,null,null,null,null,null,null,null,null,null,null,null,null,null,"Stonebow Primary School - Loughborough","122675","2013-02-01","East Midlands","Leicestershire"]
[null,null,null,null,null,null,null,null,null,null,null,null,null,null,"Stonehill High School, The - Leicester",130329,"2014-04-01","East Midlands","Leicestershire"]
[null,null,null,null,null,null,null,null,null,null,null,null,null,null,"Stoneleigh Primary School - Oldham","121958","2012-09-01","North West","Oldham"]
[null,null,null,null,null,null,null,null,null,null,null,null,null,null,"Stour Valley Community School - Sudbury","120537","2011-09-01","East of England","Suffolk"]
[null,null,null,null,null,null,null,null,null,null,null,null,null,null,"Stourfield Infant School - Bournemouth","122415","2012-10-01","South West","Bournemouth"]
[null,null,null,null,null,null,null,null,null,null,null,null,null,null,"Stourport High School and Sixth Form Centre, The","120162","2011-08-01","West Midlands","Worcestershire"]
[null,null,null,null,null,null,null,null,null,null,null,null,null,null,"Stowford School","120996","2012-04-01","South West","Devon"]
[null,null,null,null,null,null,null,null,null,null,null,null,null,null,"Stradbroke High School","121051","2012-03-01","East of England","Suffolk"]
[null,null,null,null,null,null,null,null,null,null,null,null,null,null,"Stramongate Primary School","120722","2012-04-01","North West","Cumbria"]
[null,null,null,null,null,null,null,null,null,null,null,null,null,null,"Strand Primary Academy","122306","2012-10-01","Yorkshire & The Humber","North East Lincolnshire"]
[null,null,null,null,null,null,null,null,null,null,null,null,null,null,"Stranton Primary School","124156","2013-07-01","North East","Hartlepool"]
[null,null,null,null,null,null,null,null,null,null,null,null,null,null,"Stratford School - Newham","119978","2011-08-01","London","Newham"]
[null,null,null,null,null,null,null,null,null,null,null,null,null,null,"Stratford upon Avon School","120236","2011-08-01","West Midlands","Warwickshire"]
[null,null,null,null,null,null,null,null,null,null,null,null,null,null,"Stratford-upon-Avon Grammar School for Girls","120235","2011-08-01","West Midlands","Warwickshire"]
[null,null,null,null,null,null,null,null,null,null,null,null,null,null,"Stratton Upper School and Community College","120575","2012-02-01T15:08:08","East of England","Central Bedfordshire"]
[null,null,null,null,null,null,null,null,null,null,null,null,null,null,"Streetly School, The","120669","2011-12-01T12:25:21","West Midlands","Walsall"]
[null,null,null,null,null,null,null,null,null,null,null,null,null,null,"Stretton Church of England Primary School - Coventry","123853","2013-04-01","West Midlands","Coventry "]
[null,null,null,null,null,null,null,null,null,null,null,null,null,null,"Stretton Sugwas CofE Primary School","120068","2012-04-01","West Midlands","Herefordshire"]
[null,null,null,null,null,null,null,null,null,null,null,null,null,null,"Strood Academy","119100","2009-09-01","South East","Medway"]
[null,null,null,null,null,null,null,null,null,null,null,null,null,null,"Stroud High School","119874","2011-07-01","South West","Gloucestershire"]
[null,null,null,null,null,null,null,null,null,null,null,null,null,null,"Studio, Liverpool, The","122532","2013-09-01","North West","Liverpool"]
[null,null,null,null,null,null,null,null,null,null,null,null,null,null,"Studley High School","119793","2011-06-01","West Midlands","Warwickshire"]
[null,null,null,null,null,null,null,null,null,null,null,null,null,null,"Sturry Church of England Primary School","122180","2012-09-01","South East","Kent"]
[null,null,null,null,null,null,null,null,null,null,null,null,null,null,"Suckley Primary School","119983","2011-08-01","West Midlands","Worcestershire"]
[null,null,null,null,null,null,null,null,null,null,null,null,null,null,"Sudbury Primary School","122776","2012-09-01","London","Brent"]
[null,null,null,null,null,null,null,null,null,null,null,null,null,null,"Suffolk New Academy","120958","2013-02-01","East of England","Suffolk"]
[null,null,null,null,null,null,null,null,null,null,null,null,null,null,"Summercourt Community Primary School - Newquay","127552","2013-11-01","South West","Cornwall"]
[null,null,null,null,null,null,null,null,null,null,null,null,null,null,"Summercroft Primary School - Bishop's Stortford","120338","2011-09-01","East of England","Hertfordshire"]
[null,null,null,null,null,null,null,null,null,null,null,null,null,null,"Summerhill Junior School - Bristol","122098","2012-09-01","South West","Bristol City"]
[null,null,null,null,null,null,null,null,null,null,null,null,null,null,"Sunbury Manor School","119597","2011-04-01","South East","Surrey"]
[null,null,null,null,null,null,null,null,null,null,null,null,null,null,"Sundon Lower School","122283","2013-04-01","East of England","Central Bedfordshire "]
[null,null,null,null,null,null,null,null,null,null,null,null,null,null,"Sundorne School and Sports College","123095","2013-04-01","West Midlands","Shropshire "]
[null,null,null,null,null,null,null,null,null,null,null,null,null,null,"Sunnyside Academy Trust - Middlesbrough","125016","2014-01-01","North East","Middlesbrough"]
[null,null,null,null,null,null,null,null,null,null,null,null,null,null,"Sunnyside Primary and Nursery School - Beeston",128105,"2014-05-01","East Midlands","Nottinghamshire"]
[null,null,null,null,null,null,null,null,null,null,null,null,null,null,"Sunnyside Primary School -Northampton","123096","2013-02-01","East Midlands","Northamptonshire"]
[null,null,null,null,null,null,null,null,null,null,null,null,null,null,"Sutherland Business and Enterprise College - Telford","123894","2013-04-01","West Midlands","Telford and Wrekin "]
[null,null,null,null,null,null,null,null,null,null,null,null,null,null,"Sutherland Primary Academy - Stoke-on-Trent","120737","2012-08-01","West Midlands","Stoke on Trent"]
[null,null,null,null,null,null,null,null,null,null,null,null,null,null,"Sutton Academy, The - St Helens","119197","2010-09-01","North West","St Helens"]
[null,null,null,null,null,null,null,null,null,null,null,null,null,null,"Sutton Coldfield Grammar School for Girls","119785","2011-06-01","West Midlands","Birmingham"]
[null,null,null,null,null,null,null,null,null,null,null,null,null,null,"Sutton Community Academy, The - Sutton-in-Ashfield","122308","2013-01-01","East Midlands","Nottinghamshire"]
[null,null,null,null,null,null,null,null,null,null,null,null,null,null,"Sutton Grammar School for Boys - Sutton","119776","2011-06-01","London","Sutton"]
[null,null,null,null,null,null,null,null,null,null,null,null,null,null,"Sutton Park Primary School - Hull","122895","2013-04-01","Yorkshire & The Humber","Hull "]
[null,null,null,null,null,null,null,null,null,null,null,null,null,null,"Sutton Primary School - Hereford","119797","2011-06-01","West Midlands","Herefordshire"]
[null,null,null,null,null,null,null,null,null,null,null,null,null,null,"Swaffham Hamond's High School","122493","2012-11-01T14:54:40","East of England","Norfolk"]
[null,null,null,null,null,null,null,null,null,null,null,null,null,null,"Swakeleys School for Girls","119549","2011-04-01","London","Hillingdon"]
[null,null,null,null,null,null,null,null,null,null,null,null,null,null,"Swallow Hill Community College","121049","2013-07-01","Yorkshire & The Humber","Leeds"]
[null,null,null,null,null,null,null,null,null,null,null,null,null,null,"Swallowdale Primary School and Community Centre","124159","2013-03-01","East Midlands","Leicestershire"]
[null,null,null,null,null,null,null,null,null,null,null,null,null,null,"Swanage School, The","122039","2013-09-01","South West","Dorset"]
[null,null,null,null,null,null,null,null,null,null,null,null,null,null,"Swanland Primary School","120151","2011-08-01","Yorkshire & The Humber","East Riding of Yorkshire"]
[null,null,null,null,null,null,null,null,null,null,null,null,null,null,"Swavesey Village College","119656","2011-04-01","East of England","Cambridgeshire"]
[null,null,null,null,null,null,null,null,null,null,null,null,null,null,"Sweyne Park School, The","124071","2013-04-01","East of England","Essex "]
[null,null,null,null,null,null,null,null,null,null,null,null,null,null,"Swindon Academy","118643","2007-09-01","South West","Swindon"]
[null,null,null,null,null,null,null,null,null,null,null,null,null,null,"Swinton High School, The - Salford","119987","2011-08-01","North West","Salford"]
[null,null,null,null,null,null,null,null,null,null,null,null,null,null,"Sybourn Primary School","123957","2013-09-01","London","Waltham Forest"]
[null,null,null,null,null,null,null,null,null,null,null,null,null,null,"Sycamore Primary School","120830","2012-01-01","East Midlands","Nottingham"]
[null,null,null,null,null,null,null,null,null,null,null,null,null,null,"Sythwood Primary School","127676","2014-01-01","South East","Surrey"]
[null,null,null,null,null,null,null,null,null,null,null,null,null,null,"Tabor Science College","123170","2013-01-01","East of England","Essex"]
[null,null,null,null,null,null,null,null,null,null,null,null,null,null,"Tame Valley Community School","122139","2012-12-01","West Midlands","Birmingham"]
[null,null,null,null,null,null,null,null,null,null,null,null,null,null,"Tamworth Enterprise College, an AET Academy","120986","2012-09-01","West Midlands","Staffordshire"]
[null,null,null,null,null,null,null,null,null,null,null,null,null,null,"Tangmere Primary Academy","121068","2012-04-01","South East","West Sussex"]
[null,null,null,null,null,null,null,null,null,null,null,null,null,null,"Tanworth-in-Arden CofE Primary School","122096","2012-11-01","West Midlands","Warwickshire"]
[null,null,null,null,null,null,null,null,null,null,null,null,null,null,"Tapton School","120017","2012-04-01","Yorkshire & The Humber","Sheffield"]
[null,null,null,null,null,null,null,null,null,null,null,null,null,null,"Tarleton High School, A Community Technology College","120778","2012-01-01","North West","Lancashire"]
[null,null,null,null,null,null,null,null,null,null,null,null,null,null,"Tarporley High School and Sixth Form College","122275","2012-08-01T12:41:40","North West","Cheshire West and Chester"]
[null,null,null,null,null,null,null,null,null,null,null,null,null,null,"Tatworth Primary School","120175","2011-08-01","South West","Somerset"]
[null,null,null,null,null,null,null,null,null,null,null,null,null,null,"Tauheedul","122029","2012-09-01","North West","Blackburn with Darwen"]
[null,null,null,null,null,null,null,null,null,null,null,null,null,null,"Taunton Academy, The","119349","2010-09-01","South West","Somerset"]
[null,null,null,null,null,null,null,null,null,null,null,null,null,null,"Taverham High School","122084","2013-04-01","East of England","Norfolk "]
[null,null,null,null,null,null,null,null,null,null,null,null,null,null,"Teddington School","120883","2012-08-01","London","Richmond Upon Thames"]
[null,null,null,null,null,null,null,null,null,null,null,null,null,null,"Teesdale School","120153","2011-08-01","North East","Durham"]
[null,null,null,null,null,null,null,null,null,null,null,null,null,null,"Teign School","119494","2011-03-01","South West","Devon"]
[null,null,null,null,null,null,null,null,null,null,null,null,null,null,"Teignmouth Community College","119495","2011-03-01","South West","Devon"]
[null,null,null,null,null,null,null,null,null,null,null,null,null,null,"Temple Ewell Church of England Primary School","123109","2014-02-01","South East","Kent"]
[null,null,null,null,null,null,null,null,null,null,null,null,null,null,"Temple Grove Academy","122425","2013-01-01","South East","Kent"]
[null,null,null,null,null,null,null,null,null,null,null,null,null,null,"Tendring Enterprise Studio School","122533","2012-09-01","East of England","Essex"]
[null,null,null,null,null,null,null,null,null,null,null,null,null,null,"Tendring Technology College","120188","2011-08-01","East of England","Essex"]
[null,null,null,null,null,null,null,null,null,null,null,null,null,null,"Testwood Sports College","120315","2011-08-17","South East","Hampshire"]
[null,null,null,null,null,null,null,null,null,null,null,null,null,null,"Tewkesbury School","120800","2012-01-01","South West","Gloucestershire"]
[null,null,null,null,null,null,null,null,null,null,null,null,null,null,"Thames Primary School - Blackpool","122720","2012-11-01","North West","Blackpool"]
[null,null,null,null,null,null,null,null,null,null,null,null,null,null,"Thames View Infants' School - Barking","122581","2012-09-01","London","Barking and Dagenham"]
[null,null,null,null,null,null,null,null,null,null,null,null,null,null,"Thameside Primary School Academy - Grays","121921","2012-09-01","East of England","Thurrock"]
[null,null,null,null,null,null,null,null,null,null,null,null,null,null,"Thamesmead School","120237","2011-08-01","South East","Surrey"]
[null,null,null,null,null,null,null,null,null,null,null,null,null,null,"Theale Green Community School","124637","2013-09-01","South East","West Berkshire"]
[null,null,null,null,null,null,null,null,null,null,null,null,null,null,"Thetford Academy, The","119327","2010-09-01","East of England","Norfolk"]
[null,null,null,null,null,null,null,null,null,null,null,null,null,null,"Thetford Alternative Provision Free School","123416","2013-09-01","East of England","Norfolk"]
[null,null,null,null,null,null,null,null,null,null,null,null,null,null,"Thistley Hough Academy","122045","2013-09-01","West Midlands","Stoke on Trent"]
[null,null,null,null,null,null,null,null,null,null,null,null,null,null,"Thomas Alleyne School, The","124697","2013-09-01","East of England","Hertfordshire"]
[null,null,null,null,null,null,null,null,null,null,null,null,null,null,"Thomas Aveling School, The","120451","2011-09-01","South East","Medway"]
[null,null,null,null,null,null,null,null,null,null,null,null,null,null,"Thomas Bennett Community College","120900","2012-09-01","South East","West Sussex"]
[null,null,null,null,null,null,null,null,null,null,null,null,null,null,"Thomas Clarkson Academy","121027","2012-06-01","East of England","Cambridgeshire"]
[null,null,null,null,null,null,null,null,null,null,null,null,null,null,"Thomas Cowley High School, The","122337","2012-09-01","East Midlands","Lincolnshire"]
[null,null,null,null,null,null,null,null,null,null,null,null,null,null,"Thomas Deacon Academy","118655","2007-09-01","East of England","Peterborough"]
[null,null,null,null,null,null,null,null,null,null,null,null,null,null,"Thomas Estley Community College","122387","2012-08-01","East Midlands","Leicestershire"]
[null,null,null,null,null,null,null,null,null,null,null,null,null,null,"Thomas Ferens Academy, The","120984","2012-09-01","Yorkshire & The Humber","Hull"]
[null,null,null,null,null,null,null,null,null,null,null,null,null,null,"Thomas Gamuel Primary School","127697","2014-01-01","London","Waltham Forest"]
[null,null,null,null,null,null,null,null,null,null,null,null,null,null,"Thomas Hardye School, The","120163","2011-08-01","South West","Dorset"]
[null,null,null,null,null,null,null,null,null,null,null,null,null,null,"Thomas Hepburn Community Comprehensive School, The","126332","2013-10-01","North East","Gateshead"]
[null,null,null,null,null,null,null,null,null,null,null,null,null,null,"Thomas Keble School","120059","2011-08-01","South West","Gloucestershire"]
[null,null,null,null,null,null,null,null,null,null,null,null,null,null,"Thomas Knyvett College","119832","2011-07-01","South East","Surrey"]
[null,null,null,null,null,null,null,null,null,null,null,null,null,null,"Thomas Lord Audley School, The","121120","2012-03-01","East of England","Essex"]
[null,null,null,null,null,null,null,null,null,null,null,null,null,null,"Thomas Mills High School","119794","2011-06-01","East of England","Suffolk"]
[null,null,null,null,null,null,null,null,null,null,null,null,null,null,"Thomas Telford School","118401","1992-02-07","West Midlands","Telford and Wrekin"]
[null,null,null,null,null,null,null,null,null,null,null,null,null,null,"Thomas Walling Primary Academy",127690,"2014-04-01","North East","Newcastle Upon Tyne"]
[null,null,null,null,null,null,null,null,null,null,null,null,null,null,"Thomas Wolsey School","120648","2012-02-01","East of England","Suffolk"]
[null,null,null,null,null,null,null,null,null,null,null,null,null,null,"Thomson House School","123365","2013-09-01","London","Richmond Upon Thames"]
[null,null,null,null,null,null,null,null,null,null,null,null,null,null,"Thoresby Primary School","124089","2013-07-01","Yorkshire & The Humber","Hull"]
[null,null,null,null,null,null,null,null,null,null,null,null,null,null,"Thornaby Academy","119198","2010-09-01","North East","Stockton-on-Tees"]
[null,null,null,null,null,null,null,null,null,null,null,null,null,null,"Thornden School","119739","2011-05-01","South East","Hampshire"]
[null,null,null,null,null,null,null,null,null,null,null,null,null,null,"Thornhill Community Academy","121060","2012-12-01","Yorkshire & The Humber","Kirklees"]
[null,null,null,null,null,null,null,null,null,null,null,null,null,null,"Thornton Primary School","123259","2013-10-01","East Midlands","Leicestershire"]
[null,null,null,null,null,null,null,null,null,null,null,null,null,null,"Thorplands Primary School","123015","2013-04-01","East Midlands","Northamptonshire "]
[null,null,null,null,null,null,null,null,null,null,null,null,null,null,"Three Rivers Academy, The","120871","2011-12-01T12:24:41","North East","Northumberland"]
[null,null,null,null,null,null,null,null,null,null,null,null,null,null,"Three Ways School - Bath","123156","2013-09-01","South West","Bath & North East Somerset"]
[null,null,null,null,null,null,null,null,null,null,null,null,null,null,"Thriftwood School","120563","2011-10-01","East of England","Essex"]
[null,null,null,null,null,null,null,null,null,null,null,null,null,null,"Thringstone Primary School","124255","2013-06-01","East Midlands","Leicestershire"]
[null,null,null,null,null,null,null,null,null,null,null,null,null,null,"Thrunscoe Primary Academy","121023","2012-08-01","Yorkshire & The Humber","North East Lincolnshire"]
[null,null,null,null,null,null,null,null,null,null,null,null,null,null,"Thrussington Church of England Primary School","122393","2012-11-01","East Midlands","Leicestershire"]
[null,null,null,null,null,null,null,null,null,null,null,null,null,null,"Thrybergh School and Sports College","122860","2013-10-01","Yorkshire & The Humber","Rotherham"]
[null,null,null,null,null,null,null,null,null,null,null,null,null,null,"Thurcroft Junior School","121959","2012-07-01","Yorkshire & The Humber","Rotherham"]
[null,null,null,null,null,null,null,null,null,null,null,null,null,null,"Thurstable School Sports College and Sixth Form Centre","120241","2011-08-01","East of England","Essex"]
[null,null,null,null,null,null,null,null,null,null,null,null,null,null,"Tidemill Primary School","120353","2011-09-01","London","Lewisham"]
[null,null,null,null,null,null,null,null,null,null,null,null,null,null,"Tiffin Girls' School, The","119529","2011-04-01","London","Kingston Upon Thames"]
[null,null,null,null,null,null,null,null,null,null,null,null,null,null,"Tiffin School (Boys)","119910","2011-07-01","London","Kingston Upon Thames"]
[null,null,null,null,null,null,null,null,null,null,null,null,null,null,"Tiger School, The","121972","2012-09-01","South East","Kent"]
[null,null,null,null,null,null,null,null,null,null,null,null,null,null,"Tilbury Pioneer Academy",127376,"2014-05-01","East of England","Thurrock"]
[null,null,null,null,null,null,null,null,null,null,null,null,null,null,"Tile Hill Wood School and Language College","120276","2011-07-11","West Midlands","Coventry"]
[null,null,null,null,null,null,null,null,null,null,null,null,null,null,"Timberley Academy Trust","122095","2012-05-01","West Midlands","Birmingham"]
[null,null,null,null,null,null,null,null,null,null,null,null,null,null,"Timbertree Primary School","122988","2013-06-01","West Midlands","Sandwell"]
[null,null,null,null,null,null,null,null,null,null,null,null,null,null,"Tiverton Junior and Infant School","123892","2013-05-01","West Midlands","Birmingham "]
[null,null,null,null,null,null,null,null,null,null,null,null,null,null,"Toddington St George Lower School","122416","2013-03-01","East of England","Central Bedfordshire"]
[null,null,null,null,null,null,null,null,null,null,null,null,null,null,"Tollbar Academy","119266","2010-09-01","Yorkshire & The Humber","North East Lincolnshire"]
[null,null,null,null,null,null,null,null,null,null,null,null,null,null,"Tolworth Girls’ School and Sixth Form","120060","2011-08-01","London","Kingston Upon Thames"]
[null,null,null,null,null,null,null,null,null,null,null,null,null,null,"Tomlinscote School and Sixth Form College","124690","2013-09-01","South East","Surrey"]
[null,null,null,null,null,null,null,null,null,null,null,null,null,null,"Tonbridge Grammar School","119443","2011-01-01","South East","Kent"]
[null,null,null,null,null,null,null,null,null,null,null,null,null,null,"Toot Hill School","119878","2011-07-01","East Midlands","Nottinghamshire"]
[null,null,null,null,null,null,null,null,null,null,null,null,null,null,"Tooting Primary School","123366","2013-09-01","London","Wandsworth"]
[null,null,null,null,null,null,null,null,null,null,null,null,null,null,"Top Valley Academy","120968","2012-09-01","East Midlands","Nottingham"]
[null,null,null,null,null,null,null,null,null,null,null,null,null,null,"Tor Bridge High","120206","2011-08-01","South West","Plymouth"]
[null,null,null,null,null,null,null,null,null,null,null,null,null,null,"Torquay Academy","120970","2012-09-01","South West","Torbay"]
[null,null,null,null,null,null,null,null,null,null,null,null,null,null,"Torquay Boys' Grammar School","119363","2010-11-01","South West","Torbay"]
[null,null,null,null,null,null,null,null,null,null,null,null,null,null,"Torquay Girls' Grammar School","119515","2011-02-01","South West","Torbay"]
[null,null,null,null,null,null,null,null,null,null,null,null,null,null,"Torre Church of England Primary School","123858","2013-09-01","South West","Torbay"]
[null,null,null,null,null,null,null,null,null,null,null,null,null,null,"Totley Primary School","127603","2014-02-01","Yorkshire & The Humber","Sheffield"]
[null,null,null,null,null,null,null,null,null,null,null,null,null,null,"Totteridge Academy, The","120409","2011-09-01","London","Barnet"]
[null,null,null,null,null,null,null,null,null,null,null,null,null,null,"Tower Road Primary - Boston","119766","2011-06-01","East Midlands","Lincolnshire"]
[null,null,null,null,null,null,null,null,null,null,null,null,null,null,"Towers School and Sixth Form Centre","119555","2011-04-01","South East","Kent"]
[null,null,null,null,null,null,null,null,null,null,null,null,null,null,"Town End Primary School","119486","2011-03-01","North East","Sunderland"]
[null,null,null,null,null,null,null,null,null,null,null,null,null,null,"Townhill Infant School","127547","2013-12-01","South East","Southampton"]
[null,null,null,null,null,null,null,null,null,null,null,null,null,null,"Townley Grammar School for Girls","120740","2012-01-01","London","Bexley"]
[null,null,null,null,null,null,null,null,null,null,null,null,null,null,"Tredworth Infant School",127609,"2014-04-01","South West","Gloucestershire"]
[null,null,null,null,null,null,null,null,null,null,null,null,null,null,"Tree Tops Academy","120925","2012-04-01","South East","Kent"]
[null,null,null,null,null,null,null,null,null,null,null,null,null,null,"Tregolls School , The","120971","2012-09-01","South West","Cornwall"]
[null,null,null,null,null,null,null,null,null,null,null,null,null,null,"Tregonwell Academy","120998","2012-04-01","South West","Bournemouth"]
[null,null,null,null,null,null,null,null,null,null,null,null,null,null,"Tregoze Primary School","121919","2012-07-01","South West","Swindon"]
[null,null,null,null,null,null,null,null,null,null,null,null,null,null,"Tremona Road Hospital and Home",124175,"2014-03-01","South East","Southampton"]
[null,null,null,null,null,null,null,null,null,null,null,null,null,null,"Trenance Infant School","119366","2010-11-01","South West","Cornwall"]
[null,null,null,null,null,null,null,null,null,null,null,null,null,null,"Trent Valley Academy","119123","2008-09-01","East Midlands","Lincolnshire"]
[null,null,null,null,null,null,null,null,null,null,null,null,null,null,"Treverbyn Academy","120076","2011-09-01","South West","Cornwall"]
[null,null,null,null,null,null,null,null,null,null,null,null,null,null,"Trevithick Learning Academy","119637","2011-04-01","South West","Cornwall"]
[null,null,null,null,null,null,null,null,null,null,null,null,null,null,"Trewirgie Infant School","119881","2011-07-01","South West","Cornwall"]
[null,null,null,null,null,null,null,null,null,null,null,null,null,null,"Trewirgie Junior School","119848","2011-07-01","South West","Cornwall"]
[null,null,null,null,null,null,null,null,null,null,null,null,null,null,"Treyew Primary School","124704","2013-12-01","South West","Cornwall"]
[null,null,null,null,null,null,null,null,null,null,null,null,null,null,"Tring School","122333","2012-07-01","East of England","Hertfordshire"]
[null,null,null,null,null,null,null,null,null,null,null,null,null,null,"Trinity Academy - Doncaster","118407","2005-09-01","Yorkshire & The Humber","Doncaster"]
[null,null,null,null,null,null,null,null,null,null,null,null,null,null,"Trinity Academy - Halifax","119154","2010-09-01","Yorkshire & The Humber","Calderdale"]
[null,null,null,null,null,null,null,null,null,null,null,null,null,null,"Trinity Catholic School, The - Nottingham","122324","2012-07-01","East Midlands","Nottingham"]
[null,null,null,null,null,null,null,null,null,null,null,null,null,null,"Trinity Church of England School - Belvedere","119525","2011-04-01","London","Bexley"]
[null,null,null,null,null,null,null,null,null,null,null,null,null,null,"Trinity Church of England VC Primary School - Bath","119813","2011-06-01","South West","Bath & North East Somerset"]
[null,null,null,null,null,null,null,null,null,null,null,null,null,null,"Trinity CofE High School - Manchester","120665","2012-01-01","North West","Manchester"]
[null,null,null,null,null,null,null,null,null,null,null,null,null,null,"Trinity High School and Sixth Form Centre - Redditch","120167","2011-08-01","West Midlands","Worcestershire"]
[null,null,null,null,null,null,null,null,null,null,null,null,null,null,"Trinity Primary Academy - Haringey","122422","2012-09-01","London","Haringey"]
[null,null,null,null,null,null,null,null,null,null,null,null,null,null,"Trinity School - Cumbria","120063","2011-09-01","North West","Cumbria"]
[null,null,null,null,null,null,null,null,null,null,null,null,null,null,"Trinity School - Newbury","122391","2012-08-01","South East","West Berkshire"]
[null,null,null,null,null,null,null,null,null,null,null,null,null,null,"Trinity School (Sevenoaks Christian School)","123336","2013-09-01","South East","Kent"]
[null,null,null,null,null,null,null,null,null,null,null,null,null,null,"Troon Community Primary School",129422,"2014-04-01","South West","Cornwall"]
[null,null,null,null,null,null,null,null,null,null,null,null,null,null,"Tubbenden Primary School","120862","2012-03-01","London","Bromley"]
[null,null,null,null,null,null,null,null,null,null,null,null,null,null,"Tudhoe Colliery Primary School","122366","2012-12-01","North East","Durham"]
[null,null,null,null,null,null,null,null,null,null,null,null,null,null,"Tudor Grange Academy - Solihull","119299","2010-10-01","West Midlands","Solihull"]
[null,null,null,null,null,null,null,null,null,null,null,null,null,null,"Tudor Grange Academy - Worcester","119128","2009-09-01","West Midlands","Worcestershire"]
[null,null,null,null,null,null,null,null,null,null,null,null,null,null,"Tudor Grange Academy Redditch (Kingsley College)",129885,"2014-04-01","West Midlands","Worcestershire"]
[null,null,null,null,null,null,null,null,null,null,null,null,null,null,"Tudor Grange Primary Academy Haselor","128100","2014-01-01","West Midlands","Warwickshire"]
[null,null,null,null,null,null,null,null,null,null,null,null,null,null,"Tuxford Primary School and Early Years Centre","123280","2013-02-01","East Midlands","Nottinghamshire"]
[null,null,null,null,null,null,null,null,null,null,null,null,null,null,"Tuxford School","120319","2011-08-01","East Midlands","Nottinghamshire"]
[null,null,null,null,null,null,null,null,null,null,null,null,null,null,"Tweendykes School","124592","2013-05-01","Yorkshire & The Humber","Hull "]
[null,null,null,null,null,null,null,null,null,null,null,null,null,null,"Twickenham Academy","119172","2010-09-01","London","Richmond Upon Thames"]
[null,null,null,null,null,null,null,null,null,null,null,null,null,null,"Twickenham Primary School - Birmingham","124779","2014-01-01","West Midlands","Birmingham"]
[null,null,null,null,null,null,null,null,null,null,null,null,null,null,"Two Mile Ash School - Milton Keynes","120061","2011-08-01","South East","Milton Keynes"]
[null,null,null,null,null,null,null,null,null,null,null,null,null,null,"Twyford Church of England High School","120602","2011-10-01","London","Ealing"]
[null,null,null,null,null,null,null,null,null,null,null,null,null,null,"Twynham School","119647","2011-04-01","South West","Dorset"]
[null,null,null,null,null,null,null,null,null,null,null,null,null,null,"Tyldesley Primary School","120892","2012-04-01","North West","Wigan"]
[null,null,null,null,null,null,null,null,null,null,null,null,null,null,"Tyndale Community School","123368","2013-09-01","South East","Oxfordshire"]
[null,null,null,null,null,null,null,null,null,null,null,null,null,null,"Tyrrells School, The","120650","2011-11-01","East of England","Essex"]
[null,null,null,null,null,null,null,null,null,null,null,null,null,null,"Tytherington High School",129416,"2014-04-01","North West","Cheshire East"]
[null,null,null,null,null,null,null,null,null,null,null,null,null,null,"UCL Camden Academy","120181","2012-09-01","London","Camden"]
[null,null,null,null,null,null,null,null,null,null,null,null,null,null,"Uffculme Primary School","124072","2013-07-01","South West","Devon"]
[null,null,null,null,null,null,null,null,null,null,null,null,null,null,"Uffculme School","119263","2010-09-01","South West","Devon"]
[null,null,null,null,null,null,null,null,null,null,null,null,null,null,"Ulceby St Nicholas Church of England Primary School","127507","2014-01-01","Yorkshire & The Humber","North Lincolnshire"]
[null,null,null,null,null,null,null,null,null,null,null,null,null,null,"Unity Academy Blackpool","123069","2013-09-01","North West","Blackpool"]
[null,null,null,null,null,null,null,null,null,null,null,null,null,null,"Unity City Academy - Middlesbrough","117095","2002-09-01","North East","Middlesbrough"]
[null,null,null,null,null,null,null,null,null,null,null,null,null,null,"University Academy - Keighley","119307","2010-09-01","Yorkshire & The Humber","Bradford"]
[null,null,null,null,null,null,null,null,null,null,null,null,null,null,"University Academy - Liverpool","120954","2012-06-01","North West","Liverpool"]
[null,null,null,null,null,null,null,null,null,null,null,null,null,null,"University Academy - Warrington","120725","2013-01-01","North West","Warrington"]
[null,null,null,null,null,null,null,null,null,null,null,null,null,null,"University Academy of Birkenhead","119444","2011-01-01","North West","Wirral"]
[null,null,null,null,null,null,null,null,null,null,null,null,null,null,"University Academy, The - Holbeach","120282","2011-09-01","East Midlands","Lincolnshire"]
[null,null,null,null,null,null,null,null,null,null,null,null,null,null,"University Cathedral Free School - Chester","123369","2013-09-01","North West","Cheshire West and Chester"]
[null,null,null,null,null,null,null,null,null,null,null,null,null,null,"University of Chester Academy - Northwich","120987","2012-01-01","North West","Cheshire West and Chester"]
[null,null,null,null,null,null,null,null,null,null,null,null,null,null,"University of Chester Church of England Academy, The","119102","2009-09-01","North West","Cheshire West and Chester"]
[null,null,null,null,null,null,null,null,null,null,null,null,null,null,"University Primary Academy Weaverham","124588","2014-01-01","North West","Cheshire West and Chester"]
[null,null,null,null,null,null,null,null,null,null,null,null,null,null,"University Technical College, Royal Borough of Greenwich","122151","2013-09-01","London","Greenwich"]
[null,null,null,null,null,null,null,null,null,null,null,null,null,null,"Upminster Infant School","122777","2012-11-01","London","Havering"]
[null,null,null,null,null,null,null,null,null,null,null,null,null,null,"Upminster Junior School","122840","2012-11-01","London","Havering"]
[null,null,null,null,null,null,null,null,null,null,null,null,null,null,"Upper Shirley High School","120037","2011-08-01","South East","Southampton"]
[null,null,null,null,null,null,null,null,null,null,null,null,null,null,"Uppingham Community College","119631","2011-04-01","East Midlands","Rutland"]
[null,null,null,null,null,null,null,null,null,null,null,null,null,null,"Upton Hall School FCJ","121081","2012-03-01T12:12:33","North West","Wirral"]
[null,null,null,null,null,null,null,null,null,null,null,null,null,null,"Urmston Grammar Academy","119268","2010-09-01","North West","Trafford"]
[null,null,null,null,null,null,null,null,null,null,null,null,null,null,"Ursula Taylor VC Lower School","124304","2013-08-01","East of England","Bedford"]
[null,null,null,null,null,null,null,null,null,null,null,null,null,null,"UTC Plymouth","122056","2013-09-01","South West","Plymouth"]
[null,null,null,null,null,null,null,null,null,null,null,null,null,null,"UTC Reading","122057","2013-09-01","South East","Reading"]
[null,null,null,null,null,null,null,null,null,null,null,null,null,null,"Utterby Primary School, The","123822","2013-07-01","East Midlands","Lincolnshire"]
[null,null,null,null,null,null,null,null,null,null,null,null,null,null,"Uxbridge High School","119789","2011-06-01","London","Hillingdon"]
[null,null,null,null,null,null,null,null,null,null,null,null,null,null,"Vale Academy - Brigg","120463","2011-09-01","Yorkshire & The Humber","North Lincolnshire"]
[null,null,null,null,null,null,null,null,null,null,null,null,null,null,"Vale of Evesham School","122971","2013-04-01","West Midlands","Worcestershire "]
[null,null,null,null,null,null,null,null,null,null,null,null,null,null,"Vale Primary Academy, The - Knottingley","122061","2012-07-01","Yorkshire & The Humber","Wakefield"]
[null,null,null,null,null,null,null,null,null,null,null,null,null,null,"Valley Park Community School - Maidstone","119653","2011-04-01","South East","Kent"]
[null,null,null,null,null,null,null,null,null,null,null,null,null,null,"Valley Primary School - Bromley","120242","2011-08-01","London","Bromley"]
[null,null,null,null,null,null,null,null,null,null,null,null,null,null,"Vandyke Upper School and Community College","120169","2011-08-01","East of England","Central Bedfordshire"]
[null,null,null,null,null,null,null,null,null,null,null,null,null,null,"Vaynor First School, The","121134","2012-04-01","West Midlands","Worcestershire"]
[null,null,null,null,null,null,null,null,null,null,null,null,null,null,"Venerable Bede Church of England [Aided] Secondary School","123243","2013-01-01","North East","Sunderland"]
[null,null,null,null,null,null,null,null,null,null,null,null,null,null,"Verulam School","120038","2011-08-01","East of England","Hertfordshire"]
[null,null,null,null,null,null,null,null,null,null,null,null,null,null,"Veryan CofE School","128057","2013-12-01","South West","Cornwall"]
[null,null,null,null,null,null,null,null,null,null,null,null,null,null,"Victoria Infant School - Tipton",124124,"2014-04-01","West Midlands","Sandwell"]
[null,null,null,null,null,null,null,null,null,null,null,null,null,null,"Victoria Lane Academy - Bishop Auckland","122842","2012-12-01","North East","Durham"]
[null,null,null,null,null,null,null,null,null,null,null,null,null,null,"Victoria Park Primary - Smethwick","121122","2012-04-01","West Midlands","Sandwell"]
[null,null,null,null,null,null,null,null,null,null,null,null,null,null,"Victoria Primary Academy - Wellingborough","126452","2014-01-01","East Midlands","Northamptonshire"]
[null,null,null,null,null,null,null,null,null,null,null,null,null,null,"Victory Primary School, The - Portsmouth","123016","2013-09-01","South East","Portsmouth"]
[null,null,null,null,null,null,null,null,null,null,null,null,null,null,"Viewley Hill Academy Trust - Middlesbrough","125006","2014-01-01","North East","Middlesbrough"]
[null,null,null,null,null,null,null,null,null,null,null,null,null,null,"Violet Way Academy","119762","2011-06-01","West Midlands","Staffordshire"]
[null,null,null,null,null,null,null,null,null,null,null,null,null,null,"Visions Learning Trust UTC","122155","2013-09-01","North West","Lancashire"]
[null,null,null,null,null,null,null,null,null,null,null,null,null,null,"Voyager Academy, The","120084","2011-09-01","East of England","Peterborough"]
[null,null,null,null,null,null,null,null,null,null,null,null,null,null,"Vyners School","120542","2011-11-01","London","Hillingdon"]
[null,null,null,null,null,null,null,null,null,null,null,null,null,null,"Waddesdon Church of England School","120384","2011-09-01","South East","Buckinghamshire"]
[null,null,null,null,null,null,null,null,null,null,null,null,null,null,"Wade Deacon High School","122567","2013-03-01","North West","Halton"]
[null,null,null,null,null,null,null,null,null,null,null,null,null,null,"Wadebridge Community Primary School","120420","2011-09-01","South West","Cornwall"]
[null,null,null,null,null,null,null,null,null,null,null,null,null,null,"Wadebridge School","120705","2012-04-01","South West","Cornwall"]
[null,null,null,null,null,null,null,null,null,null,null,null,null,null,"Wainfleet Magdalen Church of England/Methodist School, The",127491,"2014-04-01","East Midlands","Lincolnshire"]
[null,null,null,null,null,null,null,null,null,null,null,null,null,null,"Wainstalls School","124137","2013-09-01","Yorkshire & The Humber","Calderdale"]
[null,null,null,null,null,null,null,null,null,null,null,null,null,null,"Wakefield City Academy","119397","2011-01-01","Yorkshire & The Humber","Wakefield"]
[null,null,null,null,null,null,null,null,null,null,null,null,null,null,"Waldegrave School for Girls","121021","2012-08-01","London","Richmond Upon Thames"]
[null,null,null,null,null,null,null,null,null,null,null,null,null,null,"Walderslade Girls' School","120667","2011-11-01","South East","Medway"]
[null,null,null,null,null,null,null,null,null,null,null,null,null,null,"Wales High School - Rotherham","119300","2010-10-01","Yorkshire & The Humber","Rotherham"]
[null,null,null,null,null,null,null,null,null,null,null,null,null,null,"Walkwood CofE Middle School","122949","2013-01-01","West Midlands","Worcestershire"]
[null,null,null,null,null,null,null,null,null,null,null,null,null,null,"Wallingford School","120385","2011-09-01","South East","Oxfordshire"]
[null,null,null,null,null,null,null,null,null,null,null,null,null,null,"Wallington County Grammar School","119777","2011-06-01","London","Sutton"]
[null,null,null,null,null,null,null,null,null,null,null,null,null,null,"Wallington High School for Girls","119792","2011-06-01","London","Sutton"]
[null,null,null,null,null,null,null,null,null,null,null,null,null,null,"Wallscourt Farm Academy","122432","2013-09-01","South West","South Gloucestershire"]
[null,null,null,null,null,null,null,null,null,null,null,null,null,null,"Walsall Academy","118408","2003-09-01","West Midlands","Walsall"]
[null,null,null,null,null,null,null,null,null,null,null,null,null,null,"Walsall Studio School","123394","2013-09-01","West Midlands","Walsall"]
[null,null,null,null,null,null,null,null,null,null,null,null,null,null,"Waltham Leas Primary Academy","120771","2012-01-01","Yorkshire & The Humber","North East Lincolnshire"]
[null,null,null,null,null,null,null,null,null,null,null,null,null,null,"Walthamstow Academy","118656","2006-09-01","London","Waltham Forest"]
[null,null,null,null,null,null,null,null,null,null,null,null,null,null,"Walton Girls' High School and Sixth Form","119538","2011-04-01","East Midlands","Lincolnshire"]
[null,null,null,null,null,null,null,null,null,null,null,null,null,null,"Walton High","119842","2011-07-01","South East","Milton Keynes"]
[null,null,null,null,null,null,null,null,null,null,null,null,null,null,"Walworth Academy","119116","2007-09-05","London","Southwark"]
[null,null,null,null,null,null,null,null,null,null,null,null,null,null,"Wandle Valley School","120354","2011-09-01","London","Sutton"]
[null,null,null,null,null,null,null,null,null,null,null,null,null,null,"Wansbeck Primary School","124650","2013-07-01","Yorkshire & The Humber","Hull"]
[null,null,null,null,null,null,null,null,null,null,null,null,null,null,"Wansdyke Community School","122579","2013-02-01","South West","Wiltshire"]
[null,null,null,null,null,null,null,null,null,null,null,null,null,null,"Wantage Church of England Primary School","124163","2013-10-01","South East","Oxfordshire"]
[null,null,null,null,null,null,null,null,null,null,null,null,null,null,"Wapping High School","121978","2012-09-01","London","Tower Hamlets"]
[null,null,null,null,null,null,null,null,null,null,null,null,null,null,"Warden House Primary School - Deal","123067","2013-01-01","South East","Kent"]
[null,null,null,null,null,null,null,null,null,null,null,null,null,null,"Warden Park Primary Academy - Haywards Heath","120211","2012-01-01","South East","West Sussex"]
[null,null,null,null,null,null,null,null,null,null,null,null,null,null,"Warden Park School - Haywards Heath","120386","2011-09-01","South East","West Sussex"]
[null,null,null,null,null,null,null,null,null,null,null,null,null,null,"Wardle High School","122073","2013-09-01","North West","Rochdale"]
[null,null,null,null,null,null,null,null,null,null,null,null,null,null,"Warlingham School","122593","2012-11-01T14:55:18","South East","Surrey"]
[null,null,null,null,null,null,null,null,null,null,null,null,null,null,"Warlingham Village Primary School","124770","2013-09-01","South East","Surrey"]
[null,null,null,null,null,null,null,null,null,null,null,null,null,null,"Warndon Primary School","125022","2013-10-01","West Midlands","Worcestershire"]
[null,null,null,null,null,null,null,null,null,null,null,null,null,null,"Warren Farm Primary School","122068","2012-07-01","West Midlands","Birmingham"]
[null,null,null,null,null,null,null,null,null,null,null,null,null,null,"Warren Mead Junior School",127930,"2014-04-01","South East","Surrey"]
[null,null,null,null,null,null,null,null,null,null,null,null,null,null,"Warren Primary School - Nottingham","120283","2011-09-01","East Midlands","Nottingham"]
[null,null,null,null,null,null,null,null,null,null,null,null,null,null,"Warren Road Primary School - Bromley","119915","2011-07-01","London","Bromley"]
[null,null,null,null,null,null,null,null,null,null,null,null,null,null,"Warton Nethersole's CofE Primary School","123232","2013-09-01","West Midlands","Warwickshire"]
[null,null,null,null,null,null,null,null,null,null,null,null,null,null,"Warwick Primary School - Wellingborough","122734","2012-11-01","East Midlands","Northamptonshire"]
[null,null,null,null,null,null,null,null,null,null,null,null,null,null,"Waseley Hills High School and Sixth Form Centre","122594","2012-09-01","West Midlands","Worcestershire"]
[null,null,null,null,null,null,null,null,null,null,null,null,null,null,"Washingborough Primary School","121212","2012-04-01","East Midlands","Lincolnshire"]
[null,null,null,null,null,null,null,null,null,null,null,null,null,null,"Washwood Heath Technology College","124134","2013-07-01","West Midlands","Birmingham"]
[null,null,null,null,null,null,null,null,null,null,null,null,null,null,"Watchfield Primary School","124352","2013-11-01","South East","Oxfordshire"]
[null,null,null,null,null,null,null,null,null,null,null,null,null,null,"Waterhead Academy","119212","2010-09-01","North West","Oldham"]
[null,null,null,null,null,null,null,null,null,null,null,null,null,null,"Waterloo Primary School","122121","2012-07-01","North West","Blackpool"]
[null,null,null,null,null,null,null,null,null,null,null,null,null,null,"Waterwells Primary Academy","124128","2013-09-01","South West","Gloucestershire"]
[null,null,null,null,null,null,null,null,null,null,null,null,null,null,"Watford Grammar School for Boys","119248","2010-09-01","East of England","Hertfordshire"]
[null,null,null,null,null,null,null,null,null,null,null,null,null,null,"Watford Grammar School for Girls","119249","2010-09-01","East of England","Hertfordshire"]
[null,null,null,null,null,null,null,null,null,null,null,null,null,null,"Watton Junior School",129586,"2014-04-01","East of England","Norfolk"]
[null,null,null,null,null,null,null,null,null,null,null,null,null,null,"Waverley Studio College - Birmingham","123395","2013-09-01","West Midlands","Birmingham"]
[null,null,null,null,null,null,null,null,null,null,null,null,null,null,"Waycroft Academy","120212","2011-08-01","South West","Bristol City"]
[null,null,null,null,null,null,null,null,null,null,null,null,null,null,"Wayfield Community Primary School and Nursery Unit","125268","2013-11-01","South East","Medway"]
[null,null,null,null,null,null,null,null,null,null,null,null,null,null,"Wayland Community High School","120855","2012-03-01","East of England","Norfolk"]
[null,null,null,null,null,null,null,null,null,null,null,null,null,null,"Waynflete Infants' School","121089","2012-04-01","East Midlands","Northamptonshire"]
[null,null,null,null,null,null,null,null,null,null,null,null,null,null,"Weald of Kent Grammar School","119505","2011-02-01","South East","Kent"]
[null,null,null,null,null,null,null,null,null,null,null,null,null,null,"Weare Academy First School","119634","2011-04-01","South West","Somerset"]
[null,null,null,null,null,null,null,null,null,null,null,null,null,null,"Weatherfield School","120776","2012-03-01","East of England","Central Bedfordshire"]
[null,null,null,null,null,null,null,null,null,null,null,null,null,null,"Weatherhead High School","120749","2012-01-01","North West","Wirral"]
[null,null,null,null,null,null,null,null,null,null,null,null,null,null,"Weavers Academy - Wellingborough","124232","2013-09-01","East Midlands","Northamptonshire"]
[null,null,null,null,null,null,null,null,null,null,null,null,null,null,"Weavers Close Church of England Primary School - Leicester","123153","2013-03-01","East Midlands","Leicestershire"]
[null,null,null,null,null,null,null,null,null,null,null,null,null,null,"Webheath First School","121235","2012-04-01","West Midlands","Worcestershire"]
[null,null,null,null,null,null,null,null,null,null,null,null,null,null,"Webster Primary School","122893","2013-04-01","North West","Manchester "]
[null,null,null,null,null,null,null,null,null,null,null,null,null,null,"Wedmore First School","119829","2011-07-01","South West","Somerset"]
[null,null,null,null,null,null,null,null,null,null,null,null,null,null,"Wednesbury Oak Primary School",124076,"2014-04-01","West Midlands","Sandwell"]
[null,null,null,null,null,null,null,null,null,null,null,null,null,null,"Weeley St Andrew's CofE Primary School","124694","2013-11-01","East of England","Essex"]
[null,null,null,null,null,null,null,null,null,null,null,null,null,null,"Weelsby Primary School","121992","2012-07-01","Yorkshire & The Humber","North East Lincolnshire"]
[null,null,null,null,null,null,null,null,null,null,null,null,null,null,"Weeting Voluntary Controlled Primary School",129718,"2014-04-01","East of England","Norfolk"]
[null,null,null,null,null,null,null,null,null,null,null,null,null,null,"Welbeck Primary School","122322","2012-09-01","North East","Newcastle Upon Tyne"]
[null,null,null,null,null,null,null,null,null,null,null,null,null,null,"Wellacre Technology College","119394","2011-01-01","North West","Trafford"]
[null,null,null,null,null,null,null,null,null,null,null,null,null,null,"Welland Park Community College - Market Harborough","120170","2011-08-01","East Midlands","Leicestershire"]
[null,null,null,null,null,null,null,null,null,null,null,null,null,null,"Welland Primary Academy - Peterborough","124996","2013-10-01","East of England","Peterborough"]
[null,null,null,null,null,null,null,null,null,null,null,null,null,null,"Wellesley Park Primary School","123885","2013-04-01","South West","Somerset "]
[null,null,null,null,null,null,null,null,null,null,null,null,null,null,"Welling School - Kent","119740","2011-05-01","London","Bexley"]
[null,null,null,null,null,null,null,null,null,null,null,null,null,null,"Wellington Academy, The - Ludgershall","118900","2009-09-01","South West","Wiltshire"]
[null,null,null,null,null,null,null,null,null,null,null,null,null,null,"Wellington School - Altrincham","119395","2011-01-01","North West","Trafford"]
[null,null,null,null,null,null,null,null,null,null,null,null,null,null,"Wells Free School, The - Tunbridge Wells","123364","2013-09-01","South East","Kent"]
[null,null,null,null,null,null,null,null,null,null,null,null,null,null,"Wellsway School","120630","2011-10-01","South West","Bath & North East Somerset"]
[null,null,null,null,null,null,null,null,null,null,null,null,null,null,"Welton Church of England Primary School - Daventry","122076","2012-10-01","East Midlands","Northamptonshire"]
[null,null,null,null,null,null,null,null,null,null,null,null,null,null,"Welton St Mary's Church of England Primary School - Lincoln","122658","2013-01-01","East Midlands","Lincolnshire"]
[null,null,null,null,null,null,null,null,null,null,null,null,null,null,"Wembley High Technology College","122580","2012-08-01","London","Brent"]
[null,null,null,null,null,null,null,null,null,null,null,null,null,null,"Wensley Fold (VC) Church of England Primary School","122563","2013-04-01","North West","Blackburn with Darwen "]
[null,null,null,null,null,null,null,null,null,null,null,null,null,null,"Wentworth Primary School","120784","2012-02-01","South East","Kent"]
[null,null,null,null,null,null,null,null,null,null,null,null,null,null,"Werneth Primary School","129550","2014-02-01","North West","Oldham"]
[null,null,null,null,null,null,null,null,null,null,null,null,null,null,"West Bridgford School, The","119543","2011-04-01","East Midlands","Nottinghamshire"]
[null,null,null,null,null,null,null,null,null,null,null,null,null,null,"West Derby School - Liverpool","122696","2012-09-01","North West","Liverpool"]
[null,null,null,null,null,null,null,null,null,null,null,null,null,null,"West End Academy - Wakefield","123229","2013-10-01","Yorkshire & The Humber","Wakefield"]
[null,null,null,null,null,null,null,null,null,null,null,null,null,null,"West Grantham Academy - Earl of Dysart","119477","2011-02-01","East Midlands","Lincolnshire"]
[null,null,null,null,null,null,null,null,null,null,null,null,null,null,"West Grantham Academy - Spitalgate","119478","2011-02-01","East Midlands","Lincolnshire"]
[null,null,null,null,null,null,null,null,null,null,null,null,null,null,"West Grantham Academy - St Hugh's CofE Computing","119476","2011-02-01","East Midlands","Lincolnshire"]
[null,null,null,null,null,null,null,null,null,null,null,null,null,null,"West Hatch High School - Chigwell","119787","2011-06-01","East of England","Essex"]
[null,null,null,null,null,null,null,null,null,null,null,null,null,null,"West Hill School - Stalybridge","120020","2011-08-01","North West","Tameside"]
[null,null,null,null,null,null,null,null,null,null,null,null,null,null,"West Kirby Grammar School","120243","2011-08-01","North West","Wirral"]
[null,null,null,null,null,null,null,null,null,null,null,null,null,null,"West Lakes Academy","118657","2008-09-01","North West","Cumbria"]
[null,null,null,null,null,null,null,null,null,null,null,null,null,null,"West London Free School","120471","2011-09-01","London","Hammersmith and Fulham"]
[null,null,null,null,null,null,null,null,null,null,null,null,null,null,"West London Free School Primary","123371","2013-09-01","London","Hammersmith and Fulham"]
[null,null,null,null,null,null,null,null,null,null,null,null,null,null,"West Malling Church of England Voluntary Controlled Primary School","122286","2012-09-01","South East","Kent"]
[null,null,null,null,null,null,null,null,null,null,null,null,null,null,"West Meadows Primary School - Barnsley","127592","2013-12-01","Yorkshire & The Humber","Barnsley"]
[null,null,null,null,null,null,null,null,null,null,null,null,null,null,"West Newcastle Academy - Newcastle-upon-Tyne","123372","2013-09-01","North East","Newcastle Upon Tyne"]
[null,null,null,null,null,null,null,null,null,null,null,null,null,null,"West Park Academy - Darlington","119901","2011-07-01","North East","Darlington"]
[null,null,null,null,null,null,null,null,null,null,null,null,null,null,"West Park School - Derby","119548","2011-04-01","East Midlands","Derby"]
[null,null,null,null,null,null,null,null,null,null,null,null,null,null,"West Somerset Community College, The","119784","2011-06-01","South West","Somerset"]
[null,null,null,null,null,null,null,null,null,null,null,null,null,null,"West St Leonards Primary School","125003","2013-11-01","South East","East Sussex"]
[null,null,null,null,null,null,null,null,null,null,null,null,null,null,"West Thornton Primary School - Croydon","119763","2011-06-01","London","Croydon"]
[null,null,null,null,null,null,null,null,null,null,null,null,null,null,"West Thurrock Primary School - Grays","122892","2013-08-01","East of England","Thurrock"]
[null,null,null,null,null,null,null,null,null,null,null,null,null,null,"West Town Lane Academy - Bristol","120436","2012-01-01","South West","Bristol City"]
[null,null,null,null,null,null,null,null,null,null,null,null,null,null,"West Walsall E-ACT Academy","121922","2012-09-01","West Midlands","Walsall"]
[null,null,null,null,null,null,null,null,null,null,null,null,null,null,"Westborough Academy, The","119301","2010-10-01","East of England","Southend-on-Sea"]
[null,null,null,null,null,null,null,null,null,null,null,null,null,null,"Westbourne Primary School","119767","2011-06-01","London","Sutton"]
[null,null,null,null,null,null,null,null,null,null,null,null,null,null,"Westbourne Sports College","123185","2013-02-01","East of England","Suffolk"]
[null,null,null,null,null,null,null,null,null,null,null,null,null,null,"Westbridge Primary School",127649,"2014-04-01","London","Wandsworth"]
[null,null,null,null,null,null,null,null,null,null,null,null,null,null,"Westbrook Primary","124492","2013-07-01","London","Hounslow"]
[null,null,null,null,null,null,null,null,null,null,null,null,null,null,"Westbury Park Primary School","122341","2012-08-01","South West","Bristol City"]
[null,null,null,null,null,null,null,null,null,null,null,null,null,null,"Westbury-on-Trym CofE Primary School","120062","2011-08-01","South West","Bristol City"]
[null,null,null,null,null,null,null,null,null,null,null,null,null,null,"Westcliff High School for Boys Academy - Southend-on-Sea","119262","2010-09-01","East of England","Southend-on-Sea"]
[null,null,null,null,null,null,null,null,null,null,null,null,null,null,"Westcliff High School for Girls - Southend-on-Sea","119490","2011-03-01","East of England","Southend-on-Sea"]
[null,null,null,null,null,null,null,null,null,null,null,null,null,null,"Westcliff Primary School - Blackpool","120370","2011-09-01","North West","Blackpool"]
[null,null,null,null,null,null,null,null,null,null,null,null,null,null,"Westergate Community School","125181","2013-11-01","South East","West Sussex"]
[null,null,null,null,null,null,null,null,null,null,null,null,null,null,"Westerings Primary School, The","120341","2011-09-01","East of England","Essex"]
[null,null,null,null,null,null,null,null,null,null,null,null,null,null,"Westfield Academy - Watford","124311","2013-09-01","East of England","Hertfordshire"]
[null,null,null,null,null,null,null,null,null,null,null,null,null,null,"Westfield Community Primary School - Haverhill","124755","2013-10-01","East of England","Suffolk"]
[null,null,null,null,null,null,null,null,null,null,null,null,null,null,"Westfield Community School - Yeovil","120203","2011-08-01","South West","Somerset"]
[null,null,null,null,null,null,null,null,null,null,null,null,null,null,"Westgate Academy - Lincoln","120317","2011-09-01","East Midlands","Lincolnshire"]
[null,null,null,null,null,null,null,null,null,null,null,null,null,null,"Westgate School, The - Slough","121066","2012-04-01","South East","Slough"]
[null,null,null,null,null,null,null,null,null,null,null,null,null,null,"Westlands Primary School - Sittingbourne","119257","2010-09-01","South East","Kent"]
[null,null,null,null,null,null,null,null,null,null,null,null,null,null,"Westlands School - Stockton-on-Tees","124564","2013-08-01","North East","Stockton-on-Tees"]
[null,null,null,null,null,null,null,null,null,null,null,null,null,null,"Westlands School, The - Sittingbourne","119261","2010-09-01","South East","Kent"]
[null,null,null,null,null,null,null,null,null,null,null,null,null,null,"Westlea Primary School","124152","2013-11-01","South West","Swindon"]
[null,null,null,null,null,null,null,null,null,null,null,null,null,null,"Westley Middle School","120180","2011-08-01","East of England","Suffolk"]
[null,null,null,null,null,null,null,null,null,null,null,null,null,null,"Westminster Academy","118658","2006-09-01","London","Westminster"]
[null,null,null,null,null,null,null,null,null,null,null,null,null,null,"Westminster City School","122164","2012-07-01","London","Westminster"]
[null,null,null,null,null,null,null,null,null,null,null,null,null,null,"Weston Community School","120816","2012-04-01","South East","Isle of Wight"]
[null,null,null,null,null,null,null,null,null,null,null,null,null,null,"Weston Favell Academy","119948","2012-09-01","East Midlands","Northamptonshire"]
[null,null,null,null,null,null,null,null,null,null,null,null,null,null,"Weston Favell CofE VA Primary School","121467","2012-11-01","East Midlands","Northamptonshire"]
[null,null,null,null,null,null,null,null,null,null,null,null,null,null,"Weston Road Academy","120583","2011-10-01","West Midlands","Staffordshire"]
[null,null,null,null,null,null,null,null,null,null,null,null,null,null,"Westside Free School","123417","2013-09-01","London","Westminster"]
[null,null,null,null,null,null,null,null,null,null,null,null,null,null,"Westwood Academy - Benfleet","120030","2011-08-01","East of England","Essex"]
[null,null,null,null,null,null,null,null,null,null,null,null,null,null,"Westwood School, The - Coventry","120225","2011-08-01","West Midlands","Coventry"]
[null,null,null,null,null,null,null,null,null,null,null,null,null,null,"Westwoodside CofE Primary School","122499","2012-09-01","Yorkshire & The Humber","North Lincolnshire"]
[null,null,null,null,null,null,null,null,null,null,null,null,null,null,"Wey Valley School, The","122687","2012-09-01","South West","Dorset"]
[null,null,null,null,null,null,null,null,null,null,null,null,null,null,"Weydon School","119595","2011-04-01","South East","Surrey"]
[null,null,null,null,null,null,null,null,null,null,null,null,null,null,"Weyfield Primary School","122545","2013-02-01","South East","Surrey"]
[null,null,null,null,null,null,null,null,null,null,null,null,null,null,"Wheatley Church of England (C) Primary School",125171,"2014-03-01","South East","Oxfordshire"]
[null,null,null,null,null,null,null,null,null,null,null,null,null,null,"Wheatley Park School",126207,"2014-05-01T11:36:47","South East","Oxfordshire"]
[null,null,null,null,null,null,null,null,null,null,null,null,null,null,"Wheeler Primary School - Hull","124063","2014-01-01","Yorkshire & The Humber","Hull"]
[null,null,null,null,null,null,null,null,null,null,null,null,null,null,"Whetley Primary School - Bradford","122861","2012-12-01","Yorkshire & The Humber","Bradford"]
[null,null,null,null,null,null,null,null,null,null,null,null,null,null,"Whickham School and Sports College","120358","2011-09-01","North East","Gateshead"]
[null,null,null,null,null,null,null,null,null,null,null,null,null,null,"Whipperley Infant School","122346","2013-01-01","East of England","Luton"]
[null,null,null,null,null,null,null,null,null,null,null,null,null,null,"Whirley Primary School","124204","2014-02-01","North West","Cheshire East"]
[null,null,null,null,null,null,null,null,null,null,null,null,null,null,"Whiston Junior and Infant School","124563","2013-09-01","Yorkshire & The Humber","Rotherham"]
[null,null,null,null,null,null,null,null,null,null,null,null,null,null,"Whiston Worry Goose Junior and Infant School","124583","2013-09-01","Yorkshire & The Humber","Rotherham"]
[null,null,null,null,null,null,null,null,null,null,null,null,null,null,"Whitburn Church of England Academy","119398","2011-01-01","North East","South Tyneside"]
[null,null,null,null,null,null,null,null,null,null,null,null,null,null,"White Cliffs Primary College for the Arts","122069","2012-06-01","South East","Kent"]
[null,null,null,null,null,null,null,null,null,null,null,null,null,null,"White Hall Academy","120929","2012-09-01","East of England","Essex"]
[null,null,null,null,null,null,null,null,null,null,null,null,null,null,"White Meadows Primary Academy",130079,"2014-04-01","South East","West Sussex"]
[null,null,null,null,null,null,null,null,null,null,null,null,null,null,"White Waltham CofE School","122292","2012-09-01","South East","Windsor and Maidenhead"]
[null,null,null,null,null,null,null,null,null,null,null,null,null,null,"Whitecross Hereford; High School and Specialist Sports College","120600","2013-01-01","West Midlands","Herefordshire"]
[null,null,null,null,null,null,null,null,null,null,null,null,null,null,"Whitefield School - Cricklewood","120355","2011-09-01","London","Barnet"]
[null,null,null,null,null,null,null,null,null,null,null,null,null,null,"Whitefield Schools and Centre - Walthamstow",126350,"2014-04-01","London","Waltham Forest"]
[null,null,null,null,null,null,null,null,null,null,null,null,null,null,"Whitehaven School","127198","2014-01-01","North West","Cumbria"]
[null,null,null,null,null,null,null,null,null,null,null,null,null,null,"Whitehill Community Academy - Halifax","119600","2011-04-01","Yorkshire & The Humber","Calderdale"]
[null,null,null,null,null,null,null,null,null,null,null,null,null,null,"Whitehill Primary School - Gravesend",129100,"2014-04-01","South East","Kent"]
[null,null,null,null,null,null,null,null,null,null,null,null,null,null,"Whitehorse Manor Infant School","119666","2011-04-01","London","Croydon"]
[null,null,null,null,null,null,null,null,null,null,null,null,null,null,"Whitehorse Manor Junior School","119667","2011-04-01","London","Croydon"]
[null,null,null,null,null,null,null,null,null,null,null,null,null,null,"Whitelands Park Primary School","127278","2014-01-01","South East","West Berkshire"]
[null,null,null,null,null,null,null,null,null,null,null,null,null,null,"Whitemoor Academy - St Austell","122897","2012-11-01","South West","Cornwall"]
[null,null,null,null,null,null,null,null,null,null,null,null,null,null,"Whitemoor Primary and Nursery School - Nottingham","122018","2012-09-01","East Midlands","Nottingham"]
[null,null,null,null,null,null,null,null,null,null,null,null,null,null,"White's Wood Lane Community Junior School, The","123807","2013-03-01","East Midlands","Lincolnshire"]
[null,null,null,null,null,null,null,null,null,null,null,null,null,null,"Whitesheet CofE VA Primary School","124297","2013-12-01","South West","Wiltshire Council"]
[null,null,null,null,null,null,null,null,null,null,null,null,null,null,"Whitley Abbey Business and Enterprise College","119840","2011-07-01","West Midlands","Coventry"]
[null,null,null,null,null,null,null,null,null,null,null,null,null,null,"Whitstone","120192","2011-08-01","South West","Somerset"]
[null,null,null,null,null,null,null,null,null,null,null,null,null,null,"Whittingham Community Primary School","123201","2013-02-01","London","Waltham Forest"]
[null,null,null,null,null,null,null,null,null,null,null,null,null,null,"Whitton Green Community Primary School","124630","2013-08-01","East of England","Suffolk"]
[null,null,null,null,null,null,null,null,null,null,null,null,null,null,"Wickersley School and Sports College",129177,"2014-03-01","Yorkshire and the Humber","Rotherham"]
[null,null,null,null,null,null,null,null,null,null,null,null,null,null,"Wickford Church of England Voluntary Controlled Infant School","120590","2011-12-01","East of England","Essex"]
[null,null,null,null,null,null,null,null,null,null,null,null,null,null,"Widecombe-in-the-Moor Primary School","119668","2011-04-01","South West","Devon"]
[null,null,null,null,null,null,null,null,null,null,null,null,null,null,"Widewell Primary School","122942","2013-02-01","South West","Plymouth"]
[null,null,null,null,null,null,null,null,null,null,null,null,null,null,"Wigan UTC","122059","2013-09-01","North West","Wigan"]
[null,null,null,null,null,null,null,null,null,null,null,null,null,null,"Wigmore High School","119421","2011-01-01","West Midlands","Herefordshire"]
[null,null,null,null,null,null,null,null,null,null,null,null,null,null,"Wigmore Primary School","119420","2011-01-01","West Midlands","Herefordshire"]
[null,null,null,null,null,null,null,null,null,null,null,null,null,null,"Wigston Birkett House Community Special School","122105","2012-11-01","East Midlands","Leicestershire"]
[null,null,null,null,null,null,null,null,null,null,null,null,null,null,"Wilbarston Church of England Primary School","124530","2013-09-01","East Midlands","Northamptonshire"]
[null,null,null,null,null,null,null,null,null,null,null,null,null,null,"Wilberforce Primary School","123271","2013-09-01","London","Westminster"]
[null,null,null,null,null,null,null,null,null,null,null,null,null,null,"Wilcombe Primary School","120362","2011-11-01","South West","Devon"]
[null,null,null,null,null,null,null,null,null,null,null,null,null,null,"Wildern School","119641","2011-04-01","South East","Hampshire"]
[null,null,null,null,null,null,null,null,null,null,null,null,null,null,"Willenhall E-ACT Academy","120976","2012-01-01","West Midlands","Walsall"]
[null,null,null,null,null,null,null,null,null,null,null,null,null,null,"William Alvey School","120637","2011-10-01","East Midlands","Lincolnshire"]
[null,null,null,null,null,null,null,null,null,null,null,null,null,null,"William Beamont Community High School","122491","2013-03-01","North West","Warrington"]
[null,null,null,null,null,null,null,null,null,null,null,null,null,null,"William Brookes School","123181","2013-06-01","West Midlands","Shropshire"]
[null,null,null,null,null,null,null,null,null,null,null,null,null,null,"William de Ferrers School","119630","2011-04-01","East of England","Essex"]
[null,null,null,null,null,null,null,null,null,null,null,null,null,null,"William Edwards School and Sports College","120214","2011-08-01","East of England","Thurrock"]
[null,null,null,null,null,null,null,null,null,null,null,null,null,null,"William Farr Church of England Comprehensive School","119445","2011-01-01","East Midlands","Lincolnshire"]
[null,null,null,null,null,null,null,null,null,null,null,null,null,null,"William Howard School","120252","2011-08-01","North West","Cumbria"]
[null,null,null,null,null,null,null,null,null,null,null,null,null,null,"William Hulme's Grammar School","118652","2007-09-01","North West","Manchester"]
[null,null,null,null,null,null,null,null,null,null,null,null,null,null,"William Lovell Church of England School","121866","2012-09-01","East Midlands","Lincolnshire"]
[null,null,null,null,null,null,null,null,null,null,null,null,null,null,"William Morris School","122172","2012-09-01","London","Waltham Forest"]
[null,null,null,null,null,null,null,null,null,null,null,null,null,null,"William Perkin Church of England High School","121996","2013-09-01","London","Ealing"]
[null,null,null,null,null,null,null,null,null,null,null,null,null,null,"William Tyndale Primary School","120481","2011-10-01","London","Islington"]
[null,null,null,null,null,null,null,null,null,null,null,null,null,null,"Willougby Road Primary Academy",129540,"2014-04-01","Yorkshire & The Humber","North Lincolnshire"]
[null,null,null,null,null,null,null,null,null,null,null,null,null,null,"Willow Bank Primary School","120532","2011-09-01","London","Bexley"]
[null,null,null,null,null,null,null,null,null,null,null,null,null,null,"Willow Brook Primary School Academy","120974","2012-09-01","London","Waltham Forest"]
[null,null,null,null,null,null,null,null,null,null,null,null,null,null,"Willow Green Academy","122251","2012-08-01","Yorkshire & The Humber","Wakefield"]
[null,null,null,null,null,null,null,null,null,null,null,null,null,null,"Willow Primary School - Doncaster","120698","2012-04-01","Yorkshire & The Humber","Doncaster"]
[null,null,null,null,null,null,null,null,null,null,null,null,null,null,"Willow Primary School - Slough","122871","2013-02-01","South East","Slough"]
[null,null,null,null,null,null,null,null,null,null,null,null,null,null,"Willowcroft Community School","124112","2013-06-01","South East","Oxfordshire"]
[null,null,null,null,null,null,null,null,null,null,null,null,null,null,"Willows Academy - Grimsby","123017","2013-05-01","Yorkshire & The Humber","North East Lincolnshire "]
[null,null,null,null,null,null,null,null,null,null,null,null,null,null,"Willows Primary School, The - Manchester","124303","2013-04-01","North West","Manchester "]
[null,null,null,null,null,null,null,null,null,null,null,null,null,null,"Willows School, The - Hillingdon","120483","2011-11-01","London","Hillingdon"]
[null,null,null,null,null,null,null,null,null,null,null,null,null,null,"Wilmington Academy","119330","2010-09-01","South East","Kent"]
[null,null,null,null,null,null,null,null,null,null,null,null,null,null,"Wilmington Grammar School for Boys","120227","2011-08-01","South East","Kent"]
[null,null,null,null,null,null,null,null,null,null,null,null,null,null,"Wilmington Grammar School for Girls","120250","2011-08-01","South East","Kent"]
[null,null,null,null,null,null,null,null,null,null,null,null,null,null,"Wilmington Primary School","120620","2011-11-01","South East","Kent"]
[null,null,null,null,null,null,null,null,null,null,null,null,null,null,"Wilnecote High School","122943","2012-11-01","West Midlands","Staffordshire"]
[null,null,null,null,null,null,null,null,null,null,null,null,null,null,"Wilshere-Dacre Junior School",129588,"2014-03-01","East of England","Hertfordshire"]
[null,null,null,null,null,null,null,null,null,null,null,null,null,null,"Wilson Stuart School - Birmingham","121131","2012-07-01","West Midlands","Birmingham"]
[null,null,null,null,null,null,null,null,null,null,null,null,null,null,"Wilson's School - Wallington","119535","2011-04-01","London","Sutton"]
[null,null,null,null,null,null,null,null,null,null,null,null,null,null,"Winchcombe Abbey Church of England Primary School",129908,"2014-04-01","South West","Gloucestershire"]
[null,null,null,null,null,null,null,null,null,null,null,null,null,null,"Winchcombe School","119788","2011-06-01","South West","Gloucestershire"]
[null,null,null,null,null,null,null,null,null,null,null,null,null,null,"Wincobank Nursery and Infant School",129432,"2014-03-01","Yorkshire and the Humber","Sheffield"]
[null,null,null,null,null,null,null,null,null,null,null,null,null,null,"Windale Community Primary School","122878","2013-08-01","South East","Oxfordshire"]
[null,null,null,null,null,null,null,null,null,null,null,null,null,null,"Windhill CofE Primary School - Bradford","123167","2013-08-01","Yorkshire & The Humber","Bradford"]
[null,null,null,null,null,null,null,null,null,null,null,null,null,null,"Windmill Academy - Wokingham","126512","2013-09-01","South East","Wokingham"]
[null,null,null,null,null,null,null,null,null,null,null,null,null,null,"Windmill Hill Academy - Launceston","127710","2014-01-01","South West","Cornwall"]
[null,null,null,null,null,null,null,null,null,null,null,null,null,null,"Windmill LEAD Academy - Nottingham","122939","2013-02-01","East Midlands","Nottingham"]
[null,null,null,null,null,null,null,null,null,null,null,null,null,null,"Windmill Primary School - Raunds","124316","2013-05-01","East Midlands","Northamptonshire "]
[null,null,null,null,null,null,null,null,null,null,null,null,null,null,"Windsor High School and Sixth Form","119532","2011-04-01","West Midlands","Dudley"]
[null,null,null,null,null,null,null,null,null,null,null,null,null,null,"Wingfield Business and Enterprise College","123211","2013-08-01","Yorkshire & The Humber","Rotherham"]
[null,null,null,null,null,null,null,null,null,null,null,null,null,null,"Winhills Primary School","122047","2012-07-01","East of England","Cambridgeshire"]
[null,null,null,null,null,null,null,null,null,null,null,null,null,null,"Winifred Holtby Academy Trust","122911","2013-05-01","Yorkshire & The Humber","Hull "]
[null,null,null,null,null,null,null,null,null,null,null,null,null,null,"Winsford E-ACT Academy, The","119336","2010-09-01","North West","Cheshire West and Chester"]
[null,null,null,null,null,null,null,null,null,null,null,null,null,null,"Winstanley Community College","122148","2012-08-01","East Midlands","Leicestershire"]
[null,null,null,null,null,null,null,null,null,null,null,null,null,null,"Winterbourne International Academy - Bristol","119094","2009-09-01","South West","South Gloucestershire"]
[null,null,null,null,null,null,null,null,null,null,null,null,null,null,"Winterbourne Junior Boys' School - Thornton Heath",127977,"2014-04-01","London","Croydon"]
[null,null,null,null,null,null,null,null,null,null,null,null,null,null,"Winterton Comprehensive School - Scunthorpe","122560","2012-10-01","Yorkshire & The Humber","North Lincolnshire"]
[null,null,null,null,null,null,null,null,null,null,null,null,null,null,"Winton Arts and Media College - Bournemouth","123804","2013-09-01","South West","Bournemouth"]
[null,null,null,null,null,null,null,null,null,null,null,null,null,null,"Winton Community Academy - Andover","121884","2012-11-01","South East","Hampshire"]
[null,null,null,null,null,null,null,null,null,null,null,null,null,null,"Wirral Grammar School for Boys","120371","2011-09-01","North West","Wirral"]
[null,null,null,null,null,null,null,null,null,null,null,null,null,null,"Wirral Grammar School for Girls","120171","2011-08-01","North West","Wirral"]
[null,null,null,null,null,null,null,null,null,null,null,null,null,null,"Wishmore Cross School","122424","2012-09-01","South East","Surrey"]
[null,null,null,null,null,null,null,null,null,null,null,null,null,null,"Wistaston Green Primary and Nursery School",129605,"2014-03-01","North West","Cheshire East"]
[null,null,null,null,null,null,null,null,null,null,null,null,null,null,"Witchford Village College","120655","2011-10-01","East of England","Cambridgeshire"]
[null,null,null,null,null,null,null,null,null,null,null,null,null,null,"Witham St Hughs Primary School","121856","2012-04-01","East Midlands","Lincolnshire"]
[null,null,null,null,null,null,null,null,null,null,null,null,null,null,"Witton Park High School",125008,"2014-05-01","North West","Blackburn with Darwen"]
[null,null,null,null,null,null,null,null,null,null,null,null,null,null,"Woden Primary School","122489","2013-04-01","West Midlands","Wolverhampton "]
[null,null,null,null,null,null,null,null,null,null,null,null,null,null,"Wodensborough Community Technology College","126339","2013-11-01","West Midlands","Sandwell"]
[null,null,null,null,null,null,null,null,null,null,null,null,null,null,"Woking High School","124312","2013-08-01","South East","Surrey"]
[null,null,null,null,null,null,null,null,null,null,null,null,null,null,"Wold Primary School","124230","2013-10-01","Yorkshire & The Humber","Hull"]
[null,null,null,null,null,null,null,null,null,null,null,null,null,null,"Wolsey Junior School","125013","2013-11-01","London","Croydon"]
[null,null,null,null,null,null,null,null,null,null,null,null,null,null,"Wolverhampton Girls' High School",130336,"2014-04-01","West Midlands","Wolverhampton"]
[null,null,null,null,null,null,null,null,null,null,null,null,null,null,"Wood End Junior School - Ealing","119741","2011-05-01","London","Ealing"]
[null,null,null,null,null,null,null,null,null,null,null,null,null,null,"Wood End Park Community School - Hillingdon","122682","2012-09-01","London","Hillingdon"]
[null,null,null,null,null,null,null,null,null,null,null,null,null,null,"Wood End Primary School - Atherstone","124605","2014-01-01","West Midlands","Warwickshire"]
[null,null,null,null,null,null,null,null,null,null,null,null,null,null,"Wood Green Academy - Wednesbury","119530","2011-04-01","West Midlands","Sandwell"]
[null,null,null,null,null,null,null,null,null,null,null,null,null,null,"Woodbrook Vale High School","120318","2011-09-01","East Midlands","Leicestershire"]
[null,null,null,null,null,null,null,null,null,null,null,null,null,null,"Woodchurch High School Engineering College","120612","2012-10-01","North West","Wirral"]
[null,null,null,null,null,null,null,null,null,null,null,null,null,null,"Woodcote High School","121951","2012-06-01","London","Croydon"]
[null,null,null,null,null,null,null,null,null,null,null,null,null,null,"Woodfield Middle School - Redditch","121936","2012-06-01","West Midlands","Worcestershire"]
[null,null,null,null,null,null,null,null,null,null,null,null,null,null,"Woodfield School - Kingsbury",130300,"2014-04-01","London","Brent"]
[null,null,null,null,null,null,null,null,null,null,null,null,null,null,"Woodford Valley Church of England Aided School","121107","2012-06-01","South West","Wiltshire"]
[null,null,null,null,null,null,null,null,null,null,null,null,null,null,"Woodham Community Technology College","122575","2012-09-01","North East","Durham"]
[null,null,null,null,null,null,null,null,null,null,null,null,null,null,"Woodhouse Primary Academy","123256","2013-09-01","West Midlands","Birmingham"]
[null,null,null,null,null,null,null,null,null,null,null,null,null,null,"Woodkirk High Specialist Science School","120455","2011-09-01","Yorkshire & The Humber","Leeds"]
[null,null,null,null,null,null,null,null,null,null,null,null,null,null,"Woodland Middle School Academy - Bedford","119573","2011-04-01","East of England","Central Bedfordshire"]
[null,null,null,null,null,null,null,null,null,null,null,null,null,null,"Woodland View Primary School - Northampton","121104","2012-03-01","East Midlands","Northamptonshire"]
[null,null,null,null,null,null,null,null,null,null,null,null,null,null,"Woodlands Academy - Coventry","120165","2011-08-01","West Midlands","Coventry"]
[null,null,null,null,null,null,null,null,null,null,null,null,null,null,"Woodlands Primary School - Gillingham","123042","2013-04-01","South East","Medway "]
[null,null,null,null,null,null,null,null,null,null,null,null,null,null,"Woodlands Primary School - Leeds","122319","2012-12-01","Yorkshire & The Humber","Leeds"]
[null,null,null,null,null,null,null,null,null,null,null,null,null,null,"Woodlands Primary School - Willenhall","122118","2012-07-01","West Midlands","Walsall"]
[null,null,null,null,null,null,null,null,null,null,null,null,null,null,"Woodlands School - Bradwell","124246","2013-07-01","East of England","Norfolk"]
[null,null,null,null,null,null,null,null,null,null,null,null,null,null,"Woodlands School, The - Scarborough","123219","2013-04-01","Yorkshire & The Humber","North Yorkshire "]
[null,null,null,null,null,null,null,null,null,null,null,null,null,null,"Woodnewton - A Learning Community","121108","2012-06-01","East Midlands","Northamptonshire"]
[null,null,null,null,null,null,null,null,null,null,null,null,null,null,"Woodpecker Hall Primary Academy","120552","2011-09-01","London","Enfield"]
[null,null,null,null,null,null,null,null,null,null,null,null,null,null,"Woodrush Community High School","119904","2011-07-01","West Midlands","Worcestershire"]
[null,null,null,null,null,null,null,null,null,null,null,null,null,null,"Woodside Academy - Bradford","121178","2012-12-01","Yorkshire & The Humber","Bradford"]
[null,null,null,null,null,null,null,null,null,null,null,null,null,null,"Woodside CofE Controlled Primary School - Atherstone","123242","2013-09-01","West Midlands","Warwickshire"]
[null,null,null,null,null,null,null,null,null,null,null,null,null,null,"Woodside High School - Haringey","120694","2011-12-01","London","Haringey"]
[null,null,null,null,null,null,null,null,null,null,null,null,null,null,"Woodside Primary School - Essex","122592","2012-12-01","East of England","Thurrock"]
[null,null,null,null,null,null,null,null,null,null,null,null,null,null,"Woodside Primary School - Oswestry","122397","2013-05-01","West Midlands","Shropshire "]
[null,null,null,null,null,null,null,null,null,null,null,null,null,null,"Woodside School - Waltham Forest","122843","2012-12-01","London","Waltham Forest"]
[null,null,null,null,null,null,null,null,null,null,null,null,null,null,"Woodvale Primary School","123094","2013-02-01","East Midlands","Northamptonshire"]
[null,null,null,null,null,null,null,null,null,null,null,null,null,null,"Woodview Primary School","122890","2013-02-01","West Midlands","Birmingham"]
[null,null,null,null,null,null,null,null,null,null,null,null,null,null,"Woodville Primary School","124753","2013-12-01","East of England","Essex"]
[null,null,null,null,null,null,null,null,null,null,null,null,null,null,"Woodwater Academy, The","122420","2013-01-01","South West","Devon"]
[null,null,null,null,null,null,null,null,null,null,null,null,null,null,"Woolavington Village Primary School","127647","2014-01-01","South West","Somerset"]
[null,null,null,null,null,null,null,null,null,null,null,null,null,null,"Woolgrove School","121841","2012-04-01","East of England","Hertfordshire"]
[null,null,null,null,null,null,null,null,null,null,null,null,null,null,"Woolmer Hill Technology College","120314","2011-08-17","South East","Surrey"]
[null,null,null,null,null,null,null,null,null,null,null,null,null,null,"Wootton Primary School - Northampton","122266","2012-10-01","East Midlands","Northamptonshire"]
[null,null,null,null,null,null,null,null,null,null,null,null,null,null,"Wootton Upper School - Bedford","120406","2011-10-01","East of England","Bedford"]
[null,null,null,null,null,null,null,null,null,null,null,null,null,null,"Worden Sports College","122270","2013-02-01","North West","Lancashire"]
[null,null,null,null,null,null,null,null,null,null,null,null,null,null,"Worlaby Academy","122741","2012-08-01","Yorkshire & The Humber","North Lincolnshire"]
[null,null,null,null,null,null,null,null,null,null,null,null,null,null,"Worth Primary School","123814","2013-04-01","North West","Cheshire East "]
[null,null,null,null,null,null,null,null,null,null,null,null,null,null,"Worthing High School","122970","2012-12-01","South East","West Sussex"]
[null,null,null,null,null,null,null,null,null,null,null,null,null,null,"Wreake Valley Academy","113696","2012-04-01","East Midlands","Leicestershire"]
[null,null,null,null,null,null,null,null,null,null,null,null,null,null,"Wren Academy - North Finchley","118676","2008-09-01","London","Barnet"]
[null,null,null,null,null,null,null,null,null,null,null,null,null,null,"Wrenn School - Wellingborough","124748","2013-09-01","East Midlands","Northamptonshire"]
[null,null,null,null,null,null,null,null,null,null,null,null,null,null,"Writhlington School","120633","2011-10-01","South West","Bath & North East Somerset"]
[null,null,null,null,null,null,null,null,null,null,null,null,null,null,"Wrockwardine Wood Arts College","123881","2013-04-01","West Midlands","Telford and Wrekin "]
[null,null,null,null,null,null,null,null,null,null,null,null,null,null,"Wrotham School - Sevenoaks","120709","2013-04-01","South East","Kent "]
[null,null,null,null,null,null,null,null,null,null,null,null,null,null,"Wroxham School, The - Potters Bar","121916","2012-06-01","East of England","Hertfordshire"]
[null,null,null,null,null,null,null,null,null,null,null,null,null,null,"Wybers Wood Academy","122428","2012-12-01","Yorkshire & The Humber","North East Lincolnshire"]
[null,null,null,null,null,null,null,null,null,null,null,null,null,null,"Wycombe High School","119742","2011-05-01","South East","Buckinghamshire"]
[null,null,null,null,null,null,null,null,null,null,null,null,null,null,"Wye Free School","123373","2013-09-01","South East","Kent"]
[null,null,null,null,null,null,null,null,null,null,null,null,null,null,"Wyedean School and 6th Form Centre","120415","2011-09-01","South West","Gloucestershire"]
[null,null,null,null,null,null,null,null,null,null,null,null,null,null,"Wymondham College","119481","2011-02-01","East of England","Norfolk"]
[null,null,null,null,null,null,null,null,null,null,null,null,null,null,"Wymondham High School","120342","2011-09-01","East of England","Norfolk"]
[null,null,null,null,null,null,null,null,null,null,null,null,null,null,"Wyndham Primary Academy","120997","2012-09-01","East Midlands","Derby"]
[null,null,null,null,null,null,null,null,null,null,null,null,null,null,"Wyvern Academy - Weymouth","122578","2012-09-01","South West","Dorset"]
[null,null,null,null,null,null,null,null,null,null,null,null,null,null,"Wyvern Technology College - Eastleigh","121161","2012-06-01","South East","Hampshire"]
[null,null,null,null,null,null,null,null,null,null,null,null,null,null,"Yarborough Primary School","121901","2012-08-01","Yorkshire & The Humber","North East Lincolnshire"]
[null,null,null,null,null,null,null,null,null,null,null,null,null,null,"Yardley Primary School - Waltham Forest","119390","2011-01-01","London","Waltham Forest"]
[null,null,null,null,null,null,null,null,null,null,null,null,null,null,"Yardleys School - Birmingham","123056","2013-08-01","West Midlands","Birmingham"]
[null,null,null,null,null,null,null,null,null,null,null,null,null,null,"Yarm Primary School","129569","2014-02-01","North East","Stockton-on-Tees"]
[null,null,null,null,null,null,null,null,null,null,null,null,null,null,"Yarnfield Primary School","122947","2013-07-01","West Midlands","Birmingham"]
[null,null,null,null,null,null,null,null,null,null,null,null,null,null,"Yate International Academy","119093","2009-09-01","South West","South Gloucestershire"]
[null,null,null,null,null,null,null,null,null,null,null,null,null,null,"Yavneh College","119906","2011-07-01","East of England","Hertfordshire"]
[null,null,null,null,null,null,null,null,null,null,null,null,null,null,"Yealmpton Primary School","119654","2011-04-01","South West","Devon"]
[null,null,null,null,null,null,null,null,null,null,null,null,null,null,"Yesoiday Hatorah School","119578","2011-04-01","North West","Bury"]
[null,null,null,null,null,null,null,null,null,null,null,null,null,null,"Yewlands School Technology College","120453","2011-09-01","Yorkshire & The Humber","Sheffield"]
[null,null,null,null,null,null,null,null,null,null,null,null,null,null,"York Road Junior Academy","120980","2012-04-01","South East ","Kent"]
[null,null,null,null,null,null,null,null,null,null,null,null,null,null,"Zouch Primary School",129864,"2014-04-01","South West","Wiltshire"]
[null,null,null,null,null,null,null,null,null,null,null,null,null,null,"Coketown Academy",999999,"2011-04-01","South East ","Kent"]

{"sheet":"Local authorities","index":3,"n_rows":451,"n_cols":4,"rows_kept":451,"cut":false,"hidden":true,"merged":[]}
[null,null,null,"ENGLISH LOCAL GOVERNMENT"]
[null,null,"E3831","Adur District Council"]
[null,null,"E0931","Allerdale Borough Council"]
[null,null,"E1031","Amber Valley Borough Council"]
[null,null,"E3832","Arun District Council"]
[null,null,"E3031","Ashfield District Council"]
[null,null,"E2231","Ashford Borough Council"]
[null,null,"E6050","Avon and Somerset Police Authority"]
[null,null,"E6101","Avon Fire Authority"]
[null,null,"E0431","Aylesbury Vale District Council"]
[null,null,"E3531","Babergh District Council"]
[null,null,"E5030","Barking & Dagenham London Borough Council"]
[null,null,"E5031","Barnet London Borough Council"]
[null,null,"E4401","Barnsley Metropolitan Borough Council"]
[null,null,"E0932","Barrow-in-Furness Borough Council"]
[null,null,"E1531","Basildon District Council"]
[null,null,"E1731","Basingstoke and Deane Borough Council"]
[null,null,"E3032","Bassetlaw District Council"]
[null,null,"E0101","Bath & North East Somerset Council"]
[null,null,"E0202","Bedford Unitary Authority"]
[null,null,"E6102","Bedfordshire and Luton Fire Authority"]
[null,null,"E6002","Bedfordshire Police Authority"]
[null,null,"E5032","Bexley London Borough Council"]
[null,null,"E4601","Birmingham City Council"]
[null,null,"E2431","Blaby District Council"]
[null,null,"E2301","Blackburn with Darwen Unitary Authority"]
[null,null,"E2302","Blackpool Unitary Authority"]
[null,null,"E1032","Bolsover District Council"]
[null,null,"E4201","Bolton Metropolitan Borough Council"]
[null,null,"E2531","Boston Borough Council"]
[null,null,"E1202","Bournemouth Council"]
[null,null,"E0301","Bracknell Forest Borough Council"]
[null,null,"E4701","Bradford City Council"]
[null,null,"E1532","Braintree District Council"]
[null,null,"E2631","Breckland District Council"]
[null,null,"E5033","Brent London Borough Council"]
[null,null,"E1533","Brentwood Borough Council"]
[null,null,"E1401","Brighton & Hove City Council"]
[null,null,"E0102","Bristol City Council"]
[null,null,"E2632","Broadland District Council"]
[null,null,"E6408","Broads Authority (The)"]
[null,null,"E5034","Bromley London Borough Council"]
[null,null,"E1831","Bromsgrove District Council"]
[null,null,"E1931","Broxbourne Borough Council"]
[null,null,"E3033","Broxtowe Borough Council"]
[null,null,"E6104","Buckinghamshire and Milton Keynes Fire Authority"]
[null,null,"E0421","Buckinghamshire County Council"]
[null,null,"E2333","Burnley Borough Council"]
[null,null,"E4202","Bury Metropolitan Borough Council"]
[null,null,"E4702","Calderdale Metropolitan Borough Council"]
[null,null,"E0531","Cambridge City Council"]
[null,null,"E6105","Cambridgeshire and Peterborough Fire Authority"]
[null,null,"E0521","Cambridgeshire County Council"]
[null,null,"E6005","Cambridgeshire Police Authority"]
[null,null,"E5011","Camden London Borough Council"]
[null,null,"E3431","Cannock Chase District Council"]
[null,null,"E2232","Canterbury City Council"]
[null,null,"E0933","Carlisle City Council"]
[null,null,"E1534","Castle Point Borough Council"]
[null,null,"E0203","Central Bedfordshire Unitary Authority"]
[null,null,"E2432","Charnwood Borough Council"]
[null,null,"E1535","Chelmsford Borough Council"]
[null,null,"E1631","Cheltenham Borough Council"]
[null,null,"E3131","Cherwell District Council"]
[null,null,"E0603","Cheshire East Unitary Authority"]
[null,null,"E6106","Cheshire Fire Authority"]
[null,null,"E6006","Cheshire Police Authority"]
[null,null,"E0604","Cheshire West and Chester Unitary Authority"]
[null,null,"E1033","Chesterfield Borough Council"]
[null,null,"E3833","Chichester District Council"]
[null,null,"E0432","Chiltern District Council"]
[null,null,"E2334","Chorley Borough Council"]
[null,null,"E1232","Christchurch Borough Council"]
[null,null,"E2701","City of York Council"]
[null,null,"E6107","Cleveland Fire Authority"]
[null,null,"E6007","Cleveland Police Authority"]
[null,null,"E1536","Colchester Borough Council"]
[null,null,"E5010","Common Council of the City of London"]
[null,null,"E0934","Copeland Borough Council"]
[null,null,"E2831","Corby Borough Council"]
[null,null,"E0801","Cornwall Unitary Authority"]
[null,null,"E1632","Cotswold District Council"]
[null,null,"E6113","County Durham and Darlington Fire and Rescue Authority"]
[null,null,"E1302","County Durham Unitary Authority"]
[null,null,"E4602","Coventry City Council"]
[null,null,"E2731","Craven District Council"]
[null,null,"E3834","Crawley Borough Council"]
[null,null,"E5035","Croydon London Borough Council"]
[null,null,"E0920","Cumbria County Council"]
[null,null,"E6009","Cumbria Police Authority"]
[null,null,"E1932","Dacorum Borough Council"]
[null,null,"E1301","Darlington Borough Council"]
[null,null,"E2233","Dartford Borough Council"]
[null,null,"E6401","Dartmoor National Park Authority"]
[null,null,"E2832","Daventry District Council"]
[null,null,"E1001","Derby City Council"]
[null,null,"E1021","Derbyshire County Council"]
[null,null,"E1035","Derbyshire Dales District Council"]
[null,null,"E6110","Derbyshire Fire Authority"]
[null,null,"E6010","Derbyshire Police Authority"]
[null,null,"E6161","Devon & Somerset Fire and Rescue Authority"]
[null,null,"E6051","Devon and Cornwall Police Authority"]
[null,null,"E1121","Devon County Council"]
[null,null,"E4402","Doncaster Metropolitan Borough Council"]
[null,null,"E1221","Dorset County Council"]
[null,null,"E6112","Dorset Fire Authority"]
[null,null,"E6012","Dorset Police Authority"]
[null,null,"E2234","Dover District Council"]
[null,null,"E4603","Dudley Metropolitan Borough Council"]
[null,null,"E6013","Durham Police Authority"]
[null,null,"E5036","Ealing London Borough Council"]
[null,null,"E0532","East Cambridgeshire District Council"]
[null,null,"E1131","East Devon District Council"]
[null,null,"E1233","East Dorset District Council"]
[null,null,"E1732","East Hampshire District Council"]
[null,null,"E1933","East Hertfordshire District Council"]
[null,null,"E2532","East Lindsey District Council"]
[null,null,"E6201","East London Waste Authority"]
[null,null,"E2833","East Northamptonshire District Council"]
[null,null,"E2001","East Riding of Yorkshire Council"]
[null,null,"E3432","East Staffordshire Borough Council"]
[null,null,"E1421","East Sussex County Council"]
[null,null,"E6114","East Sussex Fire Authority"]
[null,null,"E1432","Eastbourne Borough Council"]
[null,null,"E1733","Eastleigh Borough Council"]
[null,null,"E0935","Eden District Council"]
[null,null,"E3631","Elmbridge Borough Council"]
[null,null,"E5037","Enfield London Borough Council"]
[null,null,"E1537","Epping Forest District Council"]
[null,null,"E3632","Epsom and Ewell Borough Council"]
[null,null,"E1036","Erewash Borough Council"]
[null,null,"E1521","Essex County Council"]
[null,null,"E6115","Essex Fire Authority"]
[null,null,"E6071","Essex Police Authority"]
[null,null,"E1132","Exeter City Council"]
[null,null,"E6402","Exmoor National Park Authority"]
[null,null,"E1734","Fareham Borough Council"]
[null,null,"E0533","Fenland District Council"]
[null,null,"E3532","Forest Heath District Council"]
[null,null,"E1633","Forest of Dean District Council"]
[null,null,"E2335","Fylde Borough Council"]
[null,null,"E4501","Gateshead Council"]
[null,null,"E3034","Gedling Borough Council"]
[null,null,"E1634","Gloucester City Council"]
[null,null,"E1620","Gloucestershire County Council"]
[null,null,"E6016","Gloucestershire Police Authority"]
[null,null,"E1735","Gosport Borough Council"]
[null,null,"E2236","Gravesham Borough Council"]
[null,null,"E2633","Great Yarmouth Borough Council"]
[null,null,"E5100","Greater London Authority"]
[null,null,"E6142","Greater Manchester Fire and Rescue Authority"]
[null,null,"E6042","Greater Manchester Police Authority"]
[null,null,"E6202","Greater Manchester Waste Disposal Authority"]
[null,null,"E5012","Greenwich London Borough Council"]
[null,null,"E3633","Guildford Borough Council"]
[null,null,"E5013","Hackney London Borough Council"]
[null,null,"E0601","Halton Borough Council"]
[null,null,"E2732","Hambleton District Council"]
[null,null,"E5014","Hammersmith and Fulham London Borough Council"]
[null,null,"E1721","Hampshire County Council"]
[null,null,"E6117","Hampshire Fire and Rescue Authority"]
[null,null,"E6052","Hampshire Police Authority"]
[null,null,"E2433","Harborough District Council"]
[null,null,"E5038","Haringey London Borough Council"]
[null,null,"E1538","Harlow District Council"]
[null,null,"E2753","Harrogate Borough Council"]
[null,null,"E5039","Harrow London Borough Council"]
[null,null,"E1736","Hart District Council"]
[null,null,"E0701","Hartlepool Borough Council"]
[null,null,"E1433","Hastings Borough Council"]
[null,null,"E1737","Havant Borough Council"]
[null,null,"E5040","Havering London Borough Council"]
[null,null,"E6118","Hereford and Worcester Fire and Rescue Authority"]
[null,null,"E1801","Herefordshire Council"]
[null,null,"E1920","Hertfordshire County Council"]
[null,null,"E6072","Hertfordshire Police Authority"]
[null,null,"E1934","Hertsmere Borough Council"]
[null,null,"E1037","High Peak Borough Council"]
[null,null,"E5041","Hillingdon London Borough Council"]
[null,null,"E2434","Hinckley and Bosworth Borough Council"]
[null,null,"E3835","Horsham District Council"]
[null,null,"E5042","Hounslow London Borough Council"]
[null,null,"E6120","Humberside Fire Authority"]
[null,null,"E6020","Humberside Police Authority"]
[null,null,"E0551","Huntingdonshire District Council"]
[null,null,"E2336","Hyndburn Borough Council"]
[null,null,"E3533","Ipswich Borough Council"]
[null,null,"E2101","Isle of Wight Council"]
[null,null,"E4001","Isles of Scilly (Council of the)"]
[null,null,"E5015","Islington London Borough Council"]
[null,null,"E5016","Kensington and Chelsea Council (Royal Borough of)"]
[null,null,"E6122","Kent and Medway Fire and Rescue Authority"]
[null,null,"E2221","Kent County Council"]
[null,null,"E6022","Kent Police Authority"]
[null,null,"E2834","Kettering Borough Council"]
[null,null,"E2634","Kings Lynn and West Norfolk Borough Council"]
[null,null,"E2002","Kingston upon Hull City Council"]
[null,null,"E5043","Kingston upon Thames Council (Royal Borough of)"]
[null,null,"E4703","Kirklees Metropolitan Council"]
[null,null,"E4301","Knowsley Metropolitan Borough Council"]
[null,null,"E6403","Lake District National Park Authority"]
[null,null,"E5017","Lambeth London Borough Council"]
[null,null,"E2321","Lancashire County Council"]
[null,null,"E6123","Lancashire Fire Authority"]
[null,null,"E6023","Lancashire Police Authority"]
[null,null,"E2337","Lancaster City Council"]
[null,null,"E6803","Lee Valley Regional Park Authority"]
[null,null,"E4704","Leeds City Council"]
[null,null,"E2401","Leicester City Council"]
[null,null,"E6124","Leicester, Leicestershire and Rutland Combined Fire Authority"]
[null,null,"E2421","Leicestershire County Council"]
[null,null,"E6024","Leicestershire Police Authority"]
[null,null,"E1435","Lewes District Council"]
[null,null,"E5018","Lewisham London Borough Council"]
[null,null,"E3433","Lichfield District Council"]
[null,null,"E2533","Lincoln City Council"]
[null,null,"E2520","Lincolnshire County Council"]
[null,null,"E6025","Lincolnshire Police Authority"]
[null,null,"E4302","Liverpool City Council"]
[null,null,"E5101","London Development Agency"]
[null,null,"E5102","London Fire and Emergency Planning Authority"]
[null,null,"E5106","London Legacy Development Corporation"]
[null,null,"E0201","Luton Borough Council"]
[null,null,"E2237","Maidstone Borough Council"]
[null,null,"E1539","Maldon District Council"]
[null,null,"E1851","Malvern Hills District Council"]
[null,null,"E4203","Manchester City Council"]
[null,null,"E3035","Mansfield District Council"]
[null,null,"E2201","Medway Towns Unitary Authority (The)"]
[null,null,"E2436","Melton Borough Council"]
[null,null,"E3331","Mendip District Council"]
[null,null,"E6143","Merseyside Fire and Civil Defence Authority"]
[null,null,"E6343","Merseyside Integrated Transport Authority"]
[null,null,"E6043","Merseyside Police Authority"]
[null,null,"E6204","Merseyside Waste Disposal Authority"]
[null,null,"E5044","Merton Borough Council"]
[null,null,"E1133","Mid Devon District Council"]
[null,null,"E3534","Mid Suffolk District Council"]
[null,null,"E3836","Mid Sussex District Council"]
[null,null,"E0702","Middlesbrough Council"]
[null,null,"E0401","Milton Keynes Council"]
[null,null,"E3634","Mole Valley District Council"]
[null,null,"E5105","Museum of London"]
[null,null,"E1738","New Forest District Council"]
[null,null,"E6409","New Forest National Park Authority"]
[null,null,"E3036","Newark and Sherwood District Council"]
[null,null,"E4502","Newcastle upon Tyne City Council"]
[null,null,"E3434","Newcastle-under-Lyme Borough Council"]
[null,null,"E5045","Newham London Borough Council"]
[null,null,"E2620","Norfolk County Council"]
[null,null,"E6026","Norfolk Police Authority"]
[null,null,"E1134","North Devon District Council"]
[null,null,"E1234","North Dorset District Council"]
[null,null,"E1038","North East Derbyshire District Council"]
[null,null,"E2003","North East Lincolnshire Council"]
[null,null,"E1935","North Hertfordshire District Council"]
[null,null,"E2534","North Kesteven District Council"]
[null,null,"E2004","North Lincolnshire Council"]
[null,null,"E6205","North London Waste Authority"]
[null,null,"E2635","North Norfolk District Council"]
[null,null,"E0104","North Somerset Council"]
[null,null,"E4503","North Tyneside Metropolitan Borough Council"]
[null,null,"E3731","North Warwickshire Borough Council"]
[null,null,"E2437","North West Leicestershire District Council"]
[null,null,"E6404","North York Moors National Park Authority"]
[null,null,"E2721","North Yorkshire County Council"]
[null,null,"E6127","North Yorkshire Fire and Rescue Authority"]
[null,null,"E6027","North Yorkshire Police Authority"]
[null,null,"E2835","Northampton Borough Council"]
[null,null,"E2820","Northamptonshire County Council"]
[null,null,"E6028","Northamptonshire Police Authority"]
[null,null,"E6405","Northumberland National Park Authority"]
[null,null,"E2901","Northumberland Unitary Authority"]
[null,null,"E6045","Northumbria Police Authority"]
[null,null,"E2636","Norwich City Council"]
[null,null,"E3001","Nottingham City Council"]
[null,null,"E6130","Nottinghamshire and City of Nottingham Fire and Rescue Authority"]
[null,null,"E3021","Nottinghamshire County Council"]
[null,null,"E6030","Nottinghamshire Police Authority"]
[null,null,"E3732","Nuneaton and Bedworth Borough Council"]
[null,null,"E2438","Oadby and Wigston Borough Council"]
[null,null,"E4204","Oldham Metropolitan Borough Council"]
[null,null,"E3132","Oxford City Council"]
[null,null,"E3120","Oxfordshire County Council"]
[null,null,"E6406","Peak District National Park Authority"]
[null,null,"E2338","Pendle Borough Council"]
[null,null,"E0501","Peterborough City Council"]
[null,null,"E1101","Plymouth City Council"]
[null,null,"E1201","Poole (Borough of)"]
[null,null,"E1701","Portsmouth City Council"]
[null,null,"E2339","Preston City Council"]
[null,null,"E1236","Purbeck District Council"]
[null,null,"E0303","Reading Borough Council"]
[null,null,"E5046","Redbridge London Borough Council"]
[null,null,"E0703","Redcar and Cleveland Borough Council"]
[null,null,"E1835","Redditch Borough Council"]
[null,null,"E3635","Reigate and Banstead Borough Council"]
[null,null,"E2340","Ribble Valley Borough Council"]
[null,null,"E5047","Richmond upon Thames Borough Council"]
[null,null,"E2734","Richmondshire District Council"]
[null,null,"E4205","Rochdale Borough Council"]
[null,null,"E1540","Rochford District Council"]
[null,null,"E2341","Rossendale Borough Council"]
[null,null,"E1436","Rother District Council"]
[null,null,"E4403","Rotherham Borough Council"]
[null,null,"E6103","Royal Berkshire Fire Authority"]
[null,null,"E3733","Rugby Borough Council"]
[null,null,"E3636","Runnymede Borough Council"]
[null,null,"E3038","Rushcliffe Borough Council"]
[null,null,"E1740","Rushmoor Borough Council"]
[null,null,"E2402","Rutland County Council"]
[null,null,"E2755","Ryedale District Council"]
[null,null,"E4206","Salford City Council"]
[null,null,"E4604","Sandwell Metropolitan Borough Council"]
[null,null,"E2736","Scarborough Borough Council"]
[null,null,"E3332","Sedgemoor District Council"]
[null,null,"E4304","Sefton Metropolitan Borough Council"]
[null,null,"E2757","Selby District Council"]
[null,null,"E2239","Sevenoaks District Council"]
[null,null,"E4404","Sheffield City Council"]
[null,null,"E2240","Shepway District Council"]
[null,null,"E6132","Shropshire and Wrekin Fire Authority"]
[null,null,"E3202","Shropshire Unitary Authority"]
[null,null,"E0304","Slough Borough Council"]
[null,null,"E4605","Solihull Metropolitan Borough Council"]
[null,null,"E3320","Somerset County Council"]
[null,null,"E0434","South Bucks District Council"]
[null,null,"E0536","South Cambridgeshire District Council"]
[null,null,"E1039","South Derbyshire District Council"]
[null,null,"E6410","South Downs National Park"]
[null,null,"E0103","South Gloucestershire Council"]
[null,null,"E1136","South Hams District Council"]
[null,null,"E2535","South Holland District Council"]
[null,null,"E2536","South Kesteven District Council"]
[null,null,"E0936","South Lakeland District Council"]
[null,null,"E2637","South Norfolk District Council"]
[null,null,"E2836","South Northamptonshire Council"]
[null,null,"E3133","South Oxfordshire District Council"]
[null,null,"E2342","South Ribble Borough Council"]
[null,null,"E3334","South Somerset District Council"]
[null,null,"E3435","South Staffordshire District Council"]
[null,null,"E4504","South Tyneside Council"]
[null,null,"E6144","South Yorkshire Fire and Civil Defence Authority"]
[null,null,"E6344","South Yorkshire Integrated Transport Authority"]
[null,null,"E6044","South Yorkshire Police Authority"]
[null,null,"E1702","Southampton City Council"]
[null,null,"E1501","Southend-on-Sea Borough Council"]
[null,null,"E5019","Southwark London Borough Council"]
[null,null,"E3637","Spelthorne Borough Council"]
[null,null,"E1936","St Albans City and District Council"]
[null,null,"E3535","St Edmundsbury Borough Council"]
[null,null,"E4303","St Helens Metropolitan Borough Council"]
[null,null,"E3436","Stafford Borough Council"]
[null,null,"E3421","Staffordshire County Council"]
[null,null,"E3437","Staffordshire Moorlands District Council"]
[null,null,"E6034","Staffordshire Police Authority"]
[null,null,"E1937","Stevenage Borough Council"]
[null,null,"E4207","Stockport Metropolitan Borough Council"]
[null,null,"E0704","Stockton-on-Tees Borough Council"]
[null,null,"E6134","Stoke-on-Trent and Staffordshire Fire Authority"]
[null,null,"E3401","Stoke-on-Trent Unitary Authority"]
[null,null,"E3734","Stratford-on-Avon District Council"]
[null,null,"E1635","Stroud District Council"]
[null,null,"E3536","Suffolk Coastal District Council"]
[null,null,"E3520","Suffolk County Council"]
[null,null,"E6035","Suffolk Police Authority"]
[null,null,"E4505","Sunderland City Metropolitan Borough Council"]
[null,null,"E3620","Surrey County Council"]
[null,null,"E3638","Surrey Heath Borough Council"]
[null,null,"E6073","Surrey Police Authority"]
[null,null,"E6053","Sussex Police Authority"]
[null,null,"E5048","Sutton London Borough Council"]
[null,null,"E2241","Swale Borough Council"]
[null,null,"E3901","Swindon Unitary Authority"]
[null,null,"E4208","Tameside Metropolitan Borough Council"]
[null,null,"E3439","Tamworth Borough Council"]
[null,null,"E3639","Tandridge District Council"]
[null,null,"E3333","Taunton Deane Borough Council"]
[null,null,"E1137","Teignbridge District Council"]
[null,null,"E3201","Telford and Wrekin (Borough of)"]
[null,null,"E1542","Tendring District Council"]
[null,null,"E1742","Test Valley Borough Council"]
[null,null,"E1636","Tewkesbury Borough Council"]
[null,null,"E6054","Thames Valley Police Authority"]
[null,null,"E2242","Thanet District Council"]
[null,null,"E1938","Three Rivers District Council"]
[null,null,"E1502","Thurrock Unitary Authority"]
[null,null,"E2243","Tonbridge and Malling Borough Council"]
[null,null,"E1102","Torbay Council"]
[null,null,"E1139","Torridge District Council"]
[null,null,"E5020","Tower Hamlets London Borough Council"]
[null,null,"E4209","Trafford Metropolitan Borough Council"]
[null,null,"E5104","Transport for London"]
[null,null,"E2244","Tunbridge Wells Borough Council"]
[null,null,"E6345","Tyne & Wear Integrated Transport Authority"]
[null,null,"E6145","Tyne and Wear Fire and Civil Defence Authority"]
[null,null,"E1544","Uttlesford District Council"]
[null,null,"E3134","Vale of White Horse District Council"]
[null,null,"E4705","Wakefield City Council"]
[null,null,"E4606","Walsall Metropolitan Borough Council"]
[null,null,"E5049","Waltham Forest London Borough Council"]
[null,null,"E5021","Wandsworth London Borough Council"]
[null,null,"E0602","Warrington Borough Council"]
[null,null,"E3735","Warwick District Council"]
[null,null,"E3720","Warwickshire County Council"]
[null,null,"E6037","Warwickshire Police Authority"]
[null,null,"E1939","Watford Borough Council"]
[null,null,"E3537","Waveney District Council"]
[null,null,"E3640","Waverley Borough Council"]
[null,null,"E1437","Wealden District Council"]
[null,null,"E2837","Wellingborough Borough Council"]
[null,null,"E1940","Welwyn Hatfield District Council"]
[null,null,"E0302","West Berkshire Council"]
[null,null,"E1140","West Devon Borough Council"]
[null,null,"E1237","West Dorset District Council"]
[null,null,"E2343","West Lancashire District Council"]
[null,null,"E2537","West Lindsey District Council"]
[null,null,"E6207","West London Waste Authority"]
[null,null,"E6055","West Mercia Police Authority"]
[null,null,"E6146","West Midlands Fire and Civil Defence Authority"]
[null,null,"E6346","West Midlands Integrated Transport Authority"]
[null,null,"E6046","West Midlands Police Authority"]
[null,null,"E3135","West Oxfordshire District Council"]
[null,null,"E3335","West Somerset District Council"]
[null,null,"E3820","West Sussex County Council"]
[null,null,"E6147","West Yorkshire Fire and Civil Defence Authority"]
[null,null,"E6347","West Yorkshire Integrated Transport Authority"]
[null,null,"E6047","West Yorkshire Police Authority"]
[null,null,"E6206","Western Riverside Waste Authority"]
[null,null,"E5022","Westminster City Council"]
[null,null,"E1238","Weymouth and Portland Borough Council"]
[null,null,"E4210","Wigan Metropolitan Borough Council"]
[null,null,"E6139","Wiltshire and Swindon Fire Authority"]
[null,null,"E6039","Wiltshire Police Authority"]
[null,null,"E3902","Wiltshire Unitary Authority"]
[null,null,"E1743","Winchester City Council"]
[null,null,"E0305","Windsor and Maidenhead (Royal Borough of)"]
[null,null,"E4305","Wirral Metropolitan Borough Council"]
[null,null,"E3641","Woking Borough Council"]
[null,null,"E0306","Wokingham Council"]
[null,null,"E4607","Wolverhampton City Council"]
[null,null,"E1837","Worcester City Council"]
[null,null,"E1821","Worcestershire County Council"]
[null,null,"E3837","Worthing Borough Council"]
[null,null,"E1838","Wychavon District Council"]
[null,null,"E0435","Wycombe District Council"]
[null,null,"E2344","Wyre Borough Council"]
[null,null,"E1839","Wyre Forest District Council"]
[null,null,"E6407","Yorkshire Dales National Park Authority"]
[null,null,"E6348","Greater Manchester Combined Authority"]
[null,null,"E7060","Mayor’s Office for Policing and Crime and Metropolis Police Commissioner"]

{"sheet":"Num Data","index":4,"n_rows":1400,"n_cols":7,"rows_kept":1400,"cut":false,"hidden":true,"merged":[]}
["Academy ID 1","Academy ID 2","Academy Name 1","Academy Name 2","Sheet Name","Cell ID","Value"]
[{"$f":"'Standing data'!$D$10","v":{"$error":"#N/A"}},{"$f":"'Standing data'!$F$10","v":0},{"$f":"'Standing data'!$D$6","v":"Academy name"},{"$f":"'Standing data'!$F$6","v":0},"Forecast","D10",{"$f":"#REF!","v":{"$error":"#REF!"}}]
[{"$f":"'Standing data'!$D$10","v":{"$error":"#N/A"}},{"$f":"'Standing data'!$F$10","v":0},{"$f":"'Standing data'!$D$6","v":"Academy name"},{"$f":"'Standing data'!$F$6","v":0},"Forecast","D11",{"$f":"#REF!","v":{"$error":"#REF!"}}]
[{"$f":"'Standing data'!$D$10","v":{"$error":"#N/A"}},{"$f":"'Standing data'!$F$10","v":0},{"$f":"'Standing data'!$D$6","v":"Academy name"},{"$f":"'Standing data'!$F$6","v":0},"Forecast","D12",{"$f":"#REF!","v":{"$error":"#REF!"}}]
[{"$f":"'Standing data'!$D$10","v":{"$error":"#N/A"}},{"$f":"'Standing data'!$F$10","v":0},{"$f":"'Standing data'!$D$6","v":"Academy name"},{"$f":"'Standing data'!$F$6","v":0},"Forecast","D13",{"$f":"#REF!","v":{"$error":"#REF!"}}]
[{"$f":"'Standing data'!$D$10","v":{"$error":"#N/A"}},{"$f":"'Standing data'!$F$10","v":0},{"$f":"'Standing data'!$D$6","v":"Academy name"},{"$f":"'Standing data'!$F$6","v":0},"Forecast","D14",{"$f":"#REF!","v":{"$error":"#REF!"}}]
[{"$f":"'Standing data'!$D$10","v":{"$error":"#N/A"}},{"$f":"'Standing data'!$F$10","v":0},{"$f":"'Standing data'!$D$6","v":"Academy name"},{"$f":"'Standing data'!$F$6","v":0},"Forecast","D15",{"$f":"#REF!","v":{"$error":"#REF!"}}]
[{"$f":"'Standing data'!$D$10","v":{"$error":"#N/A"}},{"$f":"'Standing data'!$F$10","v":0},{"$f":"'Standing data'!$D$6","v":"Academy name"},{"$f":"'Standing data'!$F$6","v":0},"Forecast","D16",{"$f":"#REF!","v":{"$error":"#REF!"}}]
[{"$f":"'Standing data'!$D$10","v":{"$error":"#N/A"}},{"$f":"'Standing data'!$F$10","v":0},{"$f":"'Standing data'!$D$6","v":"Academy name"},{"$f":"'Standing data'!$F$6","v":0},"Forecast","D17",{"$f":"#REF!","v":{"$error":"#REF!"}}]
[{"$f":"'Standing data'!$D$10","v":{"$error":"#N/A"}},{"$f":"'Standing data'!$F$10","v":0},{"$f":"'Standing data'!$D$6","v":"Academy name"},{"$f":"'Standing data'!$F$6","v":0},"Forecast","D18",{"$f":"#REF!","v":{"$error":"#REF!"}}]
[{"$f":"'Standing data'!$D$10","v":{"$error":"#N/A"}},{"$f":"'Standing data'!$F$10","v":0},{"$f":"'Standing data'!$D$6","v":"Academy name"},{"$f":"'Standing data'!$F$6","v":0},"Forecast","D19",{"$f":"#REF!","v":{"$error":"#REF!"}}]
[{"$f":"'Standing data'!$D$10","v":{"$error":"#N/A"}},{"$f":"'Standing data'!$F$10","v":0},{"$f":"'Standing data'!$D$6","v":"Academy name"},{"$f":"'Standing data'!$F$6","v":0},"Forecast","D32",{"$f":"#REF!","v":{"$error":"#REF!"}}]
[{"$f":"'Standing data'!$D$10","v":{"$error":"#N/A"}},{"$f":"'Standing data'!$F$10","v":0},{"$f":"'Standing data'!$D$6","v":"Academy name"},{"$f":"'Standing data'!$F$6","v":0},"Forecast","D33",{"$f":"#REF!","v":{"$error":"#REF!"}}]
[{"$f":"'Standing data'!$D$10","v":{"$error":"#N/A"}},{"$f":"'Standing data'!$F$10","v":0},{"$f":"'Standing data'!$D$6","v":"Academy name"},{"$f":"'Standing data'!$F$6","v":0},"Forecast","D34",{"$f":"#REF!","v":{"$error":"#REF!"}}]
[{"$f":"'Standing data'!$D$10","v":{"$error":"#N/A"}},{"$f":"'Standing data'!$F$10","v":0},{"$f":"'Standing data'!$D$6","v":"Academy name"},{"$f":"'Standing data'!$F$6","v":0},"Forecast","D35",{"$f":"#REF!","v":{"$error":"#REF!"}}]
[{"$f":"'Standing data'!$D$10","v":{"$error":"#N/A"}},{"$f":"'Standing data'!$F$10","v":0},{"$f":"'Standing data'!$D$6","v":"Academy name"},{"$f":"'Standing data'!$F$6","v":0},"Forecast","D36",{"$f":"#REF!","v":{"$error":"#REF!"}}]
[{"$f":"'Standing data'!$D$10","v":{"$error":"#N/A"}},{"$f":"'Standing data'!$F$10","v":0},{"$f":"'Standing data'!$D$6","v":"Academy name"},{"$f":"'Standing data'!$F$6","v":0},"Forecast","D37",{"$f":"#REF!","v":{"$error":"#REF!"}}]
[{"$f":"'Standing data'!$D$10","v":{"$error":"#N/A"}},{"$f":"'Standing data'!$F$10","v":0},{"$f":"'Standing data'!$D$6","v":"Academy name"},{"$f":"'Standing data'!$F$6","v":0},"Forecast","D38",{"$f":"#REF!","v":{"$error":"#REF!"}}]
[{"$f":"'Standing data'!$D$10","v":{"$error":"#N/A"}},{"$f":"'Standing data'!$F$10","v":0},{"$f":"'Standing data'!$D$6","v":"Academy name"},{"$f":"'Standing data'!$F$6","v":0},"Forecast","D39",{"$f":"#REF!","v":{"$error":"#REF!"}}]
[{"$f":"'Standing data'!$D$10","v":{"$error":"#N/A"}},{"$f":"'Standing data'!$F$10","v":0},{"$f":"'Standing data'!$D$6","v":"Academy name"},{"$f":"'Standing data'!$F$6","v":0},"Forecast","D40",{"$f":"#REF!","v":{"$error":"#REF!"}}]
[{"$f":"'Standing data'!$D$10","v":{"$error":"#N/A"}},{"$f":"'Standing data'!$F$10","v":0},{"$f":"'Standing data'!$D$6","v":"Academy name"},{"$f":"'Standing data'!$F$6","v":0},"Forecast","D41",{"$f":"#REF!","v":{"$error":"#REF!"}}]
[{"$f":"'Standing data'!$D$10","v":{"$error":"#N/A"}},{"$f":"'Standing data'!$F$10","v":0},{"$f":"'Standing data'!$D$6","v":"Academy name"},{"$f":"'Standing data'!$F$6","v":0},"Forecast","D42",{"$f":"#REF!","v":{"$error":"#REF!"}}]
[{"$f":"'Standing data'!$D$10","v":{"$error":"#N/A"}},{"$f":"'Standing data'!$F$10","v":0},{"$f":"'Standing data'!$D$6","v":"Academy name"},{"$f":"'Standing data'!$F$6","v":0},"Forecast","D43",{"$f":"#REF!","v":{"$error":"#REF!"}}]
[{"$f":"'Standing data'!$D$10","v":{"$error":"#N/A"}},{"$f":"'Standing data'!$F$10","v":0},{"$f":"'Standing data'!$D$6","v":"Academy name"},{"$f":"'Standing data'!$F$6","v":0},"Forecast","D45",{"$f":"#REF!","v":{"$error":"#REF!"}}]
[{"$f":"'Standing data'!$D$10","v":{"$error":"#N/A"}},{"$f":"'Standing data'!$F$10","v":0},{"$f":"'Standing data'!$D$6","v":"Academy name"},{"$f":"'Standing data'!$F$6","v":0},"Forecast","D46",{"$f":"#REF!","v":{"$error":"#REF!"}}]
[{"$f":"'Standing data'!$D$10","v":{"$error":"#N/A"}},{"$f":"'Standing data'!$F$10","v":0},{"$f":"'Standing data'!$D$6","v":"Academy name"},{"$f":"'Standing data'!$F$6","v":0},"Forecast","D47",{"$f":"#REF!","v":{"$error":"#REF!"}}]
[{"$f":"'Standing data'!$D$10","v":{"$error":"#N/A"}},{"$f":"'Standing data'!$F$10","v":0},{"$f":"'Standing data'!$D$6","v":"Academy name"},{"$f":"'Standing data'!$F$6","v":0},"Forecast","D48",{"$f":"#REF!","v":{"$error":"#REF!"}}]
[{"$f":"'Standing data'!$D$10","v":{"$error":"#N/A"}},{"$f":"'Standing data'!$F$10","v":0},{"$f":"'Standing data'!$D$6","v":"Academy name"},{"$f":"'Standing data'!$F$6","v":0},"Forecast","D49",{"$f":"#REF!","v":{"$error":"#REF!"}}]
[{"$f":"'Standing data'!$D$10","v":{"$error":"#N/A"}},{"$f":"'Standing data'!$F$10","v":0},{"$f":"'Standing data'!$D$6","v":"Academy name"},{"$f":"'Standing data'!$F$6","v":0},"Forecast","D50",{"$f":"#REF!","v":{"$error":"#REF!"}}]
[{"$f":"'Standing data'!$D$10","v":{"$error":"#N/A"}},{"$f":"'Standing data'!$F$10","v":0},{"$f":"'Standing data'!$D$6","v":"Academy name"},{"$f":"'Standing data'!$F$6","v":0},"Forecast","D51",{"$f":"#REF!","v":{"$error":"#REF!"}}]
[{"$f":"'Standing data'!$D$10","v":{"$error":"#N/A"}},{"$f":"'Standing data'!$F$10","v":0},{"$f":"'Standing data'!$D$6","v":"Academy name"},{"$f":"'Standing data'!$F$6","v":0},"Forecast","D52",{"$f":"#REF!","v":{"$error":"#REF!"}}]
[{"$f":"'Standing data'!$D$10","v":{"$error":"#N/A"}},{"$f":"'Standing data'!$F$10","v":0},{"$f":"'Standing data'!$D$6","v":"Academy name"},{"$f":"'Standing data'!$F$6","v":0},"Forecast","D53",{"$f":"#REF!","v":{"$error":"#REF!"}}]
[{"$f":"'Standing data'!$D$10","v":{"$error":"#N/A"}},{"$f":"'Standing data'!$F$10","v":0},{"$f":"'Standing data'!$D$6","v":"Academy name"},{"$f":"'Standing data'!$F$6","v":0},"Forecast","D54",{"$f":"#REF!","v":{"$error":"#REF!"}}]
[{"$f":"'Standing data'!$D$10","v":{"$error":"#N/A"}},{"$f":"'Standing data'!$F$10","v":0},{"$f":"'Standing data'!$D$6","v":"Academy name"},{"$f":"'Standing data'!$F$6","v":0},"Forecast","D55",{"$f":"#REF!","v":{"$error":"#REF!"}}]
[{"$f":"'Standing data'!$D$10","v":{"$error":"#N/A"}},{"$f":"'Standing data'!$F$10","v":0},{"$f":"'Standing data'!$D$6","v":"Academy name"},{"$f":"'Standing data'!$F$6","v":0},"Forecast","D57",{"$f":"#REF!","v":{"$error":"#REF!"}}]
[{"$f":"'Standing data'!$D$10","v":{"$error":"#N/A"}},{"$f":"'Standing data'!$F$10","v":0},{"$f":"'Standing data'!$D$6","v":"Academy name"},{"$f":"'Standing data'!$F$6","v":0},"Forecast","D60",{"$f":"#REF!","v":{"$error":"#REF!"}}]
[{"$f":"'Standing data'!$D$10","v":{"$error":"#N/A"}},{"$f":"'Standing data'!$F$10","v":0},{"$f":"'Standing data'!$D$6","v":"Academy name"},{"$f":"'Standing data'!$F$6","v":0},"Forecast","D61",{"$f":"#REF!","v":{"$error":"#REF!"}}]
[{"$f":"'Standing data'!$D$10","v":{"$error":"#N/A"}},{"$f":"'Standing data'!$F$10","v":0},{"$f":"'Standing data'!$D$6","v":"Academy name"},{"$f":"'Standing data'!$F$6","v":0},"Forecast","D62",{"$f":"#REF!","v":{"$error":"#REF!"}}]
[{"$f":"'Standing data'!$D$10","v":{"$error":"#N/A"}},{"$f":"'Standing data'!$F$10","v":0},{"$f":"'Standing data'!$D$6","v":"Academy name"},{"$f":"'Standing data'!$F$6","v":0},"Forecast","D63",{"$f":"#REF!","v":{"$error":"#REF!"}}]
[{"$f":"'Standing data'!$D$10","v":{"$error":"#N/A"}},{"$f":"'Standing data'!$F$10","v":0},{"$f":"'Standing data'!$D$6","v":"Academy name"},{"$f":"'Standing data'!$F$6","v":0},"Forecast","D64",{"$f":"#REF!","v":{"$error":"#REF!"}}]
[{"$f":"'Standing data'!$D$10","v":{"$error":"#N/A"}},{"$f":"'Standing data'!$F$10","v":0},{"$f":"'Standing data'!$D$6","v":"Academy name"},{"$f":"'Standing data'!$F$6","v":0},"Forecast","D65",{"$f":"#REF!","v":{"$error":"#REF!"}}]
[{"$f":"'Standing data'!$D$10","v":{"$error":"#N/A"}},{"$f":"'Standing data'!$F$10","v":0},{"$f":"'Standing data'!$D$6","v":"Academy name"},{"$f":"'Standing data'!$F$6","v":0},"Forecast","D66",{"$f":"#REF!","v":{"$error":"#REF!"}}]
[{"$f":"'Standing data'!$D$10","v":{"$error":"#N/A"}},{"$f":"'Standing data'!$F$10","v":0},{"$f":"'Standing data'!$D$6","v":"Academy name"},{"$f":"'Standing data'!$F$6","v":0},"Forecast","D67",{"$f":"#REF!","v":{"$error":"#REF!"}}]
[{"$f":"'Standing data'!$D$10","v":{"$error":"#N/A"}},{"$f":"'Standing data'!$F$10","v":0},{"$f":"'Standing data'!$D$6","v":"Academy name"},{"$f":"'Standing data'!$F$6","v":0},"Forecast","D69",{"$f":"#REF!","v":{"$error":"#REF!"}}]
[{"$f":"'Standing data'!$D$10","v":{"$error":"#N/A"}},{"$f":"'Standing data'!$F$10","v":0},{"$f":"'Standing data'!$D$6","v":"Academy name"},{"$f":"'Standing data'!$F$6","v":0},"Forecast","D70",{"$f":"#REF!","v":{"$error":"#REF!"}}]
[{"$f":"'Standing data'!$D$10","v":{"$error":"#N/A"}},{"$f":"'Standing data'!$F$10","v":0},{"$f":"'Standing data'!$D$6","v":"Academy name"},{"$f":"'Standing data'!$F$6","v":0},"Forecast","D71",{"$f":"#REF!","v":{"$error":"#REF!"}}]
[{"$f":"'Standing data'!$D$10","v":{"$error":"#N/A"}},{"$f":"'Standing data'!$F$10","v":0},{"$f":"'Standing data'!$D$6","v":"Academy name"},{"$f":"'Standing data'!$F$6","v":0},"Forecast","D72",{"$f":"#REF!","v":{"$error":"#REF!"}}]
[{"$f":"'Standing data'!$D$10","v":{"$error":"#N/A"}},{"$f":"'Standing data'!$F$10","v":0},{"$f":"'Standing data'!$D$6","v":"Academy name"},{"$f":"'Standing data'!$F$6","v":0},"Forecast","D73",{"$f":"#REF!","v":{"$error":"#REF!"}}]
[{"$f":"'Standing data'!$D$10","v":{"$error":"#N/A"}},{"$f":"'Standing data'!$F$10","v":0},{"$f":"'Standing data'!$D$6","v":"Academy name"},{"$f":"'Standing data'!$F$6","v":0},"Forecast","D74",{"$f":"#REF!","v":{"$error":"#REF!"}}]
[{"$f":"'Standing data'!$D$10","v":{"$error":"#N/A"}},{"$f":"'Standing data'!$F$10","v":0},{"$f":"'Standing data'!$D$6","v":"Academy name"},{"$f":"'Standing data'!$F$6","v":0},"Forecast","D75",{"$f":"#REF!","v":{"$error":"#REF!"}}]
[{"$f":"'Standing data'!$D$10","v":{"$error":"#N/A"}},{"$f":"'Standing data'!$F$10","v":0},{"$f":"'Standing data'!$D$6","v":"Academy name"},{"$f":"'Standing data'!$F$6","v":0},"Forecast","D76",{"$f":"#REF!","v":{"$error":"#REF!"}}]
[{"$f":"'Standing data'!$D$10","v":{"$error":"#N/A"}},{"$f":"'Standing data'!$F$10","v":0},{"$f":"'Standing data'!$D$6","v":"Academy name"},{"$f":"'Standing data'!$F$6","v":0},"Forecast","D77",{"$f":"#REF!","v":{"$error":"#REF!"}}]
[{"$f":"'Standing data'!$D$10","v":{"$error":"#N/A"}},{"$f":"'Standing data'!$F$10","v":0},{"$f":"'Standing data'!$D$6","v":"Academy name"},{"$f":"'Standing data'!$F$6","v":0},"Forecast","D78",{"$f":"#REF!","v":{"$error":"#REF!"}}]
[{"$f":"'Standing data'!$D$10","v":{"$error":"#N/A"}},{"$f":"'Standing data'!$F$10","v":0},{"$f":"'Standing data'!$D$6","v":"Academy name"},{"$f":"'Standing data'!$F$6","v":0},"Forecast","D79",{"$f":"#REF!","v":{"$error":"#REF!"}}]
[{"$f":"'Standing data'!$D$10","v":{"$error":"#N/A"}},{"$f":"'Standing data'!$F$10","v":0},{"$f":"'Standing data'!$D$6","v":"Academy name"},{"$f":"'Standing data'!$F$6","v":0},"Forecast","D80",{"$f":"#REF!","v":{"$error":"#REF!"}}]
[{"$f":"'Standing data'!$D$10","v":{"$error":"#N/A"}},{"$f":"'Standing data'!$F$10","v":0},{"$f":"'Standing data'!$D$6","v":"Academy name"},{"$f":"'Standing data'!$F$6","v":0},"Forecast","D81",{"$f":"#REF!","v":{"$error":"#REF!"}}]
[{"$f":"'Standing data'!$D$10","v":{"$error":"#N/A"}},{"$f":"'Standing data'!$F$10","v":0},{"$f":"'Standing data'!$D$6","v":"Academy name"},{"$f":"'Standing data'!$F$6","v":0},"Forecast","D82",{"$f":"#REF!","v":{"$error":"#REF!"}}]
[{"$f":"'Standing data'!$D$10","v":{"$error":"#N/A"}},{"$f":"'Standing data'!$F$10","v":0},{"$f":"'Standing data'!$D$6","v":"Academy name"},{"$f":"'Standing data'!$F$6","v":0},"Forecast","D83",{"$f":"#REF!","v":{"$error":"#REF!"}}]
[{"$f":"'Standing data'!$D$10","v":{"$error":"#N/A"}},{"$f":"'Standing data'!$F$10","v":0},{"$f":"'Standing data'!$D$6","v":"Academy name"},{"$f":"'Standing data'!$F$6","v":0},"Forecast","D85",{"$f":"#REF!","v":{"$error":"#REF!"}}]
[{"$f":"'Standing data'!$D$10","v":{"$error":"#N/A"}},{"$f":"'Standing data'!$F$10","v":0},{"$f":"'Standing data'!$D$6","v":"Academy name"},{"$f":"'Standing data'!$F$6","v":0},"Forecast","D86",{"$f":"#REF!","v":{"$error":"#REF!"}}]
[{"$f":"'Standing data'!$D$10","v":{"$error":"#N/A"}},{"$f":"'Standing data'!$F$10","v":0},{"$f":"'Standing data'!$D$6","v":"Academy name"},{"$f":"'Standing data'!$F$6","v":0},"Forecast","D87",{"$f":"#REF!","v":{"$error":"#REF!"}}]
[{"$f":"'Standing data'!$D$10","v":{"$error":"#N/A"}},{"$f":"'Standing data'!$F$10","v":0},{"$f":"'Standing data'!$D$6","v":"Academy name"},{"$f":"'Standing data'!$F$6","v":0},"Forecast","D88",{"$f":"#REF!","v":{"$error":"#REF!"}}]
[{"$f":"'Standing data'!$D$10","v":{"$error":"#N/A"}},{"$f":"'Standing data'!$F$10","v":0},{"$f":"'Standing data'!$D$6","v":"Academy name"},{"$f":"'Standing data'!$F$6","v":0},"Forecast","D89",{"$f":"#REF!","v":{"$error":"#REF!"}}]
[{"$f":"'Standing data'!$D$10","v":{"$error":"#N/A"}},{"$f":"'Standing data'!$F$10","v":0},{"$f":"'Standing data'!$D$6","v":"Academy name"},{"$f":"'Standing data'!$F$6","v":0},"Forecast","D96",{"$f":"#REF!","v":{"$error":"#REF!"}}]
[{"$f":"'Standing data'!$D$10","v":{"$error":"#N/A"}},{"$f":"'Standing data'!$F$10","v":0},{"$f":"'Standing data'!$D$6","v":"Academy name"},{"$f":"'Standing data'!$F$6","v":0},"Forecast","D97",{"$f":"#REF!","v":{"$error":"#REF!"}}]
[{"$f":"'Standing data'!$D$10","v":{"$error":"#N/A"}},{"$f":"'Standing data'!$F$10","v":0},{"$f":"'Standing data'!$D$6","v":"Academy name"},{"$f":"'Standing data'!$F$6","v":0},"Forecast","D98",{"$f":"#REF!","v":{"$error":"#REF!"}}]
[{"$f":"'Standing data'!$D$10","v":{"$error":"#N/A"}},{"$f":"'Standing data'!$F$10","v":0},{"$f":"'Standing data'!$D$6","v":"Academy name"},{"$f":"'Standing data'!$F$6","v":0},"Forecast","D99",{"$f":"#REF!","v":{"$error":"#REF!"}}]
[{"$f":"'Standing data'!$D$10","v":{"$error":"#N/A"}},{"$f":"'Standing data'!$F$10","v":0},{"$f":"'Standing data'!$D$6","v":"Academy name"},{"$f":"'Standing data'!$F$6","v":0},"Forecast","D100",{"$f":"#REF!","v":{"$error":"#REF!"}}]
[{"$f":"'Standing data'!$D$10","v":{"$error":"#N/A"}},{"$f":"'Standing data'!$F$10","v":0},{"$f":"'Standing data'!$D$6","v":"Academy name"},{"$f":"'Standing data'!$F$6","v":0},"Forecast","D101",{"$f":"#REF!","v":{"$error":"#REF!"}}]
[{"$f":"'Standing data'!$D$10","v":{"$error":"#N/A"}},{"$f":"'Standing data'!$F$10","v":0},{"$f":"'Standing data'!$D$6","v":"Academy name"},{"$f":"'Standing data'!$F$6","v":0},"Forecast","D102",{"$f":"#REF!","v":{"$error":"#REF!"}}]
[{"$f":"'Standing data'!$D$10","v":{"$error":"#N/A"}},{"$f":"'Standing data'!$F$10","v":0},{"$f":"'Standing data'!$D$6","v":"Academy name"},{"$f":"'Standing data'!$F$6","v":0},"Forecast","D103",{"$f":"#REF!","v":{"$error":"#REF!"}}]
[{"$f":"'Standing data'!$D$10","v":{"$error":"#N/A"}},{"$f":"'Standing data'!$F$10","v":0},{"$f":"'Standing data'!$D$6","v":"Academy name"},{"$f":"'Standing data'!$F$6","v":0},"Forecast","D104",{"$f":"#REF!","v":{"$error":"#REF!"}}]
[{"$f":"'Standing data'!$D$10","v":{"$error":"#N/A"}},{"$f":"'Standing data'!$F$10","v":0},{"$f":"'Standing data'!$D$6","v":"Academy name"},{"$f":"'Standing data'!$F$6","v":0},"Forecast","D106",{"$f":"#REF!","v":{"$error":"#REF!"}}]
[{"$f":"'Standing data'!$D$10","v":{"$error":"#N/A"}},{"$f":"'Standing data'!$F$10","v":0},{"$f":"'Standing data'!$D$6","v":"Academy name"},{"$f":"'Standing data'!$F$6","v":0},"Forecast","D107",{"$f":"#REF!","v":{"$error":"#REF!"}}]
[{"$f":"'Standing data'!$D$10","v":{"$error":"#N/A"}},{"$f":"'Standing data'!$F$10","v":0},{"$f":"'Standing data'!$D$6","v":"Academy name"},{"$f":"'Standing data'!$F$6","v":0},"Forecast","D108",{"$f":"#REF!","v":{"$error":"#REF!"}}]
[{"$f":"'Standing data'!$D$10","v":{"$error":"#N/A"}},{"$f":"'Standing data'!$F$10","v":0},{"$f":"'Standing data'!$D$6","v":"Academy name"},{"$f":"'Standing data'!$F$6","v":0},"Forecast","D109",{"$f":"#REF!","v":{"$error":"#REF!"}}]
[{"$f":"'Standing data'!$D$10","v":{"$error":"#N/A"}},{"$f":"'Standing data'!$F$10","v":0},{"$f":"'Standing data'!$D$6","v":"Academy name"},{"$f":"'Standing data'!$F$6","v":0},"Forecast","D110",{"$f":"#REF!","v":{"$error":"#REF!"}}]
[{"$f":"'Standing data'!$D$10","v":{"$error":"#N/A"}},{"$f":"'Standing data'!$F$10","v":0},{"$f":"'Standing data'!$D$6","v":"Academy name"},{"$f":"'Standing data'!$F$6","v":0},"Forecast","D112",{"$f":"#REF!","v":{"$error":"#REF!"}}]
[{"$f":"'Standing data'!$D$10","v":{"$error":"#N/A"}},{"$f":"'Standing data'!$F$10","v":0},{"$f":"'Standing data'!$D$6","v":"Academy name"},{"$f":"'Standing data'!$F$6","v":0},"Forecast","D115",{"$f":"#REF!","v":{"$error":"#REF!"}}]
[{"$f":"'Standing data'!$D$10","v":{"$error":"#N/A"}},{"$f":"'Standing data'!$F$10","v":0},{"$f":"'Standing data'!$D$6","v":"Academy name"},{"$f":"'Standing data'!$F$6","v":0},"Forecast","D116",{"$f":"#REF!","v":{"$error":"#REF!"}}]
[{"$f":"'Standing data'!$D$10","v":{"$error":"#N/A"}},{"$f":"'Standing data'!$F$10","v":0},{"$f":"'Standing data'!$D$6","v":"Academy name"},{"$f":"'Standing data'!$F$6","v":0},"Forecast","D117",{"$f":"#REF!","v":{"$error":"#REF!"}}]
[{"$f":"'Standing data'!$D$10","v":{"$error":"#N/A"}},{"$f":"'Standing data'!$F$10","v":0},{"$f":"'Standing data'!$D$6","v":"Academy name"},{"$f":"'Standing data'!$F$6","v":0},"Forecast","D119",{"$f":"#REF!","v":{"$error":"#REF!"}}]
[{"$f":"'Standing data'!$D$10","v":{"$error":"#N/A"}},{"$f":"'Standing data'!$F$10","v":0},{"$f":"'Standing data'!$D$6","v":"Academy name"},{"$f":"'Standing data'!$F$6","v":0},"Forecast","D120",{"$f":"#REF!","v":{"$error":"#REF!"}}]
[{"$f":"'Standing data'!$D$10","v":{"$error":"#N/A"}},{"$f":"'Standing data'!$F$10","v":0},{"$f":"'Standing data'!$D$6","v":"Academy name"},{"$f":"'Standing data'!$F$6","v":0},"Forecast","D121",{"$f":"#REF!","v":{"$error":"#REF!"}}]
[{"$f":"'Standing data'!$D$10","v":{"$error":"#N/A"}},{"$f":"'Standing data'!$F$10","v":0},{"$f":"'Standing data'!$D$6","v":"Academy name"},{"$f":"'Standing data'!$F$6","v":0},"Forecast","D122",{"$f":"#REF!","v":{"$error":"#REF!"}}]
[{"$f":"'Standing data'!$D$10","v":{"$error":"#N/A"}},{"$f":"'Standing data'!$F$10","v":0},{"$f":"'Standing data'!$D$6","v":"Academy name"},{"$f":"'Standing data'!$F$6","v":0},"Forecast","D124",{"$f":"#REF!","v":{"$error":"#REF!"}}]
[{"$f":"'Standing data'!$D$10","v":{"$error":"#N/A"}},{"$f":"'Standing data'!$F$10","v":0},{"$f":"'Standing data'!$D$6","v":"Academy name"},{"$f":"'Standing data'!$F$6","v":0},"Forecast","D127",{"$f":"#REF!","v":{"$error":"#REF!"}}]
[{"$f":"'Standing data'!$D$10","v":{"$error":"#N/A"}},{"$f":"'Standing data'!$F$10","v":0},{"$f":"'Standing data'!$D$6","v":"Academy name"},{"$f":"'Standing data'!$F$6","v":0},"Forecast","D128",{"$f":"#REF!","v":{"$error":"#REF!"}}]
[{"$f":"'Standing data'!$D$10","v":{"$error":"#N/A"}},{"$f":"'Standing data'!$F$10","v":0},{"$f":"'Standing data'!$D$6","v":"Academy name"},{"$f":"'Standing data'!$F$6","v":0},"Forecast","D129",{"$f":"#REF!","v":{"$error":"#REF!"}}]
[{"$f":"'Standing data'!$D$10","v":{"$error":"#N/A"}},{"$f":"'Standing data'!$F$10","v":0},{"$f":"'Standing data'!$D$6","v":"Academy name"},{"$f":"'Standing data'!$F$6","v":0},"Forecast","D135",{"$f":"#REF!","v":{"$error":"#REF!"}}]
[{"$f":"'Standing data'!$D$10","v":{"$error":"#N/A"}},{"$f":"'Standing data'!$F$10","v":0},{"$f":"'Standing data'!$D$6","v":"Academy name"},{"$f":"'Standing data'!$F$6","v":0},"Forecast","D140",{"$f":"#REF!","v":{"$error":"#REF!"}}]
[{"$f":"'Standing data'!$D$10","v":{"$error":"#N/A"}},{"$f":"'Standing data'!$F$10","v":0},{"$f":"'Standing data'!$D$6","v":"Academy name"},{"$f":"'Standing data'!$F$6","v":0},"Forecast","D143",{"$f":"#REF!","v":{"$error":"#REF!"}}]
[{"$f":"'Standing data'!$D$10","v":{"$error":"#N/A"}},{"$f":"'Standing data'!$F$10","v":0},{"$f":"'Standing data'!$D$6","v":"Academy name"},{"$f":"'Standing data'!$F$6","v":0},"Forecast","D144",{"$f":"#REF!","v":{"$error":"#REF!"}}]
[{"$f":"'Standing data'!$D$10","v":{"$error":"#N/A"}},{"$f":"'Standing data'!$F$10","v":0},{"$f":"'Standing data'!$D$6","v":"Academy name"},{"$f":"'Standing data'!$F$6","v":0},"Forecast","D148",{"$f":"#REF!","v":{"$error":"#REF!"}}]
[{"$f":"'Standing data'!$D$10","v":{"$error":"#N/A"}},{"$f":"'Standing data'!$F$10","v":0},{"$f":"'Standing data'!$D$6","v":"Academy name"},{"$f":"'Standing data'!$F$6","v":0},"Forecast","D154",{"$f":"#REF!","v":{"$error":"#REF!"}}]
[{"$f":"'Standing data'!$D$10","v":{"$error":"#N/A"}},{"$f":"'Standing data'!$F$10","v":0},{"$f":"'Standing data'!$D$6","v":"Academy name"},{"$f":"'Standing data'!$F$6","v":0},"Forecast","D155",{"$f":"#REF!","v":{"$error":"#REF!"}}]
[{"$f":"'Standing data'!$D$10","v":{"$error":"#N/A"}},{"$f":"'Standing data'!$F$10","v":0},{"$f":"'Standing data'!$D$6","v":"Academy name"},{"$f":"'Standing data'!$F$6","v":0},"Forecast","D156",{"$f":"#REF!","v":{"$error":"#REF!"}}]
[{"$f":"'Standing data'!$D$10","v":{"$error":"#N/A"}},{"$f":"'Standing data'!$F$10","v":0},{"$f":"'Standing data'!$D$6","v":"Academy name"},{"$f":"'Standing data'!$F$6","v":0},"Forecast","D157",{"$f":"#REF!","v":{"$error":"#REF!"}}]
[{"$f":"'Standing data'!$D$10","v":{"$error":"#N/A"}},{"$f":"'Standing data'!$F$10","v":0},{"$f":"'Standing data'!$D$6","v":"Academy name"},{"$f":"'Standing data'!$F$6","v":0},"Forecast","D158",{"$f":"#REF!","v":{"$error":"#REF!"}}]
[{"$f":"'Standing data'!$D$10","v":{"$error":"#N/A"}},{"$f":"'Standing data'!$F$10","v":0},{"$f":"'Standing data'!$D$6","v":"Academy name"},{"$f":"'Standing data'!$F$6","v":0},"Forecast","D159",{"$f":"#REF!","v":{"$error":"#REF!"}}]
[{"$f":"'Standing data'!$D$10","v":{"$error":"#N/A"}},{"$f":"'Standing data'!$F$10","v":0},{"$f":"'Standing data'!$D$6","v":"Academy name"},{"$f":"'Standing data'!$F$6","v":0},"Forecast","D160",{"$f":"#REF!","v":{"$error":"#REF!"}}]
[{"$f":"'Standing data'!$D$10","v":{"$error":"#N/A"}},{"$f":"'Standing data'!$F$10","v":0},{"$f":"'Standing data'!$D$6","v":"Academy name"},{"$f":"'Standing data'!$F$6","v":0},"Forecast","D161",{"$f":"#REF!","v":{"$error":"#REF!"}}]
[{"$f":"'Standing data'!$D$10","v":{"$error":"#N/A"}},{"$f":"'Standing data'!$F$10","v":0},{"$f":"'Standing data'!$D$6","v":"Academy name"},{"$f":"'Standing data'!$F$6","v":0},"Forecast","D162",{"$f":"#REF!","v":{"$error":"#REF!"}}]
[{"$f":"'Standing data'!$D$10","v":{"$error":"#N/A"}},{"$f":"'Standing data'!$F$10","v":0},{"$f":"'Standing data'!$D$6","v":"Academy name"},{"$f":"'Standing data'!$F$6","v":0},"Forecast","D163",{"$f":"#REF!","v":{"$error":"#REF!"}}]
[{"$f":"'Standing data'!$D$10","v":{"$error":"#N/A"}},{"$f":"'Standing data'!$F$10","v":0},{"$f":"'Standing data'!$D$6","v":"Academy name"},{"$f":"'Standing data'!$F$6","v":0},"Forecast","D164",{"$f":"#REF!","v":{"$error":"#REF!"}}]
[{"$f":"'Standing data'!$D$10","v":{"$error":"#N/A"}},{"$f":"'Standing data'!$F$10","v":0},{"$f":"'Standing data'!$D$6","v":"Academy name"},{"$f":"'Standing data'!$F$6","v":0},"Forecast","D165",{"$f":"#REF!","v":{"$error":"#REF!"}}]
[{"$f":"'Standing data'!$D$10","v":{"$error":"#N/A"}},{"$f":"'Standing data'!$F$10","v":0},{"$f":"'Standing data'!$D$6","v":"Academy name"},{"$f":"'Standing data'!$F$6","v":0},"Forecast","D166",{"$f":"#REF!","v":{"$error":"#REF!"}}]
[{"$f":"'Standing data'!$D$10","v":{"$error":"#N/A"}},{"$f":"'Standing data'!$F$10","v":0},{"$f":"'Standing data'!$D$6","v":"Academy name"},{"$f":"'Standing data'!$F$6","v":0},"Forecast","D167",{"$f":"#REF!","v":{"$error":"#REF!"}}]
[{"$f":"'Standing data'!$D$10","v":{"$error":"#N/A"}},{"$f":"'Standing data'!$F$10","v":0},{"$f":"'Standing data'!$D$6","v":"Academy name"},{"$f":"'Standing data'!$F$6","v":0},"Forecast","D168",{"$f":"#REF!","v":{"$error":"#REF!"}}]
[{"$f":"'Standing data'!$D$10","v":{"$error":"#N/A"}},{"$f":"'Standing data'!$F$10","v":0},{"$f":"'Standing data'!$D$6","v":"Academy name"},{"$f":"'Standing data'!$F$6","v":0},"Forecast","D169",{"$f":"#REF!","v":{"$error":"#REF!"}}]
[{"$f":"'Standing data'!$D$10","v":{"$error":"#N/A"}},{"$f":"'Standing data'!$F$10","v":0},{"$f":"'Standing data'!$D$6","v":"Academy name"},{"$f":"'Standing data'!$F$6","v":0},"Forecast","D170",{"$f":"#REF!","v":{"$error":"#REF!"}}]
[{"$f":"'Standing data'!$D$10","v":{"$error":"#N/A"}},{"$f":"'Standing data'!$F$10","v":0},{"$f":"'Standing data'!$D$6","v":"Academy name"},{"$f":"'Standing data'!$F$6","v":0},"Forecast","D171",{"$f":"#REF!","v":{"$error":"#REF!"}}]
[{"$f":"'Standing data'!$D$10","v":{"$error":"#N/A"}},{"$f":"'Standing data'!$F$10","v":0},{"$f":"'Standing data'!$D$6","v":"Academy name"},{"$f":"'Standing data'!$F$6","v":0},"Forecast","D172",{"$f":"#REF!","v":{"$error":"#REF!"}}]
[{"$f":"'Standing data'!$D$10","v":{"$error":"#N/A"}},{"$f":"'Standing data'!$F$10","v":0},{"$f":"'Standing data'!$D$6","v":"Academy name"},{"$f":"'Standing data'!$F$6","v":0},"Forecast","D173",{"$f":"#REF!","v":{"$error":"#REF!"}}]
[{"$f":"'Standing data'!$D$10","v":{"$error":"#N/A"}},{"$f":"'Standing data'!$F$10","v":0},{"$f":"'Standing data'!$D$6","v":"Academy name"},{"$f":"'Standing data'!$F$6","v":0},"Forecast","D174",{"$f":"#REF!","v":{"$error":"#REF!"}}]
[{"$f":"'Standing data'!$D$10","v":{"$error":"#N/A"}},{"$f":"'Standing data'!$F$10","v":0},{"$f":"'Standing data'!$D$6","v":"Academy name"},{"$f":"'Standing data'!$F$6","v":0},"Forecast","D175",{"$f":"#REF!","v":{"$error":"#REF!"}}]
[{"$f":"'Standing data'!$D$10","v":{"$error":"#N/A"}},{"$f":"'Standing data'!$F$10","v":0},{"$f":"'Standing data'!$D$6","v":"Academy name"},{"$f":"'Standing data'!$F$6","v":0},"Forecast","D176",{"$f":"#REF!","v":{"$error":"#REF!"}}]
[{"$f":"'Standing data'!$D$10","v":{"$error":"#N/A"}},{"$f":"'Standing data'!$F$10","v":0},{"$f":"'Standing data'!$D$6","v":"Academy name"},{"$f":"'Standing data'!$F$6","v":0},"Forecast","D177",{"$f":"#REF!","v":{"$error":"#REF!"}}]
[{"$f":"'Standing data'!$D$10","v":{"$error":"#N/A"}},{"$f":"'Standing data'!$F$10","v":0},{"$f":"'Standing data'!$D$6","v":"Academy name"},{"$f":"'Standing data'!$F$6","v":0},"Forecast","D178",{"$f":"#REF!","v":{"$error":"#REF!"}}]
[{"$f":"'Standing data'!$D$10","v":{"$error":"#N/A"}},{"$f":"'Standing data'!$F$10","v":0},{"$f":"'Standing data'!$D$6","v":"Academy name"},{"$f":"'Standing data'!$F$6","v":0},"Forecast","D179",{"$f":"#REF!","v":{"$error":"#REF!"}}]
[{"$f":"'Standing data'!$D$10","v":{"$error":"#N/A"}},{"$f":"'Standing data'!$F$10","v":0},{"$f":"'Standing data'!$D$6","v":"Academy name"},{"$f":"'Standing data'!$F$6","v":0},"Forecast","D180",{"$f":"#REF!","v":{"$error":"#REF!"}}]
[{"$f":"'Standing data'!$D$10","v":{"$error":"#N/A"}},{"$f":"'Standing data'!$F$10","v":0},{"$f":"'Standing data'!$D$6","v":"Academy name"},{"$f":"'Standing data'!$F$6","v":0},"Forecast","D181",{"$f":"#REF!","v":{"$error":"#REF!"}}]
[{"$f":"'Standing data'!$D$10","v":{"$error":"#N/A"}},{"$f":"'Standing data'!$F$10","v":0},{"$f":"'Standing data'!$D$6","v":"Academy name"},{"$f":"'Standing data'!$F$6","v":0},"Forecast","D182",{"$f":"#REF!","v":{"$error":"#REF!"}}]
[{"$f":"'Standing data'!$D$10","v":{"$error":"#N/A"}},{"$f":"'Standing data'!$F$10","v":0},{"$f":"'Standing data'!$D$6","v":"Academy name"},{"$f":"'Standing data'!$F$6","v":0},"Forecast","D183",{"$f":"#REF!","v":{"$error":"#REF!"}}]
[{"$f":"'Standing data'!$D$10","v":{"$error":"#N/A"}},{"$f":"'Standing data'!$F$10","v":0},{"$f":"'Standing data'!$D$6","v":"Academy name"},{"$f":"'Standing data'!$F$6","v":0},"Forecast","D184",{"$f":"#REF!","v":{"$error":"#REF!"}}]
[{"$f":"'Standing data'!$D$10","v":{"$error":"#N/A"}},{"$f":"'Standing data'!$F$10","v":0},{"$f":"'Standing data'!$D$6","v":"Academy name"},{"$f":"'Standing data'!$F$6","v":0},"Forecast","D185",{"$f":"#REF!","v":{"$error":"#REF!"}}]
[{"$f":"'Standing data'!$D$10","v":{"$error":"#N/A"}},{"$f":"'Standing data'!$F$10","v":0},{"$f":"'Standing data'!$D$6","v":"Academy name"},{"$f":"'Standing data'!$F$6","v":0},"Forecast","D186",{"$f":"#REF!","v":{"$error":"#REF!"}}]
[{"$f":"'Standing data'!$D$10","v":{"$error":"#N/A"}},{"$f":"'Standing data'!$F$10","v":0},{"$f":"'Standing data'!$D$6","v":"Academy name"},{"$f":"'Standing data'!$F$6","v":0},"Forecast","D187",{"$f":"#REF!","v":{"$error":"#REF!"}}]
[{"$f":"'Standing data'!$D$10","v":{"$error":"#N/A"}},{"$f":"'Standing data'!$F$10","v":0},{"$f":"'Standing data'!$D$6","v":"Academy name"},{"$f":"'Standing data'!$F$6","v":0},"Forecast","D188",{"$f":"#REF!","v":{"$error":"#REF!"}}]
[{"$f":"'Standing data'!$D$10","v":{"$error":"#N/A"}},{"$f":"'Standing data'!$F$10","v":0},{"$f":"'Standing data'!$D$6","v":"Academy name"},{"$f":"'Standing data'!$F$6","v":0},"Forecast","D189",{"$f":"#REF!","v":{"$error":"#REF!"}}]
[{"$f":"'Standing data'!$D$10","v":{"$error":"#N/A"}},{"$f":"'Standing data'!$F$10","v":0},{"$f":"'Standing data'!$D$6","v":"Academy name"},{"$f":"'Standing data'!$F$6","v":0},"Forecast","D190",{"$f":"#REF!","v":{"$error":"#REF!"}}]
[{"$f":"'Standing data'!$D$10","v":{"$error":"#N/A"}},{"$f":"'Standing data'!$F$10","v":0},{"$f":"'Standing data'!$D$6","v":"Academy name"},{"$f":"'Standing data'!$F$6","v":0},"Forecast","D191",{"$f":"#REF!","v":{"$error":"#REF!"}}]
[{"$f":"'Standing data'!$D$10","v":{"$error":"#N/A"}},{"$f":"'Standing data'!$F$10","v":0},{"$f":"'Standing data'!$D$6","v":"Academy name"},{"$f":"'Standing data'!$F$6","v":0},"Forecast","D192",{"$f":"#REF!","v":{"$error":"#REF!"}}]
[{"$f":"'Standing data'!$D$10","v":{"$error":"#N/A"}},{"$f":"'Standing data'!$F$10","v":0},{"$f":"'Standing data'!$D$6","v":"Academy name"},{"$f":"'Standing data'!$F$6","v":0},"Forecast","D193",{"$f":"#REF!","v":{"$error":"#REF!"}}]
[{"$f":"'Standing data'!$D$10","v":{"$error":"#N/A"}},{"$f":"'Standing data'!$F$10","v":0},{"$f":"'Standing data'!$D$6","v":"Academy name"},{"$f":"'Standing data'!$F$6","v":0},"Forecast","D194",{"$f":"#REF!","v":{"$error":"#REF!"}}]
[{"$f":"'Standing data'!$D$10","v":{"$error":"#N/A"}},{"$f":"'Standing data'!$F$10","v":0},{"$f":"'Standing data'!$D$6","v":"Academy name"},{"$f":"'Standing data'!$F$6","v":0},"Forecast","D195",{"$f":"#REF!","v":{"$error":"#REF!"}}]
[{"$f":"'Standing data'!$D$10","v":{"$error":"#N/A"}},{"$f":"'Standing data'!$F$10","v":0},{"$f":"'Standing data'!$D$6","v":"Academy name"},{"$f":"'Standing data'!$F$6","v":0},"Forecast","D196",{"$f":"#REF!","v":{"$error":"#REF!"}}]
[{"$f":"'Standing data'!$D$10","v":{"$error":"#N/A"}},{"$f":"'Standing data'!$F$10","v":0},{"$f":"'Standing data'!$D$6","v":"Academy name"},{"$f":"'Standing data'!$F$6","v":0},"Forecast","D197",{"$f":"#REF!","v":{"$error":"#REF!"}}]
[{"$f":"'Standing data'!$D$10","v":{"$error":"#N/A"}},{"$f":"'Standing data'!$F$10","v":0},{"$f":"'Standing data'!$D$6","v":"Academy name"},{"$f":"'Standing data'!$F$6","v":0},"Forecast","D198",{"$f":"#REF!","v":{"$error":"#REF!"}}]
[{"$f":"'Standing data'!$D$10","v":{"$error":"#N/A"}},{"$f":"'Standing data'!$F$10","v":0},{"$f":"'Standing data'!$D$6","v":"Academy name"},{"$f":"'Standing data'!$F$6","v":0},"Forecast","D199",{"$f":"#REF!","v":{"$error":"#REF!"}}]
[{"$f":"'Standing data'!$D$10","v":{"$error":"#N/A"}},{"$f":"'Standing data'!$F$10","v":0},{"$f":"'Standing data'!$D$6","v":"Academy name"},{"$f":"'Standing data'!$F$6","v":0},"Forecast","D200",{"$f":"#REF!","v":{"$error":"#REF!"}}]
[{"$f":"'Standing data'!$D$10","v":{"$error":"#N/A"}},{"$f":"'Standing data'!$F$10","v":0},{"$f":"'Standing data'!$D$6","v":"Academy name"},{"$f":"'Standing data'!$F$6","v":0},"Forecast","D201",{"$f":"#REF!","v":{"$error":"#REF!"}}]
[{"$f":"'Standing data'!$D$10","v":{"$error":"#N/A"}},{"$f":"'Standing data'!$F$10","v":0},{"$f":"'Standing data'!$D$6","v":"Academy name"},{"$f":"'Standing data'!$F$6","v":0},"Forecast","D202",{"$f":"#REF!","v":{"$error":"#REF!"}}]
[{"$f":"'Standing data'!$D$10","v":{"$error":"#N/A"}},{"$f":"'Standing data'!$F$10","v":0},{"$f":"'Standing data'!$D$6","v":"Academy name"},{"$f":"'Standing data'!$F$6","v":0},"Forecast","D203",{"$f":"#REF!","v":{"$error":"#REF!"}}]
[{"$f":"'Standing data'!$D$10","v":{"$error":"#N/A"}},{"$f":"'Standing data'!$F$10","v":0},{"$f":"'Standing data'!$D$6","v":"Academy name"},{"$f":"'Standing data'!$F$6","v":0},"Forecast","D204",{"$f":"#REF!","v":{"$error":"#REF!"}}]
[{"$f":"'Standing data'!$D$10","v":{"$error":"#N/A"}},{"$f":"'Standing data'!$F$10","v":0},{"$f":"'Standing data'!$D$6","v":"Academy name"},{"$f":"'Standing data'!$F$6","v":0},"Forecast","D205",{"$f":"#REF!","v":{"$error":"#REF!"}}]
[{"$f":"'Standing data'!$D$10","v":{"$error":"#N/A"}},{"$f":"'Standing data'!$F$10","v":0},{"$f":"'Standing data'!$D$6","v":"Academy name"},{"$f":"'Standing data'!$F$6","v":0},"Forecast","D206",{"$f":"#REF!","v":{"$error":"#REF!"}}]
[{"$f":"'Standing data'!$D$10","v":{"$error":"#N/A"}},{"$f":"'Standing data'!$F$10","v":0},{"$f":"'Standing data'!$D$6","v":"Academy name"},{"$f":"'Standing data'!$F$6","v":0},"Forecast","D207",{"$f":"#REF!","v":{"$error":"#REF!"}}]
[{"$f":"'Standing data'!$D$10","v":{"$error":"#N/A"}},{"$f":"'Standing data'!$F$10","v":0},{"$f":"'Standing data'!$D$6","v":"Academy name"},{"$f":"'Standing data'!$F$6","v":0},"Forecast","D208",{"$f":"#REF!","v":{"$error":"#REF!"}}]
[{"$f":"'Standing data'!$D$10","v":{"$error":"#N/A"}},{"$f":"'Standing data'!$F$10","v":0},{"$f":"'Standing data'!$D$6","v":"Academy name"},{"$f":"'Standing data'!$F$6","v":0},"Forecast","D209",{"$f":"#REF!","v":{"$error":"#REF!"}}]
[{"$f":"'Standing data'!$D$10","v":{"$error":"#N/A"}},{"$f":"'Standing data'!$F$10","v":0},{"$f":"'Standing data'!$D$6","v":"Academy name"},{"$f":"'Standing data'!$F$6","v":0},"Forecast","D210",{"$f":"#REF!","v":{"$error":"#REF!"}}]
[{"$f":"'Standing data'!$D$10","v":{"$error":"#N/A"}},{"$f":"'Standing data'!$F$10","v":0},{"$f":"'Standing data'!$D$6","v":"Academy name"},{"$f":"'Standing data'!$F$6","v":0},"Forecast","D211",{"$f":"#REF!","v":{"$error":"#REF!"}}]
[{"$f":"'Standing data'!$D$10","v":{"$error":"#N/A"}},{"$f":"'Standing data'!$F$10","v":0},{"$f":"'Standing data'!$D$6","v":"Academy name"},{"$f":"'Standing data'!$F$6","v":0},"Forecast","D212",{"$f":"#REF!","v":{"$error":"#REF!"}}]
[{"$f":"'Standing data'!$D$10","v":{"$error":"#N/A"}},{"$f":"'Standing data'!$F$10","v":0},{"$f":"'Standing data'!$D$6","v":"Academy name"},{"$f":"'Standing data'!$F$6","v":0},"Forecast","D213",{"$f":"#REF!","v":{"$error":"#REF!"}}]
[{"$f":"'Standing data'!$D$10","v":{"$error":"#N/A"}},{"$f":"'Standing data'!$F$10","v":0},{"$f":"'Standing data'!$D$6","v":"Academy name"},{"$f":"'Standing data'!$F$6","v":0},"Forecast","D214",{"$f":"#REF!","v":{"$error":"#REF!"}}]
[{"$f":"'Standing data'!$D$10","v":{"$error":"#N/A"}},{"$f":"'Standing data'!$F$10","v":0},{"$f":"'Standing data'!$D$6","v":"Academy name"},{"$f":"'Standing data'!$F$6","v":0},"Forecast","D215",{"$f":"#REF!","v":{"$error":"#REF!"}}]
[{"$f":"'Standing data'!$D$10","v":{"$error":"#N/A"}},{"$f":"'Standing data'!$F$10","v":0},{"$f":"'Standing data'!$D$6","v":"Academy name"},{"$f":"'Standing data'!$F$6","v":0},"Forecast","D216",{"$f":"#REF!","v":{"$error":"#REF!"}}]
[{"$f":"'Standing data'!$D$10","v":{"$error":"#N/A"}},{"$f":"'Standing data'!$F$10","v":0},{"$f":"'Standing data'!$D$6","v":"Academy name"},{"$f":"'Standing data'!$F$6","v":0},"Forecast","D217",{"$f":"#REF!","v":{"$error":"#REF!"}}]
[{"$f":"'Standing data'!$D$10","v":{"$error":"#N/A"}},{"$f":"'Standing data'!$F$10","v":0},{"$f":"'Standing data'!$D$6","v":"Academy name"},{"$f":"'Standing data'!$F$6","v":0},"Forecast","D218",{"$f":"#REF!","v":{"$error":"#REF!"}}]
[{"$f":"'Standing data'!$D$10","v":{"$error":"#N/A"}},{"$f":"'Standing data'!$F$10","v":0},{"$f":"'Standing data'!$D$6","v":"Academy name"},{"$f":"'Standing data'!$F$6","v":0},"Forecast","D219",{"$f":"#REF!","v":{"$error":"#REF!"}}]
[{"$f":"'Standing data'!$D$10","v":{"$error":"#N/A"}},{"$f":"'Standing data'!$F$10","v":0},{"$f":"'Standing data'!$D$6","v":"Academy name"},{"$f":"'Standing data'!$F$6","v":0},"Forecast","D220",{"$f":"#REF!","v":{"$error":"#REF!"}}]
[{"$f":"'Standing data'!$D$10","v":{"$error":"#N/A"}},{"$f":"'Standing data'!$F$10","v":0},{"$f":"'Standing data'!$D$6","v":"Academy name"},{"$f":"'Standing data'!$F$6","v":0},"Forecast","D221",{"$f":"#REF!","v":{"$error":"#REF!"}}]
[{"$f":"'Standing data'!$D$10","v":{"$error":"#N/A"}},{"$f":"'Standing data'!$F$10","v":0},{"$f":"'Standing data'!$D$6","v":"Academy name"},{"$f":"'Standing data'!$F$6","v":0},"Forecast","D222",{"$f":"#REF!","v":{"$error":"#REF!"}}]
[{"$f":"'Standing data'!$D$10","v":{"$error":"#N/A"}},{"$f":"'Standing data'!$F$10","v":0},{"$f":"'Standing data'!$D$6","v":"Academy name"},{"$f":"'Standing data'!$F$6","v":0},"Forecast","D223",{"$f":"#REF!","v":{"$error":"#REF!"}}]
[{"$f":"'Standing data'!$D$10","v":{"$error":"#N/A"}},{"$f":"'Standing data'!$F$10","v":0},{"$f":"'Standing data'!$D$6","v":"Academy name"},{"$f":"'Standing data'!$F$6","v":0},"Forecast","D224",{"$f":"#REF!","v":{"$error":"#REF!"}}]
[{"$f":"'Standing data'!$D$10","v":{"$error":"#N/A"}},{"$f":"'Standing data'!$F$10","v":0},{"$f":"'Standing data'!$D$6","v":"Academy name"},{"$f":"'Standing data'!$F$6","v":0},"Forecast","D225",{"$f":"#REF!","v":{"$error":"#REF!"}}]
[{"$f":"'Standing data'!$D$10","v":{"$error":"#N/A"}},{"$f":"'Standing data'!$F$10","v":0},{"$f":"'Standing data'!$D$6","v":"Academy name"},{"$f":"'Standing data'!$F$6","v":0},"Forecast","D226",{"$f":"#REF!","v":{"$error":"#REF!"}}]
[{"$f":"'Standing data'!$D$10","v":{"$error":"#N/A"}},{"$f":"'Standing data'!$F$10","v":0},{"$f":"'Standing data'!$D$6","v":"Academy name"},{"$f":"'Standing data'!$F$6","v":0},"Forecast","D227",{"$f":"#REF!","v":{"$error":"#REF!"}}]
[{"$f":"'Standing data'!$D$10","v":{"$error":"#N/A"}},{"$f":"'Standing data'!$F$10","v":0},{"$f":"'Standing data'!$D$6","v":"Academy name"},{"$f":"'Standing data'!$F$6","v":0},"Forecast","D228",{"$f":"#REF!","v":{"$error":"#REF!"}}]
[{"$f":"'Standing data'!$D$10","v":{"$error":"#N/A"}},{"$f":"'Standing data'!$F$10","v":0},{"$f":"'Standing data'!$D$6","v":"Academy name"},{"$f":"'Standing data'!$F$6","v":0},"Forecast","D229",{"$f":"#REF!","v":{"$error":"#REF!"}}]
[{"$f":"'Standing data'!$D$10","v":{"$error":"#N/A"}},{"$f":"'Standing data'!$F$10","v":0},{"$f":"'Standing data'!$D$6","v":"Academy name"},{"$f":"'Standing data'!$F$6","v":0},"Forecast","D230",{"$f":"#REF!","v":{"$error":"#REF!"}}]
[{"$f":"'Standing data'!$D$10","v":{"$error":"#N/A"}},{"$f":"'Standing data'!$F$10","v":0},{"$f":"'Standing data'!$D$6","v":"Academy name"},{"$f":"'Standing data'!$F$6","v":0},"Forecast","D231",{"$f":"#REF!","v":{"$error":"#REF!"}}]
[{"$f":"'Standing data'!$D$10","v":{"$error":"#N/A"}},{"$f":"'Standing data'!$F$10","v":0},{"$f":"'Standing data'!$D$6","v":"Academy name"},{"$f":"'Standing data'!$F$6","v":0},"Forecast","D232",{"$f":"#REF!","v":{"$error":"#REF!"}}]
[{"$f":"'Standing data'!$D$10","v":{"$error":"#N/A"}},{"$f":"'Standing data'!$F$10","v":0},{"$f":"'Standing data'!$D$6","v":"Academy name"},{"$f":"'Standing data'!$F$6","v":0},"Forecast","D233",{"$f":"#REF!","v":{"$error":"#REF!"}}]
[{"$f":"'Standing data'!$D$10","v":{"$error":"#N/A"}},{"$f":"'Standing data'!$F$10","v":0},{"$f":"'Standing data'!$D$6","v":"Academy name"},{"$f":"'Standing data'!$F$6","v":0},"Forecast","D234",{"$f":"#REF!","v":{"$error":"#REF!"}}]
[{"$f":"'Standing data'!$D$10","v":{"$error":"#N/A"}},{"$f":"'Standing data'!$F$10","v":0},{"$f":"'Standing data'!$D$6","v":"Academy name"},{"$f":"'Standing data'!$F$6","v":0},"Forecast","D235",{"$f":"#REF!","v":{"$error":"#REF!"}}]
[{"$f":"'Standing data'!$D$10","v":{"$error":"#N/A"}},{"$f":"'Standing data'!$F$10","v":0},{"$f":"'Standing data'!$D$6","v":"Academy name"},{"$f":"'Standing data'!$F$6","v":0},"Forecast","D236",{"$f":"#REF!","v":{"$error":"#REF!"}}]
[{"$f":"'Standing data'!$D$10","v":{"$error":"#N/A"}},{"$f":"'Standing data'!$F$10","v":0},{"$f":"'Standing data'!$D$6","v":"Academy name"},{"$f":"'Standing data'!$F$6","v":0},"Forecast","D237",{"$f":"#REF!","v":{"$error":"#REF!"}}]
[{"$f":"'Standing data'!$D$10","v":{"$error":"#N/A"}},{"$f":"'Standing data'!$F$10","v":0},{"$f":"'Standing data'!$D$6","v":"Academy name"},{"$f":"'Standing data'!$F$6","v":0},"Forecast","D238",{"$f":"#REF!","v":{"$error":"#REF!"}}]
[{"$f":"'Standing data'!$D$10","v":{"$error":"#N/A"}},{"$f":"'Standing data'!$F$10","v":0},{"$f":"'Standing data'!$D$6","v":"Academy name"},{"$f":"'Standing data'!$F$6","v":0},"Forecast","D239",{"$f":"#REF!","v":{"$error":"#REF!"}}]
[{"$f":"'Standing data'!$D$10","v":{"$error":"#N/A"}},{"$f":"'Standing data'!$F$10","v":0},{"$f":"'Standing data'!$D$6","v":"Academy name"},{"$f":"'Standing data'!$F$6","v":0},"Forecast","D240",{"$f":"#REF!","v":{"$error":"#REF!"}}]
[{"$f":"'Standing data'!$D$10","v":{"$error":"#N/A"}},{"$f":"'Standing data'!$F$10","v":0},{"$f":"'Standing data'!$D$6","v":"Academy name"},{"$f":"'Standing data'!$F$6","v":0},"Forecast","D241",{"$f":"#REF!","v":{"$error":"#REF!"}}]
[{"$f":"'Standing data'!$D$10","v":{"$error":"#N/A"}},{"$f":"'Standing data'!$F$10","v":0},{"$f":"'Standing data'!$D$6","v":"Academy name"},{"$f":"'Standing data'!$F$6","v":0},"Forecast","D242",{"$f":"#REF!","v":{"$error":"#REF!"}}]
[{"$f":"'Standing data'!$D$10","v":{"$error":"#N/A"}},{"$f":"'Standing data'!$F$10","v":0},{"$f":"'Standing data'!$D$6","v":"Academy name"},{"$f":"'Standing data'!$F$6","v":0},"Forecast","D243",{"$f":"#REF!","v":{"$error":"#REF!"}}]
[{"$f":"'Standing data'!$D$10","v":{"$error":"#N/A"}},{"$f":"'Standing data'!$F$10","v":0},{"$f":"'Standing data'!$D$6","v":"Academy name"},{"$f":"'Standing data'!$F$6","v":0},"Forecast","D244",{"$f":"#REF!","v":{"$error":"#REF!"}}]
[{"$f":"'Standing data'!$D$10","v":{"$error":"#N/A"}},{"$f":"'Standing data'!$F$10","v":0},{"$f":"'Standing data'!$D$6","v":"Academy name"},{"$f":"'Standing data'!$F$6","v":0},"Forecast","D245",{"$f":"#REF!","v":{"$error":"#REF!"}}]
[{"$f":"'Standing data'!$D$10","v":{"$error":"#N/A"}},{"$f":"'Standing data'!$F$10","v":0},{"$f":"'Standing data'!$D$6","v":"Academy name"},{"$f":"'Standing data'!$F$6","v":0},"Forecast","D246",{"$f":"#REF!","v":{"$error":"#REF!"}}]
[{"$f":"'Standing data'!$D$10","v":{"$error":"#N/A"}},{"$f":"'Standing data'!$F$10","v":0},{"$f":"'Standing data'!$D$6","v":"Academy name"},{"$f":"'Standing data'!$F$6","v":0},"Forecast","D247",{"$f":"#REF!","v":{"$error":"#REF!"}}]
[{"$f":"'Standing data'!$D$10","v":{"$error":"#N/A"}},{"$f":"'Standing data'!$F$10","v":0},{"$f":"'Standing data'!$D$6","v":"Academy name"},{"$f":"'Standing data'!$F$6","v":0},"Forecast","D248",{"$f":"#REF!","v":{"$error":"#REF!"}}]
[{"$f":"'Standing data'!$D$10","v":{"$error":"#N/A"}},{"$f":"'Standing data'!$F$10","v":0},{"$f":"'Standing data'!$D$6","v":"Academy name"},{"$f":"'Standing data'!$F$6","v":0},"Forecast","D249",{"$f":"#REF!","v":{"$error":"#REF!"}}]
[{"$f":"'Standing data'!$D$10","v":{"$error":"#N/A"}},{"$f":"'Standing data'!$F$10","v":0},{"$f":"'Standing data'!$D$6","v":"Academy name"},{"$f":"'Standing data'!$F$6","v":0},"Forecast","D250",{"$f":"#REF!","v":{"$error":"#REF!"}}]
[{"$f":"'Standing data'!$D$10","v":{"$error":"#N/A"}},{"$f":"'Standing data'!$F$10","v":0},{"$f":"'Standing data'!$D$6","v":"Academy name"},{"$f":"'Standing data'!$F$6","v":0},"Forecast","D251",{"$f":"#REF!","v":{"$error":"#REF!"}}]
[{"$f":"'Standing data'!$D$10","v":{"$error":"#N/A"}},{"$f":"'Standing data'!$F$10","v":0},{"$f":"'Standing data'!$D$6","v":"Academy name"},{"$f":"'Standing data'!$F$6","v":0},"Forecast","D252",{"$f":"#REF!","v":{"$error":"#REF!"}}]
[{"$f":"'Standing data'!$D$10","v":{"$error":"#N/A"}},{"$f":"'Standing data'!$F$10","v":0},{"$f":"'Standing data'!$D$6","v":"Academy name"},{"$f":"'Standing data'!$F$6","v":0},"Forecast","D253",{"$f":"#REF!","v":{"$error":"#REF!"}}]
[{"$f":"'Standing data'!$D$10","v":{"$error":"#N/A"}},{"$f":"'Standing data'!$F$10","v":0},{"$f":"'Standing data'!$D$6","v":"Academy name"},{"$f":"'Standing data'!$F$6","v":0},"Forecast","D256",{"$f":"#REF!","v":{"$error":"#REF!"}}]
[{"$f":"'Standing data'!$D$10","v":{"$error":"#N/A"}},{"$f":"'Standing data'!$F$10","v":0},{"$f":"'Standing data'!$D$6","v":"Academy name"},{"$f":"'Standing data'!$F$6","v":0},"Forecast","D257",{"$f":"#REF!","v":{"$error":"#REF!"}}]
[{"$f":"'Standing data'!$D$10","v":{"$error":"#N/A"}},{"$f":"'Standing data'!$F$10","v":0},{"$f":"'Standing data'!$D$6","v":"Academy name"},{"$f":"'Standing data'!$F$6","v":0},"Forecast","D258",{"$f":"#REF!","v":{"$error":"#REF!"}}]
[{"$f":"'Standing data'!$D$10","v":{"$error":"#N/A"}},{"$f":"'Standing data'!$F$10","v":0},{"$f":"'Standing data'!$D$6","v":"Academy name"},{"$f":"'Standing data'!$F$6","v":0},"Forecast","D259",{"$f":"#REF!","v":{"$error":"#REF!"}}]
[{"$f":"'Standing data'!$D$10","v":{"$error":"#N/A"}},{"$f":"'Standing data'!$F$10","v":0},{"$f":"'Standing data'!$D$6","v":"Academy name"},{"$f":"'Standing data'!$F$6","v":0},"Forecast","D260",{"$f":"#REF!","v":{"$error":"#REF!"}}]
[{"$f":"'Standing data'!$D$10","v":{"$error":"#N/A"}},{"$f":"'Standing data'!$F$10","v":0},{"$f":"'Standing data'!$D$6","v":"Academy name"},{"$f":"'Standing data'!$F$6","v":0},"Forecast","D261",{"$f":"#REF!","v":{"$error":"#REF!"}}]
[{"$f":"'Standing data'!$D$10","v":{"$error":"#N/A"}},{"$f":"'Standing data'!$F$10","v":0},{"$f":"'Standing data'!$D$6","v":"Academy name"},{"$f":"'Standing data'!$F$6","v":0},"Forecast","D262",{"$f":"#REF!","v":{"$error":"#REF!"}}]
[{"$f":"'Standing data'!$D$10","v":{"$error":"#N/A"}},{"$f":"'Standing data'!$F$10","v":0},{"$f":"'Standing data'!$D$6","v":"Academy name"},{"$f":"'Standing data'!$F$6","v":0},"Forecast","D263",{"$f":"#REF!","v":{"$error":"#REF!"}}]
[{"$f":"'Standing data'!$D$10","v":{"$error":"#N/A"}},{"$f":"'Standing data'!$F$10","v":0},{"$f":"'Standing data'!$D$6","v":"Academy name"},{"$f":"'Standing data'!$F$6","v":0},"Forecast","D264",{"$f":"#REF!","v":{"$error":"#REF!"}}]
[{"$f":"'Standing data'!$D$10","v":{"$error":"#N/A"}},{"$f":"'Standing data'!$F$10","v":0},{"$f":"'Standing data'!$D$6","v":"Academy name"},{"$f":"'Standing data'!$F$6","v":0},"Forecast","D265",{"$f":"#REF!","v":{"$error":"#REF!"}}]
[{"$f":"'Standing data'!$D$10","v":{"$error":"#N/A"}},{"$f":"'Standing data'!$F$10","v":0},{"$f":"'Standing data'!$D$6","v":"Academy name"},{"$f":"'Standing data'!$F$6","v":0},"Forecast","D266",{"$f":"#REF!","v":{"$error":"#REF!"}}]
[{"$f":"'Standing data'!$D$10","v":{"$error":"#N/A"}},{"$f":"'Standing data'!$F$10","v":0},{"$f":"'Standing data'!$D$6","v":"Academy name"},{"$f":"'Standing data'!$F$6","v":0},"Forecast","D267",{"$f":"#REF!","v":{"$error":"#REF!"}}]
[{"$f":"'Standing data'!$D$10","v":{"$error":"#N/A"}},{"$f":"'Standing data'!$F$10","v":0},{"$f":"'Standing data'!$D$6","v":"Academy name"},{"$f":"'Standing data'!$F$6","v":0},"Forecast","D268",{"$f":"#REF!","v":{"$error":"#REF!"}}]
[{"$f":"'Standing data'!$D$10","v":{"$error":"#N/A"}},{"$f":"'Standing data'!$F$10","v":0},{"$f":"'Standing data'!$D$6","v":"Academy name"},{"$f":"'Standing data'!$F$6","v":0},"Forecast","D269",{"$f":"#REF!","v":{"$error":"#REF!"}}]
[{"$f":"'Standing data'!$D$10","v":{"$error":"#N/A"}},{"$f":"'Standing data'!$F$10","v":0},{"$f":"'Standing data'!$D$6","v":"Academy name"},{"$f":"'Standing data'!$F$6","v":0},"Forecast","D270",{"$f":"#REF!","v":{"$error":"#REF!"}}]
[{"$f":"'Standing data'!$D$10","v":{"$error":"#N/A"}},{"$f":"'Standing data'!$F$10","v":0},{"$f":"'Standing data'!$D$6","v":"Academy name"},{"$f":"'Standing data'!$F$6","v":0},"Forecast","D271",{"$f":"#REF!","v":{"$error":"#REF!"}}]
[{"$f":"'Standing data'!$D$10","v":{"$error":"#N/A"}},{"$f":"'Standing data'!$F$10","v":0},{"$f":"'Standing data'!$D$6","v":"Academy name"},{"$f":"'Standing data'!$F$6","v":0},"Forecast","D272",{"$f":"#REF!","v":{"$error":"#REF!"}}]
[{"$f":"'Standing data'!$D$10","v":{"$error":"#N/A"}},{"$f":"'Standing data'!$F$10","v":0},{"$f":"'Standing data'!$D$6","v":"Academy name"},{"$f":"'Standing data'!$F$6","v":0},"Forecast","D273",{"$f":"#REF!","v":{"$error":"#REF!"}}]
[{"$f":"'Standing data'!$D$10","v":{"$error":"#N/A"}},{"$f":"'Standing data'!$F$10","v":0},{"$f":"'Standing data'!$D$6","v":"Academy name"},{"$f":"'Standing data'!$F$6","v":0},"Forecast","D274",{"$f":"#REF!","v":{"$error":"#REF!"}}]
[{"$f":"'Standing data'!$D$10","v":{"$error":"#N/A"}},{"$f":"'Standing data'!$F$10","v":0},{"$f":"'Standing data'!$D$6","v":"Academy name"},{"$f":"'Standing data'!$F$6","v":0},"Forecast","D275",{"$f":"#REF!","v":{"$error":"#REF!"}}]
[{"$f":"'Standing data'!$D$10","v":{"$error":"#N/A"}},{"$f":"'Standing data'!$F$10","v":0},{"$f":"'Standing data'!$D$6","v":"Academy name"},{"$f":"'Standing data'!$F$6","v":0},"Forecast","D276",{"$f":"#REF!","v":{"$error":"#REF!"}}]
[{"$f":"'Standing data'!$D$10","v":{"$error":"#N/A"}},{"$f":"'Standing data'!$F$10","v":0},{"$f":"'Standing data'!$D$6","v":"Academy name"},{"$f":"'Standing data'!$F$6","v":0},"Forecast","D277",{"$f":"#REF!","v":{"$error":"#REF!"}}]
[{"$f":"'Standing data'!$D$10","v":{"$error":"#N/A"}},{"$f":"'Standing data'!$F$10","v":0},{"$f":"'Standing data'!$D$6","v":"Academy name"},{"$f":"'Standing data'!$F$6","v":0},"Forecast","D278",{"$f":"#REF!","v":{"$error":"#REF!"}}]
[{"$f":"'Standing data'!$D$10","v":{"$error":"#N/A"}},{"$f":"'Standing data'!$F$10","v":0},{"$f":"'Standing data'!$D$6","v":"Academy name"},{"$f":"'Standing data'!$F$6","v":0},"Forecast","D279",{"$f":"#REF!","v":{"$error":"#REF!"}}]
[{"$f":"'Standing data'!$D$10","v":{"$error":"#N/A"}},{"$f":"'Standing data'!$F$10","v":0},{"$f":"'Standing data'!$D$6","v":"Academy name"},{"$f":"'Standing data'!$F$6","v":0},"Forecast","D280",{"$f":"#REF!","v":{"$error":"#REF!"}}]
[{"$f":"'Standing data'!$D$10","v":{"$error":"#N/A"}},{"$f":"'Standing data'!$F$10","v":0},{"$f":"'Standing data'!$D$6","v":"Academy name"},{"$f":"'Standing data'!$F$6","v":0},"Forecast","D281",{"$f":"#REF!","v":{"$error":"#REF!"}}]
[{"$f":"'Standing data'!$D$10","v":{"$error":"#N/A"}},{"$f":"'Standing data'!$F$10","v":0},{"$f":"'Standing data'!$D$6","v":"Academy name"},{"$f":"'Standing data'!$F$6","v":0},"Forecast","D282",{"$f":"#REF!","v":{"$error":"#REF!"}}]
[{"$f":"'Standing data'!$D$10","v":{"$error":"#N/A"}},{"$f":"'Standing data'!$F$10","v":0},{"$f":"'Standing data'!$D$6","v":"Academy name"},{"$f":"'Standing data'!$F$6","v":0},"Forecast","D283",{"$f":"#REF!","v":{"$error":"#REF!"}}]
[{"$f":"'Standing data'!$D$10","v":{"$error":"#N/A"}},{"$f":"'Standing data'!$F$10","v":0},{"$f":"'Standing data'!$D$6","v":"Academy name"},{"$f":"'Standing data'!$F$6","v":0},"Forecast","D284",{"$f":"#REF!","v":{"$error":"#REF!"}}]
[{"$f":"'Standing data'!$D$10","v":{"$error":"#N/A"}},{"$f":"'Standing data'!$F$10","v":0},{"$f":"'Standing data'!$D$6","v":"Academy name"},{"$f":"'Standing data'!$F$6","v":0},"Forecast","D285",{"$f":"#REF!","v":{"$error":"#REF!"}}]
[{"$f":"'Standing data'!$D$10","v":{"$error":"#N/A"}},{"$f":"'Standing data'!$F$10","v":0},{"$f":"'Standing data'!$D$6","v":"Academy name"},{"$f":"'Standing data'!$F$6","v":0},"Forecast","D286",{"$f":"#REF!","v":{"$error":"#REF!"}}]
[{"$f":"'Standing data'!$D$10","v":{"$error":"#N/A"}},{"$f":"'Standing data'!$F$10","v":0},{"$f":"'Standing data'!$D$6","v":"Academy name"},{"$f":"'Standing data'!$F$6","v":0},"Forecast","D287",{"$f":"#REF!","v":{"$error":"#REF!"}}]
[{"$f":"'Standing data'!$D$10","v":{"$error":"#N/A"}},{"$f":"'Standing data'!$F$10","v":0},{"$f":"'Standing data'!$D$6","v":"Academy name"},{"$f":"'Standing data'!$F$6","v":0},"Forecast","E10",{"$f":"#REF!","v":{"$error":"#REF!"}}]
[{"$f":"'Standing data'!$D$10","v":{"$error":"#N/A"}},{"$f":"'Standing data'!$F$10","v":0},{"$f":"'Standing data'!$D$6","v":"Academy name"},{"$f":"'Standing data'!$F$6","v":0},"Forecast","E11",{"$f":"#REF!","v":{"$error":"#REF!"}}]
[{"$f":"'Standing data'!$D$10","v":{"$error":"#N/A"}},{"$f":"'Standing data'!$F$10","v":0},{"$f":"'Standing data'!$D$6","v":"Academy name"},{"$f":"'Standing data'!$F$6","v":0},"Forecast","E12",{"$f":"#REF!","v":{"$error":"#REF!"}}]
[{"$f":"'Standing data'!$D$10","v":{"$error":"#N/A"}},{"$f":"'Standing data'!$F$10","v":0},{"$f":"'Standing data'!$D$6","v":"Academy name"},{"$f":"'Standing data'!$F$6","v":0},"Forecast","E13",{"$f":"#REF!","v":{"$error":"#REF!"}}]
[{"$f":"'Standing data'!$D$10","v":{"$error":"#N/A"}},{"$f":"'Standing data'!$F$10","v":0},{"$f":"'Standing data'!$D$6","v":"Academy name"},{"$f":"'Standing data'!$F$6","v":0},"Forecast","E14",{"$f":"#REF!","v":{"$error":"#REF!"}}]
[{"$f":"'Standing data'!$D$10","v":{"$error":"#N/A"}},{"$f":"'Standing data'!$F$10","v":0},{"$f":"'Standing data'!$D$6","v":"Academy name"},{"$f":"'Standing data'!$F$6","v":0},"Forecast","E15",{"$f":"#REF!","v":{"$error":"#REF!"}}]
[{"$f":"'Standing data'!$D$10","v":{"$error":"#N/A"}},{"$f":"'Standing data'!$F$10","v":0},{"$f":"'Standing data'!$D$6","v":"Academy name"},{"$f":"'Standing data'!$F$6","v":0},"Forecast","E16",{"$f":"#REF!","v":{"$error":"#REF!"}}]
[{"$f":"'Standing data'!$D$10","v":{"$error":"#N/A"}},{"$f":"'Standing data'!$F$10","v":0},{"$f":"'Standing data'!$D$6","v":"Academy name"},{"$f":"'Standing data'!$F$6","v":0},"Forecast","E17",{"$f":"#REF!","v":{"$error":"#REF!"}}]
[{"$f":"'Standing data'!$D$10","v":{"$error":"#N/A"}},{"$f":"'Standing data'!$F$10","v":0},{"$f":"'Standing data'!$D$6","v":"Academy name"},{"$f":"'Standing data'!$F$6","v":0},"Forecast","E18",{"$f":"#REF!","v":{"$error":"#REF!"}}]
[{"$f":"'Standing data'!$D$10","v":{"$error":"#N/A"}},{"$f":"'Standing data'!$F$10","v":0},{"$f":"'Standing data'!$D$6","v":"Academy name"},{"$f":"'Standing data'!$F$6","v":0},"Forecast","E19",{"$f":"#REF!","v":{"$error":"#REF!"}}]
[{"$f":"'Standing data'!$D$10","v":{"$error":"#N/A"}},{"$f":"'Standing data'!$F$10","v":0},{"$f":"'Standing data'!$D$6","v":"Academy name"},{"$f":"'Standing data'!$F$6","v":0},"Forecast","E32",{"$f":"#REF!","v":{"$error":"#REF!"}}]
[{"$f":"'Standing data'!$D$10","v":{"$error":"#N/A"}},{"$f":"'Standing data'!$F$10","v":0},{"$f":"'Standing data'!$D$6","v":"Academy name"},{"$f":"'Standing data'!$F$6","v":0},"Forecast","E33",{"$f":"#REF!","v":{"$error":"#REF!"}}]
[{"$f":"'Standing data'!$D$10","v":{"$error":"#N/A"}},{"$f":"'Standing data'!$F$10","v":0},{"$f":"'Standing data'!$D$6","v":"Academy name"},{"$f":"'Standing data'!$F$6","v":0},"Forecast","E34",{"$f":"#REF!","v":{"$error":"#REF!"}}]
[{"$f":"'Standing data'!$D$10","v":{"$error":"#N/A"}},{"$f":"'Standing data'!$F$10","v":0},{"$f":"'Standing data'!$D$6","v":"Academy name"},{"$f":"'Standing data'!$F$6","v":0},"Forecast","E35",{"$f":"#REF!","v":{"$error":"#REF!"}}]
[{"$f":"'Standing data'!$D$10","v":{"$error":"#N/A"}},{"$f":"'Standing data'!$F$10","v":0},{"$f":"'Standing data'!$D$6","v":"Academy name"},{"$f":"'Standing data'!$F$6","v":0},"Forecast","E36",{"$f":"#REF!","v":{"$error":"#REF!"}}]
[{"$f":"'Standing data'!$D$10","v":{"$error":"#N/A"}},{"$f":"'Standing data'!$F$10","v":0},{"$f":"'Standing data'!$D$6","v":"Academy name"},{"$f":"'Standing data'!$F$6","v":0},"Forecast","E37",{"$f":"#REF!","v":{"$error":"#REF!"}}]
[{"$f":"'Standing data'!$D$10","v":{"$error":"#N/A"}},{"$f":"'Standing data'!$F$10","v":0},{"$f":"'Standing data'!$D$6","v":"Academy name"},{"$f":"'Standing data'!$F$6","v":0},"Forecast","E38",{"$f":"#REF!","v":{"$error":"#REF!"}}]
[{"$f":"'Standing data'!$D$10","v":{"$error":"#N/A"}},{"$f":"'Standing data'!$F$10","v":0},{"$f":"'Standing data'!$D$6","v":"Academy name"},{"$f":"'Standing data'!$F$6","v":0},"Forecast","E39",{"$f":"#REF!","v":{"$error":"#REF!"}}]
[{"$f":"'Standing data'!$D$10","v":{"$error":"#N/A"}},{"$f":"'Standing data'!$F$10","v":0},{"$f":"'Standing data'!$D$6","v":"Academy name"},{"$f":"'Standing data'!$F$6","v":0},"Forecast","E40",{"$f":"#REF!","v":{"$error":"#REF!"}}]
[{"$f":"'Standing data'!$D$10","v":{"$error":"#N/A"}},{"$f":"'Standing data'!$F$10","v":0},{"$f":"'Standing data'!$D$6","v":"Academy name"},{"$f":"'Standing data'!$F$6","v":0},"Forecast","E41",{"$f":"#REF!","v":{"$error":"#REF!"}}]
[{"$f":"'Standing data'!$D$10","v":{"$error":"#N/A"}},{"$f":"'Standing data'!$F$10","v":0},{"$f":"'Standing data'!$D$6","v":"Academy name"},{"$f":"'Standing data'!$F$6","v":0},"Forecast","E42",{"$f":"#REF!","v":{"$error":"#REF!"}}]
[{"$f":"'Standing data'!$D$10","v":{"$error":"#N/A"}},{"$f":"'Standing data'!$F$10","v":0},{"$f":"'Standing data'!$D$6","v":"Academy name"},{"$f":"'Standing data'!$F$6","v":0},"Forecast","E43",{"$f":"#REF!","v":{"$error":"#REF!"}}]
[{"$f":"'Standing data'!$D$10","v":{"$error":"#N/A"}},{"$f":"'Standing data'!$F$10","v":0},{"$f":"'Standing data'!$D$6","v":"Academy name"},{"$f":"'Standing data'!$F$6","v":0},"Forecast","E45",{"$f":"#REF!","v":{"$error":"#REF!"}}]
[{"$f":"'Standing data'!$D$10","v":{"$error":"#N/A"}},{"$f":"'Standing data'!$F$10","v":0},{"$f":"'Standing data'!$D$6","v":"Academy name"},{"$f":"'Standing data'!$F$6","v":0},"Forecast","E46",{"$f":"#REF!","v":{"$error":"#REF!"}}]
[{"$f":"'Standing data'!$D$10","v":{"$error":"#N/A"}},{"$f":"'Standing data'!$F$10","v":0},{"$f":"'Standing data'!$D$6","v":"Academy name"},{"$f":"'Standing data'!$F$6","v":0},"Forecast","E47",{"$f":"#REF!","v":{"$error":"#REF!"}}]
[{"$f":"'Standing data'!$D$10","v":{"$error":"#N/A"}},{"$f":"'Standing data'!$F$10","v":0},{"$f":"'Standing data'!$D$6","v":"Academy name"},{"$f":"'Standing data'!$F$6","v":0},"Forecast","E48",{"$f":"#REF!","v":{"$error":"#REF!"}}]
[{"$f":"'Standing data'!$D$10","v":{"$error":"#N/A"}},{"$f":"'Standing data'!$F$10","v":0},{"$f":"'Standing data'!$D$6","v":"Academy name"},{"$f":"'Standing data'!$F$6","v":0},"Forecast","E49",{"$f":"#REF!","v":{"$error":"#REF!"}}]
[{"$f":"'Standing data'!$D$10","v":{"$error":"#N/A"}},{"$f":"'Standing data'!$F$10","v":0},{"$f":"'Standing data'!$D$6","v":"Academy name"},{"$f":"'Standing data'!$F$6","v":0},"Forecast","E50",{"$f":"#REF!","v":{"$error":"#REF!"}}]
[{"$f":"'Standing data'!$D$10","v":{"$error":"#N/A"}},{"$f":"'Standing data'!$F$10","v":0},{"$f":"'Standing data'!$D$6","v":"Academy name"},{"$f":"'Standing data'!$F$6","v":0},"Forecast","E51",{"$f":"#REF!","v":{"$error":"#REF!"}}]
[{"$f":"'Standing data'!$D$10","v":{"$error":"#N/A"}},{"$f":"'Standing data'!$F$10","v":0},{"$f":"'Standing data'!$D$6","v":"Academy name"},{"$f":"'Standing data'!$F$6","v":0},"Forecast","E52",{"$f":"#REF!","v":{"$error":"#REF!"}}]
[{"$f":"'Standing data'!$D$10","v":{"$error":"#N/A"}},{"$f":"'Standing data'!$F$10","v":0},{"$f":"'Standing data'!$D$6","v":"Academy name"},{"$f":"'Standing data'!$F$6","v":0},"Forecast","E53",{"$f":"#REF!","v":{"$error":"#REF!"}}]
[{"$f":"'Standing data'!$D$10","v":{"$error":"#N/A"}},{"$f":"'Standing data'!$F$10","v":0},{"$f":"'Standing data'!$D$6","v":"Academy name"},{"$f":"'Standing data'!$F$6","v":0},"Forecast","E54",{"$f":"#REF!","v":{"$error":"#REF!"}}]
[{"$f":"'Standing data'!$D$10","v":{"$error":"#N/A"}},{"$f":"'Standing data'!$F$10","v":0},{"$f":"'Standing data'!$D$6","v":"Academy name"},{"$f":"'Standing data'!$F$6","v":0},"Forecast","E55",{"$f":"#REF!","v":{"$error":"#REF!"}}]
[{"$f":"'Standing data'!$D$10","v":{"$error":"#N/A"}},{"$f":"'Standing data'!$F$10","v":0},{"$f":"'Standing data'!$D$6","v":"Academy name"},{"$f":"'Standing data'!$F$6","v":0},"Forecast","E57",{"$f":"#REF!","v":{"$error":"#REF!"}}]
[{"$f":"'Standing data'!$D$10","v":{"$error":"#N/A"}},{"$f":"'Standing data'!$F$10","v":0},{"$f":"'Standing data'!$D$6","v":"Academy name"},{"$f":"'Standing data'!$F$6","v":0},"Forecast","E60",{"$f":"#REF!","v":{"$error":"#REF!"}}]
[{"$f":"'Standing data'!$D$10","v":{"$error":"#N/A"}},{"$f":"'Standing data'!$F$10","v":0},{"$f":"'Standing data'!$D$6","v":"Academy name"},{"$f":"'Standing data'!$F$6","v":0},"Forecast","E61",{"$f":"#REF!","v":{"$error":"#REF!"}}]
[{"$f":"'Standing data'!$D$10","v":{"$error":"#N/A"}},{"$f":"'Standing data'!$F$10","v":0},{"$f":"'Standing data'!$D$6","v":"Academy name"},{"$f":"'Standing data'!$F$6","v":0},"Forecast","E62",{"$f":"#REF!","v":{"$error":"#REF!"}}]
[{"$f":"'Standing data'!$D$10","v":{"$error":"#N/A"}},{"$f":"'Standing data'!$F$10","v":0},{"$f":"'Standing data'!$D$6","v":"Academy name"},{"$f":"'Standing data'!$F$6","v":0},"Forecast","E63",{"$f":"#REF!","v":{"$error":"#REF!"}}]
[{"$f":"'Standing data'!$D$10","v":{"$error":"#N/A"}},{"$f":"'Standing data'!$F$10","v":0},{"$f":"'Standing data'!$D$6","v":"Academy name"},{"$f":"'Standing data'!$F$6","v":0},"Forecast","E64",{"$f":"#REF!","v":{"$error":"#REF!"}}]
[{"$f":"'Standing data'!$D$10","v":{"$error":"#N/A"}},{"$f":"'Standing data'!$F$10","v":0},{"$f":"'Standing data'!$D$6","v":"Academy name"},{"$f":"'Standing data'!$F$6","v":0},"Forecast","E65",{"$f":"#REF!","v":{"$error":"#REF!"}}]
[{"$f":"'Standing data'!$D$10","v":{"$error":"#N/A"}},{"$f":"'Standing data'!$F$10","v":0},{"$f":"'Standing data'!$D$6","v":"Academy name"},{"$f":"'Standing data'!$F$6","v":0},"Forecast","E66",{"$f":"#REF!","v":{"$error":"#REF!"}}]
[{"$f":"'Standing data'!$D$10","v":{"$error":"#N/A"}},{"$f":"'Standing data'!$F$10","v":0},{"$f":"'Standing data'!$D$6","v":"Academy name"},{"$f":"'Standing data'!$F$6","v":0},"Forecast","E67",{"$f":"#REF!","v":{"$error":"#REF!"}}]
[{"$f":"'Standing data'!$D$10","v":{"$error":"#N/A"}},{"$f":"'Standing data'!$F$10","v":0},{"$f":"'Standing data'!$D$6","v":"Academy name"},{"$f":"'Standing data'!$F$6","v":0},"Forecast","E69",{"$f":"#REF!","v":{"$error":"#REF!"}}]
[{"$f":"'Standing data'!$D$10","v":{"$error":"#N/A"}},{"$f":"'Standing data'!$F$10","v":0},{"$f":"'Standing data'!$D$6","v":"Academy name"},{"$f":"'Standing data'!$F$6","v":0},"Forecast","E70",{"$f":"#REF!","v":{"$error":"#REF!"}}]
[{"$f":"'Standing data'!$D$10","v":{"$error":"#N/A"}},{"$f":"'Standing data'!$F$10","v":0},{"$f":"'Standing data'!$D$6","v":"Academy name"},{"$f":"'Standing data'!$F$6","v":0},"Forecast","E71",{"$f":"#REF!","v":{"$error":"#REF!"}}]
[{"$f":"'Standing data'!$D$10","v":{"$error":"#N/A"}},{"$f":"'Standing data'!$F$10","v":0},{"$f":"'Standing data'!$D$6","v":"Academy name"},{"$f":"'Standing data'!$F$6","v":0},"Forecast","E72",{"$f":"#REF!","v":{"$error":"#REF!"}}]
[{"$f":"'Standing data'!$D$10","v":{"$error":"#N/A"}},{"$f":"'Standing data'!$F$10","v":0},{"$f":"'Standing data'!$D$6","v":"Academy name"},{"$f":"'Standing data'!$F$6","v":0},"Forecast","E73",{"$f":"#REF!","v":{"$error":"#REF!"}}]
[{"$f":"'Standing data'!$D$10","v":{"$error":"#N/A"}},{"$f":"'Standing data'!$F$10","v":0},{"$f":"'Standing data'!$D$6","v":"Academy name"},{"$f":"'Standing data'!$F$6","v":0},"Forecast","E74",{"$f":"#REF!","v":{"$error":"#REF!"}}]
[{"$f":"'Standing data'!$D$10","v":{"$error":"#N/A"}},{"$f":"'Standing data'!$F$10","v":0},{"$f":"'Standing data'!$D$6","v":"Academy name"},{"$f":"'Standing data'!$F$6","v":0},"Forecast","E75",{"$f":"#REF!","v":{"$error":"#REF!"}}]
[{"$f":"'Standing data'!$D$10","v":{"$error":"#N/A"}},{"$f":"'Standing data'!$F$10","v":0},{"$f":"'Standing data'!$D$6","v":"Academy name"},{"$f":"'Standing data'!$F$6","v":0},"Forecast","E76",{"$f":"#REF!","v":{"$error":"#REF!"}}]
[{"$f":"'Standing data'!$D$10","v":{"$error":"#N/A"}},{"$f":"'Standing data'!$F$10","v":0},{"$f":"'Standing data'!$D$6","v":"Academy name"},{"$f":"'Standing data'!$F$6","v":0},"Forecast","E77",{"$f":"#REF!","v":{"$error":"#REF!"}}]
[{"$f":"'Standing data'!$D$10","v":{"$error":"#N/A"}},{"$f":"'Standing data'!$F$10","v":0},{"$f":"'Standing data'!$D$6","v":"Academy name"},{"$f":"'Standing data'!$F$6","v":0},"Forecast","E78",{"$f":"#REF!","v":{"$error":"#REF!"}}]
[{"$f":"'Standing data'!$D$10","v":{"$error":"#N/A"}},{"$f":"'Standing data'!$F$10","v":0},{"$f":"'Standing data'!$D$6","v":"Academy name"},{"$f":"'Standing data'!$F$6","v":0},"Forecast","E79",{"$f":"#REF!","v":{"$error":"#REF!"}}]
[{"$f":"'Standing data'!$D$10","v":{"$error":"#N/A"}},{"$f":"'Standing data'!$F$10","v":0},{"$f":"'Standing data'!$D$6","v":"Academy name"},{"$f":"'Standing data'!$F$6","v":0},"Forecast","E80",{"$f":"#REF!","v":{"$error":"#REF!"}}]
[{"$f":"'Standing data'!$D$10","v":{"$error":"#N/A"}},{"$f":"'Standing data'!$F$10","v":0},{"$f":"'Standing data'!$D$6","v":"Academy name"},{"$f":"'Standing data'!$F$6","v":0},"Forecast","E81",{"$f":"#REF!","v":{"$error":"#REF!"}}]
[{"$f":"'Standing data'!$D$10","v":{"$error":"#N/A"}},{"$f":"'Standing data'!$F$10","v":0},{"$f":"'Standing data'!$D$6","v":"Academy name"},{"$f":"'Standing data'!$F$6","v":0},"Forecast","E82",{"$f":"#REF!","v":{"$error":"#REF!"}}]
[{"$f":"'Standing data'!$D$10","v":{"$error":"#N/A"}},{"$f":"'Standing data'!$F$10","v":0},{"$f":"'Standing data'!$D$6","v":"Academy name"},{"$f":"'Standing data'!$F$6","v":0},"Forecast","E83",{"$f":"#REF!","v":{"$error":"#REF!"}}]
[{"$f":"'Standing data'!$D$10","v":{"$error":"#N/A"}},{"$f":"'Standing data'!$F$10","v":0},{"$f":"'Standing data'!$D$6","v":"Academy name"},{"$f":"'Standing data'!$F$6","v":0},"Forecast","E85",{"$f":"#REF!","v":{"$error":"#REF!"}}]
[{"$f":"'Standing data'!$D$10","v":{"$error":"#N/A"}},{"$f":"'Standing data'!$F$10","v":0},{"$f":"'Standing data'!$D$6","v":"Academy name"},{"$f":"'Standing data'!$F$6","v":0},"Forecast","E86",{"$f":"#REF!","v":{"$error":"#REF!"}}]
[{"$f":"'Standing data'!$D$10","v":{"$error":"#N/A"}},{"$f":"'Standing data'!$F$10","v":0},{"$f":"'Standing data'!$D$6","v":"Academy name"},{"$f":"'Standing data'!$F$6","v":0},"Forecast","E87",{"$f":"#REF!","v":{"$error":"#REF!"}}]
[{"$f":"'Standing data'!$D$10","v":{"$error":"#N/A"}},{"$f":"'Standing data'!$F$10","v":0},{"$f":"'Standing data'!$D$6","v":"Academy name"},{"$f":"'Standing data'!$F$6","v":0},"Forecast","E88",{"$f":"#REF!","v":{"$error":"#REF!"}}]
[{"$f":"'Standing data'!$D$10","v":{"$error":"#N/A"}},{"$f":"'Standing data'!$F$10","v":0},{"$f":"'Standing data'!$D$6","v":"Academy name"},{"$f":"'Standing data'!$F$6","v":0},"Forecast","E89",{"$f":"#REF!","v":{"$error":"#REF!"}}]
[{"$f":"'Standing data'!$D$10","v":{"$error":"#N/A"}},{"$f":"'Standing data'!$F$10","v":0},{"$f":"'Standing data'!$D$6","v":"Academy name"},{"$f":"'Standing data'!$F$6","v":0},"Forecast","E96",{"$f":"#REF!","v":{"$error":"#REF!"}}]
[{"$f":"'Standing data'!$D$10","v":{"$error":"#N/A"}},{"$f":"'Standing data'!$F$10","v":0},{"$f":"'Standing data'!$D$6","v":"Academy name"},{"$f":"'Standing data'!$F$6","v":0},"Forecast","E97",{"$f":"#REF!","v":{"$error":"#REF!"}}]
[{"$f":"'Standing data'!$D$10","v":{"$error":"#N/A"}},{"$f":"'Standing data'!$F$10","v":0},{"$f":"'Standing data'!$D$6","v":"Academy name"},{"$f":"'Standing data'!$F$6","v":0},"Forecast","E98",{"$f":"#REF!","v":{"$error":"#REF!"}}]
[{"$f":"'Standing data'!$D$10","v":{"$error":"#N/A"}},{"$f":"'Standing data'!$F$10","v":0},{"$f":"'Standing data'!$D$6","v":"Academy name"},{"$f":"'Standing data'!$F$6","v":0},"Forecast","E99",{"$f":"#REF!","v":{"$error":"#REF!"}}]
[{"$f":"'Standing data'!$D$10","v":{"$error":"#N/A"}},{"$f":"'Standing data'!$F$10","v":0},{"$f":"'Standing data'!$D$6","v":"Academy name"},{"$f":"'Standing data'!$F$6","v":0},"Forecast","E100",{"$f":"#REF!","v":{"$error":"#REF!"}}]
[{"$f":"'Standing data'!$D$10","v":{"$error":"#N/A"}},{"$f":"'Standing data'!$F$10","v":0},{"$f":"'Standing data'!$D$6","v":"Academy name"},{"$f":"'Standing data'!$F$6","v":0},"Forecast","E101",{"$f":"#REF!","v":{"$error":"#REF!"}}]
[{"$f":"'Standing data'!$D$10","v":{"$error":"#N/A"}},{"$f":"'Standing data'!$F$10","v":0},{"$f":"'Standing data'!$D$6","v":"Academy name"},{"$f":"'Standing data'!$F$6","v":0},"Forecast","E102",{"$f":"#REF!","v":{"$error":"#REF!"}}]
[{"$f":"'Standing data'!$D$10","v":{"$error":"#N/A"}},{"$f":"'Standing data'!$F$10","v":0},{"$f":"'Standing data'!$D$6","v":"Academy name"},{"$f":"'Standing data'!$F$6","v":0},"Forecast","E103",{"$f":"#REF!","v":{"$error":"#REF!"}}]
[{"$f":"'Standing data'!$D$10","v":{"$error":"#N/A"}},{"$f":"'Standing data'!$F$10","v":0},{"$f":"'Standing data'!$D$6","v":"Academy name"},{"$f":"'Standing data'!$F$6","v":0},"Forecast","E104",{"$f":"#REF!","v":{"$error":"#REF!"}}]
[{"$f":"'Standing data'!$D$10","v":{"$error":"#N/A"}},{"$f":"'Standing data'!$F$10","v":0},{"$f":"'Standing data'!$D$6","v":"Academy name"},{"$f":"'Standing data'!$F$6","v":0},"Forecast","E106",{"$f":"#REF!","v":{"$error":"#REF!"}}]
[{"$f":"'Standing data'!$D$10","v":{"$error":"#N/A"}},{"$f":"'Standing data'!$F$10","v":0},{"$f":"'Standing data'!$D$6","v":"Academy name"},{"$f":"'Standing data'!$F$6","v":0},"Forecast","E107",{"$f":"#REF!","v":{"$error":"#REF!"}}]
[{"$f":"'Standing data'!$D$10","v":{"$error":"#N/A"}},{"$f":"'Standing data'!$F$10","v":0},{"$f":"'Standing data'!$D$6","v":"Academy name"},{"$f":"'Standing data'!$F$6","v":0},"Forecast","E108",{"$f":"#REF!","v":{"$error":"#REF!"}}]
[{"$f":"'Standing data'!$D$10","v":{"$error":"#N/A"}},{"$f":"'Standing data'!$F$10","v":0},{"$f":"'Standing data'!$D$6","v":"Academy name"},{"$f":"'Standing data'!$F$6","v":0},"Forecast","E109",{"$f":"#REF!","v":{"$error":"#REF!"}}]
[{"$f":"'Standing data'!$D$10","v":{"$error":"#N/A"}},{"$f":"'Standing data'!$F$10","v":0},{"$f":"'Standing data'!$D$6","v":"Academy name"},{"$f":"'Standing data'!$F$6","v":0},"Forecast","E110",{"$f":"#REF!","v":{"$error":"#REF!"}}]
[{"$f":"'Standing data'!$D$10","v":{"$error":"#N/A"}},{"$f":"'Standing data'!$F$10","v":0},{"$f":"'Standing data'!$D$6","v":"Academy name"},{"$f":"'Standing data'!$F$6","v":0},"Forecast","E112",{"$f":"#REF!","v":{"$error":"#REF!"}}]
[{"$f":"'Standing data'!$D$10","v":{"$error":"#N/A"}},{"$f":"'Standing data'!$F$10","v":0},{"$f":"'Standing data'!$D$6","v":"Academy name"},{"$f":"'Standing data'!$F$6","v":0},"Forecast","E115",{"$f":"#REF!","v":{"$error":"#REF!"}}]
[{"$f":"'Standing data'!$D$10","v":{"$error":"#N/A"}},{"$f":"'Standing data'!$F$10","v":0},{"$f":"'Standing data'!$D$6","v":"Academy name"},{"$f":"'Standing data'!$F$6","v":0},"Forecast","E116",{"$f":"#REF!","v":{"$error":"#REF!"}}]
[{"$f":"'Standing data'!$D$10","v":{"$error":"#N/A"}},{"$f":"'Standing data'!$F$10","v":0},{"$f":"'Standing data'!$D$6","v":"Academy name"},{"$f":"'Standing data'!$F$6","v":0},"Forecast","E117",{"$f":"#REF!","v":{"$error":"#REF!"}}]
[{"$f":"'Standing data'!$D$10","v":{"$error":"#N/A"}},{"$f":"'Standing data'!$F$10","v":0},{"$f":"'Standing data'!$D$6","v":"Academy name"},{"$f":"'Standing data'!$F$6","v":0},"Forecast","E119",{"$f":"#REF!","v":{"$error":"#REF!"}}]
[{"$f":"'Standing data'!$D$10","v":{"$error":"#N/A"}},{"$f":"'Standing data'!$F$10","v":0},{"$f":"'Standing data'!$D$6","v":"Academy name"},{"$f":"'Standing data'!$F$6","v":0},"Forecast","E120",{"$f":"#REF!","v":{"$error":"#REF!"}}]
[{"$f":"'Standing data'!$D$10","v":{"$error":"#N/A"}},{"$f":"'Standing data'!$F$10","v":0},{"$f":"'Standing data'!$D$6","v":"Academy name"},{"$f":"'Standing data'!$F$6","v":0},"Forecast","E121",{"$f":"#REF!","v":{"$error":"#REF!"}}]
[{"$f":"'Standing data'!$D$10","v":{"$error":"#N/A"}},{"$f":"'Standing data'!$F$10","v":0},{"$f":"'Standing data'!$D$6","v":"Academy name"},{"$f":"'Standing data'!$F$6","v":0},"Forecast","E122",{"$f":"#REF!","v":{"$error":"#REF!"}}]
[{"$f":"'Standing data'!$D$10","v":{"$error":"#N/A"}},{"$f":"'Standing data'!$F$10","v":0},{"$f":"'Standing data'!$D$6","v":"Academy name"},{"$f":"'Standing data'!$F$6","v":0},"Forecast","E124",{"$f":"#REF!","v":{"$error":"#REF!"}}]
[{"$f":"'Standing data'!$D$10","v":{"$error":"#N/A"}},{"$f":"'Standing data'!$F$10","v":0},{"$f":"'Standing data'!$D$6","v":"Academy name"},{"$f":"'Standing data'!$F$6","v":0},"Forecast","E127",{"$f":"#REF!","v":{"$error":"#REF!"}}]
[{"$f":"'Standing data'!$D$10","v":{"$error":"#N/A"}},{"$f":"'Standing data'!$F$10","v":0},{"$f":"'Standing data'!$D$6","v":"Academy name"},{"$f":"'Standing data'!$F$6","v":0},"Forecast","E128",{"$f":"#REF!","v":{"$error":"#REF!"}}]
[{"$f":"'Standing data'!$D$10","v":{"$error":"#N/A"}},{"$f":"'Standing data'!$F$10","v":0},{"$f":"'Standing data'!$D$6","v":"Academy name"},{"$f":"'Standing data'!$F$6","v":0},"Forecast","E129",{"$f":"#REF!","v":{"$error":"#REF!"}}]
[{"$f":"'Standing data'!$D$10","v":{"$error":"#N/A"}},{"$f":"'Standing data'!$F$10","v":0},{"$f":"'Standing data'!$D$6","v":"Academy name"},{"$f":"'Standing data'!$F$6","v":0},"Forecast","E135",{"$f":"#REF!","v":{"$error":"#REF!"}}]
[{"$f":"'Standing data'!$D$10","v":{"$error":"#N/A"}},{"$f":"'Standing data'!$F$10","v":0},{"$f":"'Standing data'!$D$6","v":"Academy name"},{"$f":"'Standing data'!$F$6","v":0},"Forecast","E140",{"$f":"#REF!","v":{"$error":"#REF!"}}]
[{"$f":"'Standing data'!$D$10","v":{"$error":"#N/A"}},{"$f":"'Standing data'!$F$10","v":0},{"$f":"'Standing data'!$D$6","v":"Academy name"},{"$f":"'Standing data'!$F$6","v":0},"Forecast","E143",{"$f":"#REF!","v":{"$error":"#REF!"}}]
[{"$f":"'Standing data'!$D$10","v":{"$error":"#N/A"}},{"$f":"'Standing data'!$F$10","v":0},{"$f":"'Standing data'!$D$6","v":"Academy name"},{"$f":"'Standing data'!$F$6","v":0},"Forecast","E144",{"$f":"#REF!","v":{"$error":"#REF!"}}]
[{"$f":"'Standing data'!$D$10","v":{"$error":"#N/A"}},{"$f":"'Standing data'!$F$10","v":0},{"$f":"'Standing data'!$D$6","v":"Academy name"},{"$f":"'Standing data'!$F$6","v":0},"Forecast","E148",{"$f":"#REF!","v":{"$error":"#REF!"}}]
[{"$f":"'Standing data'!$D$10","v":{"$error":"#N/A"}},{"$f":"'Standing data'!$F$10","v":0},{"$f":"'Standing data'!$D$6","v":"Academy name"},{"$f":"'Standing data'!$F$6","v":0},"Forecast","E154",{"$f":"#REF!","v":{"$error":"#REF!"}}]
[{"$f":"'Standing data'!$D$10","v":{"$error":"#N/A"}},{"$f":"'Standing data'!$F$10","v":0},{"$f":"'Standing data'!$D$6","v":"Academy name"},{"$f":"'Standing data'!$F$6","v":0},"Forecast","E155",{"$f":"#REF!","v":{"$error":"#REF!"}}]
[{"$f":"'Standing data'!$D$10","v":{"$error":"#N/A"}},{"$f":"'Standing data'!$F$10","v":0},{"$f":"'Standing data'!$D$6","v":"Academy name"},{"$f":"'Standing data'!$F$6","v":0},"Forecast","E156",{"$f":"#REF!","v":{"$error":"#REF!"}}]
[{"$f":"'Standing data'!$D$10","v":{"$error":"#N/A"}},{"$f":"'Standing data'!$F$10","v":0},{"$f":"'Standing data'!$D$6","v":"Academy name"},{"$f":"'Standing data'!$F$6","v":0},"Forecast","E157",{"$f":"#REF!","v":{"$error":"#REF!"}}]
[{"$f":"'Standing data'!$D$10","v":{"$error":"#N/A"}},{"$f":"'Standing data'!$F$10","v":0},{"$f":"'Standing data'!$D$6","v":"Academy name"},{"$f":"'Standing data'!$F$6","v":0},"Forecast","E158",{"$f":"#REF!","v":{"$error":"#REF!"}}]
[{"$f":"'Standing data'!$D$10","v":{"$error":"#N/A"}},{"$f":"'Standing data'!$F$10","v":0},{"$f":"'Standing data'!$D$6","v":"Academy name"},{"$f":"'Standing data'!$F$6","v":0},"Forecast","E159",{"$f":"#REF!","v":{"$error":"#REF!"}}]
[{"$f":"'Standing data'!$D$10","v":{"$error":"#N/A"}},{"$f":"'Standing data'!$F$10","v":0},{"$f":"'Standing data'!$D$6","v":"Academy name"},{"$f":"'Standing data'!$F$6","v":0},"Forecast","E160",{"$f":"#REF!","v":{"$error":"#REF!"}}]
[{"$f":"'Standing data'!$D$10","v":{"$error":"#N/A"}},{"$f":"'Standing data'!$F$10","v":0},{"$f":"'Standing data'!$D$6","v":"Academy name"},{"$f":"'Standing data'!$F$6","v":0},"Forecast","E161",{"$f":"#REF!","v":{"$error":"#REF!"}}]
[{"$f":"'Standing data'!$D$10","v":{"$error":"#N/A"}},{"$f":"'Standing data'!$F$10","v":0},{"$f":"'Standing data'!$D$6","v":"Academy name"},{"$f":"'Standing data'!$F$6","v":0},"Forecast","E162",{"$f":"#REF!","v":{"$error":"#REF!"}}]
[{"$f":"'Standing data'!$D$10","v":{"$error":"#N/A"}},{"$f":"'Standing data'!$F$10","v":0},{"$f":"'Standing data'!$D$6","v":"Academy name"},{"$f":"'Standing data'!$F$6","v":0},"Forecast","E163",{"$f":"#REF!","v":{"$error":"#REF!"}}]
[{"$f":"'Standing data'!$D$10","v":{"$error":"#N/A"}},{"$f":"'Standing data'!$F$10","v":0},{"$f":"'Standing data'!$D$6","v":"Academy name"},{"$f":"'Standing data'!$F$6","v":0},"Forecast","E164",{"$f":"#REF!","v":{"$error":"#REF!"}}]
[{"$f":"'Standing data'!$D$10","v":{"$error":"#N/A"}},{"$f":"'Standing data'!$F$10","v":0},{"$f":"'Standing data'!$D$6","v":"Academy name"},{"$f":"'Standing data'!$F$6","v":0},"Forecast","E165",{"$f":"#REF!","v":{"$error":"#REF!"}}]
[{"$f":"'Standing data'!$D$10","v":{"$error":"#N/A"}},{"$f":"'Standing data'!$F$10","v":0},{"$f":"'Standing data'!$D$6","v":"Academy name"},{"$f":"'Standing data'!$F$6","v":0},"Forecast","E166",{"$f":"#REF!","v":{"$error":"#REF!"}}]
[{"$f":"'Standing data'!$D$10","v":{"$error":"#N/A"}},{"$f":"'Standing data'!$F$10","v":0},{"$f":"'Standing data'!$D$6","v":"Academy name"},{"$f":"'Standing data'!$F$6","v":0},"Forecast","E167",{"$f":"#REF!","v":{"$error":"#REF!"}}]
[{"$f":"'Standing data'!$D$10","v":{"$error":"#N/A"}},{"$f":"'Standing data'!$F$10","v":0},{"$f":"'Standing data'!$D$6","v":"Academy name"},{"$f":"'Standing data'!$F$6","v":0},"Forecast","E168",{"$f":"#REF!","v":{"$error":"#REF!"}}]
[{"$f":"'Standing data'!$D$10","v":{"$error":"#N/A"}},{"$f":"'Standing data'!$F$10","v":0},{"$f":"'Standing data'!$D$6","v":"Academy name"},{"$f":"'Standing data'!$F$6","v":0},"Forecast","E169",{"$f":"#REF!","v":{"$error":"#REF!"}}]
[{"$f":"'Standing data'!$D$10","v":{"$error":"#N/A"}},{"$f":"'Standing data'!$F$10","v":0},{"$f":"'Standing data'!$D$6","v":"Academy name"},{"$f":"'Standing data'!$F$6","v":0},"Forecast","E170",{"$f":"#REF!","v":{"$error":"#REF!"}}]
[{"$f":"'Standing data'!$D$10","v":{"$error":"#N/A"}},{"$f":"'Standing data'!$F$10","v":0},{"$f":"'Standing data'!$D$6","v":"Academy name"},{"$f":"'Standing data'!$F$6","v":0},"Forecast","E171",{"$f":"#REF!","v":{"$error":"#REF!"}}]
[{"$f":"'Standing data'!$D$10","v":{"$error":"#N/A"}},{"$f":"'Standing data'!$F$10","v":0},{"$f":"'Standing data'!$D$6","v":"Academy name"},{"$f":"'Standing data'!$F$6","v":0},"Forecast","E172",{"$f":"#REF!","v":{"$error":"#REF!"}}]
[{"$f":"'Standing data'!$D$10","v":{"$error":"#N/A"}},{"$f":"'Standing data'!$F$10","v":0},{"$f":"'Standing data'!$D$6","v":"Academy name"},{"$f":"'Standing data'!$F$6","v":0},"Forecast","E173",{"$f":"#REF!","v":{"$error":"#REF!"}}]
[{"$f":"'Standing data'!$D$10","v":{"$error":"#N/A"}},{"$f":"'Standing data'!$F$10","v":0},{"$f":"'Standing data'!$D$6","v":"Academy name"},{"$f":"'Standing data'!$F$6","v":0},"Forecast","E174",{"$f":"#REF!","v":{"$error":"#REF!"}}]
[{"$f":"'Standing data'!$D$10","v":{"$error":"#N/A"}},{"$f":"'Standing data'!$F$10","v":0},{"$f":"'Standing data'!$D$6","v":"Academy name"},{"$f":"'Standing data'!$F$6","v":0},"Forecast","E175",{"$f":"#REF!","v":{"$error":"#REF!"}}]
[{"$f":"'Standing data'!$D$10","v":{"$error":"#N/A"}},{"$f":"'Standing data'!$F$10","v":0},{"$f":"'Standing data'!$D$6","v":"Academy name"},{"$f":"'Standing data'!$F$6","v":0},"Forecast","E176",{"$f":"#REF!","v":{"$error":"#REF!"}}]
[{"$f":"'Standing data'!$D$10","v":{"$error":"#N/A"}},{"$f":"'Standing data'!$F$10","v":0},{"$f":"'Standing data'!$D$6","v":"Academy name"},{"$f":"'Standing data'!$F$6","v":0},"Forecast","E177",{"$f":"#REF!","v":{"$error":"#REF!"}}]
[{"$f":"'Standing data'!$D$10","v":{"$error":"#N/A"}},{"$f":"'Standing data'!$F$10","v":0},{"$f":"'Standing data'!$D$6","v":"Academy name"},{"$f":"'Standing data'!$F$6","v":0},"Forecast","E178",{"$f":"#REF!","v":{"$error":"#REF!"}}]
[{"$f":"'Standing data'!$D$10","v":{"$error":"#N/A"}},{"$f":"'Standing data'!$F$10","v":0},{"$f":"'Standing data'!$D$6","v":"Academy name"},{"$f":"'Standing data'!$F$6","v":0},"Forecast","E179",{"$f":"#REF!","v":{"$error":"#REF!"}}]
[{"$f":"'Standing data'!$D$10","v":{"$error":"#N/A"}},{"$f":"'Standing data'!$F$10","v":0},{"$f":"'Standing data'!$D$6","v":"Academy name"},{"$f":"'Standing data'!$F$6","v":0},"Forecast","E180",{"$f":"#REF!","v":{"$error":"#REF!"}}]
[{"$f":"'Standing data'!$D$10","v":{"$error":"#N/A"}},{"$f":"'Standing data'!$F$10","v":0},{"$f":"'Standing data'!$D$6","v":"Academy name"},{"$f":"'Standing data'!$F$6","v":0},"Forecast","E181",{"$f":"#REF!","v":{"$error":"#REF!"}}]
[{"$f":"'Standing data'!$D$10","v":{"$error":"#N/A"}},{"$f":"'Standing data'!$F$10","v":0},{"$f":"'Standing data'!$D$6","v":"Academy name"},{"$f":"'Standing data'!$F$6","v":0},"Forecast","E182",{"$f":"#REF!","v":{"$error":"#REF!"}}]
[{"$f":"'Standing data'!$D$10","v":{"$error":"#N/A"}},{"$f":"'Standing data'!$F$10","v":0},{"$f":"'Standing data'!$D$6","v":"Academy name"},{"$f":"'Standing data'!$F$6","v":0},"Forecast","E183",{"$f":"#REF!","v":{"$error":"#REF!"}}]
[{"$f":"'Standing data'!$D$10","v":{"$error":"#N/A"}},{"$f":"'Standing data'!$F$10","v":0},{"$f":"'Standing data'!$D$6","v":"Academy name"},{"$f":"'Standing data'!$F$6","v":0},"Forecast","E184",{"$f":"#REF!","v":{"$error":"#REF!"}}]
[{"$f":"'Standing data'!$D$10","v":{"$error":"#N/A"}},{"$f":"'Standing data'!$F$10","v":0},{"$f":"'Standing data'!$D$6","v":"Academy name"},{"$f":"'Standing data'!$F$6","v":0},"Forecast","E185",{"$f":"#REF!","v":{"$error":"#REF!"}}]
[{"$f":"'Standing data'!$D$10","v":{"$error":"#N/A"}},{"$f":"'Standing data'!$F$10","v":0},{"$f":"'Standing data'!$D$6","v":"Academy name"},{"$f":"'Standing data'!$F$6","v":0},"Forecast","E186",{"$f":"#REF!","v":{"$error":"#REF!"}}]
[{"$f":"'Standing data'!$D$10","v":{"$error":"#N/A"}},{"$f":"'Standing data'!$F$10","v":0},{"$f":"'Standing data'!$D$6","v":"Academy name"},{"$f":"'Standing data'!$F$6","v":0},"Forecast","E187",{"$f":"#REF!","v":{"$error":"#REF!"}}]
[{"$f":"'Standing data'!$D$10","v":{"$error":"#N/A"}},{"$f":"'Standing data'!$F$10","v":0},{"$f":"'Standing data'!$D$6","v":"Academy name"},{"$f":"'Standing data'!$F$6","v":0},"Forecast","E188",{"$f":"#REF!","v":{"$error":"#REF!"}}]
[{"$f":"'Standing data'!$D$10","v":{"$error":"#N/A"}},{"$f":"'Standing data'!$F$10","v":0},{"$f":"'Standing data'!$D$6","v":"Academy name"},{"$f":"'Standing data'!$F$6","v":0},"Forecast","E189",{"$f":"#REF!","v":{"$error":"#REF!"}}]
[{"$f":"'Standing data'!$D$10","v":{"$error":"#N/A"}},{"$f":"'Standing data'!$F$10","v":0},{"$f":"'Standing data'!$D$6","v":"Academy name"},{"$f":"'Standing data'!$F$6","v":0},"Forecast","E190",{"$f":"#REF!","v":{"$error":"#REF!"}}]
[{"$f":"'Standing data'!$D$10","v":{"$error":"#N/A"}},{"$f":"'Standing data'!$F$10","v":0},{"$f":"'Standing data'!$D$6","v":"Academy name"},{"$f":"'Standing data'!$F$6","v":0},"Forecast","E191",{"$f":"#REF!","v":{"$error":"#REF!"}}]
[{"$f":"'Standing data'!$D$10","v":{"$error":"#N/A"}},{"$f":"'Standing data'!$F$10","v":0},{"$f":"'Standing data'!$D$6","v":"Academy name"},{"$f":"'Standing data'!$F$6","v":0},"Forecast","E192",{"$f":"#REF!","v":{"$error":"#REF!"}}]
[{"$f":"'Standing data'!$D$10","v":{"$error":"#N/A"}},{"$f":"'Standing data'!$F$10","v":0},{"$f":"'Standing data'!$D$6","v":"Academy name"},{"$f":"'Standing data'!$F$6","v":0},"Forecast","E193",{"$f":"#REF!","v":{"$error":"#REF!"}}]
[{"$f":"'Standing data'!$D$10","v":{"$error":"#N/A"}},{"$f":"'Standing data'!$F$10","v":0},{"$f":"'Standing data'!$D$6","v":"Academy name"},{"$f":"'Standing data'!$F$6","v":0},"Forecast","E194",{"$f":"#REF!","v":{"$error":"#REF!"}}]
[{"$f":"'Standing data'!$D$10","v":{"$error":"#N/A"}},{"$f":"'Standing data'!$F$10","v":0},{"$f":"'Standing data'!$D$6","v":"Academy name"},{"$f":"'Standing data'!$F$6","v":0},"Forecast","E195",{"$f":"#REF!","v":{"$error":"#REF!"}}]
[{"$f":"'Standing data'!$D$10","v":{"$error":"#N/A"}},{"$f":"'Standing data'!$F$10","v":0},{"$f":"'Standing data'!$D$6","v":"Academy name"},{"$f":"'Standing data'!$F$6","v":0},"Forecast","E196",{"$f":"#REF!","v":{"$error":"#REF!"}}]
[{"$f":"'Standing data'!$D$10","v":{"$error":"#N/A"}},{"$f":"'Standing data'!$F$10","v":0},{"$f":"'Standing data'!$D$6","v":"Academy name"},{"$f":"'Standing data'!$F$6","v":0},"Forecast","E197",{"$f":"#REF!","v":{"$error":"#REF!"}}]
[{"$f":"'Standing data'!$D$10","v":{"$error":"#N/A"}},{"$f":"'Standing data'!$F$10","v":0},{"$f":"'Standing data'!$D$6","v":"Academy name"},{"$f":"'Standing data'!$F$6","v":0},"Forecast","E198",{"$f":"#REF!","v":{"$error":"#REF!"}}]
[{"$f":"'Standing data'!$D$10","v":{"$error":"#N/A"}},{"$f":"'Standing data'!$F$10","v":0},{"$f":"'Standing data'!$D$6","v":"Academy name"},{"$f":"'Standing data'!$F$6","v":0},"Forecast","E199",{"$f":"#REF!","v":{"$error":"#REF!"}}]
[{"$f":"'Standing data'!$D$10","v":{"$error":"#N/A"}},{"$f":"'Standing data'!$F$10","v":0},{"$f":"'Standing data'!$D$6","v":"Academy name"},{"$f":"'Standing data'!$F$6","v":0},"Forecast","E200",{"$f":"#REF!","v":{"$error":"#REF!"}}]
[{"$f":"'Standing data'!$D$10","v":{"$error":"#N/A"}},{"$f":"'Standing data'!$F$10","v":0},{"$f":"'Standing data'!$D$6","v":"Academy name"},{"$f":"'Standing data'!$F$6","v":0},"Forecast","E201",{"$f":"#REF!","v":{"$error":"#REF!"}}]
[{"$f":"'Standing data'!$D$10","v":{"$error":"#N/A"}},{"$f":"'Standing data'!$F$10","v":0},{"$f":"'Standing data'!$D$6","v":"Academy name"},{"$f":"'Standing data'!$F$6","v":0},"Forecast","E202",{"$f":"#REF!","v":{"$error":"#REF!"}}]
[{"$f":"'Standing data'!$D$10","v":{"$error":"#N/A"}},{"$f":"'Standing data'!$F$10","v":0},{"$f":"'Standing data'!$D$6","v":"Academy name"},{"$f":"'Standing data'!$F$6","v":0},"Forecast","E203",{"$f":"#REF!","v":{"$error":"#REF!"}}]
[{"$f":"'Standing data'!$D$10","v":{"$error":"#N/A"}},{"$f":"'Standing data'!$F$10","v":0},{"$f":"'Standing data'!$D$6","v":"Academy name"},{"$f":"'Standing data'!$F$6","v":0},"Forecast","E204",{"$f":"#REF!","v":{"$error":"#REF!"}}]
[{"$f":"'Standing data'!$D$10","v":{"$error":"#N/A"}},{"$f":"'Standing data'!$F$10","v":0},{"$f":"'Standing data'!$D$6","v":"Academy name"},{"$f":"'Standing data'!$F$6","v":0},"Forecast","E205",{"$f":"#REF!","v":{"$error":"#REF!"}}]
[{"$f":"'Standing data'!$D$10","v":{"$error":"#N/A"}},{"$f":"'Standing data'!$F$10","v":0},{"$f":"'Standing data'!$D$6","v":"Academy name"},{"$f":"'Standing data'!$F$6","v":0},"Forecast","E206",{"$f":"#REF!","v":{"$error":"#REF!"}}]
[{"$f":"'Standing data'!$D$10","v":{"$error":"#N/A"}},{"$f":"'Standing data'!$F$10","v":0},{"$f":"'Standing data'!$D$6","v":"Academy name"},{"$f":"'Standing data'!$F$6","v":0},"Forecast","E207",{"$f":"#REF!","v":{"$error":"#REF!"}}]
[{"$f":"'Standing data'!$D$10","v":{"$error":"#N/A"}},{"$f":"'Standing data'!$F$10","v":0},{"$f":"'Standing data'!$D$6","v":"Academy name"},{"$f":"'Standing data'!$F$6","v":0},"Forecast","E208",{"$f":"#REF!","v":{"$error":"#REF!"}}]
[{"$f":"'Standing data'!$D$10","v":{"$error":"#N/A"}},{"$f":"'Standing data'!$F$10","v":0},{"$f":"'Standing data'!$D$6","v":"Academy name"},{"$f":"'Standing data'!$F$6","v":0},"Forecast","E209",{"$f":"#REF!","v":{"$error":"#REF!"}}]
[{"$f":"'Standing data'!$D$10","v":{"$error":"#N/A"}},{"$f":"'Standing data'!$F$10","v":0},{"$f":"'Standing data'!$D$6","v":"Academy name"},{"$f":"'Standing data'!$F$6","v":0},"Forecast","E210",{"$f":"#REF!","v":{"$error":"#REF!"}}]
[{"$f":"'Standing data'!$D$10","v":{"$error":"#N/A"}},{"$f":"'Standing data'!$F$10","v":0},{"$f":"'Standing data'!$D$6","v":"Academy name"},{"$f":"'Standing data'!$F$6","v":0},"Forecast","E211",{"$f":"#REF!","v":{"$error":"#REF!"}}]
[{"$f":"'Standing data'!$D$10","v":{"$error":"#N/A"}},{"$f":"'Standing data'!$F$10","v":0},{"$f":"'Standing data'!$D$6","v":"Academy name"},{"$f":"'Standing data'!$F$6","v":0},"Forecast","E212",{"$f":"#REF!","v":{"$error":"#REF!"}}]
[{"$f":"'Standing data'!$D$10","v":{"$error":"#N/A"}},{"$f":"'Standing data'!$F$10","v":0},{"$f":"'Standing data'!$D$6","v":"Academy name"},{"$f":"'Standing data'!$F$6","v":0},"Forecast","E213",{"$f":"#REF!","v":{"$error":"#REF!"}}]
[{"$f":"'Standing data'!$D$10","v":{"$error":"#N/A"}},{"$f":"'Standing data'!$F$10","v":0},{"$f":"'Standing data'!$D$6","v":"Academy name"},{"$f":"'Standing data'!$F$6","v":0},"Forecast","E214",{"$f":"#REF!","v":{"$error":"#REF!"}}]
[{"$f":"'Standing data'!$D$10","v":{"$error":"#N/A"}},{"$f":"'Standing data'!$F$10","v":0},{"$f":"'Standing data'!$D$6","v":"Academy name"},{"$f":"'Standing data'!$F$6","v":0},"Forecast","E215",{"$f":"#REF!","v":{"$error":"#REF!"}}]
[{"$f":"'Standing data'!$D$10","v":{"$error":"#N/A"}},{"$f":"'Standing data'!$F$10","v":0},{"$f":"'Standing data'!$D$6","v":"Academy name"},{"$f":"'Standing data'!$F$6","v":0},"Forecast","E216",{"$f":"#REF!","v":{"$error":"#REF!"}}]
[{"$f":"'Standing data'!$D$10","v":{"$error":"#N/A"}},{"$f":"'Standing data'!$F$10","v":0},{"$f":"'Standing data'!$D$6","v":"Academy name"},{"$f":"'Standing data'!$F$6","v":0},"Forecast","E217",{"$f":"#REF!","v":{"$error":"#REF!"}}]
[{"$f":"'Standing data'!$D$10","v":{"$error":"#N/A"}},{"$f":"'Standing data'!$F$10","v":0},{"$f":"'Standing data'!$D$6","v":"Academy name"},{"$f":"'Standing data'!$F$6","v":0},"Forecast","E218",{"$f":"#REF!","v":{"$error":"#REF!"}}]
[{"$f":"'Standing data'!$D$10","v":{"$error":"#N/A"}},{"$f":"'Standing data'!$F$10","v":0},{"$f":"'Standing data'!$D$6","v":"Academy name"},{"$f":"'Standing data'!$F$6","v":0},"Forecast","E219",{"$f":"#REF!","v":{"$error":"#REF!"}}]
[{"$f":"'Standing data'!$D$10","v":{"$error":"#N/A"}},{"$f":"'Standing data'!$F$10","v":0},{"$f":"'Standing data'!$D$6","v":"Academy name"},{"$f":"'Standing data'!$F$6","v":0},"Forecast","E220",{"$f":"#REF!","v":{"$error":"#REF!"}}]
[{"$f":"'Standing data'!$D$10","v":{"$error":"#N/A"}},{"$f":"'Standing data'!$F$10","v":0},{"$f":"'Standing data'!$D$6","v":"Academy name"},{"$f":"'Standing data'!$F$6","v":0},"Forecast","E221",{"$f":"#REF!","v":{"$error":"#REF!"}}]
[{"$f":"'Standing data'!$D$10","v":{"$error":"#N/A"}},{"$f":"'Standing data'!$F$10","v":0},{"$f":"'Standing data'!$D$6","v":"Academy name"},{"$f":"'Standing data'!$F$6","v":0},"Forecast","E222",{"$f":"#REF!","v":{"$error":"#REF!"}}]
[{"$f":"'Standing data'!$D$10","v":{"$error":"#N/A"}},{"$f":"'Standing data'!$F$10","v":0},{"$f":"'Standing data'!$D$6","v":"Academy name"},{"$f":"'Standing data'!$F$6","v":0},"Forecast","E223",{"$f":"#REF!","v":{"$error":"#REF!"}}]
[{"$f":"'Standing data'!$D$10","v":{"$error":"#N/A"}},{"$f":"'Standing data'!$F$10","v":0},{"$f":"'Standing data'!$D$6","v":"Academy name"},{"$f":"'Standing data'!$F$6","v":0},"Forecast","E224",{"$f":"#REF!","v":{"$error":"#REF!"}}]
[{"$f":"'Standing data'!$D$10","v":{"$error":"#N/A"}},{"$f":"'Standing data'!$F$10","v":0},{"$f":"'Standing data'!$D$6","v":"Academy name"},{"$f":"'Standing data'!$F$6","v":0},"Forecast","E225",{"$f":"#REF!","v":{"$error":"#REF!"}}]
[{"$f":"'Standing data'!$D$10","v":{"$error":"#N/A"}},{"$f":"'Standing data'!$F$10","v":0},{"$f":"'Standing data'!$D$6","v":"Academy name"},{"$f":"'Standing data'!$F$6","v":0},"Forecast","E226",{"$f":"#REF!","v":{"$error":"#REF!"}}]
[{"$f":"'Standing data'!$D$10","v":{"$error":"#N/A"}},{"$f":"'Standing data'!$F$10","v":0},{"$f":"'Standing data'!$D$6","v":"Academy name"},{"$f":"'Standing data'!$F$6","v":0},"Forecast","E227",{"$f":"#REF!","v":{"$error":"#REF!"}}]
[{"$f":"'Standing data'!$D$10","v":{"$error":"#N/A"}},{"$f":"'Standing data'!$F$10","v":0},{"$f":"'Standing data'!$D$6","v":"Academy name"},{"$f":"'Standing data'!$F$6","v":0},"Forecast","E228",{"$f":"#REF!","v":{"$error":"#REF!"}}]
[{"$f":"'Standing data'!$D$10","v":{"$error":"#N/A"}},{"$f":"'Standing data'!$F$10","v":0},{"$f":"'Standing data'!$D$6","v":"Academy name"},{"$f":"'Standing data'!$F$6","v":0},"Forecast","E229",{"$f":"#REF!","v":{"$error":"#REF!"}}]
[{"$f":"'Standing data'!$D$10","v":{"$error":"#N/A"}},{"$f":"'Standing data'!$F$10","v":0},{"$f":"'Standing data'!$D$6","v":"Academy name"},{"$f":"'Standing data'!$F$6","v":0},"Forecast","E230",{"$f":"#REF!","v":{"$error":"#REF!"}}]
[{"$f":"'Standing data'!$D$10","v":{"$error":"#N/A"}},{"$f":"'Standing data'!$F$10","v":0},{"$f":"'Standing data'!$D$6","v":"Academy name"},{"$f":"'Standing data'!$F$6","v":0},"Forecast","E231",{"$f":"#REF!","v":{"$error":"#REF!"}}]
[{"$f":"'Standing data'!$D$10","v":{"$error":"#N/A"}},{"$f":"'Standing data'!$F$10","v":0},{"$f":"'Standing data'!$D$6","v":"Academy name"},{"$f":"'Standing data'!$F$6","v":0},"Forecast","E232",{"$f":"#REF!","v":{"$error":"#REF!"}}]
[{"$f":"'Standing data'!$D$10","v":{"$error":"#N/A"}},{"$f":"'Standing data'!$F$10","v":0},{"$f":"'Standing data'!$D$6","v":"Academy name"},{"$f":"'Standing data'!$F$6","v":0},"Forecast","E233",{"$f":"#REF!","v":{"$error":"#REF!"}}]
[{"$f":"'Standing data'!$D$10","v":{"$error":"#N/A"}},{"$f":"'Standing data'!$F$10","v":0},{"$f":"'Standing data'!$D$6","v":"Academy name"},{"$f":"'Standing data'!$F$6","v":0},"Forecast","E234",{"$f":"#REF!","v":{"$error":"#REF!"}}]
[{"$f":"'Standing data'!$D$10","v":{"$error":"#N/A"}},{"$f":"'Standing data'!$F$10","v":0},{"$f":"'Standing data'!$D$6","v":"Academy name"},{"$f":"'Standing data'!$F$6","v":0},"Forecast","E235",{"$f":"#REF!","v":{"$error":"#REF!"}}]
[{"$f":"'Standing data'!$D$10","v":{"$error":"#N/A"}},{"$f":"'Standing data'!$F$10","v":0},{"$f":"'Standing data'!$D$6","v":"Academy name"},{"$f":"'Standing data'!$F$6","v":0},"Forecast","E236",{"$f":"#REF!","v":{"$error":"#REF!"}}]
[{"$f":"'Standing data'!$D$10","v":{"$error":"#N/A"}},{"$f":"'Standing data'!$F$10","v":0},{"$f":"'Standing data'!$D$6","v":"Academy name"},{"$f":"'Standing data'!$F$6","v":0},"Forecast","E237",{"$f":"#REF!","v":{"$error":"#REF!"}}]
[{"$f":"'Standing data'!$D$10","v":{"$error":"#N/A"}},{"$f":"'Standing data'!$F$10","v":0},{"$f":"'Standing data'!$D$6","v":"Academy name"},{"$f":"'Standing data'!$F$6","v":0},"Forecast","E238",{"$f":"#REF!","v":{"$error":"#REF!"}}]
[{"$f":"'Standing data'!$D$10","v":{"$error":"#N/A"}},{"$f":"'Standing data'!$F$10","v":0},{"$f":"'Standing data'!$D$6","v":"Academy name"},{"$f":"'Standing data'!$F$6","v":0},"Forecast","E239",{"$f":"#REF!","v":{"$error":"#REF!"}}]
[{"$f":"'Standing data'!$D$10","v":{"$error":"#N/A"}},{"$f":"'Standing data'!$F$10","v":0},{"$f":"'Standing data'!$D$6","v":"Academy name"},{"$f":"'Standing data'!$F$6","v":0},"Forecast","E240",{"$f":"#REF!","v":{"$error":"#REF!"}}]
[{"$f":"'Standing data'!$D$10","v":{"$error":"#N/A"}},{"$f":"'Standing data'!$F$10","v":0},{"$f":"'Standing data'!$D$6","v":"Academy name"},{"$f":"'Standing data'!$F$6","v":0},"Forecast","E241",{"$f":"#REF!","v":{"$error":"#REF!"}}]
[{"$f":"'Standing data'!$D$10","v":{"$error":"#N/A"}},{"$f":"'Standing data'!$F$10","v":0},{"$f":"'Standing data'!$D$6","v":"Academy name"},{"$f":"'Standing data'!$F$6","v":0},"Forecast","E242",{"$f":"#REF!","v":{"$error":"#REF!"}}]
[{"$f":"'Standing data'!$D$10","v":{"$error":"#N/A"}},{"$f":"'Standing data'!$F$10","v":0},{"$f":"'Standing data'!$D$6","v":"Academy name"},{"$f":"'Standing data'!$F$6","v":0},"Forecast","E243",{"$f":"#REF!","v":{"$error":"#REF!"}}]
[{"$f":"'Standing data'!$D$10","v":{"$error":"#N/A"}},{"$f":"'Standing data'!$F$10","v":0},{"$f":"'Standing data'!$D$6","v":"Academy name"},{"$f":"'Standing data'!$F$6","v":0},"Forecast","E244",{"$f":"#REF!","v":{"$error":"#REF!"}}]
[{"$f":"'Standing data'!$D$10","v":{"$error":"#N/A"}},{"$f":"'Standing data'!$F$10","v":0},{"$f":"'Standing data'!$D$6","v":"Academy name"},{"$f":"'Standing data'!$F$6","v":0},"Forecast","E245",{"$f":"#REF!","v":{"$error":"#REF!"}}]
[{"$f":"'Standing data'!$D$10","v":{"$error":"#N/A"}},{"$f":"'Standing data'!$F$10","v":0},{"$f":"'Standing data'!$D$6","v":"Academy name"},{"$f":"'Standing data'!$F$6","v":0},"Forecast","E246",{"$f":"#REF!","v":{"$error":"#REF!"}}]
[{"$f":"'Standing data'!$D$10","v":{"$error":"#N/A"}},{"$f":"'Standing data'!$F$10","v":0},{"$f":"'Standing data'!$D$6","v":"Academy name"},{"$f":"'Standing data'!$F$6","v":0},"Forecast","E247",{"$f":"#REF!","v":{"$error":"#REF!"}}]
[{"$f":"'Standing data'!$D$10","v":{"$error":"#N/A"}},{"$f":"'Standing data'!$F$10","v":0},{"$f":"'Standing data'!$D$6","v":"Academy name"},{"$f":"'Standing data'!$F$6","v":0},"Forecast","E248",{"$f":"#REF!","v":{"$error":"#REF!"}}]
[{"$f":"'Standing data'!$D$10","v":{"$error":"#N/A"}},{"$f":"'Standing data'!$F$10","v":0},{"$f":"'Standing data'!$D$6","v":"Academy name"},{"$f":"'Standing data'!$F$6","v":0},"Forecast","E249",{"$f":"#REF!","v":{"$error":"#REF!"}}]
[{"$f":"'Standing data'!$D$10","v":{"$error":"#N/A"}},{"$f":"'Standing data'!$F$10","v":0},{"$f":"'Standing data'!$D$6","v":"Academy name"},{"$f":"'Standing data'!$F$6","v":0},"Forecast","E250",{"$f":"#REF!","v":{"$error":"#REF!"}}]
[{"$f":"'Standing data'!$D$10","v":{"$error":"#N/A"}},{"$f":"'Standing data'!$F$10","v":0},{"$f":"'Standing data'!$D$6","v":"Academy name"},{"$f":"'Standing data'!$F$6","v":0},"Forecast","E251",{"$f":"#REF!","v":{"$error":"#REF!"}}]
[{"$f":"'Standing data'!$D$10","v":{"$error":"#N/A"}},{"$f":"'Standing data'!$F$10","v":0},{"$f":"'Standing data'!$D$6","v":"Academy name"},{"$f":"'Standing data'!$F$6","v":0},"Forecast","E252",{"$f":"#REF!","v":{"$error":"#REF!"}}]
[{"$f":"'Standing data'!$D$10","v":{"$error":"#N/A"}},{"$f":"'Standing data'!$F$10","v":0},{"$f":"'Standing data'!$D$6","v":"Academy name"},{"$f":"'Standing data'!$F$6","v":0},"Forecast","E253",{"$f":"#REF!","v":{"$error":"#REF!"}}]
[{"$f":"'Standing data'!$D$10","v":{"$error":"#N/A"}},{"$f":"'Standing data'!$F$10","v":0},{"$f":"'Standing data'!$D$6","v":"Academy name"},{"$f":"'Standing data'!$F$6","v":0},"Forecast","E256",{"$f":"#REF!","v":{"$error":"#REF!"}}]
[{"$f":"'Standing data'!$D$10","v":{"$error":"#N/A"}},{"$f":"'Standing data'!$F$10","v":0},{"$f":"'Standing data'!$D$6","v":"Academy name"},{"$f":"'Standing data'!$F$6","v":0},"Forecast","E257",{"$f":"#REF!","v":{"$error":"#REF!"}}]
[{"$f":"'Standing data'!$D$10","v":{"$error":"#N/A"}},{"$f":"'Standing data'!$F$10","v":0},{"$f":"'Standing data'!$D$6","v":"Academy name"},{"$f":"'Standing data'!$F$6","v":0},"Forecast","E258",{"$f":"#REF!","v":{"$error":"#REF!"}}]
[{"$f":"'Standing data'!$D$10","v":{"$error":"#N/A"}},{"$f":"'Standing data'!$F$10","v":0},{"$f":"'Standing data'!$D$6","v":"Academy name"},{"$f":"'Standing data'!$F$6","v":0},"Forecast","E259",{"$f":"#REF!","v":{"$error":"#REF!"}}]
[{"$f":"'Standing data'!$D$10","v":{"$error":"#N/A"}},{"$f":"'Standing data'!$F$10","v":0},{"$f":"'Standing data'!$D$6","v":"Academy name"},{"$f":"'Standing data'!$F$6","v":0},"Forecast","E260",{"$f":"#REF!","v":{"$error":"#REF!"}}]
[{"$f":"'Standing data'!$D$10","v":{"$error":"#N/A"}},{"$f":"'Standing data'!$F$10","v":0},{"$f":"'Standing data'!$D$6","v":"Academy name"},{"$f":"'Standing data'!$F$6","v":0},"Forecast","E261",{"$f":"#REF!","v":{"$error":"#REF!"}}]
[{"$f":"'Standing data'!$D$10","v":{"$error":"#N/A"}},{"$f":"'Standing data'!$F$10","v":0},{"$f":"'Standing data'!$D$6","v":"Academy name"},{"$f":"'Standing data'!$F$6","v":0},"Forecast","E262",{"$f":"#REF!","v":{"$error":"#REF!"}}]
[{"$f":"'Standing data'!$D$10","v":{"$error":"#N/A"}},{"$f":"'Standing data'!$F$10","v":0},{"$f":"'Standing data'!$D$6","v":"Academy name"},{"$f":"'Standing data'!$F$6","v":0},"Forecast","E263",{"$f":"#REF!","v":{"$error":"#REF!"}}]
[{"$f":"'Standing data'!$D$10","v":{"$error":"#N/A"}},{"$f":"'Standing data'!$F$10","v":0},{"$f":"'Standing data'!$D$6","v":"Academy name"},{"$f":"'Standing data'!$F$6","v":0},"Forecast","E264",{"$f":"#REF!","v":{"$error":"#REF!"}}]
[{"$f":"'Standing data'!$D$10","v":{"$error":"#N/A"}},{"$f":"'Standing data'!$F$10","v":0},{"$f":"'Standing data'!$D$6","v":"Academy name"},{"$f":"'Standing data'!$F$6","v":0},"Forecast","E265",{"$f":"#REF!","v":{"$error":"#REF!"}}]
[{"$f":"'Standing data'!$D$10","v":{"$error":"#N/A"}},{"$f":"'Standing data'!$F$10","v":0},{"$f":"'Standing data'!$D$6","v":"Academy name"},{"$f":"'Standing data'!$F$6","v":0},"Forecast","E266",{"$f":"#REF!","v":{"$error":"#REF!"}}]
[{"$f":"'Standing data'!$D$10","v":{"$error":"#N/A"}},{"$f":"'Standing data'!$F$10","v":0},{"$f":"'Standing data'!$D$6","v":"Academy name"},{"$f":"'Standing data'!$F$6","v":0},"Forecast","E267",{"$f":"#REF!","v":{"$error":"#REF!"}}]
[{"$f":"'Standing data'!$D$10","v":{"$error":"#N/A"}},{"$f":"'Standing data'!$F$10","v":0},{"$f":"'Standing data'!$D$6","v":"Academy name"},{"$f":"'Standing data'!$F$6","v":0},"Forecast","E268",{"$f":"#REF!","v":{"$error":"#REF!"}}]
[{"$f":"'Standing data'!$D$10","v":{"$error":"#N/A"}},{"$f":"'Standing data'!$F$10","v":0},{"$f":"'Standing data'!$D$6","v":"Academy name"},{"$f":"'Standing data'!$F$6","v":0},"Forecast","E269",{"$f":"#REF!","v":{"$error":"#REF!"}}]
[{"$f":"'Standing data'!$D$10","v":{"$error":"#N/A"}},{"$f":"'Standing data'!$F$10","v":0},{"$f":"'Standing data'!$D$6","v":"Academy name"},{"$f":"'Standing data'!$F$6","v":0},"Forecast","E270",{"$f":"#REF!","v":{"$error":"#REF!"}}]
[{"$f":"'Standing data'!$D$10","v":{"$error":"#N/A"}},{"$f":"'Standing data'!$F$10","v":0},{"$f":"'Standing data'!$D$6","v":"Academy name"},{"$f":"'Standing data'!$F$6","v":0},"Forecast","E271",{"$f":"#REF!","v":{"$error":"#REF!"}}]
[{"$f":"'Standing data'!$D$10","v":{"$error":"#N/A"}},{"$f":"'Standing data'!$F$10","v":0},{"$f":"'Standing data'!$D$6","v":"Academy name"},{"$f":"'Standing data'!$F$6","v":0},"Forecast","E272",{"$f":"#REF!","v":{"$error":"#REF!"}}]
[{"$f":"'Standing data'!$D$10","v":{"$error":"#N/A"}},{"$f":"'Standing data'!$F$10","v":0},{"$f":"'Standing data'!$D$6","v":"Academy name"},{"$f":"'Standing data'!$F$6","v":0},"Forecast","E273",{"$f":"#REF!","v":{"$error":"#REF!"}}]
[{"$f":"'Standing data'!$D$10","v":{"$error":"#N/A"}},{"$f":"'Standing data'!$F$10","v":0},{"$f":"'Standing data'!$D$6","v":"Academy name"},{"$f":"'Standing data'!$F$6","v":0},"Forecast","E274",{"$f":"#REF!","v":{"$error":"#REF!"}}]
[{"$f":"'Standing data'!$D$10","v":{"$error":"#N/A"}},{"$f":"'Standing data'!$F$10","v":0},{"$f":"'Standing data'!$D$6","v":"Academy name"},{"$f":"'Standing data'!$F$6","v":0},"Forecast","E275",{"$f":"#REF!","v":{"$error":"#REF!"}}]
[{"$f":"'Standing data'!$D$10","v":{"$error":"#N/A"}},{"$f":"'Standing data'!$F$10","v":0},{"$f":"'Standing data'!$D$6","v":"Academy name"},{"$f":"'Standing data'!$F$6","v":0},"Forecast","E276",{"$f":"#REF!","v":{"$error":"#REF!"}}]
[{"$f":"'Standing data'!$D$10","v":{"$error":"#N/A"}},{"$f":"'Standing data'!$F$10","v":0},{"$f":"'Standing data'!$D$6","v":"Academy name"},{"$f":"'Standing data'!$F$6","v":0},"Forecast","E277",{"$f":"#REF!","v":{"$error":"#REF!"}}]
[{"$f":"'Standing data'!$D$10","v":{"$error":"#N/A"}},{"$f":"'Standing data'!$F$10","v":0},{"$f":"'Standing data'!$D$6","v":"Academy name"},{"$f":"'Standing data'!$F$6","v":0},"Forecast","E278",{"$f":"#REF!","v":{"$error":"#REF!"}}]
[{"$f":"'Standing data'!$D$10","v":{"$error":"#N/A"}},{"$f":"'Standing data'!$F$10","v":0},{"$f":"'Standing data'!$D$6","v":"Academy name"},{"$f":"'Standing data'!$F$6","v":0},"Forecast","E279",{"$f":"#REF!","v":{"$error":"#REF!"}}]
[{"$f":"'Standing data'!$D$10","v":{"$error":"#N/A"}},{"$f":"'Standing data'!$F$10","v":0},{"$f":"'Standing data'!$D$6","v":"Academy name"},{"$f":"'Standing data'!$F$6","v":0},"Forecast","E280",{"$f":"#REF!","v":{"$error":"#REF!"}}]
[{"$f":"'Standing data'!$D$10","v":{"$error":"#N/A"}},{"$f":"'Standing data'!$F$10","v":0},{"$f":"'Standing data'!$D$6","v":"Academy name"},{"$f":"'Standing data'!$F$6","v":0},"Forecast","E281",{"$f":"#REF!","v":{"$error":"#REF!"}}]
[{"$f":"'Standing data'!$D$10","v":{"$error":"#N/A"}},{"$f":"'Standing data'!$F$10","v":0},{"$f":"'Standing data'!$D$6","v":"Academy name"},{"$f":"'Standing data'!$F$6","v":0},"Forecast","E282",{"$f":"#REF!","v":{"$error":"#REF!"}}]
[{"$f":"'Standing data'!$D$10","v":{"$error":"#N/A"}},{"$f":"'Standing data'!$F$10","v":0},{"$f":"'Standing data'!$D$6","v":"Academy name"},{"$f":"'Standing data'!$F$6","v":0},"Forecast","E283",{"$f":"#REF!","v":{"$error":"#REF!"}}]
[{"$f":"'Standing data'!$D$10","v":{"$error":"#N/A"}},{"$f":"'Standing data'!$F$10","v":0},{"$f":"'Standing data'!$D$6","v":"Academy name"},{"$f":"'Standing data'!$F$6","v":0},"Forecast","E284",{"$f":"#REF!","v":{"$error":"#REF!"}}]
[{"$f":"'Standing data'!$D$10","v":{"$error":"#N/A"}},{"$f":"'Standing data'!$F$10","v":0},{"$f":"'Standing data'!$D$6","v":"Academy name"},{"$f":"'Standing data'!$F$6","v":0},"Forecast","E285",{"$f":"#REF!","v":{"$error":"#REF!"}}]
[{"$f":"'Standing data'!$D$10","v":{"$error":"#N/A"}},{"$f":"'Standing data'!$F$10","v":0},{"$f":"'Standing data'!$D$6","v":"Academy name"},{"$f":"'Standing data'!$F$6","v":0},"Forecast","E286",{"$f":"#REF!","v":{"$error":"#REF!"}}]
[{"$f":"'Standing data'!$D$10","v":{"$error":"#N/A"}},{"$f":"'Standing data'!$F$10","v":0},{"$f":"'Standing data'!$D$6","v":"Academy name"},{"$f":"'Standing data'!$F$6","v":0},"Forecast","E287",{"$f":"#REF!","v":{"$error":"#REF!"}}]
[{"$f":"'Standing data'!$D$10","v":{"$error":"#N/A"}},{"$f":"'Standing data'!$F$10","v":0},{"$f":"'Standing data'!$D$6","v":"Academy name"},{"$f":"'Standing data'!$F$6","v":0},"Forecast","F10",{"$f":"#REF!","v":{"$error":"#REF!"}}]
[{"$f":"'Standing data'!$D$10","v":{"$error":"#N/A"}},{"$f":"'Standing data'!$F$10","v":0},{"$f":"'Standing data'!$D$6","v":"Academy name"},{"$f":"'Standing data'!$F$6","v":0},"Forecast","F11",{"$f":"#REF!","v":{"$error":"#REF!"}}]
[{"$f":"'Standing data'!$D$10","v":{"$error":"#N/A"}},{"$f":"'Standing data'!$F$10","v":0},{"$f":"'Standing data'!$D$6","v":"Academy name"},{"$f":"'Standing data'!$F$6","v":0},"Forecast","F12",{"$f":"#REF!","v":{"$error":"#REF!"}}]
[{"$f":"'Standing data'!$D$10","v":{"$error":"#N/A"}},{"$f":"'Standing data'!$F$10","v":0},{"$f":"'Standing data'!$D$6","v":"Academy name"},{"$f":"'Standing data'!$F$6","v":0},"Forecast","F13",{"$f":"#REF!","v":{"$error":"#REF!"}}]
[{"$f":"'Standing data'!$D$10","v":{"$error":"#N/A"}},{"$f":"'Standing data'!$F$10","v":0},{"$f":"'Standing data'!$D$6","v":"Academy name"},{"$f":"'Standing data'!$F$6","v":0},"Forecast","F14",{"$f":"#REF!","v":{"$error":"#REF!"}}]
[{"$f":"'Standing data'!$D$10","v":{"$error":"#N/A"}},{"$f":"'Standing data'!$F$10","v":0},{"$f":"'Standing data'!$D$6","v":"Academy name"},{"$f":"'Standing data'!$F$6","v":0},"Forecast","F15",{"$f":"#REF!","v":{"$error":"#REF!"}}]
[{"$f":"'Standing data'!$D$10","v":{"$error":"#N/A"}},{"$f":"'Standing data'!$F$10","v":0},{"$f":"'Standing data'!$D$6","v":"Academy name"},{"$f":"'Standing data'!$F$6","v":0},"Forecast","F16",{"$f":"#REF!","v":{"$error":"#REF!"}}]
[{"$f":"'Standing data'!$D$10","v":{"$error":"#N/A"}},{"$f":"'Standing data'!$F$10","v":0},{"$f":"'Standing data'!$D$6","v":"Academy name"},{"$f":"'Standing data'!$F$6","v":0},"Forecast","F17",{"$f":"#REF!","v":{"$error":"#REF!"}}]
[{"$f":"'Standing data'!$D$10","v":{"$error":"#N/A"}},{"$f":"'Standing data'!$F$10","v":0},{"$f":"'Standing data'!$D$6","v":"Academy name"},{"$f":"'Standing data'!$F$6","v":0},"Forecast","F18",{"$f":"#REF!","v":{"$error":"#REF!"}}]
[{"$f":"'Standing data'!$D$10","v":{"$error":"#N/A"}},{"$f":"'Standing data'!$F$10","v":0},{"$f":"'Standing data'!$D$6","v":"Academy name"},{"$f":"'Standing data'!$F$6","v":0},"Forecast","F19",{"$f":"#REF!","v":{"$error":"#REF!"}}]
[{"$f":"'Standing data'!$D$10","v":{"$error":"#N/A"}},{"$f":"'Standing data'!$F$10","v":0},{"$f":"'Standing data'!$D$6","v":"Academy name"},{"$f":"'Standing data'!$F$6","v":0},"Forecast","F32",{"$f":"#REF!","v":{"$error":"#REF!"}}]
[{"$f":"'Standing data'!$D$10","v":{"$error":"#N/A"}},{"$f":"'Standing data'!$F$10","v":0},{"$f":"'Standing data'!$D$6","v":"Academy name"},{"$f":"'Standing data'!$F$6","v":0},"Forecast","F33",{"$f":"#REF!","v":{"$error":"#REF!"}}]
[{"$f":"'Standing data'!$D$10","v":{"$error":"#N/A"}},{"$f":"'Standing data'!$F$10","v":0},{"$f":"'Standing data'!$D$6","v":"Academy name"},{"$f":"'Standing data'!$F$6","v":0},"Forecast","F34",{"$f":"#REF!","v":{"$error":"#REF!"}}]
[{"$f":"'Standing data'!$D$10","v":{"$error":"#N/A"}},{"$f":"'Standing data'!$F$10","v":0},{"$f":"'Standing data'!$D$6","v":"Academy name"},{"$f":"'Standing data'!$F$6","v":0},"Forecast","F35",{"$f":"#REF!","v":{"$error":"#REF!"}}]
[{"$f":"'Standing data'!$D$10","v":{"$error":"#N/A"}},{"$f":"'Standing data'!$F$10","v":0},{"$f":"'Standing data'!$D$6","v":"Academy name"},{"$f":"'Standing data'!$F$6","v":0},"Forecast","F36",{"$f":"#REF!","v":{"$error":"#REF!"}}]
[{"$f":"'Standing data'!$D$10","v":{"$error":"#N/A"}},{"$f":"'Standing data'!$F$10","v":0},{"$f":"'Standing data'!$D$6","v":"Academy name"},{"$f":"'Standing data'!$F$6","v":0},"Forecast","F37",{"$f":"#REF!","v":{"$error":"#REF!"}}]
[{"$f":"'Standing data'!$D$10","v":{"$error":"#N/A"}},{"$f":"'Standing data'!$F$10","v":0},{"$f":"'Standing data'!$D$6","v":"Academy name"},{"$f":"'Standing data'!$F$6","v":0},"Forecast","F38",{"$f":"#REF!","v":{"$error":"#REF!"}}]
[{"$f":"'Standing data'!$D$10","v":{"$error":"#N/A"}},{"$f":"'Standing data'!$F$10","v":0},{"$f":"'Standing data'!$D$6","v":"Academy name"},{"$f":"'Standing data'!$F$6","v":0},"Forecast","F39",{"$f":"#REF!","v":{"$error":"#REF!"}}]
[{"$f":"'Standing data'!$D$10","v":{"$error":"#N/A"}},{"$f":"'Standing data'!$F$10","v":0},{"$f":"'Standing data'!$D$6","v":"Academy name"},{"$f":"'Standing data'!$F$6","v":0},"Forecast","F40",{"$f":"#REF!","v":{"$error":"#REF!"}}]
[{"$f":"'Standing data'!$D$10","v":{"$error":"#N/A"}},{"$f":"'Standing data'!$F$10","v":0},{"$f":"'Standing data'!$D$6","v":"Academy name"},{"$f":"'Standing data'!$F$6","v":0},"Forecast","F41",{"$f":"#REF!","v":{"$error":"#REF!"}}]
[{"$f":"'Standing data'!$D$10","v":{"$error":"#N/A"}},{"$f":"'Standing data'!$F$10","v":0},{"$f":"'Standing data'!$D$6","v":"Academy name"},{"$f":"'Standing data'!$F$6","v":0},"Forecast","F42",{"$f":"#REF!","v":{"$error":"#REF!"}}]
[{"$f":"'Standing data'!$D$10","v":{"$error":"#N/A"}},{"$f":"'Standing data'!$F$10","v":0},{"$f":"'Standing data'!$D$6","v":"Academy name"},{"$f":"'Standing data'!$F$6","v":0},"Forecast","F43",{"$f":"#REF!","v":{"$error":"#REF!"}}]
[{"$f":"'Standing data'!$D$10","v":{"$error":"#N/A"}},{"$f":"'Standing data'!$F$10","v":0},{"$f":"'Standing data'!$D$6","v":"Academy name"},{"$f":"'Standing data'!$F$6","v":0},"Forecast","F45",{"$f":"#REF!","v":{"$error":"#REF!"}}]
[{"$f":"'Standing data'!$D$10","v":{"$error":"#N/A"}},{"$f":"'Standing data'!$F$10","v":0},{"$f":"'Standing data'!$D$6","v":"Academy name"},{"$f":"'Standing data'!$F$6","v":0},"Forecast","F46",{"$f":"#REF!","v":{"$error":"#REF!"}}]
[{"$f":"'Standing data'!$D$10","v":{"$error":"#N/A"}},{"$f":"'Standing data'!$F$10","v":0},{"$f":"'Standing data'!$D$6","v":"Academy name"},{"$f":"'Standing data'!$F$6","v":0},"Forecast","F47",{"$f":"#REF!","v":{"$error":"#REF!"}}]
[{"$f":"'Standing data'!$D$10","v":{"$error":"#N/A"}},{"$f":"'Standing data'!$F$10","v":0},{"$f":"'Standing data'!$D$6","v":"Academy name"},{"$f":"'Standing data'!$F$6","v":0},"Forecast","F48",{"$f":"#REF!","v":{"$error":"#REF!"}}]
[{"$f":"'Standing data'!$D$10","v":{"$error":"#N/A"}},{"$f":"'Standing data'!$F$10","v":0},{"$f":"'Standing data'!$D$6","v":"Academy name"},{"$f":"'Standing data'!$F$6","v":0},"Forecast","F49",{"$f":"#REF!","v":{"$error":"#REF!"}}]
[{"$f":"'Standing data'!$D$10","v":{"$error":"#N/A"}},{"$f":"'Standing data'!$F$10","v":0},{"$f":"'Standing data'!$D$6","v":"Academy name"},{"$f":"'Standing data'!$F$6","v":0},"Forecast","F50",{"$f":"#REF!","v":{"$error":"#REF!"}}]
[{"$f":"'Standing data'!$D$10","v":{"$error":"#N/A"}},{"$f":"'Standing data'!$F$10","v":0},{"$f":"'Standing data'!$D$6","v":"Academy name"},{"$f":"'Standing data'!$F$6","v":0},"Forecast","F51",{"$f":"#REF!","v":{"$error":"#REF!"}}]
[{"$f":"'Standing data'!$D$10","v":{"$error":"#N/A"}},{"$f":"'Standing data'!$F$10","v":0},{"$f":"'Standing data'!$D$6","v":"Academy name"},{"$f":"'Standing data'!$F$6","v":0},"Forecast","F52",{"$f":"#REF!","v":{"$error":"#REF!"}}]
[{"$f":"'Standing data'!$D$10","v":{"$error":"#N/A"}},{"$f":"'Standing data'!$F$10","v":0},{"$f":"'Standing data'!$D$6","v":"Academy name"},{"$f":"'Standing data'!$F$6","v":0},"Forecast","F53",{"$f":"#REF!","v":{"$error":"#REF!"}}]
[{"$f":"'Standing data'!$D$10","v":{"$error":"#N/A"}},{"$f":"'Standing data'!$F$10","v":0},{"$f":"'Standing data'!$D$6","v":"Academy name"},{"$f":"'Standing data'!$F$6","v":0},"Forecast","F54",{"$f":"#REF!","v":{"$error":"#REF!"}}]
[{"$f":"'Standing data'!$D$10","v":{"$error":"#N/A"}},{"$f":"'Standing data'!$F$10","v":0},{"$f":"'Standing data'!$D$6","v":"Academy name"},{"$f":"'Standing data'!$F$6","v":0},"Forecast","F55",{"$f":"#REF!","v":{"$error":"#REF!"}}]
[{"$f":"'Standing data'!$D$10","v":{"$error":"#N/A"}},{"$f":"'Standing data'!$F$10","v":0},{"$f":"'Standing data'!$D$6","v":"Academy name"},{"$f":"'Standing data'!$F$6","v":0},"Forecast","F57",{"$f":"#REF!","v":{"$error":"#REF!"}}]
[{"$f":"'Standing data'!$D$10","v":{"$error":"#N/A"}},{"$f":"'Standing data'!$F$10","v":0},{"$f":"'Standing data'!$D$6","v":"Academy name"},{"$f":"'Standing data'!$F$6","v":0},"Forecast","F60",{"$f":"#REF!","v":{"$error":"#REF!"}}]
[{"$f":"'Standing data'!$D$10","v":{"$error":"#N/A"}},{"$f":"'Standing data'!$F$10","v":0},{"$f":"'Standing data'!$D$6","v":"Academy name"},{"$f":"'Standing data'!$F$6","v":0},"Forecast","F61",{"$f":"#REF!","v":{"$error":"#REF!"}}]
[{"$f":"'Standing data'!$D$10","v":{"$error":"#N/A"}},{"$f":"'Standing data'!$F$10","v":0},{"$f":"'Standing data'!$D$6","v":"Academy name"},{"$f":"'Standing data'!$F$6","v":0},"Forecast","F62",{"$f":"#REF!","v":{"$error":"#REF!"}}]
[{"$f":"'Standing data'!$D$10","v":{"$error":"#N/A"}},{"$f":"'Standing data'!$F$10","v":0},{"$f":"'Standing data'!$D$6","v":"Academy name"},{"$f":"'Standing data'!$F$6","v":0},"Forecast","F63",{"$f":"#REF!","v":{"$error":"#REF!"}}]
[{"$f":"'Standing data'!$D$10","v":{"$error":"#N/A"}},{"$f":"'Standing data'!$F$10","v":0},{"$f":"'Standing data'!$D$6","v":"Academy name"},{"$f":"'Standing data'!$F$6","v":0},"Forecast","F64",{"$f":"#REF!","v":{"$error":"#REF!"}}]
[{"$f":"'Standing data'!$D$10","v":{"$error":"#N/A"}},{"$f":"'Standing data'!$F$10","v":0},{"$f":"'Standing data'!$D$6","v":"Academy name"},{"$f":"'Standing data'!$F$6","v":0},"Forecast","F65",{"$f":"#REF!","v":{"$error":"#REF!"}}]
[{"$f":"'Standing data'!$D$10","v":{"$error":"#N/A"}},{"$f":"'Standing data'!$F$10","v":0},{"$f":"'Standing data'!$D$6","v":"Academy name"},{"$f":"'Standing data'!$F$6","v":0},"Forecast","F66",{"$f":"#REF!","v":{"$error":"#REF!"}}]
[{"$f":"'Standing data'!$D$10","v":{"$error":"#N/A"}},{"$f":"'Standing data'!$F$10","v":0},{"$f":"'Standing data'!$D$6","v":"Academy name"},{"$f":"'Standing data'!$F$6","v":0},"Forecast","F67",{"$f":"#REF!","v":{"$error":"#REF!"}}]
[{"$f":"'Standing data'!$D$10","v":{"$error":"#N/A"}},{"$f":"'Standing data'!$F$10","v":0},{"$f":"'Standing data'!$D$6","v":"Academy name"},{"$f":"'Standing data'!$F$6","v":0},"Forecast","F69",{"$f":"#REF!","v":{"$error":"#REF!"}}]
[{"$f":"'Standing data'!$D$10","v":{"$error":"#N/A"}},{"$f":"'Standing data'!$F$10","v":0},{"$f":"'Standing data'!$D$6","v":"Academy name"},{"$f":"'Standing data'!$F$6","v":0},"Forecast","F70",{"$f":"#REF!","v":{"$error":"#REF!"}}]
[{"$f":"'Standing data'!$D$10","v":{"$error":"#N/A"}},{"$f":"'Standing data'!$F$10","v":0},{"$f":"'Standing data'!$D$6","v":"Academy name"},{"$f":"'Standing data'!$F$6","v":0},"Forecast","F71",{"$f":"#REF!","v":{"$error":"#REF!"}}]
[{"$f":"'Standing data'!$D$10","v":{"$error":"#N/A"}},{"$f":"'Standing data'!$F$10","v":0},{"$f":"'Standing data'!$D$6","v":"Academy name"},{"$f":"'Standing data'!$F$6","v":0},"Forecast","F72",{"$f":"#REF!","v":{"$error":"#REF!"}}]
[{"$f":"'Standing data'!$D$10","v":{"$error":"#N/A"}},{"$f":"'Standing data'!$F$10","v":0},{"$f":"'Standing data'!$D$6","v":"Academy name"},{"$f":"'Standing data'!$F$6","v":0},"Forecast","F73",{"$f":"#REF!","v":{"$error":"#REF!"}}]
[{"$f":"'Standing data'!$D$10","v":{"$error":"#N/A"}},{"$f":"'Standing data'!$F$10","v":0},{"$f":"'Standing data'!$D$6","v":"Academy name"},{"$f":"'Standing data'!$F$6","v":0},"Forecast","F74",{"$f":"#REF!","v":{"$error":"#REF!"}}]
[{"$f":"'Standing data'!$D$10","v":{"$error":"#N/A"}},{"$f":"'Standing data'!$F$10","v":0},{"$f":"'Standing data'!$D$6","v":"Academy name"},{"$f":"'Standing data'!$F$6","v":0},"Forecast","F75",{"$f":"#REF!","v":{"$error":"#REF!"}}]
[{"$f":"'Standing data'!$D$10","v":{"$error":"#N/A"}},{"$f":"'Standing data'!$F$10","v":0},{"$f":"'Standing data'!$D$6","v":"Academy name"},{"$f":"'Standing data'!$F$6","v":0},"Forecast","F76",{"$f":"#REF!","v":{"$error":"#REF!"}}]
[{"$f":"'Standing data'!$D$10","v":{"$error":"#N/A"}},{"$f":"'Standing data'!$F$10","v":0},{"$f":"'Standing data'!$D$6","v":"Academy name"},{"$f":"'Standing data'!$F$6","v":0},"Forecast","F77",{"$f":"#REF!","v":{"$error":"#REF!"}}]
[{"$f":"'Standing data'!$D$10","v":{"$error":"#N/A"}},{"$f":"'Standing data'!$F$10","v":0},{"$f":"'Standing data'!$D$6","v":"Academy name"},{"$f":"'Standing data'!$F$6","v":0},"Forecast","F78",{"$f":"#REF!","v":{"$error":"#REF!"}}]
[{"$f":"'Standing data'!$D$10","v":{"$error":"#N/A"}},{"$f":"'Standing data'!$F$10","v":0},{"$f":"'Standing data'!$D$6","v":"Academy name"},{"$f":"'Standing data'!$F$6","v":0},"Forecast","F79",{"$f":"#REF!","v":{"$error":"#REF!"}}]
[{"$f":"'Standing data'!$D$10","v":{"$error":"#N/A"}},{"$f":"'Standing data'!$F$10","v":0},{"$f":"'Standing data'!$D$6","v":"Academy name"},{"$f":"'Standing data'!$F$6","v":0},"Forecast","F80",{"$f":"#REF!","v":{"$error":"#REF!"}}]
[{"$f":"'Standing data'!$D$10","v":{"$error":"#N/A"}},{"$f":"'Standing data'!$F$10","v":0},{"$f":"'Standing data'!$D$6","v":"Academy name"},{"$f":"'Standing data'!$F$6","v":0},"Forecast","F81",{"$f":"#REF!","v":{"$error":"#REF!"}}]
[{"$f":"'Standing data'!$D$10","v":{"$error":"#N/A"}},{"$f":"'Standing data'!$F$10","v":0},{"$f":"'Standing data'!$D$6","v":"Academy name"},{"$f":"'Standing data'!$F$6","v":0},"Forecast","F82",{"$f":"#REF!","v":{"$error":"#REF!"}}]
[{"$f":"'Standing data'!$D$10","v":{"$error":"#N/A"}},{"$f":"'Standing data'!$F$10","v":0},{"$f":"'Standing data'!$D$6","v":"Academy name"},{"$f":"'Standing data'!$F$6","v":0},"Forecast","F83",{"$f":"#REF!","v":{"$error":"#REF!"}}]
[{"$f":"'Standing data'!$D$10","v":{"$error":"#N/A"}},{"$f":"'Standing data'!$F$10","v":0},{"$f":"'Standing data'!$D$6","v":"Academy name"},{"$f":"'Standing data'!$F$6","v":0},"Forecast","F85",{"$f":"#REF!","v":{"$error":"#REF!"}}]
[{"$f":"'Standing data'!$D$10","v":{"$error":"#N/A"}},{"$f":"'Standing data'!$F$10","v":0},{"$f":"'Standing data'!$D$6","v":"Academy name"},{"$f":"'Standing data'!$F$6","v":0},"Forecast","F86",{"$f":"#REF!","v":{"$error":"#REF!"}}]
[{"$f":"'Standing data'!$D$10","v":{"$error":"#N/A"}},{"$f":"'Standing data'!$F$10","v":0},{"$f":"'Standing data'!$D$6","v":"Academy name"},{"$f":"'Standing data'!$F$6","v":0},"Forecast","F87",{"$f":"#REF!","v":{"$error":"#REF!"}}]
[{"$f":"'Standing data'!$D$10","v":{"$error":"#N/A"}},{"$f":"'Standing data'!$F$10","v":0},{"$f":"'Standing data'!$D$6","v":"Academy name"},{"$f":"'Standing data'!$F$6","v":0},"Forecast","F88",{"$f":"#REF!","v":{"$error":"#REF!"}}]
[{"$f":"'Standing data'!$D$10","v":{"$error":"#N/A"}},{"$f":"'Standing data'!$F$10","v":0},{"$f":"'Standing data'!$D$6","v":"Academy name"},{"$f":"'Standing data'!$F$6","v":0},"Forecast","F89",{"$f":"#REF!","v":{"$error":"#REF!"}}]
[{"$f":"'Standing data'!$D$10","v":{"$error":"#N/A"}},{"$f":"'Standing data'!$F$10","v":0},{"$f":"'Standing data'!$D$6","v":"Academy name"},{"$f":"'Standing data'!$F$6","v":0},"Forecast","F96",{"$f":"#REF!","v":{"$error":"#REF!"}}]
[{"$f":"'Standing data'!$D$10","v":{"$error":"#N/A"}},{"$f":"'Standing data'!$F$10","v":0},{"$f":"'Standing data'!$D$6","v":"Academy name"},{"$f":"'Standing data'!$F$6","v":0},"Forecast","F97",{"$f":"#REF!","v":{"$error":"#REF!"}}]
[{"$f":"'Standing data'!$D$10","v":{"$error":"#N/A"}},{"$f":"'Standing data'!$F$10","v":0},{"$f":"'Standing data'!$D$6","v":"Academy name"},{"$f":"'Standing data'!$F$6","v":0},"Forecast","F98",{"$f":"#REF!","v":{"$error":"#REF!"}}]
[{"$f":"'Standing data'!$D$10","v":{"$error":"#N/A"}},{"$f":"'Standing data'!$F$10","v":0},{"$f":"'Standing data'!$D$6","v":"Academy name"},{"$f":"'Standing data'!$F$6","v":0},"Forecast","F99",{"$f":"#REF!","v":{"$error":"#REF!"}}]
[{"$f":"'Standing data'!$D$10","v":{"$error":"#N/A"}},{"$f":"'Standing data'!$F$10","v":0},{"$f":"'Standing data'!$D$6","v":"Academy name"},{"$f":"'Standing data'!$F$6","v":0},"Forecast","F100",{"$f":"#REF!","v":{"$error":"#REF!"}}]
[{"$f":"'Standing data'!$D$10","v":{"$error":"#N/A"}},{"$f":"'Standing data'!$F$10","v":0},{"$f":"'Standing data'!$D$6","v":"Academy name"},{"$f":"'Standing data'!$F$6","v":0},"Forecast","F101",{"$f":"#REF!","v":{"$error":"#REF!"}}]
[{"$f":"'Standing data'!$D$10","v":{"$error":"#N/A"}},{"$f":"'Standing data'!$F$10","v":0},{"$f":"'Standing data'!$D$6","v":"Academy name"},{"$f":"'Standing data'!$F$6","v":0},"Forecast","F102",{"$f":"#REF!","v":{"$error":"#REF!"}}]
[{"$f":"'Standing data'!$D$10","v":{"$error":"#N/A"}},{"$f":"'Standing data'!$F$10","v":0},{"$f":"'Standing data'!$D$6","v":"Academy name"},{"$f":"'Standing data'!$F$6","v":0},"Forecast","F103",{"$f":"#REF!","v":{"$error":"#REF!"}}]
[{"$f":"'Standing data'!$D$10","v":{"$error":"#N/A"}},{"$f":"'Standing data'!$F$10","v":0},{"$f":"'Standing data'!$D$6","v":"Academy name"},{"$f":"'Standing data'!$F$6","v":0},"Forecast","F104",{"$f":"#REF!","v":{"$error":"#REF!"}}]
[{"$f":"'Standing data'!$D$10","v":{"$error":"#N/A"}},{"$f":"'Standing data'!$F$10","v":0},{"$f":"'Standing data'!$D$6","v":"Academy name"},{"$f":"'Standing data'!$F$6","v":0},"Forecast","F106",{"$f":"#REF!","v":{"$error":"#REF!"}}]
[{"$f":"'Standing data'!$D$10","v":{"$error":"#N/A"}},{"$f":"'Standing data'!$F$10","v":0},{"$f":"'Standing data'!$D$6","v":"Academy name"},{"$f":"'Standing data'!$F$6","v":0},"Forecast","F107",{"$f":"#REF!","v":{"$error":"#REF!"}}]
[{"$f":"'Standing data'!$D$10","v":{"$error":"#N/A"}},{"$f":"'Standing data'!$F$10","v":0},{"$f":"'Standing data'!$D$6","v":"Academy name"},{"$f":"'Standing data'!$F$6","v":0},"Forecast","F108",{"$f":"#REF!","v":{"$error":"#REF!"}}]
[{"$f":"'Standing data'!$D$10","v":{"$error":"#N/A"}},{"$f":"'Standing data'!$F$10","v":0},{"$f":"'Standing data'!$D$6","v":"Academy name"},{"$f":"'Standing data'!$F$6","v":0},"Forecast","F109",{"$f":"#REF!","v":{"$error":"#REF!"}}]
[{"$f":"'Standing data'!$D$10","v":{"$error":"#N/A"}},{"$f":"'Standing data'!$F$10","v":0},{"$f":"'Standing data'!$D$6","v":"Academy name"},{"$f":"'Standing data'!$F$6","v":0},"Forecast","F110",{"$f":"#REF!","v":{"$error":"#REF!"}}]
[{"$f":"'Standing data'!$D$10","v":{"$error":"#N/A"}},{"$f":"'Standing data'!$F$10","v":0},{"$f":"'Standing data'!$D$6","v":"Academy name"},{"$f":"'Standing data'!$F$6","v":0},"Forecast","F112",{"$f":"#REF!","v":{"$error":"#REF!"}}]
[{"$f":"'Standing data'!$D$10","v":{"$error":"#N/A"}},{"$f":"'Standing data'!$F$10","v":0},{"$f":"'Standing data'!$D$6","v":"Academy name"},{"$f":"'Standing data'!$F$6","v":0},"Forecast","F115",{"$f":"#REF!","v":{"$error":"#REF!"}}]
[{"$f":"'Standing data'!$D$10","v":{"$error":"#N/A"}},{"$f":"'Standing data'!$F$10","v":0},{"$f":"'Standing data'!$D$6","v":"Academy name"},{"$f":"'Standing data'!$F$6","v":0},"Forecast","F116",{"$f":"#REF!","v":{"$error":"#REF!"}}]
[{"$f":"'Standing data'!$D$10","v":{"$error":"#N/A"}},{"$f":"'Standing data'!$F$10","v":0},{"$f":"'Standing data'!$D$6","v":"Academy name"},{"$f":"'Standing data'!$F$6","v":0},"Forecast","F117",{"$f":"#REF!","v":{"$error":"#REF!"}}]
[{"$f":"'Standing data'!$D$10","v":{"$error":"#N/A"}},{"$f":"'Standing data'!$F$10","v":0},{"$f":"'Standing data'!$D$6","v":"Academy name"},{"$f":"'Standing data'!$F$6","v":0},"Forecast","F119",{"$f":"#REF!","v":{"$error":"#REF!"}}]
[{"$f":"'Standing data'!$D$10","v":{"$error":"#N/A"}},{"$f":"'Standing data'!$F$10","v":0},{"$f":"'Standing data'!$D$6","v":"Academy name"},{"$f":"'Standing data'!$F$6","v":0},"Forecast","F120",{"$f":"#REF!","v":{"$error":"#REF!"}}]
[{"$f":"'Standing data'!$D$10","v":{"$error":"#N/A"}},{"$f":"'Standing data'!$F$10","v":0},{"$f":"'Standing data'!$D$6","v":"Academy name"},{"$f":"'Standing data'!$F$6","v":0},"Forecast","F121",{"$f":"#REF!","v":{"$error":"#REF!"}}]
[{"$f":"'Standing data'!$D$10","v":{"$error":"#N/A"}},{"$f":"'Standing data'!$F$10","v":0},{"$f":"'Standing data'!$D$6","v":"Academy name"},{"$f":"'Standing data'!$F$6","v":0},"Forecast","F122",{"$f":"#REF!","v":{"$error":"#REF!"}}]
[{"$f":"'Standing data'!$D$10","v":{"$error":"#N/A"}},{"$f":"'Standing data'!$F$10","v":0},{"$f":"'Standing data'!$D$6","v":"Academy name"},{"$f":"'Standing data'!$F$6","v":0},"Forecast","F124",{"$f":"#REF!","v":{"$error":"#REF!"}}]
[{"$f":"'Standing data'!$D$10","v":{"$error":"#N/A"}},{"$f":"'Standing data'!$F$10","v":0},{"$f":"'Standing data'!$D$6","v":"Academy name"},{"$f":"'Standing data'!$F$6","v":0},"Forecast","F127",{"$f":"#REF!","v":{"$error":"#REF!"}}]
[{"$f":"'Standing data'!$D$10","v":{"$error":"#N/A"}},{"$f":"'Standing data'!$F$10","v":0},{"$f":"'Standing data'!$D$6","v":"Academy name"},{"$f":"'Standing data'!$F$6","v":0},"Forecast","F128",{"$f":"#REF!","v":{"$error":"#REF!"}}]
[{"$f":"'Standing data'!$D$10","v":{"$error":"#N/A"}},{"$f":"'Standing data'!$F$10","v":0},{"$f":"'Standing data'!$D$6","v":"Academy name"},{"$f":"'Standing data'!$F$6","v":0},"Forecast","F129",{"$f":"#REF!","v":{"$error":"#REF!"}}]
[{"$f":"'Standing data'!$D$10","v":{"$error":"#N/A"}},{"$f":"'Standing data'!$F$10","v":0},{"$f":"'Standing data'!$D$6","v":"Academy name"},{"$f":"'Standing data'!$F$6","v":0},"Forecast","F135",{"$f":"#REF!","v":{"$error":"#REF!"}}]
[{"$f":"'Standing data'!$D$10","v":{"$error":"#N/A"}},{"$f":"'Standing data'!$F$10","v":0},{"$f":"'Standing data'!$D$6","v":"Academy name"},{"$f":"'Standing data'!$F$6","v":0},"Forecast","F140",{"$f":"#REF!","v":{"$error":"#REF!"}}]
[{"$f":"'Standing data'!$D$10","v":{"$error":"#N/A"}},{"$f":"'Standing data'!$F$10","v":0},{"$f":"'Standing data'!$D$6","v":"Academy name"},{"$f":"'Standing data'!$F$6","v":0},"Forecast","F143",{"$f":"#REF!","v":{"$error":"#REF!"}}]
[{"$f":"'Standing data'!$D$10","v":{"$error":"#N/A"}},{"$f":"'Standing data'!$F$10","v":0},{"$f":"'Standing data'!$D$6","v":"Academy name"},{"$f":"'Standing data'!$F$6","v":0},"Forecast","F144",{"$f":"#REF!","v":{"$error":"#REF!"}}]
[{"$f":"'Standing data'!$D$10","v":{"$error":"#N/A"}},{"$f":"'Standing data'!$F$10","v":0},{"$f":"'Standing data'!$D$6","v":"Academy name"},{"$f":"'Standing data'!$F$6","v":0},"Forecast","F148",{"$f":"#REF!","v":{"$error":"#REF!"}}]
[{"$f":"'Standing data'!$D$10","v":{"$error":"#N/A"}},{"$f":"'Standing data'!$F$10","v":0},{"$f":"'Standing data'!$D$6","v":"Academy name"},{"$f":"'Standing data'!$F$6","v":0},"Forecast","F154",{"$f":"#REF!","v":{"$error":"#REF!"}}]
[{"$f":"'Standing data'!$D$10","v":{"$error":"#N/A"}},{"$f":"'Standing data'!$F$10","v":0},{"$f":"'Standing data'!$D$6","v":"Academy name"},{"$f":"'Standing data'!$F$6","v":0},"Forecast","F155",{"$f":"#REF!","v":{"$error":"#REF!"}}]
[{"$f":"'Standing data'!$D$10","v":{"$error":"#N/A"}},{"$f":"'Standing data'!$F$10","v":0},{"$f":"'Standing data'!$D$6","v":"Academy name"},{"$f":"'Standing data'!$F$6","v":0},"Forecast","F156",{"$f":"#REF!","v":{"$error":"#REF!"}}]
[{"$f":"'Standing data'!$D$10","v":{"$error":"#N/A"}},{"$f":"'Standing data'!$F$10","v":0},{"$f":"'Standing data'!$D$6","v":"Academy name"},{"$f":"'Standing data'!$F$6","v":0},"Forecast","F157",{"$f":"#REF!","v":{"$error":"#REF!"}}]
[{"$f":"'Standing data'!$D$10","v":{"$error":"#N/A"}},{"$f":"'Standing data'!$F$10","v":0},{"$f":"'Standing data'!$D$6","v":"Academy name"},{"$f":"'Standing data'!$F$6","v":0},"Forecast","F158",{"$f":"#REF!","v":{"$error":"#REF!"}}]
[{"$f":"'Standing data'!$D$10","v":{"$error":"#N/A"}},{"$f":"'Standing data'!$F$10","v":0},{"$f":"'Standing data'!$D$6","v":"Academy name"},{"$f":"'Standing data'!$F$6","v":0},"Forecast","F159",{"$f":"#REF!","v":{"$error":"#REF!"}}]
[{"$f":"'Standing data'!$D$10","v":{"$error":"#N/A"}},{"$f":"'Standing data'!$F$10","v":0},{"$f":"'Standing data'!$D$6","v":"Academy name"},{"$f":"'Standing data'!$F$6","v":0},"Forecast","F160",{"$f":"#REF!","v":{"$error":"#REF!"}}]
[{"$f":"'Standing data'!$D$10","v":{"$error":"#N/A"}},{"$f":"'Standing data'!$F$10","v":0},{"$f":"'Standing data'!$D$6","v":"Academy name"},{"$f":"'Standing data'!$F$6","v":0},"Forecast","F161",{"$f":"#REF!","v":{"$error":"#REF!"}}]
[{"$f":"'Standing data'!$D$10","v":{"$error":"#N/A"}},{"$f":"'Standing data'!$F$10","v":0},{"$f":"'Standing data'!$D$6","v":"Academy name"},{"$f":"'Standing data'!$F$6","v":0},"Forecast","F162",{"$f":"#REF!","v":{"$error":"#REF!"}}]
[{"$f":"'Standing data'!$D$10","v":{"$error":"#N/A"}},{"$f":"'Standing data'!$F$10","v":0},{"$f":"'Standing data'!$D$6","v":"Academy name"},{"$f":"'Standing data'!$F$6","v":0},"Forecast","F163",{"$f":"#REF!","v":{"$error":"#REF!"}}]
[{"$f":"'Standing data'!$D$10","v":{"$error":"#N/A"}},{"$f":"'Standing data'!$F$10","v":0},{"$f":"'Standing data'!$D$6","v":"Academy name"},{"$f":"'Standing data'!$F$6","v":0},"Forecast","F164",{"$f":"#REF!","v":{"$error":"#REF!"}}]
[{"$f":"'Standing data'!$D$10","v":{"$error":"#N/A"}},{"$f":"'Standing data'!$F$10","v":0},{"$f":"'Standing data'!$D$6","v":"Academy name"},{"$f":"'Standing data'!$F$6","v":0},"Forecast","F165",{"$f":"#REF!","v":{"$error":"#REF!"}}]
[{"$f":"'Standing data'!$D$10","v":{"$error":"#N/A"}},{"$f":"'Standing data'!$F$10","v":0},{"$f":"'Standing data'!$D$6","v":"Academy name"},{"$f":"'Standing data'!$F$6","v":0},"Forecast","F166",{"$f":"#REF!","v":{"$error":"#REF!"}}]
[{"$f":"'Standing data'!$D$10","v":{"$error":"#N/A"}},{"$f":"'Standing data'!$F$10","v":0},{"$f":"'Standing data'!$D$6","v":"Academy name"},{"$f":"'Standing data'!$F$6","v":0},"Forecast","F167",{"$f":"#REF!","v":{"$error":"#REF!"}}]
[{"$f":"'Standing data'!$D$10","v":{"$error":"#N/A"}},{"$f":"'Standing data'!$F$10","v":0},{"$f":"'Standing data'!$D$6","v":"Academy name"},{"$f":"'Standing data'!$F$6","v":0},"Forecast","F168",{"$f":"#REF!","v":{"$error":"#REF!"}}]
[{"$f":"'Standing data'!$D$10","v":{"$error":"#N/A"}},{"$f":"'Standing data'!$F$10","v":0},{"$f":"'Standing data'!$D$6","v":"Academy name"},{"$f":"'Standing data'!$F$6","v":0},"Forecast","F169",{"$f":"#REF!","v":{"$error":"#REF!"}}]
[{"$f":"'Standing data'!$D$10","v":{"$error":"#N/A"}},{"$f":"'Standing data'!$F$10","v":0},{"$f":"'Standing data'!$D$6","v":"Academy name"},{"$f":"'Standing data'!$F$6","v":0},"Forecast","F170",{"$f":"#REF!","v":{"$error":"#REF!"}}]
[{"$f":"'Standing data'!$D$10","v":{"$error":"#N/A"}},{"$f":"'Standing data'!$F$10","v":0},{"$f":"'Standing data'!$D$6","v":"Academy name"},{"$f":"'Standing data'!$F$6","v":0},"Forecast","F171",{"$f":"#REF!","v":{"$error":"#REF!"}}]
[{"$f":"'Standing data'!$D$10","v":{"$error":"#N/A"}},{"$f":"'Standing data'!$F$10","v":0},{"$f":"'Standing data'!$D$6","v":"Academy name"},{"$f":"'Standing data'!$F$6","v":0},"Forecast","F172",{"$f":"#REF!","v":{"$error":"#REF!"}}]
[{"$f":"'Standing data'!$D$10","v":{"$error":"#N/A"}},{"$f":"'Standing data'!$F$10","v":0},{"$f":"'Standing data'!$D$6","v":"Academy name"},{"$f":"'Standing data'!$F$6","v":0},"Forecast","F173",{"$f":"#REF!","v":{"$error":"#REF!"}}]
[{"$f":"'Standing data'!$D$10","v":{"$error":"#N/A"}},{"$f":"'Standing data'!$F$10","v":0},{"$f":"'Standing data'!$D$6","v":"Academy name"},{"$f":"'Standing data'!$F$6","v":0},"Forecast","F174",{"$f":"#REF!","v":{"$error":"#REF!"}}]
[{"$f":"'Standing data'!$D$10","v":{"$error":"#N/A"}},{"$f":"'Standing data'!$F$10","v":0},{"$f":"'Standing data'!$D$6","v":"Academy name"},{"$f":"'Standing data'!$F$6","v":0},"Forecast","F175",{"$f":"#REF!","v":{"$error":"#REF!"}}]
[{"$f":"'Standing data'!$D$10","v":{"$error":"#N/A"}},{"$f":"'Standing data'!$F$10","v":0},{"$f":"'Standing data'!$D$6","v":"Academy name"},{"$f":"'Standing data'!$F$6","v":0},"Forecast","F176",{"$f":"#REF!","v":{"$error":"#REF!"}}]
[{"$f":"'Standing data'!$D$10","v":{"$error":"#N/A"}},{"$f":"'Standing data'!$F$10","v":0},{"$f":"'Standing data'!$D$6","v":"Academy name"},{"$f":"'Standing data'!$F$6","v":0},"Forecast","F177",{"$f":"#REF!","v":{"$error":"#REF!"}}]
[{"$f":"'Standing data'!$D$10","v":{"$error":"#N/A"}},{"$f":"'Standing data'!$F$10","v":0},{"$f":"'Standing data'!$D$6","v":"Academy name"},{"$f":"'Standing data'!$F$6","v":0},"Forecast","F178",{"$f":"#REF!","v":{"$error":"#REF!"}}]
[{"$f":"'Standing data'!$D$10","v":{"$error":"#N/A"}},{"$f":"'Standing data'!$F$10","v":0},{"$f":"'Standing data'!$D$6","v":"Academy name"},{"$f":"'Standing data'!$F$6","v":0},"Forecast","F179",{"$f":"#REF!","v":{"$error":"#REF!"}}]
[{"$f":"'Standing data'!$D$10","v":{"$error":"#N/A"}},{"$f":"'Standing data'!$F$10","v":0},{"$f":"'Standing data'!$D$6","v":"Academy name"},{"$f":"'Standing data'!$F$6","v":0},"Forecast","F180",{"$f":"#REF!","v":{"$error":"#REF!"}}]
[{"$f":"'Standing data'!$D$10","v":{"$error":"#N/A"}},{"$f":"'Standing data'!$F$10","v":0},{"$f":"'Standing data'!$D$6","v":"Academy name"},{"$f":"'Standing data'!$F$6","v":0},"Forecast","F181",{"$f":"#REF!","v":{"$error":"#REF!"}}]
[{"$f":"'Standing data'!$D$10","v":{"$error":"#N/A"}},{"$f":"'Standing data'!$F$10","v":0},{"$f":"'Standing data'!$D$6","v":"Academy name"},{"$f":"'Standing data'!$F$6","v":0},"Forecast","F182",{"$f":"#REF!","v":{"$error":"#REF!"}}]
[{"$f":"'Standing data'!$D$10","v":{"$error":"#N/A"}},{"$f":"'Standing data'!$F$10","v":0},{"$f":"'Standing data'!$D$6","v":"Academy name"},{"$f":"'Standing data'!$F$6","v":0},"Forecast","F183",{"$f":"#REF!","v":{"$error":"#REF!"}}]
[{"$f":"'Standing data'!$D$10","v":{"$error":"#N/A"}},{"$f":"'Standing data'!$F$10","v":0},{"$f":"'Standing data'!$D$6","v":"Academy name"},{"$f":"'Standing data'!$F$6","v":0},"Forecast","F184",{"$f":"#REF!","v":{"$error":"#REF!"}}]
[{"$f":"'Standing data'!$D$10","v":{"$error":"#N/A"}},{"$f":"'Standing data'!$F$10","v":0},{"$f":"'Standing data'!$D$6","v":"Academy name"},{"$f":"'Standing data'!$F$6","v":0},"Forecast","F185",{"$f":"#REF!","v":{"$error":"#REF!"}}]
[{"$f":"'Standing data'!$D$10","v":{"$error":"#N/A"}},{"$f":"'Standing data'!$F$10","v":0},{"$f":"'Standing data'!$D$6","v":"Academy name"},{"$f":"'Standing data'!$F$6","v":0},"Forecast","F186",{"$f":"#REF!","v":{"$error":"#REF!"}}]
[{"$f":"'Standing data'!$D$10","v":{"$error":"#N/A"}},{"$f":"'Standing data'!$F$10","v":0},{"$f":"'Standing data'!$D$6","v":"Academy name"},{"$f":"'Standing data'!$F$6","v":0},"Forecast","F187",{"$f":"#REF!","v":{"$error":"#REF!"}}]
[{"$f":"'Standing data'!$D$10","v":{"$error":"#N/A"}},{"$f":"'Standing data'!$F$10","v":0},{"$f":"'Standing data'!$D$6","v":"Academy name"},{"$f":"'Standing data'!$F$6","v":0},"Forecast","F188",{"$f":"#REF!","v":{"$error":"#REF!"}}]
[{"$f":"'Standing data'!$D$10","v":{"$error":"#N/A"}},{"$f":"'Standing data'!$F$10","v":0},{"$f":"'Standing data'!$D$6","v":"Academy name"},{"$f":"'Standing data'!$F$6","v":0},"Forecast","F189",{"$f":"#REF!","v":{"$error":"#REF!"}}]
[{"$f":"'Standing data'!$D$10","v":{"$error":"#N/A"}},{"$f":"'Standing data'!$F$10","v":0},{"$f":"'Standing data'!$D$6","v":"Academy name"},{"$f":"'Standing data'!$F$6","v":0},"Forecast","F190",{"$f":"#REF!","v":{"$error":"#REF!"}}]
[{"$f":"'Standing data'!$D$10","v":{"$error":"#N/A"}},{"$f":"'Standing data'!$F$10","v":0},{"$f":"'Standing data'!$D$6","v":"Academy name"},{"$f":"'Standing data'!$F$6","v":0},"Forecast","F191",{"$f":"#REF!","v":{"$error":"#REF!"}}]
[{"$f":"'Standing data'!$D$10","v":{"$error":"#N/A"}},{"$f":"'Standing data'!$F$10","v":0},{"$f":"'Standing data'!$D$6","v":"Academy name"},{"$f":"'Standing data'!$F$6","v":0},"Forecast","F192",{"$f":"#REF!","v":{"$error":"#REF!"}}]
[{"$f":"'Standing data'!$D$10","v":{"$error":"#N/A"}},{"$f":"'Standing data'!$F$10","v":0},{"$f":"'Standing data'!$D$6","v":"Academy name"},{"$f":"'Standing data'!$F$6","v":0},"Forecast","F193",{"$f":"#REF!","v":{"$error":"#REF!"}}]
[{"$f":"'Standing data'!$D$10","v":{"$error":"#N/A"}},{"$f":"'Standing data'!$F$10","v":0},{"$f":"'Standing data'!$D$6","v":"Academy name"},{"$f":"'Standing data'!$F$6","v":0},"Forecast","F194",{"$f":"#REF!","v":{"$error":"#REF!"}}]
[{"$f":"'Standing data'!$D$10","v":{"$error":"#N/A"}},{"$f":"'Standing data'!$F$10","v":0},{"$f":"'Standing data'!$D$6","v":"Academy name"},{"$f":"'Standing data'!$F$6","v":0},"Forecast","F195",{"$f":"#REF!","v":{"$error":"#REF!"}}]
[{"$f":"'Standing data'!$D$10","v":{"$error":"#N/A"}},{"$f":"'Standing data'!$F$10","v":0},{"$f":"'Standing data'!$D$6","v":"Academy name"},{"$f":"'Standing data'!$F$6","v":0},"Forecast","F196",{"$f":"#REF!","v":{"$error":"#REF!"}}]
[{"$f":"'Standing data'!$D$10","v":{"$error":"#N/A"}},{"$f":"'Standing data'!$F$10","v":0},{"$f":"'Standing data'!$D$6","v":"Academy name"},{"$f":"'Standing data'!$F$6","v":0},"Forecast","F197",{"$f":"#REF!","v":{"$error":"#REF!"}}]
[{"$f":"'Standing data'!$D$10","v":{"$error":"#N/A"}},{"$f":"'Standing data'!$F$10","v":0},{"$f":"'Standing data'!$D$6","v":"Academy name"},{"$f":"'Standing data'!$F$6","v":0},"Forecast","F198",{"$f":"#REF!","v":{"$error":"#REF!"}}]
[{"$f":"'Standing data'!$D$10","v":{"$error":"#N/A"}},{"$f":"'Standing data'!$F$10","v":0},{"$f":"'Standing data'!$D$6","v":"Academy name"},{"$f":"'Standing data'!$F$6","v":0},"Forecast","F199",{"$f":"#REF!","v":{"$error":"#REF!"}}]
[{"$f":"'Standing data'!$D$10","v":{"$error":"#N/A"}},{"$f":"'Standing data'!$F$10","v":0},{"$f":"'Standing data'!$D$6","v":"Academy name"},{"$f":"'Standing data'!$F$6","v":0},"Forecast","F200",{"$f":"#REF!","v":{"$error":"#REF!"}}]
[{"$f":"'Standing data'!$D$10","v":{"$error":"#N/A"}},{"$f":"'Standing data'!$F$10","v":0},{"$f":"'Standing data'!$D$6","v":"Academy name"},{"$f":"'Standing data'!$F$6","v":0},"Forecast","F201",{"$f":"#REF!","v":{"$error":"#REF!"}}]
[{"$f":"'Standing data'!$D$10","v":{"$error":"#N/A"}},{"$f":"'Standing data'!$F$10","v":0},{"$f":"'Standing data'!$D$6","v":"Academy name"},{"$f":"'Standing data'!$F$6","v":0},"Forecast","F202",{"$f":"#REF!","v":{"$error":"#REF!"}}]
[{"$f":"'Standing data'!$D$10","v":{"$error":"#N/A"}},{"$f":"'Standing data'!$F$10","v":0},{"$f":"'Standing data'!$D$6","v":"Academy name"},{"$f":"'Standing data'!$F$6","v":0},"Forecast","F203",{"$f":"#REF!","v":{"$error":"#REF!"}}]
[{"$f":"'Standing data'!$D$10","v":{"$error":"#N/A"}},{"$f":"'Standing data'!$F$10","v":0},{"$f":"'Standing data'!$D$6","v":"Academy name"},{"$f":"'Standing data'!$F$6","v":0},"Forecast","F204",{"$f":"#REF!","v":{"$error":"#REF!"}}]
[{"$f":"'Standing data'!$D$10","v":{"$error":"#N/A"}},{"$f":"'Standing data'!$F$10","v":0},{"$f":"'Standing data'!$D$6","v":"Academy name"},{"$f":"'Standing data'!$F$6","v":0},"Forecast","F205",{"$f":"#REF!","v":{"$error":"#REF!"}}]
[{"$f":"'Standing data'!$D$10","v":{"$error":"#N/A"}},{"$f":"'Standing data'!$F$10","v":0},{"$f":"'Standing data'!$D$6","v":"Academy name"},{"$f":"'Standing data'!$F$6","v":0},"Forecast","F206",{"$f":"#REF!","v":{"$error":"#REF!"}}]
[{"$f":"'Standing data'!$D$10","v":{"$error":"#N/A"}},{"$f":"'Standing data'!$F$10","v":0},{"$f":"'Standing data'!$D$6","v":"Academy name"},{"$f":"'Standing data'!$F$6","v":0},"Forecast","F207",{"$f":"#REF!","v":{"$error":"#REF!"}}]
[{"$f":"'Standing data'!$D$10","v":{"$error":"#N/A"}},{"$f":"'Standing data'!$F$10","v":0},{"$f":"'Standing data'!$D$6","v":"Academy name"},{"$f":"'Standing data'!$F$6","v":0},"Forecast","F208",{"$f":"#REF!","v":{"$error":"#REF!"}}]
[{"$f":"'Standing data'!$D$10","v":{"$error":"#N/A"}},{"$f":"'Standing data'!$F$10","v":0},{"$f":"'Standing data'!$D$6","v":"Academy name"},{"$f":"'Standing data'!$F$6","v":0},"Forecast","F209",{"$f":"#REF!","v":{"$error":"#REF!"}}]
[{"$f":"'Standing data'!$D$10","v":{"$error":"#N/A"}},{"$f":"'Standing data'!$F$10","v":0},{"$f":"'Standing data'!$D$6","v":"Academy name"},{"$f":"'Standing data'!$F$6","v":0},"Forecast","F210",{"$f":"#REF!","v":{"$error":"#REF!"}}]
[{"$f":"'Standing data'!$D$10","v":{"$error":"#N/A"}},{"$f":"'Standing data'!$F$10","v":0},{"$f":"'Standing data'!$D$6","v":"Academy name"},{"$f":"'Standing data'!$F$6","v":0},"Forecast","F211",{"$f":"#REF!","v":{"$error":"#REF!"}}]
[{"$f":"'Standing data'!$D$10","v":{"$error":"#N/A"}},{"$f":"'Standing data'!$F$10","v":0},{"$f":"'Standing data'!$D$6","v":"Academy name"},{"$f":"'Standing data'!$F$6","v":0},"Forecast","F212",{"$f":"#REF!","v":{"$error":"#REF!"}}]
[{"$f":"'Standing data'!$D$10","v":{"$error":"#N/A"}},{"$f":"'Standing data'!$F$10","v":0},{"$f":"'Standing data'!$D$6","v":"Academy name"},{"$f":"'Standing data'!$F$6","v":0},"Forecast","F213",{"$f":"#REF!","v":{"$error":"#REF!"}}]
[{"$f":"'Standing data'!$D$10","v":{"$error":"#N/A"}},{"$f":"'Standing data'!$F$10","v":0},{"$f":"'Standing data'!$D$6","v":"Academy name"},{"$f":"'Standing data'!$F$6","v":0},"Forecast","F214",{"$f":"#REF!","v":{"$error":"#REF!"}}]
[{"$f":"'Standing data'!$D$10","v":{"$error":"#N/A"}},{"$f":"'Standing data'!$F$10","v":0},{"$f":"'Standing data'!$D$6","v":"Academy name"},{"$f":"'Standing data'!$F$6","v":0},"Forecast","F215",{"$f":"#REF!","v":{"$error":"#REF!"}}]
[{"$f":"'Standing data'!$D$10","v":{"$error":"#N/A"}},{"$f":"'Standing data'!$F$10","v":0},{"$f":"'Standing data'!$D$6","v":"Academy name"},{"$f":"'Standing data'!$F$6","v":0},"Forecast","F216",{"$f":"#REF!","v":{"$error":"#REF!"}}]
[{"$f":"'Standing data'!$D$10","v":{"$error":"#N/A"}},{"$f":"'Standing data'!$F$10","v":0},{"$f":"'Standing data'!$D$6","v":"Academy name"},{"$f":"'Standing data'!$F$6","v":0},"Forecast","F217",{"$f":"#REF!","v":{"$error":"#REF!"}}]
[{"$f":"'Standing data'!$D$10","v":{"$error":"#N/A"}},{"$f":"'Standing data'!$F$10","v":0},{"$f":"'Standing data'!$D$6","v":"Academy name"},{"$f":"'Standing data'!$F$6","v":0},"Forecast","F218",{"$f":"#REF!","v":{"$error":"#REF!"}}]
[{"$f":"'Standing data'!$D$10","v":{"$error":"#N/A"}},{"$f":"'Standing data'!$F$10","v":0},{"$f":"'Standing data'!$D$6","v":"Academy name"},{"$f":"'Standing data'!$F$6","v":0},"Forecast","F219",{"$f":"#REF!","v":{"$error":"#REF!"}}]
[{"$f":"'Standing data'!$D$10","v":{"$error":"#N/A"}},{"$f":"'Standing data'!$F$10","v":0},{"$f":"'Standing data'!$D$6","v":"Academy name"},{"$f":"'Standing data'!$F$6","v":0},"Forecast","F220",{"$f":"#REF!","v":{"$error":"#REF!"}}]
[{"$f":"'Standing data'!$D$10","v":{"$error":"#N/A"}},{"$f":"'Standing data'!$F$10","v":0},{"$f":"'Standing data'!$D$6","v":"Academy name"},{"$f":"'Standing data'!$F$6","v":0},"Forecast","F221",{"$f":"#REF!","v":{"$error":"#REF!"}}]
[{"$f":"'Standing data'!$D$10","v":{"$error":"#N/A"}},{"$f":"'Standing data'!$F$10","v":0},{"$f":"'Standing data'!$D$6","v":"Academy name"},{"$f":"'Standing data'!$F$6","v":0},"Forecast","F222",{"$f":"#REF!","v":{"$error":"#REF!"}}]
[{"$f":"'Standing data'!$D$10","v":{"$error":"#N/A"}},{"$f":"'Standing data'!$F$10","v":0},{"$f":"'Standing data'!$D$6","v":"Academy name"},{"$f":"'Standing data'!$F$6","v":0},"Forecast","F223",{"$f":"#REF!","v":{"$error":"#REF!"}}]
[{"$f":"'Standing data'!$D$10","v":{"$error":"#N/A"}},{"$f":"'Standing data'!$F$10","v":0},{"$f":"'Standing data'!$D$6","v":"Academy name"},{"$f":"'Standing data'!$F$6","v":0},"Forecast","F224",{"$f":"#REF!","v":{"$error":"#REF!"}}]
[{"$f":"'Standing data'!$D$10","v":{"$error":"#N/A"}},{"$f":"'Standing data'!$F$10","v":0},{"$f":"'Standing data'!$D$6","v":"Academy name"},{"$f":"'Standing data'!$F$6","v":0},"Forecast","F225",{"$f":"#REF!","v":{"$error":"#REF!"}}]
[{"$f":"'Standing data'!$D$10","v":{"$error":"#N/A"}},{"$f":"'Standing data'!$F$10","v":0},{"$f":"'Standing data'!$D$6","v":"Academy name"},{"$f":"'Standing data'!$F$6","v":0},"Forecast","F226",{"$f":"#REF!","v":{"$error":"#REF!"}}]
[{"$f":"'Standing data'!$D$10","v":{"$error":"#N/A"}},{"$f":"'Standing data'!$F$10","v":0},{"$f":"'Standing data'!$D$6","v":"Academy name"},{"$f":"'Standing data'!$F$6","v":0},"Forecast","F227",{"$f":"#REF!","v":{"$error":"#REF!"}}]
[{"$f":"'Standing data'!$D$10","v":{"$error":"#N/A"}},{"$f":"'Standing data'!$F$10","v":0},{"$f":"'Standing data'!$D$6","v":"Academy name"},{"$f":"'Standing data'!$F$6","v":0},"Forecast","F228",{"$f":"#REF!","v":{"$error":"#REF!"}}]
[{"$f":"'Standing data'!$D$10","v":{"$error":"#N/A"}},{"$f":"'Standing data'!$F$10","v":0},{"$f":"'Standing data'!$D$6","v":"Academy name"},{"$f":"'Standing data'!$F$6","v":0},"Forecast","F229",{"$f":"#REF!","v":{"$error":"#REF!"}}]
[{"$f":"'Standing data'!$D$10","v":{"$error":"#N/A"}},{"$f":"'Standing data'!$F$10","v":0},{"$f":"'Standing data'!$D$6","v":"Academy name"},{"$f":"'Standing data'!$F$6","v":0},"Forecast","F230",{"$f":"#REF!","v":{"$error":"#REF!"}}]
[{"$f":"'Standing data'!$D$10","v":{"$error":"#N/A"}},{"$f":"'Standing data'!$F$10","v":0},{"$f":"'Standing data'!$D$6","v":"Academy name"},{"$f":"'Standing data'!$F$6","v":0},"Forecast","F231",{"$f":"#REF!","v":{"$error":"#REF!"}}]
[{"$f":"'Standing data'!$D$10","v":{"$error":"#N/A"}},{"$f":"'Standing data'!$F$10","v":0},{"$f":"'Standing data'!$D$6","v":"Academy name"},{"$f":"'Standing data'!$F$6","v":0},"Forecast","F232",{"$f":"#REF!","v":{"$error":"#REF!"}}]
[{"$f":"'Standing data'!$D$10","v":{"$error":"#N/A"}},{"$f":"'Standing data'!$F$10","v":0},{"$f":"'Standing data'!$D$6","v":"Academy name"},{"$f":"'Standing data'!$F$6","v":0},"Forecast","F233",{"$f":"#REF!","v":{"$error":"#REF!"}}]
[{"$f":"'Standing data'!$D$10","v":{"$error":"#N/A"}},{"$f":"'Standing data'!$F$10","v":0},{"$f":"'Standing data'!$D$6","v":"Academy name"},{"$f":"'Standing data'!$F$6","v":0},"Forecast","F234",{"$f":"#REF!","v":{"$error":"#REF!"}}]
[{"$f":"'Standing data'!$D$10","v":{"$error":"#N/A"}},{"$f":"'Standing data'!$F$10","v":0},{"$f":"'Standing data'!$D$6","v":"Academy name"},{"$f":"'Standing data'!$F$6","v":0},"Forecast","F235",{"$f":"#REF!","v":{"$error":"#REF!"}}]
[{"$f":"'Standing data'!$D$10","v":{"$error":"#N/A"}},{"$f":"'Standing data'!$F$10","v":0},{"$f":"'Standing data'!$D$6","v":"Academy name"},{"$f":"'Standing data'!$F$6","v":0},"Forecast","F236",{"$f":"#REF!","v":{"$error":"#REF!"}}]
[{"$f":"'Standing data'!$D$10","v":{"$error":"#N/A"}},{"$f":"'Standing data'!$F$10","v":0},{"$f":"'Standing data'!$D$6","v":"Academy name"},{"$f":"'Standing data'!$F$6","v":0},"Forecast","F237",{"$f":"#REF!","v":{"$error":"#REF!"}}]
[{"$f":"'Standing data'!$D$10","v":{"$error":"#N/A"}},{"$f":"'Standing data'!$F$10","v":0},{"$f":"'Standing data'!$D$6","v":"Academy name"},{"$f":"'Standing data'!$F$6","v":0},"Forecast","F238",{"$f":"#REF!","v":{"$error":"#REF!"}}]
[{"$f":"'Standing data'!$D$10","v":{"$error":"#N/A"}},{"$f":"'Standing data'!$F$10","v":0},{"$f":"'Standing data'!$D$6","v":"Academy name"},{"$f":"'Standing data'!$F$6","v":0},"Forecast","F239",{"$f":"#REF!","v":{"$error":"#REF!"}}]
[{"$f":"'Standing data'!$D$10","v":{"$error":"#N/A"}},{"$f":"'Standing data'!$F$10","v":0},{"$f":"'Standing data'!$D$6","v":"Academy name"},{"$f":"'Standing data'!$F$6","v":0},"Forecast","F240",{"$f":"#REF!","v":{"$error":"#REF!"}}]
[{"$f":"'Standing data'!$D$10","v":{"$error":"#N/A"}},{"$f":"'Standing data'!$F$10","v":0},{"$f":"'Standing data'!$D$6","v":"Academy name"},{"$f":"'Standing data'!$F$6","v":0},"Forecast","F241",{"$f":"#REF!","v":{"$error":"#REF!"}}]
[{"$f":"'Standing data'!$D$10","v":{"$error":"#N/A"}},{"$f":"'Standing data'!$F$10","v":0},{"$f":"'Standing data'!$D$6","v":"Academy name"},{"$f":"'Standing data'!$F$6","v":0},"Forecast","F242",{"$f":"#REF!","v":{"$error":"#REF!"}}]
[{"$f":"'Standing data'!$D$10","v":{"$error":"#N/A"}},{"$f":"'Standing data'!$F$10","v":0},{"$f":"'Standing data'!$D$6","v":"Academy name"},{"$f":"'Standing data'!$F$6","v":0},"Forecast","F243",{"$f":"#REF!","v":{"$error":"#REF!"}}]
[{"$f":"'Standing data'!$D$10","v":{"$error":"#N/A"}},{"$f":"'Standing data'!$F$10","v":0},{"$f":"'Standing data'!$D$6","v":"Academy name"},{"$f":"'Standing data'!$F$6","v":0},"Forecast","F244",{"$f":"#REF!","v":{"$error":"#REF!"}}]
[{"$f":"'Standing data'!$D$10","v":{"$error":"#N/A"}},{"$f":"'Standing data'!$F$10","v":0},{"$f":"'Standing data'!$D$6","v":"Academy name"},{"$f":"'Standing data'!$F$6","v":0},"Forecast","F245",{"$f":"#REF!","v":{"$error":"#REF!"}}]
[{"$f":"'Standing data'!$D$10","v":{"$error":"#N/A"}},{"$f":"'Standing data'!$F$10","v":0},{"$f":"'Standing data'!$D$6","v":"Academy name"},{"$f":"'Standing data'!$F$6","v":0},"Forecast","F246",{"$f":"#REF!","v":{"$error":"#REF!"}}]
[{"$f":"'Standing data'!$D$10","v":{"$error":"#N/A"}},{"$f":"'Standing data'!$F$10","v":0},{"$f":"'Standing data'!$D$6","v":"Academy name"},{"$f":"'Standing data'!$F$6","v":0},"Forecast","F247",{"$f":"#REF!","v":{"$error":"#REF!"}}]
[{"$f":"'Standing data'!$D$10","v":{"$error":"#N/A"}},{"$f":"'Standing data'!$F$10","v":0},{"$f":"'Standing data'!$D$6","v":"Academy name"},{"$f":"'Standing data'!$F$6","v":0},"Forecast","F248",{"$f":"#REF!","v":{"$error":"#REF!"}}]
[{"$f":"'Standing data'!$D$10","v":{"$error":"#N/A"}},{"$f":"'Standing data'!$F$10","v":0},{"$f":"'Standing data'!$D$6","v":"Academy name"},{"$f":"'Standing data'!$F$6","v":0},"Forecast","F249",{"$f":"#REF!","v":{"$error":"#REF!"}}]
[{"$f":"'Standing data'!$D$10","v":{"$error":"#N/A"}},{"$f":"'Standing data'!$F$10","v":0},{"$f":"'Standing data'!$D$6","v":"Academy name"},{"$f":"'Standing data'!$F$6","v":0},"Forecast","F250",{"$f":"#REF!","v":{"$error":"#REF!"}}]
[{"$f":"'Standing data'!$D$10","v":{"$error":"#N/A"}},{"$f":"'Standing data'!$F$10","v":0},{"$f":"'Standing data'!$D$6","v":"Academy name"},{"$f":"'Standing data'!$F$6","v":0},"Forecast","F251",{"$f":"#REF!","v":{"$error":"#REF!"}}]
[{"$f":"'Standing data'!$D$10","v":{"$error":"#N/A"}},{"$f":"'Standing data'!$F$10","v":0},{"$f":"'Standing data'!$D$6","v":"Academy name"},{"$f":"'Standing data'!$F$6","v":0},"Forecast","F252",{"$f":"#REF!","v":{"$error":"#REF!"}}]
[{"$f":"'Standing data'!$D$10","v":{"$error":"#N/A"}},{"$f":"'Standing data'!$F$10","v":0},{"$f":"'Standing data'!$D$6","v":"Academy name"},{"$f":"'Standing data'!$F$6","v":0},"Forecast","F253",{"$f":"#REF!","v":{"$error":"#REF!"}}]
[{"$f":"'Standing data'!$D$10","v":{"$error":"#N/A"}},{"$f":"'Standing data'!$F$10","v":0},{"$f":"'Standing data'!$D$6","v":"Academy name"},{"$f":"'Standing data'!$F$6","v":0},"Forecast","F256",{"$f":"#REF!","v":{"$error":"#REF!"}}]
[{"$f":"'Standing data'!$D$10","v":{"$error":"#N/A"}},{"$f":"'Standing data'!$F$10","v":0},{"$f":"'Standing data'!$D$6","v":"Academy name"},{"$f":"'Standing data'!$F$6","v":0},"Forecast","F257",{"$f":"#REF!","v":{"$error":"#REF!"}}]
[{"$f":"'Standing data'!$D$10","v":{"$error":"#N/A"}},{"$f":"'Standing data'!$F$10","v":0},{"$f":"'Standing data'!$D$6","v":"Academy name"},{"$f":"'Standing data'!$F$6","v":0},"Forecast","F258",{"$f":"#REF!","v":{"$error":"#REF!"}}]
[{"$f":"'Standing data'!$D$10","v":{"$error":"#N/A"}},{"$f":"'Standing data'!$F$10","v":0},{"$f":"'Standing data'!$D$6","v":"Academy name"},{"$f":"'Standing data'!$F$6","v":0},"Forecast","F259",{"$f":"#REF!","v":{"$error":"#REF!"}}]
[{"$f":"'Standing data'!$D$10","v":{"$error":"#N/A"}},{"$f":"'Standing data'!$F$10","v":0},{"$f":"'Standing data'!$D$6","v":"Academy name"},{"$f":"'Standing data'!$F$6","v":0},"Forecast","F260",{"$f":"#REF!","v":{"$error":"#REF!"}}]
[{"$f":"'Standing data'!$D$10","v":{"$error":"#N/A"}},{"$f":"'Standing data'!$F$10","v":0},{"$f":"'Standing data'!$D$6","v":"Academy name"},{"$f":"'Standing data'!$F$6","v":0},"Forecast","F261",{"$f":"#REF!","v":{"$error":"#REF!"}}]
[{"$f":"'Standing data'!$D$10","v":{"$error":"#N/A"}},{"$f":"'Standing data'!$F$10","v":0},{"$f":"'Standing data'!$D$6","v":"Academy name"},{"$f":"'Standing data'!$F$6","v":0},"Forecast","F262",{"$f":"#REF!","v":{"$error":"#REF!"}}]
[{"$f":"'Standing data'!$D$10","v":{"$error":"#N/A"}},{"$f":"'Standing data'!$F$10","v":0},{"$f":"'Standing data'!$D$6","v":"Academy name"},{"$f":"'Standing data'!$F$6","v":0},"Forecast","F263",{"$f":"#REF!","v":{"$error":"#REF!"}}]
[{"$f":"'Standing data'!$D$10","v":{"$error":"#N/A"}},{"$f":"'Standing data'!$F$10","v":0},{"$f":"'Standing data'!$D$6","v":"Academy name"},{"$f":"'Standing data'!$F$6","v":0},"Forecast","F264",{"$f":"#REF!","v":{"$error":"#REF!"}}]
[{"$f":"'Standing data'!$D$10","v":{"$error":"#N/A"}},{"$f":"'Standing data'!$F$10","v":0},{"$f":"'Standing data'!$D$6","v":"Academy name"},{"$f":"'Standing data'!$F$6","v":0},"Forecast","F265",{"$f":"#REF!","v":{"$error":"#REF!"}}]
[{"$f":"'Standing data'!$D$10","v":{"$error":"#N/A"}},{"$f":"'Standing data'!$F$10","v":0},{"$f":"'Standing data'!$D$6","v":"Academy name"},{"$f":"'Standing data'!$F$6","v":0},"Forecast","F266",{"$f":"#REF!","v":{"$error":"#REF!"}}]
[{"$f":"'Standing data'!$D$10","v":{"$error":"#N/A"}},{"$f":"'Standing data'!$F$10","v":0},{"$f":"'Standing data'!$D$6","v":"Academy name"},{"$f":"'Standing data'!$F$6","v":0},"Forecast","F267",{"$f":"#REF!","v":{"$error":"#REF!"}}]
[{"$f":"'Standing data'!$D$10","v":{"$error":"#N/A"}},{"$f":"'Standing data'!$F$10","v":0},{"$f":"'Standing data'!$D$6","v":"Academy name"},{"$f":"'Standing data'!$F$6","v":0},"Forecast","F268",{"$f":"#REF!","v":{"$error":"#REF!"}}]
[{"$f":"'Standing data'!$D$10","v":{"$error":"#N/A"}},{"$f":"'Standing data'!$F$10","v":0},{"$f":"'Standing data'!$D$6","v":"Academy name"},{"$f":"'Standing data'!$F$6","v":0},"Forecast","F269",{"$f":"#REF!","v":{"$error":"#REF!"}}]
[{"$f":"'Standing data'!$D$10","v":{"$error":"#N/A"}},{"$f":"'Standing data'!$F$10","v":0},{"$f":"'Standing data'!$D$6","v":"Academy name"},{"$f":"'Standing data'!$F$6","v":0},"Forecast","F270",{"$f":"#REF!","v":{"$error":"#REF!"}}]
[{"$f":"'Standing data'!$D$10","v":{"$error":"#N/A"}},{"$f":"'Standing data'!$F$10","v":0},{"$f":"'Standing data'!$D$6","v":"Academy name"},{"$f":"'Standing data'!$F$6","v":0},"Forecast","F271",{"$f":"#REF!","v":{"$error":"#REF!"}}]
[{"$f":"'Standing data'!$D$10","v":{"$error":"#N/A"}},{"$f":"'Standing data'!$F$10","v":0},{"$f":"'Standing data'!$D$6","v":"Academy name"},{"$f":"'Standing data'!$F$6","v":0},"Forecast","F272",{"$f":"#REF!","v":{"$error":"#REF!"}}]
[{"$f":"'Standing data'!$D$10","v":{"$error":"#N/A"}},{"$f":"'Standing data'!$F$10","v":0},{"$f":"'Standing data'!$D$6","v":"Academy name"},{"$f":"'Standing data'!$F$6","v":0},"Forecast","F273",{"$f":"#REF!","v":{"$error":"#REF!"}}]
[{"$f":"'Standing data'!$D$10","v":{"$error":"#N/A"}},{"$f":"'Standing data'!$F$10","v":0},{"$f":"'Standing data'!$D$6","v":"Academy name"},{"$f":"'Standing data'!$F$6","v":0},"Forecast","F274",{"$f":"#REF!","v":{"$error":"#REF!"}}]
[{"$f":"'Standing data'!$D$10","v":{"$error":"#N/A"}},{"$f":"'Standing data'!$F$10","v":0},{"$f":"'Standing data'!$D$6","v":"Academy name"},{"$f":"'Standing data'!$F$6","v":0},"Forecast","F275",{"$f":"#REF!","v":{"$error":"#REF!"}}]
[{"$f":"'Standing data'!$D$10","v":{"$error":"#N/A"}},{"$f":"'Standing data'!$F$10","v":0},{"$f":"'Standing data'!$D$6","v":"Academy name"},{"$f":"'Standing data'!$F$6","v":0},"Forecast","F276",{"$f":"#REF!","v":{"$error":"#REF!"}}]
[{"$f":"'Standing data'!$D$10","v":{"$error":"#N/A"}},{"$f":"'Standing data'!$F$10","v":0},{"$f":"'Standing data'!$D$6","v":"Academy name"},{"$f":"'Standing data'!$F$6","v":0},"Forecast","F277",{"$f":"#REF!","v":{"$error":"#REF!"}}]
[{"$f":"'Standing data'!$D$10","v":{"$error":"#N/A"}},{"$f":"'Standing data'!$F$10","v":0},{"$f":"'Standing data'!$D$6","v":"Academy name"},{"$f":"'Standing data'!$F$6","v":0},"Forecast","F278",{"$f":"#REF!","v":{"$error":"#REF!"}}]
[{"$f":"'Standing data'!$D$10","v":{"$error":"#N/A"}},{"$f":"'Standing data'!$F$10","v":0},{"$f":"'Standing data'!$D$6","v":"Academy name"},{"$f":"'Standing data'!$F$6","v":0},"Forecast","F279",{"$f":"#REF!","v":{"$error":"#REF!"}}]
[{"$f":"'Standing data'!$D$10","v":{"$error":"#N/A"}},{"$f":"'Standing data'!$F$10","v":0},{"$f":"'Standing data'!$D$6","v":"Academy name"},{"$f":"'Standing data'!$F$6","v":0},"Forecast","F280",{"$f":"#REF!","v":{"$error":"#REF!"}}]
[{"$f":"'Standing data'!$D$10","v":{"$error":"#N/A"}},{"$f":"'Standing data'!$F$10","v":0},{"$f":"'Standing data'!$D$6","v":"Academy name"},{"$f":"'Standing data'!$F$6","v":0},"Forecast","F281",{"$f":"#REF!","v":{"$error":"#REF!"}}]
[{"$f":"'Standing data'!$D$10","v":{"$error":"#N/A"}},{"$f":"'Standing data'!$F$10","v":0},{"$f":"'Standing data'!$D$6","v":"Academy name"},{"$f":"'Standing data'!$F$6","v":0},"Forecast","F282",{"$f":"#REF!","v":{"$error":"#REF!"}}]
[{"$f":"'Standing data'!$D$10","v":{"$error":"#N/A"}},{"$f":"'Standing data'!$F$10","v":0},{"$f":"'Standing data'!$D$6","v":"Academy name"},{"$f":"'Standing data'!$F$6","v":0},"Forecast","F283",{"$f":"#REF!","v":{"$error":"#REF!"}}]
[{"$f":"'Standing data'!$D$10","v":{"$error":"#N/A"}},{"$f":"'Standing data'!$F$10","v":0},{"$f":"'Standing data'!$D$6","v":"Academy name"},{"$f":"'Standing data'!$F$6","v":0},"Forecast","F284",{"$f":"#REF!","v":{"$error":"#REF!"}}]
[{"$f":"'Standing data'!$D$10","v":{"$error":"#N/A"}},{"$f":"'Standing data'!$F$10","v":0},{"$f":"'Standing data'!$D$6","v":"Academy name"},{"$f":"'Standing data'!$F$6","v":0},"Forecast","F285",{"$f":"#REF!","v":{"$error":"#REF!"}}]
[{"$f":"'Standing data'!$D$10","v":{"$error":"#N/A"}},{"$f":"'Standing data'!$F$10","v":0},{"$f":"'Standing data'!$D$6","v":"Academy name"},{"$f":"'Standing data'!$F$6","v":0},"Forecast","F286",{"$f":"#REF!","v":{"$error":"#REF!"}}]
[{"$f":"'Standing data'!$D$10","v":{"$error":"#N/A"}},{"$f":"'Standing data'!$F$10","v":0},{"$f":"'Standing data'!$D$6","v":"Academy name"},{"$f":"'Standing data'!$F$6","v":0},"Forecast","F287",{"$f":"#REF!","v":{"$error":"#REF!"}}]
[{"$f":"'Standing data'!$D$10","v":{"$error":"#N/A"}},{"$f":"'Standing data'!$F$10","v":0},{"$f":"'Standing data'!$D$6","v":"Academy name"},{"$f":"'Standing data'!$F$6","v":0},"Forecast","H10",{"$f":"#REF!","v":{"$error":"#REF!"}}]
[{"$f":"'Standing data'!$D$10","v":{"$error":"#N/A"}},{"$f":"'Standing data'!$F$10","v":0},{"$f":"'Standing data'!$D$6","v":"Academy name"},{"$f":"'Standing data'!$F$6","v":0},"Forecast","H11",{"$f":"#REF!","v":{"$error":"#REF!"}}]
[{"$f":"'Standing data'!$D$10","v":{"$error":"#N/A"}},{"$f":"'Standing data'!$F$10","v":0},{"$f":"'Standing data'!$D$6","v":"Academy name"},{"$f":"'Standing data'!$F$6","v":0},"Forecast","H12",{"$f":"#REF!","v":{"$error":"#REF!"}}]
[{"$f":"'Standing data'!$D$10","v":{"$error":"#N/A"}},{"$f":"'Standing data'!$F$10","v":0},{"$f":"'Standing data'!$D$6","v":"Academy name"},{"$f":"'Standing data'!$F$6","v":0},"Forecast","H13",{"$f":"#REF!","v":{"$error":"#REF!"}}]
[{"$f":"'Standing data'!$D$10","v":{"$error":"#N/A"}},{"$f":"'Standing data'!$F$10","v":0},{"$f":"'Standing data'!$D$6","v":"Academy name"},{"$f":"'Standing data'!$F$6","v":0},"Forecast","H14",{"$f":"#REF!","v":{"$error":"#REF!"}}]
[{"$f":"'Standing data'!$D$10","v":{"$error":"#N/A"}},{"$f":"'Standing data'!$F$10","v":0},{"$f":"'Standing data'!$D$6","v":"Academy name"},{"$f":"'Standing data'!$F$6","v":0},"Forecast","H15",{"$f":"#REF!","v":{"$error":"#REF!"}}]
[{"$f":"'Standing data'!$D$10","v":{"$error":"#N/A"}},{"$f":"'Standing data'!$F$10","v":0},{"$f":"'Standing data'!$D$6","v":"Academy name"},{"$f":"'Standing data'!$F$6","v":0},"Forecast","H16",{"$f":"#REF!","v":{"$error":"#REF!"}}]
[{"$f":"'Standing data'!$D$10","v":{"$error":"#N/A"}},{"$f":"'Standing data'!$F$10","v":0},{"$f":"'Standing data'!$D$6","v":"Academy name"},{"$f":"'Standing data'!$F$6","v":0},"Forecast","H17",{"$f":"#REF!","v":{"$error":"#REF!"}}]
[{"$f":"'Standing data'!$D$10","v":{"$error":"#N/A"}},{"$f":"'Standing data'!$F$10","v":0},{"$f":"'Standing data'!$D$6","v":"Academy name"},{"$f":"'Standing data'!$F$6","v":0},"Forecast","H18",{"$f":"#REF!","v":{"$error":"#REF!"}}]
[{"$f":"'Standing data'!$D$10","v":{"$error":"#N/A"}},{"$f":"'Standing data'!$F$10","v":0},{"$f":"'Standing data'!$D$6","v":"Academy name"},{"$f":"'Standing data'!$F$6","v":0},"Forecast","H19",{"$f":"#REF!","v":{"$error":"#REF!"}}]
[{"$f":"'Standing data'!$D$10","v":{"$error":"#N/A"}},{"$f":"'Standing data'!$F$10","v":0},{"$f":"'Standing data'!$D$6","v":"Academy name"},{"$f":"'Standing data'!$F$6","v":0},"Forecast","H20",{"$f":"#REF!","v":{"$error":"#REF!"}}]
[{"$f":"'Standing data'!$D$10","v":{"$error":"#N/A"}},{"$f":"'Standing data'!$F$10","v":0},{"$f":"'Standing data'!$D$6","v":"Academy name"},{"$f":"'Standing data'!$F$6","v":0},"Forecast","H21",{"$f":"#REF!","v":{"$error":"#REF!"}}]
[{"$f":"'Standing data'!$D$10","v":{"$error":"#N/A"}},{"$f":"'Standing data'!$F$10","v":0},{"$f":"'Standing data'!$D$6","v":"Academy name"},{"$f":"'Standing data'!$F$6","v":0},"Forecast","H22",{"$f":"#REF!","v":{"$error":"#REF!"}}]
[{"$f":"'Standing data'!$D$10","v":{"$error":"#N/A"}},{"$f":"'Standing data'!$F$10","v":0},{"$f":"'Standing data'!$D$6","v":"Academy name"},{"$f":"'Standing data'!$F$6","v":0},"Forecast","H23",{"$f":"#REF!","v":{"$error":"#REF!"}}]
[{"$f":"'Standing data'!$D$10","v":{"$error":"#N/A"}},{"$f":"'Standing data'!$F$10","v":0},{"$f":"'Standing data'!$D$6","v":"Academy name"},{"$f":"'Standing data'!$F$6","v":0},"Forecast","H24",{"$f":"#REF!","v":{"$error":"#REF!"}}]
[{"$f":"'Standing data'!$D$10","v":{"$error":"#N/A"}},{"$f":"'Standing data'!$F$10","v":0},{"$f":"'Standing data'!$D$6","v":"Academy name"},{"$f":"'Standing data'!$F$6","v":0},"Forecast","H25",{"$f":"#REF!","v":{"$error":"#REF!"}}]
[{"$f":"'Standing data'!$D$10","v":{"$error":"#N/A"}},{"$f":"'Standing data'!$F$10","v":0},{"$f":"'Standing data'!$D$6","v":"Academy name"},{"$f":"'Standing data'!$F$6","v":0},"Forecast","H26",{"$f":"#REF!","v":{"$error":"#REF!"}}]
[{"$f":"'Standing data'!$D$10","v":{"$error":"#N/A"}},{"$f":"'Standing data'!$F$10","v":0},{"$f":"'Standing data'!$D$6","v":"Academy name"},{"$f":"'Standing data'!$F$6","v":0},"Forecast","H27",{"$f":"#REF!","v":{"$error":"#REF!"}}]
[{"$f":"'Standing data'!$D$10","v":{"$error":"#N/A"}},{"$f":"'Standing data'!$F$10","v":0},{"$f":"'Standing data'!$D$6","v":"Academy name"},{"$f":"'Standing data'!$F$6","v":0},"Forecast","H28",{"$f":"#REF!","v":{"$error":"#REF!"}}]
[{"$f":"'Standing data'!$D$10","v":{"$error":"#N/A"}},{"$f":"'Standing data'!$F$10","v":0},{"$f":"'Standing data'!$D$6","v":"Academy name"},{"$f":"'Standing data'!$F$6","v":0},"Forecast","H29",{"$f":"#REF!","v":{"$error":"#REF!"}}]
[{"$f":"'Standing data'!$D$10","v":{"$error":"#N/A"}},{"$f":"'Standing data'!$F$10","v":0},{"$f":"'Standing data'!$D$6","v":"Academy name"},{"$f":"'Standing data'!$F$6","v":0},"Forecast","H30",{"$f":"#REF!","v":{"$error":"#REF!"}}]
[{"$f":"'Standing data'!$D$10","v":{"$error":"#N/A"}},{"$f":"'Standing data'!$F$10","v":0},{"$f":"'Standing data'!$D$6","v":"Academy name"},{"$f":"'Standing data'!$F$6","v":0},"Forecast","H31",{"$f":"#REF!","v":{"$error":"#REF!"}}]
[{"$f":"'Standing data'!$D$10","v":{"$error":"#N/A"}},{"$f":"'Standing data'!$F$10","v":0},{"$f":"'Standing data'!$D$6","v":"Academy name"},{"$f":"'Standing data'!$F$6","v":0},"Forecast","H32",{"$f":"#REF!","v":{"$error":"#REF!"}}]
[{"$f":"'Standing data'!$D$10","v":{"$error":"#N/A"}},{"$f":"'Standing data'!$F$10","v":0},{"$f":"'Standing data'!$D$6","v":"Academy name"},{"$f":"'Standing data'!$F$6","v":0},"Forecast","H33",{"$f":"#REF!","v":{"$error":"#REF!"}}]
[{"$f":"'Standing data'!$D$10","v":{"$error":"#N/A"}},{"$f":"'Standing data'!$F$10","v":0},{"$f":"'Standing data'!$D$6","v":"Academy name"},{"$f":"'Standing data'!$F$6","v":0},"Forecast","H34",{"$f":"#REF!","v":{"$error":"#REF!"}}]
[{"$f":"'Standing data'!$D$10","v":{"$error":"#N/A"}},{"$f":"'Standing data'!$F$10","v":0},{"$f":"'Standing data'!$D$6","v":"Academy name"},{"$f":"'Standing data'!$F$6","v":0},"Forecast","H35",{"$f":"#REF!","v":{"$error":"#REF!"}}]
[{"$f":"'Standing data'!$D$10","v":{"$error":"#N/A"}},{"$f":"'Standing data'!$F$10","v":0},{"$f":"'Standing data'!$D$6","v":"Academy name"},{"$f":"'Standing data'!$F$6","v":0},"Forecast","H36",{"$f":"#REF!","v":{"$error":"#REF!"}}]
[{"$f":"'Standing data'!$D$10","v":{"$error":"#N/A"}},{"$f":"'Standing data'!$F$10","v":0},{"$f":"'Standing data'!$D$6","v":"Academy name"},{"$f":"'Standing data'!$F$6","v":0},"Forecast","H37",{"$f":"#REF!","v":{"$error":"#REF!"}}]
[{"$f":"'Standing data'!$D$10","v":{"$error":"#N/A"}},{"$f":"'Standing data'!$F$10","v":0},{"$f":"'Standing data'!$D$6","v":"Academy name"},{"$f":"'Standing data'!$F$6","v":0},"Forecast","H38",{"$f":"#REF!","v":{"$error":"#REF!"}}]
[{"$f":"'Standing data'!$D$10","v":{"$error":"#N/A"}},{"$f":"'Standing data'!$F$10","v":0},{"$f":"'Standing data'!$D$6","v":"Academy name"},{"$f":"'Standing data'!$F$6","v":0},"Forecast","H39",{"$f":"#REF!","v":{"$error":"#REF!"}}]
[{"$f":"'Standing data'!$D$10","v":{"$error":"#N/A"}},{"$f":"'Standing data'!$F$10","v":0},{"$f":"'Standing data'!$D$6","v":"Academy name"},{"$f":"'Standing data'!$F$6","v":0},"Forecast","H40",{"$f":"#REF!","v":{"$error":"#REF!"}}]
[{"$f":"'Standing data'!$D$10","v":{"$error":"#N/A"}},{"$f":"'Standing data'!$F$10","v":0},{"$f":"'Standing data'!$D$6","v":"Academy name"},{"$f":"'Standing data'!$F$6","v":0},"Forecast","H41",{"$f":"#REF!","v":{"$error":"#REF!"}}]
[{"$f":"'Standing data'!$D$10","v":{"$error":"#N/A"}},{"$f":"'Standing data'!$F$10","v":0},{"$f":"'Standing data'!$D$6","v":"Academy name"},{"$f":"'Standing data'!$F$6","v":0},"Forecast","H42",{"$f":"#REF!","v":{"$error":"#REF!"}}]
[{"$f":"'Standing data'!$D$10","v":{"$error":"#N/A"}},{"$f":"'Standing data'!$F$10","v":0},{"$f":"'Standing data'!$D$6","v":"Academy name"},{"$f":"'Standing data'!$F$6","v":0},"Forecast","H43",{"$f":"#REF!","v":{"$error":"#REF!"}}]
[{"$f":"'Standing data'!$D$10","v":{"$error":"#N/A"}},{"$f":"'Standing data'!$F$10","v":0},{"$f":"'Standing data'!$D$6","v":"Academy name"},{"$f":"'Standing data'!$F$6","v":0},"Forecast","H45",{"$f":"#REF!","v":{"$error":"#REF!"}}]
[{"$f":"'Standing data'!$D$10","v":{"$error":"#N/A"}},{"$f":"'Standing data'!$F$10","v":0},{"$f":"'Standing data'!$D$6","v":"Academy name"},{"$f":"'Standing data'!$F$6","v":0},"Forecast","H46",{"$f":"#REF!","v":{"$error":"#REF!"}}]
[{"$f":"'Standing data'!$D$10","v":{"$error":"#N/A"}},{"$f":"'Standing data'!$F$10","v":0},{"$f":"'Standing data'!$D$6","v":"Academy name"},{"$f":"'Standing data'!$F$6","v":0},"Forecast","H47",{"$f":"#REF!","v":{"$error":"#REF!"}}]
[{"$f":"'Standing data'!$D$10","v":{"$error":"#N/A"}},{"$f":"'Standing data'!$F$10","v":0},{"$f":"'Standing data'!$D$6","v":"Academy name"},{"$f":"'Standing data'!$F$6","v":0},"Forecast","H48",{"$f":"#REF!","v":{"$error":"#REF!"}}]
[{"$f":"'Standing data'!$D$10","v":{"$error":"#N/A"}},{"$f":"'Standing data'!$F$10","v":0},{"$f":"'Standing data'!$D$6","v":"Academy name"},{"$f":"'Standing data'!$F$6","v":0},"Forecast","H49",{"$f":"#REF!","v":{"$error":"#REF!"}}]
[{"$f":"'Standing data'!$D$10","v":{"$error":"#N/A"}},{"$f":"'Standing data'!$F$10","v":0},{"$f":"'Standing data'!$D$6","v":"Academy name"},{"$f":"'Standing data'!$F$6","v":0},"Forecast","H50",{"$f":"#REF!","v":{"$error":"#REF!"}}]
[{"$f":"'Standing data'!$D$10","v":{"$error":"#N/A"}},{"$f":"'Standing data'!$F$10","v":0},{"$f":"'Standing data'!$D$6","v":"Academy name"},{"$f":"'Standing data'!$F$6","v":0},"Forecast","H51",{"$f":"#REF!","v":{"$error":"#REF!"}}]
[{"$f":"'Standing data'!$D$10","v":{"$error":"#N/A"}},{"$f":"'Standing data'!$F$10","v":0},{"$f":"'Standing data'!$D$6","v":"Academy name"},{"$f":"'Standing data'!$F$6","v":0},"Forecast","H52",{"$f":"#REF!","v":{"$error":"#REF!"}}]
[{"$f":"'Standing data'!$D$10","v":{"$error":"#N/A"}},{"$f":"'Standing data'!$F$10","v":0},{"$f":"'Standing data'!$D$6","v":"Academy name"},{"$f":"'Standing data'!$F$6","v":0},"Forecast","H53",{"$f":"#REF!","v":{"$error":"#REF!"}}]
[{"$f":"'Standing data'!$D$10","v":{"$error":"#N/A"}},{"$f":"'Standing data'!$F$10","v":0},{"$f":"'Standing data'!$D$6","v":"Academy name"},{"$f":"'Standing data'!$F$6","v":0},"Forecast","H54",{"$f":"#REF!","v":{"$error":"#REF!"}}]
[{"$f":"'Standing data'!$D$10","v":{"$error":"#N/A"}},{"$f":"'Standing data'!$F$10","v":0},{"$f":"'Standing data'!$D$6","v":"Academy name"},{"$f":"'Standing data'!$F$6","v":0},"Forecast","H55",{"$f":"#REF!","v":{"$error":"#REF!"}}]
[{"$f":"'Standing data'!$D$10","v":{"$error":"#N/A"}},{"$f":"'Standing data'!$F$10","v":0},{"$f":"'Standing data'!$D$6","v":"Academy name"},{"$f":"'Standing data'!$F$6","v":0},"Forecast","H57",{"$f":"#REF!","v":{"$error":"#REF!"}}]
[{"$f":"'Standing data'!$D$10","v":{"$error":"#N/A"}},{"$f":"'Standing data'!$F$10","v":0},{"$f":"'Standing data'!$D$6","v":"Academy name"},{"$f":"'Standing data'!$F$6","v":0},"Forecast","H60",{"$f":"#REF!","v":{"$error":"#REF!"}}]
[{"$f":"'Standing data'!$D$10","v":{"$error":"#N/A"}},{"$f":"'Standing data'!$F$10","v":0},{"$f":"'Standing data'!$D$6","v":"Academy name"},{"$f":"'Standing data'!$F$6","v":0},"Forecast","H61",{"$f":"#REF!","v":{"$error":"#REF!"}}]
[{"$f":"'Standing data'!$D$10","v":{"$error":"#N/A"}},{"$f":"'Standing data'!$F$10","v":0},{"$f":"'Standing data'!$D$6","v":"Academy name"},{"$f":"'Standing data'!$F$6","v":0},"Forecast","H62",{"$f":"#REF!","v":{"$error":"#REF!"}}]
[{"$f":"'Standing data'!$D$10","v":{"$error":"#N/A"}},{"$f":"'Standing data'!$F$10","v":0},{"$f":"'Standing data'!$D$6","v":"Academy name"},{"$f":"'Standing data'!$F$6","v":0},"Forecast","H63",{"$f":"#REF!","v":{"$error":"#REF!"}}]
[{"$f":"'Standing data'!$D$10","v":{"$error":"#N/A"}},{"$f":"'Standing data'!$F$10","v":0},{"$f":"'Standing data'!$D$6","v":"Academy name"},{"$f":"'Standing data'!$F$6","v":0},"Forecast","H64",{"$f":"#REF!","v":{"$error":"#REF!"}}]
[{"$f":"'Standing data'!$D$10","v":{"$error":"#N/A"}},{"$f":"'Standing data'!$F$10","v":0},{"$f":"'Standing data'!$D$6","v":"Academy name"},{"$f":"'Standing data'!$F$6","v":0},"Forecast","H65",{"$f":"#REF!","v":{"$error":"#REF!"}}]
[{"$f":"'Standing data'!$D$10","v":{"$error":"#N/A"}},{"$f":"'Standing data'!$F$10","v":0},{"$f":"'Standing data'!$D$6","v":"Academy name"},{"$f":"'Standing data'!$F$6","v":0},"Forecast","H66",{"$f":"#REF!","v":{"$error":"#REF!"}}]
[{"$f":"'Standing data'!$D$10","v":{"$error":"#N/A"}},{"$f":"'Standing data'!$F$10","v":0},{"$f":"'Standing data'!$D$6","v":"Academy name"},{"$f":"'Standing data'!$F$6","v":0},"Forecast","H67",{"$f":"#REF!","v":{"$error":"#REF!"}}]
[{"$f":"'Standing data'!$D$10","v":{"$error":"#N/A"}},{"$f":"'Standing data'!$F$10","v":0},{"$f":"'Standing data'!$D$6","v":"Academy name"},{"$f":"'Standing data'!$F$6","v":0},"Forecast","H69",{"$f":"#REF!","v":{"$error":"#REF!"}}]
[{"$f":"'Standing data'!$D$10","v":{"$error":"#N/A"}},{"$f":"'Standing data'!$F$10","v":0},{"$f":"'Standing data'!$D$6","v":"Academy name"},{"$f":"'Standing data'!$F$6","v":0},"Forecast","H70",{"$f":"#REF!","v":{"$error":"#REF!"}}]
[{"$f":"'Standing data'!$D$10","v":{"$error":"#N/A"}},{"$f":"'Standing data'!$F$10","v":0},{"$f":"'Standing data'!$D$6","v":"Academy name"},{"$f":"'Standing data'!$F$6","v":0},"Forecast","H71",{"$f":"#REF!","v":{"$error":"#REF!"}}]
[{"$f":"'Standing data'!$D$10","v":{"$error":"#N/A"}},{"$f":"'Standing data'!$F$10","v":0},{"$f":"'Standing data'!$D$6","v":"Academy name"},{"$f":"'Standing data'!$F$6","v":0},"Forecast","H72",{"$f":"#REF!","v":{"$error":"#REF!"}}]
[{"$f":"'Standing data'!$D$10","v":{"$error":"#N/A"}},{"$f":"'Standing data'!$F$10","v":0},{"$f":"'Standing data'!$D$6","v":"Academy name"},{"$f":"'Standing data'!$F$6","v":0},"Forecast","H73",{"$f":"#REF!","v":{"$error":"#REF!"}}]
[{"$f":"'Standing data'!$D$10","v":{"$error":"#N/A"}},{"$f":"'Standing data'!$F$10","v":0},{"$f":"'Standing data'!$D$6","v":"Academy name"},{"$f":"'Standing data'!$F$6","v":0},"Forecast","H74",{"$f":"#REF!","v":{"$error":"#REF!"}}]
[{"$f":"'Standing data'!$D$10","v":{"$error":"#N/A"}},{"$f":"'Standing data'!$F$10","v":0},{"$f":"'Standing data'!$D$6","v":"Academy name"},{"$f":"'Standing data'!$F$6","v":0},"Forecast","H75",{"$f":"#REF!","v":{"$error":"#REF!"}}]
[{"$f":"'Standing data'!$D$10","v":{"$error":"#N/A"}},{"$f":"'Standing data'!$F$10","v":0},{"$f":"'Standing data'!$D$6","v":"Academy name"},{"$f":"'Standing data'!$F$6","v":0},"Forecast","H76",{"$f":"#REF!","v":{"$error":"#REF!"}}]
[{"$f":"'Standing data'!$D$10","v":{"$error":"#N/A"}},{"$f":"'Standing data'!$F$10","v":0},{"$f":"'Standing data'!$D$6","v":"Academy name"},{"$f":"'Standing data'!$F$6","v":0},"Forecast","H77",{"$f":"#REF!","v":{"$error":"#REF!"}}]
[{"$f":"'Standing data'!$D$10","v":{"$error":"#N/A"}},{"$f":"'Standing data'!$F$10","v":0},{"$f":"'Standing data'!$D$6","v":"Academy name"},{"$f":"'Standing data'!$F$6","v":0},"Forecast","H78",{"$f":"#REF!","v":{"$error":"#REF!"}}]
[{"$f":"'Standing data'!$D$10","v":{"$error":"#N/A"}},{"$f":"'Standing data'!$F$10","v":0},{"$f":"'Standing data'!$D$6","v":"Academy name"},{"$f":"'Standing data'!$F$6","v":0},"Forecast","H79",{"$f":"#REF!","v":{"$error":"#REF!"}}]
[{"$f":"'Standing data'!$D$10","v":{"$error":"#N/A"}},{"$f":"'Standing data'!$F$10","v":0},{"$f":"'Standing data'!$D$6","v":"Academy name"},{"$f":"'Standing data'!$F$6","v":0},"Forecast","H80",{"$f":"#REF!","v":{"$error":"#REF!"}}]
[{"$f":"'Standing data'!$D$10","v":{"$error":"#N/A"}},{"$f":"'Standing data'!$F$10","v":0},{"$f":"'Standing data'!$D$6","v":"Academy name"},{"$f":"'Standing data'!$F$6","v":0},"Forecast","H81",{"$f":"#REF!","v":{"$error":"#REF!"}}]
[{"$f":"'Standing data'!$D$10","v":{"$error":"#N/A"}},{"$f":"'Standing data'!$F$10","v":0},{"$f":"'Standing data'!$D$6","v":"Academy name"},{"$f":"'Standing data'!$F$6","v":0},"Forecast","H82",{"$f":"#REF!","v":{"$error":"#REF!"}}]
[{"$f":"'Standing data'!$D$10","v":{"$error":"#N/A"}},{"$f":"'Standing data'!$F$10","v":0},{"$f":"'Standing data'!$D$6","v":"Academy name"},{"$f":"'Standing data'!$F$6","v":0},"Forecast","H83",{"$f":"#REF!","v":{"$error":"#REF!"}}]
[{"$f":"'Standing data'!$D$10","v":{"$error":"#N/A"}},{"$f":"'Standing data'!$F$10","v":0},{"$f":"'Standing data'!$D$6","v":"Academy name"},{"$f":"'Standing data'!$F$6","v":0},"Forecast","H85",{"$f":"#REF!","v":{"$error":"#REF!"}}]
[{"$f":"'Standing data'!$D$10","v":{"$error":"#N/A"}},{"$f":"'Standing data'!$F$10","v":0},{"$f":"'Standing data'!$D$6","v":"Academy name"},{"$f":"'Standing data'!$F$6","v":0},"Forecast","H86",{"$f":"#REF!","v":{"$error":"#REF!"}}]
[{"$f":"'Standing data'!$D$10","v":{"$error":"#N/A"}},{"$f":"'Standing data'!$F$10","v":0},{"$f":"'Standing data'!$D$6","v":"Academy name"},{"$f":"'Standing data'!$F$6","v":0},"Forecast","H87",{"$f":"#REF!","v":{"$error":"#REF!"}}]
[{"$f":"'Standing data'!$D$10","v":{"$error":"#N/A"}},{"$f":"'Standing data'!$F$10","v":0},{"$f":"'Standing data'!$D$6","v":"Academy name"},{"$f":"'Standing data'!$F$6","v":0},"Forecast","H88",{"$f":"#REF!","v":{"$error":"#REF!"}}]
[{"$f":"'Standing data'!$D$10","v":{"$error":"#N/A"}},{"$f":"'Standing data'!$F$10","v":0},{"$f":"'Standing data'!$D$6","v":"Academy name"},{"$f":"'Standing data'!$F$6","v":0},"Forecast","H89",{"$f":"#REF!","v":{"$error":"#REF!"}}]
[{"$f":"'Standing data'!$D$10","v":{"$error":"#N/A"}},{"$f":"'Standing data'!$F$10","v":0},{"$f":"'Standing data'!$D$6","v":"Academy name"},{"$f":"'Standing data'!$F$6","v":0},"Forecast","H96",{"$f":"#REF!","v":{"$error":"#REF!"}}]
[{"$f":"'Standing data'!$D$10","v":{"$error":"#N/A"}},{"$f":"'Standing data'!$F$10","v":0},{"$f":"'Standing data'!$D$6","v":"Academy name"},{"$f":"'Standing data'!$F$6","v":0},"Forecast","H97",{"$f":"#REF!","v":{"$error":"#REF!"}}]
[{"$f":"'Standing data'!$D$10","v":{"$error":"#N/A"}},{"$f":"'Standing data'!$F$10","v":0},{"$f":"'Standing data'!$D$6","v":"Academy name"},{"$f":"'Standing data'!$F$6","v":0},"Forecast","H98",{"$f":"#REF!","v":{"$error":"#REF!"}}]
[{"$f":"'Standing data'!$D$10","v":{"$error":"#N/A"}},{"$f":"'Standing data'!$F$10","v":0},{"$f":"'Standing data'!$D$6","v":"Academy name"},{"$f":"'Standing data'!$F$6","v":0},"Forecast","H99",{"$f":"#REF!","v":{"$error":"#REF!"}}]
[{"$f":"'Standing data'!$D$10","v":{"$error":"#N/A"}},{"$f":"'Standing data'!$F$10","v":0},{"$f":"'Standing data'!$D$6","v":"Academy name"},{"$f":"'Standing data'!$F$6","v":0},"Forecast","H100",{"$f":"#REF!","v":{"$error":"#REF!"}}]
[{"$f":"'Standing data'!$D$10","v":{"$error":"#N/A"}},{"$f":"'Standing data'!$F$10","v":0},{"$f":"'Standing data'!$D$6","v":"Academy name"},{"$f":"'Standing data'!$F$6","v":0},"Forecast","H101",{"$f":"#REF!","v":{"$error":"#REF!"}}]
[{"$f":"'Standing data'!$D$10","v":{"$error":"#N/A"}},{"$f":"'Standing data'!$F$10","v":0},{"$f":"'Standing data'!$D$6","v":"Academy name"},{"$f":"'Standing data'!$F$6","v":0},"Forecast","H102",{"$f":"#REF!","v":{"$error":"#REF!"}}]
[{"$f":"'Standing data'!$D$10","v":{"$error":"#N/A"}},{"$f":"'Standing data'!$F$10","v":0},{"$f":"'Standing data'!$D$6","v":"Academy name"},{"$f":"'Standing data'!$F$6","v":0},"Forecast","H103",{"$f":"#REF!","v":{"$error":"#REF!"}}]
[{"$f":"'Standing data'!$D$10","v":{"$error":"#N/A"}},{"$f":"'Standing data'!$F$10","v":0},{"$f":"'Standing data'!$D$6","v":"Academy name"},{"$f":"'Standing data'!$F$6","v":0},"Forecast","H104",{"$f":"#REF!","v":{"$error":"#REF!"}}]
[{"$f":"'Standing data'!$D$10","v":{"$error":"#N/A"}},{"$f":"'Standing data'!$F$10","v":0},{"$f":"'Standing data'!$D$6","v":"Academy name"},{"$f":"'Standing data'!$F$6","v":0},"Forecast","H106",{"$f":"#REF!","v":{"$error":"#REF!"}}]
[{"$f":"'Standing data'!$D$10","v":{"$error":"#N/A"}},{"$f":"'Standing data'!$F$10","v":0},{"$f":"'Standing data'!$D$6","v":"Academy name"},{"$f":"'Standing data'!$F$6","v":0},"Forecast","H107",{"$f":"#REF!","v":{"$error":"#REF!"}}]
[{"$f":"'Standing data'!$D$10","v":{"$error":"#N/A"}},{"$f":"'Standing data'!$F$10","v":0},{"$f":"'Standing data'!$D$6","v":"Academy name"},{"$f":"'Standing data'!$F$6","v":0},"Forecast","H108",{"$f":"#REF!","v":{"$error":"#REF!"}}]
[{"$f":"'Standing data'!$D$10","v":{"$error":"#N/A"}},{"$f":"'Standing data'!$F$10","v":0},{"$f":"'Standing data'!$D$6","v":"Academy name"},{"$f":"'Standing data'!$F$6","v":0},"Forecast","H109",{"$f":"#REF!","v":{"$error":"#REF!"}}]
[{"$f":"'Standing data'!$D$10","v":{"$error":"#N/A"}},{"$f":"'Standing data'!$F$10","v":0},{"$f":"'Standing data'!$D$6","v":"Academy name"},{"$f":"'Standing data'!$F$6","v":0},"Forecast","H110",{"$f":"#REF!","v":{"$error":"#REF!"}}]
[{"$f":"'Standing data'!$D$10","v":{"$error":"#N/A"}},{"$f":"'Standing data'!$F$10","v":0},{"$f":"'Standing data'!$D$6","v":"Academy name"},{"$f":"'Standing data'!$F$6","v":0},"Forecast","H112",{"$f":"#REF!","v":{"$error":"#REF!"}}]
[{"$f":"'Standing data'!$D$10","v":{"$error":"#N/A"}},{"$f":"'Standing data'!$F$10","v":0},{"$f":"'Standing data'!$D$6","v":"Academy name"},{"$f":"'Standing data'!$F$6","v":0},"Forecast","H115",{"$f":"#REF!","v":{"$error":"#REF!"}}]
[{"$f":"'Standing data'!$D$10","v":{"$error":"#N/A"}},{"$f":"'Standing data'!$F$10","v":0},{"$f":"'Standing data'!$D$6","v":"Academy name"},{"$f":"'Standing data'!$F$6","v":0},"Forecast","H116",{"$f":"#REF!","v":{"$error":"#REF!"}}]
[{"$f":"'Standing data'!$D$10","v":{"$error":"#N/A"}},{"$f":"'Standing data'!$F$10","v":0},{"$f":"'Standing data'!$D$6","v":"Academy name"},{"$f":"'Standing data'!$F$6","v":0},"Forecast","H117",{"$f":"#REF!","v":{"$error":"#REF!"}}]
[{"$f":"'Standing data'!$D$10","v":{"$error":"#N/A"}},{"$f":"'Standing data'!$F$10","v":0},{"$f":"'Standing data'!$D$6","v":"Academy name"},{"$f":"'Standing data'!$F$6","v":0},"Forecast","H119",{"$f":"#REF!","v":{"$error":"#REF!"}}]
[{"$f":"'Standing data'!$D$10","v":{"$error":"#N/A"}},{"$f":"'Standing data'!$F$10","v":0},{"$f":"'Standing data'!$D$6","v":"Academy name"},{"$f":"'Standing data'!$F$6","v":0},"Forecast","H120",{"$f":"#REF!","v":{"$error":"#REF!"}}]
[{"$f":"'Standing data'!$D$10","v":{"$error":"#N/A"}},{"$f":"'Standing data'!$F$10","v":0},{"$f":"'Standing data'!$D$6","v":"Academy name"},{"$f":"'Standing data'!$F$6","v":0},"Forecast","H121",{"$f":"#REF!","v":{"$error":"#REF!"}}]
[{"$f":"'Standing data'!$D$10","v":{"$error":"#N/A"}},{"$f":"'Standing data'!$F$10","v":0},{"$f":"'Standing data'!$D$6","v":"Academy name"},{"$f":"'Standing data'!$F$6","v":0},"Forecast","H122",{"$f":"#REF!","v":{"$error":"#REF!"}}]
[{"$f":"'Standing data'!$D$10","v":{"$error":"#N/A"}},{"$f":"'Standing data'!$F$10","v":0},{"$f":"'Standing data'!$D$6","v":"Academy name"},{"$f":"'Standing data'!$F$6","v":0},"Forecast","H124",{"$f":"#REF!","v":{"$error":"#REF!"}}]
[{"$f":"'Standing data'!$D$10","v":{"$error":"#N/A"}},{"$f":"'Standing data'!$F$10","v":0},{"$f":"'Standing data'!$D$6","v":"Academy name"},{"$f":"'Standing data'!$F$6","v":0},"Forecast","H127",{"$f":"#REF!","v":{"$error":"#REF!"}}]
[{"$f":"'Standing data'!$D$10","v":{"$error":"#N/A"}},{"$f":"'Standing data'!$F$10","v":0},{"$f":"'Standing data'!$D$6","v":"Academy name"},{"$f":"'Standing data'!$F$6","v":0},"Forecast","H128",{"$f":"#REF!","v":{"$error":"#REF!"}}]
[{"$f":"'Standing data'!$D$10","v":{"$error":"#N/A"}},{"$f":"'Standing data'!$F$10","v":0},{"$f":"'Standing data'!$D$6","v":"Academy name"},{"$f":"'Standing data'!$F$6","v":0},"Forecast","H129",{"$f":"#REF!","v":{"$error":"#REF!"}}]
[{"$f":"'Standing data'!$D$10","v":{"$error":"#N/A"}},{"$f":"'Standing data'!$F$10","v":0},{"$f":"'Standing data'!$D$6","v":"Academy name"},{"$f":"'Standing data'!$F$6","v":0},"Forecast","H135",{"$f":"#REF!","v":{"$error":"#REF!"}}]
[{"$f":"'Standing data'!$D$10","v":{"$error":"#N/A"}},{"$f":"'Standing data'!$F$10","v":0},{"$f":"'Standing data'!$D$6","v":"Academy name"},{"$f":"'Standing data'!$F$6","v":0},"Forecast","H140",{"$f":"#REF!","v":{"$error":"#REF!"}}]
[{"$f":"'Standing data'!$D$10","v":{"$error":"#N/A"}},{"$f":"'Standing data'!$F$10","v":0},{"$f":"'Standing data'!$D$6","v":"Academy name"},{"$f":"'Standing data'!$F$6","v":0},"Forecast","H143",{"$f":"#REF!","v":{"$error":"#REF!"}}]
[{"$f":"'Standing data'!$D$10","v":{"$error":"#N/A"}},{"$f":"'Standing data'!$F$10","v":0},{"$f":"'Standing data'!$D$6","v":"Academy name"},{"$f":"'Standing data'!$F$6","v":0},"Forecast","H144",{"$f":"#REF!","v":{"$error":"#REF!"}}]
[{"$f":"'Standing data'!$D$10","v":{"$error":"#N/A"}},{"$f":"'Standing data'!$F$10","v":0},{"$f":"'Standing data'!$D$6","v":"Academy name"},{"$f":"'Standing data'!$F$6","v":0},"Forecast","H148",{"$f":"#REF!","v":{"$error":"#REF!"}}]
[{"$f":"'Standing data'!$D$10","v":{"$error":"#N/A"}},{"$f":"'Standing data'!$F$10","v":0},{"$f":"'Standing data'!$D$6","v":"Academy name"},{"$f":"'Standing data'!$F$6","v":0},"Forecast","H154",{"$f":"#REF!","v":{"$error":"#REF!"}}]
[{"$f":"'Standing data'!$D$10","v":{"$error":"#N/A"}},{"$f":"'Standing data'!$F$10","v":0},{"$f":"'Standing data'!$D$6","v":"Academy name"},{"$f":"'Standing data'!$F$6","v":0},"Forecast","H155",{"$f":"#REF!","v":{"$error":"#REF!"}}]
[{"$f":"'Standing data'!$D$10","v":{"$error":"#N/A"}},{"$f":"'Standing data'!$F$10","v":0},{"$f":"'Standing data'!$D$6","v":"Academy name"},{"$f":"'Standing data'!$F$6","v":0},"Forecast","H156",{"$f":"#REF!","v":{"$error":"#REF!"}}]
[{"$f":"'Standing data'!$D$10","v":{"$error":"#N/A"}},{"$f":"'Standing data'!$F$10","v":0},{"$f":"'Standing data'!$D$6","v":"Academy name"},{"$f":"'Standing data'!$F$6","v":0},"Forecast","H157",{"$f":"#REF!","v":{"$error":"#REF!"}}]
[{"$f":"'Standing data'!$D$10","v":{"$error":"#N/A"}},{"$f":"'Standing data'!$F$10","v":0},{"$f":"'Standing data'!$D$6","v":"Academy name"},{"$f":"'Standing data'!$F$6","v":0},"Forecast","H158",{"$f":"#REF!","v":{"$error":"#REF!"}}]
[{"$f":"'Standing data'!$D$10","v":{"$error":"#N/A"}},{"$f":"'Standing data'!$F$10","v":0},{"$f":"'Standing data'!$D$6","v":"Academy name"},{"$f":"'Standing data'!$F$6","v":0},"Forecast","H159",{"$f":"#REF!","v":{"$error":"#REF!"}}]
[{"$f":"'Standing data'!$D$10","v":{"$error":"#N/A"}},{"$f":"'Standing data'!$F$10","v":0},{"$f":"'Standing data'!$D$6","v":"Academy name"},{"$f":"'Standing data'!$F$6","v":0},"Forecast","H160",{"$f":"#REF!","v":{"$error":"#REF!"}}]
[{"$f":"'Standing data'!$D$10","v":{"$error":"#N/A"}},{"$f":"'Standing data'!$F$10","v":0},{"$f":"'Standing data'!$D$6","v":"Academy name"},{"$f":"'Standing data'!$F$6","v":0},"Forecast","H161",{"$f":"#REF!","v":{"$error":"#REF!"}}]
[{"$f":"'Standing data'!$D$10","v":{"$error":"#N/A"}},{"$f":"'Standing data'!$F$10","v":0},{"$f":"'Standing data'!$D$6","v":"Academy name"},{"$f":"'Standing data'!$F$6","v":0},"Forecast","H162",{"$f":"#REF!","v":{"$error":"#REF!"}}]
[{"$f":"'Standing data'!$D$10","v":{"$error":"#N/A"}},{"$f":"'Standing data'!$F$10","v":0},{"$f":"'Standing data'!$D$6","v":"Academy name"},{"$f":"'Standing data'!$F$6","v":0},"Forecast","H163",{"$f":"#REF!","v":{"$error":"#REF!"}}]
[{"$f":"'Standing data'!$D$10","v":{"$error":"#N/A"}},{"$f":"'Standing data'!$F$10","v":0},{"$f":"'Standing data'!$D$6","v":"Academy name"},{"$f":"'Standing data'!$F$6","v":0},"Forecast","H164",{"$f":"#REF!","v":{"$error":"#REF!"}}]
[{"$f":"'Standing data'!$D$10","v":{"$error":"#N/A"}},{"$f":"'Standing data'!$F$10","v":0},{"$f":"'Standing data'!$D$6","v":"Academy name"},{"$f":"'Standing data'!$F$6","v":0},"Forecast","H165",{"$f":"#REF!","v":{"$error":"#REF!"}}]
[{"$f":"'Standing data'!$D$10","v":{"$error":"#N/A"}},{"$f":"'Standing data'!$F$10","v":0},{"$f":"'Standing data'!$D$6","v":"Academy name"},{"$f":"'Standing data'!$F$6","v":0},"Forecast","H166",{"$f":"#REF!","v":{"$error":"#REF!"}}]
[{"$f":"'Standing data'!$D$10","v":{"$error":"#N/A"}},{"$f":"'Standing data'!$F$10","v":0},{"$f":"'Standing data'!$D$6","v":"Academy name"},{"$f":"'Standing data'!$F$6","v":0},"Forecast","H167",{"$f":"#REF!","v":{"$error":"#REF!"}}]
[{"$f":"'Standing data'!$D$10","v":{"$error":"#N/A"}},{"$f":"'Standing data'!$F$10","v":0},{"$f":"'Standing data'!$D$6","v":"Academy name"},{"$f":"'Standing data'!$F$6","v":0},"Forecast","H168",{"$f":"#REF!","v":{"$error":"#REF!"}}]
[{"$f":"'Standing data'!$D$10","v":{"$error":"#N/A"}},{"$f":"'Standing data'!$F$10","v":0},{"$f":"'Standing data'!$D$6","v":"Academy name"},{"$f":"'Standing data'!$F$6","v":0},"Forecast","H169",{"$f":"#REF!","v":{"$error":"#REF!"}}]
[{"$f":"'Standing data'!$D$10","v":{"$error":"#N/A"}},{"$f":"'Standing data'!$F$10","v":0},{"$f":"'Standing data'!$D$6","v":"Academy name"},{"$f":"'Standing data'!$F$6","v":0},"Forecast","H170",{"$f":"#REF!","v":{"$error":"#REF!"}}]
[{"$f":"'Standing data'!$D$10","v":{"$error":"#N/A"}},{"$f":"'Standing data'!$F$10","v":0},{"$f":"'Standing data'!$D$6","v":"Academy name"},{"$f":"'Standing data'!$F$6","v":0},"Forecast","H171",{"$f":"#REF!","v":{"$error":"#REF!"}}]
[{"$f":"'Standing data'!$D$10","v":{"$error":"#N/A"}},{"$f":"'Standing data'!$F$10","v":0},{"$f":"'Standing data'!$D$6","v":"Academy name"},{"$f":"'Standing data'!$F$6","v":0},"Forecast","H172",{"$f":"#REF!","v":{"$error":"#REF!"}}]
[{"$f":"'Standing data'!$D$10","v":{"$error":"#N/A"}},{"$f":"'Standing data'!$F$10","v":0},{"$f":"'Standing data'!$D$6","v":"Academy name"},{"$f":"'Standing data'!$F$6","v":0},"Forecast","H173",{"$f":"#REF!","v":{"$error":"#REF!"}}]
[{"$f":"'Standing data'!$D$10","v":{"$error":"#N/A"}},{"$f":"'Standing data'!$F$10","v":0},{"$f":"'Standing data'!$D$6","v":"Academy name"},{"$f":"'Standing data'!$F$6","v":0},"Forecast","H174",{"$f":"#REF!","v":{"$error":"#REF!"}}]
[{"$f":"'Standing data'!$D$10","v":{"$error":"#N/A"}},{"$f":"'Standing data'!$F$10","v":0},{"$f":"'Standing data'!$D$6","v":"Academy name"},{"$f":"'Standing data'!$F$6","v":0},"Forecast","H175",{"$f":"#REF!","v":{"$error":"#REF!"}}]
[{"$f":"'Standing data'!$D$10","v":{"$error":"#N/A"}},{"$f":"'Standing data'!$F$10","v":0},{"$f":"'Standing data'!$D$6","v":"Academy name"},{"$f":"'Standing data'!$F$6","v":0},"Forecast","H176",{"$f":"#REF!","v":{"$error":"#REF!"}}]
[{"$f":"'Standing data'!$D$10","v":{"$error":"#N/A"}},{"$f":"'Standing data'!$F$10","v":0},{"$f":"'Standing data'!$D$6","v":"Academy name"},{"$f":"'Standing data'!$F$6","v":0},"Forecast","H177",{"$f":"#REF!","v":{"$error":"#REF!"}}]
[{"$f":"'Standing data'!$D$10","v":{"$error":"#N/A"}},{"$f":"'Standing data'!$F$10","v":0},{"$f":"'Standing data'!$D$6","v":"Academy name"},{"$f":"'Standing data'!$F$6","v":0},"Forecast","H178",{"$f":"#REF!","v":{"$error":"#REF!"}}]
[{"$f":"'Standing data'!$D$10","v":{"$error":"#N/A"}},{"$f":"'Standing data'!$F$10","v":0},{"$f":"'Standing data'!$D$6","v":"Academy name"},{"$f":"'Standing data'!$F$6","v":0},"Forecast","H179",{"$f":"#REF!","v":{"$error":"#REF!"}}]
[{"$f":"'Standing data'!$D$10","v":{"$error":"#N/A"}},{"$f":"'Standing data'!$F$10","v":0},{"$f":"'Standing data'!$D$6","v":"Academy name"},{"$f":"'Standing data'!$F$6","v":0},"Forecast","H180",{"$f":"#REF!","v":{"$error":"#REF!"}}]
[{"$f":"'Standing data'!$D$10","v":{"$error":"#N/A"}},{"$f":"'Standing data'!$F$10","v":0},{"$f":"'Standing data'!$D$6","v":"Academy name"},{"$f":"'Standing data'!$F$6","v":0},"Forecast","H181",{"$f":"#REF!","v":{"$error":"#REF!"}}]
[{"$f":"'Standing data'!$D$10","v":{"$error":"#N/A"}},{"$f":"'Standing data'!$F$10","v":0},{"$f":"'Standing data'!$D$6","v":"Academy name"},{"$f":"'Standing data'!$F$6","v":0},"Forecast","H182",{"$f":"#REF!","v":{"$error":"#REF!"}}]
[{"$f":"'Standing data'!$D$10","v":{"$error":"#N/A"}},{"$f":"'Standing data'!$F$10","v":0},{"$f":"'Standing data'!$D$6","v":"Academy name"},{"$f":"'Standing data'!$F$6","v":0},"Forecast","H183",{"$f":"#REF!","v":{"$error":"#REF!"}}]
[{"$f":"'Standing data'!$D$10","v":{"$error":"#N/A"}},{"$f":"'Standing data'!$F$10","v":0},{"$f":"'Standing data'!$D$6","v":"Academy name"},{"$f":"'Standing data'!$F$6","v":0},"Forecast","H184",{"$f":"#REF!","v":{"$error":"#REF!"}}]
[{"$f":"'Standing data'!$D$10","v":{"$error":"#N/A"}},{"$f":"'Standing data'!$F$10","v":0},{"$f":"'Standing data'!$D$6","v":"Academy name"},{"$f":"'Standing data'!$F$6","v":0},"Forecast","H185",{"$f":"#REF!","v":{"$error":"#REF!"}}]
[{"$f":"'Standing data'!$D$10","v":{"$error":"#N/A"}},{"$f":"'Standing data'!$F$10","v":0},{"$f":"'Standing data'!$D$6","v":"Academy name"},{"$f":"'Standing data'!$F$6","v":0},"Forecast","H186",{"$f":"#REF!","v":{"$error":"#REF!"}}]
[{"$f":"'Standing data'!$D$10","v":{"$error":"#N/A"}},{"$f":"'Standing data'!$F$10","v":0},{"$f":"'Standing data'!$D$6","v":"Academy name"},{"$f":"'Standing data'!$F$6","v":0},"Forecast","H187",{"$f":"#REF!","v":{"$error":"#REF!"}}]
[{"$f":"'Standing data'!$D$10","v":{"$error":"#N/A"}},{"$f":"'Standing data'!$F$10","v":0},{"$f":"'Standing data'!$D$6","v":"Academy name"},{"$f":"'Standing data'!$F$6","v":0},"Forecast","H188",{"$f":"#REF!","v":{"$error":"#REF!"}}]
[{"$f":"'Standing data'!$D$10","v":{"$error":"#N/A"}},{"$f":"'Standing data'!$F$10","v":0},{"$f":"'Standing data'!$D$6","v":"Academy name"},{"$f":"'Standing data'!$F$6","v":0},"Forecast","H189",{"$f":"#REF!","v":{"$error":"#REF!"}}]
[{"$f":"'Standing data'!$D$10","v":{"$error":"#N/A"}},{"$f":"'Standing data'!$F$10","v":0},{"$f":"'Standing data'!$D$6","v":"Academy name"},{"$f":"'Standing data'!$F$6","v":0},"Forecast","H190",{"$f":"#REF!","v":{"$error":"#REF!"}}]
[{"$f":"'Standing data'!$D$10","v":{"$error":"#N/A"}},{"$f":"'Standing data'!$F$10","v":0},{"$f":"'Standing data'!$D$6","v":"Academy name"},{"$f":"'Standing data'!$F$6","v":0},"Forecast","H191",{"$f":"#REF!","v":{"$error":"#REF!"}}]
[{"$f":"'Standing data'!$D$10","v":{"$error":"#N/A"}},{"$f":"'Standing data'!$F$10","v":0},{"$f":"'Standing data'!$D$6","v":"Academy name"},{"$f":"'Standing data'!$F$6","v":0},"Forecast","H192",{"$f":"#REF!","v":{"$error":"#REF!"}}]
[{"$f":"'Standing data'!$D$10","v":{"$error":"#N/A"}},{"$f":"'Standing data'!$F$10","v":0},{"$f":"'Standing data'!$D$6","v":"Academy name"},{"$f":"'Standing data'!$F$6","v":0},"Forecast","H193",{"$f":"#REF!","v":{"$error":"#REF!"}}]
[{"$f":"'Standing data'!$D$10","v":{"$error":"#N/A"}},{"$f":"'Standing data'!$F$10","v":0},{"$f":"'Standing data'!$D$6","v":"Academy name"},{"$f":"'Standing data'!$F$6","v":0},"Forecast","H194",{"$f":"#REF!","v":{"$error":"#REF!"}}]
[{"$f":"'Standing data'!$D$10","v":{"$error":"#N/A"}},{"$f":"'Standing data'!$F$10","v":0},{"$f":"'Standing data'!$D$6","v":"Academy name"},{"$f":"'Standing data'!$F$6","v":0},"Forecast","H195",{"$f":"#REF!","v":{"$error":"#REF!"}}]
[{"$f":"'Standing data'!$D$10","v":{"$error":"#N/A"}},{"$f":"'Standing data'!$F$10","v":0},{"$f":"'Standing data'!$D$6","v":"Academy name"},{"$f":"'Standing data'!$F$6","v":0},"Forecast","H196",{"$f":"#REF!","v":{"$error":"#REF!"}}]
[{"$f":"'Standing data'!$D$10","v":{"$error":"#N/A"}},{"$f":"'Standing data'!$F$10","v":0},{"$f":"'Standing data'!$D$6","v":"Academy name"},{"$f":"'Standing data'!$F$6","v":0},"Forecast","H197",{"$f":"#REF!","v":{"$error":"#REF!"}}]
[{"$f":"'Standing data'!$D$10","v":{"$error":"#N/A"}},{"$f":"'Standing data'!$F$10","v":0},{"$f":"'Standing data'!$D$6","v":"Academy name"},{"$f":"'Standing data'!$F$6","v":0},"Forecast","H198",{"$f":"#REF!","v":{"$error":"#REF!"}}]
[{"$f":"'Standing data'!$D$10","v":{"$error":"#N/A"}},{"$f":"'Standing data'!$F$10","v":0},{"$f":"'Standing data'!$D$6","v":"Academy name"},{"$f":"'Standing data'!$F$6","v":0},"Forecast","H199",{"$f":"#REF!","v":{"$error":"#REF!"}}]
[{"$f":"'Standing data'!$D$10","v":{"$error":"#N/A"}},{"$f":"'Standing data'!$F$10","v":0},{"$f":"'Standing data'!$D$6","v":"Academy name"},{"$f":"'Standing data'!$F$6","v":0},"Forecast","H200",{"$f":"#REF!","v":{"$error":"#REF!"}}]
[{"$f":"'Standing data'!$D$10","v":{"$error":"#N/A"}},{"$f":"'Standing data'!$F$10","v":0},{"$f":"'Standing data'!$D$6","v":"Academy name"},{"$f":"'Standing data'!$F$6","v":0},"Forecast","H201",{"$f":"#REF!","v":{"$error":"#REF!"}}]
[{"$f":"'Standing data'!$D$10","v":{"$error":"#N/A"}},{"$f":"'Standing data'!$F$10","v":0},{"$f":"'Standing data'!$D$6","v":"Academy name"},{"$f":"'Standing data'!$F$6","v":0},"Forecast","H202",{"$f":"#REF!","v":{"$error":"#REF!"}}]
[{"$f":"'Standing data'!$D$10","v":{"$error":"#N/A"}},{"$f":"'Standing data'!$F$10","v":0},{"$f":"'Standing data'!$D$6","v":"Academy name"},{"$f":"'Standing data'!$F$6","v":0},"Forecast","H203",{"$f":"#REF!","v":{"$error":"#REF!"}}]
[{"$f":"'Standing data'!$D$10","v":{"$error":"#N/A"}},{"$f":"'Standing data'!$F$10","v":0},{"$f":"'Standing data'!$D$6","v":"Academy name"},{"$f":"'Standing data'!$F$6","v":0},"Forecast","H204",{"$f":"#REF!","v":{"$error":"#REF!"}}]
[{"$f":"'Standing data'!$D$10","v":{"$error":"#N/A"}},{"$f":"'Standing data'!$F$10","v":0},{"$f":"'Standing data'!$D$6","v":"Academy name"},{"$f":"'Standing data'!$F$6","v":0},"Forecast","H205",{"$f":"#REF!","v":{"$error":"#REF!"}}]
[{"$f":"'Standing data'!$D$10","v":{"$error":"#N/A"}},{"$f":"'Standing data'!$F$10","v":0},{"$f":"'Standing data'!$D$6","v":"Academy name"},{"$f":"'Standing data'!$F$6","v":0},"Forecast","H206",{"$f":"#REF!","v":{"$error":"#REF!"}}]
[{"$f":"'Standing data'!$D$10","v":{"$error":"#N/A"}},{"$f":"'Standing data'!$F$10","v":0},{"$f":"'Standing data'!$D$6","v":"Academy name"},{"$f":"'Standing data'!$F$6","v":0},"Forecast","H207",{"$f":"#REF!","v":{"$error":"#REF!"}}]
[{"$f":"'Standing data'!$D$10","v":{"$error":"#N/A"}},{"$f":"'Standing data'!$F$10","v":0},{"$f":"'Standing data'!$D$6","v":"Academy name"},{"$f":"'Standing data'!$F$6","v":0},"Forecast","H208",{"$f":"#REF!","v":{"$error":"#REF!"}}]
[{"$f":"'Standing data'!$D$10","v":{"$error":"#N/A"}},{"$f":"'Standing data'!$F$10","v":0},{"$f":"'Standing data'!$D$6","v":"Academy name"},{"$f":"'Standing data'!$F$6","v":0},"Forecast","H209",{"$f":"#REF!","v":{"$error":"#REF!"}}]
[{"$f":"'Standing data'!$D$10","v":{"$error":"#N/A"}},{"$f":"'Standing data'!$F$10","v":0},{"$f":"'Standing data'!$D$6","v":"Academy name"},{"$f":"'Standing data'!$F$6","v":0},"Forecast","H210",{"$f":"#REF!","v":{"$error":"#REF!"}}]
[{"$f":"'Standing data'!$D$10","v":{"$error":"#N/A"}},{"$f":"'Standing data'!$F$10","v":0},{"$f":"'Standing data'!$D$6","v":"Academy name"},{"$f":"'Standing data'!$F$6","v":0},"Forecast","H211",{"$f":"#REF!","v":{"$error":"#REF!"}}]
[{"$f":"'Standing data'!$D$10","v":{"$error":"#N/A"}},{"$f":"'Standing data'!$F$10","v":0},{"$f":"'Standing data'!$D$6","v":"Academy name"},{"$f":"'Standing data'!$F$6","v":0},"Forecast","H212",{"$f":"#REF!","v":{"$error":"#REF!"}}]
[{"$f":"'Standing data'!$D$10","v":{"$error":"#N/A"}},{"$f":"'Standing data'!$F$10","v":0},{"$f":"'Standing data'!$D$6","v":"Academy name"},{"$f":"'Standing data'!$F$6","v":0},"Forecast","H213",{"$f":"#REF!","v":{"$error":"#REF!"}}]
[{"$f":"'Standing data'!$D$10","v":{"$error":"#N/A"}},{"$f":"'Standing data'!$F$10","v":0},{"$f":"'Standing data'!$D$6","v":"Academy name"},{"$f":"'Standing data'!$F$6","v":0},"Forecast","H214",{"$f":"#REF!","v":{"$error":"#REF!"}}]
[{"$f":"'Standing data'!$D$10","v":{"$error":"#N/A"}},{"$f":"'Standing data'!$F$10","v":0},{"$f":"'Standing data'!$D$6","v":"Academy name"},{"$f":"'Standing data'!$F$6","v":0},"Forecast","H215",{"$f":"#REF!","v":{"$error":"#REF!"}}]
[{"$f":"'Standing data'!$D$10","v":{"$error":"#N/A"}},{"$f":"'Standing data'!$F$10","v":0},{"$f":"'Standing data'!$D$6","v":"Academy name"},{"$f":"'Standing data'!$F$6","v":0},"Forecast","H216",{"$f":"#REF!","v":{"$error":"#REF!"}}]
[{"$f":"'Standing data'!$D$10","v":{"$error":"#N/A"}},{"$f":"'Standing data'!$F$10","v":0},{"$f":"'Standing data'!$D$6","v":"Academy name"},{"$f":"'Standing data'!$F$6","v":0},"Forecast","H217",{"$f":"#REF!","v":{"$error":"#REF!"}}]
[{"$f":"'Standing data'!$D$10","v":{"$error":"#N/A"}},{"$f":"'Standing data'!$F$10","v":0},{"$f":"'Standing data'!$D$6","v":"Academy name"},{"$f":"'Standing data'!$F$6","v":0},"Forecast","H218",{"$f":"#REF!","v":{"$error":"#REF!"}}]
[{"$f":"'Standing data'!$D$10","v":{"$error":"#N/A"}},{"$f":"'Standing data'!$F$10","v":0},{"$f":"'Standing data'!$D$6","v":"Academy name"},{"$f":"'Standing data'!$F$6","v":0},"Forecast","H219",{"$f":"#REF!","v":{"$error":"#REF!"}}]
[{"$f":"'Standing data'!$D$10","v":{"$error":"#N/A"}},{"$f":"'Standing data'!$F$10","v":0},{"$f":"'Standing data'!$D$6","v":"Academy name"},{"$f":"'Standing data'!$F$6","v":0},"Forecast","H220",{"$f":"#REF!","v":{"$error":"#REF!"}}]
[{"$f":"'Standing data'!$D$10","v":{"$error":"#N/A"}},{"$f":"'Standing data'!$F$10","v":0},{"$f":"'Standing data'!$D$6","v":"Academy name"},{"$f":"'Standing data'!$F$6","v":0},"Forecast","H221",{"$f":"#REF!","v":{"$error":"#REF!"}}]
[{"$f":"'Standing data'!$D$10","v":{"$error":"#N/A"}},{"$f":"'Standing data'!$F$10","v":0},{"$f":"'Standing data'!$D$6","v":"Academy name"},{"$f":"'Standing data'!$F$6","v":0},"Forecast","H222",{"$f":"#REF!","v":{"$error":"#REF!"}}]
[{"$f":"'Standing data'!$D$10","v":{"$error":"#N/A"}},{"$f":"'Standing data'!$F$10","v":0},{"$f":"'Standing data'!$D$6","v":"Academy name"},{"$f":"'Standing data'!$F$6","v":0},"Forecast","H223",{"$f":"#REF!","v":{"$error":"#REF!"}}]
[{"$f":"'Standing data'!$D$10","v":{"$error":"#N/A"}},{"$f":"'Standing data'!$F$10","v":0},{"$f":"'Standing data'!$D$6","v":"Academy name"},{"$f":"'Standing data'!$F$6","v":0},"Forecast","H224",{"$f":"#REF!","v":{"$error":"#REF!"}}]
[{"$f":"'Standing data'!$D$10","v":{"$error":"#N/A"}},{"$f":"'Standing data'!$F$10","v":0},{"$f":"'Standing data'!$D$6","v":"Academy name"},{"$f":"'Standing data'!$F$6","v":0},"Forecast","H225",{"$f":"#REF!","v":{"$error":"#REF!"}}]
[{"$f":"'Standing data'!$D$10","v":{"$error":"#N/A"}},{"$f":"'Standing data'!$F$10","v":0},{"$f":"'Standing data'!$D$6","v":"Academy name"},{"$f":"'Standing data'!$F$6","v":0},"Forecast","H226",{"$f":"#REF!","v":{"$error":"#REF!"}}]
[{"$f":"'Standing data'!$D$10","v":{"$error":"#N/A"}},{"$f":"'Standing data'!$F$10","v":0},{"$f":"'Standing data'!$D$6","v":"Academy name"},{"$f":"'Standing data'!$F$6","v":0},"Forecast","H227",{"$f":"#REF!","v":{"$error":"#REF!"}}]
[{"$f":"'Standing data'!$D$10","v":{"$error":"#N/A"}},{"$f":"'Standing data'!$F$10","v":0},{"$f":"'Standing data'!$D$6","v":"Academy name"},{"$f":"'Standing data'!$F$6","v":0},"Forecast","H228",{"$f":"#REF!","v":{"$error":"#REF!"}}]
[{"$f":"'Standing data'!$D$10","v":{"$error":"#N/A"}},{"$f":"'Standing data'!$F$10","v":0},{"$f":"'Standing data'!$D$6","v":"Academy name"},{"$f":"'Standing data'!$F$6","v":0},"Forecast","H229",{"$f":"#REF!","v":{"$error":"#REF!"}}]
[{"$f":"'Standing data'!$D$10","v":{"$error":"#N/A"}},{"$f":"'Standing data'!$F$10","v":0},{"$f":"'Standing data'!$D$6","v":"Academy name"},{"$f":"'Standing data'!$F$6","v":0},"Forecast","H230",{"$f":"#REF!","v":{"$error":"#REF!"}}]
[{"$f":"'Standing data'!$D$10","v":{"$error":"#N/A"}},{"$f":"'Standing data'!$F$10","v":0},{"$f":"'Standing data'!$D$6","v":"Academy name"},{"$f":"'Standing data'!$F$6","v":0},"Forecast","H231",{"$f":"#REF!","v":{"$error":"#REF!"}}]
[{"$f":"'Standing data'!$D$10","v":{"$error":"#N/A"}},{"$f":"'Standing data'!$F$10","v":0},{"$f":"'Standing data'!$D$6","v":"Academy name"},{"$f":"'Standing data'!$F$6","v":0},"Forecast","H232",{"$f":"#REF!","v":{"$error":"#REF!"}}]
[{"$f":"'Standing data'!$D$10","v":{"$error":"#N/A"}},{"$f":"'Standing data'!$F$10","v":0},{"$f":"'Standing data'!$D$6","v":"Academy name"},{"$f":"'Standing data'!$F$6","v":0},"Forecast","H233",{"$f":"#REF!","v":{"$error":"#REF!"}}]
[{"$f":"'Standing data'!$D$10","v":{"$error":"#N/A"}},{"$f":"'Standing data'!$F$10","v":0},{"$f":"'Standing data'!$D$6","v":"Academy name"},{"$f":"'Standing data'!$F$6","v":0},"Forecast","H234",{"$f":"#REF!","v":{"$error":"#REF!"}}]
[{"$f":"'Standing data'!$D$10","v":{"$error":"#N/A"}},{"$f":"'Standing data'!$F$10","v":0},{"$f":"'Standing data'!$D$6","v":"Academy name"},{"$f":"'Standing data'!$F$6","v":0},"Forecast","H235",{"$f":"#REF!","v":{"$error":"#REF!"}}]
[{"$f":"'Standing data'!$D$10","v":{"$error":"#N/A"}},{"$f":"'Standing data'!$F$10","v":0},{"$f":"'Standing data'!$D$6","v":"Academy name"},{"$f":"'Standing data'!$F$6","v":0},"Forecast","H236",{"$f":"#REF!","v":{"$error":"#REF!"}}]
[{"$f":"'Standing data'!$D$10","v":{"$error":"#N/A"}},{"$f":"'Standing data'!$F$10","v":0},{"$f":"'Standing data'!$D$6","v":"Academy name"},{"$f":"'Standing data'!$F$6","v":0},"Forecast","H237",{"$f":"#REF!","v":{"$error":"#REF!"}}]
[{"$f":"'Standing data'!$D$10","v":{"$error":"#N/A"}},{"$f":"'Standing data'!$F$10","v":0},{"$f":"'Standing data'!$D$6","v":"Academy name"},{"$f":"'Standing data'!$F$6","v":0},"Forecast","H238",{"$f":"#REF!","v":{"$error":"#REF!"}}]
[{"$f":"'Standing data'!$D$10","v":{"$error":"#N/A"}},{"$f":"'Standing data'!$F$10","v":0},{"$f":"'Standing data'!$D$6","v":"Academy name"},{"$f":"'Standing data'!$F$6","v":0},"Forecast","H239",{"$f":"#REF!","v":{"$error":"#REF!"}}]
[{"$f":"'Standing data'!$D$10","v":{"$error":"#N/A"}},{"$f":"'Standing data'!$F$10","v":0},{"$f":"'Standing data'!$D$6","v":"Academy name"},{"$f":"'Standing data'!$F$6","v":0},"Forecast","H240",{"$f":"#REF!","v":{"$error":"#REF!"}}]
[{"$f":"'Standing data'!$D$10","v":{"$error":"#N/A"}},{"$f":"'Standing data'!$F$10","v":0},{"$f":"'Standing data'!$D$6","v":"Academy name"},{"$f":"'Standing data'!$F$6","v":0},"Forecast","H241",{"$f":"#REF!","v":{"$error":"#REF!"}}]
[{"$f":"'Standing data'!$D$10","v":{"$error":"#N/A"}},{"$f":"'Standing data'!$F$10","v":0},{"$f":"'Standing data'!$D$6","v":"Academy name"},{"$f":"'Standing data'!$F$6","v":0},"Forecast","H242",{"$f":"#REF!","v":{"$error":"#REF!"}}]
[{"$f":"'Standing data'!$D$10","v":{"$error":"#N/A"}},{"$f":"'Standing data'!$F$10","v":0},{"$f":"'Standing data'!$D$6","v":"Academy name"},{"$f":"'Standing data'!$F$6","v":0},"Forecast","H243",{"$f":"#REF!","v":{"$error":"#REF!"}}]
[{"$f":"'Standing data'!$D$10","v":{"$error":"#N/A"}},{"$f":"'Standing data'!$F$10","v":0},{"$f":"'Standing data'!$D$6","v":"Academy name"},{"$f":"'Standing data'!$F$6","v":0},"Forecast","H244",{"$f":"#REF!","v":{"$error":"#REF!"}}]
[{"$f":"'Standing data'!$D$10","v":{"$error":"#N/A"}},{"$f":"'Standing data'!$F$10","v":0},{"$f":"'Standing data'!$D$6","v":"Academy name"},{"$f":"'Standing data'!$F$6","v":0},"Forecast","H245",{"$f":"#REF!","v":{"$error":"#REF!"}}]
[{"$f":"'Standing data'!$D$10","v":{"$error":"#N/A"}},{"$f":"'Standing data'!$F$10","v":0},{"$f":"'Standing data'!$D$6","v":"Academy name"},{"$f":"'Standing data'!$F$6","v":0},"Forecast","H246",{"$f":"#REF!","v":{"$error":"#REF!"}}]
[{"$f":"'Standing data'!$D$10","v":{"$error":"#N/A"}},{"$f":"'Standing data'!$F$10","v":0},{"$f":"'Standing data'!$D$6","v":"Academy name"},{"$f":"'Standing data'!$F$6","v":0},"Forecast","H247",{"$f":"#REF!","v":{"$error":"#REF!"}}]
[{"$f":"'Standing data'!$D$10","v":{"$error":"#N/A"}},{"$f":"'Standing data'!$F$10","v":0},{"$f":"'Standing data'!$D$6","v":"Academy name"},{"$f":"'Standing data'!$F$6","v":0},"Forecast","H248",{"$f":"#REF!","v":{"$error":"#REF!"}}]
[{"$f":"'Standing data'!$D$10","v":{"$error":"#N/A"}},{"$f":"'Standing data'!$F$10","v":0},{"$f":"'Standing data'!$D$6","v":"Academy name"},{"$f":"'Standing data'!$F$6","v":0},"Forecast","H249",{"$f":"#REF!","v":{"$error":"#REF!"}}]
[{"$f":"'Standing data'!$D$10","v":{"$error":"#N/A"}},{"$f":"'Standing data'!$F$10","v":0},{"$f":"'Standing data'!$D$6","v":"Academy name"},{"$f":"'Standing data'!$F$6","v":0},"Forecast","H250",{"$f":"#REF!","v":{"$error":"#REF!"}}]
[{"$f":"'Standing data'!$D$10","v":{"$error":"#N/A"}},{"$f":"'Standing data'!$F$10","v":0},{"$f":"'Standing data'!$D$6","v":"Academy name"},{"$f":"'Standing data'!$F$6","v":0},"Forecast","H251",{"$f":"#REF!","v":{"$error":"#REF!"}}]
[{"$f":"'Standing data'!$D$10","v":{"$error":"#N/A"}},{"$f":"'Standing data'!$F$10","v":0},{"$f":"'Standing data'!$D$6","v":"Academy name"},{"$f":"'Standing data'!$F$6","v":0},"Forecast","H252",{"$f":"#REF!","v":{"$error":"#REF!"}}]
[{"$f":"'Standing data'!$D$10","v":{"$error":"#N/A"}},{"$f":"'Standing data'!$F$10","v":0},{"$f":"'Standing data'!$D$6","v":"Academy name"},{"$f":"'Standing data'!$F$6","v":0},"Forecast","H253",{"$f":"#REF!","v":{"$error":"#REF!"}}]
[{"$f":"'Standing data'!$D$10","v":{"$error":"#N/A"}},{"$f":"'Standing data'!$F$10","v":0},{"$f":"'Standing data'!$D$6","v":"Academy name"},{"$f":"'Standing data'!$F$6","v":0},"Forecast","H256",{"$f":"#REF!","v":{"$error":"#REF!"}}]
[{"$f":"'Standing data'!$D$10","v":{"$error":"#N/A"}},{"$f":"'Standing data'!$F$10","v":0},{"$f":"'Standing data'!$D$6","v":"Academy name"},{"$f":"'Standing data'!$F$6","v":0},"Forecast","H257",{"$f":"#REF!","v":{"$error":"#REF!"}}]
[{"$f":"'Standing data'!$D$10","v":{"$error":"#N/A"}},{"$f":"'Standing data'!$F$10","v":0},{"$f":"'Standing data'!$D$6","v":"Academy name"},{"$f":"'Standing data'!$F$6","v":0},"Forecast","H258",{"$f":"#REF!","v":{"$error":"#REF!"}}]
[{"$f":"'Standing data'!$D$10","v":{"$error":"#N/A"}},{"$f":"'Standing data'!$F$10","v":0},{"$f":"'Standing data'!$D$6","v":"Academy name"},{"$f":"'Standing data'!$F$6","v":0},"Forecast","H259",{"$f":"#REF!","v":{"$error":"#REF!"}}]
[{"$f":"'Standing data'!$D$10","v":{"$error":"#N/A"}},{"$f":"'Standing data'!$F$10","v":0},{"$f":"'Standing data'!$D$6","v":"Academy name"},{"$f":"'Standing data'!$F$6","v":0},"Forecast","H260",{"$f":"#REF!","v":{"$error":"#REF!"}}]
[{"$f":"'Standing data'!$D$10","v":{"$error":"#N/A"}},{"$f":"'Standing data'!$F$10","v":0},{"$f":"'Standing data'!$D$6","v":"Academy name"},{"$f":"'Standing data'!$F$6","v":0},"Forecast","H261",{"$f":"#REF!","v":{"$error":"#REF!"}}]
[{"$f":"'Standing data'!$D$10","v":{"$error":"#N/A"}},{"$f":"'Standing data'!$F$10","v":0},{"$f":"'Standing data'!$D$6","v":"Academy name"},{"$f":"'Standing data'!$F$6","v":0},"Forecast","H262",{"$f":"#REF!","v":{"$error":"#REF!"}}]
[{"$f":"'Standing data'!$D$10","v":{"$error":"#N/A"}},{"$f":"'Standing data'!$F$10","v":0},{"$f":"'Standing data'!$D$6","v":"Academy name"},{"$f":"'Standing data'!$F$6","v":0},"Forecast","H263",{"$f":"#REF!","v":{"$error":"#REF!"}}]
[{"$f":"'Standing data'!$D$10","v":{"$error":"#N/A"}},{"$f":"'Standing data'!$F$10","v":0},{"$f":"'Standing data'!$D$6","v":"Academy name"},{"$f":"'Standing data'!$F$6","v":0},"Forecast","H264",{"$f":"#REF!","v":{"$error":"#REF!"}}]
[{"$f":"'Standing data'!$D$10","v":{"$error":"#N/A"}},{"$f":"'Standing data'!$F$10","v":0},{"$f":"'Standing data'!$D$6","v":"Academy name"},{"$f":"'Standing data'!$F$6","v":0},"Forecast","H265",{"$f":"#REF!","v":{"$error":"#REF!"}}]
[{"$f":"'Standing data'!$D$10","v":{"$error":"#N/A"}},{"$f":"'Standing data'!$F$10","v":0},{"$f":"'Standing data'!$D$6","v":"Academy name"},{"$f":"'Standing data'!$F$6","v":0},"Forecast","H266",{"$f":"#REF!","v":{"$error":"#REF!"}}]
[{"$f":"'Standing data'!$D$10","v":{"$error":"#N/A"}},{"$f":"'Standing data'!$F$10","v":0},{"$f":"'Standing data'!$D$6","v":"Academy name"},{"$f":"'Standing data'!$F$6","v":0},"Forecast","H267",{"$f":"#REF!","v":{"$error":"#REF!"}}]
[{"$f":"'Standing data'!$D$10","v":{"$error":"#N/A"}},{"$f":"'Standing data'!$F$10","v":0},{"$f":"'Standing data'!$D$6","v":"Academy name"},{"$f":"'Standing data'!$F$6","v":0},"Forecast","H268",{"$f":"#REF!","v":{"$error":"#REF!"}}]
[{"$f":"'Standing data'!$D$10","v":{"$error":"#N/A"}},{"$f":"'Standing data'!$F$10","v":0},{"$f":"'Standing data'!$D$6","v":"Academy name"},{"$f":"'Standing data'!$F$6","v":0},"Forecast","H269",{"$f":"#REF!","v":{"$error":"#REF!"}}]
[{"$f":"'Standing data'!$D$10","v":{"$error":"#N/A"}},{"$f":"'Standing data'!$F$10","v":0},{"$f":"'Standing data'!$D$6","v":"Academy name"},{"$f":"'Standing data'!$F$6","v":0},"Forecast","H270",{"$f":"#REF!","v":{"$error":"#REF!"}}]
[{"$f":"'Standing data'!$D$10","v":{"$error":"#N/A"}},{"$f":"'Standing data'!$F$10","v":0},{"$f":"'Standing data'!$D$6","v":"Academy name"},{"$f":"'Standing data'!$F$6","v":0},"Forecast","H271",{"$f":"#REF!","v":{"$error":"#REF!"}}]
[{"$f":"'Standing data'!$D$10","v":{"$error":"#N/A"}},{"$f":"'Standing data'!$F$10","v":0},{"$f":"'Standing data'!$D$6","v":"Academy name"},{"$f":"'Standing data'!$F$6","v":0},"Forecast","H272",{"$f":"#REF!","v":{"$error":"#REF!"}}]
[{"$f":"'Standing data'!$D$10","v":{"$error":"#N/A"}},{"$f":"'Standing data'!$F$10","v":0},{"$f":"'Standing data'!$D$6","v":"Academy name"},{"$f":"'Standing data'!$F$6","v":0},"Forecast","H273",{"$f":"#REF!","v":{"$error":"#REF!"}}]
[{"$f":"'Standing data'!$D$10","v":{"$error":"#N/A"}},{"$f":"'Standing data'!$F$10","v":0},{"$f":"'Standing data'!$D$6","v":"Academy name"},{"$f":"'Standing data'!$F$6","v":0},"Forecast","H274",{"$f":"#REF!","v":{"$error":"#REF!"}}]
[{"$f":"'Standing data'!$D$10","v":{"$error":"#N/A"}},{"$f":"'Standing data'!$F$10","v":0},{"$f":"'Standing data'!$D$6","v":"Academy name"},{"$f":"'Standing data'!$F$6","v":0},"Forecast","H275",{"$f":"#REF!","v":{"$error":"#REF!"}}]
[{"$f":"'Standing data'!$D$10","v":{"$error":"#N/A"}},{"$f":"'Standing data'!$F$10","v":0},{"$f":"'Standing data'!$D$6","v":"Academy name"},{"$f":"'Standing data'!$F$6","v":0},"Forecast","H276",{"$f":"#REF!","v":{"$error":"#REF!"}}]
[{"$f":"'Standing data'!$D$10","v":{"$error":"#N/A"}},{"$f":"'Standing data'!$F$10","v":0},{"$f":"'Standing data'!$D$6","v":"Academy name"},{"$f":"'Standing data'!$F$6","v":0},"Forecast","H277",{"$f":"#REF!","v":{"$error":"#REF!"}}]
[{"$f":"'Standing data'!$D$10","v":{"$error":"#N/A"}},{"$f":"'Standing data'!$F$10","v":0},{"$f":"'Standing data'!$D$6","v":"Academy name"},{"$f":"'Standing data'!$F$6","v":0},"Forecast","H278",{"$f":"#REF!","v":{"$error":"#REF!"}}]
[{"$f":"'Standing data'!$D$10","v":{"$error":"#N/A"}},{"$f":"'Standing data'!$F$10","v":0},{"$f":"'Standing data'!$D$6","v":"Academy name"},{"$f":"'Standing data'!$F$6","v":0},"Forecast","H279",{"$f":"#REF!","v":{"$error":"#REF!"}}]
[{"$f":"'Standing data'!$D$10","v":{"$error":"#N/A"}},{"$f":"'Standing data'!$F$10","v":0},{"$f":"'Standing data'!$D$6","v":"Academy name"},{"$f":"'Standing data'!$F$6","v":0},"Forecast","H280",{"$f":"#REF!","v":{"$error":"#REF!"}}]
[{"$f":"'Standing data'!$D$10","v":{"$error":"#N/A"}},{"$f":"'Standing data'!$F$10","v":0},{"$f":"'Standing data'!$D$6","v":"Academy name"},{"$f":"'Standing data'!$F$6","v":0},"Forecast","H281",{"$f":"#REF!","v":{"$error":"#REF!"}}]
[{"$f":"'Standing data'!$D$10","v":{"$error":"#N/A"}},{"$f":"'Standing data'!$F$10","v":0},{"$f":"'Standing data'!$D$6","v":"Academy name"},{"$f":"'Standing data'!$F$6","v":0},"Forecast","H282",{"$f":"#REF!","v":{"$error":"#REF!"}}]
[{"$f":"'Standing data'!$D$10","v":{"$error":"#N/A"}},{"$f":"'Standing data'!$F$10","v":0},{"$f":"'Standing data'!$D$6","v":"Academy name"},{"$f":"'Standing data'!$F$6","v":0},"Forecast","H283",{"$f":"#REF!","v":{"$error":"#REF!"}}]
[{"$f":"'Standing data'!$D$10","v":{"$error":"#N/A"}},{"$f":"'Standing data'!$F$10","v":0},{"$f":"'Standing data'!$D$6","v":"Academy name"},{"$f":"'Standing data'!$F$6","v":0},"Forecast","H284",{"$f":"#REF!","v":{"$error":"#REF!"}}]
[{"$f":"'Standing data'!$D$10","v":{"$error":"#N/A"}},{"$f":"'Standing data'!$F$10","v":0},{"$f":"'Standing data'!$D$6","v":"Academy name"},{"$f":"'Standing data'!$F$6","v":0},"Forecast","H285",{"$f":"#REF!","v":{"$error":"#REF!"}}]
[{"$f":"'Standing data'!$D$10","v":{"$error":"#N/A"}},{"$f":"'Standing data'!$F$10","v":0},{"$f":"'Standing data'!$D$6","v":"Academy name"},{"$f":"'Standing data'!$F$6","v":0},"Forecast","H286",{"$f":"#REF!","v":{"$error":"#REF!"}}]
[{"$f":"'Standing data'!$D$10","v":{"$error":"#N/A"}},{"$f":"'Standing data'!$F$10","v":0},{"$f":"'Standing data'!$D$6","v":"Academy name"},{"$f":"'Standing data'!$F$6","v":0},"Forecast","H287",{"$f":"#REF!","v":{"$error":"#REF!"}}]
[{"$f":"'Standing data'!$D$10","v":{"$error":"#N/A"}},{"$f":"'Standing data'!$F$10","v":0},{"$f":"'Standing data'!$D$6","v":"Academy name"},{"$f":"'Standing data'!$F$6","v":0},"Forecast","I10",{"$f":"#REF!","v":{"$error":"#REF!"}}]
[{"$f":"'Standing data'!$D$10","v":{"$error":"#N/A"}},{"$f":"'Standing data'!$F$10","v":0},{"$f":"'Standing data'!$D$6","v":"Academy name"},{"$f":"'Standing data'!$F$6","v":0},"Forecast","I11",{"$f":"#REF!","v":{"$error":"#REF!"}}]
[{"$f":"'Standing data'!$D$10","v":{"$error":"#N/A"}},{"$f":"'Standing data'!$F$10","v":0},{"$f":"'Standing data'!$D$6","v":"Academy name"},{"$f":"'Standing data'!$F$6","v":0},"Forecast","I12",{"$f":"#REF!","v":{"$error":"#REF!"}}]
[{"$f":"'Standing data'!$D$10","v":{"$error":"#N/A"}},{"$f":"'Standing data'!$F$10","v":0},{"$f":"'Standing data'!$D$6","v":"Academy name"},{"$f":"'Standing data'!$F$6","v":0},"Forecast","I13",{"$f":"#REF!","v":{"$error":"#REF!"}}]
[{"$f":"'Standing data'!$D$10","v":{"$error":"#N/A"}},{"$f":"'Standing data'!$F$10","v":0},{"$f":"'Standing data'!$D$6","v":"Academy name"},{"$f":"'Standing data'!$F$6","v":0},"Forecast","I14",{"$f":"#REF!","v":{"$error":"#REF!"}}]
[{"$f":"'Standing data'!$D$10","v":{"$error":"#N/A"}},{"$f":"'Standing data'!$F$10","v":0},{"$f":"'Standing data'!$D$6","v":"Academy name"},{"$f":"'Standing data'!$F$6","v":0},"Forecast","I15",{"$f":"#REF!","v":{"$error":"#REF!"}}]
[{"$f":"'Standing data'!$D$10","v":{"$error":"#N/A"}},{"$f":"'Standing data'!$F$10","v":0},{"$f":"'Standing data'!$D$6","v":"Academy name"},{"$f":"'Standing data'!$F$6","v":0},"Forecast","I16",{"$f":"#REF!","v":{"$error":"#REF!"}}]
[{"$f":"'Standing data'!$D$10","v":{"$error":"#N/A"}},{"$f":"'Standing data'!$F$10","v":0},{"$f":"'Standing data'!$D$6","v":"Academy name"},{"$f":"'Standing data'!$F$6","v":0},"Forecast","I17",{"$f":"#REF!","v":{"$error":"#REF!"}}]
[{"$f":"'Standing data'!$D$10","v":{"$error":"#N/A"}},{"$f":"'Standing data'!$F$10","v":0},{"$f":"'Standing data'!$D$6","v":"Academy name"},{"$f":"'Standing data'!$F$6","v":0},"Forecast","I18",{"$f":"#REF!","v":{"$error":"#REF!"}}]
[{"$f":"'Standing data'!$D$10","v":{"$error":"#N/A"}},{"$f":"'Standing data'!$F$10","v":0},{"$f":"'Standing data'!$D$6","v":"Academy name"},{"$f":"'Standing data'!$F$6","v":0},"Forecast","I19",{"$f":"#REF!","v":{"$error":"#REF!"}}]
[{"$f":"'Standing data'!$D$10","v":{"$error":"#N/A"}},{"$f":"'Standing data'!$F$10","v":0},{"$f":"'Standing data'!$D$6","v":"Academy name"},{"$f":"'Standing data'!$F$6","v":0},"Forecast","I20",{"$f":"#REF!","v":{"$error":"#REF!"}}]
[{"$f":"'Standing data'!$D$10","v":{"$error":"#N/A"}},{"$f":"'Standing data'!$F$10","v":0},{"$f":"'Standing data'!$D$6","v":"Academy name"},{"$f":"'Standing data'!$F$6","v":0},"Forecast","I21",{"$f":"#REF!","v":{"$error":"#REF!"}}]
[{"$f":"'Standing data'!$D$10","v":{"$error":"#N/A"}},{"$f":"'Standing data'!$F$10","v":0},{"$f":"'Standing data'!$D$6","v":"Academy name"},{"$f":"'Standing data'!$F$6","v":0},"Forecast","I22",{"$f":"#REF!","v":{"$error":"#REF!"}}]
[{"$f":"'Standing data'!$D$10","v":{"$error":"#N/A"}},{"$f":"'Standing data'!$F$10","v":0},{"$f":"'Standing data'!$D$6","v":"Academy name"},{"$f":"'Standing data'!$F$6","v":0},"Forecast","I23",{"$f":"#REF!","v":{"$error":"#REF!"}}]
[{"$f":"'Standing data'!$D$10","v":{"$error":"#N/A"}},{"$f":"'Standing data'!$F$10","v":0},{"$f":"'Standing data'!$D$6","v":"Academy name"},{"$f":"'Standing data'!$F$6","v":0},"Forecast","I24",{"$f":"#REF!","v":{"$error":"#REF!"}}]
[{"$f":"'Standing data'!$D$10","v":{"$error":"#N/A"}},{"$f":"'Standing data'!$F$10","v":0},{"$f":"'Standing data'!$D$6","v":"Academy name"},{"$f":"'Standing data'!$F$6","v":0},"Forecast","I25",{"$f":"#REF!","v":{"$error":"#REF!"}}]
[{"$f":"'Standing data'!$D$10","v":{"$error":"#N/A"}},{"$f":"'Standing data'!$F$10","v":0},{"$f":"'Standing data'!$D$6","v":"Academy name"},{"$f":"'Standing data'!$F$6","v":0},"Forecast","I26",{"$f":"#REF!","v":{"$error":"#REF!"}}]
[{"$f":"'Standing data'!$D$10","v":{"$error":"#N/A"}},{"$f":"'Standing data'!$F$10","v":0},{"$f":"'Standing data'!$D$6","v":"Academy name"},{"$f":"'Standing data'!$F$6","v":0},"Forecast","I27",{"$f":"#REF!","v":{"$error":"#REF!"}}]
[{"$f":"'Standing data'!$D$10","v":{"$error":"#N/A"}},{"$f":"'Standing data'!$F$10","v":0},{"$f":"'Standing data'!$D$6","v":"Academy name"},{"$f":"'Standing data'!$F$6","v":0},"Forecast","I28",{"$f":"#REF!","v":{"$error":"#REF!"}}]
[{"$f":"'Standing data'!$D$10","v":{"$error":"#N/A"}},{"$f":"'Standing data'!$F$10","v":0},{"$f":"'Standing data'!$D$6","v":"Academy name"},{"$f":"'Standing data'!$F$6","v":0},"Forecast","I29",{"$f":"#REF!","v":{"$error":"#REF!"}}]
[{"$f":"'Standing data'!$D$10","v":{"$error":"#N/A"}},{"$f":"'Standing data'!$F$10","v":0},{"$f":"'Standing data'!$D$6","v":"Academy name"},{"$f":"'Standing data'!$F$6","v":0},"Forecast","I30",{"$f":"#REF!","v":{"$error":"#REF!"}}]
[{"$f":"'Standing data'!$D$10","v":{"$error":"#N/A"}},{"$f":"'Standing data'!$F$10","v":0},{"$f":"'Standing data'!$D$6","v":"Academy name"},{"$f":"'Standing data'!$F$6","v":0},"Forecast","I31",{"$f":"#REF!","v":{"$error":"#REF!"}}]
[{"$f":"'Standing data'!$D$10","v":{"$error":"#N/A"}},{"$f":"'Standing data'!$F$10","v":0},{"$f":"'Standing data'!$D$6","v":"Academy name"},{"$f":"'Standing data'!$F$6","v":0},"Forecast","I32",{"$f":"#REF!","v":{"$error":"#REF!"}}]
[{"$f":"'Standing data'!$D$10","v":{"$error":"#N/A"}},{"$f":"'Standing data'!$F$10","v":0},{"$f":"'Standing data'!$D$6","v":"Academy name"},{"$f":"'Standing data'!$F$6","v":0},"Forecast","I33",{"$f":"#REF!","v":{"$error":"#REF!"}}]
[{"$f":"'Standing data'!$D$10","v":{"$error":"#N/A"}},{"$f":"'Standing data'!$F$10","v":0},{"$f":"'Standing data'!$D$6","v":"Academy name"},{"$f":"'Standing data'!$F$6","v":0},"Forecast","I34",{"$f":"#REF!","v":{"$error":"#REF!"}}]
[{"$f":"'Standing data'!$D$10","v":{"$error":"#N/A"}},{"$f":"'Standing data'!$F$10","v":0},{"$f":"'Standing data'!$D$6","v":"Academy name"},{"$f":"'Standing data'!$F$6","v":0},"Forecast","I35",{"$f":"#REF!","v":{"$error":"#REF!"}}]
[{"$f":"'Standing data'!$D$10","v":{"$error":"#N/A"}},{"$f":"'Standing data'!$F$10","v":0},{"$f":"'Standing data'!$D$6","v":"Academy name"},{"$f":"'Standing data'!$F$6","v":0},"Forecast","I36",{"$f":"#REF!","v":{"$error":"#REF!"}}]
[{"$f":"'Standing data'!$D$10","v":{"$error":"#N/A"}},{"$f":"'Standing data'!$F$10","v":0},{"$f":"'Standing data'!$D$6","v":"Academy name"},{"$f":"'Standing data'!$F$6","v":0},"Forecast","I37",{"$f":"#REF!","v":{"$error":"#REF!"}}]
[{"$f":"'Standing data'!$D$10","v":{"$error":"#N/A"}},{"$f":"'Standing data'!$F$10","v":0},{"$f":"'Standing data'!$D$6","v":"Academy name"},{"$f":"'Standing data'!$F$6","v":0},"Forecast","I38",{"$f":"#REF!","v":{"$error":"#REF!"}}]
[{"$f":"'Standing data'!$D$10","v":{"$error":"#N/A"}},{"$f":"'Standing data'!$F$10","v":0},{"$f":"'Standing data'!$D$6","v":"Academy name"},{"$f":"'Standing data'!$F$6","v":0},"Forecast","I39",{"$f":"#REF!","v":{"$error":"#REF!"}}]
[{"$f":"'Standing data'!$D$10","v":{"$error":"#N/A"}},{"$f":"'Standing data'!$F$10","v":0},{"$f":"'Standing data'!$D$6","v":"Academy name"},{"$f":"'Standing data'!$F$6","v":0},"Forecast","I40",{"$f":"#REF!","v":{"$error":"#REF!"}}]
[{"$f":"'Standing data'!$D$10","v":{"$error":"#N/A"}},{"$f":"'Standing data'!$F$10","v":0},{"$f":"'Standing data'!$D$6","v":"Academy name"},{"$f":"'Standing data'!$F$6","v":0},"Forecast","I41",{"$f":"#REF!","v":{"$error":"#REF!"}}]
[{"$f":"'Standing data'!$D$10","v":{"$error":"#N/A"}},{"$f":"'Standing data'!$F$10","v":0},{"$f":"'Standing data'!$D$6","v":"Academy name"},{"$f":"'Standing data'!$F$6","v":0},"Forecast","I42",{"$f":"#REF!","v":{"$error":"#REF!"}}]
[{"$f":"'Standing data'!$D$10","v":{"$error":"#N/A"}},{"$f":"'Standing data'!$F$10","v":0},{"$f":"'Standing data'!$D$6","v":"Academy name"},{"$f":"'Standing data'!$F$6","v":0},"Forecast","I43",{"$f":"#REF!","v":{"$error":"#REF!"}}]
[{"$f":"'Standing data'!$D$10","v":{"$error":"#N/A"}},{"$f":"'Standing data'!$F$10","v":0},{"$f":"'Standing data'!$D$6","v":"Academy name"},{"$f":"'Standing data'!$F$6","v":0},"Forecast","I45",{"$f":"#REF!","v":{"$error":"#REF!"}}]
[{"$f":"'Standing data'!$D$10","v":{"$error":"#N/A"}},{"$f":"'Standing data'!$F$10","v":0},{"$f":"'Standing data'!$D$6","v":"Academy name"},{"$f":"'Standing data'!$F$6","v":0},"Forecast","I46",{"$f":"#REF!","v":{"$error":"#REF!"}}]
[{"$f":"'Standing data'!$D$10","v":{"$error":"#N/A"}},{"$f":"'Standing data'!$F$10","v":0},{"$f":"'Standing data'!$D$6","v":"Academy name"},{"$f":"'Standing data'!$F$6","v":0},"Forecast","I47",{"$f":"#REF!","v":{"$error":"#REF!"}}]
[{"$f":"'Standing data'!$D$10","v":{"$error":"#N/A"}},{"$f":"'Standing data'!$F$10","v":0},{"$f":"'Standing data'!$D$6","v":"Academy name"},{"$f":"'Standing data'!$F$6","v":0},"Forecast","I48",{"$f":"#REF!","v":{"$error":"#REF!"}}]
[{"$f":"'Standing data'!$D$10","v":{"$error":"#N/A"}},{"$f":"'Standing data'!$F$10","v":0},{"$f":"'Standing data'!$D$6","v":"Academy name"},{"$f":"'Standing data'!$F$6","v":0},"Forecast","I49",{"$f":"#REF!","v":{"$error":"#REF!"}}]
[{"$f":"'Standing data'!$D$10","v":{"$error":"#N/A"}},{"$f":"'Standing data'!$F$10","v":0},{"$f":"'Standing data'!$D$6","v":"Academy name"},{"$f":"'Standing data'!$F$6","v":0},"Forecast","I50",{"$f":"#REF!","v":{"$error":"#REF!"}}]
[{"$f":"'Standing data'!$D$10","v":{"$error":"#N/A"}},{"$f":"'Standing data'!$F$10","v":0},{"$f":"'Standing data'!$D$6","v":"Academy name"},{"$f":"'Standing data'!$F$6","v":0},"Forecast","I51",{"$f":"#REF!","v":{"$error":"#REF!"}}]
[{"$f":"'Standing data'!$D$10","v":{"$error":"#N/A"}},{"$f":"'Standing data'!$F$10","v":0},{"$f":"'Standing data'!$D$6","v":"Academy name"},{"$f":"'Standing data'!$F$6","v":0},"Forecast","I52",{"$f":"#REF!","v":{"$error":"#REF!"}}]
[{"$f":"'Standing data'!$D$10","v":{"$error":"#N/A"}},{"$f":"'Standing data'!$F$10","v":0},{"$f":"'Standing data'!$D$6","v":"Academy name"},{"$f":"'Standing data'!$F$6","v":0},"Forecast","I53",{"$f":"#REF!","v":{"$error":"#REF!"}}]
[{"$f":"'Standing data'!$D$10","v":{"$error":"#N/A"}},{"$f":"'Standing data'!$F$10","v":0},{"$f":"'Standing data'!$D$6","v":"Academy name"},{"$f":"'Standing data'!$F$6","v":0},"Forecast","I54",{"$f":"#REF!","v":{"$error":"#REF!"}}]
[{"$f":"'Standing data'!$D$10","v":{"$error":"#N/A"}},{"$f":"'Standing data'!$F$10","v":0},{"$f":"'Standing data'!$D$6","v":"Academy name"},{"$f":"'Standing data'!$F$6","v":0},"Forecast","I55",{"$f":"#REF!","v":{"$error":"#REF!"}}]
[{"$f":"'Standing data'!$D$10","v":{"$error":"#N/A"}},{"$f":"'Standing data'!$F$10","v":0},{"$f":"'Standing data'!$D$6","v":"Academy name"},{"$f":"'Standing data'!$F$6","v":0},"Forecast","I57",{"$f":"#REF!","v":{"$error":"#REF!"}}]
[{"$f":"'Standing data'!$D$10","v":{"$error":"#N/A"}},{"$f":"'Standing data'!$F$10","v":0},{"$f":"'Standing data'!$D$6","v":"Academy name"},{"$f":"'Standing data'!$F$6","v":0},"Forecast","I60",{"$f":"#REF!","v":{"$error":"#REF!"}}]
[{"$f":"'Standing data'!$D$10","v":{"$error":"#N/A"}},{"$f":"'Standing data'!$F$10","v":0},{"$f":"'Standing data'!$D$6","v":"Academy name"},{"$f":"'Standing data'!$F$6","v":0},"Forecast","I61",{"$f":"#REF!","v":{"$error":"#REF!"}}]
[{"$f":"'Standing data'!$D$10","v":{"$error":"#N/A"}},{"$f":"'Standing data'!$F$10","v":0},{"$f":"'Standing data'!$D$6","v":"Academy name"},{"$f":"'Standing data'!$F$6","v":0},"Forecast","I62",{"$f":"#REF!","v":{"$error":"#REF!"}}]
[{"$f":"'Standing data'!$D$10","v":{"$error":"#N/A"}},{"$f":"'Standing data'!$F$10","v":0},{"$f":"'Standing data'!$D$6","v":"Academy name"},{"$f":"'Standing data'!$F$6","v":0},"Forecast","I63",{"$f":"#REF!","v":{"$error":"#REF!"}}]
[{"$f":"'Standing data'!$D$10","v":{"$error":"#N/A"}},{"$f":"'Standing data'!$F$10","v":0},{"$f":"'Standing data'!$D$6","v":"Academy name"},{"$f":"'Standing data'!$F$6","v":0},"Forecast","I64",{"$f":"#REF!","v":{"$error":"#REF!"}}]
[{"$f":"'Standing data'!$D$10","v":{"$error":"#N/A"}},{"$f":"'Standing data'!$F$10","v":0},{"$f":"'Standing data'!$D$6","v":"Academy name"},{"$f":"'Standing data'!$F$6","v":0},"Forecast","I65",{"$f":"#REF!","v":{"$error":"#REF!"}}]
[{"$f":"'Standing data'!$D$10","v":{"$error":"#N/A"}},{"$f":"'Standing data'!$F$10","v":0},{"$f":"'Standing data'!$D$6","v":"Academy name"},{"$f":"'Standing data'!$F$6","v":0},"Forecast","I66",{"$f":"#REF!","v":{"$error":"#REF!"}}]
[{"$f":"'Standing data'!$D$10","v":{"$error":"#N/A"}},{"$f":"'Standing data'!$F$10","v":0},{"$f":"'Standing data'!$D$6","v":"Academy name"},{"$f":"'Standing data'!$F$6","v":0},"Forecast","I67",{"$f":"#REF!","v":{"$error":"#REF!"}}]
[{"$f":"'Standing data'!$D$10","v":{"$error":"#N/A"}},{"$f":"'Standing data'!$F$10","v":0},{"$f":"'Standing data'!$D$6","v":"Academy name"},{"$f":"'Standing data'!$F$6","v":0},"Forecast","I69",{"$f":"#REF!","v":{"$error":"#REF!"}}]
[{"$f":"'Standing data'!$D$10","v":{"$error":"#N/A"}},{"$f":"'Standing data'!$F$10","v":0},{"$f":"'Standing data'!$D$6","v":"Academy name"},{"$f":"'Standing data'!$F$6","v":0},"Forecast","I70",{"$f":"#REF!","v":{"$error":"#REF!"}}]
[{"$f":"'Standing data'!$D$10","v":{"$error":"#N/A"}},{"$f":"'Standing data'!$F$10","v":0},{"$f":"'Standing data'!$D$6","v":"Academy name"},{"$f":"'Standing data'!$F$6","v":0},"Forecast","I71",{"$f":"#REF!","v":{"$error":"#REF!"}}]
[{"$f":"'Standing data'!$D$10","v":{"$error":"#N/A"}},{"$f":"'Standing data'!$F$10","v":0},{"$f":"'Standing data'!$D$6","v":"Academy name"},{"$f":"'Standing data'!$F$6","v":0},"Forecast","I72",{"$f":"#REF!","v":{"$error":"#REF!"}}]
[{"$f":"'Standing data'!$D$10","v":{"$error":"#N/A"}},{"$f":"'Standing data'!$F$10","v":0},{"$f":"'Standing data'!$D$6","v":"Academy name"},{"$f":"'Standing data'!$F$6","v":0},"Forecast","I73",{"$f":"#REF!","v":{"$error":"#REF!"}}]
[{"$f":"'Standing data'!$D$10","v":{"$error":"#N/A"}},{"$f":"'Standing data'!$F$10","v":0},{"$f":"'Standing data'!$D$6","v":"Academy name"},{"$f":"'Standing data'!$F$6","v":0},"Forecast","I74",{"$f":"#REF!","v":{"$error":"#REF!"}}]
[{"$f":"'Standing data'!$D$10","v":{"$error":"#N/A"}},{"$f":"'Standing data'!$F$10","v":0},{"$f":"'Standing data'!$D$6","v":"Academy name"},{"$f":"'Standing data'!$F$6","v":0},"Forecast","I75",{"$f":"#REF!","v":{"$error":"#REF!"}}]
[{"$f":"'Standing data'!$D$10","v":{"$error":"#N/A"}},{"$f":"'Standing data'!$F$10","v":0},{"$f":"'Standing data'!$D$6","v":"Academy name"},{"$f":"'Standing data'!$F$6","v":0},"Forecast","I76",{"$f":"#REF!","v":{"$error":"#REF!"}}]
[{"$f":"'Standing data'!$D$10","v":{"$error":"#N/A"}},{"$f":"'Standing data'!$F$10","v":0},{"$f":"'Standing data'!$D$6","v":"Academy name"},{"$f":"'Standing data'!$F$6","v":0},"Forecast","I77",{"$f":"#REF!","v":{"$error":"#REF!"}}]
[{"$f":"'Standing data'!$D$10","v":{"$error":"#N/A"}},{"$f":"'Standing data'!$F$10","v":0},{"$f":"'Standing data'!$D$6","v":"Academy name"},{"$f":"'Standing data'!$F$6","v":0},"Forecast","I78",{"$f":"#REF!","v":{"$error":"#REF!"}}]
[{"$f":"'Standing data'!$D$10","v":{"$error":"#N/A"}},{"$f":"'Standing data'!$F$10","v":0},{"$f":"'Standing data'!$D$6","v":"Academy name"},{"$f":"'Standing data'!$F$6","v":0},"Forecast","I79",{"$f":"#REF!","v":{"$error":"#REF!"}}]
[{"$f":"'Standing data'!$D$10","v":{"$error":"#N/A"}},{"$f":"'Standing data'!$F$10","v":0},{"$f":"'Standing data'!$D$6","v":"Academy name"},{"$f":"'Standing data'!$F$6","v":0},"Forecast","I80",{"$f":"#REF!","v":{"$error":"#REF!"}}]
[{"$f":"'Standing data'!$D$10","v":{"$error":"#N/A"}},{"$f":"'Standing data'!$F$10","v":0},{"$f":"'Standing data'!$D$6","v":"Academy name"},{"$f":"'Standing data'!$F$6","v":0},"Forecast","I81",{"$f":"#REF!","v":{"$error":"#REF!"}}]
[{"$f":"'Standing data'!$D$10","v":{"$error":"#N/A"}},{"$f":"'Standing data'!$F$10","v":0},{"$f":"'Standing data'!$D$6","v":"Academy name"},{"$f":"'Standing data'!$F$6","v":0},"Forecast","I82",{"$f":"#REF!","v":{"$error":"#REF!"}}]
[{"$f":"'Standing data'!$D$10","v":{"$error":"#N/A"}},{"$f":"'Standing data'!$F$10","v":0},{"$f":"'Standing data'!$D$6","v":"Academy name"},{"$f":"'Standing data'!$F$6","v":0},"Forecast","I83",{"$f":"#REF!","v":{"$error":"#REF!"}}]
[{"$f":"'Standing data'!$D$10","v":{"$error":"#N/A"}},{"$f":"'Standing data'!$F$10","v":0},{"$f":"'Standing data'!$D$6","v":"Academy name"},{"$f":"'Standing data'!$F$6","v":0},"Forecast","I85",{"$f":"#REF!","v":{"$error":"#REF!"}}]
[{"$f":"'Standing data'!$D$10","v":{"$error":"#N/A"}},{"$f":"'Standing data'!$F$10","v":0},{"$f":"'Standing data'!$D$6","v":"Academy name"},{"$f":"'Standing data'!$F$6","v":0},"Forecast","I86",{"$f":"#REF!","v":{"$error":"#REF!"}}]
[{"$f":"'Standing data'!$D$10","v":{"$error":"#N/A"}},{"$f":"'Standing data'!$F$10","v":0},{"$f":"'Standing data'!$D$6","v":"Academy name"},{"$f":"'Standing data'!$F$6","v":0},"Forecast","I87",{"$f":"#REF!","v":{"$error":"#REF!"}}]
[{"$f":"'Standing data'!$D$10","v":{"$error":"#N/A"}},{"$f":"'Standing data'!$F$10","v":0},{"$f":"'Standing data'!$D$6","v":"Academy name"},{"$f":"'Standing data'!$F$6","v":0},"Forecast","I88",{"$f":"#REF!","v":{"$error":"#REF!"}}]
[{"$f":"'Standing data'!$D$10","v":{"$error":"#N/A"}},{"$f":"'Standing data'!$F$10","v":0},{"$f":"'Standing data'!$D$6","v":"Academy name"},{"$f":"'Standing data'!$F$6","v":0},"Forecast","I89",{"$f":"#REF!","v":{"$error":"#REF!"}}]
[{"$f":"'Standing data'!$D$10","v":{"$error":"#N/A"}},{"$f":"'Standing data'!$F$10","v":0},{"$f":"'Standing data'!$D$6","v":"Academy name"},{"$f":"'Standing data'!$F$6","v":0},"Forecast","I96",{"$f":"#REF!","v":{"$error":"#REF!"}}]
[{"$f":"'Standing data'!$D$10","v":{"$error":"#N/A"}},{"$f":"'Standing data'!$F$10","v":0},{"$f":"'Standing data'!$D$6","v":"Academy name"},{"$f":"'Standing data'!$F$6","v":0},"Forecast","I97",{"$f":"#REF!","v":{"$error":"#REF!"}}]
[{"$f":"'Standing data'!$D$10","v":{"$error":"#N/A"}},{"$f":"'Standing data'!$F$10","v":0},{"$f":"'Standing data'!$D$6","v":"Academy name"},{"$f":"'Standing data'!$F$6","v":0},"Forecast","I98",{"$f":"#REF!","v":{"$error":"#REF!"}}]
[{"$f":"'Standing data'!$D$10","v":{"$error":"#N/A"}},{"$f":"'Standing data'!$F$10","v":0},{"$f":"'Standing data'!$D$6","v":"Academy name"},{"$f":"'Standing data'!$F$6","v":0},"Forecast","I99",{"$f":"#REF!","v":{"$error":"#REF!"}}]
[{"$f":"'Standing data'!$D$10","v":{"$error":"#N/A"}},{"$f":"'Standing data'!$F$10","v":0},{"$f":"'Standing data'!$D$6","v":"Academy name"},{"$f":"'Standing data'!$F$6","v":0},"Forecast","I100",{"$f":"#REF!","v":{"$error":"#REF!"}}]
[{"$f":"'Standing data'!$D$10","v":{"$error":"#N/A"}},{"$f":"'Standing data'!$F$10","v":0},{"$f":"'Standing data'!$D$6","v":"Academy name"},{"$f":"'Standing data'!$F$6","v":0},"Forecast","I101",{"$f":"#REF!","v":{"$error":"#REF!"}}]
[{"$f":"'Standing data'!$D$10","v":{"$error":"#N/A"}},{"$f":"'Standing data'!$F$10","v":0},{"$f":"'Standing data'!$D$6","v":"Academy name"},{"$f":"'Standing data'!$F$6","v":0},"Forecast","I102",{"$f":"#REF!","v":{"$error":"#REF!"}}]
[{"$f":"'Standing data'!$D$10","v":{"$error":"#N/A"}},{"$f":"'Standing data'!$F$10","v":0},{"$f":"'Standing data'!$D$6","v":"Academy name"},{"$f":"'Standing data'!$F$6","v":0},"Forecast","I103",{"$f":"#REF!","v":{"$error":"#REF!"}}]
[{"$f":"'Standing data'!$D$10","v":{"$error":"#N/A"}},{"$f":"'Standing data'!$F$10","v":0},{"$f":"'Standing data'!$D$6","v":"Academy name"},{"$f":"'Standing data'!$F$6","v":0},"Forecast","I104",{"$f":"#REF!","v":{"$error":"#REF!"}}]
[{"$f":"'Standing data'!$D$10","v":{"$error":"#N/A"}},{"$f":"'Standing data'!$F$10","v":0},{"$f":"'Standing data'!$D$6","v":"Academy name"},{"$f":"'Standing data'!$F$6","v":0},"Forecast","I106",{"$f":"#REF!","v":{"$error":"#REF!"}}]
[{"$f":"'Standing data'!$D$10","v":{"$error":"#N/A"}},{"$f":"'Standing data'!$F$10","v":0},{"$f":"'Standing data'!$D$6","v":"Academy name"},{"$f":"'Standing data'!$F$6","v":0},"Forecast","I107",{"$f":"#REF!","v":{"$error":"#REF!"}}]
[{"$f":"'Standing data'!$D$10","v":{"$error":"#N/A"}},{"$f":"'Standing data'!$F$10","v":0},{"$f":"'Standing data'!$D$6","v":"Academy name"},{"$f":"'Standing data'!$F$6","v":0},"Forecast","I108",{"$f":"#REF!","v":{"$error":"#REF!"}}]
[{"$f":"'Standing data'!$D$10","v":{"$error":"#N/A"}},{"$f":"'Standing data'!$F$10","v":0},{"$f":"'Standing data'!$D$6","v":"Academy name"},{"$f":"'Standing data'!$F$6","v":0},"Forecast","I109",{"$f":"#REF!","v":{"$error":"#REF!"}}]
[{"$f":"'Standing data'!$D$10","v":{"$error":"#N/A"}},{"$f":"'Standing data'!$F$10","v":0},{"$f":"'Standing data'!$D$6","v":"Academy name"},{"$f":"'Standing data'!$F$6","v":0},"Forecast","I110",{"$f":"#REF!","v":{"$error":"#REF!"}}]
[{"$f":"'Standing data'!$D$10","v":{"$error":"#N/A"}},{"$f":"'Standing data'!$F$10","v":0},{"$f":"'Standing data'!$D$6","v":"Academy name"},{"$f":"'Standing data'!$F$6","v":0},"Forecast","I112",{"$f":"#REF!","v":{"$error":"#REF!"}}]
[{"$f":"'Standing data'!$D$10","v":{"$error":"#N/A"}},{"$f":"'Standing data'!$F$10","v":0},{"$f":"'Standing data'!$D$6","v":"Academy name"},{"$f":"'Standing data'!$F$6","v":0},"Forecast","I115",{"$f":"#REF!","v":{"$error":"#REF!"}}]
[{"$f":"'Standing data'!$D$10","v":{"$error":"#N/A"}},{"$f":"'Standing data'!$F$10","v":0},{"$f":"'Standing data'!$D$6","v":"Academy name"},{"$f":"'Standing data'!$F$6","v":0},"Forecast","I116",{"$f":"#REF!","v":{"$error":"#REF!"}}]
[{"$f":"'Standing data'!$D$10","v":{"$error":"#N/A"}},{"$f":"'Standing data'!$F$10","v":0},{"$f":"'Standing data'!$D$6","v":"Academy name"},{"$f":"'Standing data'!$F$6","v":0},"Forecast","I117",{"$f":"#REF!","v":{"$error":"#REF!"}}]
[{"$f":"'Standing data'!$D$10","v":{"$error":"#N/A"}},{"$f":"'Standing data'!$F$10","v":0},{"$f":"'Standing data'!$D$6","v":"Academy name"},{"$f":"'Standing data'!$F$6","v":0},"Forecast","I119",{"$f":"#REF!","v":{"$error":"#REF!"}}]
[{"$f":"'Standing data'!$D$10","v":{"$error":"#N/A"}},{"$f":"'Standing data'!$F$10","v":0},{"$f":"'Standing data'!$D$6","v":"Academy name"},{"$f":"'Standing data'!$F$6","v":0},"Forecast","I120",{"$f":"#REF!","v":{"$error":"#REF!"}}]
[{"$f":"'Standing data'!$D$10","v":{"$error":"#N/A"}},{"$f":"'Standing data'!$F$10","v":0},{"$f":"'Standing data'!$D$6","v":"Academy name"},{"$f":"'Standing data'!$F$6","v":0},"Forecast","I121",{"$f":"#REF!","v":{"$error":"#REF!"}}]
[{"$f":"'Standing data'!$D$10","v":{"$error":"#N/A"}},{"$f":"'Standing data'!$F$10","v":0},{"$f":"'Standing data'!$D$6","v":"Academy name"},{"$f":"'Standing data'!$F$6","v":0},"Forecast","I122",{"$f":"#REF!","v":{"$error":"#REF!"}}]
[{"$f":"'Standing data'!$D$10","v":{"$error":"#N/A"}},{"$f":"'Standing data'!$F$10","v":0},{"$f":"'Standing data'!$D$6","v":"Academy name"},{"$f":"'Standing data'!$F$6","v":0},"Forecast","I124",{"$f":"#REF!","v":{"$error":"#REF!"}}]
[{"$f":"'Standing data'!$D$10","v":{"$error":"#N/A"}},{"$f":"'Standing data'!$F$10","v":0},{"$f":"'Standing data'!$D$6","v":"Academy name"},{"$f":"'Standing data'!$F$6","v":0},"Forecast","I127",{"$f":"#REF!","v":{"$error":"#REF!"}}]
[{"$f":"'Standing data'!$D$10","v":{"$error":"#N/A"}},{"$f":"'Standing data'!$F$10","v":0},{"$f":"'Standing data'!$D$6","v":"Academy name"},{"$f":"'Standing data'!$F$6","v":0},"Forecast","I128",{"$f":"#REF!","v":{"$error":"#REF!"}}]
[{"$f":"'Standing data'!$D$10","v":{"$error":"#N/A"}},{"$f":"'Standing data'!$F$10","v":0},{"$f":"'Standing data'!$D$6","v":"Academy name"},{"$f":"'Standing data'!$F$6","v":0},"Forecast","I129",{"$f":"#REF!","v":{"$error":"#REF!"}}]
[{"$f":"'Standing data'!$D$10","v":{"$error":"#N/A"}},{"$f":"'Standing data'!$F$10","v":0},{"$f":"'Standing data'!$D$6","v":"Academy name"},{"$f":"'Standing data'!$F$6","v":0},"Forecast","I135",{"$f":"#REF!","v":{"$error":"#REF!"}}]
[{"$f":"'Standing data'!$D$10","v":{"$error":"#N/A"}},{"$f":"'Standing data'!$F$10","v":0},{"$f":"'Standing data'!$D$6","v":"Academy name"},{"$f":"'Standing data'!$F$6","v":0},"Forecast","I140",{"$f":"#REF!","v":{"$error":"#REF!"}}]
[{"$f":"'Standing data'!$D$10","v":{"$error":"#N/A"}},{"$f":"'Standing data'!$F$10","v":0},{"$f":"'Standing data'!$D$6","v":"Academy name"},{"$f":"'Standing data'!$F$6","v":0},"Forecast","I143",{"$f":"#REF!","v":{"$error":"#REF!"}}]
[{"$f":"'Standing data'!$D$10","v":{"$error":"#N/A"}},{"$f":"'Standing data'!$F$10","v":0},{"$f":"'Standing data'!$D$6","v":"Academy name"},{"$f":"'Standing data'!$F$6","v":0},"Forecast","I144",{"$f":"#REF!","v":{"$error":"#REF!"}}]
[{"$f":"'Standing data'!$D$10","v":{"$error":"#N/A"}},{"$f":"'Standing data'!$F$10","v":0},{"$f":"'Standing data'!$D$6","v":"Academy name"},{"$f":"'Standing data'!$F$6","v":0},"Forecast","I148",{"$f":"#REF!","v":{"$error":"#REF!"}}]
[{"$f":"'Standing data'!$D$10","v":{"$error":"#N/A"}},{"$f":"'Standing data'!$F$10","v":0},{"$f":"'Standing data'!$D$6","v":"Academy name"},{"$f":"'Standing data'!$F$6","v":0},"Forecast","I154",{"$f":"#REF!","v":{"$error":"#REF!"}}]
[{"$f":"'Standing data'!$D$10","v":{"$error":"#N/A"}},{"$f":"'Standing data'!$F$10","v":0},{"$f":"'Standing data'!$D$6","v":"Academy name"},{"$f":"'Standing data'!$F$6","v":0},"Forecast","I155",{"$f":"#REF!","v":{"$error":"#REF!"}}]
[{"$f":"'Standing data'!$D$10","v":{"$error":"#N/A"}},{"$f":"'Standing data'!$F$10","v":0},{"$f":"'Standing data'!$D$6","v":"Academy name"},{"$f":"'Standing data'!$F$6","v":0},"Forecast","I156",{"$f":"#REF!","v":{"$error":"#REF!"}}]
[{"$f":"'Standing data'!$D$10","v":{"$error":"#N/A"}},{"$f":"'Standing data'!$F$10","v":0},{"$f":"'Standing data'!$D$6","v":"Academy name"},{"$f":"'Standing data'!$F$6","v":0},"Forecast","I157",{"$f":"#REF!","v":{"$error":"#REF!"}}]
[{"$f":"'Standing data'!$D$10","v":{"$error":"#N/A"}},{"$f":"'Standing data'!$F$10","v":0},{"$f":"'Standing data'!$D$6","v":"Academy name"},{"$f":"'Standing data'!$F$6","v":0},"Forecast","I158",{"$f":"#REF!","v":{"$error":"#REF!"}}]
[{"$f":"'Standing data'!$D$10","v":{"$error":"#N/A"}},{"$f":"'Standing data'!$F$10","v":0},{"$f":"'Standing data'!$D$6","v":"Academy name"},{"$f":"'Standing data'!$F$6","v":0},"Forecast","I159",{"$f":"#REF!","v":{"$error":"#REF!"}}]
[{"$f":"'Standing data'!$D$10","v":{"$error":"#N/A"}},{"$f":"'Standing data'!$F$10","v":0},{"$f":"'Standing data'!$D$6","v":"Academy name"},{"$f":"'Standing data'!$F$6","v":0},"Forecast","I160",{"$f":"#REF!","v":{"$error":"#REF!"}}]
[{"$f":"'Standing data'!$D$10","v":{"$error":"#N/A"}},{"$f":"'Standing data'!$F$10","v":0},{"$f":"'Standing data'!$D$6","v":"Academy name"},{"$f":"'Standing data'!$F$6","v":0},"Forecast","I161",{"$f":"#REF!","v":{"$error":"#REF!"}}]
[{"$f":"'Standing data'!$D$10","v":{"$error":"#N/A"}},{"$f":"'Standing data'!$F$10","v":0},{"$f":"'Standing data'!$D$6","v":"Academy name"},{"$f":"'Standing data'!$F$6","v":0},"Forecast","I162",{"$f":"#REF!","v":{"$error":"#REF!"}}]
[{"$f":"'Standing data'!$D$10","v":{"$error":"#N/A"}},{"$f":"'Standing data'!$F$10","v":0},{"$f":"'Standing data'!$D$6","v":"Academy name"},{"$f":"'Standing data'!$F$6","v":0},"Forecast","I163",{"$f":"#REF!","v":{"$error":"#REF!"}}]
[{"$f":"'Standing data'!$D$10","v":{"$error":"#N/A"}},{"$f":"'Standing data'!$F$10","v":0},{"$f":"'Standing data'!$D$6","v":"Academy name"},{"$f":"'Standing data'!$F$6","v":0},"Forecast","I164",{"$f":"#REF!","v":{"$error":"#REF!"}}]
[{"$f":"'Standing data'!$D$10","v":{"$error":"#N/A"}},{"$f":"'Standing data'!$F$10","v":0},{"$f":"'Standing data'!$D$6","v":"Academy name"},{"$f":"'Standing data'!$F$6","v":0},"Forecast","I165",{"$f":"#REF!","v":{"$error":"#REF!"}}]
[{"$f":"'Standing data'!$D$10","v":{"$error":"#N/A"}},{"$f":"'Standing data'!$F$10","v":0},{"$f":"'Standing data'!$D$6","v":"Academy name"},{"$f":"'Standing data'!$F$6","v":0},"Forecast","I166",{"$f":"#REF!","v":{"$error":"#REF!"}}]
[{"$f":"'Standing data'!$D$10","v":{"$error":"#N/A"}},{"$f":"'Standing data'!$F$10","v":0},{"$f":"'Standing data'!$D$6","v":"Academy name"},{"$f":"'Standing data'!$F$6","v":0},"Forecast","I167",{"$f":"#REF!","v":{"$error":"#REF!"}}]
[{"$f":"'Standing data'!$D$10","v":{"$error":"#N/A"}},{"$f":"'Standing data'!$F$10","v":0},{"$f":"'Standing data'!$D$6","v":"Academy name"},{"$f":"'Standing data'!$F$6","v":0},"Forecast","I168",{"$f":"#REF!","v":{"$error":"#REF!"}}]
[{"$f":"'Standing data'!$D$10","v":{"$error":"#N/A"}},{"$f":"'Standing data'!$F$10","v":0},{"$f":"'Standing data'!$D$6","v":"Academy name"},{"$f":"'Standing data'!$F$6","v":0},"Forecast","I169",{"$f":"#REF!","v":{"$error":"#REF!"}}]
[{"$f":"'Standing data'!$D$10","v":{"$error":"#N/A"}},{"$f":"'Standing data'!$F$10","v":0},{"$f":"'Standing data'!$D$6","v":"Academy name"},{"$f":"'Standing data'!$F$6","v":0},"Forecast","I170",{"$f":"#REF!","v":{"$error":"#REF!"}}]
[{"$f":"'Standing data'!$D$10","v":{"$error":"#N/A"}},{"$f":"'Standing data'!$F$10","v":0},{"$f":"'Standing data'!$D$6","v":"Academy name"},{"$f":"'Standing data'!$F$6","v":0},"Forecast","I171",{"$f":"#REF!","v":{"$error":"#REF!"}}]
[{"$f":"'Standing data'!$D$10","v":{"$error":"#N/A"}},{"$f":"'Standing data'!$F$10","v":0},{"$f":"'Standing data'!$D$6","v":"Academy name"},{"$f":"'Standing data'!$F$6","v":0},"Forecast","I172",{"$f":"#REF!","v":{"$error":"#REF!"}}]
[{"$f":"'Standing data'!$D$10","v":{"$error":"#N/A"}},{"$f":"'Standing data'!$F$10","v":0},{"$f":"'Standing data'!$D$6","v":"Academy name"},{"$f":"'Standing data'!$F$6","v":0},"Forecast","I173",{"$f":"#REF!","v":{"$error":"#REF!"}}]
[{"$f":"'Standing data'!$D$10","v":{"$error":"#N/A"}},{"$f":"'Standing data'!$F$10","v":0},{"$f":"'Standing data'!$D$6","v":"Academy name"},{"$f":"'Standing data'!$F$6","v":0},"Forecast","I174",{"$f":"#REF!","v":{"$error":"#REF!"}}]
[{"$f":"'Standing data'!$D$10","v":{"$error":"#N/A"}},{"$f":"'Standing data'!$F$10","v":0},{"$f":"'Standing data'!$D$6","v":"Academy name"},{"$f":"'Standing data'!$F$6","v":0},"Forecast","I175",{"$f":"#REF!","v":{"$error":"#REF!"}}]
[{"$f":"'Standing data'!$D$10","v":{"$error":"#N/A"}},{"$f":"'Standing data'!$F$10","v":0},{"$f":"'Standing data'!$D$6","v":"Academy name"},{"$f":"'Standing data'!$F$6","v":0},"Forecast","I176",{"$f":"#REF!","v":{"$error":"#REF!"}}]
[{"$f":"'Standing data'!$D$10","v":{"$error":"#N/A"}},{"$f":"'Standing data'!$F$10","v":0},{"$f":"'Standing data'!$D$6","v":"Academy name"},{"$f":"'Standing data'!$F$6","v":0},"Forecast","I177",{"$f":"#REF!","v":{"$error":"#REF!"}}]
[{"$f":"'Standing data'!$D$10","v":{"$error":"#N/A"}},{"$f":"'Standing data'!$F$10","v":0},{"$f":"'Standing data'!$D$6","v":"Academy name"},{"$f":"'Standing data'!$F$6","v":0},"Forecast","I178",{"$f":"#REF!","v":{"$error":"#REF!"}}]
[{"$f":"'Standing data'!$D$10","v":{"$error":"#N/A"}},{"$f":"'Standing data'!$F$10","v":0},{"$f":"'Standing data'!$D$6","v":"Academy name"},{"$f":"'Standing data'!$F$6","v":0},"Forecast","I179",{"$f":"#REF!","v":{"$error":"#REF!"}}]
[{"$f":"'Standing data'!$D$10","v":{"$error":"#N/A"}},{"$f":"'Standing data'!$F$10","v":0},{"$f":"'Standing data'!$D$6","v":"Academy name"},{"$f":"'Standing data'!$F$6","v":0},"Forecast","I180",{"$f":"#REF!","v":{"$error":"#REF!"}}]
[{"$f":"'Standing data'!$D$10","v":{"$error":"#N/A"}},{"$f":"'Standing data'!$F$10","v":0},{"$f":"'Standing data'!$D$6","v":"Academy name"},{"$f":"'Standing data'!$F$6","v":0},"Forecast","I181",{"$f":"#REF!","v":{"$error":"#REF!"}}]
[{"$f":"'Standing data'!$D$10","v":{"$error":"#N/A"}},{"$f":"'Standing data'!$F$10","v":0},{"$f":"'Standing data'!$D$6","v":"Academy name"},{"$f":"'Standing data'!$F$6","v":0},"Forecast","I182",{"$f":"#REF!","v":{"$error":"#REF!"}}]
[{"$f":"'Standing data'!$D$10","v":{"$error":"#N/A"}},{"$f":"'Standing data'!$F$10","v":0},{"$f":"'Standing data'!$D$6","v":"Academy name"},{"$f":"'Standing data'!$F$6","v":0},"Forecast","I183",{"$f":"#REF!","v":{"$error":"#REF!"}}]
[{"$f":"'Standing data'!$D$10","v":{"$error":"#N/A"}},{"$f":"'Standing data'!$F$10","v":0},{"$f":"'Standing data'!$D$6","v":"Academy name"},{"$f":"'Standing data'!$F$6","v":0},"Forecast","I184",{"$f":"#REF!","v":{"$error":"#REF!"}}]
[{"$f":"'Standing data'!$D$10","v":{"$error":"#N/A"}},{"$f":"'Standing data'!$F$10","v":0},{"$f":"'Standing data'!$D$6","v":"Academy name"},{"$f":"'Standing data'!$F$6","v":0},"Forecast","I185",{"$f":"#REF!","v":{"$error":"#REF!"}}]
[{"$f":"'Standing data'!$D$10","v":{"$error":"#N/A"}},{"$f":"'Standing data'!$F$10","v":0},{"$f":"'Standing data'!$D$6","v":"Academy name"},{"$f":"'Standing data'!$F$6","v":0},"Forecast","I186",{"$f":"#REF!","v":{"$error":"#REF!"}}]
[{"$f":"'Standing data'!$D$10","v":{"$error":"#N/A"}},{"$f":"'Standing data'!$F$10","v":0},{"$f":"'Standing data'!$D$6","v":"Academy name"},{"$f":"'Standing data'!$F$6","v":0},"Forecast","I187",{"$f":"#REF!","v":{"$error":"#REF!"}}]
[{"$f":"'Standing data'!$D$10","v":{"$error":"#N/A"}},{"$f":"'Standing data'!$F$10","v":0},{"$f":"'Standing data'!$D$6","v":"Academy name"},{"$f":"'Standing data'!$F$6","v":0},"Forecast","I188",{"$f":"#REF!","v":{"$error":"#REF!"}}]
[{"$f":"'Standing data'!$D$10","v":{"$error":"#N/A"}},{"$f":"'Standing data'!$F$10","v":0},{"$f":"'Standing data'!$D$6","v":"Academy name"},{"$f":"'Standing data'!$F$6","v":0},"Forecast","I189",{"$f":"#REF!","v":{"$error":"#REF!"}}]
[{"$f":"'Standing data'!$D$10","v":{"$error":"#N/A"}},{"$f":"'Standing data'!$F$10","v":0},{"$f":"'Standing data'!$D$6","v":"Academy name"},{"$f":"'Standing data'!$F$6","v":0},"Forecast","I190",{"$f":"#REF!","v":{"$error":"#REF!"}}]
[{"$f":"'Standing data'!$D$10","v":{"$error":"#N/A"}},{"$f":"'Standing data'!$F$10","v":0},{"$f":"'Standing data'!$D$6","v":"Academy name"},{"$f":"'Standing data'!$F$6","v":0},"Forecast","I191",{"$f":"#REF!","v":{"$error":"#REF!"}}]
[{"$f":"'Standing data'!$D$10","v":{"$error":"#N/A"}},{"$f":"'Standing data'!$F$10","v":0},{"$f":"'Standing data'!$D$6","v":"Academy name"},{"$f":"'Standing data'!$F$6","v":0},"Forecast","I192",{"$f":"#REF!","v":{"$error":"#REF!"}}]
[{"$f":"'Standing data'!$D$10","v":{"$error":"#N/A"}},{"$f":"'Standing data'!$F$10","v":0},{"$f":"'Standing data'!$D$6","v":"Academy name"},{"$f":"'Standing data'!$F$6","v":0},"Forecast","I193",{"$f":"#REF!","v":{"$error":"#REF!"}}]
[{"$f":"'Standing data'!$D$10","v":{"$error":"#N/A"}},{"$f":"'Standing data'!$F$10","v":0},{"$f":"'Standing data'!$D$6","v":"Academy name"},{"$f":"'Standing data'!$F$6","v":0},"Forecast","I194",{"$f":"#REF!","v":{"$error":"#REF!"}}]
[{"$f":"'Standing data'!$D$10","v":{"$error":"#N/A"}},{"$f":"'Standing data'!$F$10","v":0},{"$f":"'Standing data'!$D$6","v":"Academy name"},{"$f":"'Standing data'!$F$6","v":0},"Forecast","I195",{"$f":"#REF!","v":{"$error":"#REF!"}}]
[{"$f":"'Standing data'!$D$10","v":{"$error":"#N/A"}},{"$f":"'Standing data'!$F$10","v":0},{"$f":"'Standing data'!$D$6","v":"Academy name"},{"$f":"'Standing data'!$F$6","v":0},"Forecast","I196",{"$f":"#REF!","v":{"$error":"#REF!"}}]
[{"$f":"'Standing data'!$D$10","v":{"$error":"#N/A"}},{"$f":"'Standing data'!$F$10","v":0},{"$f":"'Standing data'!$D$6","v":"Academy name"},{"$f":"'Standing data'!$F$6","v":0},"Forecast","I197",{"$f":"#REF!","v":{"$error":"#REF!"}}]
[{"$f":"'Standing data'!$D$10","v":{"$error":"#N/A"}},{"$f":"'Standing data'!$F$10","v":0},{"$f":"'Standing data'!$D$6","v":"Academy name"},{"$f":"'Standing data'!$F$6","v":0},"Forecast","I198",{"$f":"#REF!","v":{"$error":"#REF!"}}]
[{"$f":"'Standing data'!$D$10","v":{"$error":"#N/A"}},{"$f":"'Standing data'!$F$10","v":0},{"$f":"'Standing data'!$D$6","v":"Academy name"},{"$f":"'Standing data'!$F$6","v":0},"Forecast","I199",{"$f":"#REF!","v":{"$error":"#REF!"}}]
[{"$f":"'Standing data'!$D$10","v":{"$error":"#N/A"}},{"$f":"'Standing data'!$F$10","v":0},{"$f":"'Standing data'!$D$6","v":"Academy name"},{"$f":"'Standing data'!$F$6","v":0},"Forecast","I200",{"$f":"#REF!","v":{"$error":"#REF!"}}]
[{"$f":"'Standing data'!$D$10","v":{"$error":"#N/A"}},{"$f":"'Standing data'!$F$10","v":0},{"$f":"'Standing data'!$D$6","v":"Academy name"},{"$f":"'Standing data'!$F$6","v":0},"Forecast","I201",{"$f":"#REF!","v":{"$error":"#REF!"}}]
[{"$f":"'Standing data'!$D$10","v":{"$error":"#N/A"}},{"$f":"'Standing data'!$F$10","v":0},{"$f":"'Standing data'!$D$6","v":"Academy name"},{"$f":"'Standing data'!$F$6","v":0},"Forecast","I202",{"$f":"#REF!","v":{"$error":"#REF!"}}]
[{"$f":"'Standing data'!$D$10","v":{"$error":"#N/A"}},{"$f":"'Standing data'!$F$10","v":0},{"$f":"'Standing data'!$D$6","v":"Academy name"},{"$f":"'Standing data'!$F$6","v":0},"Forecast","I203",{"$f":"#REF!","v":{"$error":"#REF!"}}]
[{"$f":"'Standing data'!$D$10","v":{"$error":"#N/A"}},{"$f":"'Standing data'!$F$10","v":0},{"$f":"'Standing data'!$D$6","v":"Academy name"},{"$f":"'Standing data'!$F$6","v":0},"Forecast","I204",{"$f":"#REF!","v":{"$error":"#REF!"}}]
[{"$f":"'Standing data'!$D$10","v":{"$error":"#N/A"}},{"$f":"'Standing data'!$F$10","v":0},{"$f":"'Standing data'!$D$6","v":"Academy name"},{"$f":"'Standing data'!$F$6","v":0},"Forecast","I205",{"$f":"#REF!","v":{"$error":"#REF!"}}]
[{"$f":"'Standing data'!$D$10","v":{"$error":"#N/A"}},{"$f":"'Standing data'!$F$10","v":0},{"$f":"'Standing data'!$D$6","v":"Academy name"},{"$f":"'Standing data'!$F$6","v":0},"Forecast","I206",{"$f":"#REF!","v":{"$error":"#REF!"}}]
[{"$f":"'Standing data'!$D$10","v":{"$error":"#N/A"}},{"$f":"'Standing data'!$F$10","v":0},{"$f":"'Standing data'!$D$6","v":"Academy name"},{"$f":"'Standing data'!$F$6","v":0},"Forecast","I207",{"$f":"#REF!","v":{"$error":"#REF!"}}]
[{"$f":"'Standing data'!$D$10","v":{"$error":"#N/A"}},{"$f":"'Standing data'!$F$10","v":0},{"$f":"'Standing data'!$D$6","v":"Academy name"},{"$f":"'Standing data'!$F$6","v":0},"Forecast","I208",{"$f":"#REF!","v":{"$error":"#REF!"}}]
[{"$f":"'Standing data'!$D$10","v":{"$error":"#N/A"}},{"$f":"'Standing data'!$F$10","v":0},{"$f":"'Standing data'!$D$6","v":"Academy name"},{"$f":"'Standing data'!$F$6","v":0},"Forecast","I209",{"$f":"#REF!","v":{"$error":"#REF!"}}]
[{"$f":"'Standing data'!$D$10","v":{"$error":"#N/A"}},{"$f":"'Standing data'!$F$10","v":0},{"$f":"'Standing data'!$D$6","v":"Academy name"},{"$f":"'Standing data'!$F$6","v":0},"Forecast","I210",{"$f":"#REF!","v":{"$error":"#REF!"}}]
[{"$f":"'Standing data'!$D$10","v":{"$error":"#N/A"}},{"$f":"'Standing data'!$F$10","v":0},{"$f":"'Standing data'!$D$6","v":"Academy name"},{"$f":"'Standing data'!$F$6","v":0},"Forecast","I211",{"$f":"#REF!","v":{"$error":"#REF!"}}]
[{"$f":"'Standing data'!$D$10","v":{"$error":"#N/A"}},{"$f":"'Standing data'!$F$10","v":0},{"$f":"'Standing data'!$D$6","v":"Academy name"},{"$f":"'Standing data'!$F$6","v":0},"Forecast","I212",{"$f":"#REF!","v":{"$error":"#REF!"}}]
[{"$f":"'Standing data'!$D$10","v":{"$error":"#N/A"}},{"$f":"'Standing data'!$F$10","v":0},{"$f":"'Standing data'!$D$6","v":"Academy name"},{"$f":"'Standing data'!$F$6","v":0},"Forecast","I213",{"$f":"#REF!","v":{"$error":"#REF!"}}]
[{"$f":"'Standing data'!$D$10","v":{"$error":"#N/A"}},{"$f":"'Standing data'!$F$10","v":0},{"$f":"'Standing data'!$D$6","v":"Academy name"},{"$f":"'Standing data'!$F$6","v":0},"Forecast","I214",{"$f":"#REF!","v":{"$error":"#REF!"}}]
[{"$f":"'Standing data'!$D$10","v":{"$error":"#N/A"}},{"$f":"'Standing data'!$F$10","v":0},{"$f":"'Standing data'!$D$6","v":"Academy name"},{"$f":"'Standing data'!$F$6","v":0},"Forecast","I215",{"$f":"#REF!","v":{"$error":"#REF!"}}]
[{"$f":"'Standing data'!$D$10","v":{"$error":"#N/A"}},{"$f":"'Standing data'!$F$10","v":0},{"$f":"'Standing data'!$D$6","v":"Academy name"},{"$f":"'Standing data'!$F$6","v":0},"Forecast","I216",{"$f":"#REF!","v":{"$error":"#REF!"}}]
[{"$f":"'Standing data'!$D$10","v":{"$error":"#N/A"}},{"$f":"'Standing data'!$F$10","v":0},{"$f":"'Standing data'!$D$6","v":"Academy name"},{"$f":"'Standing data'!$F$6","v":0},"Forecast","I217",{"$f":"#REF!","v":{"$error":"#REF!"}}]
[{"$f":"'Standing data'!$D$10","v":{"$error":"#N/A"}},{"$f":"'Standing data'!$F$10","v":0},{"$f":"'Standing data'!$D$6","v":"Academy name"},{"$f":"'Standing data'!$F$6","v":0},"Forecast","I218",{"$f":"#REF!","v":{"$error":"#REF!"}}]
[{"$f":"'Standing data'!$D$10","v":{"$error":"#N/A"}},{"$f":"'Standing data'!$F$10","v":0},{"$f":"'Standing data'!$D$6","v":"Academy name"},{"$f":"'Standing data'!$F$6","v":0},"Forecast","I219",{"$f":"#REF!","v":{"$error":"#REF!"}}]
[{"$f":"'Standing data'!$D$10","v":{"$error":"#N/A"}},{"$f":"'Standing data'!$F$10","v":0},{"$f":"'Standing data'!$D$6","v":"Academy name"},{"$f":"'Standing data'!$F$6","v":0},"Forecast","I220",{"$f":"#REF!","v":{"$error":"#REF!"}}]
[{"$f":"'Standing data'!$D$10","v":{"$error":"#N/A"}},{"$f":"'Standing data'!$F$10","v":0},{"$f":"'Standing data'!$D$6","v":"Academy name"},{"$f":"'Standing data'!$F$6","v":0},"Forecast","I221",{"$f":"#REF!","v":{"$error":"#REF!"}}]
[{"$f":"'Standing data'!$D$10","v":{"$error":"#N/A"}},{"$f":"'Standing data'!$F$10","v":0},{"$f":"'Standing data'!$D$6","v":"Academy name"},{"$f":"'Standing data'!$F$6","v":0},"Forecast","I222",{"$f":"#REF!","v":{"$error":"#REF!"}}]
[{"$f":"'Standing data'!$D$10","v":{"$error":"#N/A"}},{"$f":"'Standing data'!$F$10","v":0},{"$f":"'Standing data'!$D$6","v":"Academy name"},{"$f":"'Standing data'!$F$6","v":0},"Forecast","I223",{"$f":"#REF!","v":{"$error":"#REF!"}}]
[{"$f":"'Standing data'!$D$10","v":{"$error":"#N/A"}},{"$f":"'Standing data'!$F$10","v":0},{"$f":"'Standing data'!$D$6","v":"Academy name"},{"$f":"'Standing data'!$F$6","v":0},"Forecast","I224",{"$f":"#REF!","v":{"$error":"#REF!"}}]
[{"$f":"'Standing data'!$D$10","v":{"$error":"#N/A"}},{"$f":"'Standing data'!$F$10","v":0},{"$f":"'Standing data'!$D$6","v":"Academy name"},{"$f":"'Standing data'!$F$6","v":0},"Forecast","I225",{"$f":"#REF!","v":{"$error":"#REF!"}}]
[{"$f":"'Standing data'!$D$10","v":{"$error":"#N/A"}},{"$f":"'Standing data'!$F$10","v":0},{"$f":"'Standing data'!$D$6","v":"Academy name"},{"$f":"'Standing data'!$F$6","v":0},"Forecast","I226",{"$f":"#REF!","v":{"$error":"#REF!"}}]
[{"$f":"'Standing data'!$D$10","v":{"$error":"#N/A"}},{"$f":"'Standing data'!$F$10","v":0},{"$f":"'Standing data'!$D$6","v":"Academy name"},{"$f":"'Standing data'!$F$6","v":0},"Forecast","I227",{"$f":"#REF!","v":{"$error":"#REF!"}}]
[{"$f":"'Standing data'!$D$10","v":{"$error":"#N/A"}},{"$f":"'Standing data'!$F$10","v":0},{"$f":"'Standing data'!$D$6","v":"Academy name"},{"$f":"'Standing data'!$F$6","v":0},"Forecast","I228",{"$f":"#REF!","v":{"$error":"#REF!"}}]
[{"$f":"'Standing data'!$D$10","v":{"$error":"#N/A"}},{"$f":"'Standing data'!$F$10","v":0},{"$f":"'Standing data'!$D$6","v":"Academy name"},{"$f":"'Standing data'!$F$6","v":0},"Forecast","I229",{"$f":"#REF!","v":{"$error":"#REF!"}}]
[{"$f":"'Standing data'!$D$10","v":{"$error":"#N/A"}},{"$f":"'Standing data'!$F$10","v":0},{"$f":"'Standing data'!$D$6","v":"Academy name"},{"$f":"'Standing data'!$F$6","v":0},"Forecast","I230",{"$f":"#REF!","v":{"$error":"#REF!"}}]
[{"$f":"'Standing data'!$D$10","v":{"$error":"#N/A"}},{"$f":"'Standing data'!$F$10","v":0},{"$f":"'Standing data'!$D$6","v":"Academy name"},{"$f":"'Standing data'!$F$6","v":0},"Forecast","I231",{"$f":"#REF!","v":{"$error":"#REF!"}}]
[{"$f":"'Standing data'!$D$10","v":{"$error":"#N/A"}},{"$f":"'Standing data'!$F$10","v":0},{"$f":"'Standing data'!$D$6","v":"Academy name"},{"$f":"'Standing data'!$F$6","v":0},"Forecast","I232",{"$f":"#REF!","v":{"$error":"#REF!"}}]
[{"$f":"'Standing data'!$D$10","v":{"$error":"#N/A"}},{"$f":"'Standing data'!$F$10","v":0},{"$f":"'Standing data'!$D$6","v":"Academy name"},{"$f":"'Standing data'!$F$6","v":0},"Forecast","I233",{"$f":"#REF!","v":{"$error":"#REF!"}}]
[{"$f":"'Standing data'!$D$10","v":{"$error":"#N/A"}},{"$f":"'Standing data'!$F$10","v":0},{"$f":"'Standing data'!$D$6","v":"Academy name"},{"$f":"'Standing data'!$F$6","v":0},"Forecast","I234",{"$f":"#REF!","v":{"$error":"#REF!"}}]
[{"$f":"'Standing data'!$D$10","v":{"$error":"#N/A"}},{"$f":"'Standing data'!$F$10","v":0},{"$f":"'Standing data'!$D$6","v":"Academy name"},{"$f":"'Standing data'!$F$6","v":0},"Forecast","I235",{"$f":"#REF!","v":{"$error":"#REF!"}}]
[{"$f":"'Standing data'!$D$10","v":{"$error":"#N/A"}},{"$f":"'Standing data'!$F$10","v":0},{"$f":"'Standing data'!$D$6","v":"Academy name"},{"$f":"'Standing data'!$F$6","v":0},"Forecast","I236",{"$f":"#REF!","v":{"$error":"#REF!"}}]
[{"$f":"'Standing data'!$D$10","v":{"$error":"#N/A"}},{"$f":"'Standing data'!$F$10","v":0},{"$f":"'Standing data'!$D$6","v":"Academy name"},{"$f":"'Standing data'!$F$6","v":0},"Forecast","I237",{"$f":"#REF!","v":{"$error":"#REF!"}}]
[{"$f":"'Standing data'!$D$10","v":{"$error":"#N/A"}},{"$f":"'Standing data'!$F$10","v":0},{"$f":"'Standing data'!$D$6","v":"Academy name"},{"$f":"'Standing data'!$F$6","v":0},"Forecast","I238",{"$f":"#REF!","v":{"$error":"#REF!"}}]
[{"$f":"'Standing data'!$D$10","v":{"$error":"#N/A"}},{"$f":"'Standing data'!$F$10","v":0},{"$f":"'Standing data'!$D$6","v":"Academy name"},{"$f":"'Standing data'!$F$6","v":0},"Forecast","I239",{"$f":"#REF!","v":{"$error":"#REF!"}}]
[{"$f":"'Standing data'!$D$10","v":{"$error":"#N/A"}},{"$f":"'Standing data'!$F$10","v":0},{"$f":"'Standing data'!$D$6","v":"Academy name"},{"$f":"'Standing data'!$F$6","v":0},"Forecast","I240",{"$f":"#REF!","v":{"$error":"#REF!"}}]
[{"$f":"'Standing data'!$D$10","v":{"$error":"#N/A"}},{"$f":"'Standing data'!$F$10","v":0},{"$f":"'Standing data'!$D$6","v":"Academy name"},{"$f":"'Standing data'!$F$6","v":0},"Forecast","I241",{"$f":"#REF!","v":{"$error":"#REF!"}}]
[{"$f":"'Standing data'!$D$10","v":{"$error":"#N/A"}},{"$f":"'Standing data'!$F$10","v":0},{"$f":"'Standing data'!$D$6","v":"Academy name"},{"$f":"'Standing data'!$F$6","v":0},"Forecast","I242",{"$f":"#REF!","v":{"$error":"#REF!"}}]
[{"$f":"'Standing data'!$D$10","v":{"$error":"#N/A"}},{"$f":"'Standing data'!$F$10","v":0},{"$f":"'Standing data'!$D$6","v":"Academy name"},{"$f":"'Standing data'!$F$6","v":0},"Forecast","I243",{"$f":"#REF!","v":{"$error":"#REF!"}}]
[{"$f":"'Standing data'!$D$10","v":{"$error":"#N/A"}},{"$f":"'Standing data'!$F$10","v":0},{"$f":"'Standing data'!$D$6","v":"Academy name"},{"$f":"'Standing data'!$F$6","v":0},"Forecast","I244",{"$f":"#REF!","v":{"$error":"#REF!"}}]
[{"$f":"'Standing data'!$D$10","v":{"$error":"#N/A"}},{"$f":"'Standing data'!$F$10","v":0},{"$f":"'Standing data'!$D$6","v":"Academy name"},{"$f":"'Standing data'!$F$6","v":0},"Forecast","I245",{"$f":"#REF!","v":{"$error":"#REF!"}}]
[{"$f":"'Standing data'!$D$10","v":{"$error":"#N/A"}},{"$f":"'Standing data'!$F$10","v":0},{"$f":"'Standing data'!$D$6","v":"Academy name"},{"$f":"'Standing data'!$F$6","v":0},"Forecast","I246",{"$f":"#REF!","v":{"$error":"#REF!"}}]
[{"$f":"'Standing data'!$D$10","v":{"$error":"#N/A"}},{"$f":"'Standing data'!$F$10","v":0},{"$f":"'Standing data'!$D$6","v":"Academy name"},{"$f":"'Standing data'!$F$6","v":0},"Forecast","I247",{"$f":"#REF!","v":{"$error":"#REF!"}}]
[{"$f":"'Standing data'!$D$10","v":{"$error":"#N/A"}},{"$f":"'Standing data'!$F$10","v":0},{"$f":"'Standing data'!$D$6","v":"Academy name"},{"$f":"'Standing data'!$F$6","v":0},"Forecast","I248",{"$f":"#REF!","v":{"$error":"#REF!"}}]
[{"$f":"'Standing data'!$D$10","v":{"$error":"#N/A"}},{"$f":"'Standing data'!$F$10","v":0},{"$f":"'Standing data'!$D$6","v":"Academy name"},{"$f":"'Standing data'!$F$6","v":0},"Forecast","I249",{"$f":"#REF!","v":{"$error":"#REF!"}}]
[{"$f":"'Standing data'!$D$10","v":{"$error":"#N/A"}},{"$f":"'Standing data'!$F$10","v":0},{"$f":"'Standing data'!$D$6","v":"Academy name"},{"$f":"'Standing data'!$F$6","v":0},"Forecast","I250",{"$f":"#REF!","v":{"$error":"#REF!"}}]
[{"$f":"'Standing data'!$D$10","v":{"$error":"#N/A"}},{"$f":"'Standing data'!$F$10","v":0},{"$f":"'Standing data'!$D$6","v":"Academy name"},{"$f":"'Standing data'!$F$6","v":0},"Forecast","I251",{"$f":"#REF!","v":{"$error":"#REF!"}}]
[{"$f":"'Standing data'!$D$10","v":{"$error":"#N/A"}},{"$f":"'Standing data'!$F$10","v":0},{"$f":"'Standing data'!$D$6","v":"Academy name"},{"$f":"'Standing data'!$F$6","v":0},"Forecast","I252",{"$f":"#REF!","v":{"$error":"#REF!"}}]
[{"$f":"'Standing data'!$D$10","v":{"$error":"#N/A"}},{"$f":"'Standing data'!$F$10","v":0},{"$f":"'Standing data'!$D$6","v":"Academy name"},{"$f":"'Standing data'!$F$6","v":0},"Forecast","I253",{"$f":"#REF!","v":{"$error":"#REF!"}}]
[{"$f":"'Standing data'!$D$10","v":{"$error":"#N/A"}},{"$f":"'Standing data'!$F$10","v":0},{"$f":"'Standing data'!$D$6","v":"Academy name"},{"$f":"'Standing data'!$F$6","v":0},"Forecast","I256",{"$f":"#REF!","v":{"$error":"#REF!"}}]
[{"$f":"'Standing data'!$D$10","v":{"$error":"#N/A"}},{"$f":"'Standing data'!$F$10","v":0},{"$f":"'Standing data'!$D$6","v":"Academy name"},{"$f":"'Standing data'!$F$6","v":0},"Forecast","I257",{"$f":"#REF!","v":{"$error":"#REF!"}}]
[{"$f":"'Standing data'!$D$10","v":{"$error":"#N/A"}},{"$f":"'Standing data'!$F$10","v":0},{"$f":"'Standing data'!$D$6","v":"Academy name"},{"$f":"'Standing data'!$F$6","v":0},"Forecast","I258",{"$f":"#REF!","v":{"$error":"#REF!"}}]
[{"$f":"'Standing data'!$D$10","v":{"$error":"#N/A"}},{"$f":"'Standing data'!$F$10","v":0},{"$f":"'Standing data'!$D$6","v":"Academy name"},{"$f":"'Standing data'!$F$6","v":0},"Forecast","I259",{"$f":"#REF!","v":{"$error":"#REF!"}}]
[{"$f":"'Standing data'!$D$10","v":{"$error":"#N/A"}},{"$f":"'Standing data'!$F$10","v":0},{"$f":"'Standing data'!$D$6","v":"Academy name"},{"$f":"'Standing data'!$F$6","v":0},"Forecast","I260",{"$f":"#REF!","v":{"$error":"#REF!"}}]
[{"$f":"'Standing data'!$D$10","v":{"$error":"#N/A"}},{"$f":"'Standing data'!$F$10","v":0},{"$f":"'Standing data'!$D$6","v":"Academy name"},{"$f":"'Standing data'!$F$6","v":0},"Forecast","I261",{"$f":"#REF!","v":{"$error":"#REF!"}}]
[{"$f":"'Standing data'!$D$10","v":{"$error":"#N/A"}},{"$f":"'Standing data'!$F$10","v":0},{"$f":"'Standing data'!$D$6","v":"Academy name"},{"$f":"'Standing data'!$F$6","v":0},"Forecast","I262",{"$f":"#REF!","v":{"$error":"#REF!"}}]
[{"$f":"'Standing data'!$D$10","v":{"$error":"#N/A"}},{"$f":"'Standing data'!$F$10","v":0},{"$f":"'Standing data'!$D$6","v":"Academy name"},{"$f":"'Standing data'!$F$6","v":0},"Forecast","I263",{"$f":"#REF!","v":{"$error":"#REF!"}}]
[{"$f":"'Standing data'!$D$10","v":{"$error":"#N/A"}},{"$f":"'Standing data'!$F$10","v":0},{"$f":"'Standing data'!$D$6","v":"Academy name"},{"$f":"'Standing data'!$F$6","v":0},"Forecast","I264",{"$f":"#REF!","v":{"$error":"#REF!"}}]
[{"$f":"'Standing data'!$D$10","v":{"$error":"#N/A"}},{"$f":"'Standing data'!$F$10","v":0},{"$f":"'Standing data'!$D$6","v":"Academy name"},{"$f":"'Standing data'!$F$6","v":0},"Forecast","I265",{"$f":"#REF!","v":{"$error":"#REF!"}}]
[{"$f":"'Standing data'!$D$10","v":{"$error":"#N/A"}},{"$f":"'Standing data'!$F$10","v":0},{"$f":"'Standing data'!$D$6","v":"Academy name"},{"$f":"'Standing data'!$F$6","v":0},"Forecast","I266",{"$f":"#REF!","v":{"$error":"#REF!"}}]
[{"$f":"'Standing data'!$D$10","v":{"$error":"#N/A"}},{"$f":"'Standing data'!$F$10","v":0},{"$f":"'Standing data'!$D$6","v":"Academy name"},{"$f":"'Standing data'!$F$6","v":0},"Forecast","I267",{"$f":"#REF!","v":{"$error":"#REF!"}}]
[{"$f":"'Standing data'!$D$10","v":{"$error":"#N/A"}},{"$f":"'Standing data'!$F$10","v":0},{"$f":"'Standing data'!$D$6","v":"Academy name"},{"$f":"'Standing data'!$F$6","v":0},"Forecast","I268",{"$f":"#REF!","v":{"$error":"#REF!"}}]
[{"$f":"'Standing data'!$D$10","v":{"$error":"#N/A"}},{"$f":"'Standing data'!$F$10","v":0},{"$f":"'Standing data'!$D$6","v":"Academy name"},{"$f":"'Standing data'!$F$6","v":0},"Forecast","I269",{"$f":"#REF!","v":{"$error":"#REF!"}}]
[{"$f":"'Standing data'!$D$10","v":{"$error":"#N/A"}},{"$f":"'Standing data'!$F$10","v":0},{"$f":"'Standing data'!$D$6","v":"Academy name"},{"$f":"'Standing data'!$F$6","v":0},"Forecast","I270",{"$f":"#REF!","v":{"$error":"#REF!"}}]
[{"$f":"'Standing data'!$D$10","v":{"$error":"#N/A"}},{"$f":"'Standing data'!$F$10","v":0},{"$f":"'Standing data'!$D$6","v":"Academy name"},{"$f":"'Standing data'!$F$6","v":0},"Forecast","I271",{"$f":"#REF!","v":{"$error":"#REF!"}}]
[{"$f":"'Standing data'!$D$10","v":{"$error":"#N/A"}},{"$f":"'Standing data'!$F$10","v":0},{"$f":"'Standing data'!$D$6","v":"Academy name"},{"$f":"'Standing data'!$F$6","v":0},"Forecast","I272",{"$f":"#REF!","v":{"$error":"#REF!"}}]
[{"$f":"'Standing data'!$D$10","v":{"$error":"#N/A"}},{"$f":"'Standing data'!$F$10","v":0},{"$f":"'Standing data'!$D$6","v":"Academy name"},{"$f":"'Standing data'!$F$6","v":0},"Forecast","I273",{"$f":"#REF!","v":{"$error":"#REF!"}}]
[{"$f":"'Standing data'!$D$10","v":{"$error":"#N/A"}},{"$f":"'Standing data'!$F$10","v":0},{"$f":"'Standing data'!$D$6","v":"Academy name"},{"$f":"'Standing data'!$F$6","v":0},"Forecast","I274",{"$f":"#REF!","v":{"$error":"#REF!"}}]
[{"$f":"'Standing data'!$D$10","v":{"$error":"#N/A"}},{"$f":"'Standing data'!$F$10","v":0},{"$f":"'Standing data'!$D$6","v":"Academy name"},{"$f":"'Standing data'!$F$6","v":0},"Forecast","I275",{"$f":"#REF!","v":{"$error":"#REF!"}}]
[{"$f":"'Standing data'!$D$10","v":{"$error":"#N/A"}},{"$f":"'Standing data'!$F$10","v":0},{"$f":"'Standing data'!$D$6","v":"Academy name"},{"$f":"'Standing data'!$F$6","v":0},"Forecast","I276",{"$f":"#REF!","v":{"$error":"#REF!"}}]
[{"$f":"'Standing data'!$D$10","v":{"$error":"#N/A"}},{"$f":"'Standing data'!$F$10","v":0},{"$f":"'Standing data'!$D$6","v":"Academy name"},{"$f":"'Standing data'!$F$6","v":0},"Forecast","I277",{"$f":"#REF!","v":{"$error":"#REF!"}}]
[{"$f":"'Standing data'!$D$10","v":{"$error":"#N/A"}},{"$f":"'Standing data'!$F$10","v":0},{"$f":"'Standing data'!$D$6","v":"Academy name"},{"$f":"'Standing data'!$F$6","v":0},"Forecast","I278",{"$f":"#REF!","v":{"$error":"#REF!"}}]
[{"$f":"'Standing data'!$D$10","v":{"$error":"#N/A"}},{"$f":"'Standing data'!$F$10","v":0},{"$f":"'Standing data'!$D$6","v":"Academy name"},{"$f":"'Standing data'!$F$6","v":0},"Forecast","I279",{"$f":"#REF!","v":{"$error":"#REF!"}}]
[{"$f":"'Standing data'!$D$10","v":{"$error":"#N/A"}},{"$f":"'Standing data'!$F$10","v":0},{"$f":"'Standing data'!$D$6","v":"Academy name"},{"$f":"'Standing data'!$F$6","v":0},"Forecast","I280",{"$f":"#REF!","v":{"$error":"#REF!"}}]
[{"$f":"'Standing data'!$D$10","v":{"$error":"#N/A"}},{"$f":"'Standing data'!$F$10","v":0},{"$f":"'Standing data'!$D$6","v":"Academy name"},{"$f":"'Standing data'!$F$6","v":0},"Forecast","I281",{"$f":"#REF!","v":{"$error":"#REF!"}}]
[{"$f":"'Standing data'!$D$10","v":{"$error":"#N/A"}},{"$f":"'Standing data'!$F$10","v":0},{"$f":"'Standing data'!$D$6","v":"Academy name"},{"$f":"'Standing data'!$F$6","v":0},"Forecast","I282",{"$f":"#REF!","v":{"$error":"#REF!"}}]
[{"$f":"'Standing data'!$D$10","v":{"$error":"#N/A"}},{"$f":"'Standing data'!$F$10","v":0},{"$f":"'Standing data'!$D$6","v":"Academy name"},{"$f":"'Standing data'!$F$6","v":0},"Forecast","I283",{"$f":"#REF!","v":{"$error":"#REF!"}}]
[{"$f":"'Standing data'!$D$10","v":{"$error":"#N/A"}},{"$f":"'Standing data'!$F$10","v":0},{"$f":"'Standing data'!$D$6","v":"Academy name"},{"$f":"'Standing data'!$F$6","v":0},"Forecast","I284",{"$f":"#REF!","v":{"$error":"#REF!"}}]
[{"$f":"'Standing data'!$D$10","v":{"$error":"#N/A"}},{"$f":"'Standing data'!$F$10","v":0},{"$f":"'Standing data'!$D$6","v":"Academy name"},{"$f":"'Standing data'!$F$6","v":0},"Forecast","I285",{"$f":"#REF!","v":{"$error":"#REF!"}}]
[{"$f":"'Standing data'!$D$10","v":{"$error":"#N/A"}},{"$f":"'Standing data'!$F$10","v":0},{"$f":"'Standing data'!$D$6","v":"Academy name"},{"$f":"'Standing data'!$F$6","v":0},"Forecast","I286",{"$f":"#REF!","v":{"$error":"#REF!"}}]
[{"$f":"'Standing data'!$D$10","v":{"$error":"#N/A"}},{"$f":"'Standing data'!$F$10","v":0},{"$f":"'Standing data'!$D$6","v":"Academy name"},{"$f":"'Standing data'!$F$6","v":0},"Forecast","I287",{"$f":"#REF!","v":{"$error":"#REF!"}}]
[{"$f":"'Standing data'!$D$10","v":{"$error":"#N/A"}},{"$f":"'Standing data'!$F$10","v":0},{"$f":"'Standing data'!$D$6","v":"Academy name"},{"$f":"'Standing data'!$F$6","v":0},"Forecast","J10",{"$f":"#REF!","v":{"$error":"#REF!"}}]
[{"$f":"'Standing data'!$D$10","v":{"$error":"#N/A"}},{"$f":"'Standing data'!$F$10","v":0},{"$f":"'Standing data'!$D$6","v":"Academy name"},{"$f":"'Standing data'!$F$6","v":0},"Forecast","J11",{"$f":"#REF!","v":{"$error":"#REF!"}}]
[{"$f":"'Standing data'!$D$10","v":{"$error":"#N/A"}},{"$f":"'Standing data'!$F$10","v":0},{"$f":"'Standing data'!$D$6","v":"Academy name"},{"$f":"'Standing data'!$F$6","v":0},"Forecast","J12",{"$f":"#REF!","v":{"$error":"#REF!"}}]
[{"$f":"'Standing data'!$D$10","v":{"$error":"#N/A"}},{"$f":"'Standing data'!$F$10","v":0},{"$f":"'Standing data'!$D$6","v":"Academy name"},{"$f":"'Standing data'!$F$6","v":0},"Forecast","J13",{"$f":"#REF!","v":{"$error":"#REF!"}}]
[{"$f":"'Standing data'!$D$10","v":{"$error":"#N/A"}},{"$f":"'Standing data'!$F$10","v":0},{"$f":"'Standing data'!$D$6","v":"Academy name"},{"$f":"'Standing data'!$F$6","v":0},"Forecast","J14",{"$f":"#REF!","v":{"$error":"#REF!"}}]
[{"$f":"'Standing data'!$D$10","v":{"$error":"#N/A"}},{"$f":"'Standing data'!$F$10","v":0},{"$f":"'Standing data'!$D$6","v":"Academy name"},{"$f":"'Standing data'!$F$6","v":0},"Forecast","J15",{"$f":"#REF!","v":{"$error":"#REF!"}}]
[{"$f":"'Standing data'!$D$10","v":{"$error":"#N/A"}},{"$f":"'Standing data'!$F$10","v":0},{"$f":"'Standing data'!$D$6","v":"Academy name"},{"$f":"'Standing data'!$F$6","v":0},"Forecast","J16",{"$f":"#REF!","v":{"$error":"#REF!"}}]
[{"$f":"'Standing data'!$D$10","v":{"$error":"#N/A"}},{"$f":"'Standing data'!$F$10","v":0},{"$f":"'Standing data'!$D$6","v":"Academy name"},{"$f":"'Standing data'!$F$6","v":0},"Forecast","J17",{"$f":"#REF!","v":{"$error":"#REF!"}}]
[{"$f":"'Standing data'!$D$10","v":{"$error":"#N/A"}},{"$f":"'Standing data'!$F$10","v":0},{"$f":"'Standing data'!$D$6","v":"Academy name"},{"$f":"'Standing data'!$F$6","v":0},"Forecast","J18",{"$f":"#REF!","v":{"$error":"#REF!"}}]
[{"$f":"'Standing data'!$D$10","v":{"$error":"#N/A"}},{"$f":"'Standing data'!$F$10","v":0},{"$f":"'Standing data'!$D$6","v":"Academy name"},{"$f":"'Standing data'!$F$6","v":0},"Forecast","J19",{"$f":"#REF!","v":{"$error":"#REF!"}}]
[{"$f":"'Standing data'!$D$10","v":{"$error":"#N/A"}},{"$f":"'Standing data'!$F$10","v":0},{"$f":"'Standing data'!$D$6","v":"Academy name"},{"$f":"'Standing data'!$F$6","v":0},"Forecast","J20",{"$f":"#REF!","v":{"$error":"#REF!"}}]
[{"$f":"'Standing data'!$D$10","v":{"$error":"#N/A"}},{"$f":"'Standing data'!$F$10","v":0},{"$f":"'Standing data'!$D$6","v":"Academy name"},{"$f":"'Standing data'!$F$6","v":0},"Forecast","J21",{"$f":"#REF!","v":{"$error":"#REF!"}}]
[{"$f":"'Standing data'!$D$10","v":{"$error":"#N/A"}},{"$f":"'Standing data'!$F$10","v":0},{"$f":"'Standing data'!$D$6","v":"Academy name"},{"$f":"'Standing data'!$F$6","v":0},"Forecast","J22",{"$f":"#REF!","v":{"$error":"#REF!"}}]
[{"$f":"'Standing data'!$D$10","v":{"$error":"#N/A"}},{"$f":"'Standing data'!$F$10","v":0},{"$f":"'Standing data'!$D$6","v":"Academy name"},{"$f":"'Standing data'!$F$6","v":0},"Forecast","J23",{"$f":"#REF!","v":{"$error":"#REF!"}}]
[{"$f":"'Standing data'!$D$10","v":{"$error":"#N/A"}},{"$f":"'Standing data'!$F$10","v":0},{"$f":"'Standing data'!$D$6","v":"Academy name"},{"$f":"'Standing data'!$F$6","v":0},"Forecast","J24",{"$f":"#REF!","v":{"$error":"#REF!"}}]
[{"$f":"'Standing data'!$D$10","v":{"$error":"#N/A"}},{"$f":"'Standing data'!$F$10","v":0},{"$f":"'Standing data'!$D$6","v":"Academy name"},{"$f":"'Standing data'!$F$6","v":0},"Forecast","J25",{"$f":"#REF!","v":{"$error":"#REF!"}}]
[{"$f":"'Standing data'!$D$10","v":{"$error":"#N/A"}},{"$f":"'Standing data'!$F$10","v":0},{"$f":"'Standing data'!$D$6","v":"Academy name"},{"$f":"'Standing data'!$F$6","v":0},"Forecast","J26",{"$f":"#REF!","v":{"$error":"#REF!"}}]
[{"$f":"'Standing data'!$D$10","v":{"$error":"#N/A"}},{"$f":"'Standing data'!$F$10","v":0},{"$f":"'Standing data'!$D$6","v":"Academy name"},{"$f":"'Standing data'!$F$6","v":0},"Forecast","J27",{"$f":"#REF!","v":{"$error":"#REF!"}}]
[{"$f":"'Standing data'!$D$10","v":{"$error":"#N/A"}},{"$f":"'Standing data'!$F$10","v":0},{"$f":"'Standing data'!$D$6","v":"Academy name"},{"$f":"'Standing data'!$F$6","v":0},"Forecast","J28",{"$f":"#REF!","v":{"$error":"#REF!"}}]
[{"$f":"'Standing data'!$D$10","v":{"$error":"#N/A"}},{"$f":"'Standing data'!$F$10","v":0},{"$f":"'Standing data'!$D$6","v":"Academy name"},{"$f":"'Standing data'!$F$6","v":0},"Forecast","J29",{"$f":"#REF!","v":{"$error":"#REF!"}}]
[{"$f":"'Standing data'!$D$10","v":{"$error":"#N/A"}},{"$f":"'Standing data'!$F$10","v":0},{"$f":"'Standing data'!$D$6","v":"Academy name"},{"$f":"'Standing data'!$F$6","v":0},"Forecast","J30",{"$f":"#REF!","v":{"$error":"#REF!"}}]
[{"$f":"'Standing data'!$D$10","v":{"$error":"#N/A"}},{"$f":"'Standing data'!$F$10","v":0},{"$f":"'Standing data'!$D$6","v":"Academy name"},{"$f":"'Standing data'!$F$6","v":0},"Forecast","J31",{"$f":"#REF!","v":{"$error":"#REF!"}}]
[{"$f":"'Standing data'!$D$10","v":{"$error":"#N/A"}},{"$f":"'Standing data'!$F$10","v":0},{"$f":"'Standing data'!$D$6","v":"Academy name"},{"$f":"'Standing data'!$F$6","v":0},"Forecast","J32",{"$f":"#REF!","v":{"$error":"#REF!"}}]
[{"$f":"'Standing data'!$D$10","v":{"$error":"#N/A"}},{"$f":"'Standing data'!$F$10","v":0},{"$f":"'Standing data'!$D$6","v":"Academy name"},{"$f":"'Standing data'!$F$6","v":0},"Forecast","J33",{"$f":"#REF!","v":{"$error":"#REF!"}}]
[{"$f":"'Standing data'!$D$10","v":{"$error":"#N/A"}},{"$f":"'Standing data'!$F$10","v":0},{"$f":"'Standing data'!$D$6","v":"Academy name"},{"$f":"'Standing data'!$F$6","v":0},"Forecast","J34",{"$f":"#REF!","v":{"$error":"#REF!"}}]
[{"$f":"'Standing data'!$D$10","v":{"$error":"#N/A"}},{"$f":"'Standing data'!$F$10","v":0},{"$f":"'Standing data'!$D$6","v":"Academy name"},{"$f":"'Standing data'!$F$6","v":0},"Forecast","J35",{"$f":"#REF!","v":{"$error":"#REF!"}}]
[{"$f":"'Standing data'!$D$10","v":{"$error":"#N/A"}},{"$f":"'Standing data'!$F$10","v":0},{"$f":"'Standing data'!$D$6","v":"Academy name"},{"$f":"'Standing data'!$F$6","v":0},"Forecast","J36",{"$f":"#REF!","v":{"$error":"#REF!"}}]
[{"$f":"'Standing data'!$D$10","v":{"$error":"#N/A"}},{"$f":"'Standing data'!$F$10","v":0},{"$f":"'Standing data'!$D$6","v":"Academy name"},{"$f":"'Standing data'!$F$6","v":0},"Forecast","J37",{"$f":"#REF!","v":{"$error":"#REF!"}}]
[{"$f":"'Standing data'!$D$10","v":{"$error":"#N/A"}},{"$f":"'Standing data'!$F$10","v":0},{"$f":"'Standing data'!$D$6","v":"Academy name"},{"$f":"'Standing data'!$F$6","v":0},"Forecast","J38",{"$f":"#REF!","v":{"$error":"#REF!"}}]
[{"$f":"'Standing data'!$D$10","v":{"$error":"#N/A"}},{"$f":"'Standing data'!$F$10","v":0},{"$f":"'Standing data'!$D$6","v":"Academy name"},{"$f":"'Standing data'!$F$6","v":0},"Forecast","J39",{"$f":"#REF!","v":{"$error":"#REF!"}}]
[{"$f":"'Standing data'!$D$10","v":{"$error":"#N/A"}},{"$f":"'Standing data'!$F$10","v":0},{"$f":"'Standing data'!$D$6","v":"Academy name"},{"$f":"'Standing data'!$F$6","v":0},"Forecast","J40",{"$f":"#REF!","v":{"$error":"#REF!"}}]
[{"$f":"'Standing data'!$D$10","v":{"$error":"#N/A"}},{"$f":"'Standing data'!$F$10","v":0},{"$f":"'Standing data'!$D$6","v":"Academy name"},{"$f":"'Standing data'!$F$6","v":0},"Forecast","J41",{"$f":"#REF!","v":{"$error":"#REF!"}}]
[{"$f":"'Standing data'!$D$10","v":{"$error":"#N/A"}},{"$f":"'Standing data'!$F$10","v":0},{"$f":"'Standing data'!$D$6","v":"Academy name"},{"$f":"'Standing data'!$F$6","v":0},"Forecast","J42",{"$f":"#REF!","v":{"$error":"#REF!"}}]
[{"$f":"'Standing data'!$D$10","v":{"$error":"#N/A"}},{"$f":"'Standing data'!$F$10","v":0},{"$f":"'Standing data'!$D$6","v":"Academy name"},{"$f":"'Standing data'!$F$6","v":0},"Forecast","J43",{"$f":"#REF!","v":{"$error":"#REF!"}}]
[{"$f":"'Standing data'!$D$10","v":{"$error":"#N/A"}},{"$f":"'Standing data'!$F$10","v":0},{"$f":"'Standing data'!$D$6","v":"Academy name"},{"$f":"'Standing data'!$F$6","v":0},"Forecast","J45",{"$f":"#REF!","v":{"$error":"#REF!"}}]
[{"$f":"'Standing data'!$D$10","v":{"$error":"#N/A"}},{"$f":"'Standing data'!$F$10","v":0},{"$f":"'Standing data'!$D$6","v":"Academy name"},{"$f":"'Standing data'!$F$6","v":0},"Forecast","J46",{"$f":"#REF!","v":{"$error":"#REF!"}}]
[{"$f":"'Standing data'!$D$10","v":{"$error":"#N/A"}},{"$f":"'Standing data'!$F$10","v":0},{"$f":"'Standing data'!$D$6","v":"Academy name"},{"$f":"'Standing data'!$F$6","v":0},"Forecast","J47",{"$f":"#REF!","v":{"$error":"#REF!"}}]
[{"$f":"'Standing data'!$D$10","v":{"$error":"#N/A"}},{"$f":"'Standing data'!$F$10","v":0},{"$f":"'Standing data'!$D$6","v":"Academy name"},{"$f":"'Standing data'!$F$6","v":0},"Forecast","J48",{"$f":"#REF!","v":{"$error":"#REF!"}}]
[{"$f":"'Standing data'!$D$10","v":{"$error":"#N/A"}},{"$f":"'Standing data'!$F$10","v":0},{"$f":"'Standing data'!$D$6","v":"Academy name"},{"$f":"'Standing data'!$F$6","v":0},"Forecast","J49",{"$f":"#REF!","v":{"$error":"#REF!"}}]
[{"$f":"'Standing data'!$D$10","v":{"$error":"#N/A"}},{"$f":"'Standing data'!$F$10","v":0},{"$f":"'Standing data'!$D$6","v":"Academy name"},{"$f":"'Standing data'!$F$6","v":0},"Forecast","J50",{"$f":"#REF!","v":{"$error":"#REF!"}}]
[{"$f":"'Standing data'!$D$10","v":{"$error":"#N/A"}},{"$f":"'Standing data'!$F$10","v":0},{"$f":"'Standing data'!$D$6","v":"Academy name"},{"$f":"'Standing data'!$F$6","v":0},"Forecast","J51",{"$f":"#REF!","v":{"$error":"#REF!"}}]
[{"$f":"'Standing data'!$D$10","v":{"$error":"#N/A"}},{"$f":"'Standing data'!$F$10","v":0},{"$f":"'Standing data'!$D$6","v":"Academy name"},{"$f":"'Standing data'!$F$6","v":0},"Forecast","J52",{"$f":"#REF!","v":{"$error":"#REF!"}}]
[{"$f":"'Standing data'!$D$10","v":{"$error":"#N/A"}},{"$f":"'Standing data'!$F$10","v":0},{"$f":"'Standing data'!$D$6","v":"Academy name"},{"$f":"'Standing data'!$F$6","v":0},"Forecast","J53",{"$f":"#REF!","v":{"$error":"#REF!"}}]
[{"$f":"'Standing data'!$D$10","v":{"$error":"#N/A"}},{"$f":"'Standing data'!$F$10","v":0},{"$f":"'Standing data'!$D$6","v":"Academy name"},{"$f":"'Standing data'!$F$6","v":0},"Forecast","J54",{"$f":"#REF!","v":{"$error":"#REF!"}}]
[{"$f":"'Standing data'!$D$10","v":{"$error":"#N/A"}},{"$f":"'Standing data'!$F$10","v":0},{"$f":"'Standing data'!$D$6","v":"Academy name"},{"$f":"'Standing data'!$F$6","v":0},"Forecast","J55",{"$f":"#REF!","v":{"$error":"#REF!"}}]
[{"$f":"'Standing data'!$D$10","v":{"$error":"#N/A"}},{"$f":"'Standing data'!$F$10","v":0},{"$f":"'Standing data'!$D$6","v":"Academy name"},{"$f":"'Standing data'!$F$6","v":0},"Forecast","J57",{"$f":"#REF!","v":{"$error":"#REF!"}}]
[{"$f":"'Standing data'!$D$10","v":{"$error":"#N/A"}},{"$f":"'Standing data'!$F$10","v":0},{"$f":"'Standing data'!$D$6","v":"Academy name"},{"$f":"'Standing data'!$F$6","v":0},"Forecast","J60",{"$f":"#REF!","v":{"$error":"#REF!"}}]
[{"$f":"'Standing data'!$D$10","v":{"$error":"#N/A"}},{"$f":"'Standing data'!$F$10","v":0},{"$f":"'Standing data'!$D$6","v":"Academy name"},{"$f":"'Standing data'!$F$6","v":0},"Forecast","J61",{"$f":"#REF!","v":{"$error":"#REF!"}}]
[{"$f":"'Standing data'!$D$10","v":{"$error":"#N/A"}},{"$f":"'Standing data'!$F$10","v":0},{"$f":"'Standing data'!$D$6","v":"Academy name"},{"$f":"'Standing data'!$F$6","v":0},"Forecast","J62",{"$f":"#REF!","v":{"$error":"#REF!"}}]
[{"$f":"'Standing data'!$D$10","v":{"$error":"#N/A"}},{"$f":"'Standing data'!$F$10","v":0},{"$f":"'Standing data'!$D$6","v":"Academy name"},{"$f":"'Standing data'!$F$6","v":0},"Forecast","J63",{"$f":"#REF!","v":{"$error":"#REF!"}}]
[{"$f":"'Standing data'!$D$10","v":{"$error":"#N/A"}},{"$f":"'Standing data'!$F$10","v":0},{"$f":"'Standing data'!$D$6","v":"Academy name"},{"$f":"'Standing data'!$F$6","v":0},"Forecast","J64",{"$f":"#REF!","v":{"$error":"#REF!"}}]
[{"$f":"'Standing data'!$D$10","v":{"$error":"#N/A"}},{"$f":"'Standing data'!$F$10","v":0},{"$f":"'Standing data'!$D$6","v":"Academy name"},{"$f":"'Standing data'!$F$6","v":0},"Forecast","J65",{"$f":"#REF!","v":{"$error":"#REF!"}}]
[{"$f":"'Standing data'!$D$10","v":{"$error":"#N/A"}},{"$f":"'Standing data'!$F$10","v":0},{"$f":"'Standing data'!$D$6","v":"Academy name"},{"$f":"'Standing data'!$F$6","v":0},"Forecast","J66",{"$f":"#REF!","v":{"$error":"#REF!"}}]
[{"$f":"'Standing data'!$D$10","v":{"$error":"#N/A"}},{"$f":"'Standing data'!$F$10","v":0},{"$f":"'Standing data'!$D$6","v":"Academy name"},{"$f":"'Standing data'!$F$6","v":0},"Forecast","J67",{"$f":"#REF!","v":{"$error":"#REF!"}}]
[{"$f":"'Standing data'!$D$10","v":{"$error":"#N/A"}},{"$f":"'Standing data'!$F$10","v":0},{"$f":"'Standing data'!$D$6","v":"Academy name"},{"$f":"'Standing data'!$F$6","v":0},"Forecast","J69",{"$f":"#REF!","v":{"$error":"#REF!"}}]
[{"$f":"'Standing data'!$D$10","v":{"$error":"#N/A"}},{"$f":"'Standing data'!$F$10","v":0},{"$f":"'Standing data'!$D$6","v":"Academy name"},{"$f":"'Standing data'!$F$6","v":0},"Forecast","J70",{"$f":"#REF!","v":{"$error":"#REF!"}}]
[{"$f":"'Standing data'!$D$10","v":{"$error":"#N/A"}},{"$f":"'Standing data'!$F$10","v":0},{"$f":"'Standing data'!$D$6","v":"Academy name"},{"$f":"'Standing data'!$F$6","v":0},"Forecast","J71",{"$f":"#REF!","v":{"$error":"#REF!"}}]
[{"$f":"'Standing data'!$D$10","v":{"$error":"#N/A"}},{"$f":"'Standing data'!$F$10","v":0},{"$f":"'Standing data'!$D$6","v":"Academy name"},{"$f":"'Standing data'!$F$6","v":0},"Forecast","J72",{"$f":"#REF!","v":{"$error":"#REF!"}}]
[{"$f":"'Standing data'!$D$10","v":{"$error":"#N/A"}},{"$f":"'Standing data'!$F$10","v":0},{"$f":"'Standing data'!$D$6","v":"Academy name"},{"$f":"'Standing data'!$F$6","v":0},"Forecast","J73",{"$f":"#REF!","v":{"$error":"#REF!"}}]
[{"$f":"'Standing data'!$D$10","v":{"$error":"#N/A"}},{"$f":"'Standing data'!$F$10","v":0},{"$f":"'Standing data'!$D$6","v":"Academy name"},{"$f":"'Standing data'!$F$6","v":0},"Forecast","J74",{"$f":"#REF!","v":{"$error":"#REF!"}}]
[{"$f":"'Standing data'!$D$10","v":{"$error":"#N/A"}},{"$f":"'Standing data'!$F$10","v":0},{"$f":"'Standing data'!$D$6","v":"Academy name"},{"$f":"'Standing data'!$F$6","v":0},"Forecast","J75",{"$f":"#REF!","v":{"$error":"#REF!"}}]
[{"$f":"'Standing data'!$D$10","v":{"$error":"#N/A"}},{"$f":"'Standing data'!$F$10","v":0},{"$f":"'Standing data'!$D$6","v":"Academy name"},{"$f":"'Standing data'!$F$6","v":0},"Forecast","J76",{"$f":"#REF!","v":{"$error":"#REF!"}}]
[{"$f":"'Standing data'!$D$10","v":{"$error":"#N/A"}},{"$f":"'Standing data'!$F$10","v":0},{"$f":"'Standing data'!$D$6","v":"Academy name"},{"$f":"'Standing data'!$F$6","v":0},"Forecast","J77",{"$f":"#REF!","v":{"$error":"#REF!"}}]
[{"$f":"'Standing data'!$D$10","v":{"$error":"#N/A"}},{"$f":"'Standing data'!$F$10","v":0},{"$f":"'Standing data'!$D$6","v":"Academy name"},{"$f":"'Standing data'!$F$6","v":0},"Forecast","J78",{"$f":"#REF!","v":{"$error":"#REF!"}}]
[{"$f":"'Standing data'!$D$10","v":{"$error":"#N/A"}},{"$f":"'Standing data'!$F$10","v":0},{"$f":"'Standing data'!$D$6","v":"Academy name"},{"$f":"'Standing data'!$F$6","v":0},"Forecast","J79",{"$f":"#REF!","v":{"$error":"#REF!"}}]
[{"$f":"'Standing data'!$D$10","v":{"$error":"#N/A"}},{"$f":"'Standing data'!$F$10","v":0},{"$f":"'Standing data'!$D$6","v":"Academy name"},{"$f":"'Standing data'!$F$6","v":0},"Forecast","J80",{"$f":"#REF!","v":{"$error":"#REF!"}}]
[{"$f":"'Standing data'!$D$10","v":{"$error":"#N/A"}},{"$f":"'Standing data'!$F$10","v":0},{"$f":"'Standing data'!$D$6","v":"Academy name"},{"$f":"'Standing data'!$F$6","v":0},"Forecast","J81",{"$f":"#REF!","v":{"$error":"#REF!"}}]
[{"$f":"'Standing data'!$D$10","v":{"$error":"#N/A"}},{"$f":"'Standing data'!$F$10","v":0},{"$f":"'Standing data'!$D$6","v":"Academy name"},{"$f":"'Standing data'!$F$6","v":0},"Forecast","J82",{"$f":"#REF!","v":{"$error":"#REF!"}}]
[{"$f":"'Standing data'!$D$10","v":{"$error":"#N/A"}},{"$f":"'Standing data'!$F$10","v":0},{"$f":"'Standing data'!$D$6","v":"Academy name"},{"$f":"'Standing data'!$F$6","v":0},"Forecast","J83",{"$f":"#REF!","v":{"$error":"#REF!"}}]
[{"$f":"'Standing data'!$D$10","v":{"$error":"#N/A"}},{"$f":"'Standing data'!$F$10","v":0},{"$f":"'Standing data'!$D$6","v":"Academy name"},{"$f":"'Standing data'!$F$6","v":0},"Forecast","J85",{"$f":"#REF!","v":{"$error":"#REF!"}}]
[{"$f":"'Standing data'!$D$10","v":{"$error":"#N/A"}},{"$f":"'Standing data'!$F$10","v":0},{"$f":"'Standing data'!$D$6","v":"Academy name"},{"$f":"'Standing data'!$F$6","v":0},"Forecast","J86",{"$f":"#REF!","v":{"$error":"#REF!"}}]
[{"$f":"'Standing data'!$D$10","v":{"$error":"#N/A"}},{"$f":"'Standing data'!$F$10","v":0},{"$f":"'Standing data'!$D$6","v":"Academy name"},{"$f":"'Standing data'!$F$6","v":0},"Forecast","J87",{"$f":"#REF!","v":{"$error":"#REF!"}}]
[{"$f":"'Standing data'!$D$10","v":{"$error":"#N/A"}},{"$f":"'Standing data'!$F$10","v":0},{"$f":"'Standing data'!$D$6","v":"Academy name"},{"$f":"'Standing data'!$F$6","v":0},"Forecast","J88",{"$f":"#REF!","v":{"$error":"#REF!"}}]
[{"$f":"'Standing data'!$D$10","v":{"$error":"#N/A"}},{"$f":"'Standing data'!$F$10","v":0},{"$f":"'Standing data'!$D$6","v":"Academy name"},{"$f":"'Standing data'!$F$6","v":0},"Forecast","J89",{"$f":"#REF!","v":{"$error":"#REF!"}}]
[{"$f":"'Standing data'!$D$10","v":{"$error":"#N/A"}},{"$f":"'Standing data'!$F$10","v":0},{"$f":"'Standing data'!$D$6","v":"Academy name"},{"$f":"'Standing data'!$F$6","v":0},"Forecast","J96",{"$f":"#REF!","v":{"$error":"#REF!"}}]
[{"$f":"'Standing data'!$D$10","v":{"$error":"#N/A"}},{"$f":"'Standing data'!$F$10","v":0},{"$f":"'Standing data'!$D$6","v":"Academy name"},{"$f":"'Standing data'!$F$6","v":0},"Forecast","J97",{"$f":"#REF!","v":{"$error":"#REF!"}}]
[{"$f":"'Standing data'!$D$10","v":{"$error":"#N/A"}},{"$f":"'Standing data'!$F$10","v":0},{"$f":"'Standing data'!$D$6","v":"Academy name"},{"$f":"'Standing data'!$F$6","v":0},"Forecast","J98",{"$f":"#REF!","v":{"$error":"#REF!"}}]
[{"$f":"'Standing data'!$D$10","v":{"$error":"#N/A"}},{"$f":"'Standing data'!$F$10","v":0},{"$f":"'Standing data'!$D$6","v":"Academy name"},{"$f":"'Standing data'!$F$6","v":0},"Forecast","J99",{"$f":"#REF!","v":{"$error":"#REF!"}}]
[{"$f":"'Standing data'!$D$10","v":{"$error":"#N/A"}},{"$f":"'Standing data'!$F$10","v":0},{"$f":"'Standing data'!$D$6","v":"Academy name"},{"$f":"'Standing data'!$F$6","v":0},"Forecast","J100",{"$f":"#REF!","v":{"$error":"#REF!"}}]
[{"$f":"'Standing data'!$D$10","v":{"$error":"#N/A"}},{"$f":"'Standing data'!$F$10","v":0},{"$f":"'Standing data'!$D$6","v":"Academy name"},{"$f":"'Standing data'!$F$6","v":0},"Forecast","J101",{"$f":"#REF!","v":{"$error":"#REF!"}}]
[{"$f":"'Standing data'!$D$10","v":{"$error":"#N/A"}},{"$f":"'Standing data'!$F$10","v":0},{"$f":"'Standing data'!$D$6","v":"Academy name"},{"$f":"'Standing data'!$F$6","v":0},"Forecast","J102",{"$f":"#REF!","v":{"$error":"#REF!"}}]
[{"$f":"'Standing data'!$D$10","v":{"$error":"#N/A"}},{"$f":"'Standing data'!$F$10","v":0},{"$f":"'Standing data'!$D$6","v":"Academy name"},{"$f":"'Standing data'!$F$6","v":0},"Forecast","J103",{"$f":"#REF!","v":{"$error":"#REF!"}}]
[{"$f":"'Standing data'!$D$10","v":{"$error":"#N/A"}},{"$f":"'Standing data'!$F$10","v":0},{"$f":"'Standing data'!$D$6","v":"Academy name"},{"$f":"'Standing data'!$F$6","v":0},"Forecast","J104",{"$f":"#REF!","v":{"$error":"#REF!"}}]
[{"$f":"'Standing data'!$D$10","v":{"$error":"#N/A"}},{"$f":"'Standing data'!$F$10","v":0},{"$f":"'Standing data'!$D$6","v":"Academy name"},{"$f":"'Standing data'!$F$6","v":0},"Forecast","J106",{"$f":"#REF!","v":{"$error":"#REF!"}}]
[{"$f":"'Standing data'!$D$10","v":{"$error":"#N/A"}},{"$f":"'Standing data'!$F$10","v":0},{"$f":"'Standing data'!$D$6","v":"Academy name"},{"$f":"'Standing data'!$F$6","v":0},"Forecast","J107",{"$f":"#REF!","v":{"$error":"#REF!"}}]
[{"$f":"'Standing data'!$D$10","v":{"$error":"#N/A"}},{"$f":"'Standing data'!$F$10","v":0},{"$f":"'Standing data'!$D$6","v":"Academy name"},{"$f":"'Standing data'!$F$6","v":0},"Forecast","J108",{"$f":"#REF!","v":{"$error":"#REF!"}}]
[{"$f":"'Standing data'!$D$10","v":{"$error":"#N/A"}},{"$f":"'Standing data'!$F$10","v":0},{"$f":"'Standing data'!$D$6","v":"Academy name"},{"$f":"'Standing data'!$F$6","v":0},"Forecast","J109",{"$f":"#REF!","v":{"$error":"#REF!"}}]
[{"$f":"'Standing data'!$D$10","v":{"$error":"#N/A"}},{"$f":"'Standing data'!$F$10","v":0},{"$f":"'Standing data'!$D$6","v":"Academy name"},{"$f":"'Standing data'!$F$6","v":0},"Forecast","J110",{"$f":"#REF!","v":{"$error":"#REF!"}}]
[{"$f":"'Standing data'!$D$10","v":{"$error":"#N/A"}},{"$f":"'Standing data'!$F$10","v":0},{"$f":"'Standing data'!$D$6","v":"Academy name"},{"$f":"'Standing data'!$F$6","v":0},"Forecast","J112",{"$f":"#REF!","v":{"$error":"#REF!"}}]
[{"$f":"'Standing data'!$D$10","v":{"$error":"#N/A"}},{"$f":"'Standing data'!$F$10","v":0},{"$f":"'Standing data'!$D$6","v":"Academy name"},{"$f":"'Standing data'!$F$6","v":0},"Forecast","J115",{"$f":"#REF!","v":{"$error":"#REF!"}}]
[{"$f":"'Standing data'!$D$10","v":{"$error":"#N/A"}},{"$f":"'Standing data'!$F$10","v":0},{"$f":"'Standing data'!$D$6","v":"Academy name"},{"$f":"'Standing data'!$F$6","v":0},"Forecast","J116",{"$f":"#REF!","v":{"$error":"#REF!"}}]
[{"$f":"'Standing data'!$D$10","v":{"$error":"#N/A"}},{"$f":"'Standing data'!$F$10","v":0},{"$f":"'Standing data'!$D$6","v":"Academy name"},{"$f":"'Standing data'!$F$6","v":0},"Forecast","J117",{"$f":"#REF!","v":{"$error":"#REF!"}}]
[{"$f":"'Standing data'!$D$10","v":{"$error":"#N/A"}},{"$f":"'Standing data'!$F$10","v":0},{"$f":"'Standing data'!$D$6","v":"Academy name"},{"$f":"'Standing data'!$F$6","v":0},"Forecast","J119",{"$f":"#REF!","v":{"$error":"#REF!"}}]
[{"$f":"'Standing data'!$D$10","v":{"$error":"#N/A"}},{"$f":"'Standing data'!$F$10","v":0},{"$f":"'Standing data'!$D$6","v":"Academy name"},{"$f":"'Standing data'!$F$6","v":0},"Forecast","J120",{"$f":"#REF!","v":{"$error":"#REF!"}}]
[{"$f":"'Standing data'!$D$10","v":{"$error":"#N/A"}},{"$f":"'Standing data'!$F$10","v":0},{"$f":"'Standing data'!$D$6","v":"Academy name"},{"$f":"'Standing data'!$F$6","v":0},"Forecast","J121",{"$f":"#REF!","v":{"$error":"#REF!"}}]
[{"$f":"'Standing data'!$D$10","v":{"$error":"#N/A"}},{"$f":"'Standing data'!$F$10","v":0},{"$f":"'Standing data'!$D$6","v":"Academy name"},{"$f":"'Standing data'!$F$6","v":0},"Forecast","J122",{"$f":"#REF!","v":{"$error":"#REF!"}}]
[{"$f":"'Standing data'!$D$10","v":{"$error":"#N/A"}},{"$f":"'Standing data'!$F$10","v":0},{"$f":"'Standing data'!$D$6","v":"Academy name"},{"$f":"'Standing data'!$F$6","v":0},"Forecast","J124",{"$f":"#REF!","v":{"$error":"#REF!"}}]
[{"$f":"'Standing data'!$D$10","v":{"$error":"#N/A"}},{"$f":"'Standing data'!$F$10","v":0},{"$f":"'Standing data'!$D$6","v":"Academy name"},{"$f":"'Standing data'!$F$6","v":0},"Forecast","J127",{"$f":"#REF!","v":{"$error":"#REF!"}}]
[{"$f":"'Standing data'!$D$10","v":{"$error":"#N/A"}},{"$f":"'Standing data'!$F$10","v":0},{"$f":"'Standing data'!$D$6","v":"Academy name"},{"$f":"'Standing data'!$F$6","v":0},"Forecast","J128",{"$f":"#REF!","v":{"$error":"#REF!"}}]
[{"$f":"'Standing data'!$D$10","v":{"$error":"#N/A"}},{"$f":"'Standing data'!$F$10","v":0},{"$f":"'Standing data'!$D$6","v":"Academy name"},{"$f":"'Standing data'!$F$6","v":0},"Forecast","J129",{"$f":"#REF!","v":{"$error":"#REF!"}}]
[{"$f":"'Standing data'!$D$10","v":{"$error":"#N/A"}},{"$f":"'Standing data'!$F$10","v":0},{"$f":"'Standing data'!$D$6","v":"Academy name"},{"$f":"'Standing data'!$F$6","v":0},"Forecast","J154",{"$f":"#REF!","v":{"$error":"#REF!"}}]
[{"$f":"'Standing data'!$D$10","v":{"$error":"#N/A"}},{"$f":"'Standing data'!$F$10","v":0},{"$f":"'Standing data'!$D$6","v":"Academy name"},{"$f":"'Standing data'!$F$6","v":0},"Forecast","J155",{"$f":"#REF!","v":{"$error":"#REF!"}}]
[{"$f":"'Standing data'!$D$10","v":{"$error":"#N/A"}},{"$f":"'Standing data'!$F$10","v":0},{"$f":"'Standing data'!$D$6","v":"Academy name"},{"$f":"'Standing data'!$F$6","v":0},"Forecast","J156",{"$f":"#REF!","v":{"$error":"#REF!"}}]
[{"$f":"'Standing data'!$D$10","v":{"$error":"#N/A"}},{"$f":"'Standing data'!$F$10","v":0},{"$f":"'Standing data'!$D$6","v":"Academy name"},{"$f":"'Standing data'!$F$6","v":0},"Forecast","J157",{"$f":"#REF!","v":{"$error":"#REF!"}}]
[{"$f":"'Standing data'!$D$10","v":{"$error":"#N/A"}},{"$f":"'Standing data'!$F$10","v":0},{"$f":"'Standing data'!$D$6","v":"Academy name"},{"$f":"'Standing data'!$F$6","v":0},"Forecast","J158",{"$f":"#REF!","v":{"$error":"#REF!"}}]
[{"$f":"'Standing data'!$D$10","v":{"$error":"#N/A"}},{"$f":"'Standing data'!$F$10","v":0},{"$f":"'Standing data'!$D$6","v":"Academy name"},{"$f":"'Standing data'!$F$6","v":0},"Forecast","J159",{"$f":"#REF!","v":{"$error":"#REF!"}}]
[{"$f":"'Standing data'!$D$10","v":{"$error":"#N/A"}},{"$f":"'Standing data'!$F$10","v":0},{"$f":"'Standing data'!$D$6","v":"Academy name"},{"$f":"'Standing data'!$F$6","v":0},"Forecast","J160",{"$f":"#REF!","v":{"$error":"#REF!"}}]
[{"$f":"'Standing data'!$D$10","v":{"$error":"#N/A"}},{"$f":"'Standing data'!$F$10","v":0},{"$f":"'Standing data'!$D$6","v":"Academy name"},{"$f":"'Standing data'!$F$6","v":0},"Forecast","J161",{"$f":"#REF!","v":{"$error":"#REF!"}}]
[{"$f":"'Standing data'!$D$10","v":{"$error":"#N/A"}},{"$f":"'Standing data'!$F$10","v":0},{"$f":"'Standing data'!$D$6","v":"Academy name"},{"$f":"'Standing data'!$F$6","v":0},"Forecast","J162",{"$f":"#REF!","v":{"$error":"#REF!"}}]
[{"$f":"'Standing data'!$D$10","v":{"$error":"#N/A"}},{"$f":"'Standing data'!$F$10","v":0},{"$f":"'Standing data'!$D$6","v":"Academy name"},{"$f":"'Standing data'!$F$6","v":0},"Forecast","J163",{"$f":"#REF!","v":{"$error":"#REF!"}}]
[{"$f":"'Standing data'!$D$10","v":{"$error":"#N/A"}},{"$f":"'Standing data'!$F$10","v":0},{"$f":"'Standing data'!$D$6","v":"Academy name"},{"$f":"'Standing data'!$F$6","v":0},"Forecast","J164",{"$f":"#REF!","v":{"$error":"#REF!"}}]
[{"$f":"'Standing data'!$D$10","v":{"$error":"#N/A"}},{"$f":"'Standing data'!$F$10","v":0},{"$f":"'Standing data'!$D$6","v":"Academy name"},{"$f":"'Standing data'!$F$6","v":0},"Forecast","J165",{"$f":"#REF!","v":{"$error":"#REF!"}}]
[{"$f":"'Standing data'!$D$10","v":{"$error":"#N/A"}},{"$f":"'Standing data'!$F$10","v":0},{"$f":"'Standing data'!$D$6","v":"Academy name"},{"$f":"'Standing data'!$F$6","v":0},"Forecast","J166",{"$f":"#REF!","v":{"$error":"#REF!"}}]
[{"$f":"'Standing data'!$D$10","v":{"$error":"#N/A"}},{"$f":"'Standing data'!$F$10","v":0},{"$f":"'Standing data'!$D$6","v":"Academy name"},{"$f":"'Standing data'!$F$6","v":0},"Forecast","J167",{"$f":"#REF!","v":{"$error":"#REF!"}}]
[{"$f":"'Standing data'!$D$10","v":{"$error":"#N/A"}},{"$f":"'Standing data'!$F$10","v":0},{"$f":"'Standing data'!$D$6","v":"Academy name"},{"$f":"'Standing data'!$F$6","v":0},"Forecast","J168",{"$f":"#REF!","v":{"$error":"#REF!"}}]
[{"$f":"'Standing data'!$D$10","v":{"$error":"#N/A"}},{"$f":"'Standing data'!$F$10","v":0},{"$f":"'Standing data'!$D$6","v":"Academy name"},{"$f":"'Standing data'!$F$6","v":0},"Forecast","J169",{"$f":"#REF!","v":{"$error":"#REF!"}}]
[{"$f":"'Standing data'!$D$10","v":{"$error":"#N/A"}},{"$f":"'Standing data'!$F$10","v":0},{"$f":"'Standing data'!$D$6","v":"Academy name"},{"$f":"'Standing data'!$F$6","v":0},"Forecast","J170",{"$f":"#REF!","v":{"$error":"#REF!"}}]
[{"$f":"'Standing data'!$D$10","v":{"$error":"#N/A"}},{"$f":"'Standing data'!$F$10","v":0},{"$f":"'Standing data'!$D$6","v":"Academy name"},{"$f":"'Standing data'!$F$6","v":0},"Forecast","J171",{"$f":"#REF!","v":{"$error":"#REF!"}}]
[{"$f":"'Standing data'!$D$10","v":{"$error":"#N/A"}},{"$f":"'Standing data'!$F$10","v":0},{"$f":"'Standing data'!$D$6","v":"Academy name"},{"$f":"'Standing data'!$F$6","v":0},"Forecast","J172",{"$f":"#REF!","v":{"$error":"#REF!"}}]
[{"$f":"'Standing data'!$D$10","v":{"$error":"#N/A"}},{"$f":"'Standing data'!$F$10","v":0},{"$f":"'Standing data'!$D$6","v":"Academy name"},{"$f":"'Standing data'!$F$6","v":0},"Forecast","J173",{"$f":"#REF!","v":{"$error":"#REF!"}}]
[{"$f":"'Standing data'!$D$10","v":{"$error":"#N/A"}},{"$f":"'Standing data'!$F$10","v":0},{"$f":"'Standing data'!$D$6","v":"Academy name"},{"$f":"'Standing data'!$F$6","v":0},"Forecast","J174",{"$f":"#REF!","v":{"$error":"#REF!"}}]
[{"$f":"'Standing data'!$D$10","v":{"$error":"#N/A"}},{"$f":"'Standing data'!$F$10","v":0},{"$f":"'Standing data'!$D$6","v":"Academy name"},{"$f":"'Standing data'!$F$6","v":0},"Forecast","J175",{"$f":"#REF!","v":{"$error":"#REF!"}}]
[{"$f":"'Standing data'!$D$10","v":{"$error":"#N/A"}},{"$f":"'Standing data'!$F$10","v":0},{"$f":"'Standing data'!$D$6","v":"Academy name"},{"$f":"'Standing data'!$F$6","v":0},"Forecast","J176",{"$f":"#REF!","v":{"$error":"#REF!"}}]
[{"$f":"'Standing data'!$D$10","v":{"$error":"#N/A"}},{"$f":"'Standing data'!$F$10","v":0},{"$f":"'Standing data'!$D$6","v":"Academy name"},{"$f":"'Standing data'!$F$6","v":0},"Forecast","J177",{"$f":"#REF!","v":{"$error":"#REF!"}}]
[{"$f":"'Standing data'!$D$10","v":{"$error":"#N/A"}},{"$f":"'Standing data'!$F$10","v":0},{"$f":"'Standing data'!$D$6","v":"Academy name"},{"$f":"'Standing data'!$F$6","v":0},"Forecast","J178",{"$f":"#REF!","v":{"$error":"#REF!"}}]
[{"$f":"'Standing data'!$D$10","v":{"$error":"#N/A"}},{"$f":"'Standing data'!$F$10","v":0},{"$f":"'Standing data'!$D$6","v":"Academy name"},{"$f":"'Standing data'!$F$6","v":0},"Forecast","J179",{"$f":"#REF!","v":{"$error":"#REF!"}}]
[{"$f":"'Standing data'!$D$10","v":{"$error":"#N/A"}},{"$f":"'Standing data'!$F$10","v":0},{"$f":"'Standing data'!$D$6","v":"Academy name"},{"$f":"'Standing data'!$F$6","v":0},"Forecast","J180",{"$f":"#REF!","v":{"$error":"#REF!"}}]
[{"$f":"'Standing data'!$D$10","v":{"$error":"#N/A"}},{"$f":"'Standing data'!$F$10","v":0},{"$f":"'Standing data'!$D$6","v":"Academy name"},{"$f":"'Standing data'!$F$6","v":0},"Forecast","J181",{"$f":"#REF!","v":{"$error":"#REF!"}}]
[{"$f":"'Standing data'!$D$10","v":{"$error":"#N/A"}},{"$f":"'Standing data'!$F$10","v":0},{"$f":"'Standing data'!$D$6","v":"Academy name"},{"$f":"'Standing data'!$F$6","v":0},"Forecast","J182",{"$f":"#REF!","v":{"$error":"#REF!"}}]
[{"$f":"'Standing data'!$D$10","v":{"$error":"#N/A"}},{"$f":"'Standing data'!$F$10","v":0},{"$f":"'Standing data'!$D$6","v":"Academy name"},{"$f":"'Standing data'!$F$6","v":0},"Forecast","J183",{"$f":"#REF!","v":{"$error":"#REF!"}}]
[{"$f":"'Standing data'!$D$10","v":{"$error":"#N/A"}},{"$f":"'Standing data'!$F$10","v":0},{"$f":"'Standing data'!$D$6","v":"Academy name"},{"$f":"'Standing data'!$F$6","v":0},"Forecast","J184",{"$f":"#REF!","v":{"$error":"#REF!"}}]
[{"$f":"'Standing data'!$D$10","v":{"$error":"#N/A"}},{"$f":"'Standing data'!$F$10","v":0},{"$f":"'Standing data'!$D$6","v":"Academy name"},{"$f":"'Standing data'!$F$6","v":0},"Forecast","J185",{"$f":"#REF!","v":{"$error":"#REF!"}}]
[{"$f":"'Standing data'!$D$10","v":{"$error":"#N/A"}},{"$f":"'Standing data'!$F$10","v":0},{"$f":"'Standing data'!$D$6","v":"Academy name"},{"$f":"'Standing data'!$F$6","v":0},"Forecast","J186",{"$f":"#REF!","v":{"$error":"#REF!"}}]
[{"$f":"'Standing data'!$D$10","v":{"$error":"#N/A"}},{"$f":"'Standing data'!$F$10","v":0},{"$f":"'Standing data'!$D$6","v":"Academy name"},{"$f":"'Standing data'!$F$6","v":0},"Forecast","J187",{"$f":"#REF!","v":{"$error":"#REF!"}}]
[{"$f":"'Standing data'!$D$10","v":{"$error":"#N/A"}},{"$f":"'Standing data'!$F$10","v":0},{"$f":"'Standing data'!$D$6","v":"Academy name"},{"$f":"'Standing data'!$F$6","v":0},"Forecast","J188",{"$f":"#REF!","v":{"$error":"#REF!"}}]
[{"$f":"'Standing data'!$D$10","v":{"$error":"#N/A"}},{"$f":"'Standing data'!$F$10","v":0},{"$f":"'Standing data'!$D$6","v":"Academy name"},{"$f":"'Standing data'!$F$6","v":0},"Forecast","J189",{"$f":"#REF!","v":{"$error":"#REF!"}}]
[{"$f":"'Standing data'!$D$10","v":{"$error":"#N/A"}},{"$f":"'Standing data'!$F$10","v":0},{"$f":"'Standing data'!$D$6","v":"Academy name"},{"$f":"'Standing data'!$F$6","v":0},"Forecast","J190",{"$f":"#REF!","v":{"$error":"#REF!"}}]
[{"$f":"'Standing data'!$D$10","v":{"$error":"#N/A"}},{"$f":"'Standing data'!$F$10","v":0},{"$f":"'Standing data'!$D$6","v":"Academy name"},{"$f":"'Standing data'!$F$6","v":0},"Forecast","J191",{"$f":"#REF!","v":{"$error":"#REF!"}}]
[{"$f":"'Standing data'!$D$10","v":{"$error":"#N/A"}},{"$f":"'Standing data'!$F$10","v":0},{"$f":"'Standing data'!$D$6","v":"Academy name"},{"$f":"'Standing data'!$F$6","v":0},"Forecast","J192",{"$f":"#REF!","v":{"$error":"#REF!"}}]
[{"$f":"'Standing data'!$D$10","v":{"$error":"#N/A"}},{"$f":"'Standing data'!$F$10","v":0},{"$f":"'Standing data'!$D$6","v":"Academy name"},{"$f":"'Standing data'!$F$6","v":0},"Forecast","J193",{"$f":"#REF!","v":{"$error":"#REF!"}}]
[{"$f":"'Standing data'!$D$10","v":{"$error":"#N/A"}},{"$f":"'Standing data'!$F$10","v":0},{"$f":"'Standing data'!$D$6","v":"Academy name"},{"$f":"'Standing data'!$F$6","v":0},"Forecast","J194",{"$f":"#REF!","v":{"$error":"#REF!"}}]
[{"$f":"'Standing data'!$D$10","v":{"$error":"#N/A"}},{"$f":"'Standing data'!$F$10","v":0},{"$f":"'Standing data'!$D$6","v":"Academy name"},{"$f":"'Standing data'!$F$6","v":0},"Forecast","J195",{"$f":"#REF!","v":{"$error":"#REF!"}}]
[{"$f":"'Standing data'!$D$10","v":{"$error":"#N/A"}},{"$f":"'Standing data'!$F$10","v":0},{"$f":"'Standing data'!$D$6","v":"Academy name"},{"$f":"'Standing data'!$F$6","v":0},"Forecast","J196",{"$f":"#REF!","v":{"$error":"#REF!"}}]
[{"$f":"'Standing data'!$D$10","v":{"$error":"#N/A"}},{"$f":"'Standing data'!$F$10","v":0},{"$f":"'Standing data'!$D$6","v":"Academy name"},{"$f":"'Standing data'!$F$6","v":0},"Forecast","J197",{"$f":"#REF!","v":{"$error":"#REF!"}}]
[{"$f":"'Standing data'!$D$10","v":{"$error":"#N/A"}},{"$f":"'Standing data'!$F$10","v":0},{"$f":"'Standing data'!$D$6","v":"Academy name"},{"$f":"'Standing data'!$F$6","v":0},"Forecast","J198",{"$f":"#REF!","v":{"$error":"#REF!"}}]
[{"$f":"'Standing data'!$D$10","v":{"$error":"#N/A"}},{"$f":"'Standing data'!$F$10","v":0},{"$f":"'Standing data'!$D$6","v":"Academy name"},{"$f":"'Standing data'!$F$6","v":0},"Forecast","J199",{"$f":"#REF!","v":{"$error":"#REF!"}}]
[{"$f":"'Standing data'!$D$10","v":{"$error":"#N/A"}},{"$f":"'Standing data'!$F$10","v":0},{"$f":"'Standing data'!$D$6","v":"Academy name"},{"$f":"'Standing data'!$F$6","v":0},"Forecast","J200",{"$f":"#REF!","v":{"$error":"#REF!"}}]
[{"$f":"'Standing data'!$D$10","v":{"$error":"#N/A"}},{"$f":"'Standing data'!$F$10","v":0},{"$f":"'Standing data'!$D$6","v":"Academy name"},{"$f":"'Standing data'!$F$6","v":0},"Forecast","J201",{"$f":"#REF!","v":{"$error":"#REF!"}}]
[{"$f":"'Standing data'!$D$10","v":{"$error":"#N/A"}},{"$f":"'Standing data'!$F$10","v":0},{"$f":"'Standing data'!$D$6","v":"Academy name"},{"$f":"'Standing data'!$F$6","v":0},"Forecast","J202",{"$f":"#REF!","v":{"$error":"#REF!"}}]
[{"$f":"'Standing data'!$D$10","v":{"$error":"#N/A"}},{"$f":"'Standing data'!$F$10","v":0},{"$f":"'Standing data'!$D$6","v":"Academy name"},{"$f":"'Standing data'!$F$6","v":0},"Forecast","J203",{"$f":"#REF!","v":{"$error":"#REF!"}}]
[{"$f":"'Standing data'!$D$10","v":{"$error":"#N/A"}},{"$f":"'Standing data'!$F$10","v":0},{"$f":"'Standing data'!$D$6","v":"Academy name"},{"$f":"'Standing data'!$F$6","v":0},"Forecast","J204",{"$f":"#REF!","v":{"$error":"#REF!"}}]
[{"$f":"'Standing data'!$D$10","v":{"$error":"#N/A"}},{"$f":"'Standing data'!$F$10","v":0},{"$f":"'Standing data'!$D$6","v":"Academy name"},{"$f":"'Standing data'!$F$6","v":0},"Forecast","J205",{"$f":"#REF!","v":{"$error":"#REF!"}}]
[{"$f":"'Standing data'!$D$10","v":{"$error":"#N/A"}},{"$f":"'Standing data'!$F$10","v":0},{"$f":"'Standing data'!$D$6","v":"Academy name"},{"$f":"'Standing data'!$F$6","v":0},"Forecast","J206",{"$f":"#REF!","v":{"$error":"#REF!"}}]
[{"$f":"'Standing data'!$D$10","v":{"$error":"#N/A"}},{"$f":"'Standing data'!$F$10","v":0},{"$f":"'Standing data'!$D$6","v":"Academy name"},{"$f":"'Standing data'!$F$6","v":0},"Forecast","J207",{"$f":"#REF!","v":{"$error":"#REF!"}}]
[{"$f":"'Standing data'!$D$10","v":{"$error":"#N/A"}},{"$f":"'Standing data'!$F$10","v":0},{"$f":"'Standing data'!$D$6","v":"Academy name"},{"$f":"'Standing data'!$F$6","v":0},"Forecast","J208",{"$f":"#REF!","v":{"$error":"#REF!"}}]
[{"$f":"'Standing data'!$D$10","v":{"$error":"#N/A"}},{"$f":"'Standing data'!$F$10","v":0},{"$f":"'Standing data'!$D$6","v":"Academy name"},{"$f":"'Standing data'!$F$6","v":0},"Forecast","J209",{"$f":"#REF!","v":{"$error":"#REF!"}}]
[{"$f":"'Standing data'!$D$10","v":{"$error":"#N/A"}},{"$f":"'Standing data'!$F$10","v":0},{"$f":"'Standing data'!$D$6","v":"Academy name"},{"$f":"'Standing data'!$F$6","v":0},"Forecast","J210",{"$f":"#REF!","v":{"$error":"#REF!"}}]
[{"$f":"'Standing data'!$D$10","v":{"$error":"#N/A"}},{"$f":"'Standing data'!$F$10","v":0},{"$f":"'Standing data'!$D$6","v":"Academy name"},{"$f":"'Standing data'!$F$6","v":0},"Forecast","J211",{"$f":"#REF!","v":{"$error":"#REF!"}}]
[{"$f":"'Standing data'!$D$10","v":{"$error":"#N/A"}},{"$f":"'Standing data'!$F$10","v":0},{"$f":"'Standing data'!$D$6","v":"Academy name"},{"$f":"'Standing data'!$F$6","v":0},"Forecast","J212",{"$f":"#REF!","v":{"$error":"#REF!"}}]
[{"$f":"'Standing data'!$D$10","v":{"$error":"#N/A"}},{"$f":"'Standing data'!$F$10","v":0},{"$f":"'Standing data'!$D$6","v":"Academy name"},{"$f":"'Standing data'!$F$6","v":0},"Forecast","J213",{"$f":"#REF!","v":{"$error":"#REF!"}}]
[{"$f":"'Standing data'!$D$10","v":{"$error":"#N/A"}},{"$f":"'Standing data'!$F$10","v":0},{"$f":"'Standing data'!$D$6","v":"Academy name"},{"$f":"'Standing data'!$F$6","v":0},"Forecast","J214",{"$f":"#REF!","v":{"$error":"#REF!"}}]
[{"$f":"'Standing data'!$D$10","v":{"$error":"#N/A"}},{"$f":"'Standing data'!$F$10","v":0},{"$f":"'Standing data'!$D$6","v":"Academy name"},{"$f":"'Standing data'!$F$6","v":0},"Forecast","J215",{"$f":"#REF!","v":{"$error":"#REF!"}}]
[{"$f":"'Standing data'!$D$10","v":{"$error":"#N/A"}},{"$f":"'Standing data'!$F$10","v":0},{"$f":"'Standing data'!$D$6","v":"Academy name"},{"$f":"'Standing data'!$F$6","v":0},"Forecast","J216",{"$f":"#REF!","v":{"$error":"#REF!"}}]
[{"$f":"'Standing data'!$D$10","v":{"$error":"#N/A"}},{"$f":"'Standing data'!$F$10","v":0},{"$f":"'Standing data'!$D$6","v":"Academy name"},{"$f":"'Standing data'!$F$6","v":0},"Forecast","J217",{"$f":"#REF!","v":{"$error":"#REF!"}}]
[{"$f":"'Standing data'!$D$10","v":{"$error":"#N/A"}},{"$f":"'Standing data'!$F$10","v":0},{"$f":"'Standing data'!$D$6","v":"Academy name"},{"$f":"'Standing data'!$F$6","v":0},"Forecast","J218",{"$f":"#REF!","v":{"$error":"#REF!"}}]
[{"$f":"'Standing data'!$D$10","v":{"$error":"#N/A"}},{"$f":"'Standing data'!$F$10","v":0},{"$f":"'Standing data'!$D$6","v":"Academy name"},{"$f":"'Standing data'!$F$6","v":0},"Forecast","J219",{"$f":"#REF!","v":{"$error":"#REF!"}}]
[{"$f":"'Standing data'!$D$10","v":{"$error":"#N/A"}},{"$f":"'Standing data'!$F$10","v":0},{"$f":"'Standing data'!$D$6","v":"Academy name"},{"$f":"'Standing data'!$F$6","v":0},"Forecast","J220",{"$f":"#REF!","v":{"$error":"#REF!"}}]
[{"$f":"'Standing data'!$D$10","v":{"$error":"#N/A"}},{"$f":"'Standing data'!$F$10","v":0},{"$f":"'Standing data'!$D$6","v":"Academy name"},{"$f":"'Standing data'!$F$6","v":0},"Forecast","J221",{"$f":"#REF!","v":{"$error":"#REF!"}}]
[{"$f":"'Standing data'!$D$10","v":{"$error":"#N/A"}},{"$f":"'Standing data'!$F$10","v":0},{"$f":"'Standing data'!$D$6","v":"Academy name"},{"$f":"'Standing data'!$F$6","v":0},"Forecast","J222",{"$f":"#REF!","v":{"$error":"#REF!"}}]
[{"$f":"'Standing data'!$D$10","v":{"$error":"#N/A"}},{"$f":"'Standing data'!$F$10","v":0},{"$f":"'Standing data'!$D$6","v":"Academy name"},{"$f":"'Standing data'!$F$6","v":0},"Forecast","J223",{"$f":"#REF!","v":{"$error":"#REF!"}}]
[{"$f":"'Standing data'!$D$10","v":{"$error":"#N/A"}},{"$f":"'Standing data'!$F$10","v":0},{"$f":"'Standing data'!$D$6","v":"Academy name"},{"$f":"'Standing data'!$F$6","v":0},"Forecast","J224",{"$f":"#REF!","v":{"$error":"#REF!"}}]
[{"$f":"'Standing data'!$D$10","v":{"$error":"#N/A"}},{"$f":"'Standing data'!$F$10","v":0},{"$f":"'Standing data'!$D$6","v":"Academy name"},{"$f":"'Standing data'!$F$6","v":0},"Forecast","J225",{"$f":"#REF!","v":{"$error":"#REF!"}}]
[{"$f":"'Standing data'!$D$10","v":{"$error":"#N/A"}},{"$f":"'Standing data'!$F$10","v":0},{"$f":"'Standing data'!$D$6","v":"Academy name"},{"$f":"'Standing data'!$F$6","v":0},"Forecast","J226",{"$f":"#REF!","v":{"$error":"#REF!"}}]
[{"$f":"'Standing data'!$D$10","v":{"$error":"#N/A"}},{"$f":"'Standing data'!$F$10","v":0},{"$f":"'Standing data'!$D$6","v":"Academy name"},{"$f":"'Standing data'!$F$6","v":0},"Forecast","J227",{"$f":"#REF!","v":{"$error":"#REF!"}}]
[{"$f":"'Standing data'!$D$10","v":{"$error":"#N/A"}},{"$f":"'Standing data'!$F$10","v":0},{"$f":"'Standing data'!$D$6","v":"Academy name"},{"$f":"'Standing data'!$F$6","v":0},"Forecast","J228",{"$f":"#REF!","v":{"$error":"#REF!"}}]
[{"$f":"'Standing data'!$D$10","v":{"$error":"#N/A"}},{"$f":"'Standing data'!$F$10","v":0},{"$f":"'Standing data'!$D$6","v":"Academy name"},{"$f":"'Standing data'!$F$6","v":0},"Forecast","J229",{"$f":"#REF!","v":{"$error":"#REF!"}}]
[{"$f":"'Standing data'!$D$10","v":{"$error":"#N/A"}},{"$f":"'Standing data'!$F$10","v":0},{"$f":"'Standing data'!$D$6","v":"Academy name"},{"$f":"'Standing data'!$F$6","v":0},"Forecast","J230",{"$f":"#REF!","v":{"$error":"#REF!"}}]
[{"$f":"'Standing data'!$D$10","v":{"$error":"#N/A"}},{"$f":"'Standing data'!$F$10","v":0},{"$f":"'Standing data'!$D$6","v":"Academy name"},{"$f":"'Standing data'!$F$6","v":0},"Forecast","J231",{"$f":"#REF!","v":{"$error":"#REF!"}}]
[{"$f":"'Standing data'!$D$10","v":{"$error":"#N/A"}},{"$f":"'Standing data'!$F$10","v":0},{"$f":"'Standing data'!$D$6","v":"Academy name"},{"$f":"'Standing data'!$F$6","v":0},"Forecast","J232",{"$f":"#REF!","v":{"$error":"#REF!"}}]
[{"$f":"'Standing data'!$D$10","v":{"$error":"#N/A"}},{"$f":"'Standing data'!$F$10","v":0},{"$f":"'Standing data'!$D$6","v":"Academy name"},{"$f":"'Standing data'!$F$6","v":0},"Forecast","J233",{"$f":"#REF!","v":{"$error":"#REF!"}}]
[{"$f":"'Standing data'!$D$10","v":{"$error":"#N/A"}},{"$f":"'Standing data'!$F$10","v":0},{"$f":"'Standing data'!$D$6","v":"Academy name"},{"$f":"'Standing data'!$F$6","v":0},"Forecast","J234",{"$f":"#REF!","v":{"$error":"#REF!"}}]
[{"$f":"'Standing data'!$D$10","v":{"$error":"#N/A"}},{"$f":"'Standing data'!$F$10","v":0},{"$f":"'Standing data'!$D$6","v":"Academy name"},{"$f":"'Standing data'!$F$6","v":0},"Forecast","J235",{"$f":"#REF!","v":{"$error":"#REF!"}}]
[{"$f":"'Standing data'!$D$10","v":{"$error":"#N/A"}},{"$f":"'Standing data'!$F$10","v":0},{"$f":"'Standing data'!$D$6","v":"Academy name"},{"$f":"'Standing data'!$F$6","v":0},"Forecast","J236",{"$f":"#REF!","v":{"$error":"#REF!"}}]
[{"$f":"'Standing data'!$D$10","v":{"$error":"#N/A"}},{"$f":"'Standing data'!$F$10","v":0},{"$f":"'Standing data'!$D$6","v":"Academy name"},{"$f":"'Standing data'!$F$6","v":0},"Forecast","J237",{"$f":"#REF!","v":{"$error":"#REF!"}}]
[{"$f":"'Standing data'!$D$10","v":{"$error":"#N/A"}},{"$f":"'Standing data'!$F$10","v":0},{"$f":"'Standing data'!$D$6","v":"Academy name"},{"$f":"'Standing data'!$F$6","v":0},"Forecast","J238",{"$f":"#REF!","v":{"$error":"#REF!"}}]
[{"$f":"'Standing data'!$D$10","v":{"$error":"#N/A"}},{"$f":"'Standing data'!$F$10","v":0},{"$f":"'Standing data'!$D$6","v":"Academy name"},{"$f":"'Standing data'!$F$6","v":0},"Forecast","J239",{"$f":"#REF!","v":{"$error":"#REF!"}}]
[{"$f":"'Standing data'!$D$10","v":{"$error":"#N/A"}},{"$f":"'Standing data'!$F$10","v":0},{"$f":"'Standing data'!$D$6","v":"Academy name"},{"$f":"'Standing data'!$F$6","v":0},"Forecast","J240",{"$f":"#REF!","v":{"$error":"#REF!"}}]
[{"$f":"'Standing data'!$D$10","v":{"$error":"#N/A"}},{"$f":"'Standing data'!$F$10","v":0},{"$f":"'Standing data'!$D$6","v":"Academy name"},{"$f":"'Standing data'!$F$6","v":0},"Forecast","J241",{"$f":"#REF!","v":{"$error":"#REF!"}}]
[{"$f":"'Standing data'!$D$10","v":{"$error":"#N/A"}},{"$f":"'Standing data'!$F$10","v":0},{"$f":"'Standing data'!$D$6","v":"Academy name"},{"$f":"'Standing data'!$F$6","v":0},"Forecast","J242",{"$f":"#REF!","v":{"$error":"#REF!"}}]
[{"$f":"'Standing data'!$D$10","v":{"$error":"#N/A"}},{"$f":"'Standing data'!$F$10","v":0},{"$f":"'Standing data'!$D$6","v":"Academy name"},{"$f":"'Standing data'!$F$6","v":0},"Forecast","J243",{"$f":"#REF!","v":{"$error":"#REF!"}}]
[{"$f":"'Standing data'!$D$10","v":{"$error":"#N/A"}},{"$f":"'Standing data'!$F$10","v":0},{"$f":"'Standing data'!$D$6","v":"Academy name"},{"$f":"'Standing data'!$F$6","v":0},"Forecast","J244",{"$f":"#REF!","v":{"$error":"#REF!"}}]
[{"$f":"'Standing data'!$D$10","v":{"$error":"#N/A"}},{"$f":"'Standing data'!$F$10","v":0},{"$f":"'Standing data'!$D$6","v":"Academy name"},{"$f":"'Standing data'!$F$6","v":0},"Forecast","J245",{"$f":"#REF!","v":{"$error":"#REF!"}}]
[{"$f":"'Standing data'!$D$10","v":{"$error":"#N/A"}},{"$f":"'Standing data'!$F$10","v":0},{"$f":"'Standing data'!$D$6","v":"Academy name"},{"$f":"'Standing data'!$F$6","v":0},"Forecast","J246",{"$f":"#REF!","v":{"$error":"#REF!"}}]
[{"$f":"'Standing data'!$D$10","v":{"$error":"#N/A"}},{"$f":"'Standing data'!$F$10","v":0},{"$f":"'Standing data'!$D$6","v":"Academy name"},{"$f":"'Standing data'!$F$6","v":0},"Forecast","J247",{"$f":"#REF!","v":{"$error":"#REF!"}}]
[{"$f":"'Standing data'!$D$10","v":{"$error":"#N/A"}},{"$f":"'Standing data'!$F$10","v":0},{"$f":"'Standing data'!$D$6","v":"Academy name"},{"$f":"'Standing data'!$F$6","v":0},"Forecast","J248",{"$f":"#REF!","v":{"$error":"#REF!"}}]
[{"$f":"'Standing data'!$D$10","v":{"$error":"#N/A"}},{"$f":"'Standing data'!$F$10","v":0},{"$f":"'Standing data'!$D$6","v":"Academy name"},{"$f":"'Standing data'!$F$6","v":0},"Forecast","J249",{"$f":"#REF!","v":{"$error":"#REF!"}}]
[{"$f":"'Standing data'!$D$10","v":{"$error":"#N/A"}},{"$f":"'Standing data'!$F$10","v":0},{"$f":"'Standing data'!$D$6","v":"Academy name"},{"$f":"'Standing data'!$F$6","v":0},"Forecast","J250",{"$f":"#REF!","v":{"$error":"#REF!"}}]
[{"$f":"'Standing data'!$D$10","v":{"$error":"#N/A"}},{"$f":"'Standing data'!$F$10","v":0},{"$f":"'Standing data'!$D$6","v":"Academy name"},{"$f":"'Standing data'!$F$6","v":0},"Forecast","J251",{"$f":"#REF!","v":{"$error":"#REF!"}}]
[{"$f":"'Standing data'!$D$10","v":{"$error":"#N/A"}},{"$f":"'Standing data'!$F$10","v":0},{"$f":"'Standing data'!$D$6","v":"Academy name"},{"$f":"'Standing data'!$F$6","v":0},"Forecast","J252",{"$f":"#REF!","v":{"$error":"#REF!"}}]
[{"$f":"'Standing data'!$D$10","v":{"$error":"#N/A"}},{"$f":"'Standing data'!$F$10","v":0},{"$f":"'Standing data'!$D$6","v":"Academy name"},{"$f":"'Standing data'!$F$6","v":0},"Forecast","J253",{"$f":"#REF!","v":{"$error":"#REF!"}}]
[{"$f":"'Standing data'!$D$10","v":{"$error":"#N/A"}},{"$f":"'Standing data'!$F$10","v":0},{"$f":"'Standing data'!$D$6","v":"Academy name"},{"$f":"'Standing data'!$F$6","v":0},"Forecast","J256",{"$f":"#REF!","v":{"$error":"#REF!"}}]
[{"$f":"'Standing data'!$D$10","v":{"$error":"#N/A"}},{"$f":"'Standing data'!$F$10","v":0},{"$f":"'Standing data'!$D$6","v":"Academy name"},{"$f":"'Standing data'!$F$6","v":0},"Forecast","J257",{"$f":"#REF!","v":{"$error":"#REF!"}}]
[{"$f":"'Standing data'!$D$10","v":{"$error":"#N/A"}},{"$f":"'Standing data'!$F$10","v":0},{"$f":"'Standing data'!$D$6","v":"Academy name"},{"$f":"'Standing data'!$F$6","v":0},"Forecast","J258",{"$f":"#REF!","v":{"$error":"#REF!"}}]
[{"$f":"'Standing data'!$D$10","v":{"$error":"#N/A"}},{"$f":"'Standing data'!$F$10","v":0},{"$f":"'Standing data'!$D$6","v":"Academy name"},{"$f":"'Standing data'!$F$6","v":0},"Forecast","J259",{"$f":"#REF!","v":{"$error":"#REF!"}}]
[{"$f":"'Standing data'!$D$10","v":{"$error":"#N/A"}},{"$f":"'Standing data'!$F$10","v":0},{"$f":"'Standing data'!$D$6","v":"Academy name"},{"$f":"'Standing data'!$F$6","v":0},"Forecast","J260",{"$f":"#REF!","v":{"$error":"#REF!"}}]
[{"$f":"'Standing data'!$D$10","v":{"$error":"#N/A"}},{"$f":"'Standing data'!$F$10","v":0},{"$f":"'Standing data'!$D$6","v":"Academy name"},{"$f":"'Standing data'!$F$6","v":0},"Forecast","J261",{"$f":"#REF!","v":{"$error":"#REF!"}}]
[{"$f":"'Standing data'!$D$10","v":{"$error":"#N/A"}},{"$f":"'Standing data'!$F$10","v":0},{"$f":"'Standing data'!$D$6","v":"Academy name"},{"$f":"'Standing data'!$F$6","v":0},"Forecast","J262",{"$f":"#REF!","v":{"$error":"#REF!"}}]
[{"$f":"'Standing data'!$D$10","v":{"$error":"#N/A"}},{"$f":"'Standing data'!$F$10","v":0},{"$f":"'Standing data'!$D$6","v":"Academy name"},{"$f":"'Standing data'!$F$6","v":0},"Forecast","J263",{"$f":"#REF!","v":{"$error":"#REF!"}}]
[{"$f":"'Standing data'!$D$10","v":{"$error":"#N/A"}},{"$f":"'Standing data'!$F$10","v":0},{"$f":"'Standing data'!$D$6","v":"Academy name"},{"$f":"'Standing data'!$F$6","v":0},"Forecast","J264",{"$f":"#REF!","v":{"$error":"#REF!"}}]
[{"$f":"'Standing data'!$D$10","v":{"$error":"#N/A"}},{"$f":"'Standing data'!$F$10","v":0},{"$f":"'Standing data'!$D$6","v":"Academy name"},{"$f":"'Standing data'!$F$6","v":0},"Forecast","J265",{"$f":"#REF!","v":{"$error":"#REF!"}}]
[{"$f":"'Standing data'!$D$10","v":{"$error":"#N/A"}},{"$f":"'Standing data'!$F$10","v":0},{"$f":"'Standing data'!$D$6","v":"Academy name"},{"$f":"'Standing data'!$F$6","v":0},"Forecast","J266",{"$f":"#REF!","v":{"$error":"#REF!"}}]
[{"$f":"'Standing data'!$D$10","v":{"$error":"#N/A"}},{"$f":"'Standing data'!$F$10","v":0},{"$f":"'Standing data'!$D$6","v":"Academy name"},{"$f":"'Standing data'!$F$6","v":0},"Forecast","J267",{"$f":"#REF!","v":{"$error":"#REF!"}}]
[{"$f":"'Standing data'!$D$10","v":{"$error":"#N/A"}},{"$f":"'Standing data'!$F$10","v":0},{"$f":"'Standing data'!$D$6","v":"Academy name"},{"$f":"'Standing data'!$F$6","v":0},"Forecast","J268",{"$f":"#REF!","v":{"$error":"#REF!"}}]
[{"$f":"'Standing data'!$D$10","v":{"$error":"#N/A"}},{"$f":"'Standing data'!$F$10","v":0},{"$f":"'Standing data'!$D$6","v":"Academy name"},{"$f":"'Standing data'!$F$6","v":0},"Forecast","J269",{"$f":"#REF!","v":{"$error":"#REF!"}}]
[{"$f":"'Standing data'!$D$10","v":{"$error":"#N/A"}},{"$f":"'Standing data'!$F$10","v":0},{"$f":"'Standing data'!$D$6","v":"Academy name"},{"$f":"'Standing data'!$F$6","v":0},"Forecast","J270",{"$f":"#REF!","v":{"$error":"#REF!"}}]
[{"$f":"'Standing data'!$D$10","v":{"$error":"#N/A"}},{"$f":"'Standing data'!$F$10","v":0},{"$f":"'Standing data'!$D$6","v":"Academy name"},{"$f":"'Standing data'!$F$6","v":0},"Forecast","J271",{"$f":"#REF!","v":{"$error":"#REF!"}}]
[{"$f":"'Standing data'!$D$10","v":{"$error":"#N/A"}},{"$f":"'Standing data'!$F$10","v":0},{"$f":"'Standing data'!$D$6","v":"Academy name"},{"$f":"'Standing data'!$F$6","v":0},"Forecast","J272",{"$f":"#REF!","v":{"$error":"#REF!"}}]
[{"$f":"'Standing data'!$D$10","v":{"$error":"#N/A"}},{"$f":"'Standing data'!$F$10","v":0},{"$f":"'Standing data'!$D$6","v":"Academy name"},{"$f":"'Standing data'!$F$6","v":0},"Forecast","J273",{"$f":"#REF!","v":{"$error":"#REF!"}}]
[{"$f":"'Standing data'!$D$10","v":{"$error":"#N/A"}},{"$f":"'Standing data'!$F$10","v":0},{"$f":"'Standing data'!$D$6","v":"Academy name"},{"$f":"'Standing data'!$F$6","v":0},"Forecast","J274",{"$f":"#REF!","v":{"$error":"#REF!"}}]
[{"$f":"'Standing data'!$D$10","v":{"$error":"#N/A"}},{"$f":"'Standing data'!$F$10","v":0},{"$f":"'Standing data'!$D$6","v":"Academy name"},{"$f":"'Standing data'!$F$6","v":0},"Forecast","J275",{"$f":"#REF!","v":{"$error":"#REF!"}}]
[{"$f":"'Standing data'!$D$10","v":{"$error":"#N/A"}},{"$f":"'Standing data'!$F$10","v":0},{"$f":"'Standing data'!$D$6","v":"Academy name"},{"$f":"'Standing data'!$F$6","v":0},"Forecast","J276",{"$f":"#REF!","v":{"$error":"#REF!"}}]
[{"$f":"'Standing data'!$D$10","v":{"$error":"#N/A"}},{"$f":"'Standing data'!$F$10","v":0},{"$f":"'Standing data'!$D$6","v":"Academy name"},{"$f":"'Standing data'!$F$6","v":0},"Forecast","J277",{"$f":"#REF!","v":{"$error":"#REF!"}}]
[{"$f":"'Standing data'!$D$10","v":{"$error":"#N/A"}},{"$f":"'Standing data'!$F$10","v":0},{"$f":"'Standing data'!$D$6","v":"Academy name"},{"$f":"'Standing data'!$F$6","v":0},"Forecast","J278",{"$f":"#REF!","v":{"$error":"#REF!"}}]
[{"$f":"'Standing data'!$D$10","v":{"$error":"#N/A"}},{"$f":"'Standing data'!$F$10","v":0},{"$f":"'Standing data'!$D$6","v":"Academy name"},{"$f":"'Standing data'!$F$6","v":0},"Forecast","J279",{"$f":"#REF!","v":{"$error":"#REF!"}}]
[{"$f":"'Standing data'!$D$10","v":{"$error":"#N/A"}},{"$f":"'Standing data'!$F$10","v":0},{"$f":"'Standing data'!$D$6","v":"Academy name"},{"$f":"'Standing data'!$F$6","v":0},"Forecast","J280",{"$f":"#REF!","v":{"$error":"#REF!"}}]
[{"$f":"'Standing data'!$D$10","v":{"$error":"#N/A"}},{"$f":"'Standing data'!$F$10","v":0},{"$f":"'Standing data'!$D$6","v":"Academy name"},{"$f":"'Standing data'!$F$6","v":0},"Forecast","J281",{"$f":"#REF!","v":{"$error":"#REF!"}}]
[{"$f":"'Standing data'!$D$10","v":{"$error":"#N/A"}},{"$f":"'Standing data'!$F$10","v":0},{"$f":"'Standing data'!$D$6","v":"Academy name"},{"$f":"'Standing data'!$F$6","v":0},"Forecast","J282",{"$f":"#REF!","v":{"$error":"#REF!"}}]
[{"$f":"'Standing data'!$D$10","v":{"$error":"#N/A"}},{"$f":"'Standing data'!$F$10","v":0},{"$f":"'Standing data'!$D$6","v":"Academy name"},{"$f":"'Standing data'!$F$6","v":0},"Forecast","J283",{"$f":"#REF!","v":{"$error":"#REF!"}}]
[{"$f":"'Standing data'!$D$10","v":{"$error":"#N/A"}},{"$f":"'Standing data'!$F$10","v":0},{"$f":"'Standing data'!$D$6","v":"Academy name"},{"$f":"'Standing data'!$F$6","v":0},"Forecast","J284",{"$f":"#REF!","v":{"$error":"#REF!"}}]
[{"$f":"'Standing data'!$D$10","v":{"$error":"#N/A"}},{"$f":"'Standing data'!$F$10","v":0},{"$f":"'Standing data'!$D$6","v":"Academy name"},{"$f":"'Standing data'!$F$6","v":0},"Forecast","J285",{"$f":"#REF!","v":{"$error":"#REF!"}}]
[{"$f":"'Standing data'!$D$10","v":{"$error":"#N/A"}},{"$f":"'Standing data'!$F$10","v":0},{"$f":"'Standing data'!$D$6","v":"Academy name"},{"$f":"'Standing data'!$F$6","v":0},"Forecast","J286",{"$f":"#REF!","v":{"$error":"#REF!"}}]
[{"$f":"'Standing data'!$D$10","v":{"$error":"#N/A"}},{"$f":"'Standing data'!$F$10","v":0},{"$f":"'Standing data'!$D$6","v":"Academy name"},{"$f":"'Standing data'!$F$6","v":0},"Forecast","J287",{"$f":"#REF!","v":{"$error":"#REF!"}}]
[{"$f":"'Standing data'!$D$10","v":{"$error":"#N/A"}},{"$f":"'Standing data'!$F$10","v":0},{"$f":"'Standing data'!$D$6","v":"Academy name"},{"$f":"'Standing data'!$F$6","v":0},"Forecast","D68",{"$f":"#REF!","v":{"$error":"#REF!"}}]
[{"$f":"'Standing data'!$D$10","v":{"$error":"#N/A"}},{"$f":"'Standing data'!$F$10","v":0},{"$f":"'Standing data'!$D$6","v":"Academy name"},{"$f":"'Standing data'!$F$6","v":0},"Forecast","E68",{"$f":"#REF!","v":{"$error":"#REF!"}}]
[{"$f":"'Standing data'!$D$10","v":{"$error":"#N/A"}},{"$f":"'Standing data'!$F$10","v":0},{"$f":"'Standing data'!$D$6","v":"Academy name"},{"$f":"'Standing data'!$F$6","v":0},"Forecast","F68",{"$f":"#REF!","v":{"$error":"#REF!"}}]
[{"$f":"'Standing data'!$D$10","v":{"$error":"#N/A"}},{"$f":"'Standing data'!$F$10","v":0},{"$f":"'Standing data'!$D$6","v":"Academy name"},{"$f":"'Standing data'!$F$6","v":0},"Forecast","H68",{"$f":"#REF!","v":{"$error":"#REF!"}}]
[{"$f":"'Standing data'!$D$10","v":{"$error":"#N/A"}},{"$f":"'Standing data'!$F$10","v":0},{"$f":"'Standing data'!$D$6","v":"Academy name"},{"$f":"'Standing data'!$F$6","v":0},"Forecast","I68",{"$f":"#REF!","v":{"$error":"#REF!"}}]
[{"$f":"'Standing data'!$D$10","v":{"$error":"#N/A"}},{"$f":"'Standing data'!$F$10","v":0},{"$f":"'Standing data'!$D$6","v":"Academy name"},{"$f":"'Standing data'!$F$6","v":0},"Forecast","J68",{"$f":"#REF!","v":{"$error":"#REF!"}}]
[{"$f":"'Standing data'!$D$10","v":{"$error":"#N/A"}},{"$f":"'Standing data'!$F$10","v":0},{"$f":"'Standing data'!$D$6","v":"Academy name"},{"$f":"'Standing data'!$F$6","v":0},"Forecast","D141",{"$f":"#REF!","v":{"$error":"#REF!"}}]
[{"$f":"'Standing data'!$D$10","v":{"$error":"#N/A"}},{"$f":"'Standing data'!$F$10","v":0},{"$f":"'Standing data'!$D$6","v":"Academy name"},{"$f":"'Standing data'!$F$6","v":0},"Forecast","E141",{"$f":"#REF!","v":{"$error":"#REF!"}}]
[{"$f":"'Standing data'!$D$10","v":{"$error":"#N/A"}},{"$f":"'Standing data'!$F$10","v":0},{"$f":"'Standing data'!$D$6","v":"Academy name"},{"$f":"'Standing data'!$F$6","v":0},"Forecast","F141",{"$f":"#REF!","v":{"$error":"#REF!"}}]
[{"$f":"'Standing data'!$D$10","v":{"$error":"#N/A"}},{"$f":"'Standing data'!$F$10","v":0},{"$f":"'Standing data'!$D$6","v":"Academy name"},{"$f":"'Standing data'!$F$6","v":0},"Forecast","H141",{"$f":"#REF!","v":{"$error":"#REF!"}}]
[{"$f":"'Standing data'!$D$10","v":{"$error":"#N/A"}},{"$f":"'Standing data'!$F$10","v":0},{"$f":"'Standing data'!$D$6","v":"Academy name"},{"$f":"'Standing data'!$F$6","v":0},"Forecast","I141",{"$f":"#REF!","v":{"$error":"#REF!"}}]
[{"$f":"'Standing data'!$D$10","v":{"$error":"#N/A"}},{"$f":"'Standing data'!$F$10","v":0},{"$f":"'Standing data'!$D$6","v":"Academy name"},{"$f":"'Standing data'!$F$6","v":0},"Forecast","J141",{"$f":"#REF!","v":{"$error":"#REF!"}}]
[{"$f":"'Standing data'!$D$10","v":{"$error":"#N/A"}},{"$f":"'Standing data'!$F$10","v":0},{"$f":"'Standing data'!$D$6","v":"Academy name"},{"$f":"'Standing data'!$F$6","v":0},"Forecast","D142",{"$f":"#REF!","v":{"$error":"#REF!"}}]
[{"$f":"'Standing data'!$D$10","v":{"$error":"#N/A"}},{"$f":"'Standing data'!$F$10","v":0},{"$f":"'Standing data'!$D$6","v":"Academy name"},{"$f":"'Standing data'!$F$6","v":0},"Forecast","E142",{"$f":"#REF!","v":{"$error":"#REF!"}}]
[{"$f":"'Standing data'!$D$10","v":{"$error":"#N/A"}},{"$f":"'Standing data'!$F$10","v":0},{"$f":"'Standing data'!$D$6","v":"Academy name"},{"$f":"'Standing data'!$F$6","v":0},"Forecast","F142",{"$f":"#REF!","v":{"$error":"#REF!"}}]
[{"$f":"'Standing data'!$D$10","v":{"$error":"#N/A"}},{"$f":"'Standing data'!$F$10","v":0},{"$f":"'Standing data'!$D$6","v":"Academy name"},{"$f":"'Standing data'!$F$6","v":0},"Forecast","H142",{"$f":"#REF!","v":{"$error":"#REF!"}}]
[{"$f":"'Standing data'!$D$10","v":{"$error":"#N/A"}},{"$f":"'Standing data'!$F$10","v":0},{"$f":"'Standing data'!$D$6","v":"Academy name"},{"$f":"'Standing data'!$F$6","v":0},"Forecast","I142",{"$f":"#REF!","v":{"$error":"#REF!"}}]
[{"$f":"'Standing data'!$D$10","v":{"$error":"#N/A"}},{"$f":"'Standing data'!$F$10","v":0},{"$f":"'Standing data'!$D$6","v":"Academy name"},{"$f":"'Standing data'!$F$6","v":0},"Forecast","J142",{"$f":"#REF!","v":{"$error":"#REF!"}}]

{"sheet":"Char Data","index":5,"n_rows":852,"n_cols":7,"rows_kept":852,"cut":false,"hidden":true,"merged":[]}
["Academy ID 1","Academy ID 2","Academy Name 1","Academy Name 2","Sheet Name","Cell ID","Value"]
[{"$f":"'Standing data'!$D$10","v":{"$error":"#N/A"}},{"$f":"'Standing data'!$F$10","v":0},{"$f":"'Standing data'!$D$6","v":"Academy name"},{"$f":"'Standing data'!$F$6","v":0},"Standing","D3",{"$f":"'Standing data'!D3","v":"Type name here"}]
[{"$f":"'Standing data'!$D$10","v":{"$error":"#N/A"}},{"$f":"'Standing data'!$F$10","v":0},{"$f":"'Standing data'!$D$6","v":"Academy name"},{"$f":"'Standing data'!$F$6","v":0},"Standing","F3",{"$f":"'Standing data'!F3","v":0}]
[{"$f":"'Standing data'!$D$10","v":{"$error":"#N/A"}},{"$f":"'Standing data'!$F$10","v":0},{"$f":"'Standing data'!$D$6","v":"Academy name"},{"$f":"'Standing data'!$F$6","v":0},"Standing","D13",{"$f":"'Standing data'!D13","v":{"$error":"#N/A"}}]
[{"$f":"'Standing data'!$D$10","v":{"$error":"#N/A"}},{"$f":"'Standing data'!$F$10","v":0},{"$f":"'Standing data'!$D$6","v":"Academy name"},{"$f":"'Standing data'!$F$6","v":0},"Standing","F13",{"$f":"'Standing data'!F13","v":"00:00:00"}]
[{"$f":"'Standing data'!$D$10","v":{"$error":"#N/A"}},{"$f":"'Standing data'!$F$10","v":0},{"$f":"'Standing data'!$D$6","v":"Academy name"},{"$f":"'Standing data'!$F$6","v":0},"Standing","D16",{"$f":"'Standing data'!D16","v":"00:00:00"}]
[{"$f":"'Standing data'!$D$10","v":{"$error":"#N/A"}},{"$f":"'Standing data'!$F$10","v":0},{"$f":"'Standing data'!$D$6","v":"Academy name"},{"$f":"'Standing data'!$F$6","v":0},"Standing","D20",{"$f":"'Standing data'!D20","v":{"$error":"#N/A"}}]
[{"$f":"'Standing data'!$D$10","v":{"$error":"#N/A"}},{"$f":"'Standing data'!$F$10","v":0},{"$f":"'Standing data'!$D$6","v":"Academy name"},{"$f":"'Standing data'!$F$6","v":0},"Standing","F20",{"$f":"'Standing data'!F20","v":0}]
[{"$f":"'Standing data'!$D$10","v":{"$error":"#N/A"}},{"$f":"'Standing data'!$F$10","v":0},{"$f":"'Standing data'!$D$6","v":"Academy name"},{"$f":"'Standing data'!$F$6","v":0},"Standing","D23",{"$f":"'Standing data'!D23","v":{"$error":"#N/A"}}]
[{"$f":"'Standing data'!$D$10","v":{"$error":"#N/A"}},{"$f":"'Standing data'!$F$10","v":0},{"$f":"'Standing data'!$D$6","v":"Academy name"},{"$f":"'Standing data'!$F$6","v":0},"Standing","F23",{"$f":"'Standing data'!F23","v":"00:00:00"}]
[{"$f":"'Standing data'!$D$10","v":{"$error":"#N/A"}},{"$f":"'Standing data'!$F$10","v":0},{"$f":"'Standing data'!$D$6","v":"Academy name"},{"$f":"'Standing data'!$F$6","v":0},"Standing","D26",{"$f":"'Standing data'!D26","v":0}]
[{"$f":"'Standing data'!$D$10","v":{"$error":"#N/A"}},{"$f":"'Standing data'!$F$10","v":0},{"$f":"'Standing data'!$D$6","v":"Academy name"},{"$f":"'Standing data'!$F$6","v":0},"Standing","F26",{"$f":"'Standing data'!F26","v":0}]
[{"$f":"'Standing data'!$D$10","v":{"$error":"#N/A"}},{"$f":"'Standing data'!$F$10","v":0},{"$f":"'Standing data'!$D$6","v":"Academy name"},{"$f":"'Standing data'!$F$6","v":0},"Standing","D29",{"$f":"'Standing data'!D29","v":"No"}]
[{"$f":"'Standing data'!$D$10","v":{"$error":"#N/A"}},{"$f":"'Standing data'!$F$10","v":0},{"$f":"'Standing data'!$D$6","v":"Academy name"},{"$f":"'Standing data'!$F$6","v":0},"Standing","D33",{"$f":"'Standing data'!D33","v":"Academy name"}]
[{"$f":"'Standing data'!$D$10","v":{"$error":"#N/A"}},{"$f":"'Standing data'!$F$10","v":0},{"$f":"'Standing data'!$D$6","v":"Academy name"},{"$f":"'Standing data'!$F$6","v":0},"Standing","D34",{"$f":"'Standing data'!D34","v":"Academy name"}]
[{"$f":"'Standing data'!$D$10","v":{"$error":"#N/A"}},{"$f":"'Standing data'!$F$10","v":0},{"$f":"'Standing data'!$D$6","v":"Academy name"},{"$f":"'Standing data'!$F$6","v":0},"Standing","D35",{"$f":"'Standing data'!D35","v":"Academy name"}]
[{"$f":"'Standing data'!$D$10","v":{"$error":"#N/A"}},{"$f":"'Standing data'!$F$10","v":0},{"$f":"'Standing data'!$D$6","v":"Academy name"},{"$f":"'Standing data'!$F$6","v":0},"Standing","D36",{"$f":"'Standing data'!D36","v":"Academy name"}]
[{"$f":"'Standing data'!$D$10","v":{"$error":"#N/A"}},{"$f":"'Standing data'!$F$10","v":0},{"$f":"'Standing data'!$D$6","v":"Academy name"},{"$f":"'Standing data'!$F$6","v":0},"Standing","D37",{"$f":"'Standing data'!D37","v":"Academy name"}]
[{"$f":"'Standing data'!$D$10","v":{"$error":"#N/A"}},{"$f":"'Standing data'!$F$10","v":0},{"$f":"'Standing data'!$D$6","v":"Academy name"},{"$f":"'Standing data'!$F$6","v":0},"Standing","D38",{"$f":"'Standing data'!D38","v":"Academy name"}]
[{"$f":"'Standing data'!$D$10","v":{"$error":"#N/A"}},{"$f":"'Standing data'!$F$10","v":0},{"$f":"'Standing data'!$D$6","v":"Academy name"},{"$f":"'Standing data'!$F$6","v":0},"Standing","D39",{"$f":"'Standing data'!D39","v":"Academy name"}]
[{"$f":"'Standing data'!$D$10","v":{"$error":"#N/A"}},{"$f":"'Standing data'!$F$10","v":0},{"$f":"'Standing data'!$D$6","v":"Academy name"},{"$f":"'Standing data'!$F$6","v":0},"Standing","D40",{"$f":"'Standing data'!D40","v":"Academy name"}]
[{"$f":"'Standing data'!$D$10","v":{"$error":"#N/A"}},{"$f":"'Standing data'!$F$10","v":0},{"$f":"'Standing data'!$D$6","v":"Academy name"},{"$f":"'Standing data'!$F$6","v":0},"Standing","D41",{"$f":"'Standing data'!D41","v":"Academy name"}]
[{"$f":"'Standing data'!$D$10","v":{"$error":"#N/A"}},{"$f":"'Standing data'!$F$10","v":0},{"$f":"'Standing data'!$D$6","v":"Academy name"},{"$f":"'Standing data'!$F$6","v":0},"Standing","D42",{"$f":"'Standing data'!D42","v":"Academy name"}]
[{"$f":"'Standing data'!$D$10","v":{"$error":"#N/A"}},{"$f":"'Standing data'!$F$10","v":0},{"$f":"'Standing data'!$D$6","v":"Academy name"},{"$f":"'Standing data'!$F$6","v":0},"Standing","D43",{"$f":"'Standing data'!D43","v":"Academy name"}]
[{"$f":"'Standing data'!$D$10","v":{"$error":"#N/A"}},{"$f":"'Standing data'!$F$10","v":0},{"$f":"'Standing data'!$D$6","v":"Academy name"},{"$f":"'Standing data'!$F$6","v":0},"Standing","D44",{"$f":"'Standing data'!D44","v":"Academy name"}]
[{"$f":"'Standing data'!$D$10","v":{"$error":"#N/A"}},{"$f":"'Standing data'!$F$10","v":0},{"$f":"'Standing data'!$D$6","v":"Academy name"},{"$f":"'Standing data'!$F$6","v":0},"Standing","D45",{"$f":"'Standing data'!D45","v":"Academy name"}]
[{"$f":"'Standing data'!$D$10","v":{"$error":"#N/A"}},{"$f":"'Standing data'!$F$10","v":0},{"$f":"'Standing data'!$D$6","v":"Academy name"},{"$f":"'Standing data'!$F$6","v":0},"Standing","D46",{"$f":"'Standing data'!D46","v":"Academy name"}]
[{"$f":"'Standing data'!$D$10","v":{"$error":"#N/A"}},{"$f":"'Standing data'!$F$10","v":0},{"$f":"'Standing data'!$D$6","v":"Academy name"},{"$f":"'Standing data'!$F$6","v":0},"Standing","D47",{"$f":"'Standing data'!D47","v":"Academy name"}]
[{"$f":"'Standing data'!$D$10","v":{"$error":"#N/A"}},{"$f":"'Standing data'!$F$10","v":0},{"$f":"'Standing data'!$D$6","v":"Academy name"},{"$f":"'Standing data'!$F$6","v":0},"Standing","D48",{"$f":"'Standing data'!D48","v":"Academy name"}]
[{"$f":"'Standing data'!$D$10","v":{"$error":"#N/A"}},{"$f":"'Standing data'!$F$10","v":0},{"$f":"'Standing data'!$D$6","v":"Academy name"},{"$f":"'Standing data'!$F$6","v":0},"Standing","D49",{"$f":"'Standing data'!D49","v":"Academy name"}]
[{"$f":"'Standing data'!$D$10","v":{"$error":"#N/A"}},{"$f":"'Standing data'!$F$10","v":0},{"$f":"'Standing data'!$D$6","v":"Academy name"},{"$f":"'Standing data'!$F$6","v":0},"Standing","D50",{"$f":"'Standing data'!D50","v":"Academy name"}]
[{"$f":"'Standing data'!$D$10","v":{"$error":"#N/A"}},{"$f":"'Standing data'!$F$10","v":0},{"$f":"'Standing data'!$D$6","v":"Academy name"},{"$f":"'Standing data'!$F$6","v":0},"Standing","D51",{"$f":"'Standing data'!D51","v":"Academy name"}]
[{"$f":"'Standing data'!$D$10","v":{"$error":"#N/A"}},{"$f":"'Standing data'!$F$10","v":0},{"$f":"'Standing data'!$D$6","v":"Academy name"},{"$f":"'Standing data'!$F$6","v":0},"Standing","D52",{"$f":"'Standing data'!D52","v":"Academy name"}]
[{"$f":"'Standing data'!$D$10","v":{"$error":"#N/A"}},{"$f":"'Standing data'!$F$10","v":0},{"$f":"'Standing data'!$D$6","v":"Academy name"},{"$f":"'Standing data'!$F$6","v":0},"Standing","D53",{"$f":"'Standing data'!D53","v":"Academy name"}]
[{"$f":"'Standing data'!$D$10","v":{"$error":"#N/A"}},{"$f":"'Standing data'!$F$10","v":0},{"$f":"'Standing data'!$D$6","v":"Academy name"},{"$f":"'Standing data'!$F$6","v":0},"Standing","D54",{"$f":"'Standing data'!D54","v":"Academy name"}]
[{"$f":"'Standing data'!$D$10","v":{"$error":"#N/A"}},{"$f":"'Standing data'!$F$10","v":0},{"$f":"'Standing data'!$D$6","v":"Academy name"},{"$f":"'Standing data'!$F$6","v":0},"Standing","D55",{"$f":"'Standing data'!D55","v":"Academy name"}]
[{"$f":"'Standing data'!$D$10","v":{"$error":"#N/A"}},{"$f":"'Standing data'!$F$10","v":0},{"$f":"'Standing data'!$D$6","v":"Academy name"},{"$f":"'Standing data'!$F$6","v":0},"Standing","D56",{"$f":"'Standing data'!D56","v":"Academy name"}]
[{"$f":"'Standing data'!$D$10","v":{"$error":"#N/A"}},{"$f":"'Standing data'!$F$10","v":0},{"$f":"'Standing data'!$D$6","v":"Academy name"},{"$f":"'Standing data'!$F$6","v":0},"Standing","D57",{"$f":"'Standing data'!D57","v":"Academy name"}]
[{"$f":"'Standing data'!$D$10","v":{"$error":"#N/A"}},{"$f":"'Standing data'!$F$10","v":0},{"$f":"'Standing data'!$D$6","v":"Academy name"},{"$f":"'Standing data'!$F$6","v":0},"Standing","D58",{"$f":"'Standing data'!D58","v":"Academy name"}]
[{"$f":"'Standing data'!$D$10","v":{"$error":"#N/A"}},{"$f":"'Standing data'!$F$10","v":0},{"$f":"'Standing data'!$D$6","v":"Academy name"},{"$f":"'Standing data'!$F$6","v":0},"Standing","D59",{"$f":"'Standing data'!D59","v":"Academy name"}]
[{"$f":"'Standing data'!$D$10","v":{"$error":"#N/A"}},{"$f":"'Standing data'!$F$10","v":0},{"$f":"'Standing data'!$D$6","v":"Academy name"},{"$f":"'Standing data'!$F$6","v":0},"Standing","D60",{"$f":"'Standing data'!D60","v":"Academy name"}]
[{"$f":"'Standing data'!$D$10","v":{"$error":"#N/A"}},{"$f":"'Standing data'!$F$10","v":0},{"$f":"'Standing data'!$D$6","v":"Academy name"},{"$f":"'Standing data'!$F$6","v":0},"Standing","D61",{"$f":"'Standing data'!D61","v":"Academy name"}]
[{"$f":"'Standing data'!$D$10","v":{"$error":"#N/A"}},{"$f":"'Standing data'!$F$10","v":0},{"$f":"'Standing data'!$D$6","v":"Academy name"},{"$f":"'Standing data'!$F$6","v":0},"Standing","D62",{"$f":"'Standing data'!D62","v":"Academy name"}]
[{"$f":"'Standing data'!$D$10","v":{"$error":"#N/A"}},{"$f":"'Standing data'!$F$10","v":0},{"$f":"'Standing data'!$D$6","v":"Academy name"},{"$f":"'Standing data'!$F$6","v":0},"Standing","D63",{"$f":"'Standing data'!D63","v":"Academy name"}]
[{"$f":"'Standing data'!$D$10","v":{"$error":"#N/A"}},{"$f":"'Standing data'!$F$10","v":0},{"$f":"'Standing data'!$D$6","v":"Academy name"},{"$f":"'Standing data'!$F$6","v":0},"Standing","D64",{"$f":"'Standing data'!D64","v":"Academy name"}]
[{"$f":"'Standing data'!$D$10","v":{"$error":"#N/A"}},{"$f":"'Standing data'!$F$10","v":0},{"$f":"'Standing data'!$D$6","v":"Academy name"},{"$f":"'Standing data'!$F$6","v":0},"Standing","D65",{"$f":"'Standing data'!D65","v":"Academy name"}]
[{"$f":"'Standing data'!$D$10","v":{"$error":"#N/A"}},{"$f":"'Standing data'!$F$10","v":0},{"$f":"'Standing data'!$D$6","v":"Academy name"},{"$f":"'Standing data'!$F$6","v":0},"Standing","D66",{"$f":"'Standing data'!D66","v":"Academy name"}]
[{"$f":"'Standing data'!$D$10","v":{"$error":"#N/A"}},{"$f":"'Standing data'!$F$10","v":0},{"$f":"'Standing data'!$D$6","v":"Academy name"},{"$f":"'Standing data'!$F$6","v":0},"Standing","D67",{"$f":"'Standing data'!D67","v":"Academy name"}]
[{"$f":"'Standing data'!$D$10","v":{"$error":"#N/A"}},{"$f":"'Standing data'!$F$10","v":0},{"$f":"'Standing data'!$D$6","v":"Academy name"},{"$f":"'Standing data'!$F$6","v":0},"Standing","D68",{"$f":"'Standing data'!D68","v":"Academy name"}]
[{"$f":"'Standing data'!$D$10","v":{"$error":"#N/A"}},{"$f":"'Standing data'!$F$10","v":0},{"$f":"'Standing data'!$D$6","v":"Academy name"},{"$f":"'Standing data'!$F$6","v":0},"Standing","D69",{"$f":"'Standing data'!D69","v":"Academy name"}]
[{"$f":"'Standing data'!$D$10","v":{"$error":"#N/A"}},{"$f":"'Standing data'!$F$10","v":0},{"$f":"'Standing data'!$D$6","v":"Academy name"},{"$f":"'Standing data'!$F$6","v":0},"Standing","D70",{"$f":"'Standing data'!D70","v":"Academy name"}]
[{"$f":"'Standing data'!$D$10","v":{"$error":"#N/A"}},{"$f":"'Standing data'!$F$10","v":0},{"$f":"'Standing data'!$D$6","v":"Academy name"},{"$f":"'Standing data'!$F$6","v":0},"Standing","D71",{"$f":"'Standing data'!D71","v":"Academy name"}]
[{"$f":"'Standing data'!$D$10","v":{"$error":"#N/A"}},{"$f":"'Standing data'!$F$10","v":0},{"$f":"'Standing data'!$D$6","v":"Academy name"},{"$f":"'Standing data'!$F$6","v":0},"Standing","D72",{"$f":"'Standing data'!D72","v":"Academy name"}]
[{"$f":"'Standing data'!$D$10","v":{"$error":"#N/A"}},{"$f":"'Standing data'!$F$10","v":0},{"$f":"'Standing data'!$D$6","v":"Academy name"},{"$f":"'Standing data'!$F$6","v":0},"Standing","D73",{"$f":"'Standing data'!D73","v":"Academy name"}]
[{"$f":"'Standing data'!$D$10","v":{"$error":"#N/A"}},{"$f":"'Standing data'!$F$10","v":0},{"$f":"'Standing data'!$D$6","v":"Academy name"},{"$f":"'Standing data'!$F$6","v":0},"Standing","D74",{"$f":"'Standing data'!D74","v":"Academy name"}]
[{"$f":"'Standing data'!$D$10","v":{"$error":"#N/A"}},{"$f":"'Standing data'!$F$10","v":0},{"$f":"'Standing data'!$D$6","v":"Academy name"},{"$f":"'Standing data'!$F$6","v":0},"Standing","D75",{"$f":"'Standing data'!D75","v":"Academy name"}]
[{"$f":"'Standing data'!$D$10","v":{"$error":"#N/A"}},{"$f":"'Standing data'!$F$10","v":0},{"$f":"'Standing data'!$D$6","v":"Academy name"},{"$f":"'Standing data'!$F$6","v":0},"Standing","D76",{"$f":"'Standing data'!D76","v":"Academy name"}]
[{"$f":"'Standing data'!$D$10","v":{"$error":"#N/A"}},{"$f":"'Standing data'!$F$10","v":0},{"$f":"'Standing data'!$D$6","v":"Academy name"},{"$f":"'Standing data'!$F$6","v":0},"Standing","D77",{"$f":"'Standing data'!D77","v":"Academy name"}]
[{"$f":"'Standing data'!$D$10","v":{"$error":"#N/A"}},{"$f":"'Standing data'!$F$10","v":0},{"$f":"'Standing data'!$D$6","v":"Academy name"},{"$f":"'Standing data'!$F$6","v":0},"Standing","D78",{"$f":"'Standing data'!D78","v":"Academy name"}]
[{"$f":"'Standing data'!$D$10","v":{"$error":"#N/A"}},{"$f":"'Standing data'!$F$10","v":0},{"$f":"'Standing data'!$D$6","v":"Academy name"},{"$f":"'Standing data'!$F$6","v":0},"Standing","D79",{"$f":"'Standing data'!D79","v":"Academy name"}]
[{"$f":"'Standing data'!$D$10","v":{"$error":"#N/A"}},{"$f":"'Standing data'!$F$10","v":0},{"$f":"'Standing data'!$D$6","v":"Academy name"},{"$f":"'Standing data'!$F$6","v":0},"Standing","D80",{"$f":"'Standing data'!D80","v":"Academy name"}]
[{"$f":"'Standing data'!$D$10","v":{"$error":"#N/A"}},{"$f":"'Standing data'!$F$10","v":0},{"$f":"'Standing data'!$D$6","v":"Academy name"},{"$f":"'Standing data'!$F$6","v":0},"Standing","D81",{"$f":"'Standing data'!D81","v":"Academy name"}]
[{"$f":"'Standing data'!$D$10","v":{"$error":"#N/A"}},{"$f":"'Standing data'!$F$10","v":0},{"$f":"'Standing data'!$D$6","v":"Academy name"},{"$f":"'Standing data'!$F$6","v":0},"Standing","D82",{"$f":"'Standing data'!D82","v":"Academy name"}]
[{"$f":"'Standing data'!$D$10","v":{"$error":"#N/A"}},{"$f":"'Standing data'!$F$10","v":0},{"$f":"'Standing data'!$D$6","v":"Academy name"},{"$f":"'Standing data'!$F$6","v":0},"Standing","D83",{"$f":"'Standing data'!D83","v":"Academy name"}]
[{"$f":"'Standing data'!$D$10","v":{"$error":"#N/A"}},{"$f":"'Standing data'!$F$10","v":0},{"$f":"'Standing data'!$D$6","v":"Academy name"},{"$f":"'Standing data'!$F$6","v":0},"Standing","D84",{"$f":"'Standing data'!D84","v":"Academy name"}]
[{"$f":"'Standing data'!$D$10","v":{"$error":"#N/A"}},{"$f":"'Standing data'!$F$10","v":0},{"$f":"'Standing data'!$D$6","v":"Academy name"},{"$f":"'Standing data'!$F$6","v":0},"Standing","D85",{"$f":"'Standing data'!D85","v":"Academy name"}]
[{"$f":"'Standing data'!$D$10","v":{"$error":"#N/A"}},{"$f":"'Standing data'!$F$10","v":0},{"$f":"'Standing data'!$D$6","v":"Academy name"},{"$f":"'Standing data'!$F$6","v":0},"Standing","D86",{"$f":"'Standing data'!D86","v":"Academy name"}]
[{"$f":"'Standing data'!$D$10","v":{"$error":"#N/A"}},{"$f":"'Standing data'!$F$10","v":0},{"$f":"'Standing data'!$D$6","v":"Academy name"},{"$f":"'Standing data'!$F$6","v":0},"Standing","D87",{"$f":"'Standing data'!D87","v":"Academy name"}]
[{"$f":"'Standing data'!$D$10","v":{"$error":"#N/A"}},{"$f":"'Standing data'!$F$10","v":0},{"$f":"'Standing data'!$D$6","v":"Academy name"},{"$f":"'Standing data'!$F$6","v":0},"Standing","D88",{"$f":"'Standing data'!D88","v":"Academy name"}]
[{"$f":"'Standing data'!$D$10","v":{"$error":"#N/A"}},{"$f":"'Standing data'!$F$10","v":0},{"$f":"'Standing data'!$D$6","v":"Academy name"},{"$f":"'Standing data'!$F$6","v":0},"Standing","D89",{"$f":"'Standing data'!D89","v":"Academy name"}]
[{"$f":"'Standing data'!$D$10","v":{"$error":"#N/A"}},{"$f":"'Standing data'!$F$10","v":0},{"$f":"'Standing data'!$D$6","v":"Academy name"},{"$f":"'Standing data'!$F$6","v":0},"Standing","D90",{"$f":"'Standing data'!D90","v":"Academy name"}]
[{"$f":"'Standing data'!$D$10","v":{"$error":"#N/A"}},{"$f":"'Standing data'!$F$10","v":0},{"$f":"'Standing data'!$D$6","v":"Academy name"},{"$f":"'Standing data'!$F$6","v":0},"Standing","D91",{"$f":"'Standing data'!D91","v":"Academy name"}]
[{"$f":"'Standing data'!$D$10","v":{"$error":"#N/A"}},{"$f":"'Standing data'!$F$10","v":0},{"$f":"'Standing data'!$D$6","v":"Academy name"},{"$f":"'Standing data'!$F$6","v":0},"Standing","D92",{"$f":"'Standing data'!D92","v":"Academy name"}]
[{"$f":"'Standing data'!$D$10","v":{"$error":"#N/A"}},{"$f":"'Standing data'!$F$10","v":0},{"$f":"'Standing data'!$D$6","v":"Academy name"},{"$f":"'Standing data'!$F$6","v":0},"Standing","D93",{"$f":"'Standing data'!D93","v":"Academy name"}]
[{"$f":"'Standing data'!$D$10","v":{"$error":"#N/A"}},{"$f":"'Standing data'!$F$10","v":0},{"$f":"'Standing data'!$D$6","v":"Academy name"},{"$f":"'Standing data'!$F$6","v":0},"Standing","D94",{"$f":"'Standing data'!D94","v":"Academy name"}]
[{"$f":"'Standing data'!$D$10","v":{"$error":"#N/A"}},{"$f":"'Standing data'!$F$10","v":0},{"$f":"'Standing data'!$D$6","v":"Academy name"},{"$f":"'Standing data'!$F$6","v":0},"Standing","D95",{"$f":"'Standing data'!D95","v":"Academy name"}]
[{"$f":"'Standing data'!$D$10","v":{"$error":"#N/A"}},{"$f":"'Standing data'!$F$10","v":0},{"$f":"'Standing data'!$D$6","v":"Academy name"},{"$f":"'Standing data'!$F$6","v":0},"Standing","D96",{"$f":"'Standing data'!D96","v":"Academy name"}]
[{"$f":"'Standing data'!$D$10","v":{"$error":"#N/A"}},{"$f":"'Standing data'!$F$10","v":0},{"$f":"'Standing data'!$D$6","v":"Academy name"},{"$f":"'Standing data'!$F$6","v":0},"Standing","D97",{"$f":"'Standing data'!D97","v":"Academy name"}]
[{"$f":"'Standing data'!$D$10","v":{"$error":"#N/A"}},{"$f":"'Standing data'!$F$10","v":0},{"$f":"'Standing data'!$D$6","v":"Academy name"},{"$f":"'Standing data'!$F$6","v":0},"Standing","D98",{"$f":"'Standing data'!D98","v":"Academy name"}]
[{"$f":"'Standing data'!$D$10","v":{"$error":"#N/A"}},{"$f":"'Standing data'!$F$10","v":0},{"$f":"'Standing data'!$D$6","v":"Academy name"},{"$f":"'Standing data'!$F$6","v":0},"Standing","D99",{"$f":"'Standing data'!D99","v":"Academy name"}]
[{"$f":"'Standing data'!$D$10","v":{"$error":"#N/A"}},{"$f":"'Standing data'!$F$10","v":0},{"$f":"'Standing data'!$D$6","v":"Academy name"},{"$f":"'Standing data'!$F$6","v":0},"Standing","D100",{"$f":"'Standing data'!D100","v":"Academy name"}]
[{"$f":"'Standing data'!$D$10","v":{"$error":"#N/A"}},{"$f":"'Standing data'!$F$10","v":0},{"$f":"'Standing data'!$D$6","v":"Academy name"},{"$f":"'Standing data'!$F$6","v":0},"Standing","D101",{"$f":"'Standing data'!D101","v":"Academy name"}]
[{"$f":"'Standing data'!$D$10","v":{"$error":"#N/A"}},{"$f":"'Standing data'!$F$10","v":0},{"$f":"'Standing data'!$D$6","v":"Academy name"},{"$f":"'Standing data'!$F$6","v":0},"Standing","D102",{"$f":"'Standing data'!D102","v":"Academy name"}]
[{"$f":"'Standing data'!$D$10","v":{"$error":"#N/A"}},{"$f":"'Standing data'!$F$10","v":0},{"$f":"'Standing data'!$D$6","v":"Academy name"},{"$f":"'Standing data'!$F$6","v":0},"Standing","D103",{"$f":"'Standing data'!D103","v":0}]
[{"$f":"'Standing data'!$D$10","v":{"$error":"#N/A"}},{"$f":"'Standing data'!$F$10","v":0},{"$f":"'Standing data'!$D$6","v":"Academy name"},{"$f":"'Standing data'!$F$6","v":0},"Standing","D104",{"$f":"'Standing data'!D104","v":0}]
[{"$f":"'Standing data'!$D$10","v":{"$error":"#N/A"}},{"$f":"'Standing data'!$F$10","v":0},{"$f":"'Standing data'!$D$6","v":"Academy name"},{"$f":"'Standing data'!$F$6","v":0},"Standing","D105",{"$f":"'Standing data'!D105","v":"Academy name"}]
[{"$f":"'Standing data'!$D$10","v":{"$error":"#N/A"}},{"$f":"'Standing data'!$F$10","v":0},{"$f":"'Standing data'!$D$6","v":"Academy name"},{"$f":"'Standing data'!$F$6","v":0},"Standing","D106",{"$f":"'Standing data'!D106","v":"Academy name"}]
[{"$f":"'Standing data'!$D$10","v":{"$error":"#N/A"}},{"$f":"'Standing data'!$F$10","v":0},{"$f":"'Standing data'!$D$6","v":"Academy name"},{"$f":"'Standing data'!$F$6","v":0},"Standing","D107",{"$f":"'Standing data'!D107","v":0}]
[{"$f":"'Standing data'!$D$10","v":{"$error":"#N/A"}},{"$f":"'Standing data'!$F$10","v":0},{"$f":"'Standing data'!$D$6","v":"Academy name"},{"$f":"'Standing data'!$F$6","v":0},"Standing","D108",{"$f":"'Standing data'!D108","v":"Academy name"}]
[{"$f":"'Standing data'!$D$10","v":{"$error":"#N/A"}},{"$f":"'Standing data'!$F$10","v":0},{"$f":"'Standing data'!$D$6","v":"Academy name"},{"$f":"'Standing data'!$F$6","v":0},"Standing","D109",{"$f":"'Standing data'!D109","v":0}]
[{"$f":"'Standing data'!$D$10","v":{"$error":"#N/A"}},{"$f":"'Standing data'!$F$10","v":0},{"$f":"'Standing data'!$D$6","v":"Academy name"},{"$f":"'Standing data'!$F$6","v":0},"Standing","D110",{"$f":"'Standing data'!D110","v":0}]
[{"$f":"'Standing data'!$D$10","v":{"$error":"#N/A"}},{"$f":"'Standing data'!$F$10","v":0},{"$f":"'Standing data'!$D$6","v":"Academy name"},{"$f":"'Standing data'!$F$6","v":0},"Standing","D111",{"$f":"'Standing data'!D111","v":"Academy name"}]
[{"$f":"'Standing data'!$D$10","v":{"$error":"#N/A"}},{"$f":"'Standing data'!$F$10","v":0},{"$f":"'Standing data'!$D$6","v":"Academy name"},{"$f":"'Standing data'!$F$6","v":0},"Standing","D112",{"$f":"'Standing data'!D112","v":"Academy name"}]
[{"$f":"'Standing data'!$D$10","v":{"$error":"#N/A"}},{"$f":"'Standing data'!$F$10","v":0},{"$f":"'Standing data'!$D$6","v":"Academy name"},{"$f":"'Standing data'!$F$6","v":0},"Standing","D113",{"$f":"'Standing data'!D113","v":"Academy name"}]
[{"$f":"'Standing data'!$D$10","v":{"$error":"#N/A"}},{"$f":"'Standing data'!$F$10","v":0},{"$f":"'Standing data'!$D$6","v":"Academy name"},{"$f":"'Standing data'!$F$6","v":0},"Standing","D114",{"$f":"'Standing data'!D114","v":"Academy name"}]
[{"$f":"'Standing data'!$D$10","v":{"$error":"#N/A"}},{"$f":"'Standing data'!$F$10","v":0},{"$f":"'Standing data'!$D$6","v":"Academy name"},{"$f":"'Standing data'!$F$6","v":0},"Standing","D115",{"$f":"'Standing data'!D115","v":"Academy name"}]
[{"$f":"'Standing data'!$D$10","v":{"$error":"#N/A"}},{"$f":"'Standing data'!$F$10","v":0},{"$f":"'Standing data'!$D$6","v":"Academy name"},{"$f":"'Standing data'!$F$6","v":0},"Standing","D116",{"$f":"'Standing data'!D116","v":"Academy name"}]
[{"$f":"'Standing data'!$D$10","v":{"$error":"#N/A"}},{"$f":"'Standing data'!$F$10","v":0},{"$f":"'Standing data'!$D$6","v":"Academy name"},{"$f":"'Standing data'!$F$6","v":0},"Standing","D117",{"$f":"'Standing data'!D117","v":"Academy name"}]
[{"$f":"'Standing data'!$D$10","v":{"$error":"#N/A"}},{"$f":"'Standing data'!$F$10","v":0},{"$f":"'Standing data'!$D$6","v":"Academy name"},{"$f":"'Standing data'!$F$6","v":0},"Standing","D118",{"$f":"'Standing data'!D118","v":"Academy name"}]
[{"$f":"'Standing data'!$D$10","v":{"$error":"#N/A"}},{"$f":"'Standing data'!$F$10","v":0},{"$f":"'Standing data'!$D$6","v":"Academy name"},{"$f":"'Standing data'!$F$6","v":0},"Standing","D119",{"$f":"'Standing data'!D119","v":"Academy name"}]
[{"$f":"'Standing data'!$D$10","v":{"$error":"#N/A"}},{"$f":"'Standing data'!$F$10","v":0},{"$f":"'Standing data'!$D$6","v":"Academy name"},{"$f":"'Standing data'!$F$6","v":0},"Standing","D120",{"$f":"'Standing data'!D120","v":"Academy name"}]
[{"$f":"'Standing data'!$D$10","v":{"$error":"#N/A"}},{"$f":"'Standing data'!$F$10","v":0},{"$f":"'Standing data'!$D$6","v":"Academy name"},{"$f":"'Standing data'!$F$6","v":0},"Standing","D121",{"$f":"'Standing data'!D121","v":"Academy name"}]
[{"$f":"'Standing data'!$D$10","v":{"$error":"#N/A"}},{"$f":"'Standing data'!$F$10","v":0},{"$f":"'Standing data'!$D$6","v":"Academy name"},{"$f":"'Standing data'!$F$6","v":0},"Standing","D122",{"$f":"'Standing data'!D122","v":"Academy name"}]
[{"$f":"'Standing data'!$D$10","v":{"$error":"#N/A"}},{"$f":"'Standing data'!$F$10","v":0},{"$f":"'Standing data'!$D$6","v":"Academy name"},{"$f":"'Standing data'!$F$6","v":0},"Standing","D123",{"$f":"'Standing data'!D123","v":"Academy name"}]
[{"$f":"'Standing data'!$D$10","v":{"$error":"#N/A"}},{"$f":"'Standing data'!$F$10","v":0},{"$f":"'Standing data'!$D$6","v":"Academy name"},{"$f":"'Standing data'!$F$6","v":0},"Standing","D124",{"$f":"'Standing data'!D124","v":"Academy name"}]
[{"$f":"'Standing data'!$D$10","v":{"$error":"#N/A"}},{"$f":"'Standing data'!$F$10","v":0},{"$f":"'Standing data'!$D$6","v":"Academy name"},{"$f":"'Standing data'!$F$6","v":0},"Standing","D125",{"$f":"'Standing data'!D125","v":"Academy name"}]
[{"$f":"'Standing data'!$D$10","v":{"$error":"#N/A"}},{"$f":"'Standing data'!$F$10","v":0},{"$f":"'Standing data'!$D$6","v":"Academy name"},{"$f":"'Standing data'!$F$6","v":0},"Standing","D126",{"$f":"'Standing data'!D126","v":"Academy name"}]
[{"$f":"'Standing data'!$D$10","v":{"$error":"#N/A"}},{"$f":"'Standing data'!$F$10","v":0},{"$f":"'Standing data'!$D$6","v":"Academy name"},{"$f":"'Standing data'!$F$6","v":0},"Standing","D127",{"$f":"'Standing data'!D127","v":"Academy name"}]
[{"$f":"'Standing data'!$D$10","v":{"$error":"#N/A"}},{"$f":"'Standing data'!$F$10","v":0},{"$f":"'Standing data'!$D$6","v":"Academy name"},{"$f":"'Standing data'!$F$6","v":0},"Standing","D128",{"$f":"'Standing data'!D128","v":"Academy name"}]
[{"$f":"'Standing data'!$D$10","v":{"$error":"#N/A"}},{"$f":"'Standing data'!$F$10","v":0},{"$f":"'Standing data'!$D$6","v":"Academy name"},{"$f":"'Standing data'!$F$6","v":0},"Standing","D129",{"$f":"'Standing data'!D129","v":"Academy name"}]
[{"$f":"'Standing data'!$D$10","v":{"$error":"#N/A"}},{"$f":"'Standing data'!$F$10","v":0},{"$f":"'Standing data'!$D$6","v":"Academy name"},{"$f":"'Standing data'!$F$6","v":0},"Standing","D130",{"$f":"'Standing data'!D130","v":"Academy name"}]
[{"$f":"'Standing data'!$D$10","v":{"$error":"#N/A"}},{"$f":"'Standing data'!$F$10","v":0},{"$f":"'Standing data'!$D$6","v":"Academy name"},{"$f":"'Standing data'!$F$6","v":0},"Standing","D131",{"$f":"'Standing data'!D131","v":"Academy name"}]
[{"$f":"'Standing data'!$D$10","v":{"$error":"#N/A"}},{"$f":"'Standing data'!$F$10","v":0},{"$f":"'Standing data'!$D$6","v":"Academy name"},{"$f":"'Standing data'!$F$6","v":0},"Standing","D132",{"$f":"'Standing data'!D132","v":"Academy name"}]
[{"$f":"'Standing data'!$D$10","v":{"$error":"#N/A"}},{"$f":"'Standing data'!$F$10","v":0},{"$f":"'Standing data'!$D$6","v":"Academy name"},{"$f":"'Standing data'!$F$6","v":0},"Standing","E33",{"$f":"'Standing data'!E33","v":""}]
[{"$f":"'Standing data'!$D$10","v":{"$error":"#N/A"}},{"$f":"'Standing data'!$F$10","v":0},{"$f":"'Standing data'!$D$6","v":"Academy name"},{"$f":"'Standing data'!$F$6","v":0},"Standing","E34",{"$f":"'Standing data'!E34","v":""}]
[{"$f":"'Standing data'!$D$10","v":{"$error":"#N/A"}},{"$f":"'Standing data'!$F$10","v":0},{"$f":"'Standing data'!$D$6","v":"Academy name"},{"$f":"'Standing data'!$F$6","v":0},"Standing","E35",{"$f":"'Standing data'!E35","v":""}]
[{"$f":"'Standing data'!$D$10","v":{"$error":"#N/A"}},{"$f":"'Standing data'!$F$10","v":0},{"$f":"'Standing data'!$D$6","v":"Academy name"},{"$f":"'Standing data'!$F$6","v":0},"Standing","E36",{"$f":"'Standing data'!E36","v":""}]
[{"$f":"'Standing data'!$D$10","v":{"$error":"#N/A"}},{"$f":"'Standing data'!$F$10","v":0},{"$f":"'Standing data'!$D$6","v":"Academy name"},{"$f":"'Standing data'!$F$6","v":0},"Standing","E37",{"$f":"'Standing data'!E37","v":""}]
[{"$f":"'Standing data'!$D$10","v":{"$error":"#N/A"}},{"$f":"'Standing data'!$F$10","v":0},{"$f":"'Standing data'!$D$6","v":"Academy name"},{"$f":"'Standing data'!$F$6","v":0},"Standing","E38",{"$f":"'Standing data'!E38","v":""}]
[{"$f":"'Standing data'!$D$10","v":{"$error":"#N/A"}},{"$f":"'Standing data'!$F$10","v":0},{"$f":"'Standing data'!$D$6","v":"Academy name"},{"$f":"'Standing data'!$F$6","v":0},"Standing","E39",{"$f":"'Standing data'!E39","v":""}]
[{"$f":"'Standing data'!$D$10","v":{"$error":"#N/A"}},{"$f":"'Standing data'!$F$10","v":0},{"$f":"'Standing data'!$D$6","v":"Academy name"},{"$f":"'Standing data'!$F$6","v":0},"Standing","E40",{"$f":"'Standing data'!E40","v":""}]
[{"$f":"'Standing data'!$D$10","v":{"$error":"#N/A"}},{"$f":"'Standing data'!$F$10","v":0},{"$f":"'Standing data'!$D$6","v":"Academy name"},{"$f":"'Standing data'!$F$6","v":0},"Standing","E41",{"$f":"'Standing data'!E41","v":""}]
[{"$f":"'Standing data'!$D$10","v":{"$error":"#N/A"}},{"$f":"'Standing data'!$F$10","v":0},{"$f":"'Standing data'!$D$6","v":"Academy name"},{"$f":"'Standing data'!$F$6","v":0},"Standing","E42",{"$f":"'Standing data'!E42","v":""}]
[{"$f":"'Standing data'!$D$10","v":{"$error":"#N/A"}},{"$f":"'Standing data'!$F$10","v":0},{"$f":"'Standing data'!$D$6","v":"Academy name"},{"$f":"'Standing data'!$F$6","v":0},"Standing","E43",{"$f":"'Standing data'!E43","v":""}]
[{"$f":"'Standing data'!$D$10","v":{"$error":"#N/A"}},{"$f":"'Standing data'!$F$10","v":0},{"$f":"'Standing data'!$D$6","v":"Academy name"},{"$f":"'Standing data'!$F$6","v":0},"Standing","E44",{"$f":"'Standing data'!E44","v":""}]
[{"$f":"'Standing data'!$D$10","v":{"$error":"#N/A"}},{"$f":"'Standing data'!$F$10","v":0},{"$f":"'Standing data'!$D$6","v":"Academy name"},{"$f":"'Standing data'!$F$6","v":0},"Standing","E45",{"$f":"'Standing data'!E45","v":""}]
[{"$f":"'Standing data'!$D$10","v":{"$error":"#N/A"}},{"$f":"'Standing data'!$F$10","v":0},{"$f":"'Standing data'!$D$6","v":"Academy name"},{"$f":"'Standing data'!$F$6","v":0},"Standing","E46",{"$f":"'Standing data'!E46","v":""}]
[{"$f":"'Standing data'!$D$10","v":{"$error":"#N/A"}},{"$f":"'Standing data'!$F$10","v":0},{"$f":"'Standing data'!$D$6","v":"Academy name"},{"$f":"'Standing data'!$F$6","v":0},"Standing","E47",{"$f":"'Standing data'!E47","v":""}]
[{"$f":"'Standing data'!$D$10","v":{"$error":"#N/A"}},{"$f":"'Standing data'!$F$10","v":0},{"$f":"'Standing data'!$D$6","v":"Academy name"},{"$f":"'Standing data'!$F$6","v":0},"Standing","E48",{"$f":"'Standing data'!E48","v":""}]
[{"$f":"'Standing data'!$D$10","v":{"$error":"#N/A"}},{"$f":"'Standing data'!$F$10","v":0},{"$f":"'Standing data'!$D$6","v":"Academy name"},{"$f":"'Standing data'!$F$6","v":0},"Standing","E49",{"$f":"'Standing data'!E49","v":""}]
[{"$f":"'Standing data'!$D$10","v":{"$error":"#N/A"}},{"$f":"'Standing data'!$F$10","v":0},{"$f":"'Standing data'!$D$6","v":"Academy name"},{"$f":"'Standing data'!$F$6","v":0},"Standing","E50",{"$f":"'Standing data'!E50","v":""}]
[{"$f":"'Standing data'!$D$10","v":{"$error":"#N/A"}},{"$f":"'Standing data'!$F$10","v":0},{"$f":"'Standing data'!$D$6","v":"Academy name"},{"$f":"'Standing data'!$F$6","v":0},"Standing","E51",{"$f":"'Standing data'!E51","v":""}]
[{"$f":"'Standing data'!$D$10","v":{"$error":"#N/A"}},{"$f":"'Standing data'!$F$10","v":0},{"$f":"'Standing data'!$D$6","v":"Academy name"},{"$f":"'Standing data'!$F$6","v":0},"Standing","E52",{"$f":"'Standing data'!E52","v":""}]
[{"$f":"'Standing data'!$D$10","v":{"$error":"#N/A"}},{"$f":"'Standing data'!$F$10","v":0},{"$f":"'Standing data'!$D$6","v":"Academy name"},{"$f":"'Standing data'!$F$6","v":0},"Standing","E53",{"$f":"'Standing data'!E53","v":""}]
[{"$f":"'Standing data'!$D$10","v":{"$error":"#N/A"}},{"$f":"'Standing data'!$F$10","v":0},{"$f":"'Standing data'!$D$6","v":"Academy name"},{"$f":"'Standing data'!$F$6","v":0},"Standing","E54",{"$f":"'Standing data'!E54","v":""}]
[{"$f":"'Standing data'!$D$10","v":{"$error":"#N/A"}},{"$f":"'Standing data'!$F$10","v":0},{"$f":"'Standing data'!$D$6","v":"Academy name"},{"$f":"'Standing data'!$F$6","v":0},"Standing","E55",{"$f":"'Standing data'!E55","v":""}]
[{"$f":"'Standing data'!$D$10","v":{"$error":"#N/A"}},{"$f":"'Standing data'!$F$10","v":0},{"$f":"'Standing data'!$D$6","v":"Academy name"},{"$f":"'Standing data'!$F$6","v":0},"Standing","E56",{"$f":"'Standing data'!E56","v":""}]
[{"$f":"'Standing data'!$D$10","v":{"$error":"#N/A"}},{"$f":"'Standing data'!$F$10","v":0},{"$f":"'Standing data'!$D$6","v":"Academy name"},{"$f":"'Standing data'!$F$6","v":0},"Standing","E57",{"$f":"'Standing data'!E57","v":""}]
[{"$f":"'Standing data'!$D$10","v":{"$error":"#N/A"}},{"$f":"'Standing data'!$F$10","v":0},{"$f":"'Standing data'!$D$6","v":"Academy name"},{"$f":"'Standing data'!$F$6","v":0},"Standing","E58",{"$f":"'Standing data'!E58","v":""}]
[{"$f":"'Standing data'!$D$10","v":{"$error":"#N/A"}},{"$f":"'Standing data'!$F$10","v":0},{"$f":"'Standing data'!$D$6","v":"Academy name"},{"$f":"'Standing data'!$F$6","v":0},"Standing","E59",{"$f":"'Standing data'!E59","v":""}]
[{"$f":"'Standing data'!$D$10","v":{"$error":"#N/A"}},{"$f":"'Standing data'!$F$10","v":0},{"$f":"'Standing data'!$D$6","v":"Academy name"},{"$f":"'Standing data'!$F$6","v":0},"Standing","E60",{"$f":"'Standing data'!E60","v":""}]
[{"$f":"'Standing data'!$D$10","v":{"$error":"#N/A"}},{"$f":"'Standing data'!$F$10","v":0},{"$f":"'Standing data'!$D$6","v":"Academy name"},{"$f":"'Standing data'!$F$6","v":0},"Standing","E61",{"$f":"'Standing data'!E61","v":""}]
[{"$f":"'Standing data'!$D$10","v":{"$error":"#N/A"}},{"$f":"'Standing data'!$F$10","v":0},{"$f":"'Standing data'!$D$6","v":"Academy name"},{"$f":"'Standing data'!$F$6","v":0},"Standing","E62",{"$f":"'Standing data'!E62","v":""}]
[{"$f":"'Standing data'!$D$10","v":{"$error":"#N/A"}},{"$f":"'Standing data'!$F$10","v":0},{"$f":"'Standing data'!$D$6","v":"Academy name"},{"$f":"'Standing data'!$F$6","v":0},"Standing","E63",{"$f":"'Standing data'!E63","v":""}]
[{"$f":"'Standing data'!$D$10","v":{"$error":"#N/A"}},{"$f":"'Standing data'!$F$10","v":0},{"$f":"'Standing data'!$D$6","v":"Academy name"},{"$f":"'Standing data'!$F$6","v":0},"Standing","E64",{"$f":"'Standing data'!E64","v":""}]
[{"$f":"'Standing data'!$D$10","v":{"$error":"#N/A"}},{"$f":"'Standing data'!$F$10","v":0},{"$f":"'Standing data'!$D$6","v":"Academy name"},{"$f":"'Standing data'!$F$6","v":0},"Standing","E65",{"$f":"'Standing data'!E65","v":""}]
[{"$f":"'Standing data'!$D$10","v":{"$error":"#N/A"}},{"$f":"'Standing data'!$F$10","v":0},{"$f":"'Standing data'!$D$6","v":"Academy name"},{"$f":"'Standing data'!$F$6","v":0},"Standing","E66",{"$f":"'Standing data'!E66","v":""}]
[{"$f":"'Standing data'!$D$10","v":{"$error":"#N/A"}},{"$f":"'Standing data'!$F$10","v":0},{"$f":"'Standing data'!$D$6","v":"Academy name"},{"$f":"'Standing data'!$F$6","v":0},"Standing","E67",{"$f":"'Standing data'!E67","v":""}]
[{"$f":"'Standing data'!$D$10","v":{"$error":"#N/A"}},{"$f":"'Standing data'!$F$10","v":0},{"$f":"'Standing data'!$D$6","v":"Academy name"},{"$f":"'Standing data'!$F$6","v":0},"Standing","E68",{"$f":"'Standing data'!E68","v":""}]
[{"$f":"'Standing data'!$D$10","v":{"$error":"#N/A"}},{"$f":"'Standing data'!$F$10","v":0},{"$f":"'Standing data'!$D$6","v":"Academy name"},{"$f":"'Standing data'!$F$6","v":0},"Standing","E69",{"$f":"'Standing data'!E69","v":""}]
[{"$f":"'Standing data'!$D$10","v":{"$error":"#N/A"}},{"$f":"'Standing data'!$F$10","v":0},{"$f":"'Standing data'!$D$6","v":"Academy name"},{"$f":"'Standing data'!$F$6","v":0},"Standing","E70",{"$f":"'Standing data'!E70","v":""}]
[{"$f":"'Standing data'!$D$10","v":{"$error":"#N/A"}},{"$f":"'Standing data'!$F$10","v":0},{"$f":"'Standing data'!$D$6","v":"Academy name"},{"$f":"'Standing data'!$F$6","v":0},"Standing","E71",{"$f":"'Standing data'!E71","v":""}]
[{"$f":"'Standing data'!$D$10","v":{"$error":"#N/A"}},{"$f":"'Standing data'!$F$10","v":0},{"$f":"'Standing data'!$D$6","v":"Academy name"},{"$f":"'Standing data'!$F$6","v":0},"Standing","E72",{"$f":"'Standing data'!E72","v":""}]
[{"$f":"'Standing data'!$D$10","v":{"$error":"#N/A"}},{"$f":"'Standing data'!$F$10","v":0},{"$f":"'Standing data'!$D$6","v":"Academy name"},{"$f":"'Standing data'!$F$6","v":0},"Standing","E73",{"$f":"'Standing data'!E73","v":""}]
[{"$f":"'Standing data'!$D$10","v":{"$error":"#N/A"}},{"$f":"'Standing data'!$F$10","v":0},{"$f":"'Standing data'!$D$6","v":"Academy name"},{"$f":"'Standing data'!$F$6","v":0},"Standing","E74",{"$f":"'Standing data'!E74","v":""}]
[{"$f":"'Standing data'!$D$10","v":{"$error":"#N/A"}},{"$f":"'Standing data'!$F$10","v":0},{"$f":"'Standing data'!$D$6","v":"Academy name"},{"$f":"'Standing data'!$F$6","v":0},"Standing","E75",{"$f":"'Standing data'!E75","v":""}]
[{"$f":"'Standing data'!$D$10","v":{"$error":"#N/A"}},{"$f":"'Standing data'!$F$10","v":0},{"$f":"'Standing data'!$D$6","v":"Academy name"},{"$f":"'Standing data'!$F$6","v":0},"Standing","E76",{"$f":"'Standing data'!E76","v":""}]
[{"$f":"'Standing data'!$D$10","v":{"$error":"#N/A"}},{"$f":"'Standing data'!$F$10","v":0},{"$f":"'Standing data'!$D$6","v":"Academy name"},{"$f":"'Standing data'!$F$6","v":0},"Standing","E77",{"$f":"'Standing data'!E77","v":""}]
[{"$f":"'Standing data'!$D$10","v":{"$error":"#N/A"}},{"$f":"'Standing data'!$F$10","v":0},{"$f":"'Standing data'!$D$6","v":"Academy name"},{"$f":"'Standing data'!$F$6","v":0},"Standing","E78",{"$f":"'Standing data'!E78","v":""}]
[{"$f":"'Standing data'!$D$10","v":{"$error":"#N/A"}},{"$f":"'Standing data'!$F$10","v":0},{"$f":"'Standing data'!$D$6","v":"Academy name"},{"$f":"'Standing data'!$F$6","v":0},"Standing","E79",{"$f":"'Standing data'!E79","v":""}]
[{"$f":"'Standing data'!$D$10","v":{"$error":"#N/A"}},{"$f":"'Standing data'!$F$10","v":0},{"$f":"'Standing data'!$D$6","v":"Academy name"},{"$f":"'Standing data'!$F$6","v":0},"Standing","E80",{"$f":"'Standing data'!E80","v":""}]
[{"$f":"'Standing data'!$D$10","v":{"$error":"#N/A"}},{"$f":"'Standing data'!$F$10","v":0},{"$f":"'Standing data'!$D$6","v":"Academy name"},{"$f":"'Standing data'!$F$6","v":0},"Standing","E81",{"$f":"'Standing data'!E81","v":""}]
[{"$f":"'Standing data'!$D$10","v":{"$error":"#N/A"}},{"$f":"'Standing data'!$F$10","v":0},{"$f":"'Standing data'!$D$6","v":"Academy name"},{"$f":"'Standing data'!$F$6","v":0},"Standing","E82",{"$f":"'Standing data'!E82","v":""}]
[{"$f":"'Standing data'!$D$10","v":{"$error":"#N/A"}},{"$f":"'Standing data'!$F$10","v":0},{"$f":"'Standing data'!$D$6","v":"Academy name"},{"$f":"'Standing data'!$F$6","v":0},"Standing","E83",{"$f":"'Standing data'!E83","v":""}]
[{"$f":"'Standing data'!$D$10","v":{"$error":"#N/A"}},{"$f":"'Standing data'!$F$10","v":0},{"$f":"'Standing data'!$D$6","v":"Academy name"},{"$f":"'Standing data'!$F$6","v":0},"Standing","E84",{"$f":"'Standing data'!E84","v":""}]
[{"$f":"'Standing data'!$D$10","v":{"$error":"#N/A"}},{"$f":"'Standing data'!$F$10","v":0},{"$f":"'Standing data'!$D$6","v":"Academy name"},{"$f":"'Standing data'!$F$6","v":0},"Standing","E85",{"$f":"'Standing data'!E85","v":""}]
[{"$f":"'Standing data'!$D$10","v":{"$error":"#N/A"}},{"$f":"'Standing data'!$F$10","v":0},{"$f":"'Standing data'!$D$6","v":"Academy name"},{"$f":"'Standing data'!$F$6","v":0},"Standing","E86",{"$f":"'Standing data'!E86","v":""}]
[{"$f":"'Standing data'!$D$10","v":{"$error":"#N/A"}},{"$f":"'Standing data'!$F$10","v":0},{"$f":"'Standing data'!$D$6","v":"Academy name"},{"$f":"'Standing data'!$F$6","v":0},"Standing","E87",{"$f":"'Standing data'!E87","v":""}]
[{"$f":"'Standing data'!$D$10","v":{"$error":"#N/A"}},{"$f":"'Standing data'!$F$10","v":0},{"$f":"'Standing data'!$D$6","v":"Academy name"},{"$f":"'Standing data'!$F$6","v":0},"Standing","E88",{"$f":"'Standing data'!E88","v":""}]
[{"$f":"'Standing data'!$D$10","v":{"$error":"#N/A"}},{"$f":"'Standing data'!$F$10","v":0},{"$f":"'Standing data'!$D$6","v":"Academy name"},{"$f":"'Standing data'!$F$6","v":0},"Standing","E89",{"$f":"'Standing data'!E89","v":""}]
[{"$f":"'Standing data'!$D$10","v":{"$error":"#N/A"}},{"$f":"'Standing data'!$F$10","v":0},{"$f":"'Standing data'!$D$6","v":"Academy name"},{"$f":"'Standing data'!$F$6","v":0},"Standing","E90",{"$f":"'Standing data'!E90","v":""}]
[{"$f":"'Standing data'!$D$10","v":{"$error":"#N/A"}},{"$f":"'Standing data'!$F$10","v":0},{"$f":"'Standing data'!$D$6","v":"Academy name"},{"$f":"'Standing data'!$F$6","v":0},"Standing","E91",{"$f":"'Standing data'!E91","v":""}]
[{"$f":"'Standing data'!$D$10","v":{"$error":"#N/A"}},{"$f":"'Standing data'!$F$10","v":0},{"$f":"'Standing data'!$D$6","v":"Academy name"},{"$f":"'Standing data'!$F$6","v":0},"Standing","E92",{"$f":"'Standing data'!E92","v":""}]
[{"$f":"'Standing data'!$D$10","v":{"$error":"#N/A"}},{"$f":"'Standing data'!$F$10","v":0},{"$f":"'Standing data'!$D$6","v":"Academy name"},{"$f":"'Standing data'!$F$6","v":0},"Standing","E93",{"$f":"'Standing data'!E93","v":""}]
[{"$f":"'Standing data'!$D$10","v":{"$error":"#N/A"}},{"$f":"'Standing data'!$F$10","v":0},{"$f":"'Standing data'!$D$6","v":"Academy name"},{"$f":"'Standing data'!$F$6","v":0},"Standing","E94",{"$f":"'Standing data'!E94","v":""}]
[{"$f":"'Standing data'!$D$10","v":{"$error":"#N/A"}},{"$f":"'Standing data'!$F$10","v":0},{"$f":"'Standing data'!$D$6","v":"Academy name"},{"$f":"'Standing data'!$F$6","v":0},"Standing","E95",{"$f":"'Standing data'!E95","v":""}]
[{"$f":"'Standing data'!$D$10","v":{"$error":"#N/A"}},{"$f":"'Standing data'!$F$10","v":0},{"$f":"'Standing data'!$D$6","v":"Academy name"},{"$f":"'Standing data'!$F$6","v":0},"Standing","E96",{"$f":"'Standing data'!E96","v":""}]
[{"$f":"'Standing data'!$D$10","v":{"$error":"#N/A"}},{"$f":"'Standing data'!$F$10","v":0},{"$f":"'Standing data'!$D$6","v":"Academy name"},{"$f":"'Standing data'!$F$6","v":0},"Standing","E97",{"$f":"'Standing data'!E97","v":""}]
[{"$f":"'Standing data'!$D$10","v":{"$error":"#N/A"}},{"$f":"'Standing data'!$F$10","v":0},{"$f":"'Standing data'!$D$6","v":"Academy name"},{"$f":"'Standing data'!$F$6","v":0},"Standing","E98",{"$f":"'Standing data'!E98","v":""}]
[{"$f":"'Standing data'!$D$10","v":{"$error":"#N/A"}},{"$f":"'Standing data'!$F$10","v":0},{"$f":"'Standing data'!$D$6","v":"Academy name"},{"$f":"'Standing data'!$F$6","v":0},"Standing","E99",{"$f":"'Standing data'!E99","v":""}]
[{"$f":"'Standing data'!$D$10","v":{"$error":"#N/A"}},{"$f":"'Standing data'!$F$10","v":0},{"$f":"'Standing data'!$D$6","v":"Academy name"},{"$f":"'Standing data'!$F$6","v":0},"Standing","E100",{"$f":"'Standing data'!E100","v":""}]
[{"$f":"'Standing data'!$D$10","v":{"$error":"#N/A"}},{"$f":"'Standing data'!$F$10","v":0},{"$f":"'Standing data'!$D$6","v":"Academy name"},{"$f":"'Standing data'!$F$6","v":0},"Standing","E101",{"$f":"'Standing data'!E101","v":""}]
[{"$f":"'Standing data'!$D$10","v":{"$error":"#N/A"}},{"$f":"'Standing data'!$F$10","v":0},{"$f":"'Standing data'!$D$6","v":"Academy name"},{"$f":"'Standing data'!$F$6","v":0},"Standing","E102",{"$f":"'Standing data'!E102","v":""}]
[{"$f":"'Standing data'!$D$10","v":{"$error":"#N/A"}},{"$f":"'Standing data'!$F$10","v":0},{"$f":"'Standing data'!$D$6","v":"Academy name"},{"$f":"'Standing data'!$F$6","v":0},"Standing","E103",{"$f":"'Standing data'!E103","v":{"$error":"#N/A"}}]
[{"$f":"'Standing data'!$D$10","v":{"$error":"#N/A"}},{"$f":"'Standing data'!$F$10","v":0},{"$f":"'Standing data'!$D$6","v":"Academy name"},{"$f":"'Standing data'!$F$6","v":0},"Standing","E104",{"$f":"'Standing data'!E104","v":{"$error":"#N/A"}}]
[{"$f":"'Standing data'!$D$10","v":{"$error":"#N/A"}},{"$f":"'Standing data'!$F$10","v":0},{"$f":"'Standing data'!$D$6","v":"Academy name"},{"$f":"'Standing data'!$F$6","v":0},"Standing","E105",{"$f":"'Standing data'!E105","v":""}]
[{"$f":"'Standing data'!$D$10","v":{"$error":"#N/A"}},{"$f":"'Standing data'!$F$10","v":0},{"$f":"'Standing data'!$D$6","v":"Academy name"},{"$f":"'Standing data'!$F$6","v":0},"Standing","E106",{"$f":"'Standing data'!E106","v":""}]
[{"$f":"'Standing data'!$D$10","v":{"$error":"#N/A"}},{"$f":"'Standing data'!$F$10","v":0},{"$f":"'Standing data'!$D$6","v":"Academy name"},{"$f":"'Standing data'!$F$6","v":0},"Standing","E107",{"$f":"'Standing data'!E107","v":{"$error":"#N/A"}}]
[{"$f":"'Standing data'!$D$10","v":{"$error":"#N/A"}},{"$f":"'Standing data'!$F$10","v":0},{"$f":"'Standing data'!$D$6","v":"Academy name"},{"$f":"'Standing data'!$F$6","v":0},"Standing","E108",{"$f":"'Standing data'!E108","v":""}]
[{"$f":"'Standing data'!$D$10","v":{"$error":"#N/A"}},{"$f":"'Standing data'!$F$10","v":0},{"$f":"'Standing data'!$D$6","v":"Academy name"},{"$f":"'Standing data'!$F$6","v":0},"Standing","E109",{"$f":"'Standing data'!E109","v":{"$error":"#N/A"}}]
[{"$f":"'Standing data'!$D$10","v":{"$error":"#N/A"}},{"$f":"'Standing data'!$F$10","v":0},{"$f":"'Standing data'!$D$6","v":"Academy name"},{"$f":"'Standing data'!$F$6","v":0},"Standing","E110",{"$f":"'Standing data'!E110","v":{"$error":"#N/A"}}]
[{"$f":"'Standing data'!$D$10","v":{"$error":"#N/A"}},{"$f":"'Standing data'!$F$10","v":0},{"$f":"'Standing data'!$D$6","v":"Academy name"},{"$f":"'Standing data'!$F$6","v":0},"Standing","E111",{"$f":"'Standing data'!E111","v":""}]
[{"$f":"'Standing data'!$D$10","v":{"$error":"#N/A"}},{"$f":"'Standing data'!$F$10","v":0},{"$f":"'Standing data'!$D$6","v":"Academy name"},{"$f":"'Standing data'!$F$6","v":0},"Standing","E112",{"$f":"'Standing data'!E112","v":""}]
[{"$f":"'Standing data'!$D$10","v":{"$error":"#N/A"}},{"$f":"'Standing data'!$F$10","v":0},{"$f":"'Standing data'!$D$6","v":"Academy name"},{"$f":"'Standing data'!$F$6","v":0},"Standing","E113",{"$f":"'Standing data'!E113","v":""}]
[{"$f":"'Standing data'!$D$10","v":{"$error":"#N/A"}},{"$f":"'Standing data'!$F$10","v":0},{"$f":"'Standing data'!$D$6","v":"Academy name"},{"$f":"'Standing data'!$F$6","v":0},"Standing","E114",{"$f":"'Standing data'!E114","v":""}]
[{"$f":"'Standing data'!$D$10","v":{"$error":"#N/A"}},{"$f":"'Standing data'!$F$10","v":0},{"$f":"'Standing data'!$D$6","v":"Academy name"},{"$f":"'Standing data'!$F$6","v":0},"Standing","E115",{"$f":"'Standing data'!E115","v":""}]
[{"$f":"'Standing data'!$D$10","v":{"$error":"#N/A"}},{"$f":"'Standing data'!$F$10","v":0},{"$f":"'Standing data'!$D$6","v":"Academy name"},{"$f":"'Standing data'!$F$6","v":0},"Standing","E116",{"$f":"'Standing data'!E116","v":""}]
[{"$f":"'Standing data'!$D$10","v":{"$error":"#N/A"}},{"$f":"'Standing data'!$F$10","v":0},{"$f":"'Standing data'!$D$6","v":"Academy name"},{"$f":"'Standing data'!$F$6","v":0},"Standing","E117",{"$f":"'Standing data'!E117","v":""}]
[{"$f":"'Standing data'!$D$10","v":{"$error":"#N/A"}},{"$f":"'Standing data'!$F$10","v":0},{"$f":"'Standing data'!$D$6","v":"Academy name"},{"$f":"'Standing data'!$F$6","v":0},"Standing","E118",{"$f":"'Standing data'!E118","v":""}]
[{"$f":"'Standing data'!$D$10","v":{"$error":"#N/A"}},{"$f":"'Standing data'!$F$10","v":0},{"$f":"'Standing data'!$D$6","v":"Academy name"},{"$f":"'Standing data'!$F$6","v":0},"Standing","E119",{"$f":"'Standing data'!E119","v":""}]
[{"$f":"'Standing data'!$D$10","v":{"$error":"#N/A"}},{"$f":"'Standing data'!$F$10","v":0},{"$f":"'Standing data'!$D$6","v":"Academy name"},{"$f":"'Standing data'!$F$6","v":0},"Standing","E120",{"$f":"'Standing data'!E120","v":""}]
[{"$f":"'Standing data'!$D$10","v":{"$error":"#N/A"}},{"$f":"'Standing data'!$F$10","v":0},{"$f":"'Standing data'!$D$6","v":"Academy name"},{"$f":"'Standing data'!$F$6","v":0},"Standing","E121",{"$f":"'Standing data'!E121","v":""}]
[{"$f":"'Standing data'!$D$10","v":{"$error":"#N/A"}},{"$f":"'Standing data'!$F$10","v":0},{"$f":"'Standing data'!$D$6","v":"Academy name"},{"$f":"'Standing data'!$F$6","v":0},"Standing","E122",{"$f":"'Standing data'!E122","v":""}]
[{"$f":"'Standing data'!$D$10","v":{"$error":"#N/A"}},{"$f":"'Standing data'!$F$10","v":0},{"$f":"'Standing data'!$D$6","v":"Academy name"},{"$f":"'Standing data'!$F$6","v":0},"Standing","E123",{"$f":"'Standing data'!E123","v":""}]
[{"$f":"'Standing data'!$D$10","v":{"$error":"#N/A"}},{"$f":"'Standing data'!$F$10","v":0},{"$f":"'Standing data'!$D$6","v":"Academy name"},{"$f":"'Standing data'!$F$6","v":0},"Standing","E124",{"$f":"'Standing data'!E124","v":""}]
[{"$f":"'Standing data'!$D$10","v":{"$error":"#N/A"}},{"$f":"'Standing data'!$F$10","v":0},{"$f":"'Standing data'!$D$6","v":"Academy name"},{"$f":"'Standing data'!$F$6","v":0},"Standing","E125",{"$f":"'Standing data'!E125","v":""}]
[{"$f":"'Standing data'!$D$10","v":{"$error":"#N/A"}},{"$f":"'Standing data'!$F$10","v":0},{"$f":"'Standing data'!$D$6","v":"Academy name"},{"$f":"'Standing data'!$F$6","v":0},"Standing","E126",{"$f":"'Standing data'!E126","v":""}]
[{"$f":"'Standing data'!$D$10","v":{"$error":"#N/A"}},{"$f":"'Standing data'!$F$10","v":0},{"$f":"'Standing data'!$D$6","v":"Academy name"},{"$f":"'Standing data'!$F$6","v":0},"Standing","E127",{"$f":"'Standing data'!E127","v":""}]
[{"$f":"'Standing data'!$D$10","v":{"$error":"#N/A"}},{"$f":"'Standing data'!$F$10","v":0},{"$f":"'Standing data'!$D$6","v":"Academy name"},{"$f":"'Standing data'!$F$6","v":0},"Standing","E128",{"$f":"'Standing data'!E128","v":""}]
[{"$f":"'Standing data'!$D$10","v":{"$error":"#N/A"}},{"$f":"'Standing data'!$F$10","v":0},{"$f":"'Standing data'!$D$6","v":"Academy name"},{"$f":"'Standing data'!$F$6","v":0},"Standing","E129",{"$f":"'Standing data'!E129","v":""}]
[{"$f":"'Standing data'!$D$10","v":{"$error":"#N/A"}},{"$f":"'Standing data'!$F$10","v":0},{"$f":"'Standing data'!$D$6","v":"Academy name"},{"$f":"'Standing data'!$F$6","v":0},"Standing","E130",{"$f":"'Standing data'!E130","v":""}]
[{"$f":"'Standing data'!$D$10","v":{"$error":"#N/A"}},{"$f":"'Standing data'!$F$10","v":0},{"$f":"'Standing data'!$D$6","v":"Academy name"},{"$f":"'Standing data'!$F$6","v":0},"Standing","E131",{"$f":"'Standing data'!E131","v":""}]
[{"$f":"'Standing data'!$D$10","v":{"$error":"#N/A"}},{"$f":"'Standing data'!$F$10","v":0},{"$f":"'Standing data'!$D$6","v":"Academy name"},{"$f":"'Standing data'!$F$6","v":0},"Standing","E132",{"$f":"'Standing data'!E132","v":""}]
[{"$f":"'Standing data'!$D$10","v":{"$error":"#N/A"}},{"$f":"'Standing data'!$F$10","v":0},{"$f":"'Standing data'!$D$6","v":"Academy name"},{"$f":"'Standing data'!$F$6","v":0},"Standing","F33",{"$f":"'Standing data'!F33","v":0}]
[{"$f":"'Standing data'!$D$10","v":{"$error":"#N/A"}},{"$f":"'Standing data'!$F$10","v":0},{"$f":"'Standing data'!$D$6","v":"Academy name"},{"$f":"'Standing data'!$F$6","v":0},"Standing","F34",{"$f":"'Standing data'!F34","v":0}]
[{"$f":"'Standing data'!$D$10","v":{"$error":"#N/A"}},{"$f":"'Standing data'!$F$10","v":0},{"$f":"'Standing data'!$D$6","v":"Academy name"},{"$f":"'Standing data'!$F$6","v":0},"Standing","F35",{"$f":"'Standing data'!F35","v":0}]
[{"$f":"'Standing data'!$D$10","v":{"$error":"#N/A"}},{"$f":"'Standing data'!$F$10","v":0},{"$f":"'Standing data'!$D$6","v":"Academy name"},{"$f":"'Standing data'!$F$6","v":0},"Standing","F36",{"$f":"'Standing data'!F36","v":0}]
[{"$f":"'Standing data'!$D$10","v":{"$error":"#N/A"}},{"$f":"'Standing data'!$F$10","v":0},{"$f":"'Standing data'!$D$6","v":"Academy name"},{"$f":"'Standing data'!$F$6","v":0},"Standing","F37",{"$f":"'Standing data'!F37","v":0}]
[{"$f":"'Standing data'!$D$10","v":{"$error":"#N/A"}},{"$f":"'Standing data'!$F$10","v":0},{"$f":"'Standing data'!$D$6","v":"Academy name"},{"$f":"'Standing data'!$F$6","v":0},"Standing","F38",{"$f":"'Standing data'!F38","v":0}]
[{"$f":"'Standing data'!$D$10","v":{"$error":"#N/A"}},{"$f":"'Standing data'!$F$10","v":0},{"$f":"'Standing data'!$D$6","v":"Academy name"},{"$f":"'Standing data'!$F$6","v":0},"Standing","F39",{"$f":"'Standing data'!F39","v":0}]
[{"$f":"'Standing data'!$D$10","v":{"$error":"#N/A"}},{"$f":"'Standing data'!$F$10","v":0},{"$f":"'Standing data'!$D$6","v":"Academy name"},{"$f":"'Standing data'!$F$6","v":0},"Standing","F40",{"$f":"'Standing data'!F40","v":0}]
[{"$f":"'Standing data'!$D$10","v":{"$error":"#N/A"}},{"$f":"'Standing data'!$F$10","v":0},{"$f":"'Standing data'!$D$6","v":"Academy name"},{"$f":"'Standing data'!$F$6","v":0},"Standing","F41",{"$f":"'Standing data'!F41","v":0}]
[{"$f":"'Standing data'!$D$10","v":{"$error":"#N/A"}},{"$f":"'Standing data'!$F$10","v":0},{"$f":"'Standing data'!$D$6","v":"Academy name"},{"$f":"'Standing data'!$F$6","v":0},"Standing","F42",{"$f":"'Standing data'!F42","v":0}]
[{"$f":"'Standing data'!$D$10","v":{"$error":"#N/A"}},{"$f":"'Standing data'!$F$10","v":0},{"$f":"'Standing data'!$D$6","v":"Academy name"},{"$f":"'Standing data'!$F$6","v":0},"Standing","F43",{"$f":"'Standing data'!F43","v":0}]
[{"$f":"'Standing data'!$D$10","v":{"$error":"#N/A"}},{"$f":"'Standing data'!$F$10","v":0},{"$f":"'Standing data'!$D$6","v":"Academy name"},{"$f":"'Standing data'!$F$6","v":0},"Standing","F44",{"$f":"'Standing data'!F44","v":0}]
[{"$f":"'Standing data'!$D$10","v":{"$error":"#N/A"}},{"$f":"'Standing data'!$F$10","v":0},{"$f":"'Standing data'!$D$6","v":"Academy name"},{"$f":"'Standing data'!$F$6","v":0},"Standing","F45",{"$f":"'Standing data'!F45","v":0}]
[{"$f":"'Standing data'!$D$10","v":{"$error":"#N/A"}},{"$f":"'Standing data'!$F$10","v":0},{"$f":"'Standing data'!$D$6","v":"Academy name"},{"$f":"'Standing data'!$F$6","v":0},"Standing","F46",{"$f":"'Standing data'!F46","v":0}]
[{"$f":"'Standing data'!$D$10","v":{"$error":"#N/A"}},{"$f":"'Standing data'!$F$10","v":0},{"$f":"'Standing data'!$D$6","v":"Academy name"},{"$f":"'Standing data'!$F$6","v":0},"Standing","F47",{"$f":"'Standing data'!F47","v":0}]
[{"$f":"'Standing data'!$D$10","v":{"$error":"#N/A"}},{"$f":"'Standing data'!$F$10","v":0},{"$f":"'Standing data'!$D$6","v":"Academy name"},{"$f":"'Standing data'!$F$6","v":0},"Standing","F48",{"$f":"'Standing data'!F48","v":0}]
[{"$f":"'Standing data'!$D$10","v":{"$error":"#N/A"}},{"$f":"'Standing data'!$F$10","v":0},{"$f":"'Standing data'!$D$6","v":"Academy name"},{"$f":"'Standing data'!$F$6","v":0},"Standing","F49",{"$f":"'Standing data'!F49","v":0}]
[{"$f":"'Standing data'!$D$10","v":{"$error":"#N/A"}},{"$f":"'Standing data'!$F$10","v":0},{"$f":"'Standing data'!$D$6","v":"Academy name"},{"$f":"'Standing data'!$F$6","v":0},"Standing","F50",{"$f":"'Standing data'!F50","v":0}]
[{"$f":"'Standing data'!$D$10","v":{"$error":"#N/A"}},{"$f":"'Standing data'!$F$10","v":0},{"$f":"'Standing data'!$D$6","v":"Academy name"},{"$f":"'Standing data'!$F$6","v":0},"Standing","F51",{"$f":"'Standing data'!F51","v":0}]
[{"$f":"'Standing data'!$D$10","v":{"$error":"#N/A"}},{"$f":"'Standing data'!$F$10","v":0},{"$f":"'Standing data'!$D$6","v":"Academy name"},{"$f":"'Standing data'!$F$6","v":0},"Standing","F52",{"$f":"'Standing data'!F52","v":0}]
[{"$f":"'Standing data'!$D$10","v":{"$error":"#N/A"}},{"$f":"'Standing data'!$F$10","v":0},{"$f":"'Standing data'!$D$6","v":"Academy name"},{"$f":"'Standing data'!$F$6","v":0},"Standing","F53",{"$f":"'Standing data'!F53","v":0}]
[{"$f":"'Standing data'!$D$10","v":{"$error":"#N/A"}},{"$f":"'Standing data'!$F$10","v":0},{"$f":"'Standing data'!$D$6","v":"Academy name"},{"$f":"'Standing data'!$F$6","v":0},"Standing","F54",{"$f":"'Standing data'!F54","v":0}]
[{"$f":"'Standing data'!$D$10","v":{"$error":"#N/A"}},{"$f":"'Standing data'!$F$10","v":0},{"$f":"'Standing data'!$D$6","v":"Academy name"},{"$f":"'Standing data'!$F$6","v":0},"Standing","F55",{"$f":"'Standing data'!F55","v":0}]
[{"$f":"'Standing data'!$D$10","v":{"$error":"#N/A"}},{"$f":"'Standing data'!$F$10","v":0},{"$f":"'Standing data'!$D$6","v":"Academy name"},{"$f":"'Standing data'!$F$6","v":0},"Standing","F56",{"$f":"'Standing data'!F56","v":0}]
[{"$f":"'Standing data'!$D$10","v":{"$error":"#N/A"}},{"$f":"'Standing data'!$F$10","v":0},{"$f":"'Standing data'!$D$6","v":"Academy name"},{"$f":"'Standing data'!$F$6","v":0},"Standing","F57",{"$f":"'Standing data'!F57","v":0}]
[{"$f":"'Standing data'!$D$10","v":{"$error":"#N/A"}},{"$f":"'Standing data'!$F$10","v":0},{"$f":"'Standing data'!$D$6","v":"Academy name"},{"$f":"'Standing data'!$F$6","v":0},"Standing","F58",{"$f":"'Standing data'!F58","v":0}]
[{"$f":"'Standing data'!$D$10","v":{"$error":"#N/A"}},{"$f":"'Standing data'!$F$10","v":0},{"$f":"'Standing data'!$D$6","v":"Academy name"},{"$f":"'Standing data'!$F$6","v":0},"Standing","F59",{"$f":"'Standing data'!F59","v":0}]
[{"$f":"'Standing data'!$D$10","v":{"$error":"#N/A"}},{"$f":"'Standing data'!$F$10","v":0},{"$f":"'Standing data'!$D$6","v":"Academy name"},{"$f":"'Standing data'!$F$6","v":0},"Standing","F60",{"$f":"'Standing data'!F60","v":0}]
[{"$f":"'Standing data'!$D$10","v":{"$error":"#N/A"}},{"$f":"'Standing data'!$F$10","v":0},{"$f":"'Standing data'!$D$6","v":"Academy name"},{"$f":"'Standing data'!$F$6","v":0},"Standing","F61",{"$f":"'Standing data'!F61","v":0}]
[{"$f":"'Standing data'!$D$10","v":{"$error":"#N/A"}},{"$f":"'Standing data'!$F$10","v":0},{"$f":"'Standing data'!$D$6","v":"Academy name"},{"$f":"'Standing data'!$F$6","v":0},"Standing","F62",{"$f":"'Standing data'!F62","v":0}]
[{"$f":"'Standing data'!$D$10","v":{"$error":"#N/A"}},{"$f":"'Standing data'!$F$10","v":0},{"$f":"'Standing data'!$D$6","v":"Academy name"},{"$f":"'Standing data'!$F$6","v":0},"Standing","F63",{"$f":"'Standing data'!F63","v":0}]
[{"$f":"'Standing data'!$D$10","v":{"$error":"#N/A"}},{"$f":"'Standing data'!$F$10","v":0},{"$f":"'Standing data'!$D$6","v":"Academy name"},{"$f":"'Standing data'!$F$6","v":0},"Standing","F64",{"$f":"'Standing data'!F64","v":0}]
[{"$f":"'Standing data'!$D$10","v":{"$error":"#N/A"}},{"$f":"'Standing data'!$F$10","v":0},{"$f":"'Standing data'!$D$6","v":"Academy name"},{"$f":"'Standing data'!$F$6","v":0},"Standing","F65",{"$f":"'Standing data'!F65","v":0}]
[{"$f":"'Standing data'!$D$10","v":{"$error":"#N/A"}},{"$f":"'Standing data'!$F$10","v":0},{"$f":"'Standing data'!$D$6","v":"Academy name"},{"$f":"'Standing data'!$F$6","v":0},"Standing","F66",{"$f":"'Standing data'!F66","v":0}]
[{"$f":"'Standing data'!$D$10","v":{"$error":"#N/A"}},{"$f":"'Standing data'!$F$10","v":0},{"$f":"'Standing data'!$D$6","v":"Academy name"},{"$f":"'Standing data'!$F$6","v":0},"Standing","F67",{"$f":"'Standing data'!F67","v":0}]
[{"$f":"'Standing data'!$D$10","v":{"$error":"#N/A"}},{"$f":"'Standing data'!$F$10","v":0},{"$f":"'Standing data'!$D$6","v":"Academy name"},{"$f":"'Standing data'!$F$6","v":0},"Standing","F68",{"$f":"'Standing data'!F68","v":0}]
[{"$f":"'Standing data'!$D$10","v":{"$error":"#N/A"}},{"$f":"'Standing data'!$F$10","v":0},{"$f":"'Standing data'!$D$6","v":"Academy name"},{"$f":"'Standing data'!$F$6","v":0},"Standing","F69",{"$f":"'Standing data'!F69","v":0}]
[{"$f":"'Standing data'!$D$10","v":{"$error":"#N/A"}},{"$f":"'Standing data'!$F$10","v":0},{"$f":"'Standing data'!$D$6","v":"Academy name"},{"$f":"'Standing data'!$F$6","v":0},"Standing","F70",{"$f":"'Standing data'!F70","v":0}]
[{"$f":"'Standing data'!$D$10","v":{"$error":"#N/A"}},{"$f":"'Standing data'!$F$10","v":0},{"$f":"'Standing data'!$D$6","v":"Academy name"},{"$f":"'Standing data'!$F$6","v":0},"Standing","F71",{"$f":"'Standing data'!F71","v":0}]
[{"$f":"'Standing data'!$D$10","v":{"$error":"#N/A"}},{"$f":"'Standing data'!$F$10","v":0},{"$f":"'Standing data'!$D$6","v":"Academy name"},{"$f":"'Standing data'!$F$6","v":0},"Standing","F72",{"$f":"'Standing data'!F72","v":0}]
[{"$f":"'Standing data'!$D$10","v":{"$error":"#N/A"}},{"$f":"'Standing data'!$F$10","v":0},{"$f":"'Standing data'!$D$6","v":"Academy name"},{"$f":"'Standing data'!$F$6","v":0},"Standing","F73",{"$f":"'Standing data'!F73","v":0}]
[{"$f":"'Standing data'!$D$10","v":{"$error":"#N/A"}},{"$f":"'Standing data'!$F$10","v":0},{"$f":"'Standing data'!$D$6","v":"Academy name"},{"$f":"'Standing data'!$F$6","v":0},"Standing","F74",{"$f":"'Standing data'!F74","v":0}]
[{"$f":"'Standing data'!$D$10","v":{"$error":"#N/A"}},{"$f":"'Standing data'!$F$10","v":0},{"$f":"'Standing data'!$D$6","v":"Academy name"},{"$f":"'Standing data'!$F$6","v":0},"Standing","F75",{"$f":"'Standing data'!F75","v":0}]
[{"$f":"'Standing data'!$D$10","v":{"$error":"#N/A"}},{"$f":"'Standing data'!$F$10","v":0},{"$f":"'Standing data'!$D$6","v":"Academy name"},{"$f":"'Standing data'!$F$6","v":0},"Standing","F76",{"$f":"'Standing data'!F76","v":0}]
[{"$f":"'Standing data'!$D$10","v":{"$error":"#N/A"}},{"$f":"'Standing data'!$F$10","v":0},{"$f":"'Standing data'!$D$6","v":"Academy name"},{"$f":"'Standing data'!$F$6","v":0},"Standing","F77",{"$f":"'Standing data'!F77","v":0}]
[{"$f":"'Standing data'!$D$10","v":{"$error":"#N/A"}},{"$f":"'Standing data'!$F$10","v":0},{"$f":"'Standing data'!$D$6","v":"Academy name"},{"$f":"'Standing data'!$F$6","v":0},"Standing","F78",{"$f":"'Standing data'!F78","v":0}]
[{"$f":"'Standing data'!$D$10","v":{"$error":"#N/A"}},{"$f":"'Standing data'!$F$10","v":0},{"$f":"'Standing data'!$D$6","v":"Academy name"},{"$f":"'Standing data'!$F$6","v":0},"Standing","F79",{"$f":"'Standing data'!F79","v":0}]
[{"$f":"'Standing data'!$D$10","v":{"$error":"#N/A"}},{"$f":"'Standing data'!$F$10","v":0},{"$f":"'Standing data'!$D$6","v":"Academy name"},{"$f":"'Standing data'!$F$6","v":0},"Standing","F80",{"$f":"'Standing data'!F80","v":0}]
[{"$f":"'Standing data'!$D$10","v":{"$error":"#N/A"}},{"$f":"'Standing data'!$F$10","v":0},{"$f":"'Standing data'!$D$6","v":"Academy name"},{"$f":"'Standing data'!$F$6","v":0},"Standing","F81",{"$f":"'Standing data'!F81","v":0}]
[{"$f":"'Standing data'!$D$10","v":{"$error":"#N/A"}},{"$f":"'Standing data'!$F$10","v":0},{"$f":"'Standing data'!$D$6","v":"Academy name"},{"$f":"'Standing data'!$F$6","v":0},"Standing","F82",{"$f":"'Standing data'!F82","v":0}]
[{"$f":"'Standing data'!$D$10","v":{"$error":"#N/A"}},{"$f":"'Standing data'!$F$10","v":0},{"$f":"'Standing data'!$D$6","v":"Academy name"},{"$f":"'Standing data'!$F$6","v":0},"Standing","F83",{"$f":"'Standing data'!F83","v":0}]
[{"$f":"'Standing data'!$D$10","v":{"$error":"#N/A"}},{"$f":"'Standing data'!$F$10","v":0},{"$f":"'Standing data'!$D$6","v":"Academy name"},{"$f":"'Standing data'!$F$6","v":0},"Standing","F84",{"$f":"'Standing data'!F84","v":0}]
[{"$f":"'Standing data'!$D$10","v":{"$error":"#N/A"}},{"$f":"'Standing data'!$F$10","v":0},{"$f":"'Standing data'!$D$6","v":"Academy name"},{"$f":"'Standing data'!$F$6","v":0},"Standing","F85",{"$f":"'Standing data'!F85","v":0}]
[{"$f":"'Standing data'!$D$10","v":{"$error":"#N/A"}},{"$f":"'Standing data'!$F$10","v":0},{"$f":"'Standing data'!$D$6","v":"Academy name"},{"$f":"'Standing data'!$F$6","v":0},"Standing","F86",{"$f":"'Standing data'!F86","v":0}]
[{"$f":"'Standing data'!$D$10","v":{"$error":"#N/A"}},{"$f":"'Standing data'!$F$10","v":0},{"$f":"'Standing data'!$D$6","v":"Academy name"},{"$f":"'Standing data'!$F$6","v":0},"Standing","F87",{"$f":"'Standing data'!F87","v":0}]
[{"$f":"'Standing data'!$D$10","v":{"$error":"#N/A"}},{"$f":"'Standing data'!$F$10","v":0},{"$f":"'Standing data'!$D$6","v":"Academy name"},{"$f":"'Standing data'!$F$6","v":0},"Standing","F88",{"$f":"'Standing data'!F88","v":0}]
[{"$f":"'Standing data'!$D$10","v":{"$error":"#N/A"}},{"$f":"'Standing data'!$F$10","v":0},{"$f":"'Standing data'!$D$6","v":"Academy name"},{"$f":"'Standing data'!$F$6","v":0},"Standing","F89",{"$f":"'Standing data'!F89","v":0}]
[{"$f":"'Standing data'!$D$10","v":{"$error":"#N/A"}},{"$f":"'Standing data'!$F$10","v":0},{"$f":"'Standing data'!$D$6","v":"Academy name"},{"$f":"'Standing data'!$F$6","v":0},"Standing","F90",{"$f":"'Standing data'!F90","v":0}]
[{"$f":"'Standing data'!$D$10","v":{"$error":"#N/A"}},{"$f":"'Standing data'!$F$10","v":0},{"$f":"'Standing data'!$D$6","v":"Academy name"},{"$f":"'Standing data'!$F$6","v":0},"Standing","F91",{"$f":"'Standing data'!F91","v":0}]
[{"$f":"'Standing data'!$D$10","v":{"$error":"#N/A"}},{"$f":"'Standing data'!$F$10","v":0},{"$f":"'Standing data'!$D$6","v":"Academy name"},{"$f":"'Standing data'!$F$6","v":0},"Standing","F92",{"$f":"'Standing data'!F92","v":0}]
[{"$f":"'Standing data'!$D$10","v":{"$error":"#N/A"}},{"$f":"'Standing data'!$F$10","v":0},{"$f":"'Standing data'!$D$6","v":"Academy name"},{"$f":"'Standing data'!$F$6","v":0},"Standing","F93",{"$f":"'Standing data'!F93","v":0}]
[{"$f":"'Standing data'!$D$10","v":{"$error":"#N/A"}},{"$f":"'Standing data'!$F$10","v":0},{"$f":"'Standing data'!$D$6","v":"Academy name"},{"$f":"'Standing data'!$F$6","v":0},"Standing","F94",{"$f":"'Standing data'!F94","v":0}]
[{"$f":"'Standing data'!$D$10","v":{"$error":"#N/A"}},{"$f":"'Standing data'!$F$10","v":0},{"$f":"'Standing data'!$D$6","v":"Academy name"},{"$f":"'Standing data'!$F$6","v":0},"Standing","F95",{"$f":"'Standing data'!F95","v":0}]
[{"$f":"'Standing data'!$D$10","v":{"$error":"#N/A"}},{"$f":"'Standing data'!$F$10","v":0},{"$f":"'Standing data'!$D$6","v":"Academy name"},{"$f":"'Standing data'!$F$6","v":0},"Standing","F96",{"$f":"'Standing data'!F96","v":0}]
[{"$f":"'Standing data'!$D$10","v":{"$error":"#N/A"}},{"$f":"'Standing data'!$F$10","v":0},{"$f":"'Standing data'!$D$6","v":"Academy name"},{"$f":"'Standing data'!$F$6","v":0},"Standing","F97",{"$f":"'Standing data'!F97","v":0}]
[{"$f":"'Standing data'!$D$10","v":{"$error":"#N/A"}},{"$f":"'Standing data'!$F$10","v":0},{"$f":"'Standing data'!$D$6","v":"Academy name"},{"$f":"'Standing data'!$F$6","v":0},"Standing","F98",{"$f":"'Standing data'!F98","v":0}]
[{"$f":"'Standing data'!$D$10","v":{"$error":"#N/A"}},{"$f":"'Standing data'!$F$10","v":0},{"$f":"'Standing data'!$D$6","v":"Academy name"},{"$f":"'Standing data'!$F$6","v":0},"Standing","F99",{"$f":"'Standing data'!F99","v":0}]
[{"$f":"'Standing data'!$D$10","v":{"$error":"#N/A"}},{"$f":"'Standing data'!$F$10","v":0},{"$f":"'Standing data'!$D$6","v":"Academy name"},{"$f":"'Standing data'!$F$6","v":0},"Standing","F100",{"$f":"'Standing data'!F100","v":0}]
[{"$f":"'Standing data'!$D$10","v":{"$error":"#N/A"}},{"$f":"'Standing data'!$F$10","v":0},{"$f":"'Standing data'!$D$6","v":"Academy name"},{"$f":"'Standing data'!$F$6","v":0},"Standing","F101",{"$f":"'Standing data'!F101","v":0}]
[{"$f":"'Standing data'!$D$10","v":{"$error":"#N/A"}},{"$f":"'Standing data'!$F$10","v":0},{"$f":"'Standing data'!$D$6","v":"Academy name"},{"$f":"'Standing data'!$F$6","v":0},"Standing","F102",{"$f":"'Standing data'!F102","v":0}]
[{"$f":"'Standing data'!$D$10","v":{"$error":"#N/A"}},{"$f":"'Standing data'!$F$10","v":0},{"$f":"'Standing data'!$D$6","v":"Academy name"},{"$f":"'Standing data'!$F$6","v":0},"Standing","F103",{"$f":"'Standing data'!F103","v":0}]
[{"$f":"'Standing data'!$D$10","v":{"$error":"#N/A"}},{"$f":"'Standing data'!$F$10","v":0},{"$f":"'Standing data'!$D$6","v":"Academy name"},{"$f":"'Standing data'!$F$6","v":0},"Standing","F104",{"$f":"'Standing data'!F104","v":0}]
[{"$f":"'Standing data'!$D$10","v":{"$error":"#N/A"}},{"$f":"'Standing data'!$F$10","v":0},{"$f":"'Standing data'!$D$6","v":"Academy name"},{"$f":"'Standing data'!$F$6","v":0},"Standing","F105",{"$f":"'Standing data'!F105","v":0}]
[{"$f":"'Standing data'!$D$10","v":{"$error":"#N/A"}},{"$f":"'Standing data'!$F$10","v":0},{"$f":"'Standing data'!$D$6","v":"Academy name"},{"$f":"'Standing data'!$F$6","v":0},"Standing","F106",{"$f":"'Standing data'!F106","v":0}]
[{"$f":"'Standing data'!$D$10","v":{"$error":"#N/A"}},{"$f":"'Standing data'!$F$10","v":0},{"$f":"'Standing data'!$D$6","v":"Academy name"},{"$f":"'Standing data'!$F$6","v":0},"Standing","F107",{"$f":"'Standing data'!F107","v":0}]
[{"$f":"'Standing data'!$D$10","v":{"$error":"#N/A"}},{"$f":"'Standing data'!$F$10","v":0},{"$f":"'Standing data'!$D$6","v":"Academy name"},{"$f":"'Standing data'!$F$6","v":0},"Standing","F108",{"$f":"'Standing data'!F108","v":0}]
[{"$f":"'Standing data'!$D$10","v":{"$error":"#N/A"}},{"$f":"'Standing data'!$F$10","v":0},{"$f":"'Standing data'!$D$6","v":"Academy name"},{"$f":"'Standing data'!$F$6","v":0},"Standing","F109",{"$f":"'Standing data'!F109","v":0}]
[{"$f":"'Standing data'!$D$10","v":{"$error":"#N/A"}},{"$f":"'Standing data'!$F$10","v":0},{"$f":"'Standing data'!$D$6","v":"Academy name"},{"$f":"'Standing data'!$F$6","v":0},"Standing","F110",{"$f":"'Standing data'!F110","v":0}]
[{"$f":"'Standing data'!$D$10","v":{"$error":"#N/A"}},{"$f":"'Standing data'!$F$10","v":0},{"$f":"'Standing data'!$D$6","v":"Academy name"},{"$f":"'Standing data'!$F$6","v":0},"Standing","F111",{"$f":"'Standing data'!F111","v":0}]
[{"$f":"'Standing data'!$D$10","v":{"$error":"#N/A"}},{"$f":"'Standing data'!$F$10","v":0},{"$f":"'Standing data'!$D$6","v":"Academy name"},{"$f":"'Standing data'!$F$6","v":0},"Standing","F112",{"$f":"'Standing data'!F112","v":0}]
[{"$f":"'Standing data'!$D$10","v":{"$error":"#N/A"}},{"$f":"'Standing data'!$F$10","v":0},{"$f":"'Standing data'!$D$6","v":"Academy name"},{"$f":"'Standing data'!$F$6","v":0},"Standing","F113",{"$f":"'Standing data'!F113","v":0}]
[{"$f":"'Standing data'!$D$10","v":{"$error":"#N/A"}},{"$f":"'Standing data'!$F$10","v":0},{"$f":"'Standing data'!$D$6","v":"Academy name"},{"$f":"'Standing data'!$F$6","v":0},"Standing","F114",{"$f":"'Standing data'!F114","v":0}]
[{"$f":"'Standing data'!$D$10","v":{"$error":"#N/A"}},{"$f":"'Standing data'!$F$10","v":0},{"$f":"'Standing data'!$D$6","v":"Academy name"},{"$f":"'Standing data'!$F$6","v":0},"Standing","F115",{"$f":"'Standing data'!F115","v":0}]
[{"$f":"'Standing data'!$D$10","v":{"$error":"#N/A"}},{"$f":"'Standing data'!$F$10","v":0},{"$f":"'Standing data'!$D$6","v":"Academy name"},{"$f":"'Standing data'!$F$6","v":0},"Standing","F116",{"$f":"'Standing data'!F116","v":0}]
[{"$f":"'Standing data'!$D$10","v":{"$error":"#N/A"}},{"$f":"'Standing data'!$F$10","v":0},{"$f":"'Standing data'!$D$6","v":"Academy name"},{"$f":"'Standing data'!$F$6","v":0},"Standing","F117",{"$f":"'Standing data'!F117","v":0}]
[{"$f":"'Standing data'!$D$10","v":{"$error":"#N/A"}},{"$f":"'Standing data'!$F$10","v":0},{"$f":"'Standing data'!$D$6","v":"Academy name"},{"$f":"'Standing data'!$F$6","v":0},"Standing","F118",{"$f":"'Standing data'!F118","v":0}]
[{"$f":"'Standing data'!$D$10","v":{"$error":"#N/A"}},{"$f":"'Standing data'!$F$10","v":0},{"$f":"'Standing data'!$D$6","v":"Academy name"},{"$f":"'Standing data'!$F$6","v":0},"Standing","F119",{"$f":"'Standing data'!F119","v":0}]
[{"$f":"'Standing data'!$D$10","v":{"$error":"#N/A"}},{"$f":"'Standing data'!$F$10","v":0},{"$f":"'Standing data'!$D$6","v":"Academy name"},{"$f":"'Standing data'!$F$6","v":0},"Standing","F120",{"$f":"'Standing data'!F120","v":0}]
[{"$f":"'Standing data'!$D$10","v":{"$error":"#N/A"}},{"$f":"'Standing data'!$F$10","v":0},{"$f":"'Standing data'!$D$6","v":"Academy name"},{"$f":"'Standing data'!$F$6","v":0},"Standing","F121",{"$f":"'Standing data'!F121","v":0}]
[{"$f":"'Standing data'!$D$10","v":{"$error":"#N/A"}},{"$f":"'Standing data'!$F$10","v":0},{"$f":"'Standing data'!$D$6","v":"Academy name"},{"$f":"'Standing data'!$F$6","v":0},"Standing","F122",{"$f":"'Standing data'!F122","v":0}]
[{"$f":"'Standing data'!$D$10","v":{"$error":"#N/A"}},{"$f":"'Standing data'!$F$10","v":0},{"$f":"'Standing data'!$D$6","v":"Academy name"},{"$f":"'Standing data'!$F$6","v":0},"Standing","F123",{"$f":"'Standing data'!F123","v":0}]
[{"$f":"'Standing data'!$D$10","v":{"$error":"#N/A"}},{"$f":"'Standing data'!$F$10","v":0},{"$f":"'Standing data'!$D$6","v":"Academy name"},{"$f":"'Standing data'!$F$6","v":0},"Standing","F124",{"$f":"'Standing data'!F124","v":0}]
[{"$f":"'Standing data'!$D$10","v":{"$error":"#N/A"}},{"$f":"'Standing data'!$F$10","v":0},{"$f":"'Standing data'!$D$6","v":"Academy name"},{"$f":"'Standing data'!$F$6","v":0},"Standing","F125",{"$f":"'Standing data'!F125","v":0}]
[{"$f":"'Standing data'!$D$10","v":{"$error":"#N/A"}},{"$f":"'Standing data'!$F$10","v":0},{"$f":"'Standing data'!$D$6","v":"Academy name"},{"$f":"'Standing data'!$F$6","v":0},"Standing","F126",{"$f":"'Standing data'!F126","v":0}]
[{"$f":"'Standing data'!$D$10","v":{"$error":"#N/A"}},{"$f":"'Standing data'!$F$10","v":0},{"$f":"'Standing data'!$D$6","v":"Academy name"},{"$f":"'Standing data'!$F$6","v":0},"Standing","F127",{"$f":"'Standing data'!F127","v":0}]
[{"$f":"'Standing data'!$D$10","v":{"$error":"#N/A"}},{"$f":"'Standing data'!$F$10","v":0},{"$f":"'Standing data'!$D$6","v":"Academy name"},{"$f":"'Standing data'!$F$6","v":0},"Standing","F128",{"$f":"'Standing data'!F128","v":0}]
[{"$f":"'Standing data'!$D$10","v":{"$error":"#N/A"}},{"$f":"'Standing data'!$F$10","v":0},{"$f":"'Standing data'!$D$6","v":"Academy name"},{"$f":"'Standing data'!$F$6","v":0},"Standing","F129",{"$f":"'Standing data'!F129","v":0}]
[{"$f":"'Standing data'!$D$10","v":{"$error":"#N/A"}},{"$f":"'Standing data'!$F$10","v":0},{"$f":"'Standing data'!$D$6","v":"Academy name"},{"$f":"'Standing data'!$F$6","v":0},"Standing","F130",{"$f":"'Standing data'!F130","v":0}]
[{"$f":"'Standing data'!$D$10","v":{"$error":"#N/A"}},{"$f":"'Standing data'!$F$10","v":0},{"$f":"'Standing data'!$D$6","v":"Academy name"},{"$f":"'Standing data'!$F$6","v":0},"Standing","F131",{"$f":"'Standing data'!F131","v":0}]
[{"$f":"'Standing data'!$D$10","v":{"$error":"#N/A"}},{"$f":"'Standing data'!$F$10","v":0},{"$f":"'Standing data'!$D$6","v":"Academy name"},{"$f":"'Standing data'!$F$6","v":0},"Standing","F132",{"$f":"'Standing data'!F132","v":0}]
[{"$f":"'Standing data'!$D$10","v":{"$error":"#N/A"}},{"$f":"'Standing data'!$F$10","v":0},{"$f":"'Standing data'!$D$6","v":"Academy name"},{"$f":"'Standing data'!$F$6","v":0},"Standing","G33",{"$f":"'Standing data'!G33","v":"00:00:00"}]
[{"$f":"'Standing data'!$D$10","v":{"$error":"#N/A"}},{"$f":"'Standing data'!$F$10","v":0},{"$f":"'Standing data'!$D$6","v":"Academy name"},{"$f":"'Standing data'!$F$6","v":0},"Standing","G34",{"$f":"'Standing data'!G34","v":"00:00:00"}]
[{"$f":"'Standing data'!$D$10","v":{"$error":"#N/A"}},{"$f":"'Standing data'!$F$10","v":0},{"$f":"'Standing data'!$D$6","v":"Academy name"},{"$f":"'Standing data'!$F$6","v":0},"Standing","G35",{"$f":"'Standing data'!G35","v":"00:00:00"}]
[{"$f":"'Standing data'!$D$10","v":{"$error":"#N/A"}},{"$f":"'Standing data'!$F$10","v":0},{"$f":"'Standing data'!$D$6","v":"Academy name"},{"$f":"'Standing data'!$F$6","v":0},"Standing","G36",{"$f":"'Standing data'!G36","v":"00:00:00"}]
[{"$f":"'Standing data'!$D$10","v":{"$error":"#N/A"}},{"$f":"'Standing data'!$F$10","v":0},{"$f":"'Standing data'!$D$6","v":"Academy name"},{"$f":"'Standing data'!$F$6","v":0},"Standing","G37",{"$f":"'Standing data'!G37","v":"00:00:00"}]
[{"$f":"'Standing data'!$D$10","v":{"$error":"#N/A"}},{"$f":"'Standing data'!$F$10","v":0},{"$f":"'Standing data'!$D$6","v":"Academy name"},{"$f":"'Standing data'!$F$6","v":0},"Standing","G38",{"$f":"'Standing data'!G38","v":"00:00:00"}]
[{"$f":"'Standing data'!$D$10","v":{"$error":"#N/A"}},{"$f":"'Standing data'!$F$10","v":0},{"$f":"'Standing data'!$D$6","v":"Academy name"},{"$f":"'Standing data'!$F$6","v":0},"Standing","G39",{"$f":"'Standing data'!G39","v":"00:00:00"}]
[{"$f":"'Standing data'!$D$10","v":{"$error":"#N/A"}},{"$f":"'Standing data'!$F$10","v":0},{"$f":"'Standing data'!$D$6","v":"Academy name"},{"$f":"'Standing data'!$F$6","v":0},"Standing","G40",{"$f":"'Standing data'!G40","v":"00:00:00"}]
[{"$f":"'Standing data'!$D$10","v":{"$error":"#N/A"}},{"$f":"'Standing data'!$F$10","v":0},{"$f":"'Standing data'!$D$6","v":"Academy name"},{"$f":"'Standing data'!$F$6","v":0},"Standing","G41",{"$f":"'Standing data'!G41","v":"00:00:00"}]
[{"$f":"'Standing data'!$D$10","v":{"$error":"#N/A"}},{"$f":"'Standing data'!$F$10","v":0},{"$f":"'Standing data'!$D$6","v":"Academy name"},{"$f":"'Standing data'!$F$6","v":0},"Standing","G42",{"$f":"'Standing data'!G42","v":"00:00:00"}]
[{"$f":"'Standing data'!$D$10","v":{"$error":"#N/A"}},{"$f":"'Standing data'!$F$10","v":0},{"$f":"'Standing data'!$D$6","v":"Academy name"},{"$f":"'Standing data'!$F$6","v":0},"Standing","G43",{"$f":"'Standing data'!G43","v":"00:00:00"}]
[{"$f":"'Standing data'!$D$10","v":{"$error":"#N/A"}},{"$f":"'Standing data'!$F$10","v":0},{"$f":"'Standing data'!$D$6","v":"Academy name"},{"$f":"'Standing data'!$F$6","v":0},"Standing","G44",{"$f":"'Standing data'!G44","v":"00:00:00"}]
[{"$f":"'Standing data'!$D$10","v":{"$error":"#N/A"}},{"$f":"'Standing data'!$F$10","v":0},{"$f":"'Standing data'!$D$6","v":"Academy name"},{"$f":"'Standing data'!$F$6","v":0},"Standing","G45",{"$f":"'Standing data'!G45","v":"00:00:00"}]
[{"$f":"'Standing data'!$D$10","v":{"$error":"#N/A"}},{"$f":"'Standing data'!$F$10","v":0},{"$f":"'Standing data'!$D$6","v":"Academy name"},{"$f":"'Standing data'!$F$6","v":0},"Standing","G46",{"$f":"'Standing data'!G46","v":"00:00:00"}]
[{"$f":"'Standing data'!$D$10","v":{"$error":"#N/A"}},{"$f":"'Standing data'!$F$10","v":0},{"$f":"'Standing data'!$D$6","v":"Academy name"},{"$f":"'Standing data'!$F$6","v":0},"Standing","G47",{"$f":"'Standing data'!G47","v":"00:00:00"}]
[{"$f":"'Standing data'!$D$10","v":{"$error":"#N/A"}},{"$f":"'Standing data'!$F$10","v":0},{"$f":"'Standing data'!$D$6","v":"Academy name"},{"$f":"'Standing data'!$F$6","v":0},"Standing","G48",{"$f":"'Standing data'!G48","v":"00:00:00"}]
[{"$f":"'Standing data'!$D$10","v":{"$error":"#N/A"}},{"$f":"'Standing data'!$F$10","v":0},{"$f":"'Standing data'!$D$6","v":"Academy name"},{"$f":"'Standing data'!$F$6","v":0},"Standing","G49",{"$f":"'Standing data'!G49","v":"00:00:00"}]
[{"$f":"'Standing data'!$D$10","v":{"$error":"#N/A"}},{"$f":"'Standing data'!$F$10","v":0},{"$f":"'Standing data'!$D$6","v":"Academy name"},{"$f":"'Standing data'!$F$6","v":0},"Standing","G50",{"$f":"'Standing data'!G50","v":"00:00:00"}]
[{"$f":"'Standing data'!$D$10","v":{"$error":"#N/A"}},{"$f":"'Standing data'!$F$10","v":0},{"$f":"'Standing data'!$D$6","v":"Academy name"},{"$f":"'Standing data'!$F$6","v":0},"Standing","G51",{"$f":"'Standing data'!G51","v":"00:00:00"}]
[{"$f":"'Standing data'!$D$10","v":{"$error":"#N/A"}},{"$f":"'Standing data'!$F$10","v":0},{"$f":"'Standing data'!$D$6","v":"Academy name"},{"$f":"'Standing data'!$F$6","v":0},"Standing","G52",{"$f":"'Standing data'!G52","v":"00:00:00"}]
[{"$f":"'Standing data'!$D$10","v":{"$error":"#N/A"}},{"$f":"'Standing data'!$F$10","v":0},{"$f":"'Standing data'!$D$6","v":"Academy name"},{"$f":"'Standing data'!$F$6","v":0},"Standing","G53",{"$f":"'Standing data'!G53","v":"00:00:00"}]
[{"$f":"'Standing data'!$D$10","v":{"$error":"#N/A"}},{"$f":"'Standing data'!$F$10","v":0},{"$f":"'Standing data'!$D$6","v":"Academy name"},{"$f":"'Standing data'!$F$6","v":0},"Standing","G54",{"$f":"'Standing data'!G54","v":"00:00:00"}]
[{"$f":"'Standing data'!$D$10","v":{"$error":"#N/A"}},{"$f":"'Standing data'!$F$10","v":0},{"$f":"'Standing data'!$D$6","v":"Academy name"},{"$f":"'Standing data'!$F$6","v":0},"Standing","G55",{"$f":"'Standing data'!G55","v":"00:00:00"}]
[{"$f":"'Standing data'!$D$10","v":{"$error":"#N/A"}},{"$f":"'Standing data'!$F$10","v":0},{"$f":"'Standing data'!$D$6","v":"Academy name"},{"$f":"'Standing data'!$F$6","v":0},"Standing","G56",{"$f":"'Standing data'!G56","v":"00:00:00"}]
[{"$f":"'Standing data'!$D$10","v":{"$error":"#N/A"}},{"$f":"'Standing data'!$F$10","v":0},{"$f":"'Standing data'!$D$6","v":"Academy name"},{"$f":"'Standing data'!$F$6","v":0},"Standing","G57",{"$f":"'Standing data'!G57","v":"00:00:00"}]
[{"$f":"'Standing data'!$D$10","v":{"$error":"#N/A"}},{"$f":"'Standing data'!$F$10","v":0},{"$f":"'Standing data'!$D$6","v":"Academy name"},{"$f":"'Standing data'!$F$6","v":0},"Standing","G58",{"$f":"'Standing data'!G58","v":"00:00:00"}]
[{"$f":"'Standing data'!$D$10","v":{"$error":"#N/A"}},{"$f":"'Standing data'!$F$10","v":0},{"$f":"'Standing data'!$D$6","v":"Academy name"},{"$f":"'Standing data'!$F$6","v":0},"Standing","G59",{"$f":"'Standing data'!G59","v":"00:00:00"}]
[{"$f":"'Standing data'!$D$10","v":{"$error":"#N/A"}},{"$f":"'Standing data'!$F$10","v":0},{"$f":"'Standing data'!$D$6","v":"Academy name"},{"$f":"'Standing data'!$F$6","v":0},"Standing","G60",{"$f":"'Standing data'!G60","v":"00:00:00"}]
[{"$f":"'Standing data'!$D$10","v":{"$error":"#N/A"}},{"$f":"'Standing data'!$F$10","v":0},{"$f":"'Standing data'!$D$6","v":"Academy name"},{"$f":"'Standing data'!$F$6","v":0},"Standing","G61",{"$f":"'Standing data'!G61","v":"00:00:00"}]
[{"$f":"'Standing data'!$D$10","v":{"$error":"#N/A"}},{"$f":"'Standing data'!$F$10","v":0},{"$f":"'Standing data'!$D$6","v":"Academy name"},{"$f":"'Standing data'!$F$6","v":0},"Standing","G62",{"$f":"'Standing data'!G62","v":"00:00:00"}]
[{"$f":"'Standing data'!$D$10","v":{"$error":"#N/A"}},{"$f":"'Standing data'!$F$10","v":0},{"$f":"'Standing data'!$D$6","v":"Academy name"},{"$f":"'Standing data'!$F$6","v":0},"Standing","G63",{"$f":"'Standing data'!G63","v":"00:00:00"}]
[{"$f":"'Standing data'!$D$10","v":{"$error":"#N/A"}},{"$f":"'Standing data'!$F$10","v":0},{"$f":"'Standing data'!$D$6","v":"Academy name"},{"$f":"'Standing data'!$F$6","v":0},"Standing","G64",{"$f":"'Standing data'!G64","v":"00:00:00"}]
[{"$f":"'Standing data'!$D$10","v":{"$error":"#N/A"}},{"$f":"'Standing data'!$F$10","v":0},{"$f":"'Standing data'!$D$6","v":"Academy name"},{"$f":"'Standing data'!$F$6","v":0},"Standing","G65",{"$f":"'Standing data'!G65","v":"00:00:00"}]
[{"$f":"'Standing data'!$D$10","v":{"$error":"#N/A"}},{"$f":"'Standing data'!$F$10","v":0},{"$f":"'Standing data'!$D$6","v":"Academy name"},{"$f":"'Standing data'!$F$6","v":0},"Standing","G66",{"$f":"'Standing data'!G66","v":"00:00:00"}]
[{"$f":"'Standing data'!$D$10","v":{"$error":"#N/A"}},{"$f":"'Standing data'!$F$10","v":0},{"$f":"'Standing data'!$D$6","v":"Academy name"},{"$f":"'Standing data'!$F$6","v":0},"Standing","G67",{"$f":"'Standing data'!G67","v":"00:00:00"}]
[{"$f":"'Standing data'!$D$10","v":{"$error":"#N/A"}},{"$f":"'Standing data'!$F$10","v":0},{"$f":"'Standing data'!$D$6","v":"Academy name"},{"$f":"'Standing data'!$F$6","v":0},"Standing","G68",{"$f":"'Standing data'!G68","v":"00:00:00"}]
[{"$f":"'Standing data'!$D$10","v":{"$error":"#N/A"}},{"$f":"'Standing data'!$F$10","v":0},{"$f":"'Standing data'!$D$6","v":"Academy name"},{"$f":"'Standing data'!$F$6","v":0},"Standing","G69",{"$f":"'Standing data'!G69","v":"00:00:00"}]
[{"$f":"'Standing data'!$D$10","v":{"$error":"#N/A"}},{"$f":"'Standing data'!$F$10","v":0},{"$f":"'Standing data'!$D$6","v":"Academy name"},{"$f":"'Standing data'!$F$6","v":0},"Standing","G70",{"$f":"'Standing data'!G70","v":"00:00:00"}]
[{"$f":"'Standing data'!$D$10","v":{"$error":"#N/A"}},{"$f":"'Standing data'!$F$10","v":0},{"$f":"'Standing data'!$D$6","v":"Academy name"},{"$f":"'Standing data'!$F$6","v":0},"Standing","G71",{"$f":"'Standing data'!G71","v":"00:00:00"}]
[{"$f":"'Standing data'!$D$10","v":{"$error":"#N/A"}},{"$f":"'Standing data'!$F$10","v":0},{"$f":"'Standing data'!$D$6","v":"Academy name"},{"$f":"'Standing data'!$F$6","v":0},"Standing","G72",{"$f":"'Standing data'!G72","v":"00:00:00"}]
[{"$f":"'Standing data'!$D$10","v":{"$error":"#N/A"}},{"$f":"'Standing data'!$F$10","v":0},{"$f":"'Standing data'!$D$6","v":"Academy name"},{"$f":"'Standing data'!$F$6","v":0},"Standing","G73",{"$f":"'Standing data'!G73","v":"00:00:00"}]
[{"$f":"'Standing data'!$D$10","v":{"$error":"#N/A"}},{"$f":"'Standing data'!$F$10","v":0},{"$f":"'Standing data'!$D$6","v":"Academy name"},{"$f":"'Standing data'!$F$6","v":0},"Standing","G74",{"$f":"'Standing data'!G74","v":"00:00:00"}]
[{"$f":"'Standing data'!$D$10","v":{"$error":"#N/A"}},{"$f":"'Standing data'!$F$10","v":0},{"$f":"'Standing data'!$D$6","v":"Academy name"},{"$f":"'Standing data'!$F$6","v":0},"Standing","G75",{"$f":"'Standing data'!G75","v":"00:00:00"}]
[{"$f":"'Standing data'!$D$10","v":{"$error":"#N/A"}},{"$f":"'Standing data'!$F$10","v":0},{"$f":"'Standing data'!$D$6","v":"Academy name"},{"$f":"'Standing data'!$F$6","v":0},"Standing","G76",{"$f":"'Standing data'!G76","v":"00:00:00"}]
[{"$f":"'Standing data'!$D$10","v":{"$error":"#N/A"}},{"$f":"'Standing data'!$F$10","v":0},{"$f":"'Standing data'!$D$6","v":"Academy name"},{"$f":"'Standing data'!$F$6","v":0},"Standing","G77",{"$f":"'Standing data'!G77","v":"00:00:00"}]
[{"$f":"'Standing data'!$D$10","v":{"$error":"#N/A"}},{"$f":"'Standing data'!$F$10","v":0},{"$f":"'Standing data'!$D$6","v":"Academy name"},{"$f":"'Standing data'!$F$6","v":0},"Standing","G78",{"$f":"'Standing data'!G78","v":"00:00:00"}]
[{"$f":"'Standing data'!$D$10","v":{"$error":"#N/A"}},{"$f":"'Standing data'!$F$10","v":0},{"$f":"'Standing data'!$D$6","v":"Academy name"},{"$f":"'Standing data'!$F$6","v":0},"Standing","G79",{"$f":"'Standing data'!G79","v":"00:00:00"}]
[{"$f":"'Standing data'!$D$10","v":{"$error":"#N/A"}},{"$f":"'Standing data'!$F$10","v":0},{"$f":"'Standing data'!$D$6","v":"Academy name"},{"$f":"'Standing data'!$F$6","v":0},"Standing","G80",{"$f":"'Standing data'!G80","v":"00:00:00"}]
[{"$f":"'Standing data'!$D$10","v":{"$error":"#N/A"}},{"$f":"'Standing data'!$F$10","v":0},{"$f":"'Standing data'!$D$6","v":"Academy name"},{"$f":"'Standing data'!$F$6","v":0},"Standing","G81",{"$f":"'Standing data'!G81","v":"00:00:00"}]
[{"$f":"'Standing data'!$D$10","v":{"$error":"#N/A"}},{"$f":"'Standing data'!$F$10","v":0},{"$f":"'Standing data'!$D$6","v":"Academy name"},{"$f":"'Standing data'!$F$6","v":0},"Standing","G82",{"$f":"'Standing data'!G82","v":"00:00:00"}]
[{"$f":"'Standing data'!$D$10","v":{"$error":"#N/A"}},{"$f":"'Standing data'!$F$10","v":0},{"$f":"'Standing data'!$D$6","v":"Academy name"},{"$f":"'Standing data'!$F$6","v":0},"Standing","G83",{"$f":"'Standing data'!G83","v":"00:00:00"}]
[{"$f":"'Standing data'!$D$10","v":{"$error":"#N/A"}},{"$f":"'Standing data'!$F$10","v":0},{"$f":"'Standing data'!$D$6","v":"Academy name"},{"$f":"'Standing data'!$F$6","v":0},"Standing","G84",{"$f":"'Standing data'!G84","v":"00:00:00"}]
[{"$f":"'Standing data'!$D$10","v":{"$error":"#N/A"}},{"$f":"'Standing data'!$F$10","v":0},{"$f":"'Standing data'!$D$6","v":"Academy name"},{"$f":"'Standing data'!$F$6","v":0},"Standing","G85",{"$f":"'Standing data'!G85","v":"00:00:00"}]
[{"$f":"'Standing data'!$D$10","v":{"$error":"#N/A"}},{"$f":"'Standing data'!$F$10","v":0},{"$f":"'Standing data'!$D$6","v":"Academy name"},{"$f":"'Standing data'!$F$6","v":0},"Standing","G86",{"$f":"'Standing data'!G86","v":"00:00:00"}]
[{"$f":"'Standing data'!$D$10","v":{"$error":"#N/A"}},{"$f":"'Standing data'!$F$10","v":0},{"$f":"'Standing data'!$D$6","v":"Academy name"},{"$f":"'Standing data'!$F$6","v":0},"Standing","G87",{"$f":"'Standing data'!G87","v":"00:00:00"}]
[{"$f":"'Standing data'!$D$10","v":{"$error":"#N/A"}},{"$f":"'Standing data'!$F$10","v":0},{"$f":"'Standing data'!$D$6","v":"Academy name"},{"$f":"'Standing data'!$F$6","v":0},"Standing","G88",{"$f":"'Standing data'!G88","v":"00:00:00"}]
[{"$f":"'Standing data'!$D$10","v":{"$error":"#N/A"}},{"$f":"'Standing data'!$F$10","v":0},{"$f":"'Standing data'!$D$6","v":"Academy name"},{"$f":"'Standing data'!$F$6","v":0},"Standing","G89",{"$f":"'Standing data'!G89","v":"00:00:00"}]
[{"$f":"'Standing data'!$D$10","v":{"$error":"#N/A"}},{"$f":"'Standing data'!$F$10","v":0},{"$f":"'Standing data'!$D$6","v":"Academy name"},{"$f":"'Standing data'!$F$6","v":0},"Standing","G90",{"$f":"'Standing data'!G90","v":"00:00:00"}]
[{"$f":"'Standing data'!$D$10","v":{"$error":"#N/A"}},{"$f":"'Standing data'!$F$10","v":0},{"$f":"'Standing data'!$D$6","v":"Academy name"},{"$f":"'Standing data'!$F$6","v":0},"Standing","G91",{"$f":"'Standing data'!G91","v":"00:00:00"}]
[{"$f":"'Standing data'!$D$10","v":{"$error":"#N/A"}},{"$f":"'Standing data'!$F$10","v":0},{"$f":"'Standing data'!$D$6","v":"Academy name"},{"$f":"'Standing data'!$F$6","v":0},"Standing","G92",{"$f":"'Standing data'!G92","v":"00:00:00"}]
[{"$f":"'Standing data'!$D$10","v":{"$error":"#N/A"}},{"$f":"'Standing data'!$F$10","v":0},{"$f":"'Standing data'!$D$6","v":"Academy name"},{"$f":"'Standing data'!$F$6","v":0},"Standing","G93",{"$f":"'Standing data'!G93","v":"00:00:00"}]
[{"$f":"'Standing data'!$D$10","v":{"$error":"#N/A"}},{"$f":"'Standing data'!$F$10","v":0},{"$f":"'Standing data'!$D$6","v":"Academy name"},{"$f":"'Standing data'!$F$6","v":0},"Standing","G94",{"$f":"'Standing data'!G94","v":"00:00:00"}]
[{"$f":"'Standing data'!$D$10","v":{"$error":"#N/A"}},{"$f":"'Standing data'!$F$10","v":0},{"$f":"'Standing data'!$D$6","v":"Academy name"},{"$f":"'Standing data'!$F$6","v":0},"Standing","G95",{"$f":"'Standing data'!G95","v":"00:00:00"}]
[{"$f":"'Standing data'!$D$10","v":{"$error":"#N/A"}},{"$f":"'Standing data'!$F$10","v":0},{"$f":"'Standing data'!$D$6","v":"Academy name"},{"$f":"'Standing data'!$F$6","v":0},"Standing","G96",{"$f":"'Standing data'!G96","v":"00:00:00"}]
[{"$f":"'Standing data'!$D$10","v":{"$error":"#N/A"}},{"$f":"'Standing data'!$F$10","v":0},{"$f":"'Standing data'!$D$6","v":"Academy name"},{"$f":"'Standing data'!$F$6","v":0},"Standing","G97",{"$f":"'Standing data'!G97","v":"00:00:00"}]
[{"$f":"'Standing data'!$D$10","v":{"$error":"#N/A"}},{"$f":"'Standing data'!$F$10","v":0},{"$f":"'Standing data'!$D$6","v":"Academy name"},{"$f":"'Standing data'!$F$6","v":0},"Standing","G98",{"$f":"'Standing data'!G98","v":"00:00:00"}]
[{"$f":"'Standing data'!$D$10","v":{"$error":"#N/A"}},{"$f":"'Standing data'!$F$10","v":0},{"$f":"'Standing data'!$D$6","v":"Academy name"},{"$f":"'Standing data'!$F$6","v":0},"Standing","G99",{"$f":"'Standing data'!G99","v":"00:00:00"}]
[{"$f":"'Standing data'!$D$10","v":{"$error":"#N/A"}},{"$f":"'Standing data'!$F$10","v":0},{"$f":"'Standing data'!$D$6","v":"Academy name"},{"$f":"'Standing data'!$F$6","v":0},"Standing","G100",{"$f":"'Standing data'!G100","v":"00:00:00"}]
[{"$f":"'Standing data'!$D$10","v":{"$error":"#N/A"}},{"$f":"'Standing data'!$F$10","v":0},{"$f":"'Standing data'!$D$6","v":"Academy name"},{"$f":"'Standing data'!$F$6","v":0},"Standing","G101",{"$f":"'Standing data'!G101","v":"00:00:00"}]
[{"$f":"'Standing data'!$D$10","v":{"$error":"#N/A"}},{"$f":"'Standing data'!$F$10","v":0},{"$f":"'Standing data'!$D$6","v":"Academy name"},{"$f":"'Standing data'!$F$6","v":0},"Standing","G102",{"$f":"'Standing data'!G102","v":"00:00:00"}]
[{"$f":"'Standing data'!$D$10","v":{"$error":"#N/A"}},{"$f":"'Standing data'!$F$10","v":0},{"$f":"'Standing data'!$D$6","v":"Academy name"},{"$f":"'Standing data'!$F$6","v":0},"Standing","G103",{"$f":"'Standing data'!G103","v":"00:00:00"}]
[{"$f":"'Standing data'!$D$10","v":{"$error":"#N/A"}},{"$f":"'Standing data'!$F$10","v":0},{"$f":"'Standing data'!$D$6","v":"Academy name"},{"$f":"'Standing data'!$F$6","v":0},"Standing","G104",{"$f":"'Standing data'!G104","v":"00:00:00"}]
[{"$f":"'Standing data'!$D$10","v":{"$error":"#N/A"}},{"$f":"'Standing data'!$F$10","v":0},{"$f":"'Standing data'!$D$6","v":"Academy name"},{"$f":"'Standing data'!$F$6","v":0},"Standing","G105",{"$f":"'Standing data'!G105","v":"00:00:00"}]
[{"$f":"'Standing data'!$D$10","v":{"$error":"#N/A"}},{"$f":"'Standing data'!$F$10","v":0},{"$f":"'Standing data'!$D$6","v":"Academy name"},{"$f":"'Standing data'!$F$6","v":0},"Standing","G106",{"$f":"'Standing data'!G106","v":"00:00:00"}]
[{"$f":"'Standing data'!$D$10","v":{"$error":"#N/A"}},{"$f":"'Standing data'!$F$10","v":0},{"$f":"'Standing data'!$D$6","v":"Academy name"},{"$f":"'Standing data'!$F$6","v":0},"Standing","G107",{"$f":"'Standing data'!G107","v":"00:00:00"}]
[{"$f":"'Standing data'!$D$10","v":{"$error":"#N/A"}},{"$f":"'Standing data'!$F$10","v":0},{"$f":"'Standing data'!$D$6","v":"Academy name"},{"$f":"'Standing data'!$F$6","v":0},"Standing","G108",{"$f":"'Standing data'!G108","v":"00:00:00"}]
[{"$f":"'Standing data'!$D$10","v":{"$error":"#N/A"}},{"$f":"'Standing data'!$F$10","v":0},{"$f":"'Standing data'!$D$6","v":"Academy name"},{"$f":"'Standing data'!$F$6","v":0},"Standing","G109",{"$f":"'Standing data'!G109","v":"00:00:00"}]
[{"$f":"'Standing data'!$D$10","v":{"$error":"#N/A"}},{"$f":"'Standing data'!$F$10","v":0},{"$f":"'Standing data'!$D$6","v":"Academy name"},{"$f":"'Standing data'!$F$6","v":0},"Standing","G110",{"$f":"'Standing data'!G110","v":"00:00:00"}]
[{"$f":"'Standing data'!$D$10","v":{"$error":"#N/A"}},{"$f":"'Standing data'!$F$10","v":0},{"$f":"'Standing data'!$D$6","v":"Academy name"},{"$f":"'Standing data'!$F$6","v":0},"Standing","G111",{"$f":"'Standing data'!G111","v":"00:00:00"}]
[{"$f":"'Standing data'!$D$10","v":{"$error":"#N/A"}},{"$f":"'Standing data'!$F$10","v":0},{"$f":"'Standing data'!$D$6","v":"Academy name"},{"$f":"'Standing data'!$F$6","v":0},"Standing","G112",{"$f":"'Standing data'!G112","v":"00:00:00"}]
[{"$f":"'Standing data'!$D$10","v":{"$error":"#N/A"}},{"$f":"'Standing data'!$F$10","v":0},{"$f":"'Standing data'!$D$6","v":"Academy name"},{"$f":"'Standing data'!$F$6","v":0},"Standing","G113",{"$f":"'Standing data'!G113","v":"00:00:00"}]
[{"$f":"'Standing data'!$D$10","v":{"$error":"#N/A"}},{"$f":"'Standing data'!$F$10","v":0},{"$f":"'Standing data'!$D$6","v":"Academy name"},{"$f":"'Standing data'!$F$6","v":0},"Standing","G114",{"$f":"'Standing data'!G114","v":"00:00:00"}]
[{"$f":"'Standing data'!$D$10","v":{"$error":"#N/A"}},{"$f":"'Standing data'!$F$10","v":0},{"$f":"'Standing data'!$D$6","v":"Academy name"},{"$f":"'Standing data'!$F$6","v":0},"Standing","G115",{"$f":"'Standing data'!G115","v":"00:00:00"}]
[{"$f":"'Standing data'!$D$10","v":{"$error":"#N/A"}},{"$f":"'Standing data'!$F$10","v":0},{"$f":"'Standing data'!$D$6","v":"Academy name"},{"$f":"'Standing data'!$F$6","v":0},"Standing","G116",{"$f":"'Standing data'!G116","v":"00:00:00"}]
[{"$f":"'Standing data'!$D$10","v":{"$error":"#N/A"}},{"$f":"'Standing data'!$F$10","v":0},{"$f":"'Standing data'!$D$6","v":"Academy name"},{"$f":"'Standing data'!$F$6","v":0},"Standing","G117",{"$f":"'Standing data'!G117","v":"00:00:00"}]
[{"$f":"'Standing data'!$D$10","v":{"$error":"#N/A"}},{"$f":"'Standing data'!$F$10","v":0},{"$f":"'Standing data'!$D$6","v":"Academy name"},{"$f":"'Standing data'!$F$6","v":0},"Standing","G118",{"$f":"'Standing data'!G118","v":"00:00:00"}]
[{"$f":"'Standing data'!$D$10","v":{"$error":"#N/A"}},{"$f":"'Standing data'!$F$10","v":0},{"$f":"'Standing data'!$D$6","v":"Academy name"},{"$f":"'Standing data'!$F$6","v":0},"Standing","G119",{"$f":"'Standing data'!G119","v":"00:00:00"}]
[{"$f":"'Standing data'!$D$10","v":{"$error":"#N/A"}},{"$f":"'Standing data'!$F$10","v":0},{"$f":"'Standing data'!$D$6","v":"Academy name"},{"$f":"'Standing data'!$F$6","v":0},"Standing","G120",{"$f":"'Standing data'!G120","v":"00:00:00"}]
[{"$f":"'Standing data'!$D$10","v":{"$error":"#N/A"}},{"$f":"'Standing data'!$F$10","v":0},{"$f":"'Standing data'!$D$6","v":"Academy name"},{"$f":"'Standing data'!$F$6","v":0},"Standing","G121",{"$f":"'Standing data'!G121","v":"00:00:00"}]
[{"$f":"'Standing data'!$D$10","v":{"$error":"#N/A"}},{"$f":"'Standing data'!$F$10","v":0},{"$f":"'Standing data'!$D$6","v":"Academy name"},{"$f":"'Standing data'!$F$6","v":0},"Standing","G122",{"$f":"'Standing data'!G122","v":"00:00:00"}]
[{"$f":"'Standing data'!$D$10","v":{"$error":"#N/A"}},{"$f":"'Standing data'!$F$10","v":0},{"$f":"'Standing data'!$D$6","v":"Academy name"},{"$f":"'Standing data'!$F$6","v":0},"Standing","G123",{"$f":"'Standing data'!G123","v":"00:00:00"}]
[{"$f":"'Standing data'!$D$10","v":{"$error":"#N/A"}},{"$f":"'Standing data'!$F$10","v":0},{"$f":"'Standing data'!$D$6","v":"Academy name"},{"$f":"'Standing data'!$F$6","v":0},"Standing","G124",{"$f":"'Standing data'!G124","v":"00:00:00"}]
[{"$f":"'Standing data'!$D$10","v":{"$error":"#N/A"}},{"$f":"'Standing data'!$F$10","v":0},{"$f":"'Standing data'!$D$6","v":"Academy name"},{"$f":"'Standing data'!$F$6","v":0},"Standing","G125",{"$f":"'Standing data'!G125","v":"00:00:00"}]
[{"$f":"'Standing data'!$D$10","v":{"$error":"#N/A"}},{"$f":"'Standing data'!$F$10","v":0},{"$f":"'Standing data'!$D$6","v":"Academy name"},{"$f":"'Standing data'!$F$6","v":0},"Standing","G126",{"$f":"'Standing data'!G126","v":"00:00:00"}]
[{"$f":"'Standing data'!$D$10","v":{"$error":"#N/A"}},{"$f":"'Standing data'!$F$10","v":0},{"$f":"'Standing data'!$D$6","v":"Academy name"},{"$f":"'Standing data'!$F$6","v":0},"Standing","G127",{"$f":"'Standing data'!G127","v":"00:00:00"}]
[{"$f":"'Standing data'!$D$10","v":{"$error":"#N/A"}},{"$f":"'Standing data'!$F$10","v":0},{"$f":"'Standing data'!$D$6","v":"Academy name"},{"$f":"'Standing data'!$F$6","v":0},"Standing","G128",{"$f":"'Standing data'!G128","v":"00:00:00"}]
[{"$f":"'Standing data'!$D$10","v":{"$error":"#N/A"}},{"$f":"'Standing data'!$F$10","v":0},{"$f":"'Standing data'!$D$6","v":"Academy name"},{"$f":"'Standing data'!$F$6","v":0},"Standing","G129",{"$f":"'Standing data'!G129","v":"00:00:00"}]
[{"$f":"'Standing data'!$D$10","v":{"$error":"#N/A"}},{"$f":"'Standing data'!$F$10","v":0},{"$f":"'Standing data'!$D$6","v":"Academy name"},{"$f":"'Standing data'!$F$6","v":0},"Standing","G130",{"$f":"'Standing data'!G130","v":"00:00:00"}]
[{"$f":"'Standing data'!$D$10","v":{"$error":"#N/A"}},{"$f":"'Standing data'!$F$10","v":0},{"$f":"'Standing data'!$D$6","v":"Academy name"},{"$f":"'Standing data'!$F$6","v":0},"Standing","G131",{"$f":"'Standing data'!G131","v":"00:00:00"}]
[{"$f":"'Standing data'!$D$10","v":{"$error":"#N/A"}},{"$f":"'Standing data'!$F$10","v":0},{"$f":"'Standing data'!$D$6","v":"Academy name"},{"$f":"'Standing data'!$F$6","v":0},"Standing","G132",{"$f":"'Standing data'!G132","v":"00:00:00"}]
[{"$f":"'Standing data'!$D$10","v":{"$error":"#N/A"}},{"$f":"'Standing data'!$F$10","v":0},{"$f":"'Standing data'!$D$6","v":"Academy name"},{"$f":"'Standing data'!$F$6","v":0},"Standing","I33",{"$f":"'Standing data'!I33","v":0}]
[{"$f":"'Standing data'!$D$10","v":{"$error":"#N/A"}},{"$f":"'Standing data'!$F$10","v":0},{"$f":"'Standing data'!$D$6","v":"Academy name"},{"$f":"'Standing data'!$F$6","v":0},"Standing","I34",{"$f":"'Standing data'!I34","v":0}]
[{"$f":"'Standing data'!$D$10","v":{"$error":"#N/A"}},{"$f":"'Standing data'!$F$10","v":0},{"$f":"'Standing data'!$D$6","v":"Academy name"},{"$f":"'Standing data'!$F$6","v":0},"Standing","I35",{"$f":"'Standing data'!I35","v":0}]
[{"$f":"'Standing data'!$D$10","v":{"$error":"#N/A"}},{"$f":"'Standing data'!$F$10","v":0},{"$f":"'Standing data'!$D$6","v":"Academy name"},{"$f":"'Standing data'!$F$6","v":0},"Standing","I36",{"$f":"'Standing data'!I36","v":0}]
[{"$f":"'Standing data'!$D$10","v":{"$error":"#N/A"}},{"$f":"'Standing data'!$F$10","v":0},{"$f":"'Standing data'!$D$6","v":"Academy name"},{"$f":"'Standing data'!$F$6","v":0},"Standing","I37",{"$f":"'Standing data'!I37","v":0}]
[{"$f":"'Standing data'!$D$10","v":{"$error":"#N/A"}},{"$f":"'Standing data'!$F$10","v":0},{"$f":"'Standing data'!$D$6","v":"Academy name"},{"$f":"'Standing data'!$F$6","v":0},"Standing","I38",{"$f":"'Standing data'!I38","v":0}]
[{"$f":"'Standing data'!$D$10","v":{"$error":"#N/A"}},{"$f":"'Standing data'!$F$10","v":0},{"$f":"'Standing data'!$D$6","v":"Academy name"},{"$f":"'Standing data'!$F$6","v":0},"Standing","I39",{"$f":"'Standing data'!I39","v":0}]
[{"$f":"'Standing data'!$D$10","v":{"$error":"#N/A"}},{"$f":"'Standing data'!$F$10","v":0},{"$f":"'Standing data'!$D$6","v":"Academy name"},{"$f":"'Standing data'!$F$6","v":0},"Standing","I40",{"$f":"'Standing data'!I40","v":0}]
[{"$f":"'Standing data'!$D$10","v":{"$error":"#N/A"}},{"$f":"'Standing data'!$F$10","v":0},{"$f":"'Standing data'!$D$6","v":"Academy name"},{"$f":"'Standing data'!$F$6","v":0},"Standing","I41",{"$f":"'Standing data'!I41","v":0}]
[{"$f":"'Standing data'!$D$10","v":{"$error":"#N/A"}},{"$f":"'Standing data'!$F$10","v":0},{"$f":"'Standing data'!$D$6","v":"Academy name"},{"$f":"'Standing data'!$F$6","v":0},"Standing","I42",{"$f":"'Standing data'!I42","v":0}]
[{"$f":"'Standing data'!$D$10","v":{"$error":"#N/A"}},{"$f":"'Standing data'!$F$10","v":0},{"$f":"'Standing data'!$D$6","v":"Academy name"},{"$f":"'Standing data'!$F$6","v":0},"Standing","I43",{"$f":"'Standing data'!I43","v":0}]
[{"$f":"'Standing data'!$D$10","v":{"$error":"#N/A"}},{"$f":"'Standing data'!$F$10","v":0},{"$f":"'Standing data'!$D$6","v":"Academy name"},{"$f":"'Standing data'!$F$6","v":0},"Standing","I44",{"$f":"'Standing data'!I44","v":0}]
[{"$f":"'Standing data'!$D$10","v":{"$error":"#N/A"}},{"$f":"'Standing data'!$F$10","v":0},{"$f":"'Standing data'!$D$6","v":"Academy name"},{"$f":"'Standing data'!$F$6","v":0},"Standing","I45",{"$f":"'Standing data'!I45","v":0}]
[{"$f":"'Standing data'!$D$10","v":{"$error":"#N/A"}},{"$f":"'Standing data'!$F$10","v":0},{"$f":"'Standing data'!$D$6","v":"Academy name"},{"$f":"'Standing data'!$F$6","v":0},"Standing","I46",{"$f":"'Standing data'!I46","v":0}]
[{"$f":"'Standing data'!$D$10","v":{"$error":"#N/A"}},{"$f":"'Standing data'!$F$10","v":0},{"$f":"'Standing data'!$D$6","v":"Academy name"},{"$f":"'Standing data'!$F$6","v":0},"Standing","I47",{"$f":"'Standing data'!I47","v":0}]
[{"$f":"'Standing data'!$D$10","v":{"$error":"#N/A"}},{"$f":"'Standing data'!$F$10","v":0},{"$f":"'Standing data'!$D$6","v":"Academy name"},{"$f":"'Standing data'!$F$6","v":0},"Standing","I48",{"$f":"'Standing data'!I48","v":0}]
[{"$f":"'Standing data'!$D$10","v":{"$error":"#N/A"}},{"$f":"'Standing data'!$F$10","v":0},{"$f":"'Standing data'!$D$6","v":"Academy name"},{"$f":"'Standing data'!$F$6","v":0},"Standing","I49",{"$f":"'Standing data'!I49","v":0}]
[{"$f":"'Standing data'!$D$10","v":{"$error":"#N/A"}},{"$f":"'Standing data'!$F$10","v":0},{"$f":"'Standing data'!$D$6","v":"Academy name"},{"$f":"'Standing data'!$F$6","v":0},"Standing","I50",{"$f":"'Standing data'!I50","v":0}]
[{"$f":"'Standing data'!$D$10","v":{"$error":"#N/A"}},{"$f":"'Standing data'!$F$10","v":0},{"$f":"'Standing data'!$D$6","v":"Academy name"},{"$f":"'Standing data'!$F$6","v":0},"Standing","I51",{"$f":"'Standing data'!I51","v":0}]
[{"$f":"'Standing data'!$D$10","v":{"$error":"#N/A"}},{"$f":"'Standing data'!$F$10","v":0},{"$f":"'Standing data'!$D$6","v":"Academy name"},{"$f":"'Standing data'!$F$6","v":0},"Standing","I52",{"$f":"'Standing data'!I52","v":0}]
[{"$f":"'Standing data'!$D$10","v":{"$error":"#N/A"}},{"$f":"'Standing data'!$F$10","v":0},{"$f":"'Standing data'!$D$6","v":"Academy name"},{"$f":"'Standing data'!$F$6","v":0},"Standing","I53",{"$f":"'Standing data'!I53","v":0}]
[{"$f":"'Standing data'!$D$10","v":{"$error":"#N/A"}},{"$f":"'Standing data'!$F$10","v":0},{"$f":"'Standing data'!$D$6","v":"Academy name"},{"$f":"'Standing data'!$F$6","v":0},"Standing","I54",{"$f":"'Standing data'!I54","v":0}]
[{"$f":"'Standing data'!$D$10","v":{"$error":"#N/A"}},{"$f":"'Standing data'!$F$10","v":0},{"$f":"'Standing data'!$D$6","v":"Academy name"},{"$f":"'Standing data'!$F$6","v":0},"Standing","I55",{"$f":"'Standing data'!I55","v":0}]
[{"$f":"'Standing data'!$D$10","v":{"$error":"#N/A"}},{"$f":"'Standing data'!$F$10","v":0},{"$f":"'Standing data'!$D$6","v":"Academy name"},{"$f":"'Standing data'!$F$6","v":0},"Standing","I56",{"$f":"'Standing data'!I56","v":0}]
[{"$f":"'Standing data'!$D$10","v":{"$error":"#N/A"}},{"$f":"'Standing data'!$F$10","v":0},{"$f":"'Standing data'!$D$6","v":"Academy name"},{"$f":"'Standing data'!$F$6","v":0},"Standing","I57",{"$f":"'Standing data'!I57","v":0}]
[{"$f":"'Standing data'!$D$10","v":{"$error":"#N/A"}},{"$f":"'Standing data'!$F$10","v":0},{"$f":"'Standing data'!$D$6","v":"Academy name"},{"$f":"'Standing data'!$F$6","v":0},"Standing","I58",{"$f":"'Standing data'!I58","v":0}]
[{"$f":"'Standing data'!$D$10","v":{"$error":"#N/A"}},{"$f":"'Standing data'!$F$10","v":0},{"$f":"'Standing data'!$D$6","v":"Academy name"},{"$f":"'Standing data'!$F$6","v":0},"Standing","I59",{"$f":"'Standing data'!I59","v":0}]
[{"$f":"'Standing data'!$D$10","v":{"$error":"#N/A"}},{"$f":"'Standing data'!$F$10","v":0},{"$f":"'Standing data'!$D$6","v":"Academy name"},{"$f":"'Standing data'!$F$6","v":0},"Standing","I60",{"$f":"'Standing data'!I60","v":0}]
[{"$f":"'Standing data'!$D$10","v":{"$error":"#N/A"}},{"$f":"'Standing data'!$F$10","v":0},{"$f":"'Standing data'!$D$6","v":"Academy name"},{"$f":"'Standing data'!$F$6","v":0},"Standing","I61",{"$f":"'Standing data'!I61","v":0}]
[{"$f":"'Standing data'!$D$10","v":{"$error":"#N/A"}},{"$f":"'Standing data'!$F$10","v":0},{"$f":"'Standing data'!$D$6","v":"Academy name"},{"$f":"'Standing data'!$F$6","v":0},"Standing","I62",{"$f":"'Standing data'!I62","v":0}]
[{"$f":"'Standing data'!$D$10","v":{"$error":"#N/A"}},{"$f":"'Standing data'!$F$10","v":0},{"$f":"'Standing data'!$D$6","v":"Academy name"},{"$f":"'Standing data'!$F$6","v":0},"Standing","I63",{"$f":"'Standing data'!I63","v":0}]
[{"$f":"'Standing data'!$D$10","v":{"$error":"#N/A"}},{"$f":"'Standing data'!$F$10","v":0},{"$f":"'Standing data'!$D$6","v":"Academy name"},{"$f":"'Standing data'!$F$6","v":0},"Standing","I64",{"$f":"'Standing data'!I64","v":0}]
[{"$f":"'Standing data'!$D$10","v":{"$error":"#N/A"}},{"$f":"'Standing data'!$F$10","v":0},{"$f":"'Standing data'!$D$6","v":"Academy name"},{"$f":"'Standing data'!$F$6","v":0},"Standing","I65",{"$f":"'Standing data'!I65","v":0}]
[{"$f":"'Standing data'!$D$10","v":{"$error":"#N/A"}},{"$f":"'Standing data'!$F$10","v":0},{"$f":"'Standing data'!$D$6","v":"Academy name"},{"$f":"'Standing data'!$F$6","v":0},"Standing","I66",{"$f":"'Standing data'!I66","v":0}]
[{"$f":"'Standing data'!$D$10","v":{"$error":"#N/A"}},{"$f":"'Standing data'!$F$10","v":0},{"$f":"'Standing data'!$D$6","v":"Academy name"},{"$f":"'Standing data'!$F$6","v":0},"Standing","I67",{"$f":"'Standing data'!I67","v":0}]
[{"$f":"'Standing data'!$D$10","v":{"$error":"#N/A"}},{"$f":"'Standing data'!$F$10","v":0},{"$f":"'Standing data'!$D$6","v":"Academy name"},{"$f":"'Standing data'!$F$6","v":0},"Standing","I68",{"$f":"'Standing data'!I68","v":0}]
[{"$f":"'Standing data'!$D$10","v":{"$error":"#N/A"}},{"$f":"'Standing data'!$F$10","v":0},{"$f":"'Standing data'!$D$6","v":"Academy name"},{"$f":"'Standing data'!$F$6","v":0},"Standing","I69",{"$f":"'Standing data'!I69","v":0}]
[{"$f":"'Standing data'!$D$10","v":{"$error":"#N/A"}},{"$f":"'Standing data'!$F$10","v":0},{"$f":"'Standing data'!$D$6","v":"Academy name"},{"$f":"'Standing data'!$F$6","v":0},"Standing","I70",{"$f":"'Standing data'!I70","v":0}]
[{"$f":"'Standing data'!$D$10","v":{"$error":"#N/A"}},{"$f":"'Standing data'!$F$10","v":0},{"$f":"'Standing data'!$D$6","v":"Academy name"},{"$f":"'Standing data'!$F$6","v":0},"Standing","I71",{"$f":"'Standing data'!I71","v":0}]
[{"$f":"'Standing data'!$D$10","v":{"$error":"#N/A"}},{"$f":"'Standing data'!$F$10","v":0},{"$f":"'Standing data'!$D$6","v":"Academy name"},{"$f":"'Standing data'!$F$6","v":0},"Standing","I72",{"$f":"'Standing data'!I72","v":0}]
[{"$f":"'Standing data'!$D$10","v":{"$error":"#N/A"}},{"$f":"'Standing data'!$F$10","v":0},{"$f":"'Standing data'!$D$6","v":"Academy name"},{"$f":"'Standing data'!$F$6","v":0},"Standing","I73",{"$f":"'Standing data'!I73","v":0}]
[{"$f":"'Standing data'!$D$10","v":{"$error":"#N/A"}},{"$f":"'Standing data'!$F$10","v":0},{"$f":"'Standing data'!$D$6","v":"Academy name"},{"$f":"'Standing data'!$F$6","v":0},"Standing","I74",{"$f":"'Standing data'!I74","v":0}]
[{"$f":"'Standing data'!$D$10","v":{"$error":"#N/A"}},{"$f":"'Standing data'!$F$10","v":0},{"$f":"'Standing data'!$D$6","v":"Academy name"},{"$f":"'Standing data'!$F$6","v":0},"Standing","I75",{"$f":"'Standing data'!I75","v":0}]
[{"$f":"'Standing data'!$D$10","v":{"$error":"#N/A"}},{"$f":"'Standing data'!$F$10","v":0},{"$f":"'Standing data'!$D$6","v":"Academy name"},{"$f":"'Standing data'!$F$6","v":0},"Standing","I76",{"$f":"'Standing data'!I76","v":0}]
[{"$f":"'Standing data'!$D$10","v":{"$error":"#N/A"}},{"$f":"'Standing data'!$F$10","v":0},{"$f":"'Standing data'!$D$6","v":"Academy name"},{"$f":"'Standing data'!$F$6","v":0},"Standing","I77",{"$f":"'Standing data'!I77","v":0}]
[{"$f":"'Standing data'!$D$10","v":{"$error":"#N/A"}},{"$f":"'Standing data'!$F$10","v":0},{"$f":"'Standing data'!$D$6","v":"Academy name"},{"$f":"'Standing data'!$F$6","v":0},"Standing","I78",{"$f":"'Standing data'!I78","v":0}]
[{"$f":"'Standing data'!$D$10","v":{"$error":"#N/A"}},{"$f":"'Standing data'!$F$10","v":0},{"$f":"'Standing data'!$D$6","v":"Academy name"},{"$f":"'Standing data'!$F$6","v":0},"Standing","I79",{"$f":"'Standing data'!I79","v":0}]
[{"$f":"'Standing data'!$D$10","v":{"$error":"#N/A"}},{"$f":"'Standing data'!$F$10","v":0},{"$f":"'Standing data'!$D$6","v":"Academy name"},{"$f":"'Standing data'!$F$6","v":0},"Standing","I80",{"$f":"'Standing data'!I80","v":0}]
[{"$f":"'Standing data'!$D$10","v":{"$error":"#N/A"}},{"$f":"'Standing data'!$F$10","v":0},{"$f":"'Standing data'!$D$6","v":"Academy name"},{"$f":"'Standing data'!$F$6","v":0},"Standing","I81",{"$f":"'Standing data'!I81","v":0}]
[{"$f":"'Standing data'!$D$10","v":{"$error":"#N/A"}},{"$f":"'Standing data'!$F$10","v":0},{"$f":"'Standing data'!$D$6","v":"Academy name"},{"$f":"'Standing data'!$F$6","v":0},"Standing","I82",{"$f":"'Standing data'!I82","v":0}]
[{"$f":"'Standing data'!$D$10","v":{"$error":"#N/A"}},{"$f":"'Standing data'!$F$10","v":0},{"$f":"'Standing data'!$D$6","v":"Academy name"},{"$f":"'Standing data'!$F$6","v":0},"Standing","I83",{"$f":"'Standing data'!I83","v":0}]
[{"$f":"'Standing data'!$D$10","v":{"$error":"#N/A"}},{"$f":"'Standing data'!$F$10","v":0},{"$f":"'Standing data'!$D$6","v":"Academy name"},{"$f":"'Standing data'!$F$6","v":0},"Standing","I84",{"$f":"'Standing data'!I84","v":0}]
[{"$f":"'Standing data'!$D$10","v":{"$error":"#N/A"}},{"$f":"'Standing data'!$F$10","v":0},{"$f":"'Standing data'!$D$6","v":"Academy name"},{"$f":"'Standing data'!$F$6","v":0},"Standing","I85",{"$f":"'Standing data'!I85","v":0}]
[{"$f":"'Standing data'!$D$10","v":{"$error":"#N/A"}},{"$f":"'Standing data'!$F$10","v":0},{"$f":"'Standing data'!$D$6","v":"Academy name"},{"$f":"'Standing data'!$F$6","v":0},"Standing","I86",{"$f":"'Standing data'!I86","v":0}]
[{"$f":"'Standing data'!$D$10","v":{"$error":"#N/A"}},{"$f":"'Standing data'!$F$10","v":0},{"$f":"'Standing data'!$D$6","v":"Academy name"},{"$f":"'Standing data'!$F$6","v":0},"Standing","I87",{"$f":"'Standing data'!I87","v":0}]
[{"$f":"'Standing data'!$D$10","v":{"$error":"#N/A"}},{"$f":"'Standing data'!$F$10","v":0},{"$f":"'Standing data'!$D$6","v":"Academy name"},{"$f":"'Standing data'!$F$6","v":0},"Standing","I88",{"$f":"'Standing data'!I88","v":0}]
[{"$f":"'Standing data'!$D$10","v":{"$error":"#N/A"}},{"$f":"'Standing data'!$F$10","v":0},{"$f":"'Standing data'!$D$6","v":"Academy name"},{"$f":"'Standing data'!$F$6","v":0},"Standing","I89",{"$f":"'Standing data'!I89","v":0}]
[{"$f":"'Standing data'!$D$10","v":{"$error":"#N/A"}},{"$f":"'Standing data'!$F$10","v":0},{"$f":"'Standing data'!$D$6","v":"Academy name"},{"$f":"'Standing data'!$F$6","v":0},"Standing","I90",{"$f":"'Standing data'!I90","v":0}]
[{"$f":"'Standing data'!$D$10","v":{"$error":"#N/A"}},{"$f":"'Standing data'!$F$10","v":0},{"$f":"'Standing data'!$D$6","v":"Academy name"},{"$f":"'Standing data'!$F$6","v":0},"Standing","I91",{"$f":"'Standing data'!I91","v":0}]
[{"$f":"'Standing data'!$D$10","v":{"$error":"#N/A"}},{"$f":"'Standing data'!$F$10","v":0},{"$f":"'Standing data'!$D$6","v":"Academy name"},{"$f":"'Standing data'!$F$6","v":0},"Standing","I92",{"$f":"'Standing data'!I92","v":0}]
[{"$f":"'Standing data'!$D$10","v":{"$error":"#N/A"}},{"$f":"'Standing data'!$F$10","v":0},{"$f":"'Standing data'!$D$6","v":"Academy name"},{"$f":"'Standing data'!$F$6","v":0},"Standing","I93",{"$f":"'Standing data'!I93","v":0}]
[{"$f":"'Standing data'!$D$10","v":{"$error":"#N/A"}},{"$f":"'Standing data'!$F$10","v":0},{"$f":"'Standing data'!$D$6","v":"Academy name"},{"$f":"'Standing data'!$F$6","v":0},"Standing","I94",{"$f":"'Standing data'!I94","v":0}]
[{"$f":"'Standing data'!$D$10","v":{"$error":"#N/A"}},{"$f":"'Standing data'!$F$10","v":0},{"$f":"'Standing data'!$D$6","v":"Academy name"},{"$f":"'Standing data'!$F$6","v":0},"Standing","I95",{"$f":"'Standing data'!I95","v":0}]
[{"$f":"'Standing data'!$D$10","v":{"$error":"#N/A"}},{"$f":"'Standing data'!$F$10","v":0},{"$f":"'Standing data'!$D$6","v":"Academy name"},{"$f":"'Standing data'!$F$6","v":0},"Standing","I96",{"$f":"'Standing data'!I96","v":0}]
[{"$f":"'Standing data'!$D$10","v":{"$error":"#N/A"}},{"$f":"'Standing data'!$F$10","v":0},{"$f":"'Standing data'!$D$6","v":"Academy name"},{"$f":"'Standing data'!$F$6","v":0},"Standing","I97",{"$f":"'Standing data'!I97","v":0}]
[{"$f":"'Standing data'!$D$10","v":{"$error":"#N/A"}},{"$f":"'Standing data'!$F$10","v":0},{"$f":"'Standing data'!$D$6","v":"Academy name"},{"$f":"'Standing data'!$F$6","v":0},"Standing","I98",{"$f":"'Standing data'!I98","v":0}]
[{"$f":"'Standing data'!$D$10","v":{"$error":"#N/A"}},{"$f":"'Standing data'!$F$10","v":0},{"$f":"'Standing data'!$D$6","v":"Academy name"},{"$f":"'Standing data'!$F$6","v":0},"Standing","I99",{"$f":"'Standing data'!I99","v":0}]
[{"$f":"'Standing data'!$D$10","v":{"$error":"#N/A"}},{"$f":"'Standing data'!$F$10","v":0},{"$f":"'Standing data'!$D$6","v":"Academy name"},{"$f":"'Standing data'!$F$6","v":0},"Standing","I100",{"$f":"'Standing data'!I100","v":0}]
[{"$f":"'Standing data'!$D$10","v":{"$error":"#N/A"}},{"$f":"'Standing data'!$F$10","v":0},{"$f":"'Standing data'!$D$6","v":"Academy name"},{"$f":"'Standing data'!$F$6","v":0},"Standing","I101",{"$f":"'Standing data'!I101","v":0}]
[{"$f":"'Standing data'!$D$10","v":{"$error":"#N/A"}},{"$f":"'Standing data'!$F$10","v":0},{"$f":"'Standing data'!$D$6","v":"Academy name"},{"$f":"'Standing data'!$F$6","v":0},"Standing","I102",{"$f":"'Standing data'!I102","v":0}]
[{"$f":"'Standing data'!$D$10","v":{"$error":"#N/A"}},{"$f":"'Standing data'!$F$10","v":0},{"$f":"'Standing data'!$D$6","v":"Academy name"},{"$f":"'Standing data'!$F$6","v":0},"Standing","I103",{"$f":"'Standing data'!I103","v":0}]
[{"$f":"'Standing data'!$D$10","v":{"$error":"#N/A"}},{"$f":"'Standing data'!$F$10","v":0},{"$f":"'Standing data'!$D$6","v":"Academy name"},{"$f":"'Standing data'!$F$6","v":0},"Standing","I104",{"$f":"'Standing data'!I104","v":0}]
[{"$f":"'Standing data'!$D$10","v":{"$error":"#N/A"}},{"$f":"'Standing data'!$F$10","v":0},{"$f":"'Standing data'!$D$6","v":"Academy name"},{"$f":"'Standing data'!$F$6","v":0},"Standing","I105",{"$f":"'Standing data'!I105","v":0}]
[{"$f":"'Standing data'!$D$10","v":{"$error":"#N/A"}},{"$f":"'Standing data'!$F$10","v":0},{"$f":"'Standing data'!$D$6","v":"Academy name"},{"$f":"'Standing data'!$F$6","v":0},"Standing","I106",{"$f":"'Standing data'!I106","v":0}]
[{"$f":"'Standing data'!$D$10","v":{"$error":"#N/A"}},{"$f":"'Standing data'!$F$10","v":0},{"$f":"'Standing data'!$D$6","v":"Academy name"},{"$f":"'Standing data'!$F$6","v":0},"Standing","I107",{"$f":"'Standing data'!I107","v":0}]
[{"$f":"'Standing data'!$D$10","v":{"$error":"#N/A"}},{"$f":"'Standing data'!$F$10","v":0},{"$f":"'Standing data'!$D$6","v":"Academy name"},{"$f":"'Standing data'!$F$6","v":0},"Standing","I108",{"$f":"'Standing data'!I108","v":0}]
[{"$f":"'Standing data'!$D$10","v":{"$error":"#N/A"}},{"$f":"'Standing data'!$F$10","v":0},{"$f":"'Standing data'!$D$6","v":"Academy name"},{"$f":"'Standing data'!$F$6","v":0},"Standing","I109",{"$f":"'Standing data'!I109","v":0}]
[{"$f":"'Standing data'!$D$10","v":{"$error":"#N/A"}},{"$f":"'Standing data'!$F$10","v":0},{"$f":"'Standing data'!$D$6","v":"Academy name"},{"$f":"'Standing data'!$F$6","v":0},"Standing","I110",{"$f":"'Standing data'!I110","v":0}]
[{"$f":"'Standing data'!$D$10","v":{"$error":"#N/A"}},{"$f":"'Standing data'!$F$10","v":0},{"$f":"'Standing data'!$D$6","v":"Academy name"},{"$f":"'Standing data'!$F$6","v":0},"Standing","I111",{"$f":"'Standing data'!I111","v":0}]
[{"$f":"'Standing data'!$D$10","v":{"$error":"#N/A"}},{"$f":"'Standing data'!$F$10","v":0},{"$f":"'Standing data'!$D$6","v":"Academy name"},{"$f":"'Standing data'!$F$6","v":0},"Standing","I112",{"$f":"'Standing data'!I112","v":0}]
[{"$f":"'Standing data'!$D$10","v":{"$error":"#N/A"}},{"$f":"'Standing data'!$F$10","v":0},{"$f":"'Standing data'!$D$6","v":"Academy name"},{"$f":"'Standing data'!$F$6","v":0},"Standing","I113",{"$f":"'Standing data'!I113","v":0}]
[{"$f":"'Standing data'!$D$10","v":{"$error":"#N/A"}},{"$f":"'Standing data'!$F$10","v":0},{"$f":"'Standing data'!$D$6","v":"Academy name"},{"$f":"'Standing data'!$F$6","v":0},"Standing","I114",{"$f":"'Standing data'!I114","v":0}]
[{"$f":"'Standing data'!$D$10","v":{"$error":"#N/A"}},{"$f":"'Standing data'!$F$10","v":0},{"$f":"'Standing data'!$D$6","v":"Academy name"},{"$f":"'Standing data'!$F$6","v":0},"Standing","I115",{"$f":"'Standing data'!I115","v":0}]
[{"$f":"'Standing data'!$D$10","v":{"$error":"#N/A"}},{"$f":"'Standing data'!$F$10","v":0},{"$f":"'Standing data'!$D$6","v":"Academy name"},{"$f":"'Standing data'!$F$6","v":0},"Standing","I116",{"$f":"'Standing data'!I116","v":0}]
[{"$f":"'Standing data'!$D$10","v":{"$error":"#N/A"}},{"$f":"'Standing data'!$F$10","v":0},{"$f":"'Standing data'!$D$6","v":"Academy name"},{"$f":"'Standing data'!$F$6","v":0},"Standing","I117",{"$f":"'Standing data'!I117","v":0}]
[{"$f":"'Standing data'!$D$10","v":{"$error":"#N/A"}},{"$f":"'Standing data'!$F$10","v":0},{"$f":"'Standing data'!$D$6","v":"Academy name"},{"$f":"'Standing data'!$F$6","v":0},"Standing","I118",{"$f":"'Standing data'!I118","v":0}]
[{"$f":"'Standing data'!$D$10","v":{"$error":"#N/A"}},{"$f":"'Standing data'!$F$10","v":0},{"$f":"'Standing data'!$D$6","v":"Academy name"},{"$f":"'Standing data'!$F$6","v":0},"Standing","I119",{"$f":"'Standing data'!I119","v":0}]
[{"$f":"'Standing data'!$D$10","v":{"$error":"#N/A"}},{"$f":"'Standing data'!$F$10","v":0},{"$f":"'Standing data'!$D$6","v":"Academy name"},{"$f":"'Standing data'!$F$6","v":0},"Standing","I120",{"$f":"'Standing data'!I120","v":0}]
[{"$f":"'Standing data'!$D$10","v":{"$error":"#N/A"}},{"$f":"'Standing data'!$F$10","v":0},{"$f":"'Standing data'!$D$6","v":"Academy name"},{"$f":"'Standing data'!$F$6","v":0},"Standing","I121",{"$f":"'Standing data'!I121","v":0}]
[{"$f":"'Standing data'!$D$10","v":{"$error":"#N/A"}},{"$f":"'Standing data'!$F$10","v":0},{"$f":"'Standing data'!$D$6","v":"Academy name"},{"$f":"'Standing data'!$F$6","v":0},"Standing","I122",{"$f":"'Standing data'!I122","v":0}]
[{"$f":"'Standing data'!$D$10","v":{"$error":"#N/A"}},{"$f":"'Standing data'!$F$10","v":0},{"$f":"'Standing data'!$D$6","v":"Academy name"},{"$f":"'Standing data'!$F$6","v":0},"Standing","I123",{"$f":"'Standing data'!I123","v":0}]
[{"$f":"'Standing data'!$D$10","v":{"$error":"#N/A"}},{"$f":"'Standing data'!$F$10","v":0},{"$f":"'Standing data'!$D$6","v":"Academy name"},{"$f":"'Standing data'!$F$6","v":0},"Standing","I124",{"$f":"'Standing data'!I124","v":0}]
[{"$f":"'Standing data'!$D$10","v":{"$error":"#N/A"}},{"$f":"'Standing data'!$F$10","v":0},{"$f":"'Standing data'!$D$6","v":"Academy name"},{"$f":"'Standing data'!$F$6","v":0},"Standing","I125",{"$f":"'Standing data'!I125","v":0}]
[{"$f":"'Standing data'!$D$10","v":{"$error":"#N/A"}},{"$f":"'Standing data'!$F$10","v":0},{"$f":"'Standing data'!$D$6","v":"Academy name"},{"$f":"'Standing data'!$F$6","v":0},"Standing","I126",{"$f":"'Standing data'!I126","v":0}]
[{"$f":"'Standing data'!$D$10","v":{"$error":"#N/A"}},{"$f":"'Standing data'!$F$10","v":0},{"$f":"'Standing data'!$D$6","v":"Academy name"},{"$f":"'Standing data'!$F$6","v":0},"Standing","I127",{"$f":"'Standing data'!I127","v":0}]
[{"$f":"'Standing data'!$D$10","v":{"$error":"#N/A"}},{"$f":"'Standing data'!$F$10","v":0},{"$f":"'Standing data'!$D$6","v":"Academy name"},{"$f":"'Standing data'!$F$6","v":0},"Standing","I128",{"$f":"'Standing data'!I128","v":0}]
[{"$f":"'Standing data'!$D$10","v":{"$error":"#N/A"}},{"$f":"'Standing data'!$F$10","v":0},{"$f":"'Standing data'!$D$6","v":"Academy name"},{"$f":"'Standing data'!$F$6","v":0},"Standing","I129",{"$f":"'Standing data'!I129","v":0}]
[{"$f":"'Standing data'!$D$10","v":{"$error":"#N/A"}},{"$f":"'Standing data'!$F$10","v":0},{"$f":"'Standing data'!$D$6","v":"Academy name"},{"$f":"'Standing data'!$F$6","v":0},"Standing","I130",{"$f":"'Standing data'!I130","v":0}]
[{"$f":"'Standing data'!$D$10","v":{"$error":"#N/A"}},{"$f":"'Standing data'!$F$10","v":0},{"$f":"'Standing data'!$D$6","v":"Academy name"},{"$f":"'Standing data'!$F$6","v":0},"Standing","I131",{"$f":"'Standing data'!I131","v":0}]
[{"$f":"'Standing data'!$D$10","v":{"$error":"#N/A"}},{"$f":"'Standing data'!$F$10","v":0},{"$f":"'Standing data'!$D$6","v":"Academy name"},{"$f":"'Standing data'!$F$6","v":0},"Standing","I132",{"$f":"'Standing data'!I132","v":0}]
[{"$f":"'Standing data'!$D$10","v":{"$error":"#N/A"}},{"$f":"'Standing data'!$F$10","v":0},{"$f":"'Standing data'!$D$6","v":"Academy name"},{"$f":"'Standing data'!$F$6","v":0},"Standing","M33",{"$f":"'Standing data'!M33","v":0}]
[{"$f":"'Standing data'!$D$10","v":{"$error":"#N/A"}},{"$f":"'Standing data'!$F$10","v":0},{"$f":"'Standing data'!$D$6","v":"Academy name"},{"$f":"'Standing data'!$F$6","v":0},"Standing","M34",{"$f":"'Standing data'!M34","v":0}]
[{"$f":"'Standing data'!$D$10","v":{"$error":"#N/A"}},{"$f":"'Standing data'!$F$10","v":0},{"$f":"'Standing data'!$D$6","v":"Academy name"},{"$f":"'Standing data'!$F$6","v":0},"Standing","M35",{"$f":"'Standing data'!M35","v":0}]
[{"$f":"'Standing data'!$D$10","v":{"$error":"#N/A"}},{"$f":"'Standing data'!$F$10","v":0},{"$f":"'Standing data'!$D$6","v":"Academy name"},{"$f":"'Standing data'!$F$6","v":0},"Standing","M36",{"$f":"'Standing data'!M36","v":0}]
[{"$f":"'Standing data'!$D$10","v":{"$error":"#N/A"}},{"$f":"'Standing data'!$F$10","v":0},{"$f":"'Standing data'!$D$6","v":"Academy name"},{"$f":"'Standing data'!$F$6","v":0},"Standing","M37",{"$f":"'Standing data'!M37","v":0}]
[{"$f":"'Standing data'!$D$10","v":{"$error":"#N/A"}},{"$f":"'Standing data'!$F$10","v":0},{"$f":"'Standing data'!$D$6","v":"Academy name"},{"$f":"'Standing data'!$F$6","v":0},"Standing","M38",{"$f":"'Standing data'!M38","v":0}]
[{"$f":"'Standing data'!$D$10","v":{"$error":"#N/A"}},{"$f":"'Standing data'!$F$10","v":0},{"$f":"'Standing data'!$D$6","v":"Academy name"},{"$f":"'Standing data'!$F$6","v":0},"Standing","M39",{"$f":"'Standing data'!M39","v":0}]
[{"$f":"'Standing data'!$D$10","v":{"$error":"#N/A"}},{"$f":"'Standing data'!$F$10","v":0},{"$f":"'Standing data'!$D$6","v":"Academy name"},{"$f":"'Standing data'!$F$6","v":0},"Standing","M40",{"$f":"'Standing data'!M40","v":0}]
[{"$f":"'Standing data'!$D$10","v":{"$error":"#N/A"}},{"$f":"'Standing data'!$F$10","v":0},{"$f":"'Standing data'!$D$6","v":"Academy name"},{"$f":"'Standing data'!$F$6","v":0},"Standing","M41",{"$f":"'Standing data'!M41","v":0}]
[{"$f":"'Standing data'!$D$10","v":{"$error":"#N/A"}},{"$f":"'Standing data'!$F$10","v":0},{"$f":"'Standing data'!$D$6","v":"Academy name"},{"$f":"'Standing data'!$F$6","v":0},"Standing","M42",{"$f":"'Standing data'!M42","v":0}]
[{"$f":"'Standing data'!$D$10","v":{"$error":"#N/A"}},{"$f":"'Standing data'!$F$10","v":0},{"$f":"'Standing data'!$D$6","v":"Academy name"},{"$f":"'Standing data'!$F$6","v":0},"Standing","M43",{"$f":"'Standing data'!M43","v":0}]
[{"$f":"'Standing data'!$D$10","v":{"$error":"#N/A"}},{"$f":"'Standing data'!$F$10","v":0},{"$f":"'Standing data'!$D$6","v":"Academy name"},{"$f":"'Standing data'!$F$6","v":0},"Standing","M44",{"$f":"'Standing data'!M44","v":0}]
[{"$f":"'Standing data'!$D$10","v":{"$error":"#N/A"}},{"$f":"'Standing data'!$F$10","v":0},{"$f":"'Standing data'!$D$6","v":"Academy name"},{"$f":"'Standing data'!$F$6","v":0},"Standing","M45",{"$f":"'Standing data'!M45","v":0}]
[{"$f":"'Standing data'!$D$10","v":{"$error":"#N/A"}},{"$f":"'Standing data'!$F$10","v":0},{"$f":"'Standing data'!$D$6","v":"Academy name"},{"$f":"'Standing data'!$F$6","v":0},"Standing","M46",{"$f":"'Standing data'!M46","v":0}]
[{"$f":"'Standing data'!$D$10","v":{"$error":"#N/A"}},{"$f":"'Standing data'!$F$10","v":0},{"$f":"'Standing data'!$D$6","v":"Academy name"},{"$f":"'Standing data'!$F$6","v":0},"Standing","M47",{"$f":"'Standing data'!M47","v":0}]
[{"$f":"'Standing data'!$D$10","v":{"$error":"#N/A"}},{"$f":"'Standing data'!$F$10","v":0},{"$f":"'Standing data'!$D$6","v":"Academy name"},{"$f":"'Standing data'!$F$6","v":0},"Standing","M48",{"$f":"'Standing data'!M48","v":0}]
[{"$f":"'Standing data'!$D$10","v":{"$error":"#N/A"}},{"$f":"'Standing data'!$F$10","v":0},{"$f":"'Standing data'!$D$6","v":"Academy name"},{"$f":"'Standing data'!$F$6","v":0},"Standing","M49",{"$f":"'Standing data'!M49","v":0}]
[{"$f":"'Standing data'!$D$10","v":{"$error":"#N/A"}},{"$f":"'Standing data'!$F$10","v":0},{"$f":"'Standing data'!$D$6","v":"Academy name"},{"$f":"'Standing data'!$F$6","v":0},"Standing","M50",{"$f":"'Standing data'!M50","v":0}]
[{"$f":"'Standing data'!$D$10","v":{"$error":"#N/A"}},{"$f":"'Standing data'!$F$10","v":0},{"$f":"'Standing data'!$D$6","v":"Academy name"},{"$f":"'Standing data'!$F$6","v":0},"Standing","M51",{"$f":"'Standing data'!M51","v":0}]
[{"$f":"'Standing data'!$D$10","v":{"$error":"#N/A"}},{"$f":"'Standing data'!$F$10","v":0},{"$f":"'Standing data'!$D$6","v":"Academy name"},{"$f":"'Standing data'!$F$6","v":0},"Standing","M52",{"$f":"'Standing data'!M52","v":0}]
[{"$f":"'Standing data'!$D$10","v":{"$error":"#N/A"}},{"$f":"'Standing data'!$F$10","v":0},{"$f":"'Standing data'!$D$6","v":"Academy name"},{"$f":"'Standing data'!$F$6","v":0},"Standing","M53",{"$f":"'Standing data'!M53","v":0}]
[{"$f":"'Standing data'!$D$10","v":{"$error":"#N/A"}},{"$f":"'Standing data'!$F$10","v":0},{"$f":"'Standing data'!$D$6","v":"Academy name"},{"$f":"'Standing data'!$F$6","v":0},"Standing","M54",{"$f":"'Standing data'!M54","v":0}]
[{"$f":"'Standing data'!$D$10","v":{"$error":"#N/A"}},{"$f":"'Standing data'!$F$10","v":0},{"$f":"'Standing data'!$D$6","v":"Academy name"},{"$f":"'Standing data'!$F$6","v":0},"Standing","M55",{"$f":"'Standing data'!M55","v":0}]
[{"$f":"'Standing data'!$D$10","v":{"$error":"#N/A"}},{"$f":"'Standing data'!$F$10","v":0},{"$f":"'Standing data'!$D$6","v":"Academy name"},{"$f":"'Standing data'!$F$6","v":0},"Standing","M56",{"$f":"'Standing data'!M56","v":0}]
[{"$f":"'Standing data'!$D$10","v":{"$error":"#N/A"}},{"$f":"'Standing data'!$F$10","v":0},{"$f":"'Standing data'!$D$6","v":"Academy name"},{"$f":"'Standing data'!$F$6","v":0},"Standing","M57",{"$f":"'Standing data'!M57","v":0}]
[{"$f":"'Standing data'!$D$10","v":{"$error":"#N/A"}},{"$f":"'Standing data'!$F$10","v":0},{"$f":"'Standing data'!$D$6","v":"Academy name"},{"$f":"'Standing data'!$F$6","v":0},"Standing","M58",{"$f":"'Standing data'!M58","v":0}]
[{"$f":"'Standing data'!$D$10","v":{"$error":"#N/A"}},{"$f":"'Standing data'!$F$10","v":0},{"$f":"'Standing data'!$D$6","v":"Academy name"},{"$f":"'Standing data'!$F$6","v":0},"Standing","M59",{"$f":"'Standing data'!M59","v":0}]
[{"$f":"'Standing data'!$D$10","v":{"$error":"#N/A"}},{"$f":"'Standing data'!$F$10","v":0},{"$f":"'Standing data'!$D$6","v":"Academy name"},{"$f":"'Standing data'!$F$6","v":0},"Standing","M60",{"$f":"'Standing data'!M60","v":0}]
[{"$f":"'Standing data'!$D$10","v":{"$error":"#N/A"}},{"$f":"'Standing data'!$F$10","v":0},{"$f":"'Standing data'!$D$6","v":"Academy name"},{"$f":"'Standing data'!$F$6","v":0},"Standing","M61",{"$f":"'Standing data'!M61","v":0}]
[{"$f":"'Standing data'!$D$10","v":{"$error":"#N/A"}},{"$f":"'Standing data'!$F$10","v":0},{"$f":"'Standing data'!$D$6","v":"Academy name"},{"$f":"'Standing data'!$F$6","v":0},"Standing","M62",{"$f":"'Standing data'!M62","v":0}]
[{"$f":"'Standing data'!$D$10","v":{"$error":"#N/A"}},{"$f":"'Standing data'!$F$10","v":0},{"$f":"'Standing data'!$D$6","v":"Academy name"},{"$f":"'Standing data'!$F$6","v":0},"Standing","M63",{"$f":"'Standing data'!M63","v":0}]
[{"$f":"'Standing data'!$D$10","v":{"$error":"#N/A"}},{"$f":"'Standing data'!$F$10","v":0},{"$f":"'Standing data'!$D$6","v":"Academy name"},{"$f":"'Standing data'!$F$6","v":0},"Standing","M64",{"$f":"'Standing data'!M64","v":0}]
[{"$f":"'Standing data'!$D$10","v":{"$error":"#N/A"}},{"$f":"'Standing data'!$F$10","v":0},{"$f":"'Standing data'!$D$6","v":"Academy name"},{"$f":"'Standing data'!$F$6","v":0},"Standing","M65",{"$f":"'Standing data'!M65","v":0}]
[{"$f":"'Standing data'!$D$10","v":{"$error":"#N/A"}},{"$f":"'Standing data'!$F$10","v":0},{"$f":"'Standing data'!$D$6","v":"Academy name"},{"$f":"'Standing data'!$F$6","v":0},"Standing","M66",{"$f":"'Standing data'!M66","v":0}]
[{"$f":"'Standing data'!$D$10","v":{"$error":"#N/A"}},{"$f":"'Standing data'!$F$10","v":0},{"$f":"'Standing data'!$D$6","v":"Academy name"},{"$f":"'Standing data'!$F$6","v":0},"Standing","M67",{"$f":"'Standing data'!M67","v":0}]
[{"$f":"'Standing data'!$D$10","v":{"$error":"#N/A"}},{"$f":"'Standing data'!$F$10","v":0},{"$f":"'Standing data'!$D$6","v":"Academy name"},{"$f":"'Standing data'!$F$6","v":0},"Standing","M68",{"$f":"'Standing data'!M68","v":0}]
[{"$f":"'Standing data'!$D$10","v":{"$error":"#N/A"}},{"$f":"'Standing data'!$F$10","v":0},{"$f":"'Standing data'!$D$6","v":"Academy name"},{"$f":"'Standing data'!$F$6","v":0},"Standing","M69",{"$f":"'Standing data'!M69","v":0}]
[{"$f":"'Standing data'!$D$10","v":{"$error":"#N/A"}},{"$f":"'Standing data'!$F$10","v":0},{"$f":"'Standing data'!$D$6","v":"Academy name"},{"$f":"'Standing data'!$F$6","v":0},"Standing","M70",{"$f":"'Standing data'!M70","v":0}]
[{"$f":"'Standing data'!$D$10","v":{"$error":"#N/A"}},{"$f":"'Standing data'!$F$10","v":0},{"$f":"'Standing data'!$D$6","v":"Academy name"},{"$f":"'Standing data'!$F$6","v":0},"Standing","M71",{"$f":"'Standing data'!M71","v":0}]
[{"$f":"'Standing data'!$D$10","v":{"$error":"#N/A"}},{"$f":"'Standing data'!$F$10","v":0},{"$f":"'Standing data'!$D$6","v":"Academy name"},{"$f":"'Standing data'!$F$6","v":0},"Standing","M72",{"$f":"'Standing data'!M72","v":0}]
[{"$f":"'Standing data'!$D$10","v":{"$error":"#N/A"}},{"$f":"'Standing data'!$F$10","v":0},{"$f":"'Standing data'!$D$6","v":"Academy name"},{"$f":"'Standing data'!$F$6","v":0},"Standing","M73",{"$f":"'Standing data'!M73","v":0}]
[{"$f":"'Standing data'!$D$10","v":{"$error":"#N/A"}},{"$f":"'Standing data'!$F$10","v":0},{"$f":"'Standing data'!$D$6","v":"Academy name"},{"$f":"'Standing data'!$F$6","v":0},"Standing","M74",{"$f":"'Standing data'!M74","v":0}]
[{"$f":"'Standing data'!$D$10","v":{"$error":"#N/A"}},{"$f":"'Standing data'!$F$10","v":0},{"$f":"'Standing data'!$D$6","v":"Academy name"},{"$f":"'Standing data'!$F$6","v":0},"Standing","M75",{"$f":"'Standing data'!M75","v":0}]
[{"$f":"'Standing data'!$D$10","v":{"$error":"#N/A"}},{"$f":"'Standing data'!$F$10","v":0},{"$f":"'Standing data'!$D$6","v":"Academy name"},{"$f":"'Standing data'!$F$6","v":0},"Standing","M76",{"$f":"'Standing data'!M76","v":0}]
[{"$f":"'Standing data'!$D$10","v":{"$error":"#N/A"}},{"$f":"'Standing data'!$F$10","v":0},{"$f":"'Standing data'!$D$6","v":"Academy name"},{"$f":"'Standing data'!$F$6","v":0},"Standing","M77",{"$f":"'Standing data'!M77","v":0}]
[{"$f":"'Standing data'!$D$10","v":{"$error":"#N/A"}},{"$f":"'Standing data'!$F$10","v":0},{"$f":"'Standing data'!$D$6","v":"Academy name"},{"$f":"'Standing data'!$F$6","v":0},"Standing","M78",{"$f":"'Standing data'!M78","v":0}]
[{"$f":"'Standing data'!$D$10","v":{"$error":"#N/A"}},{"$f":"'Standing data'!$F$10","v":0},{"$f":"'Standing data'!$D$6","v":"Academy name"},{"$f":"'Standing data'!$F$6","v":0},"Standing","M79",{"$f":"'Standing data'!M79","v":0}]
[{"$f":"'Standing data'!$D$10","v":{"$error":"#N/A"}},{"$f":"'Standing data'!$F$10","v":0},{"$f":"'Standing data'!$D$6","v":"Academy name"},{"$f":"'Standing data'!$F$6","v":0},"Standing","M80",{"$f":"'Standing data'!M80","v":0}]
[{"$f":"'Standing data'!$D$10","v":{"$error":"#N/A"}},{"$f":"'Standing data'!$F$10","v":0},{"$f":"'Standing data'!$D$6","v":"Academy name"},{"$f":"'Standing data'!$F$6","v":0},"Standing","M81",{"$f":"'Standing data'!M81","v":0}]
[{"$f":"'Standing data'!$D$10","v":{"$error":"#N/A"}},{"$f":"'Standing data'!$F$10","v":0},{"$f":"'Standing data'!$D$6","v":"Academy name"},{"$f":"'Standing data'!$F$6","v":0},"Standing","M82",{"$f":"'Standing data'!M82","v":0}]
[{"$f":"'Standing data'!$D$10","v":{"$error":"#N/A"}},{"$f":"'Standing data'!$F$10","v":0},{"$f":"'Standing data'!$D$6","v":"Academy name"},{"$f":"'Standing data'!$F$6","v":0},"Standing","M83",{"$f":"'Standing data'!M83","v":0}]
[{"$f":"'Standing data'!$D$10","v":{"$error":"#N/A"}},{"$f":"'Standing data'!$F$10","v":0},{"$f":"'Standing data'!$D$6","v":"Academy name"},{"$f":"'Standing data'!$F$6","v":0},"Standing","M84",{"$f":"'Standing data'!M84","v":0}]
[{"$f":"'Standing data'!$D$10","v":{"$error":"#N/A"}},{"$f":"'Standing data'!$F$10","v":0},{"$f":"'Standing data'!$D$6","v":"Academy name"},{"$f":"'Standing data'!$F$6","v":0},"Standing","M85",{"$f":"'Standing data'!M85","v":0}]
[{"$f":"'Standing data'!$D$10","v":{"$error":"#N/A"}},{"$f":"'Standing data'!$F$10","v":0},{"$f":"'Standing data'!$D$6","v":"Academy name"},{"$f":"'Standing data'!$F$6","v":0},"Standing","M86",{"$f":"'Standing data'!M86","v":0}]
[{"$f":"'Standing data'!$D$10","v":{"$error":"#N/A"}},{"$f":"'Standing data'!$F$10","v":0},{"$f":"'Standing data'!$D$6","v":"Academy name"},{"$f":"'Standing data'!$F$6","v":0},"Standing","M87",{"$f":"'Standing data'!M87","v":0}]
[{"$f":"'Standing data'!$D$10","v":{"$error":"#N/A"}},{"$f":"'Standing data'!$F$10","v":0},{"$f":"'Standing data'!$D$6","v":"Academy name"},{"$f":"'Standing data'!$F$6","v":0},"Standing","M88",{"$f":"'Standing data'!M88","v":0}]
[{"$f":"'Standing data'!$D$10","v":{"$error":"#N/A"}},{"$f":"'Standing data'!$F$10","v":0},{"$f":"'Standing data'!$D$6","v":"Academy name"},{"$f":"'Standing data'!$F$6","v":0},"Standing","M89",{"$f":"'Standing data'!M89","v":0}]
[{"$f":"'Standing data'!$D$10","v":{"$error":"#N/A"}},{"$f":"'Standing data'!$F$10","v":0},{"$f":"'Standing data'!$D$6","v":"Academy name"},{"$f":"'Standing data'!$F$6","v":0},"Standing","M90",{"$f":"'Standing data'!M90","v":0}]
[{"$f":"'Standing data'!$D$10","v":{"$error":"#N/A"}},{"$f":"'Standing data'!$F$10","v":0},{"$f":"'Standing data'!$D$6","v":"Academy name"},{"$f":"'Standing data'!$F$6","v":0},"Standing","M91",{"$f":"'Standing data'!M91","v":0}]
[{"$f":"'Standing data'!$D$10","v":{"$error":"#N/A"}},{"$f":"'Standing data'!$F$10","v":0},{"$f":"'Standing data'!$D$6","v":"Academy name"},{"$f":"'Standing data'!$F$6","v":0},"Standing","M92",{"$f":"'Standing data'!M92","v":0}]
[{"$f":"'Standing data'!$D$10","v":{"$error":"#N/A"}},{"$f":"'Standing data'!$F$10","v":0},{"$f":"'Standing data'!$D$6","v":"Academy name"},{"$f":"'Standing data'!$F$6","v":0},"Standing","M93",{"$f":"'Standing data'!M93","v":0}]
[{"$f":"'Standing data'!$D$10","v":{"$error":"#N/A"}},{"$f":"'Standing data'!$F$10","v":0},{"$f":"'Standing data'!$D$6","v":"Academy name"},{"$f":"'Standing data'!$F$6","v":0},"Standing","M94",{"$f":"'Standing data'!M94","v":0}]
[{"$f":"'Standing data'!$D$10","v":{"$error":"#N/A"}},{"$f":"'Standing data'!$F$10","v":0},{"$f":"'Standing data'!$D$6","v":"Academy name"},{"$f":"'Standing data'!$F$6","v":0},"Standing","M95",{"$f":"'Standing data'!M95","v":0}]
[{"$f":"'Standing data'!$D$10","v":{"$error":"#N/A"}},{"$f":"'Standing data'!$F$10","v":0},{"$f":"'Standing data'!$D$6","v":"Academy name"},{"$f":"'Standing data'!$F$6","v":0},"Standing","M96",{"$f":"'Standing data'!M96","v":0}]
[{"$f":"'Standing data'!$D$10","v":{"$error":"#N/A"}},{"$f":"'Standing data'!$F$10","v":0},{"$f":"'Standing data'!$D$6","v":"Academy name"},{"$f":"'Standing data'!$F$6","v":0},"Standing","M97",{"$f":"'Standing data'!M97","v":0}]
[{"$f":"'Standing data'!$D$10","v":{"$error":"#N/A"}},{"$f":"'Standing data'!$F$10","v":0},{"$f":"'Standing data'!$D$6","v":"Academy name"},{"$f":"'Standing data'!$F$6","v":0},"Standing","M98",{"$f":"'Standing data'!M98","v":0}]
[{"$f":"'Standing data'!$D$10","v":{"$error":"#N/A"}},{"$f":"'Standing data'!$F$10","v":0},{"$f":"'Standing data'!$D$6","v":"Academy name"},{"$f":"'Standing data'!$F$6","v":0},"Standing","M99",{"$f":"'Standing data'!M99","v":0}]
[{"$f":"'Standing data'!$D$10","v":{"$error":"#N/A"}},{"$f":"'Standing data'!$F$10","v":0},{"$f":"'Standing data'!$D$6","v":"Academy name"},{"$f":"'Standing data'!$F$6","v":0},"Standing","M100",{"$f":"'Standing data'!M100","v":0}]
[{"$f":"'Standing data'!$D$10","v":{"$error":"#N/A"}},{"$f":"'Standing data'!$F$10","v":0},{"$f":"'Standing data'!$D$6","v":"Academy name"},{"$f":"'Standing data'!$F$6","v":0},"Standing","M101",{"$f":"'Standing data'!M101","v":0}]
[{"$f":"'Standing data'!$D$10","v":{"$error":"#N/A"}},{"$f":"'Standing data'!$F$10","v":0},{"$f":"'Standing data'!$D$6","v":"Academy name"},{"$f":"'Standing data'!$F$6","v":0},"Standing","M102",{"$f":"'Standing data'!M102","v":0}]
[{"$f":"'Standing data'!$D$10","v":{"$error":"#N/A"}},{"$f":"'Standing data'!$F$10","v":0},{"$f":"'Standing data'!$D$6","v":"Academy name"},{"$f":"'Standing data'!$F$6","v":0},"Standing","M103",{"$f":"'Standing data'!M103","v":0}]
[{"$f":"'Standing data'!$D$10","v":{"$error":"#N/A"}},{"$f":"'Standing data'!$F$10","v":0},{"$f":"'Standing data'!$D$6","v":"Academy name"},{"$f":"'Standing data'!$F$6","v":0},"Standing","M104",{"$f":"'Standing data'!M104","v":0}]
[{"$f":"'Standing data'!$D$10","v":{"$error":"#N/A"}},{"$f":"'Standing data'!$F$10","v":0},{"$f":"'Standing data'!$D$6","v":"Academy name"},{"$f":"'Standing data'!$F$6","v":0},"Standing","M105",{"$f":"'Standing data'!M105","v":0}]
[{"$f":"'Standing data'!$D$10","v":{"$error":"#N/A"}},{"$f":"'Standing data'!$F$10","v":0},{"$f":"'Standing data'!$D$6","v":"Academy name"},{"$f":"'Standing data'!$F$6","v":0},"Standing","M106",{"$f":"'Standing data'!M106","v":0}]
[{"$f":"'Standing data'!$D$10","v":{"$error":"#N/A"}},{"$f":"'Standing data'!$F$10","v":0},{"$f":"'Standing data'!$D$6","v":"Academy name"},{"$f":"'Standing data'!$F$6","v":0},"Standing","M107",{"$f":"'Standing data'!M107","v":0}]
[{"$f":"'Standing data'!$D$10","v":{"$error":"#N/A"}},{"$f":"'Standing data'!$F$10","v":0},{"$f":"'Standing data'!$D$6","v":"Academy name"},{"$f":"'Standing data'!$F$6","v":0},"Standing","M108",{"$f":"'Standing data'!M108","v":0}]
[{"$f":"'Standing data'!$D$10","v":{"$error":"#N/A"}},{"$f":"'Standing data'!$F$10","v":0},{"$f":"'Standing data'!$D$6","v":"Academy name"},{"$f":"'Standing data'!$F$6","v":0},"Standing","M109",{"$f":"'Standing data'!M109","v":0}]
[{"$f":"'Standing data'!$D$10","v":{"$error":"#N/A"}},{"$f":"'Standing data'!$F$10","v":0},{"$f":"'Standing data'!$D$6","v":"Academy name"},{"$f":"'Standing data'!$F$6","v":0},"Standing","M110",{"$f":"'Standing data'!M110","v":0}]
[{"$f":"'Standing data'!$D$10","v":{"$error":"#N/A"}},{"$f":"'Standing data'!$F$10","v":0},{"$f":"'Standing data'!$D$6","v":"Academy name"},{"$f":"'Standing data'!$F$6","v":0},"Standing","M111",{"$f":"'Standing data'!M111","v":0}]
[{"$f":"'Standing data'!$D$10","v":{"$error":"#N/A"}},{"$f":"'Standing data'!$F$10","v":0},{"$f":"'Standing data'!$D$6","v":"Academy name"},{"$f":"'Standing data'!$F$6","v":0},"Standing","M112",{"$f":"'Standing data'!M112","v":0}]
[{"$f":"'Standing data'!$D$10","v":{"$error":"#N/A"}},{"$f":"'Standing data'!$F$10","v":0},{"$f":"'Standing data'!$D$6","v":"Academy name"},{"$f":"'Standing data'!$F$6","v":0},"Standing","M113",{"$f":"'Standing data'!M113","v":0}]
[{"$f":"'Standing data'!$D$10","v":{"$error":"#N/A"}},{"$f":"'Standing data'!$F$10","v":0},{"$f":"'Standing data'!$D$6","v":"Academy name"},{"$f":"'Standing data'!$F$6","v":0},"Standing","M114",{"$f":"'Standing data'!M114","v":0}]
[{"$f":"'Standing data'!$D$10","v":{"$error":"#N/A"}},{"$f":"'Standing data'!$F$10","v":0},{"$f":"'Standing data'!$D$6","v":"Academy name"},{"$f":"'Standing data'!$F$6","v":0},"Standing","M115",{"$f":"'Standing data'!M115","v":0}]
[{"$f":"'Standing data'!$D$10","v":{"$error":"#N/A"}},{"$f":"'Standing data'!$F$10","v":0},{"$f":"'Standing data'!$D$6","v":"Academy name"},{"$f":"'Standing data'!$F$6","v":0},"Standing","M116",{"$f":"'Standing data'!M116","v":0}]
[{"$f":"'Standing data'!$D$10","v":{"$error":"#N/A"}},{"$f":"'Standing data'!$F$10","v":0},{"$f":"'Standing data'!$D$6","v":"Academy name"},{"$f":"'Standing data'!$F$6","v":0},"Standing","M117",{"$f":"'Standing data'!M117","v":0}]
[{"$f":"'Standing data'!$D$10","v":{"$error":"#N/A"}},{"$f":"'Standing data'!$F$10","v":0},{"$f":"'Standing data'!$D$6","v":"Academy name"},{"$f":"'Standing data'!$F$6","v":0},"Standing","M118",{"$f":"'Standing data'!M118","v":0}]
[{"$f":"'Standing data'!$D$10","v":{"$error":"#N/A"}},{"$f":"'Standing data'!$F$10","v":0},{"$f":"'Standing data'!$D$6","v":"Academy name"},{"$f":"'Standing data'!$F$6","v":0},"Standing","M119",{"$f":"'Standing data'!M119","v":0}]
[{"$f":"'Standing data'!$D$10","v":{"$error":"#N/A"}},{"$f":"'Standing data'!$F$10","v":0},{"$f":"'Standing data'!$D$6","v":"Academy name"},{"$f":"'Standing data'!$F$6","v":0},"Standing","M120",{"$f":"'Standing data'!M120","v":0}]
[{"$f":"'Standing data'!$D$10","v":{"$error":"#N/A"}},{"$f":"'Standing data'!$F$10","v":0},{"$f":"'Standing data'!$D$6","v":"Academy name"},{"$f":"'Standing data'!$F$6","v":0},"Standing","M121",{"$f":"'Standing data'!M121","v":0}]
[{"$f":"'Standing data'!$D$10","v":{"$error":"#N/A"}},{"$f":"'Standing data'!$F$10","v":0},{"$f":"'Standing data'!$D$6","v":"Academy name"},{"$f":"'Standing data'!$F$6","v":0},"Standing","M122",{"$f":"'Standing data'!M122","v":0}]
[{"$f":"'Standing data'!$D$10","v":{"$error":"#N/A"}},{"$f":"'Standing data'!$F$10","v":0},{"$f":"'Standing data'!$D$6","v":"Academy name"},{"$f":"'Standing data'!$F$6","v":0},"Standing","M123",{"$f":"'Standing data'!M123","v":0}]
[{"$f":"'Standing data'!$D$10","v":{"$error":"#N/A"}},{"$f":"'Standing data'!$F$10","v":0},{"$f":"'Standing data'!$D$6","v":"Academy name"},{"$f":"'Standing data'!$F$6","v":0},"Standing","M124",{"$f":"'Standing data'!M124","v":0}]
[{"$f":"'Standing data'!$D$10","v":{"$error":"#N/A"}},{"$f":"'Standing data'!$F$10","v":0},{"$f":"'Standing data'!$D$6","v":"Academy name"},{"$f":"'Standing data'!$F$6","v":0},"Standing","M125",{"$f":"'Standing data'!M125","v":0}]
[{"$f":"'Standing data'!$D$10","v":{"$error":"#N/A"}},{"$f":"'Standing data'!$F$10","v":0},{"$f":"'Standing data'!$D$6","v":"Academy name"},{"$f":"'Standing data'!$F$6","v":0},"Standing","M126",{"$f":"'Standing data'!M126","v":0}]
[{"$f":"'Standing data'!$D$10","v":{"$error":"#N/A"}},{"$f":"'Standing data'!$F$10","v":0},{"$f":"'Standing data'!$D$6","v":"Academy name"},{"$f":"'Standing data'!$F$6","v":0},"Standing","M127",{"$f":"'Standing data'!M127","v":0}]
[{"$f":"'Standing data'!$D$10","v":{"$error":"#N/A"}},{"$f":"'Standing data'!$F$10","v":0},{"$f":"'Standing data'!$D$6","v":"Academy name"},{"$f":"'Standing data'!$F$6","v":0},"Standing","M128",{"$f":"'Standing data'!M128","v":0}]
[{"$f":"'Standing data'!$D$10","v":{"$error":"#N/A"}},{"$f":"'Standing data'!$F$10","v":0},{"$f":"'Standing data'!$D$6","v":"Academy name"},{"$f":"'Standing data'!$F$6","v":0},"Standing","M129",{"$f":"'Standing data'!M129","v":0}]
[{"$f":"'Standing data'!$D$10","v":{"$error":"#N/A"}},{"$f":"'Standing data'!$F$10","v":0},{"$f":"'Standing data'!$D$6","v":"Academy name"},{"$f":"'Standing data'!$F$6","v":0},"Standing","M130",{"$f":"'Standing data'!M130","v":0}]
[{"$f":"'Standing data'!$D$10","v":{"$error":"#N/A"}},{"$f":"'Standing data'!$F$10","v":0},{"$f":"'Standing data'!$D$6","v":"Academy name"},{"$f":"'Standing data'!$F$6","v":0},"Standing","M131",{"$f":"'Standing data'!M131","v":0}]
[{"$f":"'Standing data'!$D$10","v":{"$error":"#N/A"}},{"$f":"'Standing data'!$F$10","v":0},{"$f":"'Standing data'!$D$6","v":"Academy name"},{"$f":"'Standing data'!$F$6","v":0},"Standing","M132",{"$f":"'Standing data'!M132","v":0}]
[{"$f":"'Standing data'!$D$10","v":{"$error":"#N/A"}},{"$f":"'Standing data'!$F$10","v":0},{"$f":"'Standing data'!$D$6","v":"Academy name"},{"$f":"'Standing data'!$F$6","v":0},"Standing","E139",{"$f":"'Standing data'!E139","v":0}]
[{"$f":"'Standing data'!$D$10","v":{"$error":"#N/A"}},{"$f":"'Standing data'!$F$10","v":0},{"$f":"'Standing data'!$D$6","v":"Academy name"},{"$f":"'Standing data'!$F$6","v":0},"Standing","E140",{"$f":"'Standing data'!E140","v":0}]
[{"$f":"'Standing data'!$D$10","v":{"$error":"#N/A"}},{"$f":"'Standing data'!$F$10","v":0},{"$f":"'Standing data'!$D$6","v":"Academy name"},{"$f":"'Standing data'!$F$6","v":0},"Standing","E141",{"$f":"'Standing data'!E141","v":0}]
[{"$f":"'Standing data'!$D$10","v":{"$error":"#N/A"}},{"$f":"'Standing data'!$F$10","v":0},{"$f":"'Standing data'!$D$6","v":"Academy name"},{"$f":"'Standing data'!$F$6","v":0},"Standing","B151",{"$f":"'Standing data'!B151","v":"Please type name here"}]
[{"$f":"'Standing data'!$D$10","v":{"$error":"#N/A"}},{"$f":"'Standing data'!$F$10","v":0},{"$f":"'Standing data'!$D$6","v":"Academy name"},{"$f":"'Standing data'!$F$6","v":0},"Standing","B154",{"$f":"'Standing data'!B154","v":"Please type date here"}]
[{"$f":"'Standing data'!$D$10","v":{"$error":"#N/A"}},{"$f":"'Standing data'!$F$10","v":0},{"$f":"'Standing data'!$D$6","v":"Academy name"},{"$f":"'Standing data'!$F$6","v":0},"Forecast","L10",{"$f":"#REF!","v":{"$error":"#REF!"}}]
[{"$f":"'Standing data'!$D$10","v":{"$error":"#N/A"}},{"$f":"'Standing data'!$F$10","v":0},{"$f":"'Standing data'!$D$6","v":"Academy name"},{"$f":"'Standing data'!$F$6","v":0},"Forecast","L11",{"$f":"#REF!","v":{"$error":"#REF!"}}]
[{"$f":"'Standing data'!$D$10","v":{"$error":"#N/A"}},{"$f":"'Standing data'!$F$10","v":0},{"$f":"'Standing data'!$D$6","v":"Academy name"},{"$f":"'Standing data'!$F$6","v":0},"Forecast","L12",{"$f":"#REF!","v":{"$error":"#REF!"}}]
[{"$f":"'Standing data'!$D$10","v":{"$error":"#N/A"}},{"$f":"'Standing data'!$F$10","v":0},{"$f":"'Standing data'!$D$6","v":"Academy name"},{"$f":"'Standing data'!$F$6","v":0},"Forecast","L13",{"$f":"#REF!","v":{"$error":"#REF!"}}]
[{"$f":"'Standing data'!$D$10","v":{"$error":"#N/A"}},{"$f":"'Standing data'!$F$10","v":0},{"$f":"'Standing data'!$D$6","v":"Academy name"},{"$f":"'Standing data'!$F$6","v":0},"Forecast","L14",{"$f":"#REF!","v":{"$error":"#REF!"}}]
[{"$f":"'Standing data'!$D$10","v":{"$error":"#N/A"}},{"$f":"'Standing data'!$F$10","v":0},{"$f":"'Standing data'!$D$6","v":"Academy name"},{"$f":"'Standing data'!$F$6","v":0},"Forecast","L15",{"$f":"#REF!","v":{"$error":"#REF!"}}]
[{"$f":"'Standing data'!$D$10","v":{"$error":"#N/A"}},{"$f":"'Standing data'!$F$10","v":0},{"$f":"'Standing data'!$D$6","v":"Academy name"},{"$f":"'Standing data'!$F$6","v":0},"Forecast","L16",{"$f":"#REF!","v":{"$error":"#REF!"}}]
[{"$f":"'Standing data'!$D$10","v":{"$error":"#N/A"}},{"$f":"'Standing data'!$F$10","v":0},{"$f":"'Standing data'!$D$6","v":"Academy name"},{"$f":"'Standing data'!$F$6","v":0},"Forecast","L17",{"$f":"#REF!","v":{"$error":"#REF!"}}]
[{"$f":"'Standing data'!$D$10","v":{"$error":"#N/A"}},{"$f":"'Standing data'!$F$10","v":0},{"$f":"'Standing data'!$D$6","v":"Academy name"},{"$f":"'Standing data'!$F$6","v":0},"Forecast","L18",{"$f":"#REF!","v":{"$error":"#REF!"}}]
[{"$f":"'Standing data'!$D$10","v":{"$error":"#N/A"}},{"$f":"'Standing data'!$F$10","v":0},{"$f":"'Standing data'!$D$6","v":"Academy name"},{"$f":"'Standing data'!$F$6","v":0},"Forecast","L19",{"$f":"#REF!","v":{"$error":"#REF!"}}]
[{"$f":"'Standing data'!$D$10","v":{"$error":"#N/A"}},{"$f":"'Standing data'!$F$10","v":0},{"$f":"'Standing data'!$D$6","v":"Academy name"},{"$f":"'Standing data'!$F$6","v":0},"Forecast","L20",{"$f":"#REF!","v":{"$error":"#REF!"}}]
[{"$f":"'Standing data'!$D$10","v":{"$error":"#N/A"}},{"$f":"'Standing data'!$F$10","v":0},{"$f":"'Standing data'!$D$6","v":"Academy name"},{"$f":"'Standing data'!$F$6","v":0},"Forecast","L21",{"$f":"#REF!","v":{"$error":"#REF!"}}]
[{"$f":"'Standing data'!$D$10","v":{"$error":"#N/A"}},{"$f":"'Standing data'!$F$10","v":0},{"$f":"'Standing data'!$D$6","v":"Academy name"},{"$f":"'Standing data'!$F$6","v":0},"Forecast","L22",{"$f":"#REF!","v":{"$error":"#REF!"}}]
[{"$f":"'Standing data'!$D$10","v":{"$error":"#N/A"}},{"$f":"'Standing data'!$F$10","v":0},{"$f":"'Standing data'!$D$6","v":"Academy name"},{"$f":"'Standing data'!$F$6","v":0},"Forecast","L23",{"$f":"#REF!","v":{"$error":"#REF!"}}]
[{"$f":"'Standing data'!$D$10","v":{"$error":"#N/A"}},{"$f":"'Standing data'!$F$10","v":0},{"$f":"'Standing data'!$D$6","v":"Academy name"},{"$f":"'Standing data'!$F$6","v":0},"Forecast","L24",{"$f":"#REF!","v":{"$error":"#REF!"}}]
[{"$f":"'Standing data'!$D$10","v":{"$error":"#N/A"}},{"$f":"'Standing data'!$F$10","v":0},{"$f":"'Standing data'!$D$6","v":"Academy name"},{"$f":"'Standing data'!$F$6","v":0},"Forecast","L25",{"$f":"#REF!","v":{"$error":"#REF!"}}]
[{"$f":"'Standing data'!$D$10","v":{"$error":"#N/A"}},{"$f":"'Standing data'!$F$10","v":0},{"$f":"'Standing data'!$D$6","v":"Academy name"},{"$f":"'Standing data'!$F$6","v":0},"Forecast","L26",{"$f":"#REF!","v":{"$error":"#REF!"}}]
[{"$f":"'Standing data'!$D$10","v":{"$error":"#N/A"}},{"$f":"'Standing data'!$F$10","v":0},{"$f":"'Standing data'!$D$6","v":"Academy name"},{"$f":"'Standing data'!$F$6","v":0},"Forecast","L27",{"$f":"#REF!","v":{"$error":"#REF!"}}]
[{"$f":"'Standing data'!$D$10","v":{"$error":"#N/A"}},{"$f":"'Standing data'!$F$10","v":0},{"$f":"'Standing data'!$D$6","v":"Academy name"},{"$f":"'Standing data'!$F$6","v":0},"Forecast","L28",{"$f":"#REF!","v":{"$error":"#REF!"}}]
[{"$f":"'Standing data'!$D$10","v":{"$error":"#N/A"}},{"$f":"'Standing data'!$F$10","v":0},{"$f":"'Standing data'!$D$6","v":"Academy name"},{"$f":"'Standing data'!$F$6","v":0},"Forecast","L29",{"$f":"#REF!","v":{"$error":"#REF!"}}]
[{"$f":"'Standing data'!$D$10","v":{"$error":"#N/A"}},{"$f":"'Standing data'!$F$10","v":0},{"$f":"'Standing data'!$D$6","v":"Academy name"},{"$f":"'Standing data'!$F$6","v":0},"Forecast","L30",{"$f":"#REF!","v":{"$error":"#REF!"}}]
[{"$f":"'Standing data'!$D$10","v":{"$error":"#N/A"}},{"$f":"'Standing data'!$F$10","v":0},{"$f":"'Standing data'!$D$6","v":"Academy name"},{"$f":"'Standing data'!$F$6","v":0},"Forecast","L31",{"$f":"#REF!","v":{"$error":"#REF!"}}]
[{"$f":"'Standing data'!$D$10","v":{"$error":"#N/A"}},{"$f":"'Standing data'!$F$10","v":0},{"$f":"'Standing data'!$D$6","v":"Academy name"},{"$f":"'Standing data'!$F$6","v":0},"Forecast","L32",{"$f":"#REF!","v":{"$error":"#REF!"}}]
[{"$f":"'Standing data'!$D$10","v":{"$error":"#N/A"}},{"$f":"'Standing data'!$F$10","v":0},{"$f":"'Standing data'!$D$6","v":"Academy name"},{"$f":"'Standing data'!$F$6","v":0},"Forecast","L33",{"$f":"#REF!","v":{"$error":"#REF!"}}]
[{"$f":"'Standing data'!$D$10","v":{"$error":"#N/A"}},{"$f":"'Standing data'!$F$10","v":0},{"$f":"'Standing data'!$D$6","v":"Academy name"},{"$f":"'Standing data'!$F$6","v":0},"Forecast","L34",{"$f":"#REF!","v":{"$error":"#REF!"}}]
[{"$f":"'Standing data'!$D$10","v":{"$error":"#N/A"}},{"$f":"'Standing data'!$F$10","v":0},{"$f":"'Standing data'!$D$6","v":"Academy name"},{"$f":"'Standing data'!$F$6","v":0},"Forecast","L35",{"$f":"#REF!","v":{"$error":"#REF!"}}]
[{"$f":"'Standing data'!$D$10","v":{"$error":"#N/A"}},{"$f":"'Standing data'!$F$10","v":0},{"$f":"'Standing data'!$D$6","v":"Academy name"},{"$f":"'Standing data'!$F$6","v":0},"Forecast","L36",{"$f":"#REF!","v":{"$error":"#REF!"}}]
[{"$f":"'Standing data'!$D$10","v":{"$error":"#N/A"}},{"$f":"'Standing data'!$F$10","v":0},{"$f":"'Standing data'!$D$6","v":"Academy name"},{"$f":"'Standing data'!$F$6","v":0},"Forecast","L37",{"$f":"#REF!","v":{"$error":"#REF!"}}]
[{"$f":"'Standing data'!$D$10","v":{"$error":"#N/A"}},{"$f":"'Standing data'!$F$10","v":0},{"$f":"'Standing data'!$D$6","v":"Academy name"},{"$f":"'Standing data'!$F$6","v":0},"Forecast","L38",{"$f":"#REF!","v":{"$error":"#REF!"}}]
[{"$f":"'Standing data'!$D$10","v":{"$error":"#N/A"}},{"$f":"'Standing data'!$F$10","v":0},{"$f":"'Standing data'!$D$6","v":"Academy name"},{"$f":"'Standing data'!$F$6","v":0},"Forecast","L39",{"$f":"#REF!","v":{"$error":"#REF!"}}]
[{"$f":"'Standing data'!$D$10","v":{"$error":"#N/A"}},{"$f":"'Standing data'!$F$10","v":0},{"$f":"'Standing data'!$D$6","v":"Academy name"},{"$f":"'Standing data'!$F$6","v":0},"Forecast","L40",{"$f":"#REF!","v":{"$error":"#REF!"}}]
[{"$f":"'Standing data'!$D$10","v":{"$error":"#N/A"}},{"$f":"'Standing data'!$F$10","v":0},{"$f":"'Standing data'!$D$6","v":"Academy name"},{"$f":"'Standing data'!$F$6","v":0},"Forecast","L41",{"$f":"#REF!","v":{"$error":"#REF!"}}]
[{"$f":"'Standing data'!$D$10","v":{"$error":"#N/A"}},{"$f":"'Standing data'!$F$10","v":0},{"$f":"'Standing data'!$D$6","v":"Academy name"},{"$f":"'Standing data'!$F$6","v":0},"Forecast","L42",{"$f":"#REF!","v":{"$error":"#REF!"}}]
[{"$f":"'Standing data'!$D$10","v":{"$error":"#N/A"}},{"$f":"'Standing data'!$F$10","v":0},{"$f":"'Standing data'!$D$6","v":"Academy name"},{"$f":"'Standing data'!$F$6","v":0},"Forecast","L43",{"$f":"#REF!","v":{"$error":"#REF!"}}]
[{"$f":"'Standing data'!$D$10","v":{"$error":"#N/A"}},{"$f":"'Standing data'!$F$10","v":0},{"$f":"'Standing data'!$D$6","v":"Academy name"},{"$f":"'Standing data'!$F$6","v":0},"Forecast","L45",{"$f":"#REF!","v":{"$error":"#REF!"}}]
[{"$f":"'Standing data'!$D$10","v":{"$error":"#N/A"}},{"$f":"'Standing data'!$F$10","v":0},{"$f":"'Standing data'!$D$6","v":"Academy name"},{"$f":"'Standing data'!$F$6","v":0},"Forecast","L46",{"$f":"#REF!","v":{"$error":"#REF!"}}]
[{"$f":"'Standing data'!$D$10","v":{"$error":"#N/A"}},{"$f":"'Standing data'!$F$10","v":0},{"$f":"'Standing data'!$D$6","v":"Academy name"},{"$f":"'Standing data'!$F$6","v":0},"Forecast","L47",{"$f":"#REF!","v":{"$error":"#REF!"}}]
[{"$f":"'Standing data'!$D$10","v":{"$error":"#N/A"}},{"$f":"'Standing data'!$F$10","v":0},{"$f":"'Standing data'!$D$6","v":"Academy name"},{"$f":"'Standing data'!$F$6","v":0},"Forecast","L48",{"$f":"#REF!","v":{"$error":"#REF!"}}]
[{"$f":"'Standing data'!$D$10","v":{"$error":"#N/A"}},{"$f":"'Standing data'!$F$10","v":0},{"$f":"'Standing data'!$D$6","v":"Academy name"},{"$f":"'Standing data'!$F$6","v":0},"Forecast","L49",{"$f":"#REF!","v":{"$error":"#REF!"}}]
[{"$f":"'Standing data'!$D$10","v":{"$error":"#N/A"}},{"$f":"'Standing data'!$F$10","v":0},{"$f":"'Standing data'!$D$6","v":"Academy name"},{"$f":"'Standing data'!$F$6","v":0},"Forecast","L50",{"$f":"#REF!","v":{"$error":"#REF!"}}]
[{"$f":"'Standing data'!$D$10","v":{"$error":"#N/A"}},{"$f":"'Standing data'!$F$10","v":0},{"$f":"'Standing data'!$D$6","v":"Academy name"},{"$f":"'Standing data'!$F$6","v":0},"Forecast","L51",{"$f":"#REF!","v":{"$error":"#REF!"}}]
[{"$f":"'Standing data'!$D$10","v":{"$error":"#N/A"}},{"$f":"'Standing data'!$F$10","v":0},{"$f":"'Standing data'!$D$6","v":"Academy name"},{"$f":"'Standing data'!$F$6","v":0},"Forecast","L52",{"$f":"#REF!","v":{"$error":"#REF!"}}]
[{"$f":"'Standing data'!$D$10","v":{"$error":"#N/A"}},{"$f":"'Standing data'!$F$10","v":0},{"$f":"'Standing data'!$D$6","v":"Academy name"},{"$f":"'Standing data'!$F$6","v":0},"Forecast","L53",{"$f":"#REF!","v":{"$error":"#REF!"}}]
[{"$f":"'Standing data'!$D$10","v":{"$error":"#N/A"}},{"$f":"'Standing data'!$F$10","v":0},{"$f":"'Standing data'!$D$6","v":"Academy name"},{"$f":"'Standing data'!$F$6","v":0},"Forecast","L54",{"$f":"#REF!","v":{"$error":"#REF!"}}]
[{"$f":"'Standing data'!$D$10","v":{"$error":"#N/A"}},{"$f":"'Standing data'!$F$10","v":0},{"$f":"'Standing data'!$D$6","v":"Academy name"},{"$f":"'Standing data'!$F$6","v":0},"Forecast","L60",{"$f":"#REF!","v":{"$error":"#REF!"}}]
[{"$f":"'Standing data'!$D$10","v":{"$error":"#N/A"}},{"$f":"'Standing data'!$F$10","v":0},{"$f":"'Standing data'!$D$6","v":"Academy name"},{"$f":"'Standing data'!$F$6","v":0},"Forecast","L61",{"$f":"#REF!","v":{"$error":"#REF!"}}]
[{"$f":"'Standing data'!$D$10","v":{"$error":"#N/A"}},{"$f":"'Standing data'!$F$10","v":0},{"$f":"'Standing data'!$D$6","v":"Academy name"},{"$f":"'Standing data'!$F$6","v":0},"Forecast","L62",{"$f":"#REF!","v":{"$error":"#REF!"}}]
[{"$f":"'Standing data'!$D$10","v":{"$error":"#N/A"}},{"$f":"'Standing data'!$F$10","v":0},{"$f":"'Standing data'!$D$6","v":"Academy name"},{"$f":"'Standing data'!$F$6","v":0},"Forecast","L63",{"$f":"#REF!","v":{"$error":"#REF!"}}]
[{"$f":"'Standing data'!$D$10","v":{"$error":"#N/A"}},{"$f":"'Standing data'!$F$10","v":0},{"$f":"'Standing data'!$D$6","v":"Academy name"},{"$f":"'Standing data'!$F$6","v":0},"Forecast","L64",{"$f":"#REF!","v":{"$error":"#REF!"}}]
[{"$f":"'Standing data'!$D$10","v":{"$error":"#N/A"}},{"$f":"'Standing data'!$F$10","v":0},{"$f":"'Standing data'!$D$6","v":"Academy name"},{"$f":"'Standing data'!$F$6","v":0},"Forecast","L65",{"$f":"#REF!","v":{"$error":"#REF!"}}]
[{"$f":"'Standing data'!$D$10","v":{"$error":"#N/A"}},{"$f":"'Standing data'!$F$10","v":0},{"$f":"'Standing data'!$D$6","v":"Academy name"},{"$f":"'Standing data'!$F$6","v":0},"Forecast","L66",{"$f":"#REF!","v":{"$error":"#REF!"}}]
[{"$f":"'Standing data'!$D$10","v":{"$error":"#N/A"}},{"$f":"'Standing data'!$F$10","v":0},{"$f":"'Standing data'!$D$6","v":"Academy name"},{"$f":"'Standing data'!$F$6","v":0},"Forecast","L67",{"$f":"#REF!","v":{"$error":"#REF!"}}]
[{"$f":"'Standing data'!$D$10","v":{"$error":"#N/A"}},{"$f":"'Standing data'!$F$10","v":0},{"$f":"'Standing data'!$D$6","v":"Academy name"},{"$f":"'Standing data'!$F$6","v":0},"Forecast","L68",{"$f":"#REF!","v":{"$error":"#REF!"}}]
[{"$f":"'Standing data'!$D$10","v":{"$error":"#N/A"}},{"$f":"'Standing data'!$F$10","v":0},{"$f":"'Standing data'!$D$6","v":"Academy name"},{"$f":"'Standing data'!$F$6","v":0},"Forecast","L69",{"$f":"#REF!","v":{"$error":"#REF!"}}]
[{"$f":"'Standing data'!$D$10","v":{"$error":"#N/A"}},{"$f":"'Standing data'!$F$10","v":0},{"$f":"'Standing data'!$D$6","v":"Academy name"},{"$f":"'Standing data'!$F$6","v":0},"Forecast","L70",{"$f":"#REF!","v":{"$error":"#REF!"}}]
[{"$f":"'Standing data'!$D$10","v":{"$error":"#N/A"}},{"$f":"'Standing data'!$F$10","v":0},{"$f":"'Standing data'!$D$6","v":"Academy name"},{"$f":"'Standing data'!$F$6","v":0},"Forecast","L71",{"$f":"#REF!","v":{"$error":"#REF!"}}]
[{"$f":"'Standing data'!$D$10","v":{"$error":"#N/A"}},{"$f":"'Standing data'!$F$10","v":0},{"$f":"'Standing data'!$D$6","v":"Academy name"},{"$f":"'Standing data'!$F$6","v":0},"Forecast","L72",{"$f":"#REF!","v":{"$error":"#REF!"}}]
[{"$f":"'Standing data'!$D$10","v":{"$error":"#N/A"}},{"$f":"'Standing data'!$F$10","v":0},{"$f":"'Standing data'!$D$6","v":"Academy name"},{"$f":"'Standing data'!$F$6","v":0},"Forecast","L73",{"$f":"#REF!","v":{"$error":"#REF!"}}]
[{"$f":"'Standing data'!$D$10","v":{"$error":"#N/A"}},{"$f":"'Standing data'!$F$10","v":0},{"$f":"'Standing data'!$D$6","v":"Academy name"},{"$f":"'Standing data'!$F$6","v":0},"Forecast","L74",{"$f":"#REF!","v":{"$error":"#REF!"}}]
[{"$f":"'Standing data'!$D$10","v":{"$error":"#N/A"}},{"$f":"'Standing data'!$F$10","v":0},{"$f":"'Standing data'!$D$6","v":"Academy name"},{"$f":"'Standing data'!$F$6","v":0},"Forecast","L75",{"$f":"#REF!","v":{"$error":"#REF!"}}]
[{"$f":"'Standing data'!$D$10","v":{"$error":"#N/A"}},{"$f":"'Standing data'!$F$10","v":0},{"$f":"'Standing data'!$D$6","v":"Academy name"},{"$f":"'Standing data'!$F$6","v":0},"Forecast","L76",{"$f":"#REF!","v":{"$error":"#REF!"}}]
[{"$f":"'Standing data'!$D$10","v":{"$error":"#N/A"}},{"$f":"'Standing data'!$F$10","v":0},{"$f":"'Standing data'!$D$6","v":"Academy name"},{"$f":"'Standing data'!$F$6","v":0},"Forecast","L77",{"$f":"#REF!","v":{"$error":"#REF!"}}]
[{"$f":"'Standing data'!$D$10","v":{"$error":"#N/A"}},{"$f":"'Standing data'!$F$10","v":0},{"$f":"'Standing data'!$D$6","v":"Academy name"},{"$f":"'Standing data'!$F$6","v":0},"Forecast","L78",{"$f":"#REF!","v":{"$error":"#REF!"}}]
[{"$f":"'Standing data'!$D$10","v":{"$error":"#N/A"}},{"$f":"'Standing data'!$F$10","v":0},{"$f":"'Standing data'!$D$6","v":"Academy name"},{"$f":"'Standing data'!$F$6","v":0},"Forecast","L79",{"$f":"#REF!","v":{"$error":"#REF!"}}]
[{"$f":"'Standing data'!$D$10","v":{"$error":"#N/A"}},{"$f":"'Standing data'!$F$10","v":0},{"$f":"'Standing data'!$D$6","v":"Academy name"},{"$f":"'Standing data'!$F$6","v":0},"Forecast","L80",{"$f":"#REF!","v":{"$error":"#REF!"}}]
[{"$f":"'Standing data'!$D$10","v":{"$error":"#N/A"}},{"$f":"'Standing data'!$F$10","v":0},{"$f":"'Standing data'!$D$6","v":"Academy name"},{"$f":"'Standing data'!$F$6","v":0},"Forecast","L81",{"$f":"#REF!","v":{"$error":"#REF!"}}]
[{"$f":"'Standing data'!$D$10","v":{"$error":"#N/A"}},{"$f":"'Standing data'!$F$10","v":0},{"$f":"'Standing data'!$D$6","v":"Academy name"},{"$f":"'Standing data'!$F$6","v":0},"Forecast","L82",{"$f":"#REF!","v":{"$error":"#REF!"}}]
[{"$f":"'Standing data'!$D$10","v":{"$error":"#N/A"}},{"$f":"'Standing data'!$F$10","v":0},{"$f":"'Standing data'!$D$6","v":"Academy name"},{"$f":"'Standing data'!$F$6","v":0},"Forecast","L84",{"$f":"#REF!","v":{"$error":"#REF!"}}]
[{"$f":"'Standing data'!$D$10","v":{"$error":"#N/A"}},{"$f":"'Standing data'!$F$10","v":0},{"$f":"'Standing data'!$D$6","v":"Academy name"},{"$f":"'Standing data'!$F$6","v":0},"Forecast","L85",{"$f":"#REF!","v":{"$error":"#REF!"}}]
[{"$f":"'Standing data'!$D$10","v":{"$error":"#N/A"}},{"$f":"'Standing data'!$F$10","v":0},{"$f":"'Standing data'!$D$6","v":"Academy name"},{"$f":"'Standing data'!$F$6","v":0},"Forecast","L86",{"$f":"#REF!","v":{"$error":"#REF!"}}]
[{"$f":"'Standing data'!$D$10","v":{"$error":"#N/A"}},{"$f":"'Standing data'!$F$10","v":0},{"$f":"'Standing data'!$D$6","v":"Academy name"},{"$f":"'Standing data'!$F$6","v":0},"Forecast","L87",{"$f":"#REF!","v":{"$error":"#REF!"}}]
[{"$f":"'Standing data'!$D$10","v":{"$error":"#N/A"}},{"$f":"'Standing data'!$F$10","v":0},{"$f":"'Standing data'!$D$6","v":"Academy name"},{"$f":"'Standing data'!$F$6","v":0},"Forecast","L88",{"$f":"#REF!","v":{"$error":"#REF!"}}]
[{"$f":"'Standing data'!$D$10","v":{"$error":"#N/A"}},{"$f":"'Standing data'!$F$10","v":0},{"$f":"'Standing data'!$D$6","v":"Academy name"},{"$f":"'Standing data'!$F$6","v":0},"Forecast","L95",{"$f":"#REF!","v":{"$error":"#REF!"}}]
[{"$f":"'Standing data'!$D$10","v":{"$error":"#N/A"}},{"$f":"'Standing data'!$F$10","v":0},{"$f":"'Standing data'!$D$6","v":"Academy name"},{"$f":"'Standing data'!$F$6","v":0},"Forecast","L96",{"$f":"#REF!","v":{"$error":"#REF!"}}]
[{"$f":"'Standing data'!$D$10","v":{"$error":"#N/A"}},{"$f":"'Standing data'!$F$10","v":0},{"$f":"'Standing data'!$D$6","v":"Academy name"},{"$f":"'Standing data'!$F$6","v":0},"Forecast","L97",{"$f":"#REF!","v":{"$error":"#REF!"}}]
[{"$f":"'Standing data'!$D$10","v":{"$error":"#N/A"}},{"$f":"'Standing data'!$F$10","v":0},{"$f":"'Standing data'!$D$6","v":"Academy name"},{"$f":"'Standing data'!$F$6","v":0},"Forecast","L98",{"$f":"#REF!","v":{"$error":"#REF!"}}]
[{"$f":"'Standing data'!$D$10","v":{"$error":"#N/A"}},{"$f":"'Standing data'!$F$10","v":0},{"$f":"'Standing data'!$D$6","v":"Academy name"},{"$f":"'Standing data'!$F$6","v":0},"Forecast","L99",{"$f":"#REF!","v":{"$error":"#REF!"}}]
[{"$f":"'Standing data'!$D$10","v":{"$error":"#N/A"}},{"$f":"'Standing data'!$F$10","v":0},{"$f":"'Standing data'!$D$6","v":"Academy name"},{"$f":"'Standing data'!$F$6","v":0},"Forecast","L100",{"$f":"#REF!","v":{"$error":"#REF!"}}]
[{"$f":"'Standing data'!$D$10","v":{"$error":"#N/A"}},{"$f":"'Standing data'!$F$10","v":0},{"$f":"'Standing data'!$D$6","v":"Academy name"},{"$f":"'Standing data'!$F$6","v":0},"Forecast","L101",{"$f":"#REF!","v":{"$error":"#REF!"}}]
[{"$f":"'Standing data'!$D$10","v":{"$error":"#N/A"}},{"$f":"'Standing data'!$F$10","v":0},{"$f":"'Standing data'!$D$6","v":"Academy name"},{"$f":"'Standing data'!$F$6","v":0},"Forecast","L102",{"$f":"#REF!","v":{"$error":"#REF!"}}]
[{"$f":"'Standing data'!$D$10","v":{"$error":"#N/A"}},{"$f":"'Standing data'!$F$10","v":0},{"$f":"'Standing data'!$D$6","v":"Academy name"},{"$f":"'Standing data'!$F$6","v":0},"Forecast","L103",{"$f":"#REF!","v":{"$error":"#REF!"}}]
[{"$f":"'Standing data'!$D$10","v":{"$error":"#N/A"}},{"$f":"'Standing data'!$F$10","v":0},{"$f":"'Standing data'!$D$6","v":"Academy name"},{"$f":"'Standing data'!$F$6","v":0},"Forecast","L105",{"$f":"#REF!","v":{"$error":"#REF!"}}]
[{"$f":"'Standing data'!$D$10","v":{"$error":"#N/A"}},{"$f":"'Standing data'!$F$10","v":0},{"$f":"'Standing data'!$D$6","v":"Academy name"},{"$f":"'Standing data'!$F$6","v":0},"Forecast","L106",{"$f":"#REF!","v":{"$error":"#REF!"}}]
[{"$f":"'Standing data'!$D$10","v":{"$error":"#N/A"}},{"$f":"'Standing data'!$F$10","v":0},{"$f":"'Standing data'!$D$6","v":"Academy name"},{"$f":"'Standing data'!$F$6","v":0},"Forecast","L107",{"$f":"#REF!","v":{"$error":"#REF!"}}]
[{"$f":"'Standing data'!$D$10","v":{"$error":"#N/A"}},{"$f":"'Standing data'!$F$10","v":0},{"$f":"'Standing data'!$D$6","v":"Academy name"},{"$f":"'Standing data'!$F$6","v":0},"Forecast","L108",{"$f":"#REF!","v":{"$error":"#REF!"}}]
[{"$f":"'Standing data'!$D$10","v":{"$error":"#N/A"}},{"$f":"'Standing data'!$F$10","v":0},{"$f":"'Standing data'!$D$6","v":"Academy name"},{"$f":"'Standing data'!$F$6","v":0},"Forecast","L111",{"$f":"#REF!","v":{"$error":"#REF!"}}]
[{"$f":"'Standing data'!$D$10","v":{"$error":"#N/A"}},{"$f":"'Standing data'!$F$10","v":0},{"$f":"'Standing data'!$D$6","v":"Academy name"},{"$f":"'Standing data'!$F$6","v":0},"Forecast","L114",{"$f":"#REF!","v":{"$error":"#REF!"}}]
[{"$f":"'Standing data'!$D$10","v":{"$error":"#N/A"}},{"$f":"'Standing data'!$F$10","v":0},{"$f":"'Standing data'!$D$6","v":"Academy name"},{"$f":"'Standing data'!$F$6","v":0},"Forecast","L115",{"$f":"#REF!","v":{"$error":"#REF!"}}]
[{"$f":"'Standing data'!$D$10","v":{"$error":"#N/A"}},{"$f":"'Standing data'!$F$10","v":0},{"$f":"'Standing data'!$D$6","v":"Academy name"},{"$f":"'Standing data'!$F$6","v":0},"Forecast","L116",{"$f":"#REF!","v":{"$error":"#REF!"}}]
[{"$f":"'Standing data'!$D$10","v":{"$error":"#N/A"}},{"$f":"'Standing data'!$F$10","v":0},{"$f":"'Standing data'!$D$6","v":"Academy name"},{"$f":"'Standing data'!$F$6","v":0},"Forecast","L118",{"$f":"#REF!","v":{"$error":"#REF!"}}]
[{"$f":"'Standing data'!$D$10","v":{"$error":"#N/A"}},{"$f":"'Standing data'!$F$10","v":0},{"$f":"'Standing data'!$D$6","v":"Academy name"},{"$f":"'Standing data'!$F$6","v":0},"Forecast","L119",{"$f":"#REF!","v":{"$error":"#REF!"}}]
[{"$f":"'Standing data'!$D$10","v":{"$error":"#N/A"}},{"$f":"'Standing data'!$F$10","v":0},{"$f":"'Standing data'!$D$6","v":"Academy name"},{"$f":"'Standing data'!$F$6","v":0},"Forecast","L120",{"$f":"#REF!","v":{"$error":"#REF!"}}]
[{"$f":"'Standing data'!$D$10","v":{"$error":"#N/A"}},{"$f":"'Standing data'!$F$10","v":0},{"$f":"'Standing data'!$D$6","v":"Academy name"},{"$f":"'Standing data'!$F$6","v":0},"Forecast","L121",{"$f":"#REF!","v":{"$error":"#REF!"}}]
[{"$f":"'Standing data'!$D$10","v":{"$error":"#N/A"}},{"$f":"'Standing data'!$F$10","v":0},{"$f":"'Standing data'!$D$6","v":"Academy name"},{"$f":"'Standing data'!$F$6","v":0},"Forecast","L123",{"$f":"#REF!","v":{"$error":"#REF!"}}]
[{"$f":"'Standing data'!$D$10","v":{"$error":"#N/A"}},{"$f":"'Standing data'!$F$10","v":0},{"$f":"'Standing data'!$D$6","v":"Academy name"},{"$f":"'Standing data'!$F$6","v":0},"Forecast","L126",{"$f":"#REF!","v":{"$error":"#REF!"}}]
[{"$f":"'Standing data'!$D$10","v":{"$error":"#N/A"}},{"$f":"'Standing data'!$F$10","v":0},{"$f":"'Standing data'!$D$6","v":"Academy name"},{"$f":"'Standing data'!$F$6","v":0},"Forecast","L127",{"$f":"#REF!","v":{"$error":"#REF!"}}]
[{"$f":"'Standing data'!$D$10","v":{"$error":"#N/A"}},{"$f":"'Standing data'!$F$10","v":0},{"$f":"'Standing data'!$D$6","v":"Academy name"},{"$f":"'Standing data'!$F$6","v":0},"Forecast","L128",{"$f":"#REF!","v":{"$error":"#REF!"}}]
[{"$f":"'Standing data'!$D$10","v":{"$error":"#N/A"}},{"$f":"'Standing data'!$F$10","v":0},{"$f":"'Standing data'!$D$6","v":"Academy name"},{"$f":"'Standing data'!$F$6","v":0},"Forecast","L134",{"$f":"#REF!","v":{"$error":"#REF!"}}]
[{"$f":"'Standing data'!$D$10","v":{"$error":"#N/A"}},{"$f":"'Standing data'!$F$10","v":0},{"$f":"'Standing data'!$D$6","v":"Academy name"},{"$f":"'Standing data'!$F$6","v":0},"Forecast","L139",{"$f":"#REF!","v":{"$error":"#REF!"}}]
[{"$f":"'Standing data'!$D$10","v":{"$error":"#N/A"}},{"$f":"'Standing data'!$F$10","v":0},{"$f":"'Standing data'!$D$6","v":"Academy name"},{"$f":"'Standing data'!$F$6","v":0},"Forecast","L140",{"$f":"#REF!","v":{"$error":"#REF!"}}]
[{"$f":"'Standing data'!$D$10","v":{"$error":"#N/A"}},{"$f":"'Standing data'!$F$10","v":0},{"$f":"'Standing data'!$D$6","v":"Academy name"},{"$f":"'Standing data'!$F$6","v":0},"Forecast","L141",{"$f":"#REF!","v":{"$error":"#REF!"}}]
[{"$f":"'Standing data'!$D$10","v":{"$error":"#N/A"}},{"$f":"'Standing data'!$F$10","v":0},{"$f":"'Standing data'!$D$6","v":"Academy name"},{"$f":"'Standing data'!$F$6","v":0},"Forecast","L145",{"$f":"#REF!","v":{"$error":"#REF!"}}]
[{"$f":"'Standing data'!$D$10","v":{"$error":"#N/A"}},{"$f":"'Standing data'!$F$10","v":0},{"$f":"'Standing data'!$D$6","v":"Academy name"},{"$f":"'Standing data'!$F$6","v":0},"Forecast","L151",{"$f":"#REF!","v":{"$error":"#REF!"}}]
[{"$f":"'Standing data'!$D$10","v":{"$error":"#N/A"}},{"$f":"'Standing data'!$F$10","v":0},{"$f":"'Standing data'!$D$6","v":"Academy name"},{"$f":"'Standing data'!$F$6","v":0},"Forecast","L152",{"$f":"#REF!","v":{"$error":"#REF!"}}]
[{"$f":"'Standing data'!$D$10","v":{"$error":"#N/A"}},{"$f":"'Standing data'!$F$10","v":0},{"$f":"'Standing data'!$D$6","v":"Academy name"},{"$f":"'Standing data'!$F$6","v":0},"Forecast","L153",{"$f":"#REF!","v":{"$error":"#REF!"}}]
[{"$f":"'Standing data'!$D$10","v":{"$error":"#N/A"}},{"$f":"'Standing data'!$F$10","v":0},{"$f":"'Standing data'!$D$6","v":"Academy name"},{"$f":"'Standing data'!$F$6","v":0},"Forecast","L154",{"$f":"#REF!","v":{"$error":"#REF!"}}]
[{"$f":"'Standing data'!$D$10","v":{"$error":"#N/A"}},{"$f":"'Standing data'!$F$10","v":0},{"$f":"'Standing data'!$D$6","v":"Academy name"},{"$f":"'Standing data'!$F$6","v":0},"Forecast","L155",{"$f":"#REF!","v":{"$error":"#REF!"}}]
[{"$f":"'Standing data'!$D$10","v":{"$error":"#N/A"}},{"$f":"'Standing data'!$F$10","v":0},{"$f":"'Standing data'!$D$6","v":"Academy name"},{"$f":"'Standing data'!$F$6","v":0},"Forecast","L156",{"$f":"#REF!","v":{"$error":"#REF!"}}]
[{"$f":"'Standing data'!$D$10","v":{"$error":"#N/A"}},{"$f":"'Standing data'!$F$10","v":0},{"$f":"'Standing data'!$D$6","v":"Academy name"},{"$f":"'Standing data'!$F$6","v":0},"Forecast","L157",{"$f":"#REF!","v":{"$error":"#REF!"}}]
[{"$f":"'Standing data'!$D$10","v":{"$error":"#N/A"}},{"$f":"'Standing data'!$F$10","v":0},{"$f":"'Standing data'!$D$6","v":"Academy name"},{"$f":"'Standing data'!$F$6","v":0},"Forecast","L158",{"$f":"#REF!","v":{"$error":"#REF!"}}]
[{"$f":"'Standing data'!$D$10","v":{"$error":"#N/A"}},{"$f":"'Standing data'!$F$10","v":0},{"$f":"'Standing data'!$D$6","v":"Academy name"},{"$f":"'Standing data'!$F$6","v":0},"Forecast","L159",{"$f":"#REF!","v":{"$error":"#REF!"}}]
[{"$f":"'Standing data'!$D$10","v":{"$error":"#N/A"}},{"$f":"'Standing data'!$F$10","v":0},{"$f":"'Standing data'!$D$6","v":"Academy name"},{"$f":"'Standing data'!$F$6","v":0},"Forecast","L160",{"$f":"#REF!","v":{"$error":"#REF!"}}]
[{"$f":"'Standing data'!$D$10","v":{"$error":"#N/A"}},{"$f":"'Standing data'!$F$10","v":0},{"$f":"'Standing data'!$D$6","v":"Academy name"},{"$f":"'Standing data'!$F$6","v":0},"Forecast","L161",{"$f":"#REF!","v":{"$error":"#REF!"}}]
[{"$f":"'Standing data'!$D$10","v":{"$error":"#N/A"}},{"$f":"'Standing data'!$F$10","v":0},{"$f":"'Standing data'!$D$6","v":"Academy name"},{"$f":"'Standing data'!$F$6","v":0},"Forecast","L162",{"$f":"#REF!","v":{"$error":"#REF!"}}]
[{"$f":"'Standing data'!$D$10","v":{"$error":"#N/A"}},{"$f":"'Standing data'!$F$10","v":0},{"$f":"'Standing data'!$D$6","v":"Academy name"},{"$f":"'Standing data'!$F$6","v":0},"Forecast","L163",{"$f":"#REF!","v":{"$error":"#REF!"}}]
[{"$f":"'Standing data'!$D$10","v":{"$error":"#N/A"}},{"$f":"'Standing data'!$F$10","v":0},{"$f":"'Standing data'!$D$6","v":"Academy name"},{"$f":"'Standing data'!$F$6","v":0},"Forecast","L164",{"$f":"#REF!","v":{"$error":"#REF!"}}]
[{"$f":"'Standing data'!$D$10","v":{"$error":"#N/A"}},{"$f":"'Standing data'!$F$10","v":0},{"$f":"'Standing data'!$D$6","v":"Academy name"},{"$f":"'Standing data'!$F$6","v":0},"Forecast","L165",{"$f":"#REF!","v":{"$error":"#REF!"}}]
[{"$f":"'Standing data'!$D$10","v":{"$error":"#N/A"}},{"$f":"'Standing data'!$F$10","v":0},{"$f":"'Standing data'!$D$6","v":"Academy name"},{"$f":"'Standing data'!$F$6","v":0},"Forecast","L166",{"$f":"#REF!","v":{"$error":"#REF!"}}]
[{"$f":"'Standing data'!$D$10","v":{"$error":"#N/A"}},{"$f":"'Standing data'!$F$10","v":0},{"$f":"'Standing data'!$D$6","v":"Academy name"},{"$f":"'Standing data'!$F$6","v":0},"Forecast","L167",{"$f":"#REF!","v":{"$error":"#REF!"}}]
[{"$f":"'Standing data'!$D$10","v":{"$error":"#N/A"}},{"$f":"'Standing data'!$F$10","v":0},{"$f":"'Standing data'!$D$6","v":"Academy name"},{"$f":"'Standing data'!$F$6","v":0},"Forecast","L168",{"$f":"#REF!","v":{"$error":"#REF!"}}]
[{"$f":"'Standing data'!$D$10","v":{"$error":"#N/A"}},{"$f":"'Standing data'!$F$10","v":0},{"$f":"'Standing data'!$D$6","v":"Academy name"},{"$f":"'Standing data'!$F$6","v":0},"Forecast","L169",{"$f":"#REF!","v":{"$error":"#REF!"}}]
[{"$f":"'Standing data'!$D$10","v":{"$error":"#N/A"}},{"$f":"'Standing data'!$F$10","v":0},{"$f":"'Standing data'!$D$6","v":"Academy name"},{"$f":"'Standing data'!$F$6","v":0},"Forecast","L170",{"$f":"#REF!","v":{"$error":"#REF!"}}]
[{"$f":"'Standing data'!$D$10","v":{"$error":"#N/A"}},{"$f":"'Standing data'!$F$10","v":0},{"$f":"'Standing data'!$D$6","v":"Academy name"},{"$f":"'Standing data'!$F$6","v":0},"Forecast","L171",{"$f":"#REF!","v":{"$error":"#REF!"}}]
[{"$f":"'Standing data'!$D$10","v":{"$error":"#N/A"}},{"$f":"'Standing data'!$F$10","v":0},{"$f":"'Standing data'!$D$6","v":"Academy name"},{"$f":"'Standing data'!$F$6","v":0},"Forecast","L172",{"$f":"#REF!","v":{"$error":"#REF!"}}]
[{"$f":"'Standing data'!$D$10","v":{"$error":"#N/A"}},{"$f":"'Standing data'!$F$10","v":0},{"$f":"'Standing data'!$D$6","v":"Academy name"},{"$f":"'Standing data'!$F$6","v":0},"Forecast","L173",{"$f":"#REF!","v":{"$error":"#REF!"}}]
[{"$f":"'Standing data'!$D$10","v":{"$error":"#N/A"}},{"$f":"'Standing data'!$F$10","v":0},{"$f":"'Standing data'!$D$6","v":"Academy name"},{"$f":"'Standing data'!$F$6","v":0},"Forecast","L174",{"$f":"#REF!","v":{"$error":"#REF!"}}]
[{"$f":"'Standing data'!$D$10","v":{"$error":"#N/A"}},{"$f":"'Standing data'!$F$10","v":0},{"$f":"'Standing data'!$D$6","v":"Academy name"},{"$f":"'Standing data'!$F$6","v":0},"Forecast","L175",{"$f":"#REF!","v":{"$error":"#REF!"}}]
[{"$f":"'Standing data'!$D$10","v":{"$error":"#N/A"}},{"$f":"'Standing data'!$F$10","v":0},{"$f":"'Standing data'!$D$6","v":"Academy name"},{"$f":"'Standing data'!$F$6","v":0},"Forecast","L176",{"$f":"#REF!","v":{"$error":"#REF!"}}]
[{"$f":"'Standing data'!$D$10","v":{"$error":"#N/A"}},{"$f":"'Standing data'!$F$10","v":0},{"$f":"'Standing data'!$D$6","v":"Academy name"},{"$f":"'Standing data'!$F$6","v":0},"Forecast","L177",{"$f":"#REF!","v":{"$error":"#REF!"}}]
[{"$f":"'Standing data'!$D$10","v":{"$error":"#N/A"}},{"$f":"'Standing data'!$F$10","v":0},{"$f":"'Standing data'!$D$6","v":"Academy name"},{"$f":"'Standing data'!$F$6","v":0},"Forecast","L178",{"$f":"#REF!","v":{"$error":"#REF!"}}]
[{"$f":"'Standing data'!$D$10","v":{"$error":"#N/A"}},{"$f":"'Standing data'!$F$10","v":0},{"$f":"'Standing data'!$D$6","v":"Academy name"},{"$f":"'Standing data'!$F$6","v":0},"Forecast","L179",{"$f":"#REF!","v":{"$error":"#REF!"}}]
[{"$f":"'Standing data'!$D$10","v":{"$error":"#N/A"}},{"$f":"'Standing data'!$F$10","v":0},{"$f":"'Standing data'!$D$6","v":"Academy name"},{"$f":"'Standing data'!$F$6","v":0},"Forecast","L180",{"$f":"#REF!","v":{"$error":"#REF!"}}]
[{"$f":"'Standing data'!$D$10","v":{"$error":"#N/A"}},{"$f":"'Standing data'!$F$10","v":0},{"$f":"'Standing data'!$D$6","v":"Academy name"},{"$f":"'Standing data'!$F$6","v":0},"Forecast","L181",{"$f":"#REF!","v":{"$error":"#REF!"}}]
[{"$f":"'Standing data'!$D$10","v":{"$error":"#N/A"}},{"$f":"'Standing data'!$F$10","v":0},{"$f":"'Standing data'!$D$6","v":"Academy name"},{"$f":"'Standing data'!$F$6","v":0},"Forecast","L182",{"$f":"#REF!","v":{"$error":"#REF!"}}]
[{"$f":"'Standing data'!$D$10","v":{"$error":"#N/A"}},{"$f":"'Standing data'!$F$10","v":0},{"$f":"'Standing data'!$D$6","v":"Academy name"},{"$f":"'Standing data'!$F$6","v":0},"Forecast","L183",{"$f":"#REF!","v":{"$error":"#REF!"}}]
[{"$f":"'Standing data'!$D$10","v":{"$error":"#N/A"}},{"$f":"'Standing data'!$F$10","v":0},{"$f":"'Standing data'!$D$6","v":"Academy name"},{"$f":"'Standing data'!$F$6","v":0},"Forecast","L184",{"$f":"#REF!","v":{"$error":"#REF!"}}]
[{"$f":"'Standing data'!$D$10","v":{"$error":"#N/A"}},{"$f":"'Standing data'!$F$10","v":0},{"$f":"'Standing data'!$D$6","v":"Academy name"},{"$f":"'Standing data'!$F$6","v":0},"Forecast","L185",{"$f":"#REF!","v":{"$error":"#REF!"}}]
[{"$f":"'Standing data'!$D$10","v":{"$error":"#N/A"}},{"$f":"'Standing data'!$F$10","v":0},{"$f":"'Standing data'!$D$6","v":"Academy name"},{"$f":"'Standing data'!$F$6","v":0},"Forecast","L186",{"$f":"#REF!","v":{"$error":"#REF!"}}]
[{"$f":"'Standing data'!$D$10","v":{"$error":"#N/A"}},{"$f":"'Standing data'!$F$10","v":0},{"$f":"'Standing data'!$D$6","v":"Academy name"},{"$f":"'Standing data'!$F$6","v":0},"Forecast","L187",{"$f":"#REF!","v":{"$error":"#REF!"}}]
[{"$f":"'Standing data'!$D$10","v":{"$error":"#N/A"}},{"$f":"'Standing data'!$F$10","v":0},{"$f":"'Standing data'!$D$6","v":"Academy name"},{"$f":"'Standing data'!$F$6","v":0},"Forecast","L188",{"$f":"#REF!","v":{"$error":"#REF!"}}]
[{"$f":"'Standing data'!$D$10","v":{"$error":"#N/A"}},{"$f":"'Standing data'!$F$10","v":0},{"$f":"'Standing data'!$D$6","v":"Academy name"},{"$f":"'Standing data'!$F$6","v":0},"Forecast","L189",{"$f":"#REF!","v":{"$error":"#REF!"}}]
[{"$f":"'Standing data'!$D$10","v":{"$error":"#N/A"}},{"$f":"'Standing data'!$F$10","v":0},{"$f":"'Standing data'!$D$6","v":"Academy name"},{"$f":"'Standing data'!$F$6","v":0},"Forecast","L190",{"$f":"#REF!","v":{"$error":"#REF!"}}]
[{"$f":"'Standing data'!$D$10","v":{"$error":"#N/A"}},{"$f":"'Standing data'!$F$10","v":0},{"$f":"'Standing data'!$D$6","v":"Academy name"},{"$f":"'Standing data'!$F$6","v":0},"Forecast","L191",{"$f":"#REF!","v":{"$error":"#REF!"}}]
[{"$f":"'Standing data'!$D$10","v":{"$error":"#N/A"}},{"$f":"'Standing data'!$F$10","v":0},{"$f":"'Standing data'!$D$6","v":"Academy name"},{"$f":"'Standing data'!$F$6","v":0},"Forecast","L192",{"$f":"#REF!","v":{"$error":"#REF!"}}]
[{"$f":"'Standing data'!$D$10","v":{"$error":"#N/A"}},{"$f":"'Standing data'!$F$10","v":0},{"$f":"'Standing data'!$D$6","v":"Academy name"},{"$f":"'Standing data'!$F$6","v":0},"Forecast","L193",{"$f":"#REF!","v":{"$error":"#REF!"}}]
[{"$f":"'Standing data'!$D$10","v":{"$error":"#N/A"}},{"$f":"'Standing data'!$F$10","v":0},{"$f":"'Standing data'!$D$6","v":"Academy name"},{"$f":"'Standing data'!$F$6","v":0},"Forecast","L194",{"$f":"#REF!","v":{"$error":"#REF!"}}]
[{"$f":"'Standing data'!$D$10","v":{"$error":"#N/A"}},{"$f":"'Standing data'!$F$10","v":0},{"$f":"'Standing data'!$D$6","v":"Academy name"},{"$f":"'Standing data'!$F$6","v":0},"Forecast","L195",{"$f":"#REF!","v":{"$error":"#REF!"}}]
[{"$f":"'Standing data'!$D$10","v":{"$error":"#N/A"}},{"$f":"'Standing data'!$F$10","v":0},{"$f":"'Standing data'!$D$6","v":"Academy name"},{"$f":"'Standing data'!$F$6","v":0},"Forecast","L196",{"$f":"#REF!","v":{"$error":"#REF!"}}]
[{"$f":"'Standing data'!$D$10","v":{"$error":"#N/A"}},{"$f":"'Standing data'!$F$10","v":0},{"$f":"'Standing data'!$D$6","v":"Academy name"},{"$f":"'Standing data'!$F$6","v":0},"Forecast","L197",{"$f":"#REF!","v":{"$error":"#REF!"}}]
[{"$f":"'Standing data'!$D$10","v":{"$error":"#N/A"}},{"$f":"'Standing data'!$F$10","v":0},{"$f":"'Standing data'!$D$6","v":"Academy name"},{"$f":"'Standing data'!$F$6","v":0},"Forecast","L198",{"$f":"#REF!","v":{"$error":"#REF!"}}]
[{"$f":"'Standing data'!$D$10","v":{"$error":"#N/A"}},{"$f":"'Standing data'!$F$10","v":0},{"$f":"'Standing data'!$D$6","v":"Academy name"},{"$f":"'Standing data'!$F$6","v":0},"Forecast","L199",{"$f":"#REF!","v":{"$error":"#REF!"}}]
[{"$f":"'Standing data'!$D$10","v":{"$error":"#N/A"}},{"$f":"'Standing data'!$F$10","v":0},{"$f":"'Standing data'!$D$6","v":"Academy name"},{"$f":"'Standing data'!$F$6","v":0},"Forecast","L200",{"$f":"#REF!","v":{"$error":"#REF!"}}]
[{"$f":"'Standing data'!$D$10","v":{"$error":"#N/A"}},{"$f":"'Standing data'!$F$10","v":0},{"$f":"'Standing data'!$D$6","v":"Academy name"},{"$f":"'Standing data'!$F$6","v":0},"Forecast","L201",{"$f":"#REF!","v":{"$error":"#REF!"}}]
[{"$f":"'Standing data'!$D$10","v":{"$error":"#N/A"}},{"$f":"'Standing data'!$F$10","v":0},{"$f":"'Standing data'!$D$6","v":"Academy name"},{"$f":"'Standing data'!$F$6","v":0},"Forecast","L202",{"$f":"#REF!","v":{"$error":"#REF!"}}]
[{"$f":"'Standing data'!$D$10","v":{"$error":"#N/A"}},{"$f":"'Standing data'!$F$10","v":0},{"$f":"'Standing data'!$D$6","v":"Academy name"},{"$f":"'Standing data'!$F$6","v":0},"Forecast","L203",{"$f":"#REF!","v":{"$error":"#REF!"}}]
[{"$f":"'Standing data'!$D$10","v":{"$error":"#N/A"}},{"$f":"'Standing data'!$F$10","v":0},{"$f":"'Standing data'!$D$6","v":"Academy name"},{"$f":"'Standing data'!$F$6","v":0},"Forecast","L204",{"$f":"#REF!","v":{"$error":"#REF!"}}]
[{"$f":"'Standing data'!$D$10","v":{"$error":"#N/A"}},{"$f":"'Standing data'!$F$10","v":0},{"$f":"'Standing data'!$D$6","v":"Academy name"},{"$f":"'Standing data'!$F$6","v":0},"Forecast","L205",{"$f":"#REF!","v":{"$error":"#REF!"}}]
[{"$f":"'Standing data'!$D$10","v":{"$error":"#N/A"}},{"$f":"'Standing data'!$F$10","v":0},{"$f":"'Standing data'!$D$6","v":"Academy name"},{"$f":"'Standing data'!$F$6","v":0},"Forecast","L206",{"$f":"#REF!","v":{"$error":"#REF!"}}]
[{"$f":"'Standing data'!$D$10","v":{"$error":"#N/A"}},{"$f":"'Standing data'!$F$10","v":0},{"$f":"'Standing data'!$D$6","v":"Academy name"},{"$f":"'Standing data'!$F$6","v":0},"Forecast","L207",{"$f":"#REF!","v":{"$error":"#REF!"}}]
[{"$f":"'Standing data'!$D$10","v":{"$error":"#N/A"}},{"$f":"'Standing data'!$F$10","v":0},{"$f":"'Standing data'!$D$6","v":"Academy name"},{"$f":"'Standing data'!$F$6","v":0},"Forecast","L208",{"$f":"#REF!","v":{"$error":"#REF!"}}]
[{"$f":"'Standing data'!$D$10","v":{"$error":"#N/A"}},{"$f":"'Standing data'!$F$10","v":0},{"$f":"'Standing data'!$D$6","v":"Academy name"},{"$f":"'Standing data'!$F$6","v":0},"Forecast","L209",{"$f":"#REF!","v":{"$error":"#REF!"}}]
[{"$f":"'Standing data'!$D$10","v":{"$error":"#N/A"}},{"$f":"'Standing data'!$F$10","v":0},{"$f":"'Standing data'!$D$6","v":"Academy name"},{"$f":"'Standing data'!$F$6","v":0},"Forecast","L210",{"$f":"#REF!","v":{"$error":"#REF!"}}]
[{"$f":"'Standing data'!$D$10","v":{"$error":"#N/A"}},{"$f":"'Standing data'!$F$10","v":0},{"$f":"'Standing data'!$D$6","v":"Academy name"},{"$f":"'Standing data'!$F$6","v":0},"Forecast","L211",{"$f":"#REF!","v":{"$error":"#REF!"}}]
[{"$f":"'Standing data'!$D$10","v":{"$error":"#N/A"}},{"$f":"'Standing data'!$F$10","v":0},{"$f":"'Standing data'!$D$6","v":"Academy name"},{"$f":"'Standing data'!$F$6","v":0},"Forecast","L212",{"$f":"#REF!","v":{"$error":"#REF!"}}]
[{"$f":"'Standing data'!$D$10","v":{"$error":"#N/A"}},{"$f":"'Standing data'!$F$10","v":0},{"$f":"'Standing data'!$D$6","v":"Academy name"},{"$f":"'Standing data'!$F$6","v":0},"Forecast","L213",{"$f":"#REF!","v":{"$error":"#REF!"}}]
[{"$f":"'Standing data'!$D$10","v":{"$error":"#N/A"}},{"$f":"'Standing data'!$F$10","v":0},{"$f":"'Standing data'!$D$6","v":"Academy name"},{"$f":"'Standing data'!$F$6","v":0},"Forecast","L214",{"$f":"#REF!","v":{"$error":"#REF!"}}]
[{"$f":"'Standing data'!$D$10","v":{"$error":"#N/A"}},{"$f":"'Standing data'!$F$10","v":0},{"$f":"'Standing data'!$D$6","v":"Academy name"},{"$f":"'Standing data'!$F$6","v":0},"Forecast","L215",{"$f":"#REF!","v":{"$error":"#REF!"}}]
[{"$f":"'Standing data'!$D$10","v":{"$error":"#N/A"}},{"$f":"'Standing data'!$F$10","v":0},{"$f":"'Standing data'!$D$6","v":"Academy name"},{"$f":"'Standing data'!$F$6","v":0},"Forecast","L216",{"$f":"#REF!","v":{"$error":"#REF!"}}]
[{"$f":"'Standing data'!$D$10","v":{"$error":"#N/A"}},{"$f":"'Standing data'!$F$10","v":0},{"$f":"'Standing data'!$D$6","v":"Academy name"},{"$f":"'Standing data'!$F$6","v":0},"Forecast","L217",{"$f":"#REF!","v":{"$error":"#REF!"}}]
[{"$f":"'Standing data'!$D$10","v":{"$error":"#N/A"}},{"$f":"'Standing data'!$F$10","v":0},{"$f":"'Standing data'!$D$6","v":"Academy name"},{"$f":"'Standing data'!$F$6","v":0},"Forecast","L218",{"$f":"#REF!","v":{"$error":"#REF!"}}]
[{"$f":"'Standing data'!$D$10","v":{"$error":"#N/A"}},{"$f":"'Standing data'!$F$10","v":0},{"$f":"'Standing data'!$D$6","v":"Academy name"},{"$f":"'Standing data'!$F$6","v":0},"Forecast","L219",{"$f":"#REF!","v":{"$error":"#REF!"}}]
[{"$f":"'Standing data'!$D$10","v":{"$error":"#N/A"}},{"$f":"'Standing data'!$F$10","v":0},{"$f":"'Standing data'!$D$6","v":"Academy name"},{"$f":"'Standing data'!$F$6","v":0},"Forecast","L220",{"$f":"#REF!","v":{"$error":"#REF!"}}]
[{"$f":"'Standing data'!$D$10","v":{"$error":"#N/A"}},{"$f":"'Standing data'!$F$10","v":0},{"$f":"'Standing data'!$D$6","v":"Academy name"},{"$f":"'Standing data'!$F$6","v":0},"Forecast","L221",{"$f":"#REF!","v":{"$error":"#REF!"}}]
[{"$f":"'Standing data'!$D$10","v":{"$error":"#N/A"}},{"$f":"'Standing data'!$F$10","v":0},{"$f":"'Standing data'!$D$6","v":"Academy name"},{"$f":"'Standing data'!$F$6","v":0},"Forecast","L222",{"$f":"#REF!","v":{"$error":"#REF!"}}]
[{"$f":"'Standing data'!$D$10","v":{"$error":"#N/A"}},{"$f":"'Standing data'!$F$10","v":0},{"$f":"'Standing data'!$D$6","v":"Academy name"},{"$f":"'Standing data'!$F$6","v":0},"Forecast","L223",{"$f":"#REF!","v":{"$error":"#REF!"}}]
[{"$f":"'Standing data'!$D$10","v":{"$error":"#N/A"}},{"$f":"'Standing data'!$F$10","v":0},{"$f":"'Standing data'!$D$6","v":"Academy name"},{"$f":"'Standing data'!$F$6","v":0},"Forecast","L224",{"$f":"#REF!","v":{"$error":"#REF!"}}]
[{"$f":"'Standing data'!$D$10","v":{"$error":"#N/A"}},{"$f":"'Standing data'!$F$10","v":0},{"$f":"'Standing data'!$D$6","v":"Academy name"},{"$f":"'Standing data'!$F$6","v":0},"Forecast","L225",{"$f":"#REF!","v":{"$error":"#REF!"}}]
[{"$f":"'Standing data'!$D$10","v":{"$error":"#N/A"}},{"$f":"'Standing data'!$F$10","v":0},{"$f":"'Standing data'!$D$6","v":"Academy name"},{"$f":"'Standing data'!$F$6","v":0},"Forecast","L226",{"$f":"#REF!","v":{"$error":"#REF!"}}]
[{"$f":"'Standing data'!$D$10","v":{"$error":"#N/A"}},{"$f":"'Standing data'!$F$10","v":0},{"$f":"'Standing data'!$D$6","v":"Academy name"},{"$f":"'Standing data'!$F$6","v":0},"Forecast","L227",{"$f":"#REF!","v":{"$error":"#REF!"}}]
[{"$f":"'Standing data'!$D$10","v":{"$error":"#N/A"}},{"$f":"'Standing data'!$F$10","v":0},{"$f":"'Standing data'!$D$6","v":"Academy name"},{"$f":"'Standing data'!$F$6","v":0},"Forecast","L228",{"$f":"#REF!","v":{"$error":"#REF!"}}]
[{"$f":"'Standing data'!$D$10","v":{"$error":"#N/A"}},{"$f":"'Standing data'!$F$10","v":0},{"$f":"'Standing data'!$D$6","v":"Academy name"},{"$f":"'Standing data'!$F$6","v":0},"Forecast","L229",{"$f":"#REF!","v":{"$error":"#REF!"}}]
[{"$f":"'Standing data'!$D$10","v":{"$error":"#N/A"}},{"$f":"'Standing data'!$F$10","v":0},{"$f":"'Standing data'!$D$6","v":"Academy name"},{"$f":"'Standing data'!$F$6","v":0},"Forecast","L230",{"$f":"#REF!","v":{"$error":"#REF!"}}]
[{"$f":"'Standing data'!$D$10","v":{"$error":"#N/A"}},{"$f":"'Standing data'!$F$10","v":0},{"$f":"'Standing data'!$D$6","v":"Academy name"},{"$f":"'Standing data'!$F$6","v":0},"Forecast","L231",{"$f":"#REF!","v":{"$error":"#REF!"}}]
[{"$f":"'Standing data'!$D$10","v":{"$error":"#N/A"}},{"$f":"'Standing data'!$F$10","v":0},{"$f":"'Standing data'!$D$6","v":"Academy name"},{"$f":"'Standing data'!$F$6","v":0},"Forecast","L232",{"$f":"#REF!","v":{"$error":"#REF!"}}]
[{"$f":"'Standing data'!$D$10","v":{"$error":"#N/A"}},{"$f":"'Standing data'!$F$10","v":0},{"$f":"'Standing data'!$D$6","v":"Academy name"},{"$f":"'Standing data'!$F$6","v":0},"Forecast","L233",{"$f":"#REF!","v":{"$error":"#REF!"}}]
[{"$f":"'Standing data'!$D$10","v":{"$error":"#N/A"}},{"$f":"'Standing data'!$F$10","v":0},{"$f":"'Standing data'!$D$6","v":"Academy name"},{"$f":"'Standing data'!$F$6","v":0},"Forecast","L234",{"$f":"#REF!","v":{"$error":"#REF!"}}]
[{"$f":"'Standing data'!$D$10","v":{"$error":"#N/A"}},{"$f":"'Standing data'!$F$10","v":0},{"$f":"'Standing data'!$D$6","v":"Academy name"},{"$f":"'Standing data'!$F$6","v":0},"Forecast","L235",{"$f":"#REF!","v":{"$error":"#REF!"}}]
[{"$f":"'Standing data'!$D$10","v":{"$error":"#N/A"}},{"$f":"'Standing data'!$F$10","v":0},{"$f":"'Standing data'!$D$6","v":"Academy name"},{"$f":"'Standing data'!$F$6","v":0},"Forecast","L236",{"$f":"#REF!","v":{"$error":"#REF!"}}]
[{"$f":"'Standing data'!$D$10","v":{"$error":"#N/A"}},{"$f":"'Standing data'!$F$10","v":0},{"$f":"'Standing data'!$D$6","v":"Academy name"},{"$f":"'Standing data'!$F$6","v":0},"Forecast","L237",{"$f":"#REF!","v":{"$error":"#REF!"}}]
[{"$f":"'Standing data'!$D$10","v":{"$error":"#N/A"}},{"$f":"'Standing data'!$F$10","v":0},{"$f":"'Standing data'!$D$6","v":"Academy name"},{"$f":"'Standing data'!$F$6","v":0},"Forecast","L238",{"$f":"#REF!","v":{"$error":"#REF!"}}]
[{"$f":"'Standing data'!$D$10","v":{"$error":"#N/A"}},{"$f":"'Standing data'!$F$10","v":0},{"$f":"'Standing data'!$D$6","v":"Academy name"},{"$f":"'Standing data'!$F$6","v":0},"Forecast","L239",{"$f":"#REF!","v":{"$error":"#REF!"}}]
[{"$f":"'Standing data'!$D$10","v":{"$error":"#N/A"}},{"$f":"'Standing data'!$F$10","v":0},{"$f":"'Standing data'!$D$6","v":"Academy name"},{"$f":"'Standing data'!$F$6","v":0},"Forecast","L240",{"$f":"#REF!","v":{"$error":"#REF!"}}]
[{"$f":"'Standing data'!$D$10","v":{"$error":"#N/A"}},{"$f":"'Standing data'!$F$10","v":0},{"$f":"'Standing data'!$D$6","v":"Academy name"},{"$f":"'Standing data'!$F$6","v":0},"Forecast","L241",{"$f":"#REF!","v":{"$error":"#REF!"}}]
[{"$f":"'Standing data'!$D$10","v":{"$error":"#N/A"}},{"$f":"'Standing data'!$F$10","v":0},{"$f":"'Standing data'!$D$6","v":"Academy name"},{"$f":"'Standing data'!$F$6","v":0},"Forecast","L242",{"$f":"#REF!","v":{"$error":"#REF!"}}]
[{"$f":"'Standing data'!$D$10","v":{"$error":"#N/A"}},{"$f":"'Standing data'!$F$10","v":0},{"$f":"'Standing data'!$D$6","v":"Academy name"},{"$f":"'Standing data'!$F$6","v":0},"Forecast","L243",{"$f":"#REF!","v":{"$error":"#REF!"}}]
[{"$f":"'Standing data'!$D$10","v":{"$error":"#N/A"}},{"$f":"'Standing data'!$F$10","v":0},{"$f":"'Standing data'!$D$6","v":"Academy name"},{"$f":"'Standing data'!$F$6","v":0},"Forecast","L244",{"$f":"#REF!","v":{"$error":"#REF!"}}]
[{"$f":"'Standing data'!$D$10","v":{"$error":"#N/A"}},{"$f":"'Standing data'!$F$10","v":0},{"$f":"'Standing data'!$D$6","v":"Academy name"},{"$f":"'Standing data'!$F$6","v":0},"Forecast","L245",{"$f":"#REF!","v":{"$error":"#REF!"}}]
[{"$f":"'Standing data'!$D$10","v":{"$error":"#N/A"}},{"$f":"'Standing data'!$F$10","v":0},{"$f":"'Standing data'!$D$6","v":"Academy name"},{"$f":"'Standing data'!$F$6","v":0},"Forecast","L246",{"$f":"#REF!","v":{"$error":"#REF!"}}]
[{"$f":"'Standing data'!$D$10","v":{"$error":"#N/A"}},{"$f":"'Standing data'!$F$10","v":0},{"$f":"'Standing data'!$D$6","v":"Academy name"},{"$f":"'Standing data'!$F$6","v":0},"Forecast","L247",{"$f":"#REF!","v":{"$error":"#REF!"}}]
[{"$f":"'Standing data'!$D$10","v":{"$error":"#N/A"}},{"$f":"'Standing data'!$F$10","v":0},{"$f":"'Standing data'!$D$6","v":"Academy name"},{"$f":"'Standing data'!$F$6","v":0},"Forecast","L248",{"$f":"#REF!","v":{"$error":"#REF!"}}]
[{"$f":"'Standing data'!$D$10","v":{"$error":"#N/A"}},{"$f":"'Standing data'!$F$10","v":0},{"$f":"'Standing data'!$D$6","v":"Academy name"},{"$f":"'Standing data'!$F$6","v":0},"Forecast","L249",{"$f":"#REF!","v":{"$error":"#REF!"}}]
[{"$f":"'Standing data'!$D$10","v":{"$error":"#N/A"}},{"$f":"'Standing data'!$F$10","v":0},{"$f":"'Standing data'!$D$6","v":"Academy name"},{"$f":"'Standing data'!$F$6","v":0},"Forecast","L250",{"$f":"#REF!","v":{"$error":"#REF!"}}]
[{"$f":"'Standing data'!$D$10","v":{"$error":"#N/A"}},{"$f":"'Standing data'!$F$10","v":0},{"$f":"'Standing data'!$D$6","v":"Academy name"},{"$f":"'Standing data'!$F$6","v":0},"Forecast","L253",{"$f":"#REF!","v":{"$error":"#REF!"}}]
[{"$f":"'Standing data'!$D$10","v":{"$error":"#N/A"}},{"$f":"'Standing data'!$F$10","v":0},{"$f":"'Standing data'!$D$6","v":"Academy name"},{"$f":"'Standing data'!$F$6","v":0},"Forecast","L254",{"$f":"#REF!","v":{"$error":"#REF!"}}]
[{"$f":"'Standing data'!$D$10","v":{"$error":"#N/A"}},{"$f":"'Standing data'!$F$10","v":0},{"$f":"'Standing data'!$D$6","v":"Academy name"},{"$f":"'Standing data'!$F$6","v":0},"Forecast","L255",{"$f":"#REF!","v":{"$error":"#REF!"}}]
[{"$f":"'Standing data'!$D$10","v":{"$error":"#N/A"}},{"$f":"'Standing data'!$F$10","v":0},{"$f":"'Standing data'!$D$6","v":"Academy name"},{"$f":"'Standing data'!$F$6","v":0},"Forecast","L256",{"$f":"#REF!","v":{"$error":"#REF!"}}]
[{"$f":"'Standing data'!$D$10","v":{"$error":"#N/A"}},{"$f":"'Standing data'!$F$10","v":0},{"$f":"'Standing data'!$D$6","v":"Academy name"},{"$f":"'Standing data'!$F$6","v":0},"Forecast","L257",{"$f":"#REF!","v":{"$error":"#REF!"}}]
[{"$f":"'Standing data'!$D$10","v":{"$error":"#N/A"}},{"$f":"'Standing data'!$F$10","v":0},{"$f":"'Standing data'!$D$6","v":"Academy name"},{"$f":"'Standing data'!$F$6","v":0},"Forecast","L258",{"$f":"#REF!","v":{"$error":"#REF!"}}]
[{"$f":"'Standing data'!$D$10","v":{"$error":"#N/A"}},{"$f":"'Standing data'!$F$10","v":0},{"$f":"'Standing data'!$D$6","v":"Academy name"},{"$f":"'Standing data'!$F$6","v":0},"Forecast","L259",{"$f":"#REF!","v":{"$error":"#REF!"}}]
[{"$f":"'Standing data'!$D$10","v":{"$error":"#N/A"}},{"$f":"'Standing data'!$F$10","v":0},{"$f":"'Standing data'!$D$6","v":"Academy name"},{"$f":"'Standing data'!$F$6","v":0},"Forecast","L260",{"$f":"#REF!","v":{"$error":"#REF!"}}]
[{"$f":"'Standing data'!$D$10","v":{"$error":"#N/A"}},{"$f":"'Standing data'!$F$10","v":0},{"$f":"'Standing data'!$D$6","v":"Academy name"},{"$f":"'Standing data'!$F$6","v":0},"Forecast","L261",{"$f":"#REF!","v":{"$error":"#REF!"}}]
[{"$f":"'Standing data'!$D$10","v":{"$error":"#N/A"}},{"$f":"'Standing data'!$F$10","v":0},{"$f":"'Standing data'!$D$6","v":"Academy name"},{"$f":"'Standing data'!$F$6","v":0},"Forecast","L262",{"$f":"#REF!","v":{"$error":"#REF!"}}]
[{"$f":"'Standing data'!$D$10","v":{"$error":"#N/A"}},{"$f":"'Standing data'!$F$10","v":0},{"$f":"'Standing data'!$D$6","v":"Academy name"},{"$f":"'Standing data'!$F$6","v":0},"Forecast","L263",{"$f":"#REF!","v":{"$error":"#REF!"}}]
[{"$f":"'Standing data'!$D$10","v":{"$error":"#N/A"}},{"$f":"'Standing data'!$F$10","v":0},{"$f":"'Standing data'!$D$6","v":"Academy name"},{"$f":"'Standing data'!$F$6","v":0},"Forecast","L264",{"$f":"#REF!","v":{"$error":"#REF!"}}]
[{"$f":"'Standing data'!$D$10","v":{"$error":"#N/A"}},{"$f":"'Standing data'!$F$10","v":0},{"$f":"'Standing data'!$D$6","v":"Academy name"},{"$f":"'Standing data'!$F$6","v":0},"Forecast","L265",{"$f":"#REF!","v":{"$error":"#REF!"}}]
[{"$f":"'Standing data'!$D$10","v":{"$error":"#N/A"}},{"$f":"'Standing data'!$F$10","v":0},{"$f":"'Standing data'!$D$6","v":"Academy name"},{"$f":"'Standing data'!$F$6","v":0},"Forecast","L266",{"$f":"#REF!","v":{"$error":"#REF!"}}]
[{"$f":"'Standing data'!$D$10","v":{"$error":"#N/A"}},{"$f":"'Standing data'!$F$10","v":0},{"$f":"'Standing data'!$D$6","v":"Academy name"},{"$f":"'Standing data'!$F$6","v":0},"Forecast","L267",{"$f":"#REF!","v":{"$error":"#REF!"}}]
[{"$f":"'Standing data'!$D$10","v":{"$error":"#N/A"}},{"$f":"'Standing data'!$F$10","v":0},{"$f":"'Standing data'!$D$6","v":"Academy name"},{"$f":"'Standing data'!$F$6","v":0},"Forecast","L268",{"$f":"#REF!","v":{"$error":"#REF!"}}]
[{"$f":"'Standing data'!$D$10","v":{"$error":"#N/A"}},{"$f":"'Standing data'!$F$10","v":0},{"$f":"'Standing data'!$D$6","v":"Academy name"},{"$f":"'Standing data'!$F$6","v":0},"Forecast","L269",{"$f":"#REF!","v":{"$error":"#REF!"}}]
[{"$f":"'Standing data'!$D$10","v":{"$error":"#N/A"}},{"$f":"'Standing data'!$F$10","v":0},{"$f":"'Standing data'!$D$6","v":"Academy name"},{"$f":"'Standing data'!$F$6","v":0},"Forecast","L270",{"$f":"#REF!","v":{"$error":"#REF!"}}]
[{"$f":"'Standing data'!$D$10","v":{"$error":"#N/A"}},{"$f":"'Standing data'!$F$10","v":0},{"$f":"'Standing data'!$D$6","v":"Academy name"},{"$f":"'Standing data'!$F$6","v":0},"Forecast","L271",{"$f":"#REF!","v":{"$error":"#REF!"}}]
[{"$f":"'Standing data'!$D$10","v":{"$error":"#N/A"}},{"$f":"'Standing data'!$F$10","v":0},{"$f":"'Standing data'!$D$6","v":"Academy name"},{"$f":"'Standing data'!$F$6","v":0},"Forecast","L272",{"$f":"#REF!","v":{"$error":"#REF!"}}]
[{"$f":"'Standing data'!$D$10","v":{"$error":"#N/A"}},{"$f":"'Standing data'!$F$10","v":0},{"$f":"'Standing data'!$D$6","v":"Academy name"},{"$f":"'Standing data'!$F$6","v":0},"Forecast","L273",{"$f":"#REF!","v":{"$error":"#REF!"}}]
[{"$f":"'Standing data'!$D$10","v":{"$error":"#N/A"}},{"$f":"'Standing data'!$F$10","v":0},{"$f":"'Standing data'!$D$6","v":"Academy name"},{"$f":"'Standing data'!$F$6","v":0},"Forecast","L274",{"$f":"#REF!","v":{"$error":"#REF!"}}]
[{"$f":"'Standing data'!$D$10","v":{"$error":"#N/A"}},{"$f":"'Standing data'!$F$10","v":0},{"$f":"'Standing data'!$D$6","v":"Academy name"},{"$f":"'Standing data'!$F$6","v":0},"Forecast","L275",{"$f":"#REF!","v":{"$error":"#REF!"}}]
[{"$f":"'Standing data'!$D$10","v":{"$error":"#N/A"}},{"$f":"'Standing data'!$F$10","v":0},{"$f":"'Standing data'!$D$6","v":"Academy name"},{"$f":"'Standing data'!$F$6","v":0},"Forecast","L276",{"$f":"#REF!","v":{"$error":"#REF!"}}]
[{"$f":"'Standing data'!$D$10","v":{"$error":"#N/A"}},{"$f":"'Standing data'!$F$10","v":0},{"$f":"'Standing data'!$D$6","v":"Academy name"},{"$f":"'Standing data'!$F$6","v":0},"Forecast","L277",{"$f":"#REF!","v":{"$error":"#REF!"}}]
[{"$f":"'Standing data'!$D$10","v":{"$error":"#N/A"}},{"$f":"'Standing data'!$F$10","v":0},{"$f":"'Standing data'!$D$6","v":"Academy name"},{"$f":"'Standing data'!$F$6","v":0},"Forecast","L278",{"$f":"#REF!","v":{"$error":"#REF!"}}]
[{"$f":"'Standing data'!$D$10","v":{"$error":"#N/A"}},{"$f":"'Standing data'!$F$10","v":0},{"$f":"'Standing data'!$D$6","v":"Academy name"},{"$f":"'Standing data'!$F$6","v":0},"Forecast","L279",{"$f":"#REF!","v":{"$error":"#REF!"}}]
[{"$f":"'Standing data'!$D$10","v":{"$error":"#N/A"}},{"$f":"'Standing data'!$F$10","v":0},{"$f":"'Standing data'!$D$6","v":"Academy name"},{"$f":"'Standing data'!$F$6","v":0},"Forecast","L280",{"$f":"#REF!","v":{"$error":"#REF!"}}]
[{"$f":"'Standing data'!$D$10","v":{"$error":"#N/A"}},{"$f":"'Standing data'!$F$10","v":0},{"$f":"'Standing data'!$D$6","v":"Academy name"},{"$f":"'Standing data'!$F$6","v":0},"Forecast","L281",{"$f":"#REF!","v":{"$error":"#REF!"}}]
[{"$f":"'Standing data'!$D$10","v":{"$error":"#N/A"}},{"$f":"'Standing data'!$F$10","v":0},{"$f":"'Standing data'!$D$6","v":"Academy name"},{"$f":"'Standing data'!$F$6","v":0},"Forecast","L282",{"$f":"#REF!","v":{"$error":"#REF!"}}]
[{"$f":"'Standing data'!$D$10","v":{"$error":"#N/A"}},{"$f":"'Standing data'!$F$10","v":0},{"$f":"'Standing data'!$D$6","v":"Academy name"},{"$f":"'Standing data'!$F$6","v":0},"Forecast","L283",{"$f":"#REF!","v":{"$error":"#REF!"}}]
[{"$f":"'Standing data'!$D$10","v":{"$error":"#N/A"}},{"$f":"'Standing data'!$F$10","v":0},{"$f":"'Standing data'!$D$6","v":"Academy name"},{"$f":"'Standing data'!$F$6","v":0},"Forecast","L284",{"$f":"#REF!","v":{"$error":"#REF!"}}]