{"text_format":"1","workbook":"xlsx","n_sheets":3,"sheets":["Instructions","Section 1","Section 2"],"not_rendered":{"charts":0,"images":0,"macros":1,"external_links":0,"defined_names":163,"comments":0,"pivot_tables":0},"unopened":[],"bounds":{"document_bytes":16777216,"sheet_cells":100000,"rows_first":2000,"rows_last":500,"rows_between":2000,"halvings":0,"cell_chars":16384,"cell_head_chars":4096},"cells_cut":0,"cells_raw":0,"read":"whole","date_system":"1900"}

{"sheet":"Instructions","index":0,"n_rows":1,"n_cols":1,"rows_kept":1,"cut":false,"hidden":false,"merged":[[0,0,44,15]]}
["INSTRUCTIONS FOR COMPLETION OF THIS SPREADSHEET.\n\nDear Project Licence Holder,\n\n1. Please read these instructions before completing this spreadsheet.\n\n2. Enter your details in worksheet Section 1.\n\n3. If you did not start any procedures in 2013, go to step 4. If you did start any procedures in 2013, please carefully read the accompanying notes for return of procedures. Then, doing/noting the following, complete worksheet Section 2:\n\n  • Refer to the coding instructions on pages 2-8 of the notes for return of procedures when entering data for a particular  field. All fields have comments’ boxes which highlight key information from the notes.\n\n  • For each column, in order for the spreadsheet and the 'conditional validation' (see below) to work effectively, please enter the data for all fields starting with row 1 and then row 2 etc before finishing with row 15.\n\n  • To improve the accuracy of the data and help reduce the need for subsequent queries:\n\n    - the majority of fields have drop-down boxes. Please use these for entering data - do not copy and paste data from elsewhere. Some of the drop-down boxes include \"_\" and \".\" in the codes purely to allow the ‘conditional validation’ (see below) to work. Please contact the Animals in Science Regulation Unit if you have any issues using the drop-down boxes. \n\n    - ‘conditional validation’ has been incorporated into the form. This means that it is not possible to enter unusual combinations of data in a given column (e.g. if an A code is selected in Row10, only corresponding A codes can be entered in Rows10 and 11).\n\n    - if invalid data is entered (e.g. if ZZZ is entered for Row1 species), a message will appear rejecting the data and explaining the reason why.\n\n    - in some instances (e.g. if an “other species” is entered in Row1), a message box will appear requesting additional information to be provided in the box at the bottom of the page. Please ensure macros are enabled to allow this feature to work and contact the Animals in Science Regulation Unit if you have any problems with the macros.\n\n   - If you have more than 50 columns of data, please use more than one copy of this spreadsheet as needed\n\n4. Save the completed form as a new Excel file with the following file name PPLXXXXXXX, where XXXXXXX is the seven-digit project licence number. Then return it to your establishment coordinator for forwarding to the Home Office. Note that any slashes i.e. / should be replaced by a zero in the file name (e.g. project licence number 50/1111 should have the following file name PPL5001111). If you have more than 50 columns of data, please use two/three etc copies of this spreadsheet and code the different files names as PPLXXXXXXX_1, PPLXXXXXXX_2.\n\n5. If you have any queries, please either email the ASRU Business Support Team at ROPReturns@homeoffice.gsi.gov.uk, phone 020 7035 0583 / 8625 or speak to your inspector.\n\nThank you for your assistance.\n\n"]

{"sheet":"Section 1","index":1,"n_rows":52,"n_cols":6,"rows_kept":52,"cut":false,"hidden":false,"merged":[[7,5,7,6],[2,0,2,3],[4,0,4,3],[3,0,3,3],[14,0,33,8],[48,0,48,8],[36,0,36,8],[40,0,40,8],[46,0,46,8],[38,2,38,8]]}
["Return of procedures by project for 2013"]
[]
["Name and address",null,null,null,null,"Official Use Only"]
["of Project Licence Holder",null,null,null,null,"Serial Number"]
[]
[]
[]
[null,null,null,null,null,"Project Licence "]
[null,null,null,null,null,"Number"]
[]
[]
[null,null,null,null,null,"Establishment"]
[null,null,null,null,null,"Code"]
[]
["Dear Project Licence Holder.\n\nThis form is supplied to you as required by condition 10 of your project licence, to enable you to complete and provide your annual return of statistics of regulated procedures conducted under the Animal (Scientific Procedures) Act 1986 that were started by you during 2013. The form should be returned to us electronically via your establishment coordinator BY 31 JANUARY 2014.\n\nAdd your name, address, project licence number and establishment code above. Then enter \"Yes\" or \"No\" as appropriate in the box at the start of Section 1 below. If you entered \"Yes\", read the 'Notes for Return of Procedures' attached, read the instructions tab, and complete Section 2. Then, in the boxes below, enter your name as \"name of person completing the form\" and provide your telephone number.\n\nNote. Failure to comply constitutes a breach of the Act and may be considered as an infringement. This may affect other licences you hold and any future licence applications.\nThank you in advance for your assistance.\n\nBusiness Support Team\nAnimals in Science Regulation Unit\nHome Office Science\nEmail: ROPReturns@homeoffice.gsi.gov.uk\nTel: 020 7035 0583 / 8625 \n"]
[]
[]
[]
[]
[]
[]
[]
[]
[]
[]
[]
[]
[]
[]
[]
[]
[]
[]
[]
[]
["SECTION 1 (to be completed by the Project Licence Holder)"]
["Have any procedures under the Animals (Scientific Procedures) Act 1986 under the project licence number above been started during 2013?\n"]
[]
[null,"If yes\n→","a. Please now carefully read the 'Notes for Return of Procedures' attached, paying  particular attention to the coding instructions on pages 2-8 of the notes. This should help reduce the need for subsequent queries. Please discard any previous versions of the notes that you may have.\n\nb. Then read the instructions tab and complete the SECTION 2 worksheet.\n"]
[]
["Declaration.\nI am satisfied that the information required by the Secretary of State under the conditions of my project licence has been accurately supplied in accordance with the instructions given."]
[]
["Name of person completing form"]
[]
["Telephone number "]
[]
["Please note that for security reasons all correspondence between licence holders and Home Office should either be by telephone or by secure e-mail via your establishment coordinator. Do not e-mail back directly to Home Office.\n"]
[]
["THANK YOU FOR COMPLETING THE FORM. Please now return it to your establishment coordinator for forwarding to Home Office."]
[]
["Yes"]
["No"]

{"sheet":"Section 2","index":2,"n_rows":322,"n_cols":54,"rows_kept":322,"cut":false,"hidden":false,"merged":[[19,0,19,1],[20,0,20,1],[21,0,21,1],[7,0,7,1],[8,0,8,1],[9,0,9,1],[10,0,10,1],[15,0,15,1],[11,0,11,1],[12,0,12,1],[13,0,13,1],[14,0,14,1]]}
["SECTION 2 Please refer to the instructions tab and the accompanying notes for return of procedures before completing"]
["Complete all fields, starting with Row 1, finishing with Row 15",null,null,null,"Column number"]
["See notes for returns of procedures for code definitions",null,null,null,"01","02","03","04","05","06","07","08","09","10","11","12","13","14","15","16","17","18","19","20","21","22","23","24","25","26","27","28","29","30","31","32","33","34","35","36","37","38","39","40","41","42","43","44","45","46","47","48","49","50"]
[null,null,null,null,{"$f":"'Section 1'!$H$4","v":0},{"$f":"'Section 1'!$H$4","v":0},{"$f":"'Section 1'!$H$4","v":0},{"$f":"'Section 1'!$H$4","v":0},{"$f":"'Section 1'!$H$4","v":0},{"$f":"'Section 1'!$H$4","v":0},{"$f":"'Section 1'!$H$4","v":0},{"$f":"'Section 1'!$H$4","v":0},{"$f":"'Section 1'!$H$4","v":0},{"$f":"'Section 1'!$H$4","v":0},{"$f":"'Section 1'!$H$4","v":0},{"$f":"'Section 1'!$H$4","v":0},{"$f":"'Section 1'!$H$4","v":0},{"$f":"'Section 1'!$H$4","v":0},{"$f":"'Section 1'!$H$4","v":0},{"$f":"'Section 1'!$H$4","v":0},{"$f":"'Section 1'!$H$4","v":0},{"$f":"'Section 1'!$H$4","v":0},{"$f":"'Section 1'!$H$4","v":0},{"$f":"'Section 1'!$H$4","v":0},{"$f":"'Section 1'!$H$4","v":0},{"$f":"'Section 1'!$H$4","v":0},{"$f":"'Section 1'!$H$4","v":0},{"$f":"'Section 1'!$H$4","v":0},{"$f":"'Section 1'!$H$4","v":0},{"$f":"'Section 1'!$H$4","v":0},{"$f":"'Section 1'!$H$4","v":0},{"$f":"'Section 1'!$H$4","v":0},{"$f":"'Section 1'!$H$4","v":0},{"$f":"'Section 1'!$H$4","v":0},{"$f":"'Section 1'!$H$4","v":0},{"$f":"'Section 1'!$H$4","v":0},{"$f":"'Section 1'!$H$4","v":0},{"$f":"'Section 1'!$H$4","v":0},{"$f":"'Section 1'!$H$4","v":0},{"$f":"'Section 1'!$H$4","v":0},{"$f":"'Section 1'!$H$4","v":0},{"$f":"'Section 1'!$H$4","v":0},{"$f":"'Section 1'!$H$4","v":0},{"$f":"'Section 1'!$H$4","v":0},{"$f":"'Section 1'!$H$4","v":0},{"$f":"'Section 1'!$H$4","v":0},{"$f":"'Section 1'!$H$4","v":0},{"$f":"'Section 1'!$H$4","v":0},{"$f":"'Section 1'!$H$4","v":0},{"$f":"'Section 1'!$H$4","v":0},{"$f":"'Section 1'!$H$4","v":0},{"$f":"'Section 1'!$H$4","v":0},{"$f":"'Section 1'!$H$4","v":0},{"$f":"'Section 1'!$H$4","v":0}]
["- Combinations of A codes (toxicology) and B codes (non-toxicology) are not allowed in rows 10, 11, and 12.",null,null,null,{"$f":"'Section 1'!$H$8","v":0},{"$f":"'Section 1'!$H$8","v":0},{"$f":"'Section 1'!$H$8","v":0},{"$f":"'Section 1'!$H$8","v":0},{"$f":"'Section 1'!$H$8","v":0},{"$f":"'Section 1'!$H$8","v":0},{"$f":"'Section 1'!$H$8","v":0},{"$f":"'Section 1'!$H$8","v":0},{"$f":"'Section 1'!$H$8","v":0},{"$f":"'Section 1'!$H$8","v":0},{"$f":"'Section 1'!$H$8","v":0},{"$f":"'Section 1'!$H$8","v":0},{"$f":"'Section 1'!$H$8","v":0},{"$f":"'Section 1'!$H$8","v":0},{"$f":"'Section 1'!$H$8","v":0},{"$f":"'Section 1'!$H$8","v":0},{"$f":"'Section 1'!$H$8","v":0},{"$f":"'Section 1'!$H$8","v":0},{"$f":"'Section 1'!$H$8","v":0},{"$f":"'Section 1'!$H$8","v":0},{"$f":"'Section 1'!$H$8","v":0},{"$f":"'Section 1'!$H$8","v":0},{"$f":"'Section 1'!$H$8","v":0},{"$f":"'Section 1'!$H$8","v":0},{"$f":"'Section 1'!$H$8","v":0},{"$f":"'Section 1'!$H$8","v":0},{"$f":"'Section 1'!$H$8","v":0},{"$f":"'Section 1'!$H$8","v":0},{"$f":"'Section 1'!$H$8","v":0},{"$f":"'Section 1'!$H$8","v":0},{"$f":"'Section 1'!$H$8","v":0},{"$f":"'Section 1'!$H$8","v":0},{"$f":"'Section 1'!$H$8","v":0},{"$f":"'Section 1'!$H$8","v":0},{"$f":"'Section 1'!$H$8","v":0},{"$f":"'Section 1'!$H$8","v":0},{"$f":"'Section 1'!$H$8","v":0},{"$f":"'Section 1'!$H$8","v":0},{"$f":"'Section 1'!$H$8","v":0},{"$f":"'Section 1'!$H$8","v":0},{"$f":"'Section 1'!$H$8","v":0},{"$f":"'Section 1'!$H$8","v":0},{"$f":"'Section 1'!$H$8","v":0},{"$f":"'Section 1'!$H$8","v":0},{"$f":"'Section 1'!$H$8","v":0},{"$f":"'Section 1'!$H$8","v":0},{"$f":"'Section 1'!$H$8","v":0},{"$f":"'Section 1'!$H$8","v":0},{"$f":"'Section 1'!$H$8","v":0},{"$f":"'Section 1'!$H$8","v":0}]
["- The B codes that can be selected in row 11 are dependent upon the genetic status of the animal (row 4) and whether the primary purpose was breeding (row 8)",null,null,null,{"$f":"'Section 1'!$H$12","v":0},{"$f":"'Section 1'!$H$12","v":0},{"$f":"'Section 1'!$H$12","v":0},{"$f":"'Section 1'!$H$12","v":0},{"$f":"'Section 1'!$H$12","v":0},{"$f":"'Section 1'!$H$12","v":0},{"$f":"'Section 1'!$H$12","v":0},{"$f":"'Section 1'!$H$12","v":0},{"$f":"'Section 1'!$H$12","v":0},{"$f":"'Section 1'!$H$12","v":0},{"$f":"'Section 1'!$H$12","v":0},{"$f":"'Section 1'!$H$12","v":0},{"$f":"'Section 1'!$H$12","v":0},{"$f":"'Section 1'!$H$12","v":0},{"$f":"'Section 1'!$H$12","v":0},{"$f":"'Section 1'!$H$12","v":0},{"$f":"'Section 1'!$H$12","v":0},{"$f":"'Section 1'!$H$12","v":0},{"$f":"'Section 1'!$H$12","v":0},{"$f":"'Section 1'!$H$12","v":0},{"$f":"'Section 1'!$H$12","v":0},{"$f":"'Section 1'!$H$12","v":0},{"$f":"'Section 1'!$H$12","v":0},{"$f":"'Section 1'!$H$12","v":0},{"$f":"'Section 1'!$H$12","v":0},{"$f":"'Section 1'!$H$12","v":0},{"$f":"'Section 1'!$H$12","v":0},{"$f":"'Section 1'!$H$12","v":0},{"$f":"'Section 1'!$H$12","v":0},{"$f":"'Section 1'!$H$12","v":0},{"$f":"'Section 1'!$H$12","v":0},{"$f":"'Section 1'!$H$12","v":0},{"$f":"'Section 1'!$H$12","v":0},{"$f":"'Section 1'!$H$12","v":0},{"$f":"'Section 1'!$H$12","v":0},{"$f":"'Section 1'!$H$12","v":0},{"$f":"'Section 1'!$H$12","v":0},{"$f":"'Section 1'!$H$12","v":0},{"$f":"'Section 1'!$H$12","v":0},{"$f":"'Section 1'!$H$12","v":0},{"$f":"'Section 1'!$H$12","v":0},{"$f":"'Section 1'!$H$12","v":0},{"$f":"'Section 1'!$H$12","v":0},{"$f":"'Section 1'!$H$12","v":0},{"$f":"'Section 1'!$H$12","v":0},{"$f":"'Section 1'!$H$12","v":0},{"$f":"'Section 1'!$H$12","v":0},{"$f":"'Section 1'!$H$12","v":0},{"$f":"'Section 1'!$H$12","v":0},{"$f":"'Section 1'!$H$12","v":0}]
["delind",null,null,null,{"$f":"LEFT('Section 1'!$A$39,1)","v":""},{"$f":"LEFT('Section 1'!$A$39,1)","v":""},{"$f":"LEFT('Section 1'!$A$39,1)","v":""},{"$f":"LEFT('Section 1'!$A$39,1)","v":""},{"$f":"LEFT('Section 1'!$A$39,1)","v":""},{"$f":"LEFT('Section 1'!$A$39,1)","v":""},{"$f":"LEFT('Section 1'!$A$39,1)","v":""},{"$f":"LEFT('Section 1'!$A$39,1)","v":""},{"$f":"LEFT('Section 1'!$A$39,1)","v":""},{"$f":"LEFT('Section 1'!$A$39,1)","v":""},{"$f":"LEFT('Section 1'!$A$39,1)","v":""},{"$f":"LEFT('Section 1'!$A$39,1)","v":""},{"$f":"LEFT('Section 1'!$A$39,1)","v":""},{"$f":"LEFT('Section 1'!$A$39,1)","v":""},{"$f":"LEFT('Section 1'!$A$39,1)","v":""},{"$f":"LEFT('Section 1'!$A$39,1)","v":""},{"$f":"LEFT('Section 1'!$A$39,1)","v":""},{"$f":"LEFT('Section 1'!$A$39,1)","v":""},{"$f":"LEFT('Section 1'!$A$39,1)","v":""},{"$f":"LEFT('Section 1'!$A$39,1)","v":""},{"$f":"LEFT('Section 1'!$A$39,1)","v":""},{"$f":"LEFT('Section 1'!$A$39,1)","v":""},{"$f":"LEFT('Section 1'!$A$39,1)","v":""},{"$f":"LEFT('Section 1'!$A$39,1)","v":""},{"$f":"LEFT('Section 1'!$A$39,1)","v":""},{"$f":"LEFT('Section 1'!$A$39,1)","v":""},{"$f":"LEFT('Section 1'!$A$39,1)","v":""},{"$f":"LEFT('Section 1'!$A$39,1)","v":""},{"$f":"LEFT('Section 1'!$A$39,1)","v":""},{"$f":"LEFT('Section 1'!$A$39,1)","v":""},{"$f":"LEFT('Section 1'!$A$39,1)","v":""},{"$f":"LEFT('Section 1'!$A$39,1)","v":""},{"$f":"LEFT('Section 1'!$A$39,1)","v":""},{"$f":"LEFT('Section 1'!$A$39,1)","v":""},{"$f":"LEFT('Section 1'!$A$39,1)","v":""},{"$f":"LEFT('Section 1'!$A$39,1)","v":""},{"$f":"LEFT('Section 1'!$A$39,1)","v":""},{"$f":"LEFT('Section 1'!$A$39,1)","v":""},{"$f":"LEFT('Section 1'!$A$39,1)","v":""},{"$f":"LEFT('Section 1'!$A$39,1)","v":""},{"$f":"LEFT('Section 1'!$A$39,1)","v":""},{"$f":"LEFT('Section 1'!$A$39,1)","v":""},{"$f":"LEFT('Section 1'!$A$39,1)","v":""},{"$f":"LEFT('Section 1'!$A$39,1)","v":""},{"$f":"LEFT('Section 1'!$A$39,1)","v":""},{"$f":"LEFT('Section 1'!$A$39,1)","v":""},{"$f":"LEFT('Section 1'!$A$39,1)","v":""},{"$f":"LEFT('Section 1'!$A$39,1)","v":""},{"$f":"LEFT('Section 1'!$A$39,1)","v":""},{"$f":"LEFT('Section 1'!$A$39,1)","v":""}]
["Species \n",null,"↓","Row 1"]
["CITES \nIs animal on the relevant \nCITES list (see notes)? If not, enter 0",null,"↓","Row 2"]
["Stage of Development \nWhat was the stage of development of the animal?",null,"↓","Row 3"]
["Genetic status",null,"↓","Row 4"]
["Source of animals\nSchedule 2 listed species only. For all other species enter 0",null,"↓","Row 5"]
["Anaesthesia \nWere the animals anaesthetised?",null,"↓","Row 6"]
["Neuromuscular blocking agents\nWas an NMBA administered?",null,"↓","Row 7"]
["Primary purpose \nWhat was the primary purpose of the procedure?",null,"↓","Row 8"]
["Body system \nWhat was the primary target body system for the procedure?",null,"↓","Row 9"]
["Toxicology or other safety or efficacy evaluation\nUse List A","Fundamental and applied studies other than toxicology\nUse List B","↓","Row 10"]
["Type of test or procedure \nUse List A","Production and breeding\nUse List B","↓","Row 11"]
["Legislative requirements \nUse List A","Particular techniques \nUse List B","↓","Row 12"]
["Number of procedures started in 2013 \nEnter the total number of procedures for each column",null,"↓","Row 13"]
["Number of animals used in 2013 for the first time ever (never used in a previous year)",null,"↓","Row 14"]
["Number of animals re-used in 2013\n(counting each animal only once, regardless of number of times re-used in 2013 and regardless of re-use in 2012 - see notes).\nIf no animals were re-used this should be set to zero.",null,"↓","Row 15"]
[null,null,null,null,{"$f":"LEFT(E17,1)","v":""},{"$f":"LEFT(F17,1)","v":""},"","","","","","","","","","","","","","","","","","","","","","","","","","","","","","","","","","","","","","","","","","","","","","","",""]
[null,null,null,null,{"$f":"MID(E8,2,1)","v":""},{"$f":"MID(F8,2,1)","v":""},"","","","","","","","","","","","","","","","","","","","","","","","","","","","","","","","","","","","","","","","","","","","","","","",""]
[]
[null,null,null,null,"Additional information box: please specify any additional comments you may have below and, if relevant, the column number they apply to"]
[]
[]
[]
[]
[]
[]
[]
[]
[]
[]
[]
[]
[]
[]
[]
[]
[]
["ROW1"]
["R0.","R0 use this code for rodenticide field trials only","use this code for rodenticide field trials only"]
["R1.","R1 Mouse","Mouse"]
["R2.","R2 Rat","Rat"]
["R3.","R3 Guinea-pig","Guinea-pig"]
["R4.","R4 Hamsters (Syrian) (Mesocricetus auratus)","Hamsters (Syrian) (Mesocricetus auratus)"]
["R5.","R5 Hamsters (chinese) (Cricetulus griseus)","Hamsters (chinese) (Cricetulus griseus)"]
["R6.","R6 Gerbil","Gerbil"]
["R9.","R9 Other rodent","Other rodent (please append a note indicating species used)"]
["L1.","L1 Rabbit","Rabbit"]
["C1.","C1 Cat","Cat"]
["C2.","C2 Dog - beagle","Dog - beagle"]
["C3.","C3 Dog – Greyhound","Dog – Greyhound"]
["C4.","C4 Dog – other including cross bred ","Dog – other including cross bred "]
["C5.","C5 Ferret","Ferret"]
["C9.","C9 Other carnivore","Other carnivore (please append a note indicating species used) "]
["U1.","U1 Horse, donkey and cross-bred equids","Horse, donkey and cross-bred equids"]
["U2.","U2 Pig","Pig"]
["U3.","U3 Goat","Goat"]
["U4.","U4 Sheep","Sheep"]
["U5.","U5 Cattle","Cattle"]
["U6.","U6 Deer","Deer"]
["U7.","U7 Camelid","Camelid"]
["U9.","U9 Other ungulate","Other ungulate (please append a note indicating species used)"]
["P1.","P1 Prosimians (Prosimia)","Prosimians (Prosimia)"]
["P2.","P2 Marmoset and tamarins ","Marmoset and tamarins "]
["P3.","P3 Squirrel monkey ","Squirrel monkey "]
["P5.","P5 Cynomolgus monkey (Macaca fascicularis)","Cynomolgus monkey (Macaca fascicularis)"]
["P6.","P6 Rhesus monkey (Macaca mulatta)","Rhesus monkey (Macaca mulatta)"]
["P7.","P7 Vervets Chlorocebus ","Vervets Chlorocebus "]
["P8.","P8 Baboons ","Baboons "]
["P9.","P9 Apes ","Apes "]
["P10.","P10 Other species of non-human primates","Other species of non-human primates (please append a note indicating species used)"]
["J9.","J9 Other mammal","Other mammal (please append a note indicating species used)"]
["T1.","T1 Domestic fowl ","Domestic fowl "]
["T2.","T2 Turkey","Turkey"]
["T3.","T3 Quail (Coturnix coturnix)","Quail (Coturnix coturnix)"]
["T4.","T4 Quail (spp. other than C. coturnix)","Quail (spp. other than C. coturnix)"]
["T9.","T9 Other bird","Other bird (please append a note indicating species used)"]
["D1.","D1 Any reptilian species","Any reptilian species (please append a note indicating species used)"]
["M1.","M1 Rana temporaria","Rana temporaria"]
["M2.","M2 Rana pipiens","Rana pipiens"]
["M3.","M3 Xenopus laevis","Xenopus laevis"]
["M4.","M4 Xenopus tropicalis","Xenopus tropicalis"]
["M5.","M5 Other amphibian species","Other amphibian species (please append a note indicating species used)"]
["F1.","F1 Zebra fish","Zebra fish"]
["F2.","F2 Other fish","Other fish (please append a note indicating species used)"]
["F5.","F5 Any Cephalopod","Any Cephalopod (please append a note indicating species used)"]
[]
["ROW2"]
[0,0,0]
[1,null,1]
[]
["ROW3"]
[1]
[2]
[]
["ROW4"]
["_1"]
["_2"]
["_3"]
[]
["ROW5"]
[0]
[1,null,null,null,null,null,null,null,null,null,null,null,null,3434]
[2]
[3]
[4]
[5]
[6]
[]
["R0.","R1.",null,"R2.","R3.","R4.","R5.","R6.","R9.","L1.","C1.","C2.","C3.","C4.","C5.","C9.","U1.","U2.","U3.","U4.","U5.","U6.","U7.","U9.","P1.","P2.","P3.","P5.","P6.","P7.","P8.","P9.","P10.","J9.","T1.","T2.","T3.","T4.","T9.","D1.","M1.","M2.","M3.","M4.","M5.","F1.","F2.","F5."]
[0,1,null,1,1,1,1,1,0,1,1,1,1,1,1,0,0,0,0,0,0,0,0,0,1,1,1,1,1,1,1,1,1,0,0,0,1,0,0,0,1,1,1,1,0,1,0,0,null,null,1]
[null,2,null,2,2,2,2,2,null,2,2,2,2,2,2,null,null,null,null,null,null,null,null,null,2,2,2,2,2,2,2,2,2,null,null,null,2,null,null,null,2,2,2,2,null,2,null,null,null,null,2]
[null,3,null,3,3,3,3,3,null,3,3,3,3,3,3,null,null,null,null,null,null,null,null,null,3,3,3,3,3,3,3,3,3,null,null,null,3,null,null,null,3,3,3,3,null,3,null,null,null,null,3]
[null,4,null,4,4,4,4,4,null,4,4,4,4,4,4,null,null,null,null,null,null,null,null,null,4,4,4,4,4,4,4,4,4,null,null,null,4,null,null,null,4,4,4,4,null,4,null,null,null,null,4]
[null,5,null,5,5,5,5,5,null,5,5,5,5,5,5,null,null,null,null,null,null,null,null,null,5,5,5,5,5,5,5,5,5,null,null,null,5,null,null,null,5,5,5,5,null,5,null,null,null,null,5]
[null,6,null,6,6,6,6,6,null,6,6,6,6,6,6,null,null,null,null,null,null,null,null,null,6,6,6,6,6,6,6,6,6,null,null,null,6,null,null,null,6,6,6,6,null,6,null,null,null,null,6]
[]
[null,"GMHM",null,"NONGMHM"]
[null,1,null,0]
[null,2]
[null,3]
[null,4]
[null,5]
[null,6]
[]
["ROW6"]
[0]
[1]
[2]
[3]
[4]
[]
["ROW7"]
[0]
[1]
[]
["ROW8"]
["_1."]
["_2."]
["_3."]
["_4."]
["_5."]
["_6."]
["_7."]
["_8."]
["_9."]
[]
["ROW9"]
["01"]
["02"]
["03"]
["04"]
["05"]
["06"]
["07"]
["08"]
["09"]
["10"]
["11"]
["12"]
[]
["ROW 10, 11"]
["A01.","A30.",null,"A30.","A30.","A30.","A30.","A30.","A30.","A30.",null,null,"A30.","A30.","A30.","A30.",null,null,null,null,null,null,"A30.","A30.","A30.","A30.","A30.","B50.","B50.","B50.","B50.","B50.","B50.","B50.","B50.","B50.","B50.","B50.","B50.","B50.","B50.","B50.","B50.","B50.","B50.","B50.","B50.","B50.","B50.","B50.","B50.","B50."]
["A02.","A31.",null,"A31.","A31.","A31.","A31.","A31.","A31.","A31.",null,null,"A31.","A31.","A31.","A31.",null,null,null,null,null,null,"A31.","A31.","A31.","A31.","A31.","B51.","B51.","B51.","B51.","B51.","B51.","B51.","B51.","B51.","B51.","B51.","B51.","B51.","B51.","B51.","B51.","B51.","B51.","B51.","B51.","B51.","B51.","B51.","B51.","B51."]
["A03.","A32.",null,"A32.","A32.","A32.","A32.","A32.","A32.","A32.",null,null,"A32.","A32.","A32.","A32.",null,null,null,null,null,null,"A32.","A32.","A32.","A32.","A32.","B52.","B52.","B52.","B52.","B52.","B52.","B52.","B52.","B52.","B52.","B52.","B52.","B52.","B52.","B52.","B52.","B52.","B52.","B52.","B52.","B52.","B52.","B52.","B52.","B52."]
["A04.","A33.",null,"A33.","A33.","A33.","A33.","A33.","A33.","A33.",null,null,"A33.","A33.","A33.","A33.",null,null,null,null,null,null,"A33.","A33.","A33.","A33.","A33.","B53.","B53.","B53.","B53.","B53.","B53.","B53.","B53.","B53.","B53.","B53.","B53.","B53.","B53.","B53.","B53.","B53.","B53.","B53.","B53.","B53.","B53.","B53.","B53.","B53."]
["A05.","A34.",null,"A34.","A34.","A34.","A34.","A34.","A34.","A34.",null,null,"A34.","A34.","A34.","A34.",null,null,null,null,null,null,"A34.","A34.","A34.","A34.","A34.","B54.","B54.","B54.","B54.","B54.","B54.","B54.","B54.","B54.","B54.","B54.","B54.","B54.","B54.","B54.","B54.","B54.","B54.","B54.","B54.","B54.","B54.","B54.","B54.","B54."]
["A06.","A35.",null,"A35.","A35.","A35.","A35.","A35.","A35.","A35.",null,null,"A35.","A35.","A35.","A35.",null,null,null,null,null,null,"A35.","A35.","A35.","A35.","A35.","B55.","B55.","B55.","B55.","B55.","B55.","B55.","B55.","B55.","B55.","B55.","B55.","B55.","B55.","B55.","B55.","B55.","B55.","B55.","B55.","B55.","B55.","B55.","B55.","B55."]
["A07.","A36.",null,"A36.","A36.","A36.","A36.","A36.","A36.","A36.",null,null,"A36.","A36.","A36.","A36.",null,null,null,null,null,null,"A36.","A36.","A36.","A36.","A36.","B56.","B56.","B56.","B56.","B56.","B56.","B56.","B56.","B56.","B56.","B56.","B56.","B56.","B56.","B56.","B56.","B56.","B56.","B56.","B56.","B56.","B56.","B56.","B56.","B56."]
["A08.","A37.",null,"A37.","A37.","A37.","A37.","A37.","A37.","A37.",null,null,"A37.","A37.","A37.","A37.",null,null,null,null,null,null,"A37.","A37.","A37.","A37.","A37.","B61.","B61.","B61.","B61.","B61.","B61.","B61.","B61.","B61.","B61.","B61.","B61.","B61.","B61.","B61.","B61.","B61.","B61.","B61.","B61.","B61.","B61.","B61.","B61.","B61."]
["A09.","A38.",null,"A38.","A38.","A38.","A38.","A38.","A38.","A38.",null,null,"A38.","A38.","A38.","A38.",null,null,null,null,null,null,"A38.","A38.","A38.","A38.","A38.","B62.","B62.","B62.","B62.","B62.","B62.","B62.","B62.","B62.","B62.","B62.","B62.","B62.","B62.","B62.","B62.","B62.","B62.","B62.","B62.","B62.","B62.","B62.","B62.","B62."]
["A10.","A39.",null,"A39.","A39.","A39.","A39.","A39.","A39.","A39.",null,null,"A39.","A39.","A39.","A39.",null,null,null,null,null,null,"A39.","A39.","A39.","A39.","A39.","B63.","B63.","B63.","B63.","B63.","B63.","B63.","B63.","B63.","B63.","B63.","B63.","B63.","B63.","B63.","B63.","B63.","B63.","B63.","B63.","B63.","B63.","B63.","B63.","B63."]
["A11.","A40.",null,"A40.","A40.","A40.","A40.","A40.","A40.","A40.",null,null,"A40.","A40.","A40.","A40.",null,null,null,null,null,null,"A40.","A40.","A40.","A40.","A40.","B64.","B64.","B64.","B64.","B64.","B64.","B64.","B64.","B64.","B64.","B64.","B64.","B64.","B64.","B64.","B64.","B64.","B64.","B64.","B64.","B64.","B64.","B64.","B64.","B64."]
["A12.","A41.",null,"A41.","A41.","A41.","A41.","A41.","A41.","A41.",null,null,"A41.","A41.","A41.","A41.",null,null,null,null,null,null,"A41.","A41.","A41.","A41.","A41.","B65.","B65.","B65.","B65.","B65.","B65.","B65.","B65.","B65.","B65.","B65.","B65.","B65.","B65.","B65.","B65.","B65.","B65.","B65.","B65.","B65.","B65.","B65.","B65.","B65."]
["A13.","A42.",null,"A42.","A42.","A42.","A42.","A42.","A42.","A42.",null,null,"A42.","A42.","A42.","A42.",null,null,null,null,null,null,"A42.","A42.","A42.","A42.","A42.","B79.","B79.","B79.","B79.","B79.","B79.","B79.","B79.","B79.","B79.","B79.","B79.","B79.","B79.","B79.","B79.","B79.","B79.","B79.","B79.","B79.","B79.","B79.","B79.","B79."]
["A14.","A43.",null,"A43.","A43.","A43.","A43.","A43.","A43.","A43.",null,null,"A43.","A43.","A43.","A43.",null,null,null,null,null,null,"A43.","A43.","A43.","A43.","A43."]
["A15.","A44.",null,"A44.","A44.","A44.","A44.","A44.","A44.","A44.",null,null,"A44.","A44.","A44.","A44.",null,null,null,null,null,null,"A44.","A44.","A44.","A44.","A44."]
["A16.","A45.",null,"A45.","A45.","A45.","A45.","A45.","A45.","A45.",null,null,"A45.","A45.","A45.","A45.",null,null,null,null,null,null,"A45.","A45.","A45.","A45.","A45."]
["A17.","A46.",null,"A46.","A46.","A46.","A46.","A46.","A46.","A46.",null,null,"A46.","A46.","A46.","A46.",null,null,null,null,null,null,"A46.","A46.","A46.","A46.","A46."]
["A18.","A47.",null,"A47.","A47.","A47.","A47.","A47.","A47.","A47.",null,null,"A47.","A47.","A47.","A47.",null,null,null,null,null,null,"A47.","A47.","A47.","A47.","A47."]
["A19.","A48.",null,"A48.","A48.","A48.","A48.","A48.","A48.","A48.",null,null,"A48.","A48.","A48.","A48.",null,null,null,null,null,null,"A48.","A48.","A48.","A48.","A48."]
["A20.","A50.",null,"A50.","A50.","A50.","A50.","A50.","A50.","A50.",null,null,"A50.","A50.","A50.","A50.",null,null,null,null,null,null,"A50.","A50.","A50.","A50.","A50."]
["A21."]
["A22."]
["A23."]
["A24."]
["A25."]
["B01."]
["B02."]
["B03."]
["B04."]
["B05."]
["B06."]
["B07."]
["B08."]
["B09."]
["B10."]
["B11."]
["B12."]
["B13."]
["B14."]
["B15."]
["B16."]
["B17."]
["B18."]
["B19."]
["B20."]
["B21.",null,null,null,null,null,null,null,null,null,null,"WWW"]
["B22.",null,null,null,null,null,null,null,null,null,null,"WWWW"]
["B23.",null,null,null,null,null,null,null,null,null,null,{"$f":"LEFT(L213,2)","v":"WW"}]
["B24."]
["B31."]
["B32."]
[]
["ROWS11, 12","A91.","A91.","A91.","A91.","A91.","A91.","A91.","A91.","A91.","A91.","A91.","A91.","A91.","A91.","A91.","A91.","A91.","A91.","A91.","A91.","A91.","B91.","B91.","B91.","B91.","B91.",null,null,null,null,null,null,null,null,"FISH"]
["A91.","A92.","A92.","A92.","A92.","A92.","A92.","A92.","A92.","A92.","A92.","A92.","A92.","A92.","A92.","A92.","A92.","A92.","A92.","A92.","A92.","A92.","B92.","B92.","B92.","B92.","B92.","B91.","B91.","B91.","B91.","B91.","B91.","B91.","B91.","B91."]
["A92.","A93.","A93.","A93.","A93.","A93.","A93.","A93.","A93.","A93.","A93.","A93.","A93.","A93.","A93.","A93.","A93.","A93.","A93.","A93.","A93.","A93.","B93.","B93.","B93.","B93.","B93.","B92.","B92.","B92.","B92.","B92.","B92.","B92.","B92.","B92."]
["A93.","A94.","A94.","A94.","A94.","A94.","A94.","A94.","A94.","A94.","A94.","A94.","A94.","A94.","A94.","A94.","A94.","A94.","A94.","A94.","A94.","A94.","B94.","B94.","B94.","B94.","B94.","B93.","B93.","B93.","B93.","B93.","B93.","B93.","B93.","B93."]
["A94.","A95.","A95.","A95.","A95.","A95.","A95.","A95.","A95.","A95.","A95.","A95.","A95.","A95.","A95.","A95.","A95.","A95.","A95.","A95.","A95.","A95.","B95.","B95.","B95.","B95.","B95.","B94.","B94.","B94.","B94.","B94.","B94.","B94.","B94.","B94."]
["A95.","A96.","A96.","A96.","A96.","A96.","A96.","A96.","A96.","A96.","A96.","A96.","A96.","A96.","A96.","A96.","A96.","A96.","A96.","A96.","A96.","A96.","B96.","B96.","B96.","B96.","B96.","B95.","B95.","B95.","B95.","B95.","B95.","B95.","B95.","B95."]
["A96.","A97.","A97.","A97.","A97.","A97.","A97.","A97.","A97.","A97.","A97.","A97.","A97.","A97.","A97.","A97.","A97.","A97.","A97.","A97.","A97.","A97.","B97.","B97.","B97.","B97.","B97.","B96.","B96.","B96.","B96.","B96.","B96.","B96.","B96.","B96."]
["A97.",null,null,null,null,null,null,null,null,null,null,null,null,null,null,null,null,null,null,null,null,null,"B98.","B98.","B98.","B98.","B98.","B97.","B97.","B97.","B97.","B97.","B97.","B97.","B97.","B98."]
["B91.",null,null,null,null,null,null,null,null,null,null,null,null,null,null,null,null,null,null,null,null,null,"B99.","B99.","B99.","B99.","B99.","B98.","B98.","B98.","B98.","B98.","B98.","B98.","B98.","B99."]
["B92.",null,null,null,null,null,null,null,null,null,null,null,null,null,null,null,null,null,null,null,null,null,"B00.","B00.","B00.","B00.","B00.","B99.","B99.","B99.","B99.","B99.","B99.","B99.","B99.","B00."]
["B93.",null,null,null,null,null,null,null,null,null,null,null,null,null,null,null,null,null,null,null,null,null,null,null,null,null,null,"B00.","B00.","B00.","B00.","B00.","B00.","B00.","B00."]
["B94."]
["B95."]
["B96."]
["B97."]
["B98."]
["B99."]
["B00."]
[]
[1]
[2]
[]
["ZZZ"]
["B61."]
["B62."]
["B64."]
[]
[null,"_2.","_3.","_4.","_5.","_6.","_7.","_8.","_9."]
["_1.","A01.","A01.","A01.","A01.","A01.","A01.","A01.","B01.",{"$f":"A249=B248=C248=D248=E248=F248=G248=H248","v":false}]
["A01.","A02.","A02.","A02.","A02.","A02.","A02.","A02.","B02."]
["A02.","A03.","A03.","A03.","A03.","A03.","A03.","A03.","B03."]
["A03.","A04.","A04.","A04.","A04.","A04.","A04.","A04.","B04."]
["A04.","A05.","A05.","A05.","A05.","A05.","A05.","A05.","B05."]
["A05.","A06.","A06.","A06.","A06.","A06.","A06.","A06.","B06."]
["A06.","A07.","A07.","A07.","A07.","A07.","A07.","A07.","B07."]
["A07.","A08.","A08.","A08.","A08.","A08.","A08.","A08.","B08."]
["A08.","A11.","A11.","A11.","A11.","A11.","A11.","A11.","B09."]
["A11.","A12.","A12.","A12.","A12.","A12.","A12.","A12.","B10."]
["A12.","A13.","A13.","A13.","A13.","A13.","A13.","A13.","B11."]
["A13.","A14.","A14.","A14.","A14.","A14.","A14.","A14.","B12."]
["A14.","A21.","A21.","A21.","A21.","A21.","A21.","A21.","B13."]
["A21.","A22.","A22.","A22.","A22.","A22.","A22.","A22.","B14."]
["A22.","A23.","A23.","A23.","A23.","A23.","A23.","A23.","B15."]
["A23.","A24.","A24.","A24.","A24.","A24.","A24.","A24.","B16."]
["A24.","A25.","A25.","A25.","A25.","A25.","A25.","A25.","B17."]
["A25.","B01.","B01.","B01.","B01.","B01.","B01.","B01.","B18."]
["B01.","B02.","B02.","B02.","B02.","B02.","B02.","B02.","B19."]
["B02.","B03.","B03.","B03.","B03.","B03.","B03.","B03.","B20."]
["B03.","B04.","B04.","B04.","B04.","B04.","B04.","B04.","B21."]
["B04.","B05.","B05.","B05.","B05.","B05.","B05.","B05.","B22."]
["B05.","B06.","B06.","B06.","B06.","B06.","B06.","B06.","B23."]
["B06.","B07.","B07.","B07.","B07.","B07.","B07.","B07.","B24."]
["B07.","B08.","B08.","B08.","B08.","B08.","B08.","B08.","B31."]
["B08.","B09.","B09.","B09.","B09.","B09.","B09.","B09.","B32."]
["B09.","B10.","B10.","B10.","B10.","B10.","B10.","B10."]
["B10.","B11.","B11.","B11.","B11.","B11.","B11.","B11."]
["B11.","B12.","B12.","B12.","B12.","B12.","B12.","B12."]
["B12.","B13.","B13.","B13.","B13.","B13.","B13.","B13."]
["B13.","B14.","B14.","B14.","B14.","B14.","B14.","B14."]
["B14.","B15.","B15.","B15.","B15.","B15.","B15.","B15."]
["B15.","B16.","B16.","B16.","B16.","B16.","B16.","B16."]
["B16.","B17.","B17.","B17.","B17.","B17.","B17.","B17."]
["B17.","B18.","B18.","B18.","B18.","B18.","B18.","B18."]
["B18.","B19.","B19.","B19.","B19.","B19.","B19.","B19."]
["B19.","B20.","B20.","B20.","B20.","B20.","B20.","B20."]
["B20.","B21.","B21.","B21.","B21.","B21.","B21.","B21."]
["B21.","B22.","B22.","B22.","B22.","B22.","B22.","B22."]
["B22.","B23.","B23.","B23.","B23.","B23.","B23.","B23."]
["B23.","B24.","B24.","B24.","B24.","B24.","B24.","B24."]
["B24.","B31.","B31.","B31.","B31.","B31.","B31.","B31."]
["B31.","B32.","B32.","B32.","B32.","B32.","B32.","B32."]
["B32."]
[]
["GM"]
["B62."]
["B63."]
[]
["HM"]
["B64."]
["B65."]
[]
["AAA"]
["B61."]
["B62."]
[]
["BBB"]
["B63."]
[]
["CCC"]
["B64."]
[]
["DDD"]
["B65."]
[null,"HM_NONB","GM_NONB","NOR_B","HM_B","GM_B"]
["NOR_NONB","B50.","B50.","B61.","B61.","B61."]
["B50.","B51.","B51.","B62.","B64.","B62."]
["B51.","B52.","B52.","B64."]
["B52.","B53.","B53."]
["B53.","B54.","B54."]
["B54.","B55.","B55."]
["B55.","B56.","B56."]
["B56.","B65.","B63."]
["B79."]