{"text_format":"1","workbook":"xlsx","n_sheets":34,"sheets":["Table 14","Table 15","1996data_new","1997data_new","1998data_new","1999data_new","2000data_new","2001data_new","2002data_new","2003data_new","2004data_new","2005data_new","2006data_new","2007 data","2008 data","2009 data","2010 data","2011 data","2012 data","2013 data","2001AS","2002AS","2003AS","2004AS","2005AS","2006AS","2007AS","2008AS","2009AS","2010AS","2011AS","2012AS","2013AS","Sheet3"],"not_rendered":{"charts":0,"images":4,"macros":1,"external_links":0,"defined_names":46,"comments":0,"pivot_tables":0},"unopened":[],"bounds":{"document_bytes":16777216,"sheet_cells":100000,"rows_first":2000,"rows_last":500,"rows_between":2000,"halvings":0,"cell_chars":16384,"cell_head_chars":4096},"cells_cut":0,"cells_raw":0,"read":"whole","date_system":"1900"}

{"sheet":"Table 14","index":0,"n_rows":33,"n_cols":13,"rows_kept":33,"cut":false,"hidden":false,"merged":[[32,4,33,12],[1,4,1,8],[2,4,2,7],[5,5,5,11],[4,5,4,12],[5,12,6,12],[4,4,5,4]]}
[null,null,null,null,"Table 14: GCE A level examination results of students aged 16 to 181 by subject, grade and gender"]
[null,null,null,null,"Years: 1995/96 to 2012/13"]
[null,null,null,null,"Coverage: England"]
[null,null,null,null,"All subjects","Males and females",null,{"$f":"IF(selectedsex=\"Males\",2,IF(selectedsex=\"Females\",9,16))","v":16},{"$f":"IF(selectedsex=\"Males\",2,IF(selectedsex=\"Females\",10,18))","v":18}]
[null,null,null,null,{"$f":"selectedsubject","v":"All subjects"},{"$f":"selectedsex","v":"Males and females"}]
[null,null,null,null,null,"Percentage achieving grade",null,null,null,null,null,null,"Number of entries"]
[null,null,null,null,"Academic year ending","A*","A","B","C","D","E","A* to E"]
[null,null,null,null,"  2013 2",{"$f":"VLOOKUP(selectedsubject,'2013 data'!$B$5:$Z$39,$I$4+0,FALSE)","v":7.9},{"$f":"VLOOKUP(selectedsubject,'2013 data'!$B$5:$Z$39,$I$4+1,FALSE)","v":18.899999999999999},{"$f":"VLOOKUP(selectedsubject,'2013 data'!$B$5:$Z$39,$I$4+2,FALSE)","v":26.5},{"$f":"VLOOKUP(selectedsubject,'2013 data'!$B$5:$Z$39,$I$4+3,FALSE)","v":24.3},{"$f":"VLOOKUP(selectedsubject,'2013 data'!$B$5:$Z$39,$I$4+4,FALSE)","v":14.9},{"$f":"VLOOKUP(selectedsubject,'2013 data'!$B$5:$Z$39,$I$4+5,FALSE)","v":6.2},{"$f":"VLOOKUP(selectedsubject,'2013 data'!$B$5:$Z$39,$I$4+6,FALSE)","v":98.7},{"$f":"VLOOKUP(selectedsubject,'2013 data'!$B$5:$Z$39,$I$4+7,FALSE)","v":773651}]
[null,null,null,null,2012,{"$f":"VLOOKUP(selectedsubject,'2012 data'!$B$5:$Z$39,$I$4+0,FALSE)","v":8.1999999999999993},{"$f":"VLOOKUP(selectedsubject,'2012 data'!$B$5:$Z$39,$I$4+1,FALSE)","v":18.8},{"$f":"VLOOKUP(selectedsubject,'2012 data'!$B$5:$Z$39,$I$4+2,FALSE)","v":25.9},{"$f":"VLOOKUP(selectedsubject,'2012 data'!$B$5:$Z$39,$I$4+3,FALSE)","v":24},{"$f":"VLOOKUP(selectedsubject,'2012 data'!$B$5:$Z$39,$I$4+4,FALSE)","v":15.1},{"$f":"VLOOKUP(selectedsubject,'2012 data'!$B$5:$Z$39,$I$4+5,FALSE)","v":6.5},{"$f":"VLOOKUP(selectedsubject,'2012 data'!$B$5:$Z$39,$I$4+6,FALSE)","v":98.6},{"$f":"VLOOKUP(selectedsubject,'2012 data'!$B$5:$Z$39,$I$4+7,FALSE)","v":779479}]
[null,null,null,null,2011,{"$f":"VLOOKUP(selectedsubject,'2011 data'!$B$5:$Z$39,$I$4+0,FALSE)","v":8.4},{"$f":"VLOOKUP(selectedsubject,'2011 data'!$B$5:$Z$39,$I$4+1,FALSE)","v":18.8},{"$f":"VLOOKUP(selectedsubject,'2011 data'!$B$5:$Z$39,$I$4+2,FALSE)","v":25.6},{"$f":"VLOOKUP(selectedsubject,'2011 data'!$B$5:$Z$39,$I$4+3,FALSE)","v":23.8},{"$f":"VLOOKUP(selectedsubject,'2011 data'!$B$5:$Z$39,$I$4+4,FALSE)","v":15.2},{"$f":"VLOOKUP(selectedsubject,'2011 data'!$B$5:$Z$39,$I$4+5,FALSE)","v":6.7},{"$f":"VLOOKUP(selectedsubject,'2011 data'!$B$5:$Z$39,$I$4+6,FALSE)","v":98.5},{"$f":"VLOOKUP(selectedsubject,'2011 data'!$B$5:$Z$39,$I$4+7,FALSE)","v":782771}]
[null,null,null,null,2010,{"$f":"VLOOKUP(selectedsubject,'2010 data'!$B$5:$Z$39,$I$4+0,FALSE)","v":8},{"$f":"VLOOKUP(selectedsubject,'2010 data'!$B$5:$Z$39,$I$4+1,FALSE)","v":18.899999999999999},{"$f":"VLOOKUP(selectedsubject,'2010 data'!$B$5:$Z$39,$I$4+2,FALSE)","v":25.2},{"$f":"VLOOKUP(selectedsubject,'2010 data'!$B$5:$Z$39,$I$4+3,FALSE)","v":23.5},{"$f":"VLOOKUP(selectedsubject,'2010 data'!$B$5:$Z$39,$I$4+4,FALSE)","v":15.5},{"$f":"VLOOKUP(selectedsubject,'2010 data'!$B$5:$Z$39,$I$4+5,FALSE)","v":7.1},{"$f":"VLOOKUP(selectedsubject,'2010 data'!$B$5:$Z$39,$I$4+6,FALSE)","v":98.3},{"$f":"VLOOKUP(selectedsubject,'2010 data'!$B$5:$Z$39,$I$4+7,FALSE)","v":783347}]
[null,null,null,null,2009,"-",{"$f":"VLOOKUP(selectedsubject,'2009 data'!$B$5:$W$39,$H$4+0,FALSE)","v":26.8},{"$f":"VLOOKUP(selectedsubject,'2009 data'!$B$5:$W$39,$H$4+1,FALSE)","v":25.1},{"$f":"VLOOKUP(selectedsubject,'2009 data'!$B$5:$W$39,$H$4+2,FALSE)","v":23.2},{"$f":"VLOOKUP(selectedsubject,'2009 data'!$B$5:$W$39,$H$4+3,FALSE)","v":15.5},{"$f":"VLOOKUP(selectedsubject,'2009 data'!$B$5:$W$39,$H$4+4,FALSE)","v":7.4},{"$f":"VLOOKUP(selectedsubject,'2009 data'!$B$5:$W$39,$H$4+5,FALSE)","v":98.1},{"$f":"VLOOKUP(selectedsubject,'2009 data'!$B$5:$W$39,$H$4+6,FALSE)","v":757696}]
[null,null,null,null,2008,"-",{"$f":"VLOOKUP(selectedsubject,'2008 data'!$B$5:$W$39,$H$4+0,FALSE)","v":25.9},{"$f":"VLOOKUP(selectedsubject,'2008 data'!$B$5:$W$39,$H$4+1,FALSE)","v":24.7},{"$f":"VLOOKUP(selectedsubject,'2008 data'!$B$5:$W$39,$H$4+2,FALSE)","v":23.3},{"$f":"VLOOKUP(selectedsubject,'2008 data'!$B$5:$W$39,$H$4+3,FALSE)","v":16},{"$f":"VLOOKUP(selectedsubject,'2008 data'!$B$5:$W$39,$H$4+4,FALSE)","v":7.9},{"$f":"VLOOKUP(selectedsubject,'2008 data'!$B$5:$W$39,$H$4+5,FALSE)","v":97.8},{"$f":"VLOOKUP(selectedsubject,'2008 data'!$B$5:$W$39,$H$4+6,FALSE)","v":741356}]
[null,null,null,null,2007,"-",{"$f":"VLOOKUP(selectedsubject,data2007,$H$4+0,FALSE)","v":25.3},{"$f":"VLOOKUP(selectedsubject,data2007,$H$4+1,FALSE)","v":24.2},{"$f":"VLOOKUP(selectedsubject,data2007,$H$4+2,FALSE)","v":23.1},{"$f":"VLOOKUP(selectedsubject,data2007,$H$4+3,FALSE)","v":16.399999999999999},{"$f":"VLOOKUP(selectedsubject,data2007,$H$4+4,FALSE)","v":8.4},{"$f":"VLOOKUP(selectedsubject,data2007,$H$4+5,FALSE)","v":97.4},{"$f":"VLOOKUP(selectedsubject,data2007,$H$4+6,FALSE)","v":718756}]
[null,null,null,null,2006,"-",{"$f":"VLOOKUP(selectedsubject,data2006_new,$H$4+0,FALSE)","v":24},{"$f":"VLOOKUP(selectedsubject,data2006_new,$H$4+1,FALSE)","v":23.8},{"$f":"VLOOKUP(selectedsubject,data2006_new,$H$4+2,FALSE)","v":23.4},{"$f":"VLOOKUP(selectedsubject,data2006_new,$H$4+3,FALSE)","v":17},{"$f":"VLOOKUP(selectedsubject,data2006_new,$H$4+4,FALSE)","v":9},{"$f":"VLOOKUP(selectedsubject,data2006_new,$H$4+5,FALSE)","v":97.2},{"$f":"VLOOKUP(selectedsubject,data2006_new,$H$4+6,FALSE)","v":715203}]
[null,null,null,null,2005,"-",{"$f":"VLOOKUP(selectedsubject,data2005_new,$H$4+0,FALSE)","v":22.7},{"$f":"VLOOKUP(selectedsubject,data2005_new,$H$4+1,FALSE)","v":23.6},{"$f":"VLOOKUP(selectedsubject,data2005_new,$H$4+2,FALSE)","v":23.5},{"$f":"VLOOKUP(selectedsubject,data2005_new,$H$4+3,FALSE)","v":17.600000000000001},{"$f":"VLOOKUP(selectedsubject,data2005_new,$H$4+4,FALSE)","v":9.5},{"$f":"VLOOKUP(selectedsubject,data2005_new,$H$4+5,FALSE)","v":96.8},{"$f":"VLOOKUP(selectedsubject,data2005_new,$H$4+6,FALSE)","v":691371}]
[null,null,null,null,2004,"-",{"$f":"VLOOKUP(selectedsubject,data2004_new,$H$4+0,FALSE)","v":22.3},{"$f":"VLOOKUP(selectedsubject,data2004_new,$H$4+1,FALSE)","v":23.2},{"$f":"VLOOKUP(selectedsubject,data2004_new,$H$4+2,FALSE)","v":23.4},{"$f":"VLOOKUP(selectedsubject,data2004_new,$H$4+3,FALSE)","v":17.899999999999999},{"$f":"VLOOKUP(selectedsubject,data2004_new,$H$4+4,FALSE)","v":9.8000000000000007},{"$f":"VLOOKUP(selectedsubject,data2004_new,$H$4+5,FALSE)","v":96.6},{"$f":"VLOOKUP(selectedsubject,data2004_new,$H$4+6,FALSE)","v":675924}]
[null,null,null,null,2003,"-",{"$f":"VLOOKUP(selectedsubject,data2003_new,$H$4+0,FALSE)","v":21.5},{"$f":"VLOOKUP(selectedsubject,data2003_new,$H$4+1,FALSE)","v":22.7},{"$f":"VLOOKUP(selectedsubject,data2003_new,$H$4+2,FALSE)","v":23.2},{"$f":"VLOOKUP(selectedsubject,data2003_new,$H$4+3,FALSE)","v":18.3},{"$f":"VLOOKUP(selectedsubject,data2003_new,$H$4+4,FALSE)","v":10.4},{"$f":"VLOOKUP(selectedsubject,data2003_new,$H$4+5,FALSE)","v":96.1},{"$f":"VLOOKUP(selectedsubject,data2003_new,$H$4+6,FALSE)","v":662670}]
[null,null,null,null,2002,"-",{"$f":"VLOOKUP(selectedsubject,data2002_new,$H$4+0,FALSE)","v":20.5},{"$f":"VLOOKUP(selectedsubject,data2002_new,$H$4+1,FALSE)","v":21.8},{"$f":"VLOOKUP(selectedsubject,data2002_new,$H$4+2,FALSE)","v":22.8},{"$f":"VLOOKUP(selectedsubject,data2002_new,$H$4+3,FALSE)","v":18.5},{"$f":"VLOOKUP(selectedsubject,data2002_new,$H$4+4,FALSE)","v":11.1},{"$f":"VLOOKUP(selectedsubject,data2002_new,$H$4+5,FALSE)","v":94.8},{"$f":"VLOOKUP(selectedsubject,data2002_new,$H$4+6,FALSE)","v":645033}]
[null,null,null,null,2001,"-",{"$f":"VLOOKUP(selectedsubject,data2001_new,$H$4+0,FALSE)","v":18.7},{"$f":"VLOOKUP(selectedsubject,data2001_new,$H$4+1,FALSE)","v":19.3},{"$f":"VLOOKUP(selectedsubject,data2001_new,$H$4+2,FALSE)","v":21.6},{"$f":"VLOOKUP(selectedsubject,data2001_new,$H$4+3,FALSE)","v":18.2},{"$f":"VLOOKUP(selectedsubject,data2001_new,$H$4+4,FALSE)","v":12.2},{"$f":"VLOOKUP(selectedsubject,data2001_new,$H$4+5,FALSE)","v":90},{"$f":"VLOOKUP(selectedsubject,data2001_new,$H$4+6,FALSE)","v":681553}]
[null,null,null,null,2000,"-",{"$f":"VLOOKUP(selectedsubject,data2000_new,$H$4+0,FALSE)","v":18},{"$f":"VLOOKUP(selectedsubject,data2000_new,$H$4+1,FALSE)","v":19.100000000000001},{"$f":"VLOOKUP(selectedsubject,data2000_new,$H$4+2,FALSE)","v":21.4},{"$f":"VLOOKUP(selectedsubject,data2000_new,$H$4+3,FALSE)","v":18.600000000000001},{"$f":"VLOOKUP(selectedsubject,data2000_new,$H$4+4,FALSE)","v":12.5},{"$f":"VLOOKUP(selectedsubject,data2000_new,$H$4+5,FALSE)","v":89.5},{"$f":"VLOOKUP(selectedsubject,data2000_new,$H$4+6,FALSE)","v":672362}]
[null,null,null,null,1999,"-",{"$f":"VLOOKUP(selectedsubject,data1999_new,$H$4+0,FALSE)","v":17.7},{"$f":"VLOOKUP(selectedsubject,data1999_new,$H$4+1,FALSE)","v":19.100000000000001},{"$f":"VLOOKUP(selectedsubject,data1999_new,$H$4+2,FALSE)","v":21.2},{"$f":"VLOOKUP(selectedsubject,data1999_new,$H$4+3,FALSE)","v":18.399999999999999},{"$f":"VLOOKUP(selectedsubject,data1999_new,$H$4+4,FALSE)","v":12.7},{"$f":"VLOOKUP(selectedsubject,data1999_new,$H$4+5,FALSE)","v":89},{"$f":"VLOOKUP(selectedsubject,data1999_new,$H$4+6,FALSE)","v":680048}]
[null,null,null,null,1998,"-",{"$f":"VLOOKUP(selectedsubject,data1998_new,$H$4+0,FALSE)","v":17.100000000000001},{"$f":"VLOOKUP(selectedsubject,data1998_new,$H$4+1,FALSE)","v":18.899999999999999},{"$f":"VLOOKUP(selectedsubject,data1998_new,$H$4+2,FALSE)","v":20.9},{"$f":"VLOOKUP(selectedsubject,data1998_new,$H$4+3,FALSE)","v":18.399999999999999},{"$f":"VLOOKUP(selectedsubject,data1998_new,$H$4+4,FALSE)","v":13},{"$f":"VLOOKUP(selectedsubject,data1998_new,$H$4+5,FALSE)","v":88.3},{"$f":"VLOOKUP(selectedsubject,data1998_new,$H$4+6,FALSE)","v":681082}]
[null,null,null,null,1997,"-",{"$f":"VLOOKUP(selectedsubject,data1997_new,$H$4+0,FALSE)","v":16.100000000000001},{"$f":"VLOOKUP(selectedsubject,data1997_new,$H$4+1,FALSE)","v":18.899999999999999},{"$f":"VLOOKUP(selectedsubject,data1997_new,$H$4+2,FALSE)","v":20.3},{"$f":"VLOOKUP(selectedsubject,data1997_new,$H$4+3,FALSE)","v":18.5},{"$f":"VLOOKUP(selectedsubject,data1997_new,$H$4+4,FALSE)","v":13.3},{"$f":"VLOOKUP(selectedsubject,data1997_new,$H$4+5,FALSE)","v":87.2},{"$f":"VLOOKUP(selectedsubject,data1997_new,$H$4+6,FALSE)","v":662163}]
[null,null,null,null,1996,"-",{"$f":"VLOOKUP(selectedsubject,data1996_new,$H$4+0,FALSE)","v":16.2},{"$f":"VLOOKUP(selectedsubject,data1996_new,$H$4+1,FALSE)","v":18},{"$f":"VLOOKUP(selectedsubject,data1996_new,$H$4+2,FALSE)","v":19.7},{"$f":"VLOOKUP(selectedsubject,data1996_new,$H$4+3,FALSE)","v":18.100000000000001},{"$f":"VLOOKUP(selectedsubject,data1996_new,$H$4+4,FALSE)","v":13.6},{"$f":"VLOOKUP(selectedsubject,data1996_new,$H$4+5,FALSE)","v":85.6},{"$f":"VLOOKUP(selectedsubject,data1996_new,$H$4+6,FALSE)","v":620164}]
[null,null,null,null,null,null,null,null,null,null,null,null,"Source: Key Stage 5 attainment data"]
[]
[null,null,null,null,"1. Covers students aged 16, 17 or 18 at the start of the  academic year, i.e. 31 August."]
[null,null,null,null,"2. 2013 figures are revised. Figures for all other years are final."]
[null,null,null,null,"x Percentages have been suppressed where underlying figures are less than 3."]
[]
[null,null,null,null,"Note: A* grade at A level has been awarded since the 2009/10 academic year."]
[null,null,null,null,"Note: where qualifications taken by a student are in the same subject area and similar in content ‘discounting’ rules have been applied to avoid double counting qualifications. Refer to the Technical Notes section of the SFR."]

{"sheet":"Table 15","index":1,"n_rows":26,"n_cols":12,"rows_kept":26,"cut":false,"hidden":false,"merged":[[25,4,26,12],[1,4,1,8],[2,4,2,7],[5,5,5,10],[4,5,4,11],[5,11,6,11],[4,4,5,4]]}
[null,null,null,null,"Table 15: GCE AS level examination results of students aged 16 to 181 by subject, grade and gender"]
[null,null,null,null,"Years: 2000/01 to 2012/13"]
[null,null,null,null,"Coverage: England"]
[null,null,null,null,"All subjects","Males and females",{"$f":"IF(selectedsex=\"Males\",2,IF(selectedsex=\"Females\",9,16))","v":16}]
[null,null,null,null,{"$f":"selectedsubject","v":"All subjects"},{"$f":"selectedsex","v":"Males and females"}]
[null,null,null,null,null,"Percentage achieving grade",null,null,null,null,null,"Number of entries"]
[null,null,null,null,"Academic year ending","A","B","C","D","E","A to E"]
[null,null,null,null,"  2013 2",{"$f":"VLOOKUP(selectedsubject,'2013AS'!$B$7:$W$41,$G$4+0,FALSE)","v":17},{"$f":"VLOOKUP(selectedsubject,'2013AS'!$B$7:$W$41,$G$4+1,FALSE)","v":18.899999999999999},{"$f":"VLOOKUP(selectedsubject,'2013AS'!$B$7:$W$41,$G$4+2,FALSE)","v":21},{"$f":"VLOOKUP(selectedsubject,'2013AS'!$B$7:$W$41,$G$4+3,FALSE)","v":17.5},{"$f":"VLOOKUP(selectedsubject,'2013AS'!$B$7:$W$41,$G$4+4,FALSE)","v":12.3},{"$f":"VLOOKUP(selectedsubject,'2013AS'!$B$7:$W$41,$G$4+5,FALSE)","v":86.7},{"$f":"VLOOKUP(selectedsubject,'2013AS'!$B$7:$W$41,$G$4+6,FALSE)","v":1128323}]
[null,null,null,null,2012,{"$f":"VLOOKUP(selectedsubject,'2012AS'!$B$7:$W$41,$G$4+0,FALSE)","v":16.899999999999999},{"$f":"VLOOKUP(selectedsubject,'2012AS'!$B$7:$W$41,$G$4+1,FALSE)","v":18.899999999999999},{"$f":"VLOOKUP(selectedsubject,'2012AS'!$B$7:$W$41,$G$4+2,FALSE)","v":21},{"$f":"VLOOKUP(selectedsubject,'2012AS'!$B$7:$W$41,$G$4+3,FALSE)","v":17.600000000000001},{"$f":"VLOOKUP(selectedsubject,'2012AS'!$B$7:$W$41,$G$4+4,FALSE)","v":12.4},{"$f":"VLOOKUP(selectedsubject,'2012AS'!$B$7:$W$41,$G$4+5,FALSE)","v":86.8},{"$f":"VLOOKUP(selectedsubject,'2012AS'!$B$7:$W$41,$G$4+6,FALSE)","v":1131886}]
[null,null,null,null,2011,{"$f":"VLOOKUP(selectedsubject,data2011AS,$G$4+0,FALSE)","v":16.100000000000001},{"$f":"VLOOKUP(selectedsubject,data2011AS,$G$4+1,FALSE)","v":18.100000000000001},{"$f":"VLOOKUP(selectedsubject,data2011AS,$G$4+2,FALSE)","v":20.8},{"$f":"VLOOKUP(selectedsubject,data2011AS,$G$4+3,FALSE)","v":18.100000000000001},{"$f":"VLOOKUP(selectedsubject,data2011AS,$G$4+4,FALSE)","v":13.3},{"$f":"VLOOKUP(selectedsubject,data2011AS,$G$4+5,FALSE)","v":86.4},{"$f":"VLOOKUP(selectedsubject,data2011AS,$G$4+6,FALSE)","v":1181498}]
[null,null,null,null,2010,{"$f":"VLOOKUP(selectedsubject,data2010AS,$G$4+0,FALSE)","v":15.8},{"$f":"VLOOKUP(selectedsubject,data2010AS,$G$4+1,FALSE)","v":17.8},{"$f":"VLOOKUP(selectedsubject,data2010AS,$G$4+2,FALSE)","v":20.7},{"$f":"VLOOKUP(selectedsubject,data2010AS,$G$4+3,FALSE)","v":18.3},{"$f":"VLOOKUP(selectedsubject,data2010AS,$G$4+4,FALSE)","v":13.7},{"$f":"VLOOKUP(selectedsubject,data2010AS,$G$4+5,FALSE)","v":86.3},{"$f":"VLOOKUP(selectedsubject,data2010AS,$G$4+6,FALSE)","v":973589}]
[null,null,null,null,2009,{"$f":"VLOOKUP(selectedsubject,data2009AS,$G$4+0,FALSE)","v":16},{"$f":"VLOOKUP(selectedsubject,data2009AS,$G$4+1,FALSE)","v":17.399999999999999},{"$f":"VLOOKUP(selectedsubject,data2009AS,$G$4+2,FALSE)","v":20.399999999999999},{"$f":"VLOOKUP(selectedsubject,data2009AS,$G$4+3,FALSE)","v":18.3},{"$f":"VLOOKUP(selectedsubject,data2009AS,$G$4+4,FALSE)","v":13.9},{"$f":"VLOOKUP(selectedsubject,data2009AS,$G$4+5,FALSE)","v":86},{"$f":"VLOOKUP(selectedsubject,data2009AS,$G$4+6,FALSE)","v":966857}]
[null,null,null,null,2008,{"$f":"VLOOKUP(selectedsubject,data2008AS,$G$4+0,FALSE)","v":15.7},{"$f":"VLOOKUP(selectedsubject,data2008AS,$G$4+1,FALSE)","v":17.8},{"$f":"VLOOKUP(selectedsubject,data2008AS,$G$4+2,FALSE)","v":20.6},{"$f":"VLOOKUP(selectedsubject,data2008AS,$G$4+3,FALSE)","v":18.399999999999999},{"$f":"VLOOKUP(selectedsubject,data2008AS,$G$4+4,FALSE)","v":13.8},{"$f":"VLOOKUP(selectedsubject,data2008AS,$G$4+5,FALSE)","v":86.3},{"$f":"VLOOKUP(selectedsubject,data2008AS,$G$4+6,FALSE)","v":937337}]
[null,null,null,null,2007,{"$f":"VLOOKUP(selectedsubject,data2007AS,$G$4+0,FALSE)","v":15.8},{"$f":"VLOOKUP(selectedsubject,data2007AS,$G$4+1,FALSE)","v":17.600000000000001},{"$f":"VLOOKUP(selectedsubject,data2007AS,$G$4+2,FALSE)","v":20.2},{"$f":"VLOOKUP(selectedsubject,data2007AS,$G$4+3,FALSE)","v":18.3},{"$f":"VLOOKUP(selectedsubject,data2007AS,$G$4+4,FALSE)","v":14},{"$f":"VLOOKUP(selectedsubject,data2007AS,$G$4+5,FALSE)","v":85.9},{"$f":"VLOOKUP(selectedsubject,data2007AS,$G$4+6,FALSE)","v":943877}]
[null,null,null,null,2006,{"$f":"VLOOKUP(selectedsubject,data2006as,$G$4+0,FALSE)","v":15.9},{"$f":"VLOOKUP(selectedsubject,data2006as,$G$4+1,FALSE)","v":17.399999999999999},{"$f":"VLOOKUP(selectedsubject,data2006as,$G$4+2,FALSE)","v":20.2},{"$f":"VLOOKUP(selectedsubject,data2006as,$G$4+3,FALSE)","v":18.3},{"$f":"VLOOKUP(selectedsubject,data2006as,$G$4+4,FALSE)","v":14.1},{"$f":"VLOOKUP(selectedsubject,data2006as,$G$4+5,FALSE)","v":85.8},{"$f":"VLOOKUP(selectedsubject,data2006as,$G$4+6,FALSE)","v":919764}]
[null,null,null,null,2005,{"$f":"VLOOKUP(selectedsubject,data2005as,$G$4+0,FALSE)","v":15.3},{"$f":"VLOOKUP(selectedsubject,data2005as,$G$4+1,FALSE)","v":17.3},{"$f":"VLOOKUP(selectedsubject,data2005as,$G$4+2,FALSE)","v":20.2},{"$f":"VLOOKUP(selectedsubject,data2005as,$G$4+3,FALSE)","v":18.3},{"$f":"VLOOKUP(selectedsubject,data2005as,$G$4+4,FALSE)","v":14.1},{"$f":"VLOOKUP(selectedsubject,data2005as,$G$4+5,FALSE)","v":85.3},{"$f":"VLOOKUP(selectedsubject,data2005as,$G$4+6,FALSE)","v":907029}]
[null,null,null,null,2004,{"$f":"VLOOKUP(selectedsubject,data2004as,$G$4+0,FALSE)","v":15},{"$f":"VLOOKUP(selectedsubject,data2004as,$G$4+1,FALSE)","v":17},{"$f":"VLOOKUP(selectedsubject,data2004as,$G$4+2,FALSE)","v":20},{"$f":"VLOOKUP(selectedsubject,data2004as,$G$4+3,FALSE)","v":18.5},{"$f":"VLOOKUP(selectedsubject,data2004as,$G$4+4,FALSE)","v":14.2},{"$f":"VLOOKUP(selectedsubject,data2004as,$G$4+5,FALSE)","v":84.8},{"$f":"VLOOKUP(selectedsubject,data2004as,$G$4+6,FALSE)","v":878794}]
[null,null,null,null,2003,{"$f":"VLOOKUP(selectedsubject,data2003as,$G$4+0,FALSE)","v":15.1},{"$f":"VLOOKUP(selectedsubject,data2003as,$G$4+1,FALSE)","v":16.7},{"$f":"VLOOKUP(selectedsubject,data2003as,$G$4+2,FALSE)","v":19.7},{"$f":"VLOOKUP(selectedsubject,data2003as,$G$4+3,FALSE)","v":18.399999999999999},{"$f":"VLOOKUP(selectedsubject,data2003as,$G$4+4,FALSE)","v":14.5},{"$f":"VLOOKUP(selectedsubject,data2003as,$G$4+5,FALSE)","v":84.3},{"$f":"VLOOKUP(selectedsubject,data2003as,$G$4+6,FALSE)","v":879858}]
[null,null,null,null,2002,{"$f":"VLOOKUP(selectedsubject,data2002as,$G$4+0,FALSE)","v":16},{"$f":"VLOOKUP(selectedsubject,data2002as,$G$4+1,FALSE)","v":17},{"$f":"VLOOKUP(selectedsubject,data2002as,$G$4+2,FALSE)","v":19.8},{"$f":"VLOOKUP(selectedsubject,data2002as,$G$4+3,FALSE)","v":18.100000000000001},{"$f":"VLOOKUP(selectedsubject,data2002as,$G$4+4,FALSE)","v":13.7},{"$f":"VLOOKUP(selectedsubject,data2002as,$G$4+5,FALSE)","v":84.5},{"$f":"VLOOKUP(selectedsubject,data2002as,$G$4+6,FALSE)","v":839141}]
[null,null,null,null,2001,{"$f":"VLOOKUP(selectedsubject,data2001as,$G$4+0,FALSE)","v":15.9},{"$f":"VLOOKUP(selectedsubject,data2001as,$G$4+1,FALSE)","v":17.399999999999999},{"$f":"VLOOKUP(selectedsubject,data2001as,$G$4+2,FALSE)","v":20.100000000000001},{"$f":"VLOOKUP(selectedsubject,data2001as,$G$4+3,FALSE)","v":18},{"$f":"VLOOKUP(selectedsubject,data2001as,$G$4+4,FALSE)","v":13.3},{"$f":"VLOOKUP(selectedsubject,data2001as,$G$4+5,FALSE)","v":84.7},{"$f":"VLOOKUP(selectedsubject,data2001as,$G$4+6,FALSE)","v":772359}]
[null,null,null,null,null,null,null,null,null,null,null,"Source: Key Stage 5 attainment data"]
[null,null,null,null,"1. Covers students aged 16, 17 or 18 at the start of the  academic year, i.e. 31 August."]
[null,null,null,null,"2. 2013 figures are revised. Figures for all other years are final."]
[null,null,null,null,"x Percentages have been suppressed where underlying figures are less than 3."]
[]
[null,null,null,null,"Note: where qualifications taken by a student are in the same subject area and similar in content ‘discounting’ rules have been applied to avoid double counting qualifications. Refer to the Technical Notes section of the SFR."]

{"sheet":"1996data_new","index":2,"n_rows":111,"n_cols":26,"rows_kept":111,"cut":false,"hidden":true,"merged":[]}
[]
[]
[null,null,"Males",null,null,null,null,null,"Females",null,null,null,null,null,"Total",null,null,null,null,null,"total entries",null,null,"total passes"]
[null,null,"A","B","C","D","E","other","A","B","C","D","E","other","A","B","C","D","E","other","Male","Female","Male and Female","Male","Female","Male and Female"]
[null,"Biological Sciences",2260,3179,3344,3296,2750,2926,3739,5097,4997,4446,3661,3703,5999,8276,8341,7742,6411,6629,17755,25643,43398,14829,21940,36769]
[null,"Chemistry",3915,4032,3522,2897,2372,2812,3123,3246,2892,2261,1704,1901,7038,7278,6414,5158,4076,4713,19550,15127,34677,16738,13226,29964]
[null,"Physics",4626,4157,3988,3560,2977,3135,1262,1291,1102,869,674,759,5888,5448,5090,4429,3651,3894,22443,5957,28400,19308,5198,24506]
[null,"Other Science",276,373,521,554,453,480,152,248,331,331,247,228,428,621,852,885,700,708,2657,1537,4194,2177,1309,3486]
[null,"Mathematics",8847,6446,5939,5071,4055,4649,4819,4018,3408,2808,2044,2021,13666,10464,9347,7879,6099,6670,35007,19118,54125,30358,17097,47455]
[null,"Further Mathematics",1689,764,484,337,211,197,575,262,182,100,62,50,2264,1026,666,437,273,247,3682,1231,4913,3485,1181,4666]
[null,"Design and Technology",846,964,1668,1632,1085,994,270,314,450,388,236,139,1116,1278,2118,2020,1321,1133,7189,1797,8986,6195,1658,7853]
[null,"Computer Studies",821,896,1289,1328,1193,1757,70,148,191,272,250,335,891,1044,1480,1600,1443,2092,7284,1266,8550,5527,931,6458]
[null,"ICT",0,0,0,0,0,0,0,0,0,0,0,0,0,0,0,0,0,0,0,0,0,0,0,0]
[null,"Home Economics",7,12,23,18,27,31,237,307,399,394,278,290,244,319,422,412,305,321,118,1905,2023,87,1615,1702]
[null,"Accounting and Finance",120,197,144,176,143,476,72,116,94,106,105,293,192,313,238,282,248,769,1256,786,2042,780,493,1273]
[null,"Business Studies",1000,2102,2922,2847,2159,2246,860,1805,2454,2390,1842,2094,1860,3907,5376,5237,4001,4340,13276,11445,24721,11030,9351,20381]
[null,"Economics",2249,2221,2457,2376,1967,2411,1015,1091,1277,1219,1059,1409,3264,3312,3734,3595,3026,3820,13681,7070,20751,11270,5661,16931]
[null,"Geography",2509,3347,3902,3998,3011,3731,2682,3221,3058,2911,2121,2671,5191,6568,6960,6909,5132,6402,20498,16664,37162,16767,13993,30760]
[null,"Government and Politics",767,1092,1019,921,647,645,585,783,715,611,439,447,1352,1875,1734,1532,1086,1092,5091,3580,8671,4446,3133,7579]
[null,"History",2469,2853,3462,3143,2227,2165,2979,3375,4069,3777,2839,2936,5448,6228,7531,6920,5066,5101,16319,19975,36294,14154,17039,31193]
[null,"Law",267,329,400,509,447,947,477,495,686,723,608,1129,744,824,1086,1232,1055,2076,2899,4118,7017,1952,2989,4941]
[null,"Psychology",354,600,733,729,740,1333,1703,2452,2588,2402,1901,2522,2057,3052,3321,3131,2641,3855,4489,13568,18057,3156,11046,14202]
[null,"Sociology",496,727,760,904,756,1640,1962,2684,2701,2706,2188,3837,2458,3411,3461,3610,2944,5477,5283,16078,21361,3643,12241,15884]
[null,"Other social studies",108,158,164,148,141,216,97,133,151,145,108,214,205,291,315,293,249,430,935,848,1783,719,634,1353]
[null,"Art and Design",2015,2093,2648,2233,1503,1252,3639,3691,4283,3269,1924,1246,5654,5784,6931,5502,3427,2498,11744,18052,29796,10492,16806,27298]
[null,"Drama",185,270,376,405,388,453,701,933,1213,1187,949,837,886,1203,1589,1592,1337,1290,2077,5820,7897,1624,4983,6607]
[null,"English",3492,4524,4690,4386,3081,2256,7224,9699,11249,10724,7062,4157,10716,14223,15939,15110,10143,6413,22429,50115,72544,20173,45958,66131]
[null,"Media/Film/TV Studies",286,467,894,766,367,247,380,709,1162,920,414,229,666,1176,2056,1686,781,476,3027,3814,6841,2780,3585,6365]
[null,"Other Communication Studies",189,317,442,416,348,629,446,890,1123,828,537,641,635,1207,1565,1244,885,1270,2341,4465,6806,1712,3824,5536]
[null,"French",1509,1237,1389,1181,838,705,3169,2759,3165,2707,2065,1994,4678,3996,4554,3888,2903,2699,6859,15859,22718,6154,13865,20019]
[null,"German",741,506,516,449,339,304,1385,1166,1213,1130,843,714,2126,1672,1729,1579,1182,1018,2855,6451,9306,2551,5737,8288]
[null,"Spanish",292,260,236,161,106,114,634,605,542,465,338,342,926,865,778,626,444,456,1169,2926,4095,1055,2584,3639]
[null,"Other modern languages",415,304,235,192,142,210,549,460,395,238,141,154,964,764,630,430,283,364,1498,1937,3435,1288,1783,3071]
[null,"Classical Studies",750,565,522,424,267,242,898,811,793,575,310,252,1648,1376,1315,999,577,494,2770,3639,6409,2528,3387,5915]
[null,"Religious Studies",269,359,400,357,184,178,702,988,1206,991,616,478,971,1347,1606,1348,800,656,1747,4981,6728,1569,4503,6072]
[null,"Music",455,409,443,355,221,156,638,697,803,625,369,231,1093,1106,1246,980,590,387,2039,3363,5402,1883,3132,5015]
[null,"Physical Education",293,659,1208,1537,1157,657,419,602,831,752,552,375,712,1261,2039,2289,1709,1032,5511,3531,9042,4854,3156,8010]
[null,"General Studies",4682,5229,5926,5868,4419,4570,3956,4799,5909,6104,4888,5670,8638,10028,11835,11972,9307,10240,30694,31326,62020,26124,25656,51780]
[null,"All subjects",49199,51648,56666,53174,40721,44764,51419,59895,65632,59374,43374,44298,100618,111543,122298,112548,84095,89062,296172,323992,620164,251408,279694,531102]
[]
[null,"Biological Sciences",12.7,17.899999999999999,18.8,18.600000000000001,15.5,83.5,17755,14.6,19.899999999999999,19.5,17.3,14.3,85.6,25643,13.8,19.100000000000001,19.2,17.8,14.8,84.7,43398]
[null,"Chemistry",20,20.6,18,14.8,12.1,85.6,19550,20.6,21.5,19.100000000000001,14.9,11.3,87.4,15127,20.3,21,18.5,14.9,11.8,86.4,34677]
[null,"Physics",20.6,18.5,17.8,15.9,13.3,86,22443,21.2,21.7,18.5,14.6,11.3,87.3,5957,20.7,19.2,17.899999999999999,15.6,12.9,86.3,28400]
[null,"Other Science",10.4,14,19.600000000000001,20.9,17,81.900000000000006,2657,9.9,16.100000000000001,21.5,21.5,16.100000000000001,85.2,1537,10.199999999999999,14.8,20.3,21.1,16.7,83.1,4194]
[null,"Mathematics",25.3,18.399999999999999,17,14.5,11.6,86.7,35007,25.2,21,17.8,14.7,10.7,89.4,19118,25.2,19.3,17.3,14.6,11.3,87.7,54125]
[null,"Further Mathematics",45.9,20.7,13.1,9.1999999999999993,5.7,94.6,3682,46.7,21.3,14.8,8.1,5,95.9,1231,46.1,20.9,13.6,8.9,5.6,95,4913]
[null,"Design and Technology",11.8,13.4,23.2,22.7,15.1,86.2,7189,15,17.5,25,21.6,13.1,92.3,1797,12.4,14.2,23.6,22.5,14.7,87.4,8986]
[null,"Computer Studies",11.3,12.3,17.7,18.2,16.399999999999999,75.900000000000006,7284,5.5,11.7,15.1,21.5,19.7,73.5,1266,10.4,12.2,17.3,18.7,16.899999999999999,75.5,8550]
[null,"ICT",0,0,0,0,0,0,0,0,0,0,0,0,0,0,0,0,0,0,0,0,0]
[null,"Home Economics",5.9,10.199999999999999,19.5,15.3,22.9,73.7,118,12.4,16.100000000000001,20.9,20.7,14.6,84.8,1905,12.1,15.8,20.9,20.399999999999999,15.1,84.1,2023]
[null,"Accounting and Finance",9.6,15.7,11.5,14,11.4,62.1,1256,9.1999999999999993,14.8,12,13.5,13.4,62.7,786,9.4,15.3,11.7,13.8,12.1,62.3,2042]
[null,"Business Studies",7.5,15.8,22,21.4,16.3,83.1,13276,7.5,15.8,21.4,20.9,16.100000000000001,81.7,11445,7.5,15.8,21.7,21.2,16.2,82.4,24721]
[null,"Economics",16.399999999999999,16.2,18,17.399999999999999,14.4,82.4,13681,14.4,15.4,18.100000000000001,17.2,15,80.099999999999994,7070,15.7,16,18,17.3,14.6,81.599999999999994,20751]
[null,"Geography",12.2,16.3,19,19.5,14.7,81.8,20498,16.100000000000001,19.3,18.399999999999999,17.5,12.7,84,16664,14,17.7,18.7,18.600000000000001,13.8,82.8,37162]
[null,"Government and Politics",15.1,21.4,20,18.100000000000001,12.7,87.3,5091,16.3,21.9,20,17.100000000000001,12.3,87.5,3580,15.6,21.6,20,17.7,12.5,87.4,8671]
[null,"History",15.1,17.5,21.2,19.3,13.6,86.7,16319,14.9,16.899999999999999,20.399999999999999,18.899999999999999,14.2,85.3,19975,15,17.2,20.7,19.100000000000001,14,85.9,36294]
[null,"Law",9.1999999999999993,11.3,13.8,17.600000000000001,15.4,67.3,2899,11.6,12,16.7,17.600000000000001,14.8,72.599999999999994,4118,10.6,11.7,15.5,17.600000000000001,15,70.400000000000006,7017]
[null,"Psychology",7.9,13.4,16.3,16.2,16.5,70.3,4489,12.6,18.100000000000001,19.100000000000001,17.7,14,81.400000000000006,13568,11.4,16.899999999999999,18.399999999999999,17.3,14.6,78.7,18057]
[null,"Sociology",9.4,13.8,14.4,17.100000000000001,14.3,69,5283,12.2,16.7,16.8,16.8,13.6,76.099999999999994,16078,11.5,16,16.2,16.899999999999999,13.8,74.400000000000006,21361]
[null,"Other social studies",11.6,16.899999999999999,17.5,15.8,15.1,76.900000000000006,935,11.4,15.7,17.8,17.100000000000001,12.7,74.8,848,11.5,16.3,17.7,16.399999999999999,14,75.900000000000006,1783]
[null,"Art and Design",17.2,17.8,22.5,19,12.8,89.3,11744,20.2,20.399999999999999,23.7,18.100000000000001,10.7,93.1,18052,19,19.399999999999999,23.3,18.5,11.5,91.6,29796]
[null,"Drama",8.9,13,18.100000000000001,19.5,18.7,78.2,2077,12,16,20.8,20.399999999999999,16.3,85.6,5820,11.2,15.2,20.100000000000001,20.2,16.899999999999999,83.7,7897]
[null,"English",15.6,20.2,20.9,19.600000000000001,13.7,89.9,22429,14.4,19.399999999999999,22.4,21.4,14.1,91.7,50115,14.8,19.600000000000001,22,20.8,14,91.2,72544]
[null,"Media/Film/TV Studies",9.4,15.4,29.5,25.3,12.1,91.8,3027,10,18.600000000000001,30.5,24.1,10.9,94,3814,9.6999999999999993,17.2,30.1,24.6,11.4,93,6841]
[null,"Other Communication Studies",8.1,13.5,18.899999999999999,17.8,14.9,73.099999999999994,2341,10,19.899999999999999,25.2,18.5,12,85.6,4465,9.3000000000000007,17.7,23,18.3,13,81.3,6806]
[null,"French",22,18,20.3,17.2,12.2,89.7,6859,20,17.399999999999999,20,17.100000000000001,13,87.4,15859,20.6,17.600000000000001,20,17.100000000000001,12.8,88.1,22718]
[null,"German",26,17.7,18.100000000000001,15.7,11.9,89.4,2855,21.5,18.100000000000001,18.8,17.5,13.1,88.9,6451,22.8,18,18.600000000000001,17,12.7,89.1,9306]
[null,"Spanish",25,22.2,20.2,13.8,9.1,90.2,1169,21.7,20.7,18.5,15.9,11.6,88.3,2926,22.6,21.1,19,15.3,10.8,88.9,4095]
[null,"Other modern languages",27.7,20.3,15.7,12.8,9.5,86,1498,28.3,23.7,20.399999999999999,12.3,7.3,92,1937,28.1,22.2,18.3,12.5,8.1999999999999993,89.4,3435]
[null,"Classical Studies",27.1,20.399999999999999,18.8,15.3,9.6,91.3,2770,24.7,22.3,21.8,15.8,8.5,93.1,3639,25.7,21.5,20.5,15.6,9,92.3,6409]
[null,"Religious Studies",15.4,20.5,22.9,20.399999999999999,10.5,89.8,1747,14.1,19.8,24.2,19.899999999999999,12.4,90.4,4981,14.4,20,23.9,20,11.9,90.2,6728]
[null,"Music",22.3,20.100000000000001,21.7,17.399999999999999,10.8,92.3,2039,19,20.7,23.9,18.600000000000001,11,93.1,3363,20.2,20.5,23.1,18.100000000000001,10.9,92.8,5402]
[null,"Physical Education",5.3,12,21.9,27.9,21,88.1,5511,11.9,17,23.5,21.3,15.6,89.4,3531,7.9,13.9,22.6,25.3,18.899999999999999,88.6,9042]
[null,"General Studies",15.3,17,19.3,19.100000000000001,14.4,85.1,30694,12.6,15.3,18.899999999999999,19.5,15.6,81.900000000000006,31326,13.9,16.2,19.100000000000001,19.3,15,83.5,62020]
[null,"All subjects",16.600000000000001,17.399999999999999,19.100000000000001,18,13.7,84.9,296172,15.9,18.5,20.3,18.3,13.4,86.3,323992,16.2,18,19.7,18.100000000000001,13.6,85.6,620164]
[]
[null,"Biological Sciences",{"$f":"ROUND(C41,1)","v":12.7},{"$f":"ROUND(D41,1)","v":17.899999999999999},18.8,18.600000000000001,15.5,83.5,{"$f":"ROUND(I41,0)","v":17755},14.6,19.899999999999999,19.5,17.3,14.3,85.6,{"$f":"ROUND(P41,0)","v":25643},13.8,19.100000000000001,19.2,17.8,14.8,84.7,{"$f":"ROUND(W41,0)","v":43398}]
[null,"Chemistry",{"$f":"ROUND(C42,1)","v":20},20.6,18,14.8,12.1,85.6,{"$f":"ROUND(I42,0)","v":19550},20.6,21.5,19.100000000000001,14.9,11.3,87.4,{"$f":"ROUND(P42,0)","v":15127},20.3,21,18.5,14.9,11.8,86.4,{"$f":"ROUND(W42,0)","v":34677}]
[null,"Physics",20.6,18.5,17.8,15.9,13.3,86,22443,21.2,21.7,18.5,14.6,11.3,87.3,5957,20.7,19.2,17.899999999999999,15.6,12.9,86.3,28400]
[null,"Other Science",10.4,14,19.600000000000001,20.9,17,81.900000000000006,2657,9.9,16.100000000000001,21.5,21.5,16.100000000000001,85.2,1537,10.199999999999999,14.8,20.3,21.1,16.7,83.1,4194]
[null,"Mathematics",25.3,18.399999999999999,17,14.5,11.6,86.7,35007,25.2,21,17.8,14.7,10.7,89.4,19118,25.2,19.3,17.3,14.6,11.3,87.7,54125]
[null,"Further Mathematics",45.9,20.7,13.1,9.1999999999999993,5.7,94.6,3682,46.7,21.3,14.8,8.1,5,95.9,1231,46.1,20.9,13.6,8.9,5.6,95,4913]
[null,"Design and Technology",11.8,13.4,23.2,22.7,15.1,86.2,7189,15,17.5,25,21.6,13.1,92.3,1797,12.4,14.2,23.6,22.5,14.7,87.4,8986]
[null,"Computer Studies",11.3,12.3,17.7,18.2,16.399999999999999,75.900000000000006,7284,5.5,11.7,15.1,21.5,19.7,73.5,1266,10.4,12.2,17.3,18.7,16.899999999999999,75.5,8550]
[null,"ICT",0,0,0,0,0,0,0,0,0,0,0,0,0,0,0,0,0,0,0,0,0]
[null,"Home Economics",5.9,10.199999999999999,19.5,15.3,22.9,73.7,118,12.4,16.100000000000001,20.9,20.7,14.6,84.8,1905,12.1,15.8,20.9,20.399999999999999,15.1,84.1,2023]
[null,"Accounting and Finance",9.6,15.7,11.5,14,11.4,62.1,1256,9.1999999999999993,14.8,12,13.5,13.4,62.7,786,9.4,15.3,11.7,13.8,12.1,62.3,2042]
[null,"Business Studies",7.5,15.8,22,21.4,16.3,83.1,13276,7.5,15.8,21.4,20.9,16.100000000000001,81.7,11445,7.5,15.8,21.7,21.2,16.2,82.4,24721]
[null,"Economics",16.399999999999999,16.2,18,17.399999999999999,14.4,82.4,13681,14.4,15.4,18.100000000000001,17.2,15,80.099999999999994,7070,15.7,16,18,17.3,14.6,81.599999999999994,20751]
[null,"Geography",12.2,16.3,19,19.5,14.7,81.8,20498,16.100000000000001,19.3,18.399999999999999,17.5,12.7,84,16664,14,17.7,18.7,18.600000000000001,13.8,82.8,37162]
[null,"Government and Politics",15.1,21.4,20,18.100000000000001,12.7,87.3,5091,16.3,21.9,20,17.100000000000001,12.3,87.5,3580,15.6,21.6,20,17.7,12.5,87.4,8671]
[null,"History",15.1,17.5,21.2,19.3,13.6,86.7,16319,14.9,16.899999999999999,20.399999999999999,18.899999999999999,14.2,85.3,19975,15,17.2,20.7,19.100000000000001,14,85.9,36294]
[null,"Law",9.1999999999999993,11.3,13.8,17.600000000000001,15.4,67.3,2899,{"$f":"ROUND(J57,1)","v":11.6},12,16.7,17.600000000000001,14.8,72.599999999999994,4118,{"$f":"ROUND(Q57,1)","v":10.6},11.7,15.5,17.600000000000001,15,70.400000000000006,7017]
[null,"Psychology",{"$f":"ROUND(C58,1)","v":7.9},13.4,16.3,16.2,16.5,70.3,4489,12.6,18.100000000000001,19.100000000000001,17.7,14,81.400000000000006,13568,11.4,16.899999999999999,18.399999999999999,17.3,14.6,78.7,18057]
[null,"Sociology",9.4,13.8,14.4,17.100000000000001,14.3,69,5283,12.2,16.7,16.8,16.8,13.6,76.099999999999994,16078,11.5,16,16.2,16.899999999999999,13.8,74.400000000000006,21361]
[null,"Other social studies",11.6,16.899999999999999,17.5,15.8,15.1,76.900000000000006,935,11.4,15.7,17.8,17.100000000000001,12.7,74.8,848,11.5,16.3,17.7,16.399999999999999,14,75.900000000000006,1783]
[null,"Art and Design",17.2,17.8,22.5,19,12.8,89.3,11744,20.2,20.399999999999999,23.7,18.100000000000001,10.7,93.1,18052,19,19.399999999999999,23.3,18.5,11.5,91.6,29796]
[null,"Drama",8.9,13,18.100000000000001,19.5,18.7,78.2,2077,12,16,20.8,20.399999999999999,16.3,85.6,5820,11.2,15.2,20.100000000000001,20.2,16.899999999999999,83.7,7897]
[null,"English",15.6,20.2,20.9,19.600000000000001,13.7,89.9,22429,14.4,19.399999999999999,22.4,21.4,14.1,91.7,50115,14.8,19.600000000000001,22,20.8,14,91.2,72544]
[null,"Media/Film/TV Studies",9.4,15.4,29.5,25.3,12.1,91.8,3027,10,18.600000000000001,30.5,24.1,10.9,94,3814,9.6999999999999993,17.2,30.1,24.6,11.4,93,6841]
[null,"Other Communication Studies",8.1,13.5,18.899999999999999,17.8,14.9,73.099999999999994,2341,10,19.899999999999999,25.2,18.5,12,85.6,4465,9.3000000000000007,17.7,23,18.3,13,81.3,6806]
[null,"French",22,18,20.3,17.2,12.2,89.7,6859,20,17.399999999999999,20,17.100000000000001,13,87.4,15859,20.6,17.600000000000001,20,17.100000000000001,12.8,88.1,22718]
[null,"German",26,17.7,18.100000000000001,15.7,11.9,89.4,2855,21.5,18.100000000000001,18.8,17.5,13.1,88.9,6451,22.8,18,18.600000000000001,17,12.7,89.1,9306]
[null,"Spanish",25,22.2,20.2,13.8,9.1,90.2,1169,21.7,20.7,18.5,15.9,11.6,88.3,2926,22.6,21.1,19,15.3,10.8,88.9,4095]
[null,"Other modern languages",27.7,20.3,15.7,12.8,9.5,86,1498,28.3,23.7,20.399999999999999,12.3,7.3,92,1937,28.1,22.2,18.3,12.5,8.1999999999999993,89.4,3435]
[null,"Classical Studies",27.1,20.399999999999999,18.8,15.3,9.6,91.3,2770,24.7,22.3,21.8,15.8,8.5,93.1,3639,25.7,21.5,20.5,15.6,9,92.3,6409]
[null,"Religious Studies",15.4,20.5,22.9,20.399999999999999,10.5,89.8,1747,14.1,19.8,24.2,19.899999999999999,12.4,90.4,4981,14.4,20,23.9,20,11.9,90.2,6728]
[null,"Music",22.3,20.100000000000001,21.7,17.399999999999999,10.8,92.3,2039,19,20.7,23.9,18.600000000000001,11,93.1,3363,20.2,20.5,23.1,18.100000000000001,10.9,92.8,5402]
[null,"Physical Education",5.3,12,21.9,27.9,21,88.1,5511,{"$f":"ROUND(J73,1)","v":11.9},17,23.5,21.3,15.6,89.4,3531,{"$f":"ROUND(Q73,1)","v":7.9},13.9,22.6,25.3,18.899999999999999,88.6,9042]
[null,"General Studies",{"$f":"ROUND(C74,1)","v":15.3},17,19.3,19.100000000000001,14.4,85.1,30694,12.6,15.3,18.899999999999999,19.5,15.6,81.900000000000006,31326,13.9,16.2,19.100000000000001,19.3,15,83.5,62020]
[null,"All subjects",16.600000000000001,17.399999999999999,19.100000000000001,18,13.7,84.9,296172,15.9,18.5,20.3,18.3,13.4,86.3,323992,16.2,18,19.7,18.100000000000001,13.6,85.6,620164]

{"sheet":"1997data_new","index":3,"n_rows":111,"n_cols":26,"rows_kept":111,"cut":false,"hidden":true,"merged":[]}
[]
[]
[null,null,"Males",null,null,null,null,null,"Females",null,null,null,null,null,"Total",null,null,null,null,null,"total entries",null,null,"total passes"]
[null,null,"A","B","C","D","E","other","A","B","C","D","E","other","A","B","C","D","E","other","Male","Female","Male and Female","Male","Female","Male and Female"]
[null,"Biological Sciences",2657,3644,3653,3572,3007,2927,4362,5703,5520,4928,3999,3626,7019,9347,9173,8500,7006,6553,19460,28138,47598,16533,24512,41045]
[null,"Chemistry",4296,4217,3620,2998,2453,2697,3488,3510,3065,2395,1887,1803,7784,7727,6685,5393,4340,4500,20281,16148,36429,17584,14345,31929]
[null,"Physics",4849,4747,4103,3582,2650,2699,1365,1465,1149,913,626,629,6214,6212,5252,4495,3276,3328,22630,6147,28777,19931,5518,25449]
[null,"Other Science",292,371,528,602,448,439,174,273,313,372,264,225,466,644,841,974,712,664,2680,1621,4301,2241,1396,3637]
[null,"Mathematics",9297,6898,6032,5245,3977,4565,5064,4264,3695,2960,2058,1995,14361,11162,9727,8205,6035,6560,36014,20036,56050,31449,18041,49490]
[null,"Further Mathematics",1794,776,505,310,208,163,567,267,201,108,61,39,2361,1043,706,418,269,202,3756,1243,4999,3593,1204,4797]
[null,"Design and Technology",888,1035,1661,1647,1098,818,306,405,656,500,284,195,1194,1440,2317,2147,1382,1013,7147,2346,9493,6329,2151,8480]
[null,"Computer Studies",866,1076,1519,1671,1452,1991,94,183,245,328,300,393,960,1259,1764,1999,1752,2384,8575,1543,10118,6584,1150,7734]
[null,"ICT",0,0,0,0,0,0,0,0,0,0,0,0,0,0,0,0,0,0,0,0,0,0,0,0]
[null,"Home Economics",2,5,13,18,18,31,195,269,347,384,272,257,197,274,360,402,290,288,87,1724,1811,56,1467,1523]
[null,"Accounting and Finance",111,162,145,154,176,436,64,109,114,101,95,256,175,271,259,255,271,692,1184,739,1923,748,483,1231]
[null,"Business Studies",1047,2840,3523,3192,2204,2046,1005,2537,2961,2599,1688,1671,2052,5377,6484,5791,3892,3717,14852,12461,27313,12806,10790,23596]
[null,"Economics",2055,2174,2370,2301,1730,2042,1070,1146,1234,1190,955,1117,3125,3320,3604,3491,2685,3159,12672,6712,19384,10630,5595,16225]
[null,"Geography",2121,4144,4844,4266,3101,2388,2397,4063,4036,3050,2017,1552,4518,8207,8880,7316,5118,3940,20864,17115,37979,18476,15563,34039]
[null,"Government and Politics",757,1188,1129,849,507,442,516,870,741,642,350,341,1273,2058,1870,1491,857,783,4872,3460,8332,4430,3119,7549]
[null,"History",2533,3177,3437,2967,2105,2047,2837,3669,4069,3760,2691,2786,5370,6846,7506,6727,4796,4833,16266,19812,36078,14219,17026,31245]
[null,"Law",347,340,515,481,430,887,481,551,724,734,664,1099,828,891,1239,1215,1094,1986,3000,4253,7253,2113,3154,5267]
[null,"Psychology",408,704,987,961,900,1510,2060,3294,3322,3068,2218,2830,2468,3998,4309,4029,3118,4340,5470,16792,22262,3960,13962,17922]
[null,"Sociology",495,783,809,892,823,1559,2148,3025,2839,2776,2452,3697,2643,3808,3648,3668,3275,5256,5361,16937,22298,3802,13240,17042]
[null,"Other social studies",104,144,144,117,109,178,135,127,154,144,117,184,239,271,298,261,226,362,796,861,1657,618,677,1295]
[null,"Art and Design",2203,2247,2809,2558,1506,1195,4058,4030,4625,3520,1822,1169,6261,6277,7434,6078,3328,2364,12518,19224,31742,11323,18055,29378]
[null,"Drama",233,315,445,485,401,453,818,1015,1386,1342,1048,813,1051,1330,1831,1827,1449,1266,2332,6422,8754,1879,5609,7488]
[null,"English",3761,4704,5600,5238,3427,2218,7979,10641,12920,12118,7903,4150,11740,15345,18520,17356,11330,6368,24948,55711,80659,22730,51561,74291]
[null,"Media/Film/TV Studies",369,622,1118,963,542,313,565,922,1449,1249,557,285,934,1544,2567,2212,1099,598,3927,5027,8954,3614,4742,8356]
[null,"Other Communication Studies",199,391,525,499,355,584,539,1075,1341,932,534,599,738,1466,1866,1431,889,1183,2553,5020,7573,1969,4421,6390]
[null,"French",1379,1291,1236,1080,772,655,2937,3011,3002,2540,1878,1583,4316,4302,4238,3620,2650,2238,6413,14951,21364,5758,13368,19126]
[null,"German",769,520,495,449,329,283,1330,1182,1157,1077,804,589,2099,1702,1652,1526,1133,872,2845,6139,8984,2562,5550,8112]
[null,"Spanish",350,306,231,184,106,91,685,610,593,531,326,315,1035,916,824,715,432,406,1268,3060,4328,1177,2745,3922]
[null,"Other modern languages",423,329,243,159,100,194,594,509,355,250,132,185,1017,838,598,409,232,379,1448,2025,3473,1254,1840,3094]
[null,"Classical Studies",672,525,479,421,250,202,882,824,807,515,283,235,1554,1349,1286,936,533,437,2549,3546,6095,2347,3311,5658]
[null,"Religious Studies",332,347,429,356,200,182,703,924,1267,1096,652,468,1035,1271,1696,1452,852,650,1846,5110,6956,1664,4642,6306]
[null,"Music",488,459,502,418,260,206,654,728,837,660,357,219,1142,1187,1339,1078,617,425,2333,3455,5788,2127,3236,5363]
[null,"Physical Education",403,894,1573,1977,1496,905,555,762,992,1031,656,452,958,1656,2565,3008,2152,1357,7248,4448,11696,6343,3996,10339]
[null,"General Studies",5328,6136,6690,6571,5108,5222,4403,5570,6676,7328,6100,6610,9731,11706,13366,13899,11208,11832,35055,36687,71742,29833,30077,59910]
[null,"All subjects",51828,57511,61912,57183,42248,42568,55030,67533,72792,65141,46050,42367,106858,125044,134704,122324,88298,84935,313250,348913,662163,270682,306546,577228]
[]
[null,"Biological Sciences",13.7,18.7,18.8,18.399999999999999,15.5,85,19460,15.5,20.3,19.600000000000001,17.5,14.2,87.1,28138,14.7,19.600000000000001,19.3,17.899999999999999,14.7,86.2,47598]
[null,"Chemistry",21.2,20.8,17.8,14.8,12.1,86.7,20281,21.6,21.7,19,14.8,11.7,88.8,16148,21.4,21.2,18.399999999999999,14.8,11.9,87.6,36429]
[null,"Physics",21.4,21,18.100000000000001,15.8,11.7,88.1,22630,22.2,23.8,18.7,14.9,10.199999999999999,89.8,6147,21.6,21.6,18.3,15.6,11.4,88.4,28777]
[null,"Other Science",10.9,13.8,19.7,22.5,16.7,83.6,2680,10.7,16.8,19.3,22.9,16.3,86.1,1621,10.8,15,19.600000000000001,22.6,16.600000000000001,84.6,4301]
[null,"Mathematics",25.8,19.2,16.7,14.6,11,87.3,36014,25.3,21.3,18.399999999999999,14.8,10.3,90,20036,25.6,19.899999999999999,17.399999999999999,14.6,10.8,88.3,56050]
[null,"Further Mathematics",47.8,20.7,13.4,8.3000000000000007,5.5,95.7,3756,45.6,21.5,16.2,8.6999999999999993,4.9000000000000004,96.9,1243,47.2,20.9,14.1,8.4,5.4,96,4999]
[null,"Design and Technology",12.4,14.5,23.2,23,15.4,88.6,7147,13,17.3,28,21.3,12.1,91.7,2346,12.6,15.2,24.4,22.6,14.6,89.3,9493]
[null,"Computer Studies",10.1,12.5,17.7,19.5,16.899999999999999,76.8,8575,6.1,11.9,15.9,21.3,19.399999999999999,74.5,1543,9.5,12.4,17.399999999999999,19.8,17.3,76.400000000000006,10118]
[null,"ICT",0,0,0,0,0,0,0,0,0,0,0,0,0,0,0,0,0,0,0,0,0]
[null,"Home Economics","x",5.7,14.9,20.7,20.7,64.400000000000006,87,11.3,15.6,20.100000000000001,22.3,15.8,85.1,1724,10.9,15.1,19.899999999999999,22.2,16,84.1,1811]
[null,"Accounting and Finance",9.4,13.7,12.2,13,14.9,63.2,1184,8.6999999999999993,14.7,15.4,13.7,12.9,65.400000000000006,739,9.1,14.1,13.5,13.3,14.1,64,1923]
[null,"Business Studies",7,19.100000000000001,23.7,21.5,14.8,86.2,14852,8.1,20.399999999999999,23.8,20.9,13.5,86.6,12461,7.5,19.7,23.7,21.2,14.2,86.4,27313]
[null,"Economics",16.2,17.2,18.7,18.2,13.7,83.9,12672,15.9,17.100000000000001,18.399999999999999,17.7,14.2,83.4,6712,16.100000000000001,17.100000000000001,18.600000000000001,18,13.9,83.7,19384]
[null,"Geography",10.199999999999999,19.899999999999999,23.2,20.399999999999999,14.9,88.6,20864,14,23.7,23.6,17.8,11.8,90.9,17115,11.9,21.6,23.4,19.3,13.5,89.6,37979]
[null,"Government and Politics",15.5,24.4,23.2,17.399999999999999,10.4,90.9,4872,14.9,25.1,21.4,18.600000000000001,10.1,90.1,3460,15.3,24.7,22.4,17.899999999999999,10.3,90.6,8332]
[null,"History",15.6,19.5,21.1,18.2,12.9,87.4,16266,14.3,18.5,20.5,19,13.6,85.9,19812,14.9,19,20.8,18.600000000000001,13.3,86.6,36078]
[null,"Law",11.6,11.3,17.2,16,14.3,70.400000000000006,3000,11.3,13,17,17.3,15.6,74.2,4253,11.4,12.3,17.100000000000001,16.8,15.1,72.599999999999994,7253]
[null,"Psychology",7.5,12.9,18,17.600000000000001,16.5,72.400000000000006,5470,12.3,19.600000000000001,19.8,18.3,13.2,83.1,16792,11.1,18,19.399999999999999,18.100000000000001,14,80.5,22262]
[null,"Sociology",9.1999999999999993,14.6,15.1,16.600000000000001,15.4,70.900000000000006,5361,12.7,17.899999999999999,16.8,16.399999999999999,14.5,78.2,16937,11.9,17.100000000000001,16.399999999999999,16.399999999999999,14.7,76.400000000000006,22298]
[null,"Other social studies",13.1,18.100000000000001,18.100000000000001,14.7,13.7,77.599999999999994,796,15.7,14.8,17.899999999999999,16.7,13.6,78.599999999999994,861,14.4,16.399999999999999,18,15.8,13.6,78.2,1657]
[null,"Art and Design",17.600000000000001,18,22.4,20.399999999999999,12,90.5,12518,21.1,21,24.1,18.3,9.5,93.9,19224,19.7,19.8,23.4,19.100000000000001,10.5,92.6,31742]
[null,"Drama",10,13.5,19.100000000000001,20.8,17.2,80.599999999999994,2332,12.7,15.8,21.6,20.9,16.3,87.3,6422,12,15.2,20.9,20.9,16.600000000000001,85.5,8754]
[null,"English",15.1,18.899999999999999,22.4,21,13.7,91.1,24948,14.3,19.100000000000001,23.2,21.8,14.2,92.6,55711,14.6,19,23,21.5,14,92.1,80659]
[null,"Media/Film/TV Studies",9.4,15.8,28.5,24.5,13.8,92,3927,11.2,18.3,28.8,24.8,11.1,94.3,5027,10.4,17.2,28.7,24.7,12.3,93.3,8954]
[null,"Other Communication Studies",7.8,15.3,20.6,19.5,13.9,77.099999999999994,2553,10.7,21.4,26.7,18.600000000000001,10.6,88.1,5020,9.6999999999999993,19.399999999999999,24.6,18.899999999999999,11.7,84.4,7573]
[null,"French",21.5,20.100000000000001,19.3,16.8,12,89.8,6413,19.600000000000001,20.100000000000001,20.100000000000001,17,12.6,89.4,14951,20.2,20.100000000000001,19.8,16.899999999999999,12.4,89.5,21364]
[null,"German",27,18.3,17.399999999999999,15.8,11.6,90.1,2845,21.7,19.3,18.8,17.5,13.1,90.4,6139,23.4,18.899999999999999,18.399999999999999,17,12.6,90.3,8984]
[null,"Spanish",27.6,24.1,18.2,14.5,8.4,92.8,1268,22.4,19.899999999999999,19.399999999999999,17.399999999999999,10.7,89.7,3060,23.9,21.2,19,16.5,10,90.6,4328]
[null,"Other modern languages",29.2,22.7,16.8,11,6.9,86.6,1448,29.3,25.1,17.5,12.3,6.5,90.9,2025,29.3,24.1,17.2,11.8,6.7,89.1,3473]
[null,"Classical Studies",26.4,20.6,18.8,16.5,9.8000000000000007,92.1,2549,24.9,23.2,22.8,14.5,8,93.4,3546,25.5,22.1,21.1,15.4,8.6999999999999993,92.8,6095]
[null,"Religious Studies",18,18.8,23.2,19.3,10.8,90.1,1846,13.8,18.100000000000001,24.8,21.4,12.8,90.8,5110,14.9,18.3,24.4,20.9,12.2,90.7,6956]
[null,"Music",20.9,19.7,21.5,17.899999999999999,11.1,91.2,2333,18.899999999999999,21.1,24.2,19.100000000000001,10.3,93.7,3455,19.7,20.5,23.1,18.600000000000001,10.7,92.7,5788]
[null,"Physical Education",5.6,12.3,21.7,27.3,20.6,87.5,7248,12.5,17.100000000000001,22.3,23.2,14.7,89.8,4448,8.1999999999999993,14.2,21.9,25.7,18.399999999999999,88.4,11696]
[null,"General Studies",15.2,17.5,19.100000000000001,18.7,14.6,85.1,35055,12,15.2,18.2,20,16.600000000000001,82,36687,13.6,16.3,18.600000000000001,19.399999999999999,15.6,83.5,71742]
[null,"All subjects",16.5,18.399999999999999,19.8,18.3,13.5,86.4,313250,15.8,19.399999999999999,20.9,18.7,13.2,87.9,348913,16.100000000000001,18.899999999999999,20.3,18.5,13.3,87.2,662163]
[]
[null,"Biological Sciences",{"$f":"ROUND(C41,1)","v":13.7},{"$f":"ROUND(D41,1)","v":18.7},18.8,18.399999999999999,15.5,85,{"$f":"ROUND(I41,0)","v":19460},15.5,20.3,19.600000000000001,17.5,14.2,87.1,{"$f":"ROUND(P41,0)","v":28138},14.7,19.600000000000001,19.3,17.899999999999999,14.7,86.2,{"$f":"ROUND(W41,0)","v":47598}]
[null,"Chemistry",{"$f":"ROUND(C42,1)","v":21.2},20.8,17.8,14.8,12.1,86.7,{"$f":"ROUND(I42,0)","v":20281},21.6,21.7,19,14.8,11.7,88.8,{"$f":"ROUND(P42,0)","v":16148},21.4,21.2,18.399999999999999,14.8,11.9,87.6,{"$f":"ROUND(W42,0)","v":36429}]
[null,"Physics",21.4,21,18.100000000000001,15.8,11.7,88.1,22630,22.2,23.8,18.7,14.9,10.199999999999999,89.8,6147,21.6,21.6,18.3,15.6,11.4,88.4,28777]
[null,"Other Science",10.9,13.8,19.7,22.5,16.7,83.6,2680,10.7,16.8,19.3,22.9,16.3,86.1,1621,10.8,15,19.600000000000001,22.6,16.600000000000001,84.6,4301]
[null,"Mathematics",25.8,19.2,16.7,14.6,11,87.3,36014,25.3,21.3,18.399999999999999,14.8,10.3,90,20036,25.6,19.899999999999999,17.399999999999999,14.6,10.8,88.3,56050]
[null,"Further Mathematics",47.8,20.7,13.4,8.3000000000000007,5.5,95.7,3756,45.6,21.5,16.2,8.6999999999999993,4.9000000000000004,96.9,1243,47.2,20.9,14.1,8.4,5.4,96,4999]
[null,"Design and Technology",12.4,14.5,23.2,23,15.4,88.6,7147,13,17.3,28,21.3,12.1,91.7,2346,12.6,15.2,24.4,22.6,14.6,89.3,9493]
[null,"Computer Studies",10.1,12.5,17.7,19.5,16.899999999999999,76.8,8575,6.1,11.9,15.9,21.3,19.399999999999999,74.5,1543,9.5,12.4,17.399999999999999,19.8,17.3,76.400000000000006,10118]
[null,"ICT",0,0,0,0,0,0,0,0,0,0,0,0,0,0,0,0,0,0,0,0,0]
[null,"Home Economics",{"$error":"#VALUE!"},5.7,14.9,20.7,20.7,64.400000000000006,87,11.3,15.6,20.100000000000001,22.3,15.8,85.1,1724,10.9,15.1,19.899999999999999,22.2,16,84.1,1811]
[null,"Accounting and Finance",9.4,13.7,12.2,13,14.9,63.2,1184,8.6999999999999993,14.7,15.4,13.7,12.9,65.400000000000006,739,9.1,14.1,13.5,13.3,14.1,64,1923]
[null,"Business Studies",7,19.100000000000001,23.7,21.5,14.8,86.2,14852,8.1,20.399999999999999,23.8,20.9,13.5,86.6,12461,7.5,19.7,23.7,21.2,14.2,86.4,27313]
[null,"Economics",16.2,17.2,18.7,18.2,13.7,83.9,12672,15.9,17.100000000000001,18.399999999999999,17.7,14.2,83.4,6712,16.100000000000001,17.100000000000001,18.600000000000001,18,13.9,83.7,19384]
[null,"Geography",10.199999999999999,19.899999999999999,23.2,20.399999999999999,14.9,88.6,20864,14,23.7,23.6,17.8,11.8,90.9,17115,11.9,21.6,23.4,19.3,13.5,89.6,37979]
[null,"Government and Politics",15.5,24.4,23.2,17.399999999999999,10.4,90.9,4872,14.9,25.1,21.4,18.600000000000001,10.1,90.1,3460,15.3,24.7,22.4,17.899999999999999,10.3,90.6,8332]
[null,"History",15.6,19.5,21.1,18.2,12.9,87.4,16266,14.3,18.5,20.5,19,13.6,85.9,19812,14.9,19,20.8,18.600000000000001,13.3,86.6,36078]
[null,"Law",11.6,11.3,17.2,16,14.3,70.400000000000006,3000,{"$f":"ROUND(J57,1)","v":11.3},13,17,17.3,15.6,74.2,4253,{"$f":"ROUND(Q57,1)","v":11.4},12.3,17.100000000000001,16.8,15.1,72.599999999999994,7253]
[null,"Psychology",{"$f":"ROUND(C58,1)","v":7.5},12.9,18,17.600000000000001,16.5,72.400000000000006,5470,12.3,19.600000000000001,19.8,18.3,13.2,83.1,16792,11.1,18,19.399999999999999,18.100000000000001,14,80.5,22262]
[null,"Sociology",9.1999999999999993,14.6,15.1,16.600000000000001,15.4,70.900000000000006,5361,12.7,17.899999999999999,16.8,16.399999999999999,14.5,78.2,16937,11.9,17.100000000000001,16.399999999999999,16.399999999999999,14.7,76.400000000000006,22298]
[null,"Other social studies",13.1,18.100000000000001,18.100000000000001,14.7,13.7,77.599999999999994,796,15.7,14.8,17.899999999999999,16.7,13.6,78.599999999999994,861,14.4,16.399999999999999,18,15.8,13.6,78.2,1657]
[null,"Art and Design",17.600000000000001,18,22.4,20.399999999999999,12,90.5,12518,21.1,21,24.1,18.3,9.5,93.9,19224,19.7,19.8,23.4,19.100000000000001,10.5,92.6,31742]
[null,"Drama",10,13.5,19.100000000000001,20.8,17.2,80.599999999999994,2332,12.7,15.8,21.6,20.9,16.3,87.3,6422,12,15.2,20.9,20.9,16.600000000000001,85.5,8754]
[null,"English",15.1,18.899999999999999,22.4,21,13.7,91.1,24948,14.3,19.100000000000001,23.2,21.8,14.2,92.6,55711,14.6,19,23,21.5,14,92.1,80659]
[null,"Media/Film/TV Studies",9.4,15.8,28.5,24.5,13.8,92,3927,11.2,18.3,28.8,24.8,11.1,94.3,5027,10.4,17.2,28.7,24.7,12.3,93.3,8954]
[null,"Other Communication Studies",7.8,15.3,20.6,19.5,13.9,77.099999999999994,2553,10.7,21.4,26.7,18.600000000000001,10.6,88.1,5020,9.6999999999999993,19.399999999999999,24.6,18.899999999999999,11.7,84.4,7573]
[null,"French",21.5,20.100000000000001,19.3,16.8,12,89.8,6413,19.600000000000001,20.100000000000001,20.100000000000001,17,12.6,89.4,14951,20.2,20.100000000000001,19.8,16.899999999999999,12.4,89.5,21364]
[null,"German",27,18.3,17.399999999999999,15.8,11.6,90.1,2845,21.7,19.3,18.8,17.5,13.1,90.4,6139,23.4,18.899999999999999,18.399999999999999,17,12.6,90.3,8984]
[null,"Spanish",27.6,24.1,18.2,14.5,8.4,92.8,1268,22.4,19.899999999999999,19.399999999999999,17.399999999999999,10.7,89.7,3060,23.9,21.2,19,16.5,10,90.6,4328]
[null,"Other modern languages",29.2,22.7,16.8,11,6.9,86.6,1448,29.3,25.1,17.5,12.3,6.5,90.9,2025,29.3,24.1,17.2,11.8,6.7,89.1,3473]
[null,"Classical Studies",26.4,20.6,18.8,16.5,9.8000000000000007,92.1,2549,24.9,23.2,22.8,14.5,8,93.4,3546,25.5,22.1,21.1,15.4,8.6999999999999993,92.8,6095]
[null,"Religious Studies",18,18.8,23.2,19.3,10.8,90.1,1846,13.8,18.100000000000001,24.8,21.4,12.8,90.8,5110,14.9,18.3,24.4,20.9,12.2,90.7,6956]
[null,"Music",20.9,19.7,21.5,17.899999999999999,11.1,91.2,2333,18.899999999999999,21.1,24.2,19.100000000000001,10.3,93.7,3455,19.7,20.5,23.1,18.600000000000001,10.7,92.7,5788]
[null,"Physical Education",5.6,12.3,21.7,27.3,20.6,87.5,7248,{"$f":"ROUND(J73,1)","v":12.5},17.100000000000001,22.3,23.2,14.7,89.8,4448,{"$f":"ROUND(Q73,1)","v":8.1999999999999993},14.2,21.9,25.7,18.399999999999999,88.4,11696]
[null,"General Studies",{"$f":"ROUND(C74,1)","v":15.2},17.5,19.100000000000001,18.7,14.6,85.1,35055,12,15.2,18.2,20,16.600000000000001,82,36687,13.6,16.3,18.600000000000001,19.399999999999999,15.6,83.5,71742]
[null,"All subjects",16.5,18.399999999999999,19.8,18.3,13.5,86.4,313250,15.8,19.399999999999999,20.9,18.7,13.2,87.9,348913,16.100000000000001,18.899999999999999,20.3,18.5,13.3,87.2,662163]

{"sheet":"1998data_new","index":4,"n_rows":111,"n_cols":26,"rows_kept":111,"cut":false,"hidden":true,"merged":[]}
[]
[]
[null,null,"Males",null,null,null,null,null,"Females",null,null,null,null,null,"Total",null,null,null,null,null,"total entries",null,null,"total passes"]
[null,null,"A","B","C","D","E","other","A","B","C","D","E","other","A","B","C","D","E","other","Male","Female","Male and Female","Male","Female","Male and Female"]
[null,"Biological Sciences",2980,3629,3713,3628,3073,2801,4950,5944,5751,5040,4006,3382,7930,9573,9464,8668,7079,6183,19824,29073,48897,17023,25691,42714]
[null,"Chemistry",4731,4038,3787,2948,2294,2334,4037,3745,3150,2535,1802,1702,8768,7783,6937,5483,4096,4036,20132,16971,37103,17798,15269,33067]
[null,"Physics",5251,4634,4279,3650,2685,2620,1547,1512,1264,959,680,591,6798,6146,5543,4609,3365,3211,23119,6553,29672,20499,5962,26461]
[null,"Other Science",328,395,583,640,434,315,190,266,301,372,290,211,518,661,884,1012,724,526,2695,1630,4325,2380,1419,3799]
[null,"Mathematics",9535,6480,6003,5288,4255,4375,5604,4375,3695,2915,2084,1980,15139,10855,9698,8203,6339,6355,35936,20653,56589,31561,18673,50234]
[null,"Further Mathematics",1923,791,469,351,195,160,629,273,188,135,52,45,2552,1064,657,486,247,205,3889,1322,5211,3729,1277,5006]
[null,"Design and Technology",952,1078,1905,1889,1460,1099,366,438,656,576,339,228,1318,1516,2561,2465,1799,1327,8383,2603,10986,7284,2375,9659]
[null,"Computer Studies",912,1362,2114,2032,1751,2082,119,281,466,491,429,490,1031,1643,2580,2523,2180,2572,10253,2276,12529,8171,1786,9957]
[null,"ICT",0,0,0,0,0,0,0,0,0,0,0,0,0,0,0,0,0,0,0,0,0,0,0,0]
[null,"Home Economics",4,7,20,20,14,24,192,251,338,355,250,281,196,258,358,375,264,305,89,1667,1756,65,1386,1451]
[null,"Accounting and Finance",89,162,181,161,167,389,84,116,86,92,88,254,173,278,267,253,255,643,1149,720,1869,760,466,1226]
[null,"Business Studies",1285,3124,3958,3416,2246,2033,1177,2826,3297,2740,1776,1768,2462,5950,7255,6156,4022,3801,16062,13584,29646,14029,11816,25845]
[null,"Economics",2132,2072,2291,2046,1481,1671,1138,1183,1264,1059,839,974,3270,3255,3555,3105,2320,2645,11693,6457,18150,10022,5483,15505]
[null,"Geography",2760,4389,5002,4159,2743,1950,3202,4162,4037,3084,2009,1335,5962,8551,9039,7243,4752,3285,21003,17829,38832,19053,16494,35547]
[null,"Government and Politics",875,1008,986,758,420,401,641,755,736,562,323,284,1516,1763,1722,1320,743,685,4448,3301,7749,4047,3017,7064]
[null,"History",2486,3086,3311,2816,1906,1878,2922,3611,3905,3649,2458,2409,5408,6697,7216,6465,4364,4287,15483,18954,34437,13605,16545,30150]
[null,"Law",285,334,476,524,463,849,483,525,724,730,654,1058,768,859,1200,1254,1117,1907,2931,4174,7105,2082,3116,5198]
[null,"Psychology",430,787,1078,1128,972,1279,2410,3488,4012,3434,2522,2339,2840,4275,5090,4562,3494,3618,5674,18205,23879,4395,15866,20261]
[null,"Sociology",519,847,919,782,753,1023,2175,3161,3197,2720,2160,2658,2694,4008,4116,3502,2913,3681,4843,16071,20914,3820,13413,17233]
[null,"Other social studies",72,92,92,120,83,156,88,104,96,116,89,149,160,196,188,236,172,305,615,642,1257,459,493,952]
[null,"Art and Design",2487,2356,2927,2436,1573,1159,4986,4308,4961,3581,1862,1179,7473,6664,7888,6017,3435,2338,12938,20877,33815,11779,19698,31477]
[null,"Drama",272,343,586,586,399,431,945,1218,1874,1594,888,724,1217,1561,2460,2180,1287,1155,2617,7243,9860,2186,6519,8705]
[null,"English",3704,4673,5499,4925,3290,2121,8515,10998,13004,12008,7536,4273,12219,15671,18503,16933,10826,6394,24212,56334,80546,22091,52061,74152]
[null,"Media/Film/TV Studies",366,635,1273,1212,641,352,718,1078,1934,1561,703,332,1084,1713,3207,2773,1344,684,4479,6326,10805,4127,5994,10121]
[null,"Other Communication Studies",176,403,495,526,382,591,609,1088,1321,983,545,585,785,1491,1816,1509,927,1176,2573,5131,7704,1982,4546,6528]
[null,"French",1451,1248,1166,1023,608,403,2840,2848,2666,2397,1715,1264,4291,4096,3832,3420,2323,1667,5899,13730,19629,5496,12466,17962]
[null,"German",831,525,522,339,287,160,1544,1195,1235,1041,705,519,2375,1720,1757,1380,992,679,2664,6239,8903,2504,5720,8224]
[null,"Spanish",344,313,282,159,104,83,794,693,623,480,355,269,1138,1006,905,639,459,352,1285,3214,4499,1202,2945,4147]
[null,"Other modern languages",477,402,272,182,96,134,655,494,325,215,88,117,1132,896,597,397,184,251,1563,1894,3457,1429,1777,3206]
[null,"Classical Studies",654,513,450,342,224,194,917,783,698,489,271,201,1571,1296,1148,831,495,395,2377,3359,5736,2183,3158,5341]
[null,"Religious Studies",281,356,373,318,183,191,767,1058,1159,1016,578,460,1048,1414,1532,1334,761,651,1702,5038,6740,1511,4578,6089]
[null,"Music",473,496,529,474,258,220,725,702,845,661,401,212,1198,1198,1374,1135,659,432,2450,3546,5996,2230,3334,5564]
[null,"Physical Education",485,899,1844,2235,1799,1053,746,849,1221,1193,829,527,1231,1748,3065,3428,2628,1580,8315,5365,13680,7262,4838,12100]
[null,"General Studies",5250,6456,7523,7299,5647,5773,5097,6651,8451,8046,6252,6361,10347,13107,15974,15345,11899,12134,37948,40858,78806,32175,34497,66672]
[null,"All subjects",54800,57933,64908,58412,42886,40304,61812,70979,77480,66829,45578,39161,116612,128912,142388,125241,88464,79465,319243,361839,681082,278939,322678,601617]
[]
[null,"Biological Sciences",15,18.3,18.7,18.3,15.5,85.9,19824,17,20.399999999999999,19.8,17.3,13.8,88.4,29073,16.2,19.600000000000001,19.399999999999999,17.7,14.5,87.4,48897]
[null,"Chemistry",23.5,20.100000000000001,18.8,14.6,11.4,88.4,20132,23.8,22.1,18.600000000000001,14.9,10.6,90,16971,23.6,21,18.7,14.8,11,89.1,37103]
[null,"Physics",22.7,20,18.5,15.8,11.6,88.7,23119,23.6,23.1,19.3,14.6,10.4,91,6553,22.9,20.7,18.7,15.5,11.3,89.2,29672]
[null,"Other Science",12.2,14.7,21.6,23.7,16.100000000000001,88.3,2695,11.7,16.3,18.5,22.8,17.8,87.1,1630,12,15.3,20.399999999999999,23.4,16.7,87.8,4325]
[null,"Mathematics",26.5,18,16.7,14.7,11.8,87.8,35936,27.1,21.2,17.899999999999999,14.1,10.1,90.4,20653,26.8,19.2,17.100000000000001,14.5,11.2,88.8,56589]
[null,"Further Mathematics",49.4,20.3,12.1,9,5,95.9,3889,47.6,20.7,14.2,10.199999999999999,3.9,96.6,1322,49,20.399999999999999,12.6,9.3000000000000007,4.7,96.1,5211]
[null,"Design and Technology",11.4,12.9,22.7,22.5,17.399999999999999,86.9,8383,14.1,16.8,25.2,22.1,13,91.2,2603,12,13.8,23.3,22.4,16.399999999999999,87.9,10986]
[null,"Computer Studies",8.9,13.3,20.6,19.8,17.100000000000001,79.7,10253,5.2,12.3,20.5,21.6,18.8,78.5,2276,8.1999999999999993,13.1,20.6,20.100000000000001,17.399999999999999,79.5,12529]
[null,"ICT",0,0,0,0,0,0,0,0,0,0,0,0,0,0,0,0,0,0,0,0,0]
[null,"Home Economics",4.5,7.9,22.5,22.5,15.7,73,89,11.5,15.1,20.3,21.3,15,83.1,1667,11.2,14.7,20.399999999999999,21.4,15,82.6,1756]
[null,"Accounting and Finance",7.7,14.1,15.8,14,14.5,66.099999999999994,1149,11.7,16.100000000000001,11.9,12.8,12.2,64.7,720,9.3000000000000007,14.9,14.3,13.5,13.6,65.599999999999994,1869]
[null,"Business Studies",8,19.399999999999999,24.6,21.3,14,87.3,16062,8.6999999999999993,20.8,24.3,20.2,13.1,87,13584,8.3000000000000007,20.100000000000001,24.5,20.8,13.6,87.2,29646]
[null,"Economics",18.2,17.7,19.600000000000001,17.5,12.7,85.7,11693,17.600000000000001,18.3,19.600000000000001,16.399999999999999,13,84.9,6457,18,17.899999999999999,19.600000000000001,17.100000000000001,12.8,85.4,18150]
[null,"Geography",13.1,20.9,23.8,19.8,13.1,90.7,21003,18,23.3,22.6,17.3,11.3,92.5,17829,15.4,22,23.3,18.7,12.2,91.5,38832]
[null,"Government and Politics",19.7,22.7,22.2,17,9.4,91,4448,19.399999999999999,22.9,22.3,17,9.8000000000000007,91.4,3301,19.600000000000001,22.8,22.2,17,9.6,91.2,7749]
[null,"History",16.100000000000001,19.899999999999999,21.4,18.2,12.3,87.9,15483,15.4,19.100000000000001,20.6,19.3,13,87.3,18954,15.7,19.399999999999999,21,18.8,12.7,87.6,34437]
[null,"Law",9.6999999999999993,11.4,16.2,17.899999999999999,15.8,71,2931,11.6,12.6,17.3,17.5,15.7,74.7,4174,10.8,12.1,16.899999999999999,17.600000000000001,15.7,73.2,7105]
[null,"Psychology",7.6,13.9,19,19.899999999999999,17.100000000000001,77.5,5674,13.2,19.2,22,18.899999999999999,13.9,87.2,18205,11.9,17.899999999999999,21.3,19.100000000000001,14.6,84.8,23879]
[null,"Sociology",10.7,17.5,19,16.100000000000001,15.5,78.900000000000006,4843,13.5,19.7,19.899999999999999,16.899999999999999,13.4,83.5,16071,12.9,19.2,19.7,16.7,13.9,82.4,20914]
[null,"Other social studies",11.7,15,15,19.5,13.5,74.599999999999994,615,13.7,16.2,15,18.100000000000001,13.9,76.8,642,12.7,15.6,15,18.8,13.7,75.7,1257]
[null,"Art and Design",19.2,18.2,22.6,18.8,12.2,91,12938,23.9,20.6,23.8,17.2,8.9,94.4,20877,22.1,19.7,23.3,17.8,10.199999999999999,93.1,33815]
[null,"Drama",10.4,13.1,22.4,22.4,15.2,83.5,2617,13,16.8,25.9,22,12.3,90,7243,12.3,15.8,24.9,22.1,13.1,88.3,9860]
[null,"English",15.3,19.3,22.7,20.3,13.6,91.2,24212,15.1,19.5,23.1,21.3,13.4,92.4,56334,15.2,19.5,23,21,13.4,92.1,80546]
[null,"Media/Film/TV Studies",8.1999999999999993,14.2,28.4,27.1,14.3,92.1,4479,11.3,17,30.6,24.7,11.1,94.8,6326,10,15.9,29.7,25.7,12.4,93.7,10805]
[null,"Other Communication Studies",6.8,15.7,19.2,20.399999999999999,14.8,77,2573,11.9,21.2,25.7,19.2,10.6,88.6,5131,10.199999999999999,19.399999999999999,23.6,19.600000000000001,12,84.7,7704]
[null,"French",24.6,21.2,19.8,17.3,10.3,93.2,5899,20.7,20.7,19.399999999999999,17.5,12.5,90.8,13730,21.9,20.9,19.5,17.399999999999999,11.8,91.5,19629]
[null,"German",31.2,19.7,19.600000000000001,12.7,10.8,94,2664,24.7,19.2,19.8,16.7,11.3,91.7,6239,26.7,19.3,19.7,15.5,11.1,92.4,8903]
[null,"Spanish",26.8,24.4,21.9,12.4,8.1,93.5,1285,24.7,21.6,19.399999999999999,14.9,11,91.6,3214,25.3,22.4,20.100000000000001,14.2,10.199999999999999,92.2,4499]
[null,"Other modern languages",30.5,25.7,17.399999999999999,11.6,6.1,91.4,1563,34.6,26.1,17.2,11.4,4.5999999999999996,93.8,1894,32.700000000000003,25.9,17.3,11.5,5.3,92.7,3457]
[null,"Classical Studies",27.5,21.6,18.899999999999999,14.4,9.4,91.8,2377,27.3,23.3,20.8,14.6,8.1,94,3359,27.4,22.6,20,14.5,8.6,93.1,5736]
[null,"Religious Studies",16.5,20.9,21.9,18.7,10.8,88.8,1702,15.2,21,23,20.2,11.5,90.9,5038,15.5,21,22.7,19.8,11.3,90.3,6740]
[null,"Music",19.3,20.2,21.6,19.3,10.5,91,2450,20.399999999999999,19.8,23.8,18.600000000000001,11.3,94,3546,20,20,22.9,18.899999999999999,11,92.8,5996]
[null,"Physical Education",5.8,10.8,22.2,26.9,21.6,87.3,8315,13.9,15.8,22.8,22.2,15.5,90.2,5365,9,12.8,22.4,25.1,19.2,88.5,13680]
[null,"General Studies",13.8,17,19.8,19.2,14.9,84.8,37948,12.5,16.3,20.7,19.7,15.3,84.4,40858,13.1,16.600000000000001,20.3,19.5,15.1,84.6,78806]
[null,"All subjects",17.2,18.100000000000001,20.3,18.3,13.4,87.4,319243,17.100000000000001,19.600000000000001,21.4,18.5,12.6,89.2,361839,17.100000000000001,18.899999999999999,20.9,18.399999999999999,13,88.3,681082]
[]
[null,"Biological Sciences",{"$f":"ROUND(C41,1)","v":15},{"$f":"ROUND(D41,1)","v":18.3},18.7,18.3,15.5,85.9,{"$f":"ROUND(I41,0)","v":19824},17,20.399999999999999,19.8,17.3,13.8,88.4,{"$f":"ROUND(P41,0)","v":29073},16.2,19.600000000000001,19.399999999999999,17.7,14.5,87.4,{"$f":"ROUND(W41,0)","v":48897}]
[null,"Chemistry",{"$f":"ROUND(C42,1)","v":23.5},20.100000000000001,18.8,14.6,11.4,88.4,{"$f":"ROUND(I42,0)","v":20132},23.8,22.1,18.600000000000001,14.9,10.6,90,{"$f":"ROUND(P42,0)","v":16971},23.6,21,18.7,14.8,11,89.1,{"$f":"ROUND(W42,0)","v":37103}]
[null,"Physics",22.7,20,18.5,15.8,11.6,88.7,23119,23.6,23.1,19.3,14.6,10.4,91,6553,22.9,20.7,18.7,15.5,11.3,89.2,29672]
[null,"Other Science",12.2,14.7,21.6,23.7,16.100000000000001,88.3,2695,11.7,16.3,18.5,22.8,17.8,87.1,1630,12,15.3,20.399999999999999,23.4,16.7,87.8,4325]
[null,"Mathematics",26.5,18,16.7,14.7,11.8,87.8,35936,27.1,21.2,17.899999999999999,14.1,10.1,90.4,20653,26.8,19.2,17.100000000000001,14.5,11.2,88.8,56589]
[null,"Further Mathematics",49.4,20.3,12.1,9,5,95.9,3889,47.6,20.7,14.2,10.199999999999999,3.9,96.6,1322,49,20.399999999999999,12.6,9.3000000000000007,4.7,96.1,5211]
[null,"Design and Technology",11.4,12.9,22.7,22.5,17.399999999999999,86.9,8383,14.1,16.8,25.2,22.1,13,91.2,2603,12,13.8,23.3,22.4,16.399999999999999,87.9,10986]
[null,"Computer Studies",8.9,13.3,20.6,19.8,17.100000000000001,79.7,10253,5.2,12.3,20.5,21.6,18.8,78.5,2276,8.1999999999999993,13.1,20.6,20.100000000000001,17.399999999999999,79.5,12529]
[null,"ICT",0,0,0,0,0,0,0,0,0,0,0,0,0,0,0,0,0,0,0,0,0]
[null,"Home Economics",4.5,7.9,22.5,22.5,15.7,73,89,11.5,15.1,20.3,21.3,15,83.1,1667,11.2,14.7,20.399999999999999,21.4,15,82.6,1756]
[null,"Accounting and Finance",7.7,14.1,15.8,14,14.5,66.099999999999994,1149,11.7,16.100000000000001,11.9,12.8,12.2,64.7,720,9.3000000000000007,14.9,14.3,13.5,13.6,65.599999999999994,1869]
[null,"Business Studies",8,19.399999999999999,24.6,21.3,14,87.3,16062,8.6999999999999993,20.8,24.3,20.2,13.1,87,13584,8.3000000000000007,20.100000000000001,24.5,20.8,13.6,87.2,29646]
[null,"Economics",18.2,17.7,19.600000000000001,17.5,12.7,85.7,11693,17.600000000000001,18.3,19.600000000000001,16.399999999999999,13,84.9,6457,18,17.899999999999999,19.600000000000001,17.100000000000001,12.8,85.4,18150]
[null,"Geography",13.1,20.9,23.8,19.8,13.1,90.7,21003,18,23.3,22.6,17.3,11.3,92.5,17829,15.4,22,23.3,18.7,12.2,91.5,38832]
[null,"Government and Politics",19.7,22.7,22.2,17,9.4,91,4448,19.399999999999999,22.9,22.3,17,9.8000000000000007,91.4,3301,19.600000000000001,22.8,22.2,17,9.6,91.2,7749]
[null,"History",16.100000000000001,19.899999999999999,21.4,18.2,12.3,87.9,15483,15.4,19.100000000000001,20.6,19.3,13,87.3,18954,15.7,19.399999999999999,21,18.8,12.7,87.6,34437]
[null,"Law",9.6999999999999993,11.4,16.2,17.899999999999999,15.8,71,2931,{"$f":"ROUND(J57,1)","v":11.6},12.6,17.3,17.5,15.7,74.7,4174,{"$f":"ROUND(Q57,1)","v":10.8},12.1,16.899999999999999,17.600000000000001,15.7,73.2,7105]
[null,"Psychology",{"$f":"ROUND(C58,1)","v":7.6},13.9,19,19.899999999999999,17.100000000000001,77.5,5674,13.2,19.2,22,18.899999999999999,13.9,87.2,18205,11.9,17.899999999999999,21.3,19.100000000000001,14.6,84.8,23879]
[null,"Sociology",10.7,17.5,19,16.100000000000001,15.5,78.900000000000006,4843,13.5,19.7,19.899999999999999,16.899999999999999,13.4,83.5,16071,12.9,19.2,19.7,16.7,13.9,82.4,20914]
[null,"Other social studies",11.7,15,15,19.5,13.5,74.599999999999994,615,13.7,16.2,15,18.100000000000001,13.9,76.8,642,12.7,15.6,15,18.8,13.7,75.7,1257]
[null,"Art and Design",19.2,18.2,22.6,18.8,12.2,91,12938,23.9,20.6,23.8,17.2,8.9,94.4,20877,22.1,19.7,23.3,17.8,10.199999999999999,93.1,33815]
[null,"Drama",10.4,13.1,22.4,22.4,15.2,83.5,2617,13,16.8,25.9,22,12.3,90,7243,12.3,15.8,24.9,22.1,13.1,88.3,9860]
[null,"English",15.3,19.3,22.7,20.3,13.6,91.2,24212,15.1,19.5,23.1,21.3,13.4,92.4,56334,15.2,19.5,23,21,13.4,92.1,80546]
[null,"Media/Film/TV Studies",8.1999999999999993,14.2,28.4,27.1,14.3,92.1,4479,11.3,17,30.6,24.7,11.1,94.8,6326,10,15.9,29.7,25.7,12.4,93.7,10805]
[null,"Other Communication Studies",6.8,15.7,19.2,20.399999999999999,14.8,77,2573,11.9,21.2,25.7,19.2,10.6,88.6,5131,10.199999999999999,19.399999999999999,23.6,19.600000000000001,12,84.7,7704]
[null,"French",24.6,21.2,19.8,17.3,10.3,93.2,5899,20.7,20.7,19.399999999999999,17.5,12.5,90.8,13730,21.9,20.9,19.5,17.399999999999999,11.8,91.5,19629]
[null,"German",31.2,19.7,19.600000000000001,12.7,10.8,94,2664,24.7,19.2,19.8,16.7,11.3,91.7,6239,26.7,19.3,19.7,15.5,11.1,92.4,8903]
[null,"Spanish",26.8,24.4,21.9,12.4,8.1,93.5,1285,24.7,21.6,19.399999999999999,14.9,11,91.6,3214,25.3,22.4,20.100000000000001,14.2,10.199999999999999,92.2,4499]
[null,"Other modern languages",30.5,25.7,17.399999999999999,11.6,6.1,91.4,1563,34.6,26.1,17.2,11.4,4.5999999999999996,93.8,1894,32.700000000000003,25.9,17.3,11.5,5.3,92.7,3457]
[null,"Classical Studies",27.5,21.6,18.899999999999999,14.4,9.4,91.8,2377,27.3,23.3,20.8,14.6,8.1,94,3359,27.4,22.6,20,14.5,8.6,93.1,5736]
[null,"Religious Studies",16.5,20.9,21.9,18.7,10.8,88.8,1702,15.2,21,23,20.2,11.5,90.9,5038,15.5,21,22.7,19.8,11.3,90.3,6740]
[null,"Music",19.3,20.2,21.6,19.3,10.5,91,2450,20.399999999999999,19.8,23.8,18.600000000000001,11.3,94,3546,20,20,22.9,18.899999999999999,11,92.8,5996]
[null,"Physical Education",5.8,10.8,22.2,26.9,21.6,87.3,8315,{"$f":"ROUND(J73,1)","v":13.9},15.8,22.8,22.2,15.5,90.2,5365,{"$f":"ROUND(Q73,1)","v":9},12.8,22.4,25.1,19.2,88.5,13680]
[null,"General Studies",{"$f":"ROUND(C74,1)","v":13.8},17,19.8,19.2,14.9,84.8,37948,12.5,16.3,20.7,19.7,15.3,84.4,40858,13.1,16.600000000000001,20.3,19.5,15.1,84.6,78806]
[null,"All subjects",17.2,18.100000000000001,20.3,18.3,13.4,87.4,319243,17.100000000000001,19.600000000000001,21.4,18.5,12.6,89.2,361839,17.100000000000001,18.899999999999999,20.9,18.399999999999999,13,88.3,681082]

{"sheet":"1999data_new","index":5,"n_rows":111,"n_cols":26,"rows_kept":111,"cut":false,"hidden":true,"merged":[]}
[]
[]
[null,null,"Males",null,null,null,null,null,"Females",null,null,null,null,null,"Total",null,null,null,null,null,"total entries",null,null,"total passes"]
[null,null,"A","B","C","D","E","other","A","B","C","D","E","other","A","B","C","D","E","other","Male","Female","Male and Female","Male","Female","Male and Female"]
[null,"Biological Sciences",3011,3317,3589,3445,2742,2435,5201,5753,5712,4996,3858,3133,8212,9070,9301,8441,6600,5568,18539,28653,47192,16104,25520,41624]
[null,"Chemistry",4634,3937,3497,2869,2080,1941,4249,3802,3259,2470,1679,1414,8883,7739,6756,5339,3759,3355,18958,16873,35831,17017,15459,32476]
[null,"Physics",5488,4468,4238,3592,2671,2374,1726,1458,1307,960,680,590,7214,5926,5545,4552,3351,2964,22831,6721,29552,20457,6131,26588]
[null,"Other Science",332,417,526,576,405,361,206,206,357,332,231,175,538,623,883,908,636,536,2617,1507,4124,2256,1332,3588]
[null,"Mathematics",9485,6368,5957,5153,4300,4359,5665,4270,3605,2927,2103,1908,15150,10638,9562,8080,6403,6267,35622,20478,56100,31263,18570,49833]
[null,"Further Mathematics",1826,739,508,306,193,193,709,264,169,116,76,46,2535,1003,677,422,269,239,3765,1380,5145,3572,1334,4906]
[null,"Design and Technology",1124,1179,2081,2011,1252,850,441,504,796,630,355,189,1565,1683,2877,2641,1607,1039,8497,2915,11412,7647,2726,10373]
[null,"Computer Studies",927,1159,1592,1793,1519,1928,87,139,265,298,318,410,1014,1298,1857,2091,1837,2338,8918,1517,10435,6990,1107,8097]
[null,"ICT",171,378,662,790,589,280,94,245,389,365,195,106,265,623,1051,1155,784,386,2870,1394,4264,2590,1288,3878]
[null,"Home Economics",10,5,16,21,23,27,181,241,323,310,249,258,191,246,339,331,272,285,102,1562,1664,75,1304,1379]
[null,"Accounting and Finance",100,193,178,181,152,399,87,129,143,129,104,204,187,322,321,310,256,603,1203,796,1999,804,592,1396]
[null,"Business Studies",1424,3322,4272,3478,2183,2035,1323,2814,3411,2817,1854,1690,2747,6136,7683,6295,4037,3725,16714,13909,30623,14679,12219,26898]
[null,"Economics",2322,2208,2319,2071,1498,1366,1189,1158,1314,1137,888,829,3511,3366,3633,3208,2386,2195,11784,6515,18299,10418,5686,16104]
[null,"Geography",2948,4216,4741,4031,2547,1644,3250,3946,3934,2976,1694,1127,6198,8162,8675,7007,4241,2771,20127,16927,37054,18483,15800,34283]
[null,"Government and Politics",942,978,952,766,415,371,681,706,715,505,315,261,1623,1684,1667,1271,730,632,4424,3183,7607,4053,2922,6975]
[null,"History",2680,3096,3334,2726,1640,1711,3045,3563,3944,3311,2187,2169,5725,6659,7278,6037,3827,3880,15187,18219,33406,13476,16050,29526]
[null,"Law",296,372,482,548,458,744,518,638,746,800,580,1035,814,1010,1228,1348,1038,1779,2900,4317,7217,2156,3282,5438]
[null,"Psychology",446,847,1114,1039,889,1063,2620,3737,4078,3412,2407,2157,3066,4584,5192,4451,3296,3220,5398,18411,23809,4335,16254,20589]
[null,"Sociology",526,872,896,775,729,883,2196,3068,3070,2454,2096,2210,2722,3940,3966,3229,2825,3093,4681,15094,19775,3798,12884,16682]
[null,"Other social studies",132,230,245,201,137,168,234,487,586,402,184,190,366,717,831,603,321,358,1113,2083,3196,945,1893,2838]
[null,"Art and Design",2556,2412,3010,2499,1545,1160,5342,4587,5111,3589,1713,1116,7898,6999,8121,6088,3258,2276,13182,21458,34640,12022,20342,32364]
[null,"Drama",356,400,752,603,439,370,1102,1439,2092,1582,917,601,1458,1839,2844,2185,1356,971,2920,7733,10653,2550,7132,9682]
[null,"English",3751,4748,5223,4495,2935,1809,8192,10424,13210,11805,7310,3756,11943,15172,18433,16300,10245,5565,22961,54697,77658,21152,50941,72093]
[null,"Media/Film/TV Studies",409,707,1324,1216,647,353,634,1234,2242,1657,649,302,1043,1941,3566,2873,1296,655,4656,6718,11374,4303,6416,10719]
[null,"Other Communication Studies",203,382,474,513,346,476,508,1008,1215,991,541,512,711,1390,1689,1504,887,988,2394,4775,7169,1918,4263,6181]
[null,"French",1341,1086,1074,809,546,412,2786,2594,2507,2126,1502,991,4127,3680,3581,2935,2048,1403,5268,12506,17774,4856,11515,16371]
[null,"German",878,515,457,341,250,158,1454,1163,1133,959,735,484,2332,1678,1590,1300,985,642,2599,5928,8527,2441,5444,7885]
[null,"Spanish",341,326,256,184,119,79,765,777,700,566,289,238,1106,1103,956,750,408,317,1305,3335,4640,1226,3097,4323]
[null,"Other modern languages",478,370,281,173,103,128,743,495,337,187,102,102,1221,865,618,360,205,230,1533,1966,3499,1405,1864,3269]
[null,"Classical Studies",581,453,386,315,200,152,862,771,683,368,213,163,1443,1224,1069,683,413,315,2087,3060,5147,1935,2897,4832]
[null,"Religious Studies",275,255,259,201,164,167,693,694,841,674,405,416,968,949,1100,875,569,583,1321,3723,5044,1154,3307,4461]
[null,"Music",529,492,659,501,298,193,760,726,874,674,317,195,1289,1218,1533,1175,615,388,2672,3546,6218,2479,3351,5830]
[null,"Physical Education",606,1001,1984,2421,1862,995,940,971,1416,1264,806,474,1546,1972,3400,3685,2668,1469,8869,5871,14740,7874,5397,13271]
[null,"General Studies",5629,7215,7865,7753,5935,5925,4943,6955,8372,8801,7279,7589,10572,14170,16237,16554,13214,13514,40322,43939,84261,34397,36350,70747]
[null,"All subjects",56757,58663,65203,58396,41811,37509,63426,70966,78856,66590,44831,37040,120183,129629,144059,124986,86642,74549,318339,361709,680048,280830,324669,605499]
[]
[null,"Biological Sciences",16.2,17.899999999999999,19.399999999999999,18.600000000000001,14.8,86.9,18539,18.2,20.100000000000001,19.899999999999999,17.399999999999999,13.5,89.1,28653,17.399999999999999,19.2,19.7,17.899999999999999,14,88.2,47192]
[null,"Chemistry",24.4,20.8,18.399999999999999,15.1,11,89.8,18958,25.2,22.5,19.3,14.6,10,91.6,16873,24.8,21.6,18.899999999999999,14.9,10.5,90.6,35831]
[null,"Physics",24,19.600000000000001,18.600000000000001,15.7,11.7,89.6,22831,25.7,21.7,19.399999999999999,14.3,10.1,91.2,6721,24.4,20.100000000000001,18.8,15.4,11.3,90,29552]
[null,"Other Science",12.7,15.9,20.100000000000001,22,15.5,86.2,2617,13.7,13.7,23.7,22,15.3,88.4,1507,13,15.1,21.4,22,15.4,87,4124]
[null,"Mathematics",26.6,17.899999999999999,16.7,14.5,12.1,87.8,35622,27.7,20.9,17.600000000000001,14.3,10.3,90.7,20478,27,19,17,14.4,11.4,88.8,56100]
[null,"Further Mathematics",48.5,19.600000000000001,13.5,8.1,5.0999999999999996,94.9,3765,51.4,19.100000000000001,12.2,8.4,5.5,96.7,1380,49.3,19.5,13.2,8.1999999999999993,5.2,95.4,5145]
[null,"Design and Technology",13.2,13.9,24.5,23.7,14.7,90,8497,15.1,17.3,27.3,21.6,12.2,93.5,2915,13.7,14.7,25.2,23.1,14.1,90.9,11412]
[null,"Computer Studies",10.4,13,17.899999999999999,20.100000000000001,17,78.400000000000006,8918,5.7,9.1999999999999993,17.5,19.600000000000001,21,73,1517,9.6999999999999993,12.4,17.8,20,17.600000000000001,77.599999999999994,10435]
[null,"ICT",6,13.2,23.1,27.5,20.5,90.2,2870,6.7,17.600000000000001,27.9,26.2,14,92.4,1394,6.2,14.6,24.6,27.1,18.399999999999999,90.9,4264]
[null,"Home Economics",9.8000000000000007,4.9000000000000004,15.7,20.6,22.5,73.5,102,11.6,15.4,20.7,19.8,15.9,83.5,1562,11.5,14.8,20.399999999999999,19.899999999999999,16.3,82.9,1664]
[null,"Accounting and Finance",8.3000000000000007,16,14.8,15,12.6,66.8,1203,10.9,16.2,18,16.2,13.1,74.400000000000006,796,9.4,16.100000000000001,16.100000000000001,15.5,12.8,69.8,1999]
[null,"Business Studies",8.5,19.899999999999999,25.6,20.8,13.1,87.8,16714,9.5,20.2,24.5,20.3,13.3,87.8,13909,9,20,25.1,20.6,13.2,87.8,30623]
[null,"Economics",19.7,18.7,19.7,17.600000000000001,12.7,88.4,11784,18.3,17.8,20.2,17.5,13.6,87.3,6515,19.2,18.399999999999999,19.899999999999999,17.5,13,88,18299]
[null,"Geography",14.6,20.9,23.6,20,12.7,91.8,20127,19.2,23.3,23.2,17.600000000000001,10,93.3,16927,16.7,22,23.4,18.899999999999999,11.4,92.5,37054]
[null,"Government and Politics",21.3,22.1,21.5,17.3,9.4,91.6,4424,21.4,22.2,22.5,15.9,9.9,91.8,3183,21.3,22.1,21.9,16.7,9.6,91.7,7607]
[null,"History",17.600000000000001,20.399999999999999,22,17.899999999999999,10.8,88.7,15187,16.7,19.600000000000001,21.6,18.2,12,88.1,18219,17.100000000000001,19.899999999999999,21.8,18.100000000000001,11.5,88.4,33406]
[null,"Law",10.199999999999999,12.8,16.600000000000001,18.899999999999999,15.8,74.3,2900,12,14.8,17.3,18.5,13.4,76,4317,11.3,14,17,18.7,14.4,75.3,7217]
[null,"Psychology",8.3000000000000007,15.7,20.6,19.2,16.5,80.3,5398,14.2,20.3,22.1,18.5,13.1,88.3,18411,12.9,19.3,21.8,18.7,13.8,86.5,23809]
[null,"Sociology",11.2,18.600000000000001,19.100000000000001,16.600000000000001,15.6,81.099999999999994,4681,14.5,20.3,20.3,16.3,13.9,85.4,15094,13.8,19.899999999999999,20.100000000000001,16.3,14.3,84.4,19775]
[null,"Other social studies",11.9,20.7,22,18.100000000000001,12.3,84.9,1113,11.2,23.4,28.1,19.3,8.8000000000000007,90.9,2083,11.5,22.4,26,18.899999999999999,10,88.8,3196]
[null,"Art and Design",19.399999999999999,18.3,22.8,19,11.7,91.2,13182,24.9,21.4,23.8,16.7,8,94.8,21458,22.8,20.2,23.4,17.600000000000001,9.4,93.4,34640]
[null,"Drama",12.2,13.7,25.8,20.7,15,87.3,2920,14.3,18.600000000000001,27.1,20.5,11.9,92.2,7733,13.7,17.3,26.7,20.5,12.7,90.9,10653]
[null,"English",16.3,20.7,22.7,19.600000000000001,12.8,92.1,22961,15,19.100000000000001,24.2,21.6,13.4,93.1,54697,15.4,19.5,23.7,21,13.2,92.8,77658]
[null,"Media/Film/TV Studies",8.8000000000000007,15.2,28.4,26.1,13.9,92.4,4656,9.4,18.399999999999999,33.4,24.7,9.6999999999999993,95.5,6718,9.1999999999999993,17.100000000000001,31.4,25.3,11.4,94.2,11374]
[null,"Other Communication Studies",8.5,16,19.8,21.4,14.5,80.099999999999994,2394,10.6,21.1,25.4,20.8,11.3,89.3,4775,9.9,19.399999999999999,23.6,21,12.4,86.2,7169]
[null,"French",25.5,20.6,20.399999999999999,15.4,10.4,92.2,5268,22.3,20.7,20,17,12,92.1,12506,23.2,20.7,20.100000000000001,16.5,11.5,92.1,17774]
[null,"German",33.799999999999997,19.8,17.600000000000001,13.1,9.6,93.9,2599,24.5,19.600000000000001,19.100000000000001,16.2,12.4,91.8,5928,27.3,19.7,18.600000000000001,15.2,11.6,92.5,8527]
[null,"Spanish",26.1,25,19.600000000000001,14.1,9.1,93.9,1305,22.9,23.3,21,17,8.6999999999999993,92.9,3335,23.8,23.8,20.6,16.2,8.8000000000000007,93.2,4640]
[null,"Other modern languages",31.2,24.1,18.3,11.3,6.7,91.7,1533,37.799999999999997,25.2,17.100000000000001,9.5,5.2,94.8,1966,34.9,24.7,17.7,10.3,5.9,93.4,3499]
[null,"Classical Studies",27.8,21.7,18.5,15.1,9.6,92.7,2087,28.2,25.2,22.3,12,7,94.7,3060,28,23.8,20.8,13.3,8,93.9,5147]
[null,"Religious Studies",20.8,19.3,19.600000000000001,15.2,12.4,87.4,1321,18.600000000000001,18.600000000000001,22.6,18.100000000000001,10.9,88.8,3723,19.2,18.8,21.8,17.3,11.3,88.4,5044]
[null,"Music",19.8,18.399999999999999,24.7,18.8,11.2,92.8,2672,21.4,20.5,24.6,19,8.9,94.5,3546,20.7,19.600000000000001,24.7,18.899999999999999,9.9,93.8,6218]
[null,"Physical Education",6.8,11.3,22.4,27.3,21,88.8,8869,16,16.5,24.1,21.5,13.7,91.9,5871,10.5,13.4,23.1,25,18.100000000000001,90,14740]
[null,"General Studies",14,17.899999999999999,19.5,19.2,14.7,85.3,40322,11.2,15.8,19.100000000000001,20,16.600000000000001,82.7,43939,12.5,16.8,19.3,19.600000000000001,15.7,84,84261]
[null,"All subjects",17.8,18.399999999999999,20.5,18.3,13.1,88.2,318339,17.5,19.600000000000001,21.8,18.399999999999999,12.4,89.8,361709,17.7,19.100000000000001,21.2,18.399999999999999,12.7,89,680048]
[]
[null,"Biological Sciences",{"$f":"ROUND(C41,1)","v":16.2},{"$f":"ROUND(D41,1)","v":17.899999999999999},19.399999999999999,18.600000000000001,14.8,86.9,{"$f":"ROUND(I41,0)","v":18539},18.2,20.100000000000001,19.899999999999999,17.399999999999999,13.5,89.1,{"$f":"ROUND(P41,0)","v":28653},17.399999999999999,19.2,19.7,17.899999999999999,14,88.2,{"$f":"ROUND(W41,0)","v":47192}]
[null,"Chemistry",{"$f":"ROUND(C42,1)","v":24.4},20.8,18.399999999999999,15.1,11,89.8,{"$f":"ROUND(I42,0)","v":18958},25.2,22.5,19.3,14.6,10,91.6,{"$f":"ROUND(P42,0)","v":16873},24.8,21.6,18.899999999999999,14.9,10.5,90.6,{"$f":"ROUND(W42,0)","v":35831}]
[null,"Physics",24,19.600000000000001,18.600000000000001,15.7,11.7,89.6,22831,25.7,21.7,19.399999999999999,14.3,10.1,91.2,6721,24.4,20.100000000000001,18.8,15.4,11.3,90,29552]
[null,"Other Science",12.7,15.9,20.100000000000001,22,15.5,86.2,2617,13.7,13.7,23.7,22,15.3,88.4,1507,13,15.1,21.4,22,15.4,87,4124]
[null,"Mathematics",26.6,17.899999999999999,16.7,14.5,12.1,87.8,35622,27.7,20.9,17.600000000000001,14.3,10.3,90.7,20478,27,19,17,14.4,11.4,88.8,56100]
[null,"Further Mathematics",48.5,19.600000000000001,13.5,8.1,5.0999999999999996,94.9,3765,51.4,19.100000000000001,12.2,8.4,5.5,96.7,1380,49.3,19.5,13.2,8.1999999999999993,5.2,95.4,5145]
[null,"Design and Technology",13.2,13.9,24.5,23.7,14.7,90,8497,15.1,17.3,27.3,21.6,12.2,93.5,2915,13.7,14.7,25.2,23.1,14.1,90.9,11412]
[null,"Computer Studies",10.4,13,17.899999999999999,20.100000000000001,17,78.400000000000006,8918,5.7,9.1999999999999993,17.5,19.600000000000001,21,73,1517,9.6999999999999993,12.4,17.8,20,17.600000000000001,77.599999999999994,10435]
[null,"ICT",6,13.2,23.1,27.5,20.5,90.2,2870,6.7,17.600000000000001,27.9,26.2,14,92.4,1394,6.2,14.6,24.6,27.1,18.399999999999999,90.9,4264]
[null,"Home Economics",9.8000000000000007,4.9000000000000004,15.7,20.6,22.5,73.5,102,11.6,15.4,20.7,19.8,15.9,83.5,1562,11.5,14.8,20.399999999999999,19.899999999999999,16.3,82.9,1664]
[null,"Accounting and Finance",8.3000000000000007,16,14.8,15,12.6,66.8,1203,10.9,16.2,18,16.2,13.1,74.400000000000006,796,9.4,16.100000000000001,16.100000000000001,15.5,12.8,69.8,1999]
[null,"Business Studies",8.5,19.899999999999999,25.6,20.8,13.1,87.8,16714,9.5,20.2,24.5,20.3,13.3,87.8,13909,9,20,25.1,20.6,13.2,87.8,30623]
[null,"Economics",19.7,18.7,19.7,17.600000000000001,12.7,88.4,11784,18.3,17.8,20.2,17.5,13.6,87.3,6515,19.2,18.399999999999999,19.899999999999999,17.5,13,88,18299]
[null,"Geography",14.6,20.9,23.6,20,12.7,91.8,20127,19.2,23.3,23.2,17.600000000000001,10,93.3,16927,16.7,22,23.4,18.899999999999999,11.4,92.5,37054]
[null,"Government and Politics",21.3,22.1,21.5,17.3,9.4,91.6,4424,21.4,22.2,22.5,15.9,9.9,91.8,3183,21.3,22.1,21.9,16.7,9.6,91.7,7607]
[null,"History",17.600000000000001,20.399999999999999,22,17.899999999999999,10.8,88.7,15187,16.7,19.600000000000001,21.6,18.2,12,88.1,18219,17.100000000000001,19.899999999999999,21.8,18.100000000000001,11.5,88.4,33406]
[null,"Law",10.199999999999999,12.8,16.600000000000001,18.899999999999999,15.8,74.3,2900,{"$f":"ROUND(J57,1)","v":12},14.8,17.3,18.5,13.4,76,4317,{"$f":"ROUND(Q57,1)","v":11.3},14,17,18.7,14.4,75.3,7217]
[null,"Psychology",{"$f":"ROUND(C58,1)","v":8.3000000000000007},15.7,20.6,19.2,16.5,80.3,5398,14.2,20.3,22.1,18.5,13.1,88.3,18411,12.9,19.3,21.8,18.7,13.8,86.5,23809]
[null,"Sociology",11.2,18.600000000000001,19.100000000000001,16.600000000000001,15.6,81.099999999999994,4681,14.5,20.3,20.3,16.3,13.9,85.4,15094,13.8,19.899999999999999,20.100000000000001,16.3,14.3,84.4,19775]
[null,"Other social studies",11.9,20.7,22,18.100000000000001,12.3,84.9,1113,11.2,23.4,28.1,19.3,8.8000000000000007,90.9,2083,11.5,22.4,26,18.899999999999999,10,88.8,3196]
[null,"Art and Design",19.399999999999999,18.3,22.8,19,11.7,91.2,13182,24.9,21.4,23.8,16.7,8,94.8,21458,22.8,20.2,23.4,17.600000000000001,9.4,93.4,34640]
[null,"Drama",12.2,13.7,25.8,20.7,15,87.3,2920,14.3,18.600000000000001,27.1,20.5,11.9,92.2,7733,13.7,17.3,26.7,20.5,12.7,90.9,10653]
[null,"English",16.3,20.7,22.7,19.600000000000001,12.8,92.1,22961,15,19.100000000000001,24.2,21.6,13.4,93.1,54697,15.4,19.5,23.7,21,13.2,92.8,77658]
[null,"Media/Film/TV Studies",8.8000000000000007,15.2,28.4,26.1,13.9,92.4,4656,9.4,18.399999999999999,33.4,24.7,9.6999999999999993,95.5,6718,9.1999999999999993,17.100000000000001,31.4,25.3,11.4,94.2,11374]
[null,"Other Communication Studies",8.5,16,19.8,21.4,14.5,80.099999999999994,2394,10.6,21.1,25.4,20.8,11.3,89.3,4775,9.9,19.399999999999999,23.6,21,12.4,86.2,7169]
[null,"French",25.5,20.6,20.399999999999999,15.4,10.4,92.2,5268,22.3,20.7,20,17,12,92.1,12506,23.2,20.7,20.100000000000001,16.5,11.5,92.1,17774]
[null,"German",33.799999999999997,19.8,17.600000000000001,13.1,9.6,93.9,2599,24.5,19.600000000000001,19.100000000000001,16.2,12.4,91.8,5928,27.3,19.7,18.600000000000001,15.2,11.6,92.5,8527]
[null,"Spanish",26.1,25,19.600000000000001,14.1,9.1,93.9,1305,22.9,23.3,21,17,8.6999999999999993,92.9,3335,23.8,23.8,20.6,16.2,8.8000000000000007,93.2,4640]
[null,"Other modern languages",31.2,24.1,18.3,11.3,6.7,91.7,1533,37.799999999999997,25.2,17.100000000000001,9.5,5.2,94.8,1966,34.9,24.7,17.7,10.3,5.9,93.4,3499]
[null,"Classical Studies",27.8,21.7,18.5,15.1,9.6,92.7,2087,28.2,25.2,22.3,12,7,94.7,3060,28,23.8,20.8,13.3,8,93.9,5147]
[null,"Religious Studies",20.8,19.3,19.600000000000001,15.2,12.4,87.4,1321,18.600000000000001,18.600000000000001,22.6,18.100000000000001,10.9,88.8,3723,19.2,18.8,21.8,17.3,11.3,88.4,5044]
[null,"Music",19.8,18.399999999999999,24.7,18.8,11.2,92.8,2672,21.4,20.5,24.6,19,8.9,94.5,3546,20.7,19.600000000000001,24.7,18.899999999999999,9.9,93.8,6218]
[null,"Physical Education",6.8,11.3,22.4,27.3,21,88.8,8869,{"$f":"ROUND(J73,1)","v":16},16.5,24.1,21.5,13.7,91.9,5871,{"$f":"ROUND(Q73,1)","v":10.5},13.4,23.1,25,18.100000000000001,90,14740]
[null,"General Studies",{"$f":"ROUND(C74,1)","v":14},17.899999999999999,19.5,19.2,14.7,85.3,40322,11.2,15.8,19.100000000000001,20,16.600000000000001,82.7,43939,12.5,16.8,19.3,19.600000000000001,15.7,84,84261]
[null,"All subjects",17.8,18.399999999999999,20.5,18.3,13.1,88.2,318339,17.5,19.600000000000001,21.8,18.399999999999999,12.4,89.8,361709,17.7,19.100000000000001,21.2,18.399999999999999,12.7,89,680048]

{"sheet":"2000data_new","index":6,"n_rows":111,"n_cols":26,"rows_kept":111,"cut":false,"hidden":true,"merged":[]}
[]
[]
[null,null,"Males",null,null,null,null,null,"Females",null,null,null,null,null,"Total",null,null,null,null,null,"total entries",null,null,"total passes"]
[null,null,"A","B","C","D","E","other","A","B","C","D","E","other","A","B","C","D","E","other","Male","Female","Male and Female","Male","Female","Male and Female"]
[null,"Biological Sciences",2832,3227,3435,3310,2733,2215,5356,5928,5756,4864,3709,2825,8188,9155,9191,8174,6442,5040,17752,28438,46190,15537,25613,41150]
[null,"Chemistry",4395,3881,3359,2764,1983,1871,4638,3939,3222,2426,1535,1277,9033,7820,6581,5190,3518,3148,18253,17037,35290,16382,15760,32142]
[null,"Physics",5262,4193,4006,3402,2569,2363,1840,1421,1168,865,624,478,7102,5614,5174,4267,3193,2841,21795,6396,28191,19432,5918,25350]
[null,"Other Science",347,322,495,521,396,315,191,249,311,309,222,156,538,571,806,830,618,471,2396,1438,3834,2081,1282,3363]
[null,"Mathematics",8991,6198,5649,5057,3661,3943,5786,4111,3570,2886,2061,1761,14777,10309,9219,7943,5722,5704,33499,20175,53674,29556,18414,47970]
[null,"Further Mathematics",1756,663,458,318,188,137,770,278,195,127,68,57,2526,941,653,445,256,194,3520,1495,5015,3383,1438,4821]
[null,"Design and Technology",1222,1440,2369,2032,1275,821,536,678,1006,797,378,196,1758,2118,3375,2829,1653,1017,9159,3591,12750,8338,3395,11733]
[null,"Computer Studies",914,1254,1667,1915,1589,1891,101,193,297,331,328,371,1015,1447,1964,2246,1917,2262,9230,1621,10851,7339,1250,8589]
[null,"ICT",208,583,1037,1156,727,443,130,322,561,606,339,175,338,905,1598,1762,1066,618,4154,2133,6287,3711,1958,5669]
[null,"Home Economics",3,7,15,25,17,27,158,176,280,264,163,203,161,183,295,289,180,230,94,1244,1338,67,1041,1108]
[null,"Accounting and Finance",116,176,197,200,142,377,67,109,128,121,103,208,183,285,325,321,245,585,1208,736,1944,831,528,1359]
[null,"Business Studies",1494,3237,4400,3709,2261,1798,1612,2842,3638,2911,1715,1459,3106,6079,8038,6620,3976,3257,16899,14177,31076,15101,12718,27819]
[null,"Economics",2406,2118,2147,2025,1423,1231,1276,1100,1089,1032,758,679,3682,3218,3236,3057,2181,1910,11350,5934,17284,10119,5255,15374]
[null,"Geography",2771,3789,4146,3438,2300,1487,3232,3599,3360,2460,1463,972,6003,7388,7506,5898,3763,2459,17931,15086,33017,16444,14114,30558]
[null,"Government and Politics",915,888,947,621,427,331,764,709,657,474,305,248,1679,1597,1604,1095,732,579,4129,3157,7286,3798,2909,6707]
[null,"History",2633,3043,3332,2724,1704,1608,3178,3640,4065,3190,2063,1960,5811,6683,7397,5914,3767,3568,15044,18096,33140,13436,16136,29572]
[null,"Law",244,391,510,479,419,746,517,732,774,757,647,973,761,1123,1284,1236,1066,1719,2789,4400,7189,2043,3427,5470]
[null,"Psychology",450,800,1183,1163,958,1083,2713,4167,4201,3652,2556,2147,3163,4967,5384,4815,3514,3230,5637,19436,25073,4554,17289,21843]
[null,"Sociology",520,781,858,794,652,842,2284,3187,3129,2591,1906,2026,2804,3968,3987,3385,2558,2868,4447,15123,19570,3605,13097,16702]
[null,"Other social studies",64,93,107,100,112,182,104,123,128,150,117,149,168,216,235,250,229,331,658,771,1429,476,622,1098]
[null,"Art and Design",2513,2349,2863,2286,1375,1130,5319,4652,5248,3557,1731,1127,7832,7001,8111,5843,3106,2257,12516,21634,34150,11386,20507,31893]
[null,"Drama",372,449,820,671,412,328,1169,1499,2291,1684,845,555,1541,1948,3111,2355,1257,883,3052,8043,11095,2724,7488,10212]
[null,"English",3710,4328,5086,4385,2734,1650,8198,10274,12870,11220,6610,3278,11908,14602,17956,15605,9344,4928,21893,52450,74343,20243,49172,69415]
[null,"Media/Film/TV Studies",402,707,1445,1400,707,347,728,1339,2259,1784,729,319,1130,2046,3704,3184,1436,666,5008,7158,12166,4661,6839,11500]
[null,"Other Communication Studies",219,383,487,494,364,492,462,1054,1244,1011,497,482,681,1437,1731,1505,861,974,2439,4750,7189,1947,4268,6215]
[null,"French",1180,974,885,647,447,323,2454,2280,2169,1837,1187,857,3634,3254,3054,2484,1634,1180,4456,10784,15240,4133,9927,14060]
[null,"German",842,483,384,333,232,160,1385,1018,996,839,580,329,2227,1501,1380,1172,812,489,2434,5147,7581,2274,4818,7092]
[null,"Spanish",376,347,265,179,112,72,773,757,619,462,317,237,1149,1104,884,641,429,309,1351,3165,4516,1279,2928,4207]
[null,"Other modern languages",519,376,253,163,106,167,821,567,342,177,80,89,1340,943,595,340,186,256,1584,2076,3660,1417,1987,3404]
[null,"Classical Studies",635,467,432,300,159,147,847,720,608,355,198,151,1482,1187,1040,655,357,298,2140,2879,5019,1993,2728,4721]
[null,"Religious Studies",336,449,419,314,151,170,825,1204,1308,1005,564,416,1161,1653,1727,1319,715,586,1839,5322,7161,1669,4906,6575]
[null,"Music",559,493,598,507,283,211,773,704,844,625,335,195,1332,1197,1442,1132,618,406,2651,3476,6127,2440,3281,5721]
[null,"Physical Education",689,1131,2243,2663,1862,998,1016,1079,1469,1376,865,462,1705,2210,3712,4039,2727,1460,9586,6267,15853,8588,5805,14393]
[null,"General Studies",5452,6738,8172,8606,6450,6319,5484,7158,9275,9583,7366,7231,10936,13896,17447,18189,13816,13550,41737,46097,87834,35418,38866,74284]
[null,"All subjects",55347,56758,64669,58701,40930,36225,65507,71808,79077,66328,42964,34048,120854,128566,143746,125029,83894,70273,312630,359732,672362,276405,325684,602089]
[]
[null,"Biological Sciences",16,18.2,19.3,18.600000000000001,15.4,87.5,17752,18.8,20.8,20.2,17.100000000000001,13,90.1,28438,17.7,19.8,19.899999999999999,17.7,13.9,89.1,46190]
[null,"Chemistry",24.1,21.3,18.399999999999999,15.1,10.9,89.7,18253,27.2,23.1,18.899999999999999,14.2,9,92.5,17037,25.6,22.2,18.600000000000001,14.7,10,91.1,35290]
[null,"Physics",24.1,19.2,18.399999999999999,15.6,11.8,89.2,21795,28.8,22.2,18.3,13.5,9.8000000000000007,92.5,6396,25.2,19.899999999999999,18.399999999999999,15.1,11.3,89.9,28191]
[null,"Other Science",14.5,13.4,20.7,21.7,16.5,86.9,2396,13.3,17.3,21.6,21.5,15.4,89.2,1438,14,14.9,21,21.6,16.100000000000001,87.7,3834]
[null,"Mathematics",26.8,18.5,16.899999999999999,15.1,10.9,88.2,33499,28.7,20.399999999999999,17.7,14.3,10.199999999999999,91.3,20175,27.5,19.2,17.2,14.8,10.7,89.4,53674]
[null,"Further Mathematics",49.9,18.8,13,9,5.3,96.1,3520,51.5,18.600000000000001,13,8.5,4.5,96.2,1495,50.4,18.8,13,8.9,5.0999999999999996,96.1,5015]
[null,"Design and Technology",13.3,15.7,25.9,22.2,13.9,91,9159,14.9,18.899999999999999,28,22.2,10.5,94.5,3591,13.8,16.600000000000001,26.5,22.2,13,92,12750]
[null,"Computer Studies",9.9,13.6,18.100000000000001,20.7,17.2,79.5,9230,6.2,11.9,18.3,20.399999999999999,20.2,77.099999999999994,1621,9.4,13.3,18.100000000000001,20.7,17.7,79.2,10851]
[null,"ICT",5,14,25,27.8,17.5,89.3,4154,6.1,15.1,26.3,28.4,15.9,91.8,2133,5.4,14.4,25.4,28,17,90.2,6287]
[null,"Home Economics",3.2,7.4,16,26.6,18.100000000000001,71.3,94,12.7,14.1,22.5,21.2,13.1,83.7,1244,12,13.7,22,21.6,13.5,82.8,1338]
[null,"Accounting and Finance",9.6,14.6,16.3,16.600000000000001,11.8,68.8,1208,9.1,14.8,17.399999999999999,16.399999999999999,14,71.7,736,9.4,14.7,16.7,16.5,12.6,69.900000000000006,1944]
[null,"Business Studies",8.8000000000000007,19.2,26,21.9,13.4,89.4,16899,11.4,20,25.7,20.5,12.1,89.7,14177,10,19.600000000000001,25.9,21.3,12.8,89.5,31076]
[null,"Economics",21.2,18.7,18.899999999999999,17.8,12.5,89.2,11350,21.5,18.5,18.399999999999999,17.399999999999999,12.8,88.6,5934,21.3,18.600000000000001,18.7,17.7,12.6,88.9,17284]
[null,"Geography",15.5,21.1,23.1,19.2,12.8,91.7,17931,21.4,23.9,22.3,16.3,9.6999999999999993,93.6,15086,18.2,22.4,22.7,17.899999999999999,11.4,92.6,33017]
[null,"Government and Politics",22.2,21.5,22.9,15,10.3,92,4129,24.2,22.5,20.8,15,9.6999999999999993,92.1,3157,23,21.9,22,15,10,92.1,7286]
[null,"History",17.5,20.2,22.1,18.100000000000001,11.3,89.3,15044,17.600000000000001,20.100000000000001,22.5,17.600000000000001,11.4,89.2,18096,17.5,20.2,22.3,17.8,11.4,89.2,33140]
[null,"Law",8.6999999999999993,14,18.3,17.2,15,73.3,2789,11.8,16.600000000000001,17.600000000000001,17.2,14.7,77.900000000000006,4400,10.6,15.6,17.899999999999999,17.2,14.8,76.099999999999994,7189]
[null,"Psychology",8,14.2,21,20.6,17,80.8,5637,14,21.4,21.6,18.8,13.2,89,19436,12.6,19.8,21.5,19.2,14,87.1,25073]
[null,"Sociology",11.7,17.600000000000001,19.3,17.899999999999999,14.7,81.099999999999994,4447,15.1,21.1,20.7,17.100000000000001,12.6,86.6,15123,14.3,20.3,20.399999999999999,17.3,13.1,85.3,19570]
[null,"Other social studies",9.6999999999999993,14.1,16.3,15.2,17,72.3,658,13.5,16,16.600000000000001,19.5,15.2,80.7,771,11.8,15.1,16.399999999999999,17.5,16,76.8,1429]
[null,"Art and Design",20.100000000000001,18.8,22.9,18.3,11,91,12516,24.6,21.5,24.3,16.399999999999999,8,94.8,21634,22.9,20.5,23.8,17.100000000000001,9.1,93.4,34150]
[null,"Drama",12.2,14.7,26.9,22,13.5,89.3,3052,14.5,18.600000000000001,28.5,20.9,10.5,93.1,8043,13.9,17.600000000000001,28,21.2,11.3,92,11095]
[null,"English",16.899999999999999,19.8,23.2,20,12.5,92.5,21893,15.6,19.600000000000001,24.5,21.4,12.6,93.8,52450,16,19.600000000000001,24.2,21,12.6,93.4,74343]
[null,"Media/Film/TV Studies",8,14.1,28.9,28,14.1,93.1,5008,10.199999999999999,18.7,31.6,24.9,10.199999999999999,95.5,7158,9.3000000000000007,16.8,30.4,26.2,11.8,94.5,12166]
[null,"Other Communication Studies",9,15.7,20,20.3,14.9,79.8,2439,9.6999999999999993,22.2,26.2,21.3,10.5,89.9,4750,9.5,20,24.1,20.9,12,86.5,7189]
[null,"French",26.5,21.9,19.899999999999999,14.5,10,92.8,4456,22.8,21.1,20.100000000000001,17,11,92.1,10784,23.8,21.4,20,16.3,10.7,92.3,15240]
[null,"German",34.6,19.8,15.8,13.7,9.5,93.4,2434,26.9,19.8,19.399999999999999,16.3,11.3,93.6,5147,29.4,19.8,18.2,15.5,10.7,93.5,7581]
[null,"Spanish",27.8,25.7,19.600000000000001,13.2,8.3000000000000007,94.7,1351,24.4,23.9,19.600000000000001,14.6,10,92.5,3165,25.4,24.4,19.600000000000001,14.2,9.5,93.2,4516]
[null,"Other modern languages",32.799999999999997,23.7,16,10.3,6.7,89.5,1584,39.5,27.3,16.5,8.5,3.9,95.7,2076,36.6,25.8,16.3,9.3000000000000007,5.0999999999999996,93,3660]
[null,"Classical Studies",29.7,21.8,20.2,14,7.4,93.1,2140,29.4,25,21.1,12.3,6.9,94.8,2879,29.5,23.7,20.7,13.1,7.1,94.1,5019]
[null,"Religious Studies",18.3,24.4,22.8,17.100000000000001,8.1999999999999993,90.8,1839,15.5,22.6,24.6,18.899999999999999,10.6,92.2,5322,16.2,23.1,24.1,18.399999999999999,10,91.8,7161]
[null,"Music",21.1,18.600000000000001,22.6,19.100000000000001,10.7,92,2651,22.2,20.3,24.3,18,9.6,94.4,3476,21.7,19.5,23.5,18.5,10.1,93.4,6127]
[null,"Physical Education",7.2,11.8,23.4,27.8,19.399999999999999,89.6,9586,16.2,17.2,23.4,22,13.8,92.6,6267,10.8,13.9,23.4,25.5,17.2,90.8,15853]
[null,"General Studies",13.1,16.100000000000001,19.600000000000001,20.6,15.5,84.9,41737,11.9,15.5,20.100000000000001,20.8,16,84.3,46097,12.5,15.8,19.899999999999999,20.7,15.7,84.6,87834]
[null,"All subjects",17.7,18.2,20.7,18.8,13.1,88.4,312630,18.2,20,22,18.399999999999999,11.9,90.5,359732,18,19.100000000000001,21.4,18.600000000000001,12.5,89.5,672362]
[]
[null,"Biological Sciences",{"$f":"ROUND(C41,1)","v":16},{"$f":"ROUND(D41,1)","v":18.2},19.3,18.600000000000001,15.4,87.5,{"$f":"ROUND(I41,0)","v":17752},18.8,20.8,20.2,17.100000000000001,13,90.1,{"$f":"ROUND(P41,0)","v":28438},17.7,19.8,19.899999999999999,17.7,13.9,89.1,{"$f":"ROUND(W41,0)","v":46190}]
[null,"Chemistry",{"$f":"ROUND(C42,1)","v":24.1},21.3,18.399999999999999,15.1,10.9,89.7,{"$f":"ROUND(I42,0)","v":18253},{"$f":"ROUND(J42,1)","v":27.2},23.1,18.899999999999999,14.2,9,92.5,{"$f":"ROUND(P42,0)","v":17037},{"$f":"ROUND(Q42,1)","v":25.6},22.2,18.600000000000001,14.7,10,91.1,{"$f":"ROUND(W42,0)","v":35290}]
[null,"Physics",{"$f":"ROUND(C43,1)","v":24.1},19.2,18.399999999999999,15.6,11.8,89.2,21795,{"$f":"ROUND(J43,1)","v":28.8},22.2,18.3,13.5,9.8000000000000007,92.5,6396,{"$f":"ROUND(Q43,1)","v":25.2},19.899999999999999,18.399999999999999,15.1,11.3,89.9,28191]
[null,"Other Science",{"$f":"ROUND(C44,1)","v":14.5},13.4,20.7,21.7,16.5,86.9,2396,{"$f":"ROUND(J44,1)","v":13.3},17.3,21.6,21.5,15.4,89.2,1438,{"$f":"ROUND(Q44,1)","v":14},14.9,21,21.6,16.100000000000001,87.7,3834]
[null,"Mathematics",{"$f":"ROUND(C45,1)","v":26.8},18.5,16.899999999999999,15.1,10.9,88.2,33499,{"$f":"ROUND(J45,1)","v":28.7},20.399999999999999,17.7,14.3,10.199999999999999,91.3,20175,{"$f":"ROUND(Q45,1)","v":27.5},19.2,17.2,14.8,10.7,89.4,53674]
[null,"Further Mathematics",{"$f":"ROUND(C46,1)","v":49.9},18.8,13,9,5.3,96.1,3520,{"$f":"ROUND(J46,1)","v":51.5},18.600000000000001,13,8.5,4.5,96.2,1495,{"$f":"ROUND(Q46,1)","v":50.4},18.8,13,8.9,5.0999999999999996,96.1,5015]
[null,"Design and Technology",{"$f":"ROUND(C47,1)","v":13.3},15.7,25.9,22.2,13.9,91,9159,{"$f":"ROUND(J47,1)","v":14.9},18.899999999999999,28,22.2,10.5,94.5,3591,{"$f":"ROUND(Q47,1)","v":13.8},16.600000000000001,26.5,22.2,13,92,12750]
[null,"Computer Studies",{"$f":"ROUND(C48,1)","v":9.9},13.6,18.100000000000001,20.7,17.2,79.5,9230,{"$f":"ROUND(J48,1)","v":6.2},11.9,18.3,20.399999999999999,20.2,77.099999999999994,1621,{"$f":"ROUND(Q48,1)","v":9.4},13.3,18.100000000000001,20.7,17.7,79.2,10851]
[null,"ICT",{"$f":"ROUND(C49,1)","v":5},14,25,27.8,17.5,89.3,4154,{"$f":"ROUND(J49,1)","v":6.1},15.1,26.3,28.4,15.9,91.8,2133,{"$f":"ROUND(Q49,1)","v":5.4},14.4,25.4,28,17,90.2,6287]
[null,"Home Economics",{"$f":"ROUND(C50,1)","v":3.2},7.4,16,26.6,18.100000000000001,71.3,94,{"$f":"ROUND(J50,1)","v":12.7},14.1,22.5,21.2,13.1,83.7,1244,{"$f":"ROUND(Q50,1)","v":12},13.7,22,21.6,13.5,82.8,1338]
[null,"Accounting and Finance",{"$f":"ROUND(C51,1)","v":9.6},14.6,16.3,16.600000000000001,11.8,68.8,1208,{"$f":"ROUND(J51,1)","v":9.1},14.8,17.399999999999999,16.399999999999999,14,71.7,736,{"$f":"ROUND(Q51,1)","v":9.4},14.7,16.7,16.5,12.6,69.900000000000006,1944]
[null,"Business Studies",{"$f":"ROUND(C52,1)","v":8.8000000000000007},19.2,26,21.9,13.4,89.4,16899,{"$f":"ROUND(J52,1)","v":11.4},20,25.7,20.5,12.1,89.7,14177,{"$f":"ROUND(Q52,1)","v":10},19.600000000000001,25.9,21.3,12.8,89.5,31076]
[null,"Economics",{"$f":"ROUND(C53,1)","v":21.2},18.7,18.899999999999999,17.8,12.5,89.2,11350,{"$f":"ROUND(J53,1)","v":21.5},18.5,18.399999999999999,17.399999999999999,12.8,88.6,5934,{"$f":"ROUND(Q53,1)","v":21.3},18.600000000000001,18.7,17.7,12.6,88.9,17284]
[null,"Geography",{"$f":"ROUND(C54,1)","v":15.5},21.1,23.1,19.2,12.8,91.7,17931,{"$f":"ROUND(J54,1)","v":21.4},23.9,22.3,16.3,9.6999999999999993,93.6,15086,{"$f":"ROUND(Q54,1)","v":18.2},22.4,22.7,17.899999999999999,11.4,92.6,33017]
[null,"Government and Politics",{"$f":"ROUND(C55,1)","v":22.2},21.5,22.9,15,10.3,92,4129,{"$f":"ROUND(J55,1)","v":24.2},22.5,20.8,15,9.6999999999999993,92.1,3157,{"$f":"ROUND(Q55,1)","v":23},21.9,22,15,10,92.1,7286]
[null,"History",{"$f":"ROUND(C56,1)","v":17.5},20.2,22.1,18.100000000000001,11.3,89.3,15044,{"$f":"ROUND(J56,1)","v":17.600000000000001},20.100000000000001,22.5,17.600000000000001,11.4,89.2,18096,{"$f":"ROUND(Q56,1)","v":17.5},20.2,22.3,17.8,11.4,89.2,33140]
[null,"Law",{"$f":"ROUND(C57,1)","v":8.6999999999999993},14,18.3,17.2,15,73.3,2789,{"$f":"ROUND(J57,1)","v":11.8},16.600000000000001,17.600000000000001,17.2,14.7,77.900000000000006,4400,{"$f":"ROUND(Q57,1)","v":10.6},15.6,17.899999999999999,17.2,14.8,76.099999999999994,7189]
[null,"Psychology",{"$f":"ROUND(C58,1)","v":8},14.2,21,20.6,17,80.8,5637,{"$f":"ROUND(J58,1)","v":14},21.4,21.6,18.8,13.2,89,19436,{"$f":"ROUND(Q58,1)","v":12.6},19.8,21.5,19.2,14,87.1,25073]
[null,"Sociology",{"$f":"ROUND(C59,1)","v":11.7},17.600000000000001,19.3,17.899999999999999,14.7,81.099999999999994,4447,{"$f":"ROUND(J59,1)","v":15.1},21.1,20.7,17.100000000000001,12.6,86.6,15123,{"$f":"ROUND(Q59,1)","v":14.3},20.3,20.399999999999999,17.3,13.1,85.3,19570]
[null,"Other social studies",{"$f":"ROUND(C60,1)","v":9.6999999999999993},14.1,16.3,15.2,17,72.3,658,{"$f":"ROUND(J60,1)","v":13.5},16,16.600000000000001,19.5,15.2,80.7,771,{"$f":"ROUND(Q60,1)","v":11.8},15.1,16.399999999999999,17.5,16,76.8,1429]
[null,"Art and Design",{"$f":"ROUND(C61,1)","v":20.100000000000001},18.8,22.9,18.3,11,91,12516,{"$f":"ROUND(J61,1)","v":24.6},21.5,24.3,16.399999999999999,8,94.8,21634,{"$f":"ROUND(Q61,1)","v":22.9},20.5,23.8,17.100000000000001,9.1,93.4,34150]
[null,"Drama",{"$f":"ROUND(C62,1)","v":12.2},14.7,26.9,22,13.5,89.3,3052,{"$f":"ROUND(J62,1)","v":14.5},18.600000000000001,28.5,20.9,10.5,93.1,8043,{"$f":"ROUND(Q62,1)","v":13.9},17.600000000000001,28,21.2,11.3,92,11095]
[null,"English",{"$f":"ROUND(C63,1)","v":16.899999999999999},19.8,23.2,20,12.5,92.5,21893,{"$f":"ROUND(J63,1)","v":15.6},19.600000000000001,24.5,21.4,12.6,93.8,52450,{"$f":"ROUND(Q63,1)","v":16},19.600000000000001,24.2,21,12.6,93.4,74343]
[null,"Media/Film/TV Studies",{"$f":"ROUND(C64,1)","v":8},14.1,28.9,28,14.1,93.1,5008,{"$f":"ROUND(J64,1)","v":10.199999999999999},18.7,31.6,24.9,10.199999999999999,95.5,7158,{"$f":"ROUND(Q64,1)","v":9.3000000000000007},16.8,30.4,26.2,11.8,94.5,12166]
[null,"Other Communication Studies",{"$f":"ROUND(C65,1)","v":9},15.7,20,20.3,14.9,79.8,2439,{"$f":"ROUND(J65,1)","v":9.6999999999999993},22.2,26.2,21.3,10.5,89.9,4750,{"$f":"ROUND(Q65,1)","v":9.5},20,24.1,20.9,12,86.5,7189]
[null,"French",{"$f":"ROUND(C66,1)","v":26.5},21.9,19.899999999999999,14.5,10,92.8,4456,{"$f":"ROUND(J66,1)","v":22.8},21.1,20.100000000000001,17,11,92.1,10784,{"$f":"ROUND(Q66,1)","v":23.8},21.4,20,16.3,10.7,92.3,15240]
[null,"German",{"$f":"ROUND(C67,1)","v":34.6},19.8,15.8,13.7,9.5,93.4,2434,{"$f":"ROUND(J67,1)","v":26.9},19.8,19.399999999999999,16.3,11.3,93.6,5147,{"$f":"ROUND(Q67,1)","v":29.4},19.8,18.2,15.5,10.7,93.5,7581]
[null,"Spanish",{"$f":"ROUND(C68,1)","v":27.8},25.7,19.600000000000001,13.2,8.3000000000000007,94.7,1351,{"$f":"ROUND(J68,1)","v":24.4},23.9,19.600000000000001,14.6,10,92.5,3165,{"$f":"ROUND(Q68,1)","v":25.4},24.4,19.600000000000001,14.2,9.5,93.2,4516]
[null,"Other modern languages",{"$f":"ROUND(C69,1)","v":32.799999999999997},23.7,16,10.3,6.7,89.5,1584,{"$f":"ROUND(J69,1)","v":39.5},27.3,16.5,8.5,3.9,95.7,2076,{"$f":"ROUND(Q69,1)","v":36.6},25.8,16.3,9.3000000000000007,5.0999999999999996,93,3660]
[null,"Classical Studies",{"$f":"ROUND(C70,1)","v":29.7},21.8,20.2,14,7.4,93.1,2140,{"$f":"ROUND(J70,1)","v":29.4},25,21.1,12.3,6.9,94.8,2879,{"$f":"ROUND(Q70,1)","v":29.5},23.7,20.7,13.1,7.1,94.1,5019]
[null,"Religious Studies",{"$f":"ROUND(C71,1)","v":18.3},24.4,22.8,17.100000000000001,8.1999999999999993,90.8,1839,{"$f":"ROUND(J71,1)","v":15.5},22.6,24.6,18.899999999999999,10.6,92.2,5322,{"$f":"ROUND(Q71,1)","v":16.2},23.1,24.1,18.399999999999999,10,91.8,7161]
[null,"Music",{"$f":"ROUND(C72,1)","v":21.1},18.600000000000001,22.6,19.100000000000001,10.7,92,2651,{"$f":"ROUND(J72,1)","v":22.2},20.3,24.3,18,9.6,94.4,3476,{"$f":"ROUND(Q72,1)","v":21.7},19.5,23.5,18.5,10.1,93.4,6127]
[null,"Physical Education",{"$f":"ROUND(C73,1)","v":7.2},11.8,23.4,27.8,19.399999999999999,89.6,9586,{"$f":"ROUND(J73,1)","v":16.2},17.2,23.4,22,13.8,92.6,6267,{"$f":"ROUND(Q73,1)","v":10.8},13.9,23.4,25.5,17.2,90.8,15853]
[null,"General Studies",{"$f":"ROUND(C74,1)","v":13.1},16.100000000000001,19.600000000000001,20.6,15.5,84.9,41737,{"$f":"ROUND(J74,1)","v":11.9},15.5,20.100000000000001,20.8,16,84.3,46097,{"$f":"ROUND(Q74,1)","v":12.5},15.8,19.899999999999999,20.7,15.7,84.6,87834]
[null,"All subjects",17.7,18.2,20.7,18.8,13.1,88.4,312630,18.2,20,22,18.399999999999999,11.9,90.5,359732,18,19.100000000000001,21.4,18.600000000000001,12.5,89.5,672362]

{"sheet":"2001data_new","index":7,"n_rows":111,"n_cols":26,"rows_kept":111,"cut":false,"hidden":true,"merged":[]}
[]
[]
[null,null,"Males",null,null,null,null,null,"Females",null,null,null,null,null,"Total",null,null,null,null,null,"total entries",null,null,"total passes"]
[null,null,"A","B","C","D","E","other","A","B","C","D","E","other","A","B","C","D","E","other","Male","Female","Male and Female","Male","Female","Male and Female"]
[null,"Biological Sciences",2836,3175,3392,2969,2589,2064,5487,5771,5481,4625,3521,2682,8323,8946,8873,7594,6110,4746,17025,27567,44592,14961,24885,39846]
[null,"Chemistry",4384,3570,3150,2535,1882,1603,4597,3861,3151,2239,1637,1262,8981,7431,6301,4774,3519,2865,17124,16747,33871,15521,15485,31006]
[null,"Physics",5373,4215,4069,3279,2673,2401,1665,1393,1098,848,560,457,7038,5608,5167,4127,3233,2858,22010,6021,28031,19609,5564,25173]
[null,"Other Science",390,361,473,480,371,276,168,201,278,262,207,120,558,562,751,742,578,396,2351,1236,3587,2075,1116,3191]
[null,"Mathematics",9131,6014,5428,5037,3985,4308,5653,4147,3582,2888,2123,1861,14784,10161,9010,7925,6108,6169,33903,20254,54157,29595,18393,47988]
[null,"Further Mathematics",1899,670,468,325,191,184,700,249,163,110,63,41,2599,919,631,435,254,225,3737,1326,5063,3553,1285,4838]
[null,"Design and Technology",1389,1510,2364,2165,1344,909,690,811,1143,780,437,239,2079,2321,3507,2945,1781,1148,9681,4100,13781,8772,3861,12633]
[null,"Computer Studies",1019,1249,1751,1972,1552,1819,111,200,312,295,290,343,1130,1449,2063,2267,1842,2162,9362,1551,10913,7543,1208,8751]
[null,"ICT",310,855,1564,1607,1138,698,183,528,763,795,524,251,493,1383,2327,2402,1662,949,6172,3044,9216,5474,2793,8267]
[null,"Home Economics",4,5,24,12,11,19,150,193,208,231,168,165,154,198,232,243,179,184,75,1115,1190,56,950,1006]
[null,"Accounting and Finance",123,216,181,185,149,320,76,120,125,139,120,202,199,336,306,324,269,522,1174,782,1956,854,580,1434]
[null,"Business Studies",1780,3594,4469,3661,2049,1487,1620,2967,3556,2742,1684,1231,3400,6561,8025,6403,3733,2718,17040,13800,30840,15553,12569,28122]
[null,"Economics",2514,2146,2271,1973,1260,1066,1280,1051,1153,990,630,594,3794,3197,3424,2963,1890,1660,11230,5698,16928,10164,5104,15268]
[null,"Geography",2852,3864,4069,3457,2198,1465,3513,3563,3385,2421,1413,906,6365,7427,7454,5878,3611,2371,17905,15201,33106,16440,14295,30735]
[null,"Government and Politics",893,893,945,691,401,288,698,712,648,466,263,245,1591,1605,1593,1157,664,533,4111,3032,7143,3823,2787,6610]
[null,"History",2904,3367,3561,2793,1628,1640,3397,3708,3905,3116,1835,1976,6301,7075,7466,5909,3463,3616,15893,17937,33830,14253,15961,30214]
[null,"Law",323,405,517,497,481,670,602,714,820,777,647,945,925,1119,1337,1274,1128,1615,2893,4505,7398,2223,3560,5783]
[null,"Psychology",525,964,1250,1174,878,1120,3120,4514,4667,3669,2595,2207,3645,5478,5917,4843,3473,3327,5911,20772,26683,4791,18565,23356]
[null,"Sociology",559,744,901,821,638,819,2258,3094,3060,2405,1869,1923,2817,3838,3961,3226,2507,2742,4482,14609,19091,3663,12686,16349]
[null,"Other social studies",66,107,128,117,76,136,106,141,146,102,98,131,172,248,274,219,174,267,630,724,1354,494,593,1087]
[null,"Art and Design",2819,2250,2969,2285,1224,857,6226,5084,5760,3481,1517,865,9045,7334,8729,5766,2741,1722,12404,22933,35337,11547,22068,33615]
[null,"Drama",339,503,954,703,400,276,1416,1582,2490,1734,868,520,1755,2085,3444,2437,1268,796,3175,8610,11785,2899,8090,10989]
[null,"English",3811,4386,5072,4284,2628,1579,8415,10253,12850,11078,6313,3080,12226,14639,17922,15362,8941,4659,21760,51989,73749,20181,48909,69090]
[null,"Media/Film/TV Studies",559,892,1796,1455,643,338,926,1526,2777,1760,675,309,1485,2418,4573,3215,1318,647,5683,7973,13656,5345,7664,13009]
[null,"Other Communication Studies",243,397,525,456,319,399,604,1063,1434,883,446,397,847,1460,1959,1339,765,796,2339,4827,7166,1940,4430,6370]
[null,"French",1287,1013,914,719,436,326,2562,2148,2075,1753,1241,919,3849,3161,2989,2472,1677,1245,4695,10698,15393,4369,9779,14148]
[null,"German",846,519,469,326,230,134,1387,1023,955,804,537,377,2233,1542,1424,1130,767,511,2524,5083,7607,2390,4706,7096]
[null,"Spanish",439,336,258,160,97,73,795,715,610,450,314,254,1234,1051,868,610,411,327,1363,3138,4501,1290,2884,4174]
[null,"Other modern languages",577,422,291,105,52,81,870,450,291,138,64,68,1447,872,582,243,116,149,1528,1881,3409,1447,1813,3260]
[null,"Classical Studies",599,505,366,261,120,115,795,784,604,368,134,86,1394,1289,970,629,254,201,1966,2771,4737,1851,2685,4536]
[null,"Religious Studies",368,464,448,303,166,142,976,1292,1497,980,476,372,1344,1756,1945,1283,642,514,1891,5593,7484,1749,5221,6970]
[null,"Music",604,523,652,550,242,184,776,667,873,643,351,176,1380,1190,1525,1193,593,360,2755,3486,6241,2571,3310,5881]
[null,"Physical Education",823,1222,2490,2768,1891,963,1174,1074,1560,1475,877,462,1997,2296,4050,4243,2768,1425,10157,6622,16779,9194,6160,15354]
[null,"General Studies",6073,7223,8346,8746,6598,6472,5858,7461,9208,9917,7916,7161,11931,14684,17554,18663,14514,13633,43458,47521,90979,36986,40360,77346]
[null,"All subjects",58661,58579,66525,58871,40540,35231,68854,73060,80628,65364,42413,32827,127515,131639,147153,124235,82953,68058,318407,363146,681553,283176,330319,613495]
[]
[null,"Biological Sciences",16.7,18.600000000000001,19.899999999999999,17.399999999999999,15.2,87.9,17025,19.899999999999999,20.9,19.899999999999999,16.8,12.8,90.3,27567,18.7,20.100000000000001,19.899999999999999,17,13.7,89.4,44592]
[null,"Chemistry",25.6,20.8,18.399999999999999,14.8,11,90.6,17124,27.4,23.1,18.8,13.4,9.8000000000000007,92.5,16747,26.5,21.9,18.600000000000001,14.1,10.4,91.5,33871]
[null,"Physics",24.4,19.2,18.5,14.9,12.1,89.1,22010,27.7,23.1,18.2,14.1,9.3000000000000007,92.4,6021,25.1,20,18.399999999999999,14.7,11.5,89.8,28031]
[null,"Other Science",16.600000000000001,15.4,20.100000000000001,20.399999999999999,15.8,88.3,2351,13.6,16.3,22.5,21.2,16.7,90.3,1236,15.6,15.7,20.9,20.7,16.100000000000001,89,3587]
[null,"Mathematics",26.9,17.7,16,14.9,11.8,87.3,33903,27.9,20.5,17.7,14.3,10.5,90.8,20254,27.3,18.8,16.600000000000001,14.6,11.3,88.6,54157]
[null,"Further Mathematics",50.8,17.899999999999999,12.5,8.6999999999999993,5.0999999999999996,95.1,3737,52.8,18.8,12.3,8.3000000000000007,4.8,96.9,1326,51.3,18.2,12.5,8.6,5,95.6,5063]
[null,"Design and Technology",14.3,15.6,24.4,22.4,13.9,90.6,9681,16.8,19.8,27.9,19,10.7,94.2,4100,15.1,16.8,25.4,21.4,12.9,91.7,13781]
[null,"Computer Studies",10.9,13.3,18.7,21.1,16.600000000000001,80.599999999999994,9362,7.2,12.9,20.100000000000001,19,18.7,77.900000000000006,1551,10.4,13.3,18.899999999999999,20.8,16.899999999999999,80.2,10913]
[null,"ICT",5,13.9,25.3,26,18.399999999999999,88.7,6172,6,17.3,25.1,26.1,17.2,91.8,3044,5.3,15,25.2,26.1,18,89.7,9216]
[null,"Home Economics",5.3,6.7,32,16,14.7,74.7,75,13.5,17.3,18.7,20.7,15.1,85.2,1115,12.9,16.600000000000001,19.5,20.399999999999999,15,84.5,1190]
[null,"Accounting and Finance",10.5,18.399999999999999,15.4,15.8,12.7,72.7,1174,9.6999999999999993,15.3,16,17.8,15.3,74.2,782,10.199999999999999,17.2,15.6,16.600000000000001,13.8,73.3,1956]
[null,"Business Studies",10.4,21.1,26.2,21.5,12,91.3,17040,11.7,21.5,25.8,19.899999999999999,12.2,91.1,13800,11,21.3,26,20.8,12.1,91.2,30840]
[null,"Economics",22.4,19.100000000000001,20.2,17.600000000000001,11.2,90.5,11230,22.5,18.399999999999999,20.2,17.399999999999999,11.1,89.6,5698,22.4,18.899999999999999,20.2,17.5,11.2,90.2,16928]
[null,"Geography",15.9,21.6,22.7,19.3,12.3,91.8,17905,23.1,23.4,22.3,15.9,9.3000000000000007,94,15201,19.2,22.4,22.5,17.8,10.9,92.8,33106]
[null,"Government and Politics",21.7,21.7,23,16.8,9.8000000000000007,93,4111,23,23.5,21.4,15.4,8.6999999999999993,91.9,3032,22.3,22.5,22.3,16.2,9.3000000000000007,92.5,7143]
[null,"History",18.3,21.2,22.4,17.600000000000001,10.199999999999999,89.7,15893,18.899999999999999,20.7,21.8,17.399999999999999,10.199999999999999,89,17937,18.600000000000001,20.9,22.1,17.5,10.199999999999999,89.3,33830]
[null,"Law",11.2,14,17.899999999999999,17.2,16.600000000000001,76.8,2893,13.4,15.8,18.2,17.2,14.4,79,4505,12.5,15.1,18.100000000000001,17.2,15.2,78.2,7398]
[null,"Psychology",8.9,16.3,21.1,19.899999999999999,14.9,81.099999999999994,5911,15,21.7,22.5,17.7,12.5,89.4,20772,13.7,20.5,22.2,18.2,13,87.5,26683]
[null,"Sociology",12.5,16.600000000000001,20.100000000000001,18.3,14.2,81.7,4482,15.5,21.2,20.9,16.5,12.8,86.8,14609,14.8,20.100000000000001,20.7,16.899999999999999,13.1,85.6,19091]
[null,"Other social studies",10.5,17,20.3,18.600000000000001,12.1,78.400000000000006,630,14.6,19.5,20.2,14.1,13.5,81.900000000000006,724,12.7,18.3,20.2,16.2,12.9,80.3,1354]
[null,"Art and Design",22.7,18.100000000000001,23.9,18.399999999999999,9.9,93.1,12404,27.1,22.2,25.1,15.2,6.6,96.2,22933,25.6,20.8,24.7,16.3,7.8,95.1,35337]
[null,"Drama",10.7,15.8,30,22.1,12.6,91.3,3175,16.399999999999999,18.399999999999999,28.9,20.100000000000001,10.1,94,8610,14.9,17.7,29.2,20.7,10.8,93.2,11785]
[null,"English",17.5,20.2,23.3,19.7,12.1,92.7,21760,16.2,19.7,24.7,21.3,12.1,94.1,51989,16.600000000000001,19.8,24.3,20.8,12.1,93.7,73749]
[null,"Media/Film/TV Studies",9.8000000000000007,15.7,31.6,25.6,11.3,94.1,5683,11.6,19.100000000000001,34.799999999999997,22.1,8.5,96.1,7973,10.9,17.7,33.5,23.5,9.6999999999999993,95.3,13656]
[null,"Other Communication Studies",10.4,17,22.4,19.5,13.6,82.9,2339,12.5,22,29.7,18.3,9.1999999999999993,91.8,4827,11.8,20.399999999999999,27.3,18.7,10.7,88.9,7166]
[null,"French",27.4,21.6,19.5,15.3,9.3000000000000007,93.1,4695,23.9,20.100000000000001,19.399999999999999,16.399999999999999,11.6,91.4,10698,25,20.5,19.399999999999999,16.100000000000001,10.9,91.9,15393]
[null,"German",33.5,20.6,18.600000000000001,12.9,9.1,94.7,2524,27.3,20.100000000000001,18.8,15.8,10.6,92.6,5083,29.4,20.3,18.7,14.9,10.1,93.3,7607]
[null,"Spanish",32.200000000000003,24.7,18.899999999999999,11.7,7.1,94.6,1363,25.3,22.8,19.399999999999999,14.3,10,91.9,3138,27.4,23.4,19.3,13.6,9.1,92.7,4501]
[null,"Other modern languages",37.799999999999997,27.6,19,6.9,3.4,94.7,1528,46.3,23.9,15.5,7.3,3.4,96.4,1881,42.4,25.6,17.100000000000001,7.1,3.4,95.6,3409]
[null,"Classical Studies",30.5,25.7,18.600000000000001,13.3,6.1,94.2,1966,28.7,28.3,21.8,13.3,4.8,96.9,2771,29.4,27.2,20.5,13.3,5.4,95.8,4737]
[null,"Religious Studies",19.5,24.5,23.7,16,8.8000000000000007,92.5,1891,17.5,23.1,26.8,17.5,8.5,93.3,5593,18,23.5,26,17.100000000000001,8.6,93.1,7484]
[null,"Music",21.9,19,23.7,20,8.8000000000000007,93.3,2755,22.3,19.100000000000001,25,18.399999999999999,10.1,95,3486,22.1,19.100000000000001,24.4,19.100000000000001,9.5,94.2,6241]
[null,"Physical Education",8.1,12,24.5,27.3,18.600000000000001,90.5,10157,17.7,16.2,23.6,22.3,13.2,93,6622,11.9,13.7,24.1,25.3,16.5,91.5,16779]
[null,"General Studies",14,16.600000000000001,19.2,20.100000000000001,15.2,85.1,43458,12.3,15.7,19.399999999999999,20.9,16.7,84.9,47521,13.1,16.100000000000001,19.3,20.5,16,85,90979]
[null,"All subjects",18.399999999999999,18.399999999999999,20.9,18.5,12.7,88.9,318407,19,20.100000000000001,22.2,18,11.7,91,363146,18.7,19.3,21.6,18.2,12.2,90,681553]
[]
[null,"Biological Sciences",{"$f":"ROUND(C41,1)","v":16.7},{"$f":"ROUND(D41,1)","v":18.600000000000001},19.899999999999999,17.399999999999999,15.2,87.9,{"$f":"ROUND(I41,0)","v":17025},19.899999999999999,20.9,19.899999999999999,16.8,12.8,90.3,{"$f":"ROUND(P41,0)","v":27567},18.7,20.100000000000001,19.899999999999999,17,13.7,89.4,{"$f":"ROUND(W41,0)","v":44592}]
[null,"Chemistry",{"$f":"ROUND(C42,1)","v":25.6},20.8,18.399999999999999,14.8,11,90.6,{"$f":"ROUND(I42,0)","v":17124},{"$f":"ROUND(J42,1)","v":27.4},23.1,18.8,13.4,9.8000000000000007,92.5,{"$f":"ROUND(P42,0)","v":16747},{"$f":"ROUND(Q42,1)","v":26.5},21.9,18.600000000000001,14.1,10.4,91.5,{"$f":"ROUND(W42,0)","v":33871}]
[null,"Physics",{"$f":"ROUND(C43,1)","v":24.4},19.2,18.5,14.9,12.1,89.1,22010,{"$f":"ROUND(J43,1)","v":27.7},23.1,18.2,14.1,9.3000000000000007,92.4,6021,{"$f":"ROUND(Q43,1)","v":25.1},20,18.399999999999999,14.7,11.5,89.8,28031]
[null,"Other Science",{"$f":"ROUND(C44,1)","v":16.600000000000001},15.4,20.100000000000001,20.399999999999999,15.8,88.3,2351,{"$f":"ROUND(J44,1)","v":13.6},16.3,22.5,21.2,16.7,90.3,1236,{"$f":"ROUND(Q44,1)","v":15.6},15.7,20.9,20.7,16.100000000000001,89,3587]
[null,"Mathematics",{"$f":"ROUND(C45,1)","v":26.9},17.7,16,14.9,11.8,87.3,33903,{"$f":"ROUND(J45,1)","v":27.9},20.5,17.7,14.3,10.5,90.8,20254,{"$f":"ROUND(Q45,1)","v":27.3},18.8,16.600000000000001,14.6,11.3,88.6,54157]
[null,"Further Mathematics",{"$f":"ROUND(C46,1)","v":50.8},17.899999999999999,12.5,8.6999999999999993,5.0999999999999996,95.1,3737,{"$f":"ROUND(J46,1)","v":52.8},18.8,12.3,8.3000000000000007,4.8,96.9,1326,{"$f":"ROUND(Q46,1)","v":51.3},18.2,12.5,8.6,5,95.6,5063]
[null,"Design and Technology",{"$f":"ROUND(C47,1)","v":14.3},15.6,24.4,22.4,13.9,90.6,9681,{"$f":"ROUND(J47,1)","v":16.8},19.8,27.9,19,10.7,94.2,4100,{"$f":"ROUND(Q47,1)","v":15.1},16.8,25.4,21.4,12.9,91.7,13781]
[null,"Computer Studies",{"$f":"ROUND(C48,1)","v":10.9},13.3,18.7,21.1,16.600000000000001,80.599999999999994,9362,{"$f":"ROUND(J48,1)","v":7.2},12.9,20.100000000000001,19,18.7,77.900000000000006,1551,{"$f":"ROUND(Q48,1)","v":10.4},13.3,18.899999999999999,20.8,16.899999999999999,80.2,10913]
[null,"ICT",{"$f":"ROUND(C49,1)","v":5},13.9,25.3,26,18.399999999999999,88.7,6172,{"$f":"ROUND(J49,1)","v":6},17.3,25.1,26.1,17.2,91.8,3044,{"$f":"ROUND(Q49,1)","v":5.3},15,25.2,26.1,18,89.7,9216]
[null,"Home Economics",{"$f":"ROUND(C50,1)","v":5.3},6.7,32,16,14.7,74.7,75,{"$f":"ROUND(J50,1)","v":13.5},17.3,18.7,20.7,15.1,85.2,1115,{"$f":"ROUND(Q50,1)","v":12.9},16.600000000000001,19.5,20.399999999999999,15,84.5,1190]
[null,"Accounting and Finance",{"$f":"ROUND(C51,1)","v":10.5},18.399999999999999,15.4,15.8,12.7,72.7,1174,{"$f":"ROUND(J51,1)","v":9.6999999999999993},15.3,16,17.8,15.3,74.2,782,{"$f":"ROUND(Q51,1)","v":10.199999999999999},17.2,15.6,16.600000000000001,13.8,73.3,1956]
[null,"Business Studies",{"$f":"ROUND(C52,1)","v":10.4},21.1,26.2,21.5,12,91.3,17040,{"$f":"ROUND(J52,1)","v":11.7},21.5,25.8,19.899999999999999,12.2,91.1,13800,{"$f":"ROUND(Q52,1)","v":11},21.3,26,20.8,12.1,91.2,30840]
[null,"Economics",{"$f":"ROUND(C53,1)","v":22.4},19.100000000000001,20.2,17.600000000000001,11.2,90.5,11230,{"$f":"ROUND(J53,1)","v":22.5},18.399999999999999,20.2,17.399999999999999,11.1,89.6,5698,{"$f":"ROUND(Q53,1)","v":22.4},18.899999999999999,20.2,17.5,11.2,90.2,16928]
[null,"Geography",{"$f":"ROUND(C54,1)","v":15.9},21.6,22.7,19.3,12.3,91.8,17905,{"$f":"ROUND(J54,1)","v":23.1},23.4,22.3,15.9,9.3000000000000007,94,15201,{"$f":"ROUND(Q54,1)","v":19.2},22.4,22.5,17.8,10.9,92.8,33106]
[null,"Government and Politics",{"$f":"ROUND(C55,1)","v":21.7},21.7,23,16.8,9.8000000000000007,93,4111,{"$f":"ROUND(J55,1)","v":23},23.5,21.4,15.4,8.6999999999999993,91.9,3032,{"$f":"ROUND(Q55,1)","v":22.3},22.5,22.3,16.2,9.3000000000000007,92.5,7143]
[null,"History",{"$f":"ROUND(C56,1)","v":18.3},21.2,22.4,17.600000000000001,10.199999999999999,89.7,15893,{"$f":"ROUND(J56,1)","v":18.899999999999999},20.7,21.8,17.399999999999999,10.199999999999999,89,17937,{"$f":"ROUND(Q56,1)","v":18.600000000000001},20.9,22.1,17.5,10.199999999999999,89.3,33830]
[null,"Law",{"$f":"ROUND(C57,1)","v":11.2},14,17.899999999999999,17.2,16.600000000000001,76.8,2893,{"$f":"ROUND(J57,1)","v":13.4},15.8,18.2,17.2,14.4,79,4505,{"$f":"ROUND(Q57,1)","v":12.5},15.1,18.100000000000001,17.2,15.2,78.2,7398]
[null,"Psychology",{"$f":"ROUND(C58,1)","v":8.9},16.3,21.1,19.899999999999999,14.9,81.099999999999994,5911,{"$f":"ROUND(J58,1)","v":15},21.7,22.5,17.7,12.5,89.4,20772,{"$f":"ROUND(Q58,1)","v":13.7},20.5,22.2,18.2,13,87.5,26683]
[null,"Sociology",{"$f":"ROUND(C59,1)","v":12.5},16.600000000000001,20.100000000000001,18.3,14.2,81.7,4482,{"$f":"ROUND(J59,1)","v":15.5},21.2,20.9,16.5,12.8,86.8,14609,{"$f":"ROUND(Q59,1)","v":14.8},20.100000000000001,20.7,16.899999999999999,13.1,85.6,19091]
[null,"Other social studies",{"$f":"ROUND(C60,1)","v":10.5},17,20.3,18.600000000000001,12.1,78.400000000000006,630,{"$f":"ROUND(J60,1)","v":14.6},19.5,20.2,14.1,13.5,81.900000000000006,724,{"$f":"ROUND(Q60,1)","v":12.7},18.3,20.2,16.2,12.9,80.3,1354]
[null,"Art and Design",{"$f":"ROUND(C61,1)","v":22.7},18.100000000000001,23.9,18.399999999999999,9.9,93.1,12404,{"$f":"ROUND(J61,1)","v":27.1},22.2,25.1,15.2,6.6,96.2,22933,{"$f":"ROUND(Q61,1)","v":25.6},20.8,24.7,16.3,7.8,95.1,35337]
[null,"Drama",{"$f":"ROUND(C62,1)","v":10.7},15.8,30,22.1,12.6,91.3,3175,{"$f":"ROUND(J62,1)","v":16.399999999999999},18.399999999999999,28.9,20.100000000000001,10.1,94,8610,{"$f":"ROUND(Q62,1)","v":14.9},17.7,29.2,20.7,10.8,93.2,11785]
[null,"English",{"$f":"ROUND(C63,1)","v":17.5},20.2,23.3,19.7,12.1,92.7,21760,{"$f":"ROUND(J63,1)","v":16.2},19.7,24.7,21.3,12.1,94.1,51989,{"$f":"ROUND(Q63,1)","v":16.600000000000001},19.8,24.3,20.8,12.1,93.7,73749]
[null,"Media/Film/TV Studies",{"$f":"ROUND(C64,1)","v":9.8000000000000007},15.7,31.6,25.6,11.3,94.1,5683,{"$f":"ROUND(J64,1)","v":11.6},19.100000000000001,34.799999999999997,22.1,8.5,96.1,7973,{"$f":"ROUND(Q64,1)","v":10.9},17.7,33.5,23.5,9.6999999999999993,95.3,13656]
[null,"Other Communication Studies",{"$f":"ROUND(C65,1)","v":10.4},17,22.4,19.5,13.6,82.9,2339,{"$f":"ROUND(J65,1)","v":12.5},22,29.7,18.3,9.1999999999999993,91.8,4827,{"$f":"ROUND(Q65,1)","v":11.8},20.399999999999999,27.3,18.7,10.7,88.9,7166]
[null,"French",{"$f":"ROUND(C66,1)","v":27.4},21.6,19.5,15.3,9.3000000000000007,93.1,4695,{"$f":"ROUND(J66,1)","v":23.9},20.100000000000001,19.399999999999999,16.399999999999999,11.6,91.4,10698,{"$f":"ROUND(Q66,1)","v":25},20.5,19.399999999999999,16.100000000000001,10.9,91.9,15393]
[null,"German",{"$f":"ROUND(C67,1)","v":33.5},20.6,18.600000000000001,12.9,9.1,94.7,2524,{"$f":"ROUND(J67,1)","v":27.3},20.100000000000001,18.8,15.8,10.6,92.6,5083,{"$f":"ROUND(Q67,1)","v":29.4},20.3,18.7,14.9,10.1,93.3,7607]
[null,"Spanish",{"$f":"ROUND(C68,1)","v":32.200000000000003},24.7,18.899999999999999,11.7,7.1,94.6,1363,{"$f":"ROUND(J68,1)","v":25.3},22.8,19.399999999999999,14.3,10,91.9,3138,{"$f":"ROUND(Q68,1)","v":27.4},23.4,19.3,13.6,9.1,92.7,4501]
[null,"Other modern languages",{"$f":"ROUND(C69,1)","v":37.799999999999997},27.6,19,6.9,3.4,94.7,1528,{"$f":"ROUND(J69,1)","v":46.3},23.9,15.5,7.3,3.4,96.4,1881,{"$f":"ROUND(Q69,1)","v":42.4},25.6,17.100000000000001,7.1,3.4,95.6,3409]
[null,"Classical Studies",{"$f":"ROUND(C70,1)","v":30.5},25.7,18.600000000000001,13.3,6.1,94.2,1966,{"$f":"ROUND(J70,1)","v":28.7},28.3,21.8,13.3,4.8,96.9,2771,{"$f":"ROUND(Q70,1)","v":29.4},27.2,20.5,13.3,5.4,95.8,4737]
[null,"Religious Studies",{"$f":"ROUND(C71,1)","v":19.5},24.5,23.7,16,8.8000000000000007,92.5,1891,{"$f":"ROUND(J71,1)","v":17.5},23.1,26.8,17.5,8.5,93.3,5593,{"$f":"ROUND(Q71,1)","v":18},23.5,26,17.100000000000001,8.6,93.1,7484]
[null,"Music",{"$f":"ROUND(C72,1)","v":21.9},19,23.7,20,8.8000000000000007,93.3,2755,{"$f":"ROUND(J72,1)","v":22.3},19.100000000000001,25,18.399999999999999,10.1,95,3486,{"$f":"ROUND(Q72,1)","v":22.1},19.100000000000001,24.4,19.100000000000001,9.5,94.2,6241]
[null,"Physical Education",{"$f":"ROUND(C73,1)","v":8.1},12,24.5,27.3,18.600000000000001,90.5,10157,{"$f":"ROUND(J73,1)","v":17.7},16.2,23.6,22.3,13.2,93,6622,{"$f":"ROUND(Q73,1)","v":11.9},13.7,24.1,25.3,16.5,91.5,16779]
[null,"General Studies",{"$f":"ROUND(C74,1)","v":14},16.600000000000001,19.2,20.100000000000001,15.2,85.1,43458,{"$f":"ROUND(J74,1)","v":12.3},15.7,19.399999999999999,20.9,16.7,84.9,47521,{"$f":"ROUND(Q74,1)","v":13.1},16.100000000000001,19.3,20.5,16,85,90979]
[null,"All subjects",{"$f":"ROUND(C75,1)","v":18.399999999999999},18.399999999999999,20.9,18.5,12.7,88.9,318407,{"$f":"ROUND(J75,1)","v":19},20.100000000000001,22.2,18,11.7,91,363146,{"$f":"ROUND(Q75,1)","v":18.7},19.3,21.6,18.2,12.2,90,681553]

{"sheet":"2002data_new","index":8,"n_rows":111,"n_cols":26,"rows_kept":111,"cut":false,"hidden":true,"merged":[]}
[]
[]
[null,null,"Males",null,null,null,null,null,"Females",null,null,null,null,null,"Total",null,null,null,null,null,"total entries",null,null,"total passes"]
[null,null,"A","B","C","D","E","other","A","B","C","D","E","other","A","B","C","D","E","other","Male","Female","Male and Female","Male","Female","Male and Female"]
[null,"Biological Sciences",3328,3227,3428,3208,2640,1598,6332,5650,5561,4968,3531,1936,9660,8877,8989,8176,6171,3534,17429,27978,45407,15831,26042,41873]
[null,"Chemistry",4273,3524,3007,2445,1736,947,4855,3978,3188,2268,1436,667,9128,7502,6195,4713,3172,1614,15932,16392,32324,14985,15725,30710]
[null,"Physics",5461,4254,4004,3566,2733,1523,2030,1439,1156,920,526,248,7491,5693,5160,4486,3259,1771,21541,6319,27860,20018,6071,26089]
[null,"Other Science",512,506,509,503,339,145,246,240,266,248,149,77,758,746,775,751,488,222,2514,1226,3740,2369,1149,3518]
[null,"Mathematics",9487,5425,4645,3725,2625,1868,6389,3515,2718,1918,1161,680,15876,8940,7363,5643,3786,2548,27775,16381,44156,25907,15701,41608]
[null,"Further Mathematics",2008,535,315,196,111,86,826,202,106,58,33,22,2834,737,421,254,144,108,3251,1247,4498,3165,1225,4390]
[null,"Design and Technology",1072,1742,2198,2140,1353,537,821,1310,1368,1012,505,128,1893,3052,3566,3152,1858,665,9042,5144,14186,8505,5016,13521]
[null,"Computer Studies",961,1367,1670,1787,1543,937,120,182,233,230,200,99,1081,1549,1903,2017,1743,1036,8265,1064,9329,7328,965,8293]
[null,"ICT",521,1214,2055,2622,2184,1217,385,754,1193,1386,1064,442,906,1968,3248,4008,3248,1659,9813,5224,15037,8596,4782,13378]
[null,"Home Economics",2,4,9,9,5,6,94,137,181,126,81,37,96,141,190,135,86,43,35,656,691,29,619,648]
[null,"Accounting and Finance",150,211,239,290,254,213,108,110,132,157,156,118,258,321,371,447,410,331,1357,781,2138,1144,663,1807]
[null,"Business Studies",1892,3783,5209,4408,2548,839,1733,3061,3699,2826,1559,536,3625,6844,8908,7234,4107,1375,18679,13414,32093,17840,12878,30718]
[null,"Economics",2460,2306,2030,1445,760,345,1292,978,780,516,324,133,3752,3284,2810,1961,1084,478,9346,4023,13369,9001,3890,12891]
[null,"Geography",2766,3995,4332,3525,1846,537,3521,3761,3391,2146,993,254,6287,7756,7723,5671,2839,791,17001,14066,31067,16464,13812,30276]
[null,"Government and Politics",1059,1096,919,674,322,125,870,815,632,395,232,89,1929,1911,1551,1069,554,214,4195,3033,7228,4070,2944,7014]
[null,"History",3311,4267,4297,3141,1659,506,3986,4744,4420,3114,1609,459,7297,9011,8717,6255,3268,965,17181,18332,35513,16675,17873,34548]
[null,"Law",404,618,677,710,589,394,826,1011,1117,1005,719,436,1230,1629,1794,1715,1308,830,3392,5114,8506,2998,4678,7676]
[null,"Psychology",666,1212,1629,1756,1338,735,4408,5449,5694,4764,3032,1325,5074,6661,7323,6520,4370,2060,7336,24672,32008,6601,23347,29948]
[null,"Sociology",569,913,1159,1021,647,319,2564,3606,3940,2923,1685,739,3133,4519,5099,3944,2332,1058,4628,15457,20085,4309,14718,19027]
[null,"Other social studies",114,190,179,141,97,49,157,209,182,161,85,49,271,399,361,302,182,98,770,843,1613,721,794,1515]
[null,"Art and Design",2238,1994,2155,1884,1109,616,6356,5251,4684,3218,1495,687,8594,7245,6839,5102,2604,1303,9996,21691,31687,9380,21004,30384]
[null,"Drama",421,811,1073,705,333,138,1567,2604,2588,1547,616,153,1988,3415,3661,2252,949,291,3481,9075,12556,3343,8922,12265]
[null,"English",4039,5103,5895,4666,1999,521,9326,12311,13752,10162,3918,803,13365,17414,19647,14828,5917,1324,22223,50272,72495,21702,49469,71171]
[null,"Media/Film/TV Studies",594,1473,2321,1750,706,189,1266,2525,3090,2050,633,151,1860,3998,5411,3800,1339,340,7033,9715,16748,6844,9564,16408]
[null,"Other Communication Studies",247,517,736,456,219,82,623,1345,1519,859,257,89,870,1862,2255,1315,476,171,2257,4692,6949,2175,4603,6778]
[null,"French",1326,1080,869,581,316,124,2669,2289,1985,1350,749,261,3995,3369,2854,1931,1065,385,4296,9303,13599,4172,9042,13214]
[null,"German",718,468,436,298,204,68,1211,956,840,653,404,111,1929,1424,1276,951,608,179,2192,4175,6367,2124,4064,6188]
[null,"Spanish",447,371,255,165,93,40,918,792,654,389,230,76,1365,1163,909,554,323,116,1371,3059,4430,1331,2983,4314]
[null,"Other modern languages",705,458,279,130,49,61,1022,622,313,111,39,71,1727,1080,592,241,88,132,1682,2178,3860,1621,2107,3728]
[null,"Classical Studies",692,554,454,255,135,35,902,825,660,309,96,27,1594,1379,1114,564,231,62,2125,2819,4944,2090,2792,4882]
[null,"Religious Studies",529,674,590,366,194,87,1348,1729,1534,979,413,164,1877,2403,2124,1345,607,251,2440,6167,8607,2353,6003,8356]
[null,"Music",620,705,784,644,329,118,815,889,891,611,289,72,1435,1594,1675,1255,618,190,3200,3567,6767,3082,3495,6577]
[null,"Physical Education",804,1607,2502,2695,1834,580,1278,1405,1636,1327,751,236,2082,3012,4138,4022,2585,816,10022,6633,16655,9442,6397,15839]
[null,"General Studies",3155,4392,5733,6203,4980,3616,3860,5121,6623,6741,4996,3101,7015,9513,12356,12944,9976,6717,28079,30442,58521,24463,27341,51804]
[null,"All subjects",57551,60596,66592,58110,37829,19201,74724,79815,80726,61447,33966,14476,132275,140411,147318,119557,71795,33677,299879,345154,645033,280678,330678,611356]
[]
[null,"Biological Sciences",19.100000000000001,18.5,19.7,18.399999999999999,15.1,90.8,17429,22.6,20.2,19.899999999999999,17.8,12.6,93.1,27978,21.3,19.5,19.8,18,13.6,92.2,45407]
[null,"Chemistry",26.8,22.1,18.899999999999999,15.3,10.9,94.1,15932,29.6,24.3,19.399999999999999,13.8,8.8000000000000007,95.9,16392,28.2,23.2,19.2,14.6,9.8000000000000007,95,32324]
[null,"Physics",25.4,19.7,18.600000000000001,16.600000000000001,12.7,92.9,21541,32.1,22.8,18.3,14.6,8.3000000000000007,96.1,6319,26.9,20.399999999999999,18.5,16.100000000000001,11.7,93.6,27860]
[null,"Other Science",20.399999999999999,20.100000000000001,20.2,20,13.5,94.2,2514,20.100000000000001,19.600000000000001,21.7,20.2,12.2,93.7,1226,20.3,19.899999999999999,20.7,20.100000000000001,13,94.1,3740]
[null,"Mathematics",34.200000000000003,19.5,16.7,13.4,9.5,93.3,27775,39,21.5,16.600000000000001,11.7,7.1,95.8,16381,36,20.2,16.7,12.8,8.6,94.2,44156]
[null,"Further Mathematics",61.8,16.5,9.6999999999999993,6,3.4,97.4,3251,66.2,16.2,8.5,4.7,2.6,98.2,1247,63,16.399999999999999,9.4,5.6,3.2,97.6,4498]
[null,"Design and Technology",11.9,19.3,24.3,23.7,15,94.1,9042,16,25.5,26.6,19.7,9.8000000000000007,97.5,5144,13.3,21.5,25.1,22.2,13.1,95.3,14186]
[null,"Computer Studies",11.6,16.5,20.2,21.6,18.7,88.7,8265,11.3,17.100000000000001,21.9,21.6,18.8,90.7,1064,11.6,16.600000000000001,20.399999999999999,21.6,18.7,88.9,9329]
[null,"ICT",5.3,12.4,20.9,26.7,22.3,87.6,9813,7.4,14.4,22.8,26.5,20.399999999999999,91.5,5224,6,13.1,21.6,26.7,21.6,89,15037]
[null,"Home Economics","x",11.4,25.7,25.7,14.3,82.9,35,14.3,20.9,27.6,19.2,12.3,94.4,656,13.9,20.399999999999999,27.5,19.5,12.4,93.8,691]
[null,"Accounting and Finance",11.1,15.5,17.600000000000001,21.4,18.7,84.3,1357,13.8,14.1,16.899999999999999,20.100000000000001,20,84.9,781,12.1,15,17.399999999999999,20.9,19.2,84.5,2138]
[null,"Business Studies",10.1,20.3,27.9,23.6,13.6,95.5,18679,12.9,22.8,27.6,21.1,11.6,96,13414,11.3,21.3,27.8,22.5,12.8,95.7,32093]
[null,"Economics",26.3,24.7,21.7,15.5,8.1,96.3,9346,32.1,24.3,19.399999999999999,12.8,8.1,96.7,4023,28.1,24.6,21,14.7,8.1,96.4,13369]
[null,"Geography",16.3,23.5,25.5,20.7,10.9,96.8,17001,25,26.7,24.1,15.3,7.1,98.2,14066,20.2,25,24.9,18.3,9.1,97.5,31067]
[null,"Government and Politics",25.2,26.1,21.9,16.100000000000001,7.7,97,4195,28.7,26.9,20.8,13,7.6,97.1,3033,26.7,26.4,21.5,14.8,7.7,97,7228]
[null,"History",19.3,24.8,25,18.3,9.6999999999999993,97.1,17181,21.7,25.9,24.1,17,8.8000000000000007,97.5,18332,20.5,25.4,24.5,17.600000000000001,9.1999999999999993,97.3,35513]
[null,"Law",11.9,18.2,20,20.9,17.399999999999999,88.4,3392,16.2,19.8,21.8,19.7,14.1,91.5,5114,14.5,19.2,21.1,20.2,15.4,90.2,8506]
[null,"Psychology",9.1,16.5,22.2,23.9,18.2,90,7336,17.899999999999999,22.1,23.1,19.3,12.3,94.6,24672,15.9,20.8,22.9,20.399999999999999,13.7,93.6,32008]
[null,"Sociology",12.3,19.7,25,22.1,14,93.1,4628,16.600000000000001,23.3,25.5,18.899999999999999,10.9,95.2,15457,15.6,22.5,25.4,19.600000000000001,11.6,94.7,20085]
[null,"Other social studies",14.8,24.7,23.2,18.3,12.6,93.6,770,18.600000000000001,24.8,21.6,19.100000000000001,10.1,94.2,843,16.8,24.7,22.4,18.7,11.3,93.9,1613]
[null,"Art and Design",22.4,19.899999999999999,21.6,18.8,11.1,93.8,9996,29.3,24.2,21.6,14.8,6.9,96.8,21691,27.1,22.9,21.6,16.100000000000001,8.1999999999999993,95.9,31687]
[null,"Drama",12.1,23.3,30.8,20.3,9.6,96,3481,17.3,28.7,28.5,17,6.8,98.3,9075,15.8,27.2,29.2,17.899999999999999,7.6,97.7,12556]
[null,"English",18.2,23,26.5,21,9,97.7,22223,18.600000000000001,24.5,27.4,20.2,7.8,98.4,50272,18.399999999999999,24,27.1,20.5,8.1999999999999993,98.2,72495]
[null,"Media/Film/TV Studies",8.4,20.9,33,24.9,10,97.3,7033,13,26,31.8,21.1,6.5,98.4,9715,11.1,23.9,32.299999999999997,22.7,8,98,16748]
[null,"Other Communication Studies",10.9,22.9,32.6,20.2,9.6999999999999993,96.4,2257,13.3,28.7,32.4,18.3,5.5,98.1,4692,12.5,26.8,32.5,18.899999999999999,6.8,97.5,6949]
[null,"French",30.9,25.1,20.2,13.5,7.4,97.1,4296,28.7,24.6,21.3,14.5,8.1,97.2,9303,29.4,24.8,21,14.2,7.8,97.2,13599]
[null,"German",32.799999999999997,21.4,19.899999999999999,13.6,9.3000000000000007,96.9,2192,29,22.9,20.100000000000001,15.6,9.6999999999999993,97.3,4175,30.3,22.4,20,14.9,9.5,97.2,6367]
[null,"Spanish",32.6,27.1,18.600000000000001,12,6.8,97.1,1371,30,25.9,21.4,12.7,7.5,97.5,3059,30.8,26.3,20.5,12.5,7.3,97.4,4430]
[null,"Other modern languages",41.9,27.2,16.600000000000001,7.7,2.9,96.4,1682,46.9,28.6,14.4,5.0999999999999996,1.8,96.7,2178,44.7,28,15.3,6.2,2.2999999999999998,96.6,3860]
[null,"Classical Studies",32.6,26.1,21.4,12,6.4,98.4,2125,32,29.3,23.4,11,3.4,99,2819,32.200000000000003,27.9,22.5,11.4,4.7,98.7,4944]
[null,"Religious Studies",21.7,27.6,24.2,15,8,96.4,2440,21.9,28,24.9,15.9,6.7,97.3,6167,21.8,27.9,24.7,15.6,7.1,97.1,8607]
[null,"Music",19.399999999999999,22,24.5,20.100000000000001,10.3,96.3,3200,22.8,24.9,25,17.100000000000001,8.1,98,3567,21.2,23.6,24.8,18.5,9.1,97.2,6767]
[null,"Physical Education",8,16,25,26.9,18.3,94.2,10022,19.3,21.2,24.7,20,11.3,96.4,6633,12.5,18.100000000000001,24.8,24.1,15.5,95.1,16655]
[null,"General Studies",11.2,15.6,20.399999999999999,22.1,17.7,87.1,28079,12.7,16.8,21.8,22.1,16.399999999999999,89.8,30442,12,16.3,21.1,22.1,17,88.5,58521]
[null,"All subjects",19.2,20.2,22.2,19.399999999999999,12.6,93.6,299879,21.6,23.1,23.4,17.8,9.8000000000000007,95.8,345154,20.5,21.8,22.8,18.5,11.1,94.8,645033]
[]
[null,"Biological Sciences",{"$f":"ROUND(C41,1)","v":19.100000000000001},{"$f":"ROUND(D41,1)","v":18.5},19.7,18.399999999999999,15.1,90.8,{"$f":"ROUND(I41,0)","v":17429},22.6,20.2,19.899999999999999,17.8,12.6,93.1,{"$f":"ROUND(P41,0)","v":27978},21.3,19.5,19.8,18,13.6,92.2,{"$f":"ROUND(W41,0)","v":45407}]
[null,"Chemistry",{"$f":"ROUND(C42,1)","v":26.8},22.1,18.899999999999999,15.3,10.9,94.1,{"$f":"ROUND(I42,0)","v":15932},{"$f":"ROUND(J42,1)","v":29.6},24.3,19.399999999999999,13.8,8.8000000000000007,95.9,{"$f":"ROUND(P42,0)","v":16392},{"$f":"ROUND(Q42,1)","v":28.2},23.2,19.2,14.6,9.8000000000000007,95,{"$f":"ROUND(W42,0)","v":32324}]
[null,"Physics",{"$f":"ROUND(C43,1)","v":25.4},19.7,18.600000000000001,16.600000000000001,12.7,92.9,21541,{"$f":"ROUND(J43,1)","v":32.1},22.8,18.3,14.6,8.3000000000000007,96.1,6319,{"$f":"ROUND(Q43,1)","v":26.9},20.399999999999999,18.5,16.100000000000001,11.7,93.6,27860]
[null,"Other Science",{"$f":"ROUND(C44,1)","v":20.399999999999999},20.100000000000001,20.2,20,13.5,94.2,2514,{"$f":"ROUND(J44,1)","v":20.100000000000001},19.600000000000001,21.7,20.2,12.2,93.7,1226,{"$f":"ROUND(Q44,1)","v":20.3},19.899999999999999,20.7,20.100000000000001,13,94.1,3740]
[null,"Mathematics",{"$f":"ROUND(C45,1)","v":34.200000000000003},19.5,16.7,13.4,9.5,93.3,27775,{"$f":"ROUND(J45,1)","v":39},21.5,16.600000000000001,11.7,7.1,95.8,16381,{"$f":"ROUND(Q45,1)","v":36},20.2,16.7,12.8,8.6,94.2,44156]
[null,"Further Mathematics",{"$f":"ROUND(C46,1)","v":61.8},16.5,9.6999999999999993,6,3.4,97.4,3251,{"$f":"ROUND(J46,1)","v":66.2},16.2,8.5,4.7,2.6,98.2,1247,{"$f":"ROUND(Q46,1)","v":63},16.399999999999999,9.4,5.6,3.2,97.6,4498]
[null,"Design and Technology",{"$f":"ROUND(C47,1)","v":11.9},19.3,24.3,23.7,15,94.1,9042,{"$f":"ROUND(J47,1)","v":16},25.5,26.6,19.7,9.8000000000000007,97.5,5144,{"$f":"ROUND(Q47,1)","v":13.3},21.5,25.1,22.2,13.1,95.3,14186]
[null,"Computer Studies",{"$f":"ROUND(C48,1)","v":11.6},16.5,20.2,21.6,18.7,88.7,8265,{"$f":"ROUND(J48,1)","v":11.3},17.100000000000001,21.9,21.6,18.8,90.7,1064,{"$f":"ROUND(Q48,1)","v":11.6},16.600000000000001,20.399999999999999,21.6,18.7,88.9,9329]
[null,"ICT",{"$f":"ROUND(C49,1)","v":5.3},12.4,20.9,26.7,22.3,87.6,9813,{"$f":"ROUND(J49,1)","v":7.4},14.4,22.8,26.5,20.399999999999999,91.5,5224,{"$f":"ROUND(Q49,1)","v":6},13.1,21.6,26.7,21.6,89,15037]
[null,"Home Economics","x",{"$f":"ROUND(D50,1)","v":11.4},25.7,25.7,14.3,82.9,35,{"$f":"ROUND(J50,1)","v":14.3},20.9,27.6,19.2,12.3,94.4,656,{"$f":"ROUND(Q50,1)","v":13.9},20.399999999999999,27.5,19.5,12.4,93.8,691]
[null,"Accounting and Finance",{"$f":"ROUND(C51,1)","v":11.1},15.5,17.600000000000001,21.4,18.7,84.3,1357,{"$f":"ROUND(J51,1)","v":13.8},14.1,16.899999999999999,20.100000000000001,20,84.9,781,{"$f":"ROUND(Q51,1)","v":12.1},15,17.399999999999999,20.9,19.2,84.5,2138]
[null,"Business Studies",{"$f":"ROUND(C52,1)","v":10.1},20.3,27.9,23.6,13.6,95.5,18679,{"$f":"ROUND(J52,1)","v":12.9},22.8,27.6,21.1,11.6,96,13414,{"$f":"ROUND(Q52,1)","v":11.3},21.3,27.8,22.5,12.8,95.7,32093]
[null,"Economics",{"$f":"ROUND(C53,1)","v":26.3},24.7,21.7,15.5,8.1,96.3,9346,{"$f":"ROUND(J53,1)","v":32.1},24.3,19.399999999999999,12.8,8.1,96.7,4023,{"$f":"ROUND(Q53,1)","v":28.1},24.6,21,14.7,8.1,96.4,13369]
[null,"Geography",{"$f":"ROUND(C54,1)","v":16.3},23.5,25.5,20.7,10.9,96.8,17001,{"$f":"ROUND(J54,1)","v":25},26.7,24.1,15.3,7.1,98.2,14066,{"$f":"ROUND(Q54,1)","v":20.2},25,24.9,18.3,9.1,97.5,31067]
[null,"Government and Politics",{"$f":"ROUND(C55,1)","v":25.2},26.1,21.9,16.100000000000001,7.7,97,4195,{"$f":"ROUND(J55,1)","v":28.7},26.9,20.8,13,7.6,97.1,3033,{"$f":"ROUND(Q55,1)","v":26.7},26.4,21.5,14.8,7.7,97,7228]
[null,"History",{"$f":"ROUND(C56,1)","v":19.3},24.8,25,18.3,9.6999999999999993,97.1,17181,{"$f":"ROUND(J56,1)","v":21.7},25.9,24.1,17,8.8000000000000007,97.5,18332,{"$f":"ROUND(Q56,1)","v":20.5},25.4,24.5,17.600000000000001,9.1999999999999993,97.3,35513]
[null,"Law",{"$f":"ROUND(C57,1)","v":11.9},18.2,20,20.9,17.399999999999999,88.4,3392,{"$f":"ROUND(J57,1)","v":16.2},19.8,21.8,19.7,14.1,91.5,5114,{"$f":"ROUND(Q57,1)","v":14.5},19.2,21.1,20.2,15.4,90.2,8506]
[null,"Psychology",{"$f":"ROUND(C58,1)","v":9.1},16.5,22.2,23.9,18.2,90,7336,{"$f":"ROUND(J58,1)","v":17.899999999999999},22.1,23.1,19.3,12.3,94.6,24672,{"$f":"ROUND(Q58,1)","v":15.9},20.8,22.9,20.399999999999999,13.7,93.6,32008]
[null,"Sociology",{"$f":"ROUND(C59,1)","v":12.3},19.7,25,22.1,14,93.1,4628,{"$f":"ROUND(J59,1)","v":16.600000000000001},23.3,25.5,18.899999999999999,10.9,95.2,15457,{"$f":"ROUND(Q59,1)","v":15.6},22.5,25.4,19.600000000000001,11.6,94.7,20085]
[null,"Other social studies",{"$f":"ROUND(C60,1)","v":14.8},24.7,23.2,18.3,12.6,93.6,770,{"$f":"ROUND(J60,1)","v":18.600000000000001},24.8,21.6,19.100000000000001,10.1,94.2,843,{"$f":"ROUND(Q60,1)","v":16.8},24.7,22.4,18.7,11.3,93.9,1613]
[null,"Art and Design",{"$f":"ROUND(C61,1)","v":22.4},19.899999999999999,21.6,18.8,11.1,93.8,9996,{"$f":"ROUND(J61,1)","v":29.3},24.2,21.6,14.8,6.9,96.8,21691,{"$f":"ROUND(Q61,1)","v":27.1},22.9,21.6,16.100000000000001,8.1999999999999993,95.9,31687]
[null,"Drama",{"$f":"ROUND(C62,1)","v":12.1},23.3,30.8,20.3,9.6,96,3481,{"$f":"ROUND(J62,1)","v":17.3},28.7,28.5,17,6.8,98.3,9075,{"$f":"ROUND(Q62,1)","v":15.8},27.2,29.2,17.899999999999999,7.6,97.7,12556]
[null,"English",{"$f":"ROUND(C63,1)","v":18.2},23,26.5,21,9,97.7,22223,{"$f":"ROUND(J63,1)","v":18.600000000000001},24.5,27.4,20.2,7.8,98.4,50272,{"$f":"ROUND(Q63,1)","v":18.399999999999999},24,27.1,20.5,8.1999999999999993,98.2,72495]
[null,"Media/Film/TV Studies",{"$f":"ROUND(C64,1)","v":8.4},20.9,33,24.9,10,97.3,7033,{"$f":"ROUND(J64,1)","v":13},26,31.8,21.1,6.5,98.4,9715,{"$f":"ROUND(Q64,1)","v":11.1},23.9,32.299999999999997,22.7,8,98,16748]
[null,"Other Communication Studies",{"$f":"ROUND(C65,1)","v":10.9},22.9,32.6,20.2,9.6999999999999993,96.4,2257,{"$f":"ROUND(J65,1)","v":13.3},28.7,32.4,18.3,5.5,98.1,4692,{"$f":"ROUND(Q65,1)","v":12.5},26.8,32.5,18.899999999999999,6.8,97.5,6949]
[null,"French",{"$f":"ROUND(C66,1)","v":30.9},25.1,20.2,13.5,7.4,97.1,4296,{"$f":"ROUND(J66,1)","v":28.7},24.6,21.3,14.5,8.1,97.2,9303,{"$f":"ROUND(Q66,1)","v":29.4},24.8,21,14.2,7.8,97.2,13599]
[null,"German",{"$f":"ROUND(C67,1)","v":32.799999999999997},21.4,19.899999999999999,13.6,9.3000000000000007,96.9,2192,{"$f":"ROUND(J67,1)","v":29},22.9,20.100000000000001,15.6,9.6999999999999993,97.3,4175,{"$f":"ROUND(Q67,1)","v":30.3},22.4,20,14.9,9.5,97.2,6367]
[null,"Spanish",{"$f":"ROUND(C68,1)","v":32.6},27.1,18.600000000000001,12,6.8,97.1,1371,{"$f":"ROUND(J68,1)","v":30},25.9,21.4,12.7,7.5,97.5,3059,{"$f":"ROUND(Q68,1)","v":30.8},26.3,20.5,12.5,7.3,97.4,4430]
[null,"Other modern languages",{"$f":"ROUND(C69,1)","v":41.9},27.2,16.600000000000001,7.7,2.9,96.4,1682,{"$f":"ROUND(J69,1)","v":46.9},28.6,14.4,5.0999999999999996,1.8,96.7,2178,{"$f":"ROUND(Q69,1)","v":44.7},28,15.3,6.2,2.2999999999999998,96.6,3860]
[null,"Classical Studies",{"$f":"ROUND(C70,1)","v":32.6},26.1,21.4,12,6.4,98.4,2125,{"$f":"ROUND(J70,1)","v":32},29.3,23.4,11,3.4,99,2819,{"$f":"ROUND(Q70,1)","v":32.200000000000003},27.9,22.5,11.4,4.7,98.7,4944]
[null,"Religious Studies",{"$f":"ROUND(C71,1)","v":21.7},27.6,24.2,15,8,96.4,2440,{"$f":"ROUND(J71,1)","v":21.9},28,24.9,15.9,6.7,97.3,6167,{"$f":"ROUND(Q71,1)","v":21.8},27.9,24.7,15.6,7.1,97.1,8607]
[null,"Music",{"$f":"ROUND(C72,1)","v":19.399999999999999},22,24.5,20.100000000000001,10.3,96.3,3200,{"$f":"ROUND(J72,1)","v":22.8},24.9,25,17.100000000000001,8.1,98,3567,{"$f":"ROUND(Q72,1)","v":21.2},23.6,24.8,18.5,9.1,97.2,6767]
[null,"Physical Education",{"$f":"ROUND(C73,1)","v":8},16,25,26.9,18.3,94.2,10022,{"$f":"ROUND(J73,1)","v":19.3},21.2,24.7,20,11.3,96.4,6633,{"$f":"ROUND(Q73,1)","v":12.5},18.100000000000001,24.8,24.1,15.5,95.1,16655]
[null,"General Studies",{"$f":"ROUND(C74,1)","v":11.2},15.6,20.399999999999999,22.1,17.7,87.1,28079,{"$f":"ROUND(J74,1)","v":12.7},16.8,21.8,22.1,16.399999999999999,89.8,30442,{"$f":"ROUND(Q74,1)","v":12},16.3,21.1,22.1,17,88.5,58521]
[null,"All subjects",{"$f":"ROUND(C75,1)","v":19.2},20.2,22.2,19.399999999999999,12.6,93.6,299879,{"$f":"ROUND(J75,1)","v":21.6},23.1,23.4,17.8,9.8000000000000007,95.8,345154,{"$f":"ROUND(Q75,1)","v":20.5},21.8,22.8,18.5,11.1,94.8,645033]

{"sheet":"2003data_new","index":9,"n_rows":111,"n_cols":26,"rows_kept":111,"cut":false,"hidden":true,"merged":[]}
[]
[]
[null,null,"Males",null,null,null,null,null,"Females",null,null,null,null,null,"Total",null,null,null,null,null,"total entries",null,null,"total passes"]
[null,null,"A","B","C","D","E","other","A","B","C","D","E","other","A","B","C","D","E","other","Male","Female","Male and Female","Male","Female","Male and Female"]
[null,"Biological Sciences",3266,3298,3454,3136,2580,1286,6213,5850,5503,4545,3350,1421,9479,9148,8957,7681,5930,2707,17020,26882,43902,15734,25461,41195]
[null,"Chemistry",4115,3526,2866,2279,1617,721,4941,3996,3025,2136,1332,511,9056,7522,5891,4415,2949,1232,15124,15941,31065,14403,15430,29833]
[null,"Physics",5297,4153,3787,3404,2541,1188,1912,1358,1085,786,567,200,7209,5511,4872,4190,3108,1388,20370,5908,26278,19182,5708,24890]
[null,"Other Science",591,508,616,532,412,161,231,240,269,246,169,54,822,748,885,778,581,215,2820,1209,4029,2659,1155,3814]
[null,"Mathematics",9712,5544,4750,3656,2528,1510,6596,3782,2756,1950,1074,595,16308,9326,7506,5606,3602,2105,27700,16753,44453,26190,16158,42348]
[null,"Further Mathematics",2046,543,352,229,183,69,829,233,113,84,37,12,2875,776,465,313,220,81,3422,1308,4730,3353,1296,4649]
[null,"Design and Technology",1208,1847,2386,2264,1371,441,1063,1500,1538,1118,512,126,2271,3347,3924,3382,1883,567,9517,5857,15374,9076,5731,14807]
[null,"Computer Studies",929,1261,1635,1608,1275,611,104,180,195,215,166,77,1033,1441,1830,1823,1441,688,7319,937,8256,6708,860,7568]
[null,"ICT",551,1438,2520,2895,2328,1002,414,995,1370,1460,992,344,965,2433,3890,4355,3320,1346,10734,5575,16309,9732,5231,14963]
[null,"Home Economics",1,8,9,17,12,4,91,125,132,120,65,16,92,133,141,137,77,20,51,549,600,47,533,580]
[null,"Accounting and Finance",151,223,296,301,305,166,132,149,170,208,171,99,283,372,466,509,476,265,1442,929,2371,1276,830,2106]
[null,"Business Studies",2244,4413,5376,4464,2216,566,1983,3164,3582,2747,1330,359,4227,7577,8958,7211,3546,925,19279,13165,32444,18713,12806,31519]
[null,"Economics",2842,2434,1977,1306,620,203,1401,1018,764,470,219,63,4243,3452,2741,1776,839,266,9382,3935,13317,9179,3872,13051]
[null,"Geography",3189,4253,4165,3200,1665,374,3979,3841,3324,2094,887,208,7168,8094,7489,5294,2552,582,16846,14333,31179,16472,14125,30597]
[null,"Government and Politics",1267,1298,1043,721,399,153,1060,872,665,382,196,78,2327,2170,1708,1103,595,231,4881,3253,8134,4728,3175,7903]
[null,"History",3956,4420,4413,3228,1473,375,4569,4942,4293,3161,1333,350,8525,9362,8706,6389,2806,725,17865,18648,36513,17490,18298,35788]
[null,"Law",548,756,888,863,613,305,1204,1331,1415,1152,697,325,1752,2087,2303,2015,1310,630,3973,6124,10097,3668,5799,9467]
[null,"Psychology",976,1657,2088,2109,1489,770,5671,6955,6877,5299,2971,1035,6647,8612,8965,7408,4460,1805,9089,28808,37897,8319,27773,36092]
[null,"Sociology",679,1115,1248,1062,606,281,3195,4169,4033,2782,1430,468,3874,5284,5281,3844,2036,749,4991,16077,21068,4710,15609,20319]
[null,"Other social studies",142,239,244,176,126,48,212,245,219,164,83,35,354,484,463,340,209,83,975,958,1933,927,923,1850]
[null,"Art and Design",2235,2160,2384,2058,1115,516,6929,5715,5354,3403,1530,593,9164,7875,7738,5461,2645,1109,10468,23524,33992,9952,22931,32883]
[null,"Drama",395,865,1257,785,344,80,1562,2869,3031,1714,558,96,1957,3734,4288,2499,902,176,3726,9830,13556,3646,9734,13380]
[null,"English",4339,4994,5674,4288,1818,403,9882,12601,13847,10060,3478,627,14221,17595,19521,14348,5296,1030,21516,50495,72011,21113,49868,70981]
[null,"Media/Film/TV Studies",735,1726,2529,2123,794,203,1519,2954,3514,2293,744,136,2254,4680,6043,4416,1538,339,8110,11160,19270,7907,11024,18931]
[null,"Other Communication Studies",324,775,835,510,200,81,689,1478,1624,817,237,55,1013,2253,2459,1327,437,136,2725,4900,7625,2644,4845,7489]
[null,"French",1421,1077,803,518,287,89,2631,2287,1784,1211,618,178,4052,3364,2587,1729,905,267,4195,8709,12904,4106,8531,12637]
[null,"German",725,496,391,311,170,47,1127,962,803,624,307,105,1852,1458,1194,935,477,152,2140,3928,6068,2093,3823,5916]
[null,"Spanish",522,395,262,154,85,15,999,815,604,405,193,55,1521,1210,866,559,278,70,1433,3071,4504,1418,3016,4434]
[null,"Other modern languages",769,477,251,92,59,70,1191,579,292,107,44,68,1960,1056,543,199,103,138,1718,2281,3999,1648,2213,3861]
[null,"Classical Studies",744,565,445,322,113,31,1042,919,670,341,105,19,1786,1484,1115,663,218,50,2220,3096,5316,2189,3077,5266]
[null,"Religious Studies",779,807,720,436,222,69,1670,2069,1756,1115,403,127,2449,2876,2476,1551,625,196,3033,7140,10173,2964,7013,9977]
[null,"Music",751,794,932,745,412,160,868,904,973,687,332,85,1619,1698,1905,1432,744,245,3794,3849,7643,3634,3764,7398]
[null,"Physical Education",906,1961,2847,2948,2072,602,1395,1704,1847,1454,792,235,2301,3665,4694,4402,2864,837,11336,7427,18763,10734,7192,17926]
[null,"General Studies",3132,4391,5887,6151,4790,2485,3953,5472,6966,6713,4852,2105,7085,9863,12853,12864,9642,4590,26836,30061,56897,24351,27956,52307]
[null,"All subjects",61487,64417,69330,58891,36840,15085,81257,86273,84393,62063,31774,10860,142744,150690,153723,120954,68614,25945,306050,356620,662670,290965,345760,636725]
[]
[null,"Biological Sciences",19.2,19.399999999999999,20.3,18.399999999999999,15.2,92.4,17020,23.1,21.8,20.5,16.899999999999999,12.5,94.7,26882,21.6,20.8,20.399999999999999,17.5,13.5,93.8,43902]
[null,"Chemistry",27.2,23.3,19,15.1,10.7,95.2,15124,31,25.1,19,13.4,8.4,96.8,15941,29.2,24.2,19,14.2,9.5,96,31065]
[null,"Physics",26,20.399999999999999,18.600000000000001,16.7,12.5,94.2,20370,32.4,23,18.399999999999999,13.3,9.6,96.6,5908,27.4,21,18.5,15.9,11.8,94.7,26278]
[null,"Other Science",21,18,21.8,18.899999999999999,14.6,94.3,2820,19.100000000000001,19.899999999999999,22.2,20.3,14,95.5,1209,20.399999999999999,18.600000000000001,22,19.3,14.4,94.7,4029]
[null,"Mathematics",35.1,20,17.100000000000001,13.2,9.1,94.5,27700,39.4,22.6,16.5,11.6,6.4,96.4,16753,36.700000000000003,21,16.899999999999999,12.6,8.1,95.3,44453]
[null,"Further Mathematics",59.8,15.9,10.3,6.7,5.3,98,3422,63.4,17.8,8.6,6.4,2.8,99.1,1308,60.8,16.399999999999999,9.8000000000000007,6.6,4.7,98.3,4730]
[null,"Design and Technology",12.7,19.399999999999999,25.1,23.8,14.4,95.4,9517,18.100000000000001,25.6,26.3,19.100000000000001,8.6999999999999993,97.8,5857,14.8,21.8,25.5,22,12.2,96.3,15374]
[null,"Computer Studies",12.7,17.2,22.3,22,17.399999999999999,91.7,7319,11.1,19.2,20.8,22.9,17.7,91.8,937,12.5,17.5,22.2,22.1,17.5,91.7,8256]
[null,"ICT",5.0999999999999996,13.4,23.5,27,21.7,90.7,10734,7.4,17.8,24.6,26.2,17.8,93.8,5575,5.9,14.9,23.9,26.7,20.399999999999999,91.7,16309]
[null,"Home Economics","x",15.7,17.600000000000001,33.299999999999997,23.5,92.2,51,16.600000000000001,22.8,24,21.9,11.8,97.1,549,15.3,22.2,23.5,22.8,12.8,96.7,600]
[null,"Accounting and Finance",10.5,15.5,20.5,20.9,21.2,88.5,1442,14.2,16,18.3,22.4,18.399999999999999,89.3,929,11.9,15.7,19.7,21.5,20.100000000000001,88.8,2371]
[null,"Business Studies",11.6,22.9,27.9,23.2,11.5,97.1,19279,15.1,24,27.2,20.9,10.1,97.3,13165,13,23.4,27.6,22.2,10.9,97.1,32444]
[null,"Economics",30.3,25.9,21.1,13.9,6.6,97.8,9382,35.6,25.9,19.399999999999999,11.9,5.6,98.4,3935,31.9,25.9,20.6,13.3,6.3,98,13317]
[null,"Geography",18.899999999999999,25.2,24.7,19,9.9,97.8,16846,27.8,26.8,23.2,14.6,6.2,98.5,14333,23,26,24,17,8.1999999999999993,98.1,31179]
[null,"Government and Politics",26,26.6,21.4,14.8,8.1999999999999993,96.9,4881,32.6,26.8,20.399999999999999,11.7,6,97.6,3253,28.6,26.7,21,13.6,7.3,97.2,8134]
[null,"History",22.1,24.7,24.7,18.100000000000001,8.1999999999999993,97.9,17865,24.5,26.5,23,17,7.1,98.1,18648,23.3,25.6,23.8,17.5,7.7,98,36513]
[null,"Law",13.8,19,22.4,21.7,15.4,92.3,3973,19.7,21.7,23.1,18.8,11.4,94.7,6124,17.399999999999999,20.7,22.8,20,13,93.8,10097]
[null,"Psychology",10.7,18.2,23,23.2,16.399999999999999,91.5,9089,19.7,24.1,23.9,18.399999999999999,10.3,96.4,28808,17.5,22.7,23.7,19.5,11.8,95.2,37897]
[null,"Sociology",13.6,22.3,25,21.3,12.1,94.4,4991,19.899999999999999,25.9,25.1,17.3,8.9,97.1,16077,18.399999999999999,25.1,25.1,18.2,9.6999999999999993,96.4,21068]
[null,"Other social studies",14.6,24.5,25,18.100000000000001,12.9,95.1,975,22.1,25.6,22.9,17.100000000000001,8.6999999999999993,96.3,958,18.3,25,24,17.600000000000001,10.8,95.7,1933]
[null,"Art and Design",21.4,20.6,22.8,19.7,10.7,95.1,10468,29.5,24.3,22.8,14.5,6.5,97.5,23524,27,23.2,22.8,16.100000000000001,7.8,96.7,33992]
[null,"Drama",10.6,23.2,33.700000000000003,21.1,9.1999999999999993,97.9,3726,15.9,29.2,30.8,17.399999999999999,5.7,99,9830,14.4,27.5,31.6,18.399999999999999,6.7,98.7,13556]
[null,"English",20.2,23.2,26.4,19.899999999999999,8.4,98.1,21516,19.600000000000001,25,27.4,19.899999999999999,6.9,98.8,50495,19.7,24.4,27.1,19.899999999999999,7.4,98.6,72011]
[null,"Media/Film/TV Studies",9.1,21.3,31.2,26.2,9.8000000000000007,97.5,8110,13.6,26.5,31.5,20.5,6.7,98.8,11160,11.7,24.3,31.4,22.9,8,98.2,19270]
[null,"Other Communication Studies",11.9,28.4,30.6,18.7,7.3,97,2725,14.1,30.2,33.1,16.7,4.8,98.9,4900,13.3,29.5,32.200000000000003,17.399999999999999,5.7,98.2,7625]
[null,"French",33.9,25.7,19.100000000000001,12.3,6.8,97.9,4195,30.2,26.3,20.5,13.9,7.1,98,8709,31.4,26.1,20,13.4,7,97.9,12904]
[null,"German",33.9,23.2,18.3,14.5,7.9,97.8,2140,28.7,24.5,20.399999999999999,15.9,7.8,97.3,3928,30.5,24,19.7,15.4,7.9,97.5,6068]
[null,"Spanish",36.4,27.6,18.3,10.7,5.9,99,1433,32.5,26.5,19.7,13.2,6.3,98.2,3071,33.799999999999997,26.9,19.2,12.4,6.2,98.4,4504]
[null,"Other modern languages",44.8,27.8,14.6,5.4,3.4,95.9,1718,52.2,25.4,12.8,4.7,1.9,97,2281,49,26.4,13.6,5,2.6,96.5,3999]
[null,"Classical Studies",33.5,25.5,20,14.5,5.0999999999999996,98.6,2220,33.700000000000003,29.7,21.6,11,3.4,99.4,3096,33.6,27.9,21,12.5,4.0999999999999996,99.1,5316]
[null,"Religious Studies",25.7,26.6,23.7,14.4,7.3,97.7,3033,23.4,29,24.6,15.6,5.6,98.2,7140,24.1,28.3,24.3,15.2,6.1,98.1,10173]
[null,"Music",19.8,20.9,24.6,19.600000000000001,10.9,95.8,3794,22.6,23.5,25.3,17.8,8.6,97.8,3849,21.2,22.2,24.9,18.7,9.6999999999999993,96.8,7643]
[null,"Physical Education",8,17.3,25.1,26,18.3,94.7,11336,18.8,22.9,24.9,19.600000000000001,10.7,96.8,7427,12.3,19.5,25,23.5,15.3,95.5,18763]
[null,"General Studies",11.7,16.399999999999999,21.9,22.9,17.8,90.7,26836,13.1,18.2,23.2,22.3,16.100000000000001,93,30061,12.5,17.3,22.6,22.6,16.899999999999999,91.9,56897]
[null,"All subjects",20.100000000000001,21,22.7,19.2,12,95.1,306050,22.8,24.2,23.7,17.399999999999999,8.9,97,356620,21.5,22.7,23.2,18.3,10.4,96.1,662670]
[]
[null,"Biological Sciences",{"$f":"ROUND(C41,1)","v":19.2},{"$f":"ROUND(D41,1)","v":19.399999999999999},20.3,18.399999999999999,15.2,92.4,{"$f":"ROUND(I41,0)","v":17020},23.1,21.8,20.5,16.899999999999999,12.5,94.7,{"$f":"ROUND(P41,0)","v":26882},21.6,20.8,20.399999999999999,17.5,13.5,93.8,{"$f":"ROUND(W41,0)","v":43902}]
[null,"Chemistry",{"$f":"ROUND(C42,1)","v":27.2},23.3,19,15.1,10.7,95.2,{"$f":"ROUND(I42,0)","v":15124},{"$f":"ROUND(J42,1)","v":31},25.1,19,13.4,8.4,96.8,{"$f":"ROUND(P42,0)","v":15941},{"$f":"ROUND(Q42,1)","v":29.2},24.2,19,14.2,9.5,96,{"$f":"ROUND(W42,0)","v":31065}]
[null,"Physics",{"$f":"ROUND(C43,1)","v":26},20.399999999999999,18.600000000000001,16.7,12.5,94.2,20370,{"$f":"ROUND(J43,1)","v":32.4},23,18.399999999999999,13.3,9.6,96.6,5908,{"$f":"ROUND(Q43,1)","v":27.4},21,18.5,15.9,11.8,94.7,26278]
[null,"Other Science",{"$f":"ROUND(C44,1)","v":21},18,21.8,18.899999999999999,14.6,94.3,2820,{"$f":"ROUND(J44,1)","v":19.100000000000001},19.899999999999999,22.2,20.3,14,95.5,1209,{"$f":"ROUND(Q44,1)","v":20.399999999999999},18.600000000000001,22,19.3,14.4,94.7,4029]
[null,"Mathematics",{"$f":"ROUND(C45,1)","v":35.1},20,17.100000000000001,13.2,9.1,94.5,27700,{"$f":"ROUND(J45,1)","v":39.4},22.6,16.5,11.6,6.4,96.4,16753,{"$f":"ROUND(Q45,1)","v":36.700000000000003},21,16.899999999999999,12.6,8.1,95.3,44453]
[null,"Further Mathematics",{"$f":"ROUND(C46,1)","v":59.8},15.9,10.3,6.7,5.3,98,3422,{"$f":"ROUND(J46,1)","v":63.4},17.8,8.6,6.4,2.8,99.1,1308,{"$f":"ROUND(Q46,1)","v":60.8},16.399999999999999,9.8000000000000007,6.6,4.7,98.3,4730]
[null,"Design and Technology",{"$f":"ROUND(C47,1)","v":12.7},19.399999999999999,25.1,23.8,14.4,95.4,9517,{"$f":"ROUND(J47,1)","v":18.100000000000001},25.6,26.3,19.100000000000001,8.6999999999999993,97.8,5857,{"$f":"ROUND(Q47,1)","v":14.8},21.8,25.5,22,12.2,96.3,15374]
[null,"Computer Studies",{"$f":"ROUND(C48,1)","v":12.7},17.2,22.3,22,17.399999999999999,91.7,7319,{"$f":"ROUND(J48,1)","v":11.1},19.2,20.8,22.9,17.7,91.8,937,{"$f":"ROUND(Q48,1)","v":12.5},17.5,22.2,22.1,17.5,91.7,8256]
[null,"ICT",{"$f":"ROUND(C49,1)","v":5.0999999999999996},13.4,23.5,27,21.7,90.7,10734,{"$f":"ROUND(J49,1)","v":7.4},17.8,24.6,26.2,17.8,93.8,5575,{"$f":"ROUND(Q49,1)","v":5.9},14.9,23.9,26.7,20.399999999999999,91.7,16309]
[null,"Home Economics","x",{"$f":"ROUND(D50,1)","v":15.7},17.600000000000001,33.299999999999997,23.5,92.2,51,{"$f":"ROUND(J50,1)","v":16.600000000000001},22.8,24,21.9,11.8,97.1,549,{"$f":"ROUND(Q50,1)","v":15.3},22.2,23.5,22.8,12.8,96.7,600]
[null,"Accounting and Finance",{"$f":"ROUND(C51,1)","v":10.5},15.5,20.5,20.9,21.2,88.5,1442,{"$f":"ROUND(J51,1)","v":14.2},16,18.3,22.4,18.399999999999999,89.3,929,{"$f":"ROUND(Q51,1)","v":11.9},15.7,19.7,21.5,20.100000000000001,88.8,2371]
[null,"Business Studies",{"$f":"ROUND(C52,1)","v":11.6},22.9,27.9,23.2,11.5,97.1,19279,{"$f":"ROUND(J52,1)","v":15.1},24,27.2,20.9,10.1,97.3,13165,{"$f":"ROUND(Q52,1)","v":13},23.4,27.6,22.2,10.9,97.1,32444]
[null,"Economics",{"$f":"ROUND(C53,1)","v":30.3},25.9,21.1,13.9,6.6,97.8,9382,{"$f":"ROUND(J53,1)","v":35.6},25.9,19.399999999999999,11.9,5.6,98.4,3935,{"$f":"ROUND(Q53,1)","v":31.9},25.9,20.6,13.3,6.3,98,13317]
[null,"Geography",{"$f":"ROUND(C54,1)","v":18.899999999999999},25.2,24.7,19,9.9,97.8,16846,{"$f":"ROUND(J54,1)","v":27.8},26.8,23.2,14.6,6.2,98.5,14333,{"$f":"ROUND(Q54,1)","v":23},26,24,17,8.1999999999999993,98.1,31179]
[null,"Government and Politics",{"$f":"ROUND(C55,1)","v":26},26.6,21.4,14.8,8.1999999999999993,96.9,4881,{"$f":"ROUND(J55,1)","v":32.6},26.8,20.399999999999999,11.7,6,97.6,3253,{"$f":"ROUND(Q55,1)","v":28.6},26.7,21,13.6,7.3,97.2,8134]
[null,"History",{"$f":"ROUND(C56,1)","v":22.1},24.7,24.7,18.100000000000001,8.1999999999999993,97.9,17865,{"$f":"ROUND(J56,1)","v":24.5},26.5,23,17,7.1,98.1,18648,{"$f":"ROUND(Q56,1)","v":23.3},25.6,23.8,17.5,7.7,98,36513]
[null,"Law",{"$f":"ROUND(C57,1)","v":13.8},19,22.4,21.7,15.4,92.3,3973,{"$f":"ROUND(J57,1)","v":19.7},21.7,23.1,18.8,11.4,94.7,6124,{"$f":"ROUND(Q57,1)","v":17.399999999999999},20.7,22.8,20,13,93.8,10097]
[null,"Psychology",{"$f":"ROUND(C58,1)","v":10.7},18.2,23,23.2,16.399999999999999,91.5,9089,{"$f":"ROUND(J58,1)","v":19.7},24.1,23.9,18.399999999999999,10.3,96.4,28808,{"$f":"ROUND(Q58,1)","v":17.5},22.7,23.7,19.5,11.8,95.2,37897]
[null,"Sociology",{"$f":"ROUND(C59,1)","v":13.6},22.3,25,21.3,12.1,94.4,4991,{"$f":"ROUND(J59,1)","v":19.899999999999999},25.9,25.1,17.3,8.9,97.1,16077,{"$f":"ROUND(Q59,1)","v":18.399999999999999},25.1,25.1,18.2,9.6999999999999993,96.4,21068]
[null,"Other social studies",{"$f":"ROUND(C60,1)","v":14.6},24.5,25,18.100000000000001,12.9,95.1,975,{"$f":"ROUND(J60,1)","v":22.1},25.6,22.9,17.100000000000001,8.6999999999999993,96.3,958,{"$f":"ROUND(Q60,1)","v":18.3},25,24,17.600000000000001,10.8,95.7,1933]
[null,"Art and Design",{"$f":"ROUND(C61,1)","v":21.4},20.6,22.8,19.7,10.7,95.1,10468,{"$f":"ROUND(J61,1)","v":29.5},24.3,22.8,14.5,6.5,97.5,23524,{"$f":"ROUND(Q61,1)","v":27},23.2,22.8,16.100000000000001,7.8,96.7,33992]
[null,"Drama",{"$f":"ROUND(C62,1)","v":10.6},23.2,33.700000000000003,21.1,9.1999999999999993,97.9,3726,{"$f":"ROUND(J62,1)","v":15.9},29.2,30.8,17.399999999999999,5.7,99,9830,{"$f":"ROUND(Q62,1)","v":14.4},27.5,31.6,18.399999999999999,6.7,98.7,13556]
[null,"English",{"$f":"ROUND(C63,1)","v":20.2},23.2,26.4,19.899999999999999,8.4,98.1,21516,{"$f":"ROUND(J63,1)","v":19.600000000000001},25,27.4,19.899999999999999,6.9,98.8,50495,{"$f":"ROUND(Q63,1)","v":19.7},24.4,27.1,19.899999999999999,7.4,98.6,72011]
[null,"Media/Film/TV Studies",{"$f":"ROUND(C64,1)","v":9.1},21.3,31.2,26.2,9.8000000000000007,97.5,8110,{"$f":"ROUND(J64,1)","v":13.6},26.5,31.5,20.5,6.7,98.8,11160,{"$f":"ROUND(Q64,1)","v":11.7},24.3,31.4,22.9,8,98.2,19270]
[null,"Other Communication Studies",{"$f":"ROUND(C65,1)","v":11.9},28.4,30.6,18.7,7.3,97,2725,{"$f":"ROUND(J65,1)","v":14.1},30.2,33.1,16.7,4.8,98.9,4900,{"$f":"ROUND(Q65,1)","v":13.3},29.5,32.200000000000003,17.399999999999999,5.7,98.2,7625]
[null,"French",{"$f":"ROUND(C66,1)","v":33.9},25.7,19.100000000000001,12.3,6.8,97.9,4195,{"$f":"ROUND(J66,1)","v":30.2},26.3,20.5,13.9,7.1,98,8709,{"$f":"ROUND(Q66,1)","v":31.4},26.1,20,13.4,7,97.9,12904]
[null,"German",{"$f":"ROUND(C67,1)","v":33.9},23.2,18.3,14.5,7.9,97.8,2140,{"$f":"ROUND(J67,1)","v":28.7},24.5,20.399999999999999,15.9,7.8,97.3,3928,{"$f":"ROUND(Q67,1)","v":30.5},24,19.7,15.4,7.9,97.5,6068]
[null,"Spanish",{"$f":"ROUND(C68,1)","v":36.4},27.6,18.3,10.7,5.9,99,1433,{"$f":"ROUND(J68,1)","v":32.5},26.5,19.7,13.2,6.3,98.2,3071,{"$f":"ROUND(Q68,1)","v":33.799999999999997},26.9,19.2,12.4,6.2,98.4,4504]
[null,"Other modern languages",{"$f":"ROUND(C69,1)","v":44.8},27.8,14.6,5.4,3.4,95.9,1718,{"$f":"ROUND(J69,1)","v":52.2},25.4,12.8,4.7,1.9,97,2281,{"$f":"ROUND(Q69,1)","v":49},26.4,13.6,5,2.6,96.5,3999]
[null,"Classical Studies",{"$f":"ROUND(C70,1)","v":33.5},25.5,20,14.5,5.0999999999999996,98.6,2220,{"$f":"ROUND(J70,1)","v":33.700000000000003},29.7,21.6,11,3.4,99.4,3096,{"$f":"ROUND(Q70,1)","v":33.6},27.9,21,12.5,4.0999999999999996,99.1,5316]
[null,"Religious Studies",{"$f":"ROUND(C71,1)","v":25.7},26.6,23.7,14.4,7.3,97.7,3033,{"$f":"ROUND(J71,1)","v":23.4},29,24.6,15.6,5.6,98.2,7140,{"$f":"ROUND(Q71,1)","v":24.1},28.3,24.3,15.2,6.1,98.1,10173]
[null,"Music",{"$f":"ROUND(C72,1)","v":19.8},20.9,24.6,19.600000000000001,10.9,95.8,3794,{"$f":"ROUND(J72,1)","v":22.6},23.5,25.3,17.8,8.6,97.8,3849,{"$f":"ROUND(Q72,1)","v":21.2},22.2,24.9,18.7,9.6999999999999993,96.8,7643]
[null,"Physical Education",{"$f":"ROUND(C73,1)","v":8},17.3,25.1,26,18.3,94.7,11336,{"$f":"ROUND(J73,1)","v":18.8},22.9,24.9,19.600000000000001,10.7,96.8,7427,{"$f":"ROUND(Q73,1)","v":12.3},19.5,25,23.5,15.3,95.5,18763]
[null,"General Studies",{"$f":"ROUND(C74,1)","v":11.7},16.399999999999999,21.9,22.9,17.8,90.7,26836,{"$f":"ROUND(J74,1)","v":13.1},18.2,23.2,22.3,16.100000000000001,93,30061,{"$f":"ROUND(Q74,1)","v":12.5},17.3,22.6,22.6,16.899999999999999,91.9,56897]
[null,"All subjects",{"$f":"ROUND(C75,1)","v":20.100000000000001},21,22.7,19.2,12,95.1,306050,{"$f":"ROUND(J75,1)","v":22.8},24.2,23.7,17.399999999999999,8.9,97,356620,{"$f":"ROUND(Q75,1)","v":21.5},22.7,23.2,18.3,10.4,96.1,662670]

{"sheet":"2004data_new","index":10,"n_rows":111,"n_cols":26,"rows_kept":111,"cut":false,"hidden":true,"merged":[]}
[]
[]
[null,null,"Males",null,null,null,null,null,"Females",null,null,null,null,null,"Total",null,null,null,null,null,"total entries",null,null,"total passes"]
[null,null,"A","B","C","D","E","other","A","B","C","D","E","other","A","B","C","D","E","other","Male","Female","Male and Female","Male","Female","Male and Female"]
[null,"Biological Sciences",3583,3621,3619,3184,2504,1109,6377,5858,5572,4502,3075,1231,9960,9479,9191,7686,5579,2340,17620,26615,44235,16511,25384,41895]
[null,"Chemistry",4683,3692,3023,2256,1568,619,5074,4156,3109,2169,1342,439,9757,7848,6132,4425,2910,1058,15841,16289,32130,15222,15850,31072]
[null,"Physics",5256,3871,3724,3056,2286,1030,1843,1245,989,725,431,150,7099,5116,4713,3781,2717,1180,19223,5383,24606,18193,5233,23426]
[null,"Other Science",626,516,604,499,373,119,201,234,231,215,118,37,827,750,835,714,491,156,2737,1036,3773,2618,999,3617]
[null,"Mathematics",10461,5863,4773,3617,2453,1212,6929,4046,2998,1949,1208,508,17390,9909,7771,5566,3661,1720,28379,17638,46017,27167,17130,44297]
[null,"Further Mathematics",2177,626,402,251,159,84,861,234,142,91,62,22,3038,860,544,342,221,106,3699,1412,5111,3615,1390,5005]
[null,"Design and Technology",1173,1898,2452,2191,1375,415,1179,1473,1523,1107,573,123,2352,3371,3975,3298,1948,538,9504,5978,15482,9089,5855,14944]
[null,"Computer Studies",834,1156,1351,1351,1021,444,123,134,136,160,102,41,957,1290,1487,1511,1123,485,6157,696,6853,5713,655,6368]
[null,"ICT",560,1388,2312,2640,1829,689,421,966,1386,1281,744,233,981,2354,3698,3921,2573,922,9418,5031,14449,8729,4798,13527]
[null,"Home Economics",2,5,9,9,12,4,81,137,104,107,55,14,83,142,113,116,67,18,41,498,539,37,484,521]
[null,"Accounting and Finance",176,241,351,399,328,165,147,183,209,184,174,103,323,424,560,583,502,268,1660,1000,2660,1495,897,2392]
[null,"Business Studies",2542,4441,5196,4091,1870,483,2060,3178,3429,2609,1159,229,4602,7619,8625,6700,3029,712,18623,12664,31287,18140,12435,30575]
[null,"Economics",2961,2534,1973,1249,603,192,1445,1046,749,424,174,58,4406,3580,2722,1673,777,250,9512,3896,13408,9320,3838,13158]
[null,"Geography",3336,4135,4088,3054,1522,336,3916,3714,2997,1841,802,165,7252,7849,7085,4895,2324,501,16471,13435,29906,16135,13270,29405]
[null,"Government and Politics",1357,1410,1137,740,329,144,1101,925,657,420,200,74,2458,2335,1794,1160,529,218,5117,3377,8494,4973,3303,8276]
[null,"History",4229,4727,4803,3311,1603,392,4789,5188,4509,3011,1296,292,9018,9915,9312,6322,2899,684,19065,19085,38150,18673,18793,37466]
[null,"Law",685,965,1091,1032,689,328,1388,1549,1668,1302,777,367,2073,2514,2759,2334,1466,695,4790,7051,11841,4462,6684,11146]
[null,"Psychology",1214,2074,2632,2397,1770,699,6606,7823,7685,5661,3137,1109,7820,9897,10317,8058,4907,1808,10786,32021,42807,10087,30912,40999]
[null,"Sociology",754,1257,1423,1171,534,211,3424,4359,4459,3053,1320,395,4178,5616,5882,4224,1854,606,5350,17010,22360,5139,16615,21754]
[null,"Other social studies",218,270,312,236,121,49,217,304,250,201,116,44,435,574,562,437,237,93,1206,1132,2338,1157,1088,2245]
[null,"Art and Design",2411,2378,2503,1998,1150,500,6917,5930,5232,3400,1561,585,9328,8308,7735,5398,2711,1085,10940,23625,34565,10440,23040,33480]
[null,"Drama",488,1031,1256,814,347,67,1660,2999,3147,1573,475,98,2148,4030,4403,2387,822,165,4003,9952,13955,3936,9854,13790]
[null,"English",4680,5057,5828,4508,1854,385,10190,12062,13951,10079,3721,652,14870,17119,19779,14587,5575,1037,22312,50655,72967,21927,50003,71930]
[null,"Media/Film/TV Studies",909,2030,2952,2227,759,189,1774,3471,3731,2166,624,158,2683,5501,6683,4393,1383,347,9066,11924,20990,8877,11766,20643]
[null,"Other Communication Studies",417,869,998,577,169,65,767,1564,1753,833,247,50,1184,2433,2751,1410,416,115,3095,5214,8309,3030,5164,8194]
[null,"French",1406,1090,770,493,246,70,2767,2195,1688,1130,513,112,4173,3285,2458,1623,759,182,4075,8405,12480,4005,8293,12298]
[null,"German",699,469,354,299,143,57,1109,905,752,532,261,63,1808,1374,1106,831,404,120,2021,3622,5643,1964,3559,5523]
[null,"Spanish",559,377,255,132,65,23,1084,886,669,379,170,51,1643,1263,924,511,235,74,1411,3239,4650,1388,3188,4576]
[null,"Other modern languages",734,557,274,120,56,74,1174,727,318,135,48,62,1908,1284,592,255,104,136,1815,2464,4279,1741,2402,4143]
[null,"Classical Studies",768,568,484,252,103,26,1094,902,607,331,98,28,1862,1470,1091,583,201,54,2201,3060,5261,2175,3032,5207]
[null,"Religious Studies",905,984,838,489,216,67,2100,2487,1952,1149,424,114,3005,3471,2790,1638,640,181,3499,8226,11725,3432,8112,11544]
[null,"Music",728,896,1008,902,493,221,934,912,956,716,373,91,1662,1808,1964,1618,866,312,4248,3982,8230,4027,3891,7918]
[null,"Physical Education",940,2035,2943,3031,1900,511,1534,1861,1935,1506,811,227,2474,3896,4878,4537,2711,738,11360,7874,19234,10849,7647,18496]
[null,"General Studies",3118,4579,5940,6395,4744,2233,3867,5470,7155,6991,4784,1914,6985,10049,13095,13386,9528,4147,27009,30181,57190,24776,28267,53043]
[null,"All subjects",65589,67610,71678,58971,35194,13212,85153,89123,86648,61932,30975,9839,150742,156733,158326,120903,66169,23051,312254,363670,675924,299042,353831,652873]
[]
[null,"Biological Sciences",20.3,20.6,20.5,18.100000000000001,14.2,93.7,17620,24,22,20.9,16.899999999999999,11.6,95.4,26615,22.5,21.4,20.8,17.399999999999999,12.6,94.7,44235]
[null,"Chemistry",29.6,23.3,19.100000000000001,14.2,9.9,96.1,15841,31.1,25.5,19.100000000000001,13.3,8.1999999999999993,97.3,16289,30.4,24.4,19.100000000000001,13.8,9.1,96.7,32130]
[null,"Physics",27.3,20.100000000000001,19.399999999999999,15.9,11.9,94.6,19223,34.200000000000003,23.1,18.399999999999999,13.5,8,97.2,5383,28.9,20.8,19.2,15.4,11,95.2,24606]
[null,"Other Science",22.9,18.899999999999999,22.1,18.2,13.6,95.7,2737,19.399999999999999,22.6,22.3,20.8,11.4,96.4,1036,21.9,19.899999999999999,22.1,18.899999999999999,13,95.9,3773]
[null,"Mathematics",36.9,20.7,16.8,12.7,8.6,95.7,28379,39.299999999999997,22.9,17,11.1,6.8,97.1,17638,37.799999999999997,21.5,16.899999999999999,12.1,8,96.3,46017]
[null,"Further Mathematics",58.9,16.899999999999999,10.9,6.8,4.3,97.7,3699,61,16.600000000000001,10.1,6.4,4.4000000000000004,98.4,1412,59.4,16.8,10.6,6.7,4.3,97.9,5111]
[null,"Design and Technology",12.3,20,25.8,23.1,14.5,95.6,9504,19.7,24.6,25.5,18.5,9.6,97.9,5978,15.2,21.8,25.7,21.3,12.6,96.5,15482]
[null,"Computer Studies",13.5,18.8,21.9,21.9,16.600000000000001,92.8,6157,17.7,19.3,19.5,23,14.7,94.1,696,14,18.8,21.7,22,16.399999999999999,92.9,6853]
[null,"ICT",5.9,14.7,24.5,28,19.399999999999999,92.7,9418,8.4,19.2,27.5,25.5,14.8,95.4,5031,6.8,16.3,25.6,27.1,17.8,93.6,14449]
[null,"Home Economics","x",12.2,22,22,29.3,90.2,41,16.3,27.5,20.9,21.5,11,97.2,498,15.4,26.3,21,21.5,12.4,96.7,539]
[null,"Accounting and Finance",10.6,14.5,21.1,24,19.8,90.1,1660,14.7,18.3,20.9,18.399999999999999,17.399999999999999,89.7,1000,12.1,15.9,21.1,21.9,18.899999999999999,89.9,2660]
[null,"Business Studies",13.6,23.8,27.9,22,10,97.4,18623,16.3,25.1,27.1,20.6,9.1999999999999993,98.2,12664,14.7,24.4,27.6,21.4,9.6999999999999993,97.7,31287]
[null,"Economics",31.1,26.6,20.7,13.1,6.3,98,9512,37.1,26.8,19.2,10.9,4.5,98.5,3896,32.9,26.7,20.3,12.5,5.8,98.1,13408]
[null,"Geography",20.3,25.1,24.8,18.5,9.1999999999999993,98,16471,29.1,27.6,22.3,13.7,6,98.8,13435,24.2,26.2,23.7,16.399999999999999,7.8,98.3,29906]
[null,"Government and Politics",26.5,27.6,22.2,14.5,6.4,97.2,5117,32.6,27.4,19.5,12.4,5.9,97.8,3377,28.9,27.5,21.1,13.7,6.2,97.4,8494]
[null,"History",22.2,24.8,25.2,17.399999999999999,8.4,97.9,19065,25.1,27.2,23.6,15.8,6.8,98.5,19085,23.6,26,24.4,16.600000000000001,7.6,98.2,38150]
[null,"Law",14.3,20.100000000000001,22.8,21.5,14.4,93.2,4790,19.7,22,23.7,18.5,11,94.8,7051,17.5,21.2,23.3,19.7,12.4,94.1,11841]
[null,"Psychology",11.3,19.2,24.4,22.2,16.399999999999999,93.5,10786,20.6,24.4,24,17.7,9.8000000000000007,96.5,32021,18.3,23.1,24.1,18.8,11.5,95.8,42807]
[null,"Sociology",14.1,23.5,26.6,21.9,10,96.1,5350,20.100000000000001,25.6,26.2,17.899999999999999,7.8,97.7,17010,18.7,25.1,26.3,18.899999999999999,8.3000000000000007,97.3,22360]
[null,"Other social studies",18.100000000000001,22.4,25.9,19.600000000000001,10,95.9,1206,19.2,26.9,22.1,17.8,10.199999999999999,96.1,1132,18.600000000000001,24.6,24,18.7,10.1,96,2338]
[null,"Art and Design",22,21.7,22.9,18.3,10.5,95.4,10940,29.3,25.1,22.1,14.4,6.6,97.5,23625,27,24,22.4,15.6,7.8,96.9,34565]
[null,"Drama",12.2,25.8,31.4,20.3,8.6999999999999993,98.3,4003,16.7,30.1,31.6,15.8,4.8,99,9952,15.4,28.9,31.6,17.100000000000001,5.9,98.8,13955]
[null,"English",21,22.7,26.1,20.2,8.3000000000000007,98.3,22312,20.100000000000001,23.8,27.5,19.899999999999999,7.3,98.7,50655,20.399999999999999,23.5,27.1,20,7.6,98.6,72967]
[null,"Media/Film/TV Studies",10,22.4,32.6,24.6,8.4,97.9,9066,14.9,29.1,31.3,18.2,5.2,98.7,11924,12.8,26.2,31.8,20.9,6.6,98.3,20990]
[null,"Other Communication Studies",13.5,28.1,32.200000000000003,18.600000000000001,5.5,97.9,3095,14.7,30,33.6,16,4.7,99,5214,14.2,29.3,33.1,17,5,98.6,8309]
[null,"French",34.5,26.7,18.899999999999999,12.1,6,98.3,4075,32.9,26.1,20.100000000000001,13.4,6.1,98.7,8405,33.4,26.3,19.7,13,6.1,98.5,12480]
[null,"German",34.6,23.2,17.5,14.8,7.1,97.2,2021,30.6,25,20.8,14.7,7.2,98.3,3622,32,24.3,19.600000000000001,14.7,7.2,97.9,5643]
[null,"Spanish",39.6,26.7,18.100000000000001,9.4,4.5999999999999996,98.4,1411,33.5,27.4,20.7,11.7,5.2,98.4,3239,35.299999999999997,27.2,19.899999999999999,11,5.0999999999999996,98.4,4650]
[null,"Other modern languages",40.4,30.7,15.1,6.6,3.1,95.9,1815,47.6,29.5,12.9,5.5,1.9,97.5,2464,44.6,30,13.8,6,2.4,96.8,4279]
[null,"Classical Studies",34.9,25.8,22,11.4,4.7,98.8,2201,35.799999999999997,29.5,19.8,10.8,3.2,99.1,3060,35.4,27.9,20.7,11.1,3.8,99,5261]
[null,"Religious Studies",25.9,28.1,23.9,14,6.2,98.1,3499,25.5,30.2,23.7,14,5.2,98.6,8226,25.6,29.6,23.8,14,5.5,98.5,11725]
[null,"Music",17.100000000000001,21.1,23.7,21.2,11.6,94.8,4248,23.5,22.9,24,18,9.4,97.7,3982,20.2,22,23.9,19.7,10.5,96.2,8230]
[null,"Physical Education",8.3000000000000007,17.899999999999999,25.9,26.7,16.7,95.5,11360,19.5,23.6,24.6,19.100000000000001,10.3,97.1,7874,12.9,20.3,25.4,23.6,14.1,96.2,19234]
[null,"General Studies",11.5,17,22,23.7,17.600000000000001,91.7,27009,12.8,18.100000000000001,23.7,23.2,15.9,93.7,30181,12.2,17.600000000000001,22.9,23.4,16.7,92.7,57190]
[null,"All subjects",21,21.7,23,18.899999999999999,11.3,95.8,312254,23.4,24.5,23.8,17,8.5,97.3,363670,22.3,23.2,23.4,17.899999999999999,9.8000000000000007,96.6,675924]
[]
[null,"Biological Sciences",{"$f":"ROUND(C41,1)","v":20.3},{"$f":"ROUND(D41,1)","v":20.6},20.5,18.100000000000001,14.2,93.7,{"$f":"ROUND(I41,0)","v":17620},24,22,20.9,16.899999999999999,11.6,95.4,{"$f":"ROUND(P41,0)","v":26615},22.5,21.4,20.8,17.399999999999999,12.6,94.7,{"$f":"ROUND(W41,0)","v":44235}]
[null,"Chemistry",{"$f":"ROUND(C42,1)","v":29.6},23.3,19.100000000000001,14.2,9.9,96.1,{"$f":"ROUND(I42,0)","v":15841},{"$f":"ROUND(J42,1)","v":31.1},25.5,19.100000000000001,13.3,8.1999999999999993,97.3,{"$f":"ROUND(P42,0)","v":16289},{"$f":"ROUND(Q42,1)","v":30.4},24.4,19.100000000000001,13.8,9.1,96.7,{"$f":"ROUND(W42,0)","v":32130}]
[null,"Physics",{"$f":"ROUND(C43,1)","v":27.3},20.100000000000001,19.399999999999999,15.9,11.9,94.6,19223,{"$f":"ROUND(J43,1)","v":34.200000000000003},23.1,18.399999999999999,13.5,8,97.2,5383,{"$f":"ROUND(Q43,1)","v":28.9},20.8,19.2,15.4,11,95.2,24606]
[null,"Other Science",{"$f":"ROUND(C44,1)","v":22.9},18.899999999999999,22.1,18.2,13.6,95.7,2737,{"$f":"ROUND(J44,1)","v":19.399999999999999},22.6,22.3,20.8,11.4,96.4,1036,{"$f":"ROUND(Q44,1)","v":21.9},19.899999999999999,22.1,18.899999999999999,13,95.9,3773]
[null,"Mathematics",{"$f":"ROUND(C45,1)","v":36.9},20.7,16.8,12.7,8.6,95.7,28379,{"$f":"ROUND(J45,1)","v":39.299999999999997},22.9,17,11.1,6.8,97.1,17638,{"$f":"ROUND(Q45,1)","v":37.799999999999997},21.5,16.899999999999999,12.1,8,96.3,46017]
[null,"Further Mathematics",{"$f":"ROUND(C46,1)","v":58.9},16.899999999999999,10.9,6.8,4.3,97.7,3699,{"$f":"ROUND(J46,1)","v":61},16.600000000000001,10.1,6.4,4.4000000000000004,98.4,1412,{"$f":"ROUND(Q46,1)","v":59.4},16.8,10.6,6.7,4.3,97.9,5111]
[null,"Design and Technology",{"$f":"ROUND(C47,1)","v":12.3},20,25.8,23.1,14.5,95.6,9504,{"$f":"ROUND(J47,1)","v":19.7},24.6,25.5,18.5,9.6,97.9,5978,{"$f":"ROUND(Q47,1)","v":15.2},21.8,25.7,21.3,12.6,96.5,15482]
[null,"Computer Studies",{"$f":"ROUND(C48,1)","v":13.5},18.8,21.9,21.9,16.600000000000001,92.8,6157,{"$f":"ROUND(J48,1)","v":17.7},19.3,19.5,23,14.7,94.1,696,{"$f":"ROUND(Q48,1)","v":14},18.8,21.7,22,16.399999999999999,92.9,6853]
[null,"ICT",{"$f":"ROUND(C49,1)","v":5.9},14.7,24.5,28,19.399999999999999,92.7,9418,{"$f":"ROUND(J49,1)","v":8.4},19.2,27.5,25.5,14.8,95.4,5031,{"$f":"ROUND(Q49,1)","v":6.8},16.3,25.6,27.1,17.8,93.6,14449]
[null,"Home Economics","x",{"$f":"ROUND(D50,1)","v":12.2},22,22,29.3,90.2,41,{"$f":"ROUND(J50,1)","v":16.3},27.5,20.9,21.5,11,97.2,498,{"$f":"ROUND(Q50,1)","v":15.4},26.3,21,21.5,12.4,96.7,539]
[null,"Accounting and Finance",{"$f":"ROUND(C51,1)","v":10.6},14.5,21.1,24,19.8,90.1,1660,{"$f":"ROUND(J51,1)","v":14.7},18.3,20.9,18.399999999999999,17.399999999999999,89.7,1000,{"$f":"ROUND(Q51,1)","v":12.1},15.9,21.1,21.9,18.899999999999999,89.9,2660]
[null,"Business Studies",{"$f":"ROUND(C52,1)","v":13.6},23.8,27.9,22,10,97.4,18623,{"$f":"ROUND(J52,1)","v":16.3},25.1,27.1,20.6,9.1999999999999993,98.2,12664,{"$f":"ROUND(Q52,1)","v":14.7},24.4,27.6,21.4,9.6999999999999993,97.7,31287]
[null,"Economics",{"$f":"ROUND(C53,1)","v":31.1},26.6,20.7,13.1,6.3,98,9512,{"$f":"ROUND(J53,1)","v":37.1},26.8,19.2,10.9,4.5,98.5,3896,{"$f":"ROUND(Q53,1)","v":32.9},26.7,20.3,12.5,5.8,98.1,13408]
[null,"Geography",{"$f":"ROUND(C54,1)","v":20.3},25.1,24.8,18.5,9.1999999999999993,98,16471,{"$f":"ROUND(J54,1)","v":29.1},27.6,22.3,13.7,6,98.8,13435,{"$f":"ROUND(Q54,1)","v":24.2},26.2,23.7,16.399999999999999,7.8,98.3,29906]
[null,"Government and Politics",{"$f":"ROUND(C55,1)","v":26.5},27.6,22.2,14.5,6.4,97.2,5117,{"$f":"ROUND(J55,1)","v":32.6},27.4,19.5,12.4,5.9,97.8,3377,{"$f":"ROUND(Q55,1)","v":28.9},27.5,21.1,13.7,6.2,97.4,8494]
[null,"History",{"$f":"ROUND(C56,1)","v":22.2},24.8,25.2,17.399999999999999,8.4,97.9,19065,{"$f":"ROUND(J56,1)","v":25.1},27.2,23.6,15.8,6.8,98.5,19085,{"$f":"ROUND(Q56,1)","v":23.6},26,24.4,16.600000000000001,7.6,98.2,38150]
[null,"Law",{"$f":"ROUND(C57,1)","v":14.3},20.100000000000001,22.8,21.5,14.4,93.2,4790,{"$f":"ROUND(J57,1)","v":19.7},22,23.7,18.5,11,94.8,7051,{"$f":"ROUND(Q57,1)","v":17.5},21.2,23.3,19.7,12.4,94.1,11841]
[null,"Psychology",{"$f":"ROUND(C58,1)","v":11.3},19.2,24.4,22.2,16.399999999999999,93.5,10786,{"$f":"ROUND(J58,1)","v":20.6},24.4,24,17.7,9.8000000000000007,96.5,32021,{"$f":"ROUND(Q58,1)","v":18.3},23.1,24.1,18.8,11.5,95.8,42807]
[null,"Sociology",{"$f":"ROUND(C59,1)","v":14.1},23.5,26.6,21.9,10,96.1,5350,{"$f":"ROUND(J59,1)","v":20.100000000000001},25.6,26.2,17.899999999999999,7.8,97.7,17010,{"$f":"ROUND(Q59,1)","v":18.7},25.1,26.3,18.899999999999999,8.3000000000000007,97.3,22360]
[null,"Other social studies",{"$f":"ROUND(C60,1)","v":18.100000000000001},22.4,25.9,19.600000000000001,10,95.9,1206,{"$f":"ROUND(J60,1)","v":19.2},26.9,22.1,17.8,10.199999999999999,96.1,1132,{"$f":"ROUND(Q60,1)","v":18.600000000000001},24.6,24,18.7,10.1,96,2338]
[null,"Art and Design",{"$f":"ROUND(C61,1)","v":22},21.7,22.9,18.3,10.5,95.4,10940,{"$f":"ROUND(J61,1)","v":29.3},25.1,22.1,14.4,6.6,97.5,23625,{"$f":"ROUND(Q61,1)","v":27},24,22.4,15.6,7.8,96.9,34565]
[null,"Drama",{"$f":"ROUND(C62,1)","v":12.2},25.8,31.4,20.3,8.6999999999999993,98.3,4003,{"$f":"ROUND(J62,1)","v":16.7},30.1,31.6,15.8,4.8,99,9952,{"$f":"ROUND(Q62,1)","v":15.4},28.9,31.6,17.100000000000001,5.9,98.8,13955]
[null,"English",{"$f":"ROUND(C63,1)","v":21},22.7,26.1,20.2,8.3000000000000007,98.3,22312,{"$f":"ROUND(J63,1)","v":20.100000000000001},23.8,27.5,19.899999999999999,7.3,98.7,50655,{"$f":"ROUND(Q63,1)","v":20.399999999999999},23.5,27.1,20,7.6,98.6,72967]
[null,"Media/Film/TV Studies",{"$f":"ROUND(C64,1)","v":10},22.4,32.6,24.6,8.4,97.9,9066,{"$f":"ROUND(J64,1)","v":14.9},29.1,31.3,18.2,5.2,98.7,11924,{"$f":"ROUND(Q64,1)","v":12.8},26.2,31.8,20.9,6.6,98.3,20990]
[null,"Other Communication Studies",{"$f":"ROUND(C65,1)","v":13.5},28.1,32.200000000000003,18.600000000000001,5.5,97.9,3095,{"$f":"ROUND(J65,1)","v":14.7},30,33.6,16,4.7,99,5214,{"$f":"ROUND(Q65,1)","v":14.2},29.3,33.1,17,5,98.6,8309]
[null,"French",{"$f":"ROUND(C66,1)","v":34.5},26.7,18.899999999999999,12.1,6,98.3,4075,{"$f":"ROUND(J66,1)","v":32.9},26.1,20.100000000000001,13.4,6.1,98.7,8405,{"$f":"ROUND(Q66,1)","v":33.4},26.3,19.7,13,6.1,98.5,12480]
[null,"German",{"$f":"ROUND(C67,1)","v":34.6},23.2,17.5,14.8,7.1,97.2,2021,{"$f":"ROUND(J67,1)","v":30.6},25,20.8,14.7,7.2,98.3,3622,{"$f":"ROUND(Q67,1)","v":32},24.3,19.600000000000001,14.7,7.2,97.9,5643]
[null,"Spanish",{"$f":"ROUND(C68,1)","v":39.6},26.7,18.100000000000001,9.4,4.5999999999999996,98.4,1411,{"$f":"ROUND(J68,1)","v":33.5},27.4,20.7,11.7,5.2,98.4,3239,{"$f":"ROUND(Q68,1)","v":35.299999999999997},27.2,19.899999999999999,11,5.0999999999999996,98.4,4650]
[null,"Other modern languages",{"$f":"ROUND(C69,1)","v":40.4},30.7,15.1,6.6,3.1,95.9,1815,{"$f":"ROUND(J69,1)","v":47.6},29.5,12.9,5.5,1.9,97.5,2464,{"$f":"ROUND(Q69,1)","v":44.6},30,13.8,6,2.4,96.8,4279]
[null,"Classical Studies",{"$f":"ROUND(C70,1)","v":34.9},25.8,22,11.4,4.7,98.8,2201,{"$f":"ROUND(J70,1)","v":35.799999999999997},29.5,19.8,10.8,3.2,99.1,3060,{"$f":"ROUND(Q70,1)","v":35.4},27.9,20.7,11.1,3.8,99,5261]
[null,"Religious Studies",{"$f":"ROUND(C71,1)","v":25.9},28.1,23.9,14,6.2,98.1,3499,{"$f":"ROUND(J71,1)","v":25.5},30.2,23.7,14,5.2,98.6,8226,{"$f":"ROUND(Q71,1)","v":25.6},29.6,23.8,14,5.5,98.5,11725]
[null,"Music",{"$f":"ROUND(C72,1)","v":17.100000000000001},21.1,23.7,21.2,11.6,94.8,4248,{"$f":"ROUND(J72,1)","v":23.5},22.9,24,18,9.4,97.7,3982,{"$f":"ROUND(Q72,1)","v":20.2},22,23.9,19.7,10.5,96.2,8230]
[null,"Physical Education",{"$f":"ROUND(C73,1)","v":8.3000000000000007},17.899999999999999,25.9,26.7,16.7,95.5,11360,{"$f":"ROUND(J73,1)","v":19.5},23.6,24.6,19.100000000000001,10.3,97.1,7874,{"$f":"ROUND(Q73,1)","v":12.9},20.3,25.4,23.6,14.1,96.2,19234]
[null,"General Studies",{"$f":"ROUND(C74,1)","v":11.5},17,22,23.7,17.600000000000001,91.7,27009,{"$f":"ROUND(J74,1)","v":12.8},18.100000000000001,23.7,23.2,15.9,93.7,30181,{"$f":"ROUND(Q74,1)","v":12.2},17.600000000000001,22.9,23.4,16.7,92.7,57190]
[null,"All subjects",{"$f":"ROUND(C75,1)","v":21},21.7,23,18.899999999999999,11.3,95.8,312254,{"$f":"ROUND(J75,1)","v":23.4},24.5,23.8,17,8.5,97.3,363670,{"$f":"ROUND(Q75,1)","v":22.3},23.2,23.4,17.899999999999999,9.8000000000000007,96.6,675924]

{"sheet":"2005data_new","index":11,"n_rows":111,"n_cols":26,"rows_kept":111,"cut":false,"hidden":true,"merged":[]}
[]
[]
[null,null,"Males",null,null,null,null,null,"Females",null,null,null,null,null,"Total",null,null,null,null,null,"total entries",null,null,"total passes"]
[null,null,"A","B","C","D","E","other","A","B","C","D","E","other","A","B","C","D","E","other","Male","Female","Male and Female","Male","Female","Male and Female"]
[null,"Biological Sciences",4134,3855,3825,3324,2488,1055,6409,6056,5548,4574,3196,1198,10543,9911,9373,7898,5684,2253,18681,26981,45662,17626,25783,43409]
[null,"Chemistry",4852,4029,3203,2461,1609,630,5063,4227,3137,2163,1295,495,9915,8256,6340,4624,2904,1125,16784,16380,33164,16154,15885,32039]
[null,"Physics",5171,3936,3521,3069,2265,958,1769,1185,937,659,445,179,6940,5121,4458,3728,2710,1137,18920,5174,24094,17962,4995,22957]
[null,"Other Science",582,584,566,540,352,118,202,237,225,201,139,33,784,821,791,741,491,151,2742,1037,3779,2624,1004,3628]
[null,"Mathematics",11202,5987,4665,3450,2224,1083,7493,3942,2715,1856,1023,394,18695,9929,7380,5306,3247,1477,28611,17423,46034,27528,17029,44557]
[null,"Further Mathematics",2164,661,404,285,141,75,898,257,167,68,50,22,3062,918,571,353,191,97,3730,1462,5192,3655,1440,5095]
[null,"Design and Technology",1185,1983,2495,2247,1305,386,1308,1721,1670,1165,484,128,2493,3704,4165,3412,1789,514,9601,6476,16077,9215,6348,15563]
[null,"Computer Studies",773,972,1192,1175,863,344,76,108,103,108,77,19,849,1080,1295,1283,940,363,5319,491,5810,4975,472,5447]
[null,"ICT",517,1246,1947,2329,1698,612,417,804,1160,1152,730,241,934,2050,3107,3481,2428,853,8349,4504,12853,7737,4263,12000]
[null,"Home Economics",1,2,7,10,10,5,75,88,112,92,63,10,76,90,119,102,73,15,35,440,475,30,430,460]
[null,"Accounting and Finance",184,351,398,382,302,149,145,229,219,250,140,73,329,580,617,632,442,222,1766,1056,2822,1617,983,2600]
[null,"Business Studies",2626,4428,5046,3787,1626,399,2033,3138,3269,2389,973,234,4659,7566,8315,6176,2599,633,17912,12036,29948,17513,11802,29315]
[null,"Economics",3045,2594,1932,1229,525,141,1575,1091,698,397,158,34,4620,3685,2630,1626,683,175,9466,3953,13419,9325,3919,13244]
[null,"Geography",3192,3848,3963,2848,1374,298,3784,3519,2909,1814,698,136,6976,7367,6872,4662,2072,434,15523,12860,28383,15225,12724,27949]
[null,"Government and Politics",1525,1602,1322,751,377,133,1219,1045,752,440,202,77,2744,2647,2074,1191,579,210,5710,3735,9445,5577,3658,9235]
[null,"History",4260,5051,4917,3357,1514,382,4883,5192,4814,3097,1404,327,9143,10243,9731,6454,2918,709,19481,19717,39198,19099,19390,38489]
[null,"Law",757,1007,1241,1103,696,321,1428,1750,1839,1393,771,345,2185,2757,3080,2496,1467,666,5125,7526,12651,4804,7181,11985]
[null,"Psychology",1391,2230,2744,2747,1872,763,7029,8351,8227,6179,3433,1057,8420,10581,10971,8926,5305,1820,11747,34276,46023,10984,33219,44203]
[null,"Sociology",866,1329,1585,1175,637,183,3626,4773,4515,3025,1374,406,4492,6102,6100,4200,2011,589,5775,17719,23494,5592,17313,22905]
[null,"Other social studies",248,329,357,267,154,61,238,331,319,242,132,56,486,660,676,509,286,117,1416,1318,2734,1355,1262,2617]
[null,"Art and Design",2552,2373,2619,2033,1000,347,7342,6171,5777,3512,1355,513,9894,8544,8396,5545,2355,860,10924,24670,35594,10577,24157,34734]
[null,"Drama",614,1131,1298,801,298,52,1941,3271,3153,1422,419,68,2555,4402,4451,2223,717,120,4194,10274,14468,4142,10206,14348]
[null,"English",4853,5592,6261,4787,1893,370,10990,13067,14750,10249,3553,632,15843,18659,21011,15036,5446,1002,23756,53241,76997,23386,52609,75995]
[null,"Media/Film/TV Studies",911,2254,3045,2113,711,189,1759,3586,4038,2167,550,144,2670,5840,7083,4280,1261,333,9223,12244,21467,9034,12100,21134]
[null,"Other Communication Studies",514,1026,1152,499,145,39,880,1718,1659,807,236,56,1394,2744,2811,1306,381,95,3375,5356,8731,3336,5300,8636]
[null,"French",1346,1032,744,469,212,52,2575,2283,1663,1001,477,109,3921,3315,2407,1470,689,161,3855,8108,11963,3803,7999,11802]
[null,"German",714,496,365,233,118,41,1122,815,652,438,188,56,1836,1311,1017,671,306,97,1967,3271,5238,1926,3215,5141]
[null,"Spanish",622,439,295,137,57,14,1182,938,663,406,144,33,1804,1377,958,543,201,47,1564,3366,4930,1550,3333,4883]
[null,"Other modern languages",803,568,339,125,59,65,1189,768,352,119,74,73,1992,1336,691,244,133,138,1959,2575,4534,1894,2502,4396]
[null,"Classical Studies",785,686,464,254,102,24,1230,982,568,258,90,18,2015,1668,1032,512,192,42,2315,3146,5461,2291,3128,5419]
[null,"Religious Studies",1102,1251,1019,591,267,84,2514,2908,2256,1270,485,109,3616,4159,3275,1861,752,193,4314,9542,13856,4230,9433,13663]
[null,"Music",745,920,1143,1040,587,164,826,889,951,717,377,83,1571,1809,2094,1757,964,247,4599,3843,8442,4435,3760,8195]
[null,"Physical Education",1049,2131,3015,2855,1942,489,1576,1925,2043,1620,880,234,2625,4056,5058,4475,2822,723,11481,8278,19759,10992,8044,19036]
[null,"General Studies",2897,4442,6143,6531,5101,2345,3786,5657,7275,7243,5287,1967,6683,10099,13418,13774,10388,4312,27459,31215,58674,25114,29248,54362]
[null,"All subjects",68182,70365,73232,59004,34524,12371,88582,93022,89135,62493,30902,9559,156764,163387,162367,121497,65426,21930,317678,373693,691371,305307,364134,669441]
[]
[null,"Biological Sciences",22.1,20.6,20.5,17.8,13.3,94.4,18681,23.8,22.4,20.6,17,11.8,95.6,26981,23.1,21.7,20.5,17.3,12.4,95.1,45662]
[null,"Chemistry",28.9,24,19.100000000000001,14.7,9.6,96.2,16784,30.9,25.8,19.2,13.2,7.9,97,16380,29.9,24.9,19.100000000000001,13.9,8.8000000000000007,96.6,33164]
[null,"Physics",27.3,20.8,18.600000000000001,16.2,12,94.9,18920,34.200000000000003,22.9,18.100000000000001,12.7,8.6,96.5,5174,28.8,21.3,18.5,15.5,11.2,95.3,24094]
[null,"Other Science",21.2,21.3,20.6,19.7,12.8,95.7,2742,19.5,22.9,21.7,19.399999999999999,13.4,96.8,1037,20.7,21.7,20.9,19.600000000000001,13,96,3779]
[null,"Mathematics",39.200000000000003,20.9,16.3,12.1,7.8,96.2,28611,43,22.6,15.6,10.7,5.9,97.7,17423,40.6,21.6,16,11.5,7.1,96.8,46034]
[null,"Further Mathematics",58,17.7,10.8,7.6,3.8,98,3730,61.4,17.600000000000001,11.4,4.7,3.4,98.5,1462,59,17.7,11,6.8,3.7,98.1,5192]
[null,"Design and Technology",12.3,20.7,26,23.4,13.6,96,9601,20.2,26.6,25.8,18,7.5,98,6476,15.5,23,25.9,21.2,11.1,96.8,16077]
[null,"Computer Studies",14.5,18.3,22.4,22.1,16.2,93.5,5319,15.5,22,21,22,15.7,96.1,491,14.6,18.600000000000001,22.3,22.1,16.2,93.8,5810]
[null,"ICT",6.2,14.9,23.3,27.9,20.3,92.7,8349,9.3000000000000007,17.899999999999999,25.8,25.6,16.2,94.6,4504,7.3,15.9,24.2,27.1,18.899999999999999,93.4,12853]
[null,"Home Economics","x","x",20,28.6,28.6,85.7,35,17,20,25.5,20.9,14.3,97.7,440,16,18.899999999999999,25.1,21.5,15.4,96.8,475]
[null,"Accounting and Finance",10.4,19.899999999999999,22.5,21.6,17.100000000000001,91.6,1766,13.7,21.7,20.7,23.7,13.3,93.1,1056,11.7,20.6,21.9,22.4,15.7,92.1,2822]
[null,"Business Studies",14.7,24.7,28.2,21.1,9.1,97.8,17912,16.899999999999999,26.1,27.2,19.8,8.1,98.1,12036,15.6,25.3,27.8,20.6,8.6999999999999993,97.9,29948]
[null,"Economics",32.200000000000003,27.4,20.399999999999999,13,5.5,98.5,9466,39.799999999999997,27.6,17.7,10,4,99.1,3953,34.4,27.5,19.600000000000001,12.1,5.0999999999999996,98.7,13419]
[null,"Geography",20.6,24.8,25.5,18.3,8.9,98.1,15523,29.4,27.4,22.6,14.1,5.4,98.9,12860,24.6,26,24.2,16.399999999999999,7.3,98.5,28383]
[null,"Government and Politics",26.7,28.1,23.2,13.2,6.6,97.7,5710,32.6,28,20.100000000000001,11.8,5.4,97.9,3735,29.1,28,22,12.6,6.1,97.8,9445]
[null,"History",21.9,25.9,25.2,17.2,7.8,98,19481,24.8,26.3,24.4,15.7,7.1,98.3,19717,23.3,26.1,24.8,16.5,7.4,98.2,39198]
[null,"Law",14.8,19.600000000000001,24.2,21.5,13.6,93.7,5125,19,23.3,24.4,18.5,10.199999999999999,95.4,7526,17.3,21.8,24.3,19.7,11.6,94.7,12651]
[null,"Psychology",11.8,19,23.4,23.4,15.9,93.5,11747,20.5,24.4,24,18,10,96.9,34276,18.3,23,23.8,19.399999999999999,11.5,96,46023]
[null,"Sociology",15,23,27.4,20.3,11,96.8,5775,20.5,26.9,25.5,17.100000000000001,7.8,97.7,17719,19.100000000000001,26,26,17.899999999999999,8.6,97.5,23494]
[null,"Other social studies",17.5,23.2,25.2,18.899999999999999,10.9,95.7,1416,18.100000000000001,25.1,24.2,18.399999999999999,10,95.8,1318,17.8,24.1,24.7,18.600000000000001,10.5,95.7,2734]
[null,"Art and Design",23.4,21.7,24,18.600000000000001,9.1999999999999993,96.8,10924,29.8,25,23.4,14.2,5.5,97.9,24670,27.8,24,23.6,15.6,6.6,97.6,35594]
[null,"Drama",14.6,27,30.9,19.100000000000001,7.1,98.8,4194,18.899999999999999,31.8,30.7,13.8,4.0999999999999996,99.3,10274,17.7,30.4,30.8,15.4,5,99.2,14468]
[null,"English",20.399999999999999,23.5,26.4,20.2,8,98.4,23756,20.6,24.5,27.7,19.3,6.7,98.8,53241,20.6,24.2,27.3,19.5,7.1,98.7,76997]
[null,"Media/Film/TV Studies",9.9,24.4,33,22.9,7.7,98,9223,14.4,29.3,33,17.7,4.5,98.8,12244,12.4,27.2,33,19.899999999999999,5.9,98.4,21467]
[null,"Other Communication Studies",15.2,30.4,34.1,14.8,4.3,98.8,3375,16.399999999999999,32.1,31,15.1,4.4000000000000004,99,5356,16,31.4,32.200000000000003,15,4.4000000000000004,98.9,8731]
[null,"French",34.9,26.8,19.3,12.2,5.5,98.7,3855,31.8,28.2,20.5,12.3,5.9,98.7,8108,32.799999999999997,27.7,20.100000000000001,12.3,5.8,98.7,11963]
[null,"German",36.299999999999997,25.2,18.600000000000001,11.8,6,97.9,1967,34.299999999999997,24.9,19.899999999999999,13.4,5.7,98.3,3271,35.1,25,19.399999999999999,12.8,5.8,98.1,5238]
[null,"Spanish",39.799999999999997,28.1,18.899999999999999,8.8000000000000007,3.6,99.1,1564,35.1,27.9,19.7,12.1,4.3,99,3366,36.6,27.9,19.399999999999999,11,4.0999999999999996,99,4930]
[null,"Other modern languages",41,29,17.3,6.4,3,96.7,1959,46.2,29.8,13.7,4.5999999999999996,2.9,97.2,2575,43.9,29.5,15.2,5.4,2.9,97,4534]
[null,"Classical Studies",33.9,29.6,20,11,4.4000000000000004,99,2315,39.1,31.2,18.100000000000001,8.1999999999999993,2.9,99.4,3146,36.9,30.5,18.899999999999999,9.4,3.5,99.2,5461]
[null,"Religious Studies",25.5,29,23.6,13.7,6.2,98.1,4314,26.3,30.5,23.6,13.3,5.0999999999999996,98.9,9542,26.1,30,23.6,13.4,5.4,98.6,13856]
[null,"Music",16.2,20,24.9,22.6,12.8,96.4,4599,21.5,23.1,24.7,18.7,9.8000000000000007,97.8,3843,18.600000000000001,21.4,24.8,20.8,11.4,97.1,8442]
[null,"Physical Education",9.1,18.600000000000001,26.3,24.9,16.899999999999999,95.7,11481,19,23.3,24.7,19.600000000000001,10.6,97.2,8278,13.3,20.5,25.6,22.6,14.3,96.3,19759]
[null,"General Studies",10.6,16.2,22.4,23.8,18.600000000000001,91.5,27459,12.1,18.100000000000001,23.3,23.2,16.899999999999999,93.7,31215,11.4,17.2,22.9,23.5,17.7,92.7,58674]
[null,"All subjects",21.5,22.1,23.1,18.600000000000001,10.9,96.1,317678,23.7,24.9,23.9,16.7,8.3000000000000007,97.4,373693,22.7,23.6,23.5,17.600000000000001,9.5,96.8,691371]
[]
[null,"Biological Sciences",{"$f":"ROUND(C41,1)","v":22.1},{"$f":"ROUND(D41,1)","v":20.6},20.5,17.8,13.3,94.4,{"$f":"ROUND(I41,0)","v":18681},23.8,22.4,20.6,17,11.8,95.6,{"$f":"ROUND(P41,0)","v":26981},23.1,21.7,20.5,17.3,12.4,95.1,{"$f":"ROUND(W41,0)","v":45662}]
[null,"Chemistry",{"$f":"ROUND(C42,1)","v":28.9},24,19.100000000000001,14.7,9.6,96.2,{"$f":"ROUND(I42,0)","v":16784},{"$f":"ROUND(J42,1)","v":30.9},25.8,19.2,13.2,7.9,97,{"$f":"ROUND(P42,0)","v":16380},{"$f":"ROUND(Q42,1)","v":29.9},24.9,19.100000000000001,13.9,8.8000000000000007,96.6,{"$f":"ROUND(W42,0)","v":33164}]
[null,"Physics",{"$f":"ROUND(C43,1)","v":27.3},20.8,18.600000000000001,16.2,12,94.9,18920,{"$f":"ROUND(J43,1)","v":34.200000000000003},22.9,18.100000000000001,12.7,8.6,96.5,5174,{"$f":"ROUND(Q43,1)","v":28.8},21.3,18.5,15.5,11.2,95.3,24094]
[null,"Other Science",{"$f":"ROUND(C44,1)","v":21.2},21.3,20.6,19.7,12.8,95.7,2742,{"$f":"ROUND(J44,1)","v":19.5},22.9,21.7,19.399999999999999,13.4,96.8,1037,{"$f":"ROUND(Q44,1)","v":20.7},21.7,20.9,19.600000000000001,13,96,3779]
[null,"Mathematics",{"$f":"ROUND(C45,1)","v":39.200000000000003},20.9,16.3,12.1,7.8,96.2,28611,{"$f":"ROUND(J45,1)","v":43},22.6,15.6,10.7,5.9,97.7,17423,{"$f":"ROUND(Q45,1)","v":40.6},21.6,16,11.5,7.1,96.8,46034]
[null,"Further Mathematics",{"$f":"ROUND(C46,1)","v":58},17.7,10.8,7.6,3.8,98,3730,{"$f":"ROUND(J46,1)","v":61.4},17.600000000000001,11.4,4.7,3.4,98.5,1462,{"$f":"ROUND(Q46,1)","v":59},17.7,11,6.8,3.7,98.1,5192]
[null,"Design and Technology",{"$f":"ROUND(C47,1)","v":12.3},20.7,26,23.4,13.6,96,9601,{"$f":"ROUND(J47,1)","v":20.2},26.6,25.8,18,7.5,98,6476,{"$f":"ROUND(Q47,1)","v":15.5},23,25.9,21.2,11.1,96.8,16077]
[null,"Computer Studies",{"$f":"ROUND(C48,1)","v":14.5},18.3,22.4,22.1,16.2,93.5,5319,{"$f":"ROUND(J48,1)","v":15.5},22,21,22,15.7,96.1,491,{"$f":"ROUND(Q48,1)","v":14.6},18.600000000000001,22.3,22.1,16.2,93.8,5810]
[null,"ICT",{"$f":"ROUND(C49,1)","v":6.2},14.9,23.3,27.9,20.3,92.7,8349,{"$f":"ROUND(J49,1)","v":9.3000000000000007},17.899999999999999,25.8,25.6,16.2,94.6,4504,{"$f":"ROUND(Q49,1)","v":7.3},15.9,24.2,27.1,18.899999999999999,93.4,12853]
[null,"Home Economics",{"$f":"ROUND(C50,1)","v":{"$error":"#VALUE!"}},{"$error":"#VALUE!"},20,28.6,28.6,85.7,35,{"$f":"ROUND(J50,1)","v":17},20,25.5,20.9,14.3,97.7,440,{"$f":"ROUND(Q50,1)","v":16},18.899999999999999,25.1,21.5,15.4,96.8,475]
[null,"Accounting and Finance",{"$f":"ROUND(C51,1)","v":10.4},19.899999999999999,22.5,21.6,17.100000000000001,91.6,1766,{"$f":"ROUND(J51,1)","v":13.7},21.7,20.7,23.7,13.3,93.1,1056,{"$f":"ROUND(Q51,1)","v":11.7},20.6,21.9,22.4,15.7,92.1,2822]
[null,"Business Studies",{"$f":"ROUND(C52,1)","v":14.7},24.7,28.2,21.1,9.1,97.8,17912,{"$f":"ROUND(J52,1)","v":16.899999999999999},26.1,27.2,19.8,8.1,98.1,12036,{"$f":"ROUND(Q52,1)","v":15.6},25.3,27.8,20.6,8.6999999999999993,97.9,29948]
[null,"Economics",{"$f":"ROUND(C53,1)","v":32.200000000000003},27.4,20.399999999999999,13,5.5,98.5,9466,{"$f":"ROUND(J53,1)","v":39.799999999999997},27.6,17.7,10,4,99.1,3953,{"$f":"ROUND(Q53,1)","v":34.4},27.5,19.600000000000001,12.1,5.0999999999999996,98.7,13419]
[null,"Geography",{"$f":"ROUND(C54,1)","v":20.6},24.8,25.5,18.3,8.9,98.1,15523,{"$f":"ROUND(J54,1)","v":29.4},27.4,22.6,14.1,5.4,98.9,12860,{"$f":"ROUND(Q54,1)","v":24.6},26,24.2,16.399999999999999,7.3,98.5,28383]
[null,"Government and Politics",{"$f":"ROUND(C55,1)","v":26.7},28.1,23.2,13.2,6.6,97.7,5710,{"$f":"ROUND(J55,1)","v":32.6},28,20.100000000000001,11.8,5.4,97.9,3735,{"$f":"ROUND(Q55,1)","v":29.1},28,22,12.6,6.1,97.8,9445]
[null,"History",{"$f":"ROUND(C56,1)","v":21.9},25.9,25.2,17.2,7.8,98,19481,{"$f":"ROUND(J56,1)","v":24.8},26.3,24.4,15.7,7.1,98.3,19717,{"$f":"ROUND(Q56,1)","v":23.3},26.1,24.8,16.5,7.4,98.2,39198]
[null,"Law",{"$f":"ROUND(C57,1)","v":14.8},19.600000000000001,24.2,21.5,13.6,93.7,5125,{"$f":"ROUND(J57,1)","v":19},23.3,24.4,18.5,10.199999999999999,95.4,7526,{"$f":"ROUND(Q57,1)","v":17.3},21.8,24.3,19.7,11.6,94.7,12651]
[null,"Psychology",{"$f":"ROUND(C58,1)","v":11.8},19,23.4,23.4,15.9,93.5,11747,{"$f":"ROUND(J58,1)","v":20.5},24.4,24,18,10,96.9,34276,{"$f":"ROUND(Q58,1)","v":18.3},23,23.8,19.399999999999999,11.5,96,46023]
[null,"Sociology",{"$f":"ROUND(C59,1)","v":15},23,27.4,20.3,11,96.8,5775,{"$f":"ROUND(J59,1)","v":20.5},26.9,25.5,17.100000000000001,7.8,97.7,17719,{"$f":"ROUND(Q59,1)","v":19.100000000000001},26,26,17.899999999999999,8.6,97.5,23494]
[null,"Other social studies",{"$f":"ROUND(C60,1)","v":17.5},23.2,25.2,18.899999999999999,10.9,95.7,1416,{"$f":"ROUND(J60,1)","v":18.100000000000001},25.1,24.2,18.399999999999999,10,95.8,1318,{"$f":"ROUND(Q60,1)","v":17.8},24.1,24.7,18.600000000000001,10.5,95.7,2734]
[null,"Art and Design",{"$f":"ROUND(C61,1)","v":23.4},21.7,24,18.600000000000001,9.1999999999999993,96.8,10924,{"$f":"ROUND(J61,1)","v":29.8},25,23.4,14.2,5.5,97.9,24670,{"$f":"ROUND(Q61,1)","v":27.8},24,23.6,15.6,6.6,97.6,35594]
[null,"Drama",{"$f":"ROUND(C62,1)","v":14.6},27,30.9,19.100000000000001,7.1,98.8,4194,{"$f":"ROUND(J62,1)","v":18.899999999999999},31.8,30.7,13.8,4.0999999999999996,99.3,10274,{"$f":"ROUND(Q62,1)","v":17.7},30.4,30.8,15.4,5,99.2,14468]
[null,"English",{"$f":"ROUND(C63,1)","v":20.399999999999999},23.5,26.4,20.2,8,98.4,23756,{"$f":"ROUND(J63,1)","v":20.6},24.5,27.7,19.3,6.7,98.8,53241,{"$f":"ROUND(Q63,1)","v":20.6},24.2,27.3,19.5,7.1,98.7,76997]
[null,"Media/Film/TV Studies",{"$f":"ROUND(C64,1)","v":9.9},24.4,33,22.9,7.7,98,9223,{"$f":"ROUND(J64,1)","v":14.4},29.3,33,17.7,4.5,98.8,12244,{"$f":"ROUND(Q64,1)","v":12.4},27.2,33,19.899999999999999,5.9,98.4,21467]
[null,"Other Communication Studies",{"$f":"ROUND(C65,1)","v":15.2},30.4,34.1,14.8,4.3,98.8,3375,{"$f":"ROUND(J65,1)","v":16.399999999999999},32.1,31,15.1,4.4000000000000004,99,5356,{"$f":"ROUND(Q65,1)","v":16},31.4,32.200000000000003,15,4.4000000000000004,98.9,8731]
[null,"French",{"$f":"ROUND(C66,1)","v":34.9},26.8,19.3,12.2,5.5,98.7,3855,{"$f":"ROUND(J66,1)","v":31.8},28.2,20.5,12.3,5.9,98.7,8108,{"$f":"ROUND(Q66,1)","v":32.799999999999997},27.7,20.100000000000001,12.3,5.8,98.7,11963]
[null,"German",{"$f":"ROUND(C67,1)","v":36.299999999999997},25.2,18.600000000000001,11.8,6,97.9,1967,{"$f":"ROUND(J67,1)","v":34.299999999999997},24.9,19.899999999999999,13.4,5.7,98.3,3271,{"$f":"ROUND(Q67,1)","v":35.1},25,19.399999999999999,12.8,5.8,98.1,5238]
[null,"Spanish",{"$f":"ROUND(C68,1)","v":39.799999999999997},28.1,18.899999999999999,8.8000000000000007,3.6,99.1,1564,{"$f":"ROUND(J68,1)","v":35.1},27.9,19.7,12.1,4.3,99,3366,{"$f":"ROUND(Q68,1)","v":36.6},27.9,19.399999999999999,11,4.0999999999999996,99,4930]
[null,"Other modern languages",{"$f":"ROUND(C69,1)","v":41},29,17.3,6.4,3,96.7,1959,{"$f":"ROUND(J69,1)","v":46.2},29.8,13.7,4.5999999999999996,2.9,97.2,2575,{"$f":"ROUND(Q69,1)","v":43.9},29.5,15.2,5.4,2.9,97,4534]
[null,"Classical Studies",{"$f":"ROUND(C70,1)","v":33.9},29.6,20,11,4.4000000000000004,99,2315,{"$f":"ROUND(J70,1)","v":39.1},31.2,18.100000000000001,8.1999999999999993,2.9,99.4,3146,{"$f":"ROUND(Q70,1)","v":36.9},30.5,18.899999999999999,9.4,3.5,99.2,5461]
[null,"Religious Studies",{"$f":"ROUND(C71,1)","v":25.5},29,23.6,13.7,6.2,98.1,4314,{"$f":"ROUND(J71,1)","v":26.3},30.5,23.6,13.3,5.0999999999999996,98.9,9542,{"$f":"ROUND(Q71,1)","v":26.1},30,23.6,13.4,5.4,98.6,13856]
[null,"Music",{"$f":"ROUND(C72,1)","v":16.2},20,24.9,22.6,12.8,96.4,4599,{"$f":"ROUND(J72,1)","v":21.5},23.1,24.7,18.7,9.8000000000000007,97.8,3843,{"$f":"ROUND(Q72,1)","v":18.600000000000001},21.4,24.8,20.8,11.4,97.1,8442]
[null,"Physical Education",{"$f":"ROUND(C73,1)","v":9.1},18.600000000000001,26.3,24.9,16.899999999999999,95.7,11481,{"$f":"ROUND(J73,1)","v":19},23.3,24.7,19.600000000000001,10.6,97.2,8278,{"$f":"ROUND(Q73,1)","v":13.3},20.5,25.6,22.6,14.3,96.3,19759]
[null,"General Studies",{"$f":"ROUND(C74,1)","v":10.6},16.2,22.4,23.8,18.600000000000001,91.5,27459,{"$f":"ROUND(J74,1)","v":12.1},18.100000000000001,23.3,23.2,16.899999999999999,93.7,31215,{"$f":"ROUND(Q74,1)","v":11.4},17.2,22.9,23.5,17.7,92.7,58674]
[null,"All subjects",{"$f":"ROUND(C75,1)","v":21.5},22.1,23.1,18.600000000000001,10.9,96.1,317678,{"$f":"ROUND(J75,1)","v":23.7},24.9,23.9,16.7,8.3000000000000007,97.4,373693,{"$f":"ROUND(Q75,1)","v":22.7},23.6,23.5,17.600000000000001,9.5,96.8,691371]

{"sheet":"2006data_new","index":12,"n_rows":112,"n_cols":27,"rows_kept":112,"cut":false,"hidden":true,"merged":[]}
[]
[]
[null,null,"Males",null,null,null,null,null,"Female",null,null,null,null,null,"Total",null,null,null,null,null,"Total Entries",null,null,"Total Passes"]
[null,null,"A","B","C","D","E","Other","A","B","C","D","E","Other","A","B","C","D","E","Other","Male","Female","Male and Female","Male","Female","Male and Female"]
[null,"Biological Sciences",4503,4073,3958,3341,2493,932,7008,5974,5666,4505,3091,1080,11511,10047,9624,7846,5584,2012,19300,27324,46624,18368,26244,44612]
[null,"Chemistry",5429,4171,3317,2498,1676,629,5502,4238,3193,2167,1300,414,10931,8409,6510,4665,2976,1043,17720,16814,34534,17091,16400,33491]
[null,"Physics",5271,3942,3487,2885,2232,870,1788,1124,866,618,438,136,7059,5066,4353,3503,2670,1006,18687,4970,23657,17817,4834,22651]
[null,"Other Science",619,544,528,468,360,97,207,219,233,178,122,24,826,763,761,646,482,121,2616,983,3599,2519,959,3478]
[null,"Mathematics",12803,6323,4808,3552,2323,828,8768,4247,2938,1821,1033,361,21571,10570,7746,5373,3356,1189,30637,19168,49805,29809,18807,48616]
[null,"Further Mathematics",2643,880,536,319,159,58,1120,386,228,105,69,13,3763,1266,764,424,228,71,4595,1921,6516,4537,1908,6445]
[null,"Design and Technology",1359,2116,2608,2162,1129,322,1482,1849,1880,1188,506,107,2841,3965,4488,3350,1635,429,9696,7012,16708,9374,6905,16279]
[null,"Computer Studies",724,850,1034,1045,723,263,65,92,95,66,41,19,789,942,1129,1111,764,282,4639,378,5017,4376,359,4735]
[null,"ICT",495,1119,1859,2221,1625,530,433,840,1165,1095,629,170,928,1959,3024,3316,2254,700,7849,4332,12181,7319,4162,11481]
[null,"Home Economics",1,11,16,16,17,0,69,98,96,73,53,6,70,109,112,89,70,6,61,395,456,61,389,450]
[null,"Accounting and Finance",201,350,474,432,326,141,157,199,267,260,186,65,358,549,741,692,512,206,1924,1134,3058,1783,1069,2852]
[null,"Business Studies",2773,4484,5019,3598,1581,346,2301,3098,3388,2164,971,213,5074,7582,8407,5762,2552,559,17801,12135,29936,17455,11922,29377]
[null,"Economics",3237,2566,1912,1153,526,116,1602,1103,761,429,146,27,4839,3669,2673,1582,672,143,9510,4068,13578,9394,4041,13435]
[null,"Geography",3384,3943,3952,2772,1237,237,3983,3521,2856,1653,637,108,7367,7464,6808,4425,1874,345,15525,12758,28283,15288,12650,27938]
[null,"Government and Politics",1653,1605,1293,762,335,96,1385,1026,719,463,194,62,3038,2631,2012,1225,529,158,5744,3849,9593,5648,3787,9435]
[null,"History",4597,5319,4988,3628,1595,419,5312,5339,4851,3022,1301,302,9909,10658,9839,6650,2896,721,20546,20127,40673,20127,19825,39952]
[null,"Law",930,1123,1303,1068,686,264,1775,1864,1964,1445,762,327,2705,2987,3267,2513,1448,591,5374,8137,13511,5110,7810,12920]
[null,"Psychology",1452,2379,3160,2798,1896,707,7427,8864,8868,6447,3459,1114,8879,11243,12028,9245,5355,1821,12392,36179,48571,11685,35065,46750]
[null,"Sociology",950,1312,1559,1116,569,168,4085,5159,4720,3001,1221,380,5035,6471,6279,4117,1790,548,5674,18566,24240,5506,18186,23692]
[null,"Other social studies",301,384,411,247,139,41,317,352,326,228,111,52,618,736,737,475,250,93,1523,1386,2909,1482,1334,2816]
[null,"Art and Design",2849,2624,2735,2022,1004,324,7964,6643,5965,3436,1314,456,10813,9267,8700,5458,2318,780,11558,25778,37336,11234,25322,36556]
[null,"Drama",637,1299,1428,795,273,60,2231,3331,3062,1454,317,64,2868,4630,4490,2249,590,124,4492,10459,14951,4432,10395,14827]
[null,"English",5260,5933,6576,4531,1633,290,11782,13742,14789,9958,3150,503,17042,19675,21365,14489,4783,793,24223,53924,78147,23933,53421,77354]
[null,"Media/Film/TV Studies",1030,2436,3366,2249,767,159,1955,3939,4238,2144,607,96,2985,6375,7604,4393,1374,255,10007,12979,22986,9848,12883,22731]
[null,"Other Communication Studies",518,1272,1312,589,160,46,953,1793,1761,869,262,52,1471,3065,3073,1458,422,98,3897,5690,9587,3851,5638,9489]
[null,"French",1433,1081,698,443,201,41,2796,2282,1670,988,471,86,4229,3363,2368,1431,672,127,3897,8293,12190,3856,8207,12063]
[null,"German",856,519,356,217,98,30,1214,909,670,422,195,48,2070,1428,1026,639,293,78,2076,3458,5534,2046,3410,5456]
[null,"Spanish",713,479,284,157,53,21,1223,990,692,402,155,33,1936,1469,976,559,208,54,1707,3495,5202,1686,3462,5148]
[null,"Other modern languages",896,720,341,119,55,78,1430,804,330,141,78,92,2326,1524,671,260,133,170,2209,2875,5084,2131,2783,4914]
[null,"Classical Studies",873,657,512,277,96,23,1299,976,563,276,64,25,2172,1633,1075,553,160,48,2438,3203,5641,2415,3178,5593]
[null,"Religious Studies",1212,1341,1153,662,305,70,2814,3015,2467,1253,494,114,4026,4356,3620,1915,799,184,4743,10157,14900,4673,10043,14716]
[null,"Music",758,987,1282,1139,667,198,826,984,955,773,369,72,1584,1971,2237,1912,1036,270,5031,3979,9010,4833,3907,8740]
[null,"Physical Education",1291,2354,3261,3165,1985,477,1852,2136,2253,1701,860,198,3143,4490,5514,4866,2845,675,12533,9000,21533,12056,8802,20858]
[null,"General Studies",3259,4316,6082,6472,5138,2336,3890,5619,7525,7596,5426,1994,7149,9935,13607,14068,10564,4330,27603,32050,59653,25267,30056,55323]
[null,"All subjects",74910,73512,75608,58918,34062,11217,97015,96755,92020,62341,30032,8813,171925,170267,167628,121259,64094,20030,328227,386976,715203,317010,378163,695173]
[]
[null,"Biological Sciences",23.3,21.1,20.5,17.3,12.9,95.2,19300,25.6,21.9,20.7,16.5,11.3,96,27324,24.7,21.5,20.6,16.8,12,95.7,46624]
[null,"Chemistry",30.6,23.5,18.7,14.1,9.5,96.5,17720,32.700000000000003,25.2,19,12.9,7.7,97.5,16814,31.7,24.3,18.899999999999999,13.5,8.6,97,34534]
[null,"Physics",28.2,21.1,18.7,15.4,11.9,95.3,18687,36,22.6,17.399999999999999,12.4,8.8000000000000007,97.3,4970,29.8,21.4,18.399999999999999,14.8,11.3,95.7,23657]
[null,"Other Science",23.7,20.8,20.2,17.899999999999999,13.8,96.3,2616,21.1,22.3,23.7,18.100000000000001,12.4,97.6,983,23,21.2,21.1,17.899999999999999,13.4,96.6,3599]
[null,"Mathematics",41.8,20.6,15.7,11.6,7.6,97.3,30637,45.7,22.2,15.3,9.5,5.4,98.1,19168,43.3,21.2,15.6,10.8,6.7,97.6,49805]
[null,"Further Mathematics",57.5,19.2,11.7,6.9,3.5,98.7,4595,58.3,20.100000000000001,11.9,5.5,3.6,99.3,1921,57.8,19.399999999999999,11.7,6.5,3.5,98.9,6516]
[null,"Design and Technology",14,21.8,26.9,22.3,11.6,96.7,9696,21.1,26.4,26.8,16.899999999999999,7.2,98.5,7012,17,23.7,26.9,20.100000000000001,9.8000000000000007,97.4,16708]
[null,"Computer Studies",15.6,18.3,22.3,22.5,15.6,94.3,4639,17.2,24.3,25.1,17.5,10.8,95,378,15.7,18.8,22.5,22.1,15.2,94.4,5017]
[null,"ICT",6.3,14.3,23.7,28.3,20.7,93.2,7849,10,19.399999999999999,26.9,25.3,14.5,96.1,4332,7.6,16.100000000000001,24.8,27.2,18.5,94.3,12181]
[null,"Home Economics","x",18,26.2,26.2,27.9,100,61,17.5,24.8,24.3,18.5,13.4,98.5,395,15.4,23.9,24.6,19.5,15.4,98.7,456]
[null,"Accounting and Finance",10.4,18.2,24.6,22.5,16.899999999999999,92.7,1924,13.8,17.5,23.5,22.9,16.399999999999999,94.3,1134,11.7,18,24.2,22.6,16.7,93.3,3058]
[null,"Business Studies",15.6,25.2,28.2,20.2,8.9,98.1,17801,19,25.5,27.9,17.8,8,98.2,12135,16.899999999999999,25.3,28.1,19.2,8.5,98.1,29936]
[null,"Economics",34,27,20.100000000000001,12.1,5.5,98.8,9510,39.4,27.1,18.7,10.5,3.6,99.3,4068,35.6,27,19.7,11.7,4.9000000000000004,98.9,13578]
[null,"Geography",21.8,25.4,25.5,17.899999999999999,8,98.5,15525,31.2,27.6,22.4,13,5,99.2,12758,26,26.4,24.1,15.6,6.6,98.8,28283]
[null,"Government and Politics",28.8,27.9,22.5,13.3,5.8,98.3,5744,36,26.7,18.7,12,5,98.4,3849,31.7,27.4,21,12.8,5.5,98.4,9593]
[null,"History",22.4,25.9,24.3,17.7,7.8,98,20546,26.4,26.5,24.1,15,6.5,98.5,20127,24.4,26.2,24.2,16.3,7.1,98.2,40673]
[null,"Law",17.3,20.9,24.2,19.899999999999999,12.8,95.1,5374,21.8,22.9,24.1,17.8,9.4,96,8137,20,22.1,24.2,18.600000000000001,10.7,95.6,13511]
[null,"Psychology",11.7,19.2,25.5,22.6,15.3,94.3,12392,20.5,24.5,24.5,17.8,9.6,96.9,36179,18.3,23.1,24.8,19,11,96.3,48571]
[null,"Sociology",16.7,23.1,27.5,19.7,10,97,5674,22,27.8,25.4,16.2,6.6,98,18566,20.8,26.7,25.9,17,7.4,97.7,24240]
[null,"Other social studies",19.8,25.2,27,16.2,9.1,97.3,1523,22.9,25.4,23.5,16.5,8,96.2,1386,21.2,25.3,25.3,16.3,8.6,96.8,2909]
[null,"Art and Design",24.6,22.7,23.7,17.5,8.6999999999999993,97.2,11558,30.9,25.8,23.1,13.3,5.0999999999999996,98.2,25778,29,24.8,23.3,14.6,6.2,97.9,37336]
[null,"Drama",14.2,28.9,31.8,17.7,6.1,98.7,4492,21.3,31.8,29.3,13.9,3,99.4,10459,19.2,31,30,15,3.9,99.2,14951]
[null,"English",21.7,24.5,27.1,18.7,6.7,98.8,24223,21.8,25.5,27.4,18.5,5.8,99.1,53924,21.8,25.2,27.3,18.5,6.1,99,78147]
[null,"Media/Film/TV Studies",10.3,24.3,33.6,22.5,7.7,98.4,10007,15.1,30.3,32.700000000000003,16.5,4.7,99.3,12979,13,27.7,33.1,19.100000000000001,6,98.9,22986]
[null,"Other Communication Studies",13.3,32.6,33.700000000000003,15.1,4.0999999999999996,98.8,3897,16.7,31.5,30.9,15.3,4.5999999999999996,99.1,5690,15.3,32,32.1,15.2,4.4000000000000004,99,9587]
[null,"French",36.799999999999997,27.7,17.899999999999999,11.4,5.2,98.9,3897,33.700000000000003,27.5,20.100000000000001,11.9,5.7,99,8293,34.700000000000003,27.6,19.399999999999999,11.7,5.5,99,12190]
[null,"German",41.2,25,17.100000000000001,10.5,4.7,98.6,2076,35.1,26.3,19.399999999999999,12.2,5.6,98.6,3458,37.4,25.8,18.5,11.5,5.3,98.6,5534]
[null,"Spanish",41.8,28.1,16.600000000000001,9.1999999999999993,3.1,98.8,1707,35,28.3,19.8,11.5,4.4000000000000004,99.1,3495,37.200000000000003,28.2,18.8,10.7,4,99,5202]
[null,"Other modern languages",40.6,32.6,15.4,5.4,2.5,96.5,2209,49.7,28,11.5,4.9000000000000004,2.7,96.8,2875,45.8,30,13.2,5.0999999999999996,2.6,96.7,5084]
[null,"Classical Studies",35.799999999999997,26.9,21,11.4,3.9,99.1,2438,40.6,30.5,17.600000000000001,8.6,2,99.2,3203,38.5,28.9,19.100000000000001,9.8000000000000007,2.8,99.1,5641]
[null,"Religious Studies",25.6,28.3,24.3,14,6.4,98.5,4743,27.7,29.7,24.3,12.3,4.9000000000000004,98.9,10157,27,29.2,24.3,12.9,5.4,98.8,14900]
[null,"Music",15.1,19.600000000000001,25.5,22.6,13.3,96.1,5031,20.8,24.7,24,19.399999999999999,9.3000000000000007,98.2,3979,17.600000000000001,21.9,24.8,21.2,11.5,97,9010]
[null,"Physical Education",10.3,18.8,26,25.3,15.8,96.2,12533,20.6,23.7,25,18.899999999999999,9.6,97.8,9000,14.6,20.9,25.6,22.6,13.2,96.9,21533]
[null,"General Studies",11.8,15.6,22,23.4,18.600000000000001,91.5,27603,12.1,17.5,23.5,23.7,16.899999999999999,93.8,32050,12,16.7,22.8,23.6,17.7,92.7,59653]
[null,"All subjects",22.8,22.4,23,18,10.4,96.6,328227,25.1,25,23.8,16.100000000000001,7.8,97.7,386976,24,23.8,23.4,17,9,97.2,715203,null,null,null,"All subjects"]
[]
[]
[null,"Biological Sciences",{"$f":"ROUND(C41,1)","v":23.3},{"$f":"ROUND(D41,1)","v":21.1},20.5,17.3,12.9,95.2,{"$f":"ROUND(I41,0)","v":19300},25.6,21.9,20.7,16.5,11.3,96,{"$f":"ROUND(P41,0)","v":27324},24.7,21.5,20.6,16.8,12,95.7,{"$f":"ROUND(W41,0)","v":46624}]
[null,"Chemistry",{"$f":"ROUND(C42,1)","v":30.6},{"$f":"ROUND(D42,1)","v":23.5},18.7,14.1,9.5,96.5,{"$f":"ROUND(I42,0)","v":17720},32.700000000000003,25.2,19,12.9,7.7,97.5,{"$f":"ROUND(P42,0)","v":16814},{"$f":"ROUND(Q42,1)","v":31.7},24.3,18.899999999999999,13.5,8.6,97,{"$f":"ROUND(W42,0)","v":34534}]
[null,"Physics",28.2,{"$f":"ROUND(D43,1)","v":21.1},18.7,15.4,11.9,95.3,18687,36,22.6,17.399999999999999,12.4,8.8000000000000007,97.3,4970,{"$f":"ROUND(Q43,1)","v":29.8},21.4,18.399999999999999,14.8,11.3,95.7,23657]
[null,"Other Science",23.7,{"$f":"ROUND(D44,1)","v":20.8},20.2,17.899999999999999,13.8,96.3,2616,21.1,22.3,23.7,18.100000000000001,12.4,97.6,983,{"$f":"ROUND(Q44,1)","v":23},21.2,21.1,17.899999999999999,13.4,96.6,3599]
[null,"Mathematics",41.8,{"$f":"ROUND(D45,1)","v":20.6},15.7,11.6,7.6,97.3,30637,45.7,22.2,15.3,9.5,5.4,98.1,19168,{"$f":"ROUND(Q45,1)","v":43.3},21.2,15.6,10.8,6.7,97.6,49805]
[null,"Further Mathematics",57.5,{"$f":"ROUND(D46,1)","v":19.2},11.7,6.9,3.5,98.7,4595,58.3,20.100000000000001,11.9,5.5,3.6,99.3,1921,{"$f":"ROUND(Q46,1)","v":57.8},19.399999999999999,11.7,6.5,3.5,98.9,6516]
[null,"Design and Technology",14,{"$f":"ROUND(D47,1)","v":21.8},26.9,22.3,11.6,96.7,9696,21.1,26.4,26.8,16.899999999999999,7.2,98.5,7012,{"$f":"ROUND(Q47,1)","v":17},23.7,26.9,20.100000000000001,9.8000000000000007,97.4,16708]
[null,"Computer Studies",15.6,{"$f":"ROUND(D48,1)","v":18.3},22.3,22.5,15.6,94.3,4639,17.2,24.3,25.1,17.5,10.8,95,378,{"$f":"ROUND(Q48,1)","v":15.7},18.8,22.5,22.1,15.2,94.4,5017]
[null,"ICT",6.3,{"$f":"ROUND(D49,1)","v":14.3},23.7,28.3,20.7,93.2,7849,10,19.399999999999999,26.9,25.3,14.5,96.1,4332,{"$f":"ROUND(Q49,1)","v":7.6},16.100000000000001,24.8,27.2,18.5,94.3,12181]
[null,"Home Economics","x",{"$f":"ROUND(D50,1)","v":18},26.2,26.2,27.9,100,61,17.5,24.8,24.3,18.5,13.4,98.5,395,{"$f":"ROUND(Q50,1)","v":15.4},23.9,24.6,19.5,15.4,98.7,456]
[null,"Accounting and Finance",10.4,{"$f":"ROUND(D51,1)","v":18.2},24.6,22.5,16.899999999999999,92.7,1924,13.8,17.5,23.5,22.9,16.399999999999999,94.3,1134,{"$f":"ROUND(Q51,1)","v":11.7},18,24.2,22.6,16.7,93.3,3058]
[null,"Business Studies",15.6,{"$f":"ROUND(D52,1)","v":25.2},28.2,20.2,8.9,98.1,17801,19,25.5,27.9,17.8,8,98.2,12135,{"$f":"ROUND(Q52,1)","v":16.899999999999999},25.3,28.1,19.2,8.5,98.1,29936]
[null,"Economics",34,{"$f":"ROUND(D53,1)","v":27},20.100000000000001,12.1,5.5,98.8,9510,39.4,27.1,18.7,10.5,3.6,99.3,4068,{"$f":"ROUND(Q53,1)","v":35.6},27,19.7,11.7,4.9000000000000004,98.9,13578]
[null,"Geography",21.8,{"$f":"ROUND(D54,1)","v":25.4},25.5,17.899999999999999,8,98.5,15525,31.2,27.6,22.4,13,5,99.2,12758,{"$f":"ROUND(Q54,1)","v":26},26.4,24.1,15.6,6.6,98.8,28283]
[null,"Government and Politics",28.8,{"$f":"ROUND(D55,1)","v":27.9},22.5,13.3,5.8,98.3,5744,36,26.7,18.7,12,5,98.4,3849,{"$f":"ROUND(Q55,1)","v":31.7},27.4,21,12.8,5.5,98.4,9593]
[null,"History",22.4,{"$f":"ROUND(D56,1)","v":25.9},24.3,17.7,7.8,98,20546,26.4,26.5,24.1,15,6.5,98.5,20127,{"$f":"ROUND(Q56,1)","v":24.4},26.2,24.2,16.3,7.1,98.2,40673]
[null,"Law",17.3,{"$f":"ROUND(D57,1)","v":20.9},24.2,19.899999999999999,12.8,95.1,5374,21.8,22.9,24.1,17.8,9.4,96,8137,{"$f":"ROUND(Q57,1)","v":20},22.1,24.2,18.600000000000001,10.7,95.6,13511]
[null,"Psychology",11.7,{"$f":"ROUND(D58,1)","v":19.2},25.5,22.6,15.3,94.3,12392,20.5,24.5,24.5,17.8,9.6,96.9,36179,{"$f":"ROUND(Q58,1)","v":18.3},23.1,24.8,19,11,96.3,48571]
[null,"Sociology",16.7,{"$f":"ROUND(D59,1)","v":23.1},27.5,19.7,10,97,5674,22,27.8,25.4,16.2,6.6,98,18566,{"$f":"ROUND(Q59,1)","v":20.8},26.7,25.9,17,7.4,97.7,24240]
[null,"Other social studies",19.8,{"$f":"ROUND(D60,1)","v":25.2},27,16.2,9.1,97.3,1523,22.9,25.4,23.5,16.5,8,96.2,1386,{"$f":"ROUND(Q60,1)","v":21.2},25.3,25.3,16.3,8.6,96.8,2909]
[null,"Art and Design",24.6,{"$f":"ROUND(D61,1)","v":22.7},23.7,17.5,8.6999999999999993,97.2,11558,30.9,25.8,23.1,13.3,5.0999999999999996,98.2,25778,{"$f":"ROUND(Q61,1)","v":29},24.8,23.3,14.6,6.2,97.9,37336]
[null,"Drama",14.2,{"$f":"ROUND(D62,1)","v":28.9},31.8,17.7,6.1,98.7,4492,21.3,31.8,29.3,13.9,3,99.4,10459,{"$f":"ROUND(Q62,1)","v":19.2},31,30,15,3.9,99.2,14951]
[null,"English",21.7,{"$f":"ROUND(D63,1)","v":24.5},27.1,18.7,6.7,98.8,24223,21.8,25.5,27.4,18.5,5.8,99.1,53924,{"$f":"ROUND(Q63,1)","v":21.8},25.2,27.3,18.5,6.1,99,78147]
[null,"Media/Film/TV Studies",10.3,{"$f":"ROUND(D64,1)","v":24.3},33.6,22.5,7.7,98.4,10007,15.1,30.3,32.700000000000003,16.5,4.7,99.3,12979,{"$f":"ROUND(Q64,1)","v":13},27.7,33.1,19.100000000000001,6,98.9,22986]
[null,"Other Communication Studies",13.3,{"$f":"ROUND(D65,1)","v":32.6},33.700000000000003,15.1,4.0999999999999996,98.8,3897,16.7,31.5,30.9,15.3,4.5999999999999996,99.1,5690,{"$f":"ROUND(Q65,1)","v":15.3},32,32.1,15.2,4.4000000000000004,99,9587]
[null,"French",36.799999999999997,{"$f":"ROUND(D66,1)","v":27.7},17.899999999999999,11.4,5.2,98.9,3897,33.700000000000003,27.5,20.100000000000001,11.9,5.7,99,8293,{"$f":"ROUND(Q66,1)","v":34.700000000000003},27.6,19.399999999999999,11.7,5.5,99,12190]
[null,"German",41.2,{"$f":"ROUND(D67,1)","v":25},17.100000000000001,10.5,4.7,98.6,2076,35.1,26.3,19.399999999999999,12.2,5.6,98.6,3458,{"$f":"ROUND(Q67,1)","v":37.4},25.8,18.5,11.5,5.3,98.6,5534]
[null,"Spanish",41.8,{"$f":"ROUND(D68,1)","v":28.1},16.600000000000001,9.1999999999999993,3.1,98.8,1707,35,28.3,19.8,11.5,4.4000000000000004,99.1,3495,{"$f":"ROUND(Q68,1)","v":37.200000000000003},28.2,18.8,10.7,4,99,5202]
[null,"Other modern languages",40.6,{"$f":"ROUND(D69,1)","v":32.6},15.4,5.4,2.5,96.5,2209,49.7,28,11.5,4.9000000000000004,2.7,96.8,2875,{"$f":"ROUND(Q69,1)","v":45.8},30,13.2,5.0999999999999996,2.6,96.7,5084]
[null,"Classical Studies",35.799999999999997,{"$f":"ROUND(D70,1)","v":26.9},21,11.4,3.9,99.1,2438,40.6,30.5,17.600000000000001,8.6,2,99.2,3203,{"$f":"ROUND(Q70,1)","v":38.5},28.9,19.100000000000001,9.8000000000000007,2.8,99.1,5641]
[null,"Religious Studies",25.6,{"$f":"ROUND(D71,1)","v":28.3},24.3,14,6.4,98.5,4743,27.7,29.7,24.3,12.3,4.9000000000000004,98.9,10157,{"$f":"ROUND(Q71,1)","v":27},29.2,24.3,12.9,5.4,98.8,14900]
[null,"Music",15.1,{"$f":"ROUND(D72,1)","v":19.600000000000001},25.5,22.6,13.3,96.1,5031,20.8,24.7,24,19.399999999999999,9.3000000000000007,98.2,3979,{"$f":"ROUND(Q72,1)","v":17.600000000000001},21.9,24.8,21.2,11.5,97,9010]
[null,"Physical Education",10.3,{"$f":"ROUND(D73,1)","v":18.8},26,25.3,15.8,96.2,12533,20.6,23.7,25,18.899999999999999,9.6,97.8,9000,{"$f":"ROUND(Q73,1)","v":14.6},20.9,25.6,22.6,13.2,96.9,21533]
[null,"General Studies",11.8,{"$f":"ROUND(D74,1)","v":15.6},22,23.4,18.600000000000001,91.5,27603,12.1,17.5,23.5,23.7,16.899999999999999,93.8,32050,{"$f":"ROUND(Q74,1)","v":12},16.7,22.8,23.6,17.7,92.7,59653]
[null,"All subjects",22.8,{"$f":"ROUND(D75,1)","v":22.4},23,18,10.4,96.6,328227,25.1,25,23.8,16.100000000000001,7.8,97.7,386976,{"$f":"ROUND(Q75,1)","v":24},23.8,23.4,17,9,97.2,715203]

{"sheet":"2007 data","index":13,"n_rows":111,"n_cols":23,"rows_kept":111,"cut":false,"hidden":true,"merged":[]}
[]
[]
[null,null,"Males",null,null,null,null,null,null,"Female",null,null,null,null,null,null,"Total"]
[null,null,"A","B","C","D","E","A_E","Entries","A","B","C","D","E","A_E","Entries","A","B","C","D","E","A_E","Entries"]
[null,"Biological Sciences",4748,4003,3865,3423,2390,18429,19329,7519,6162,5470,4470,2936,26557,27468,12267,10165,9335,7893,5326,44986,46797]
[null,"Chemistry",5679,4142,3274,2402,1552,17049,17671,5756,4454,3217,2286,1259,16972,17406,11435,8596,6491,4688,2811,34021,35077]
[null,"Physics",5651,3864,3503,2802,2106,17926,18693,1884,1196,927,659,396,5062,5194,7535,5060,4430,3461,2502,22988,23887]
[null,"Other Science",697,583,621,474,343,2718,2820,235,255,263,190,119,1062,1100,932,838,884,664,462,3780,3920]
[null,"Mathematics",13797,6704,5137,3540,2081,31259,32154,9565,4763,3202,2141,1115,20786,21177,23362,11467,8339,5681,3196,52045,53331]
[null,"Further Mathematics",2914,994,598,353,175,5034,5099,1213,462,234,131,68,2108,2142,4127,1456,832,484,243,7142,7241]
[null,"Design and Technology",1322,1949,2366,1897,1001,8535,8815,1529,1788,1705,1101,474,6597,6710,2851,3737,4071,2998,1475,15132,15525]
[null,"Computer Studies",697,813,936,896,673,4015,4263,68,79,89,78,49,363,380,765,892,1025,974,722,4378,4643]
[null,"ICT",408,1051,1716,1834,1350,6359,6891,397,761,1035,1006,613,3812,3994,805,1812,2751,2840,1963,10171,10885]
[null,"Home Economics",2,4,8,13,9,36,38,66,83,89,63,32,333,336,68,87,97,76,41,369,374]
[null,"Accounting and Finance",211,411,500,445,338,1905,2063,174,266,259,256,176,1131,1207,385,677,759,701,514,3036,3270]
[null,"Business Studies",2938,4620,4960,3235,1399,17152,17454,2396,3230,3153,2038,822,11639,11794,5334,7850,8113,5273,2221,28791,29248]
[null,"Economics",3325,2646,1957,1185,475,9588,9711,1751,1142,747,396,164,4200,4239,5076,3788,2704,1581,639,13788,13950]
[null,"Geography",3575,3916,3732,2638,1106,14967,15178,4112,3392,2699,1462,551,12216,12316,7687,7308,6431,4100,1657,27183,27494]
[null,"Government and Politics",2008,1690,1319,783,326,6126,6229,1659,1159,811,496,207,4332,4395,3667,2849,2130,1279,533,10458,10624]
[null,"History",4779,5314,5027,3494,1447,20061,20376,5399,5530,4681,3068,1214,19892,20166,10178,10844,9708,6562,2661,39953,40542]
[null,"Law",1009,1256,1426,1143,698,5532,5810,1875,1866,1878,1361,771,7751,8009,2884,3122,3304,2504,1469,13283,13819]
[null,"Psychology",1511,2446,3086,2782,1773,11598,12254,7940,8983,8708,6348,3357,35336,36349,9451,11429,11794,9130,5130,46934,48603]
[null,"Sociology",956,1437,1609,1189,564,5755,5936,4343,5023,4657,2959,1244,18226,18593,5299,6460,6266,4148,1808,23981,24529]
[null,"Other social studies",305,422,433,287,157,1604,1646,370,446,401,265,104,1586,1621,675,868,834,552,261,3190,3267]
[null,"Art and Design",2906,2558,2692,1989,931,11076,11414,8414,6611,5970,3586,1463,26044,26537,11320,9169,8662,5575,2394,37120,37951]
[null,"Drama",645,1205,1431,804,257,4342,4380,2374,3440,2911,1420,344,10489,10542,3019,4645,4342,2224,601,14831,14922]
[null,"English",5595,5969,6405,4300,1436,23705,23965,12465,13998,14684,9179,2797,53123,53537,18060,19967,21089,13479,4233,76828,77502]
[null,"Media/Film/TV Studies",1079,2654,3513,2091,704,10041,10172,2072,4213,4182,2059,498,13024,13141,3151,6867,7695,4150,1202,23065,23313]
[null,"Other Communication Studies",571,1353,1486,632,145,4187,4234,1043,1950,1800,764,173,5730,5773,1614,3303,3286,1396,318,9917,10007]
[null,"French",1506,1057,653,424,160,3800,3846,2962,2334,1552,979,401,8228,8306,4468,3391,2205,1403,561,12028,12152]
[null,"German",886,538,386,252,97,2159,2181,1194,933,685,421,165,3398,3434,2080,1471,1071,673,262,5557,5615]
[null,"Spanish",774,555,304,136,75,1844,1865,1344,1023,676,398,146,3587,3626,2118,1578,980,534,221,5431,5491]
[null,"Other modern languages",997,716,304,102,51,2170,2235,1506,805,338,107,71,2827,2884,2503,1521,642,209,122,4997,5119]
[null,"Classical Studies",909,669,558,321,116,2573,2602,1251,980,572,266,73,3142,3164,2160,1649,1130,587,189,5715,5766]
[null,"Religious Studies",1381,1467,1201,690,278,5017,5106,2945,3216,2454,1292,479,10386,10487,4326,4683,3655,1982,757,15403,15593]
[null,"Music",771,1110,1387,1226,652,5146,5354,801,892,913,716,349,3671,3744,1572,2002,2300,1942,1001,8817,9098]
[null,"Physical Education",1418,2533,3223,2964,1892,12030,12398,2017,2137,2189,1661,935,8939,9129,3435,4670,5412,4625,2827,20969,21527]
[null,"General Studies",3269,4393,6065,6337,4954,25018,27051,4042,5504,7237,6953,4988,28724,30623,7311,9897,13302,13290,9942,53742,57674]
[null,"All subjects",79239,75042,75681,57083,31711,318756,329233,102681,99076,90388,60575,28553,381273,389523,181920,174118,166069,117658,60264,700029,718756]
[]
[null,"Biological Sciences",24.6,20.7,20,17.7,12.4,95.3,19329,27.4,22.4,19.899999999999999,16.3,10.7,96.7,27468,26.2,21.7,19.899999999999999,16.899999999999999,11.4,96.1,46797]
[null,"Chemistry",32.1,23.4,18.5,13.6,8.8000000000000007,96.5,17671,33.1,25.6,18.5,13.1,7.2,97.5,17406,32.6,24.5,18.5,13.4,8,97,35077]
[null,"Physics",30.2,20.7,18.7,15,11.3,95.9,18693,36.299999999999997,23,17.8,12.7,7.6,97.5,5194,31.5,21.2,18.5,14.5,10.5,96.2,23887]
[null,"Other Science",24.7,20.7,22,16.8,12.2,96.4,2820,21.4,23.2,23.9,17.3,10.8,96.5,1100,23.8,21.4,22.6,16.899999999999999,11.8,96.4,3920]
[null,"Mathematics",42.9,20.8,16,11,6.5,97.2,32154,45.2,22.5,15.1,10.1,5.3,98.2,21177,43.8,21.5,15.6,10.7,6,97.6,53331]
[null,"Further Mathematics",57.1,19.5,11.7,6.9,3.4,98.7,5099,56.6,21.6,10.9,6.1,3.2,98.4,2142,57,20.100000000000001,11.5,6.7,3.4,98.6,7241]
[null,"Design and Technology",15,22.1,26.8,21.5,11.4,96.8,8815,22.8,26.6,25.4,16.399999999999999,7.1,98.3,6710,18.399999999999999,24.1,26.2,19.3,9.5,97.5,15525]
[null,"Computer Studies",16.3,19.100000000000001,22,21,15.8,94.2,4263,17.899999999999999,20.8,23.4,20.5,12.9,95.5,380,16.5,19.2,22.1,21,15.6,94.3,4643]
[null,"ICT",5.9,15.3,24.9,26.6,19.600000000000001,92.3,6891,9.9,19.100000000000001,25.9,25.2,15.3,95.4,3994,7.4,16.600000000000001,25.3,26.1,18,93.4,10885]
[null,"Home Economics",5.3,10.5,21.1,34.200000000000003,23.7,94.7,38,19.600000000000001,24.7,26.5,18.8,9.5,99.1,336,18.2,23.3,25.9,20.3,11,98.7,374]
[null,"Accounting and Finance",10.199999999999999,19.899999999999999,24.2,21.6,16.399999999999999,92.3,2063,14.4,22,21.5,21.2,14.6,93.7,1207,11.8,20.7,23.2,21.4,15.7,92.8,3270]
[null,"Business Studies",16.8,26.5,28.4,18.5,8,98.3,17454,20.3,27.4,26.7,17.3,7,98.7,11794,18.2,26.8,27.7,18,7.6,98.4,29248]
[null,"Economics",34.200000000000003,27.2,20.2,12.2,4.9000000000000004,98.7,9711,41.3,26.9,17.600000000000001,9.3000000000000007,3.9,99.1,4239,36.4,27.2,19.399999999999999,11.3,4.5999999999999996,98.8,13950]
[null,"Geography",23.6,25.8,24.6,17.399999999999999,7.3,98.6,15178,33.4,27.5,21.9,11.9,4.5,99.2,12316,28,26.6,23.4,14.9,6,98.9,27494]
[null,"Government and Politics",32.200000000000003,27.1,21.2,12.6,5.2,98.3,6229,37.700000000000003,26.4,18.5,11.3,4.7,98.6,4395,34.5,26.8,20,12,5,98.4,10624]
[null,"History",23.5,26.1,24.7,17.100000000000001,7.1,98.5,20376,26.8,27.4,23.2,15.2,6,98.6,20166,25.1,26.7,23.9,16.2,6.6,98.5,40542]
[null,"Law",17.399999999999999,21.6,24.5,19.7,12,95.2,5810,23.4,23.3,23.4,17,9.6,96.8,8009,20.9,22.6,23.9,18.100000000000001,10.6,96.1,13819]
[null,"Psychology",12.3,20,25.2,22.7,14.5,94.6,12254,21.8,24.7,24,17.5,9.1999999999999993,97.2,36349,19.399999999999999,23.5,24.3,18.8,10.6,96.6,48603]
[null,"Sociology",16.100000000000001,24.2,27.1,20,9.5,97,5936,23.4,27,25,15.9,6.7,98,18593,21.6,26.3,25.5,16.899999999999999,7.4,97.8,24529]
[null,"Other social studies",18.5,25.6,26.3,17.399999999999999,9.5,97.4,1646,22.8,27.5,24.7,16.3,6.4,97.8,1621,20.7,26.6,25.5,16.899999999999999,8,97.6,3267]
[null,"Art and Design",25.5,22.4,23.6,17.399999999999999,8.1999999999999993,97,11414,31.7,24.9,22.5,13.5,5.5,98.1,26537,29.8,24.2,22.8,14.7,6.3,97.8,37951]
[null,"Drama",14.7,27.5,32.700000000000003,18.399999999999999,5.9,99.1,4380,22.5,32.6,27.6,13.5,3.3,99.5,10542,20.2,31.1,29.1,14.9,4,99.4,14922]
[null,"English",23.3,24.9,26.7,17.899999999999999,6,98.9,23965,23.3,26.1,27.4,17.100000000000001,5.2,99.2,53537,23.3,25.8,27.2,17.399999999999999,5.5,99.1,77502]
[null,"Media/Film/TV Studies",10.6,26.1,34.5,20.6,6.9,98.7,10172,15.8,32.1,31.8,15.7,3.8,99.1,13141,13.5,29.5,33,17.8,5.2,98.9,23313]
[null,"Other Communication Studies",13.5,32,35.1,14.9,3.4,98.9,4234,18.100000000000001,33.799999999999997,31.2,13.2,3,99.3,5773,16.100000000000001,33,32.799999999999997,14,3.2,99.1,10007]
[null,"French",39.200000000000003,27.5,17,11,4.2,98.8,3846,35.700000000000003,28.1,18.7,11.8,4.8,99.1,8306,36.799999999999997,27.9,18.100000000000001,11.5,4.5999999999999996,99,12152]
[null,"German",40.6,24.7,17.7,11.6,4.4000000000000004,99,2181,34.799999999999997,27.2,19.899999999999999,12.3,4.8,99,3434,37,26.2,19.100000000000001,12,4.7,99,5615]
[null,"Spanish",41.5,29.8,16.3,7.3,4,98.9,1865,37.1,28.2,18.600000000000001,11,4,98.9,3626,38.6,28.7,17.8,9.6999999999999993,4,98.9,5491]
[null,"Other modern languages",44.6,32,13.6,4.5999999999999996,2.2999999999999998,97.1,2235,52.2,27.9,11.7,3.7,2.5,98,2884,48.9,29.7,12.5,4.0999999999999996,2.4,97.6,5119]
[null,"Classical Studies",34.9,25.7,21.4,12.3,4.5,98.9,2602,39.5,31,18.100000000000001,8.4,2.2999999999999998,99.3,3164,37.5,28.6,19.600000000000001,10.199999999999999,3.3,99.1,5766]
[null,"Religious Studies",27,28.7,23.5,13.5,5.4,98.3,5106,28.1,30.7,23.4,12.3,4.5999999999999996,99,10487,27.7,30,23.4,12.7,4.9000000000000004,98.8,15593]
[null,"Music",14.4,20.7,25.9,22.9,12.2,96.1,5354,21.4,23.8,24.4,19.100000000000001,9.3000000000000007,98.1,3744,17.3,22,25.3,21.3,11,96.9,9098]
[null,"Physical Education",11.4,20.399999999999999,26,23.9,15.3,97,12398,22.1,23.4,24,18.2,10.199999999999999,97.9,9129,16,21.7,25.1,21.5,13.1,97.4,21527]
[null,"General Studies",12.1,16.2,22.4,23.4,18.3,92.5,27051,13.2,18,23.6,22.7,16.3,93.8,30623,12.7,17.2,23.1,23,17.2,93.2,57674]
[null,"All subjects",24.1,22.8,23,17.3,9.6,96.8,329233,26.4,25.4,23.2,15.6,7.3,97.9,389523,25.3,24.2,23.1,16.399999999999999,8.4,97.4,718756]
[]
[null,"Biological Sciences",{"$f":"ROUND(C41,1)","v":24.6},{"$f":"ROUND(D41,1)","v":20.7},20,17.7,12.4,95.3,{"$f":"ROUND(I41,0)","v":19329},27.4,22.4,19.899999999999999,16.3,10.7,96.7,{"$f":"ROUND(P41,0)","v":27468},26.2,21.7,19.899999999999999,16.899999999999999,11.4,96.1,{"$f":"ROUND(W41,0)","v":46797}]
[null,"Chemistry",{"$f":"ROUND(C42,1)","v":32.1},23.4,18.5,13.6,8.8000000000000007,96.5,{"$f":"ROUND(I42,0)","v":17671},33.1,25.6,18.5,13.1,7.2,97.5,{"$f":"ROUND(P42,0)","v":17406},32.6,24.5,18.5,13.4,8,97,{"$f":"ROUND(W42,0)","v":35077}]
[null,"Physics",{"$f":"ROUND(C43,1)","v":30.2},20.7,18.7,15,11.3,95.9,18693,36.299999999999997,23,17.8,12.7,7.6,97.5,5194,31.5,21.2,18.5,14.5,10.5,96.2,23887]
[null,"Other Science",{"$f":"ROUND(C44,1)","v":24.7},20.7,22,16.8,12.2,96.4,2820,21.4,23.2,23.9,17.3,10.8,96.5,1100,23.8,21.4,22.6,16.899999999999999,11.8,96.4,3920]
[null,"Mathematics",{"$f":"ROUND(C45,1)","v":42.9},20.8,16,11,6.5,97.2,32154,45.2,22.5,15.1,10.1,5.3,98.2,21177,43.8,21.5,15.6,10.7,6,97.6,53331]
[null,"Further Mathematics",{"$f":"ROUND(C46,1)","v":57.1},19.5,11.7,6.9,3.4,98.7,5099,56.6,21.6,10.9,6.1,3.2,98.4,2142,57,20.100000000000001,11.5,6.7,3.4,98.6,7241]
[null,"Design and Technology",{"$f":"ROUND(C47,1)","v":15},22.1,26.8,21.5,11.4,96.8,8815,22.8,26.6,25.4,16.399999999999999,7.1,98.3,6710,18.399999999999999,24.1,26.2,19.3,9.5,97.5,15525]
[null,"Computer Studies",{"$f":"ROUND(C48,1)","v":16.3},19.100000000000001,22,21,15.8,94.2,4263,17.899999999999999,20.8,23.4,20.5,12.9,95.5,380,16.5,19.2,22.1,21,15.6,94.3,4643]
[null,"ICT",{"$f":"ROUND(C49,1)","v":5.9},15.3,24.9,26.6,19.600000000000001,92.3,6891,9.9,19.100000000000001,25.9,25.2,15.3,95.4,3994,7.4,16.600000000000001,25.3,26.1,18,93.4,10885]
[null,"Home Economics",{"$f":"ROUND(C50,1)","v":5.3},10.5,21.1,34.200000000000003,23.7,94.7,38,19.600000000000001,24.7,26.5,18.8,9.5,99.1,336,18.2,23.3,25.9,20.3,11,98.7,374]
[null,"Accounting and Finance",{"$f":"ROUND(C51,1)","v":10.199999999999999},19.899999999999999,24.2,21.6,16.399999999999999,92.3,2063,14.4,22,21.5,21.2,14.6,93.7,1207,11.8,20.7,23.2,21.4,15.7,92.8,3270]
[null,"Business Studies",{"$f":"ROUND(C52,1)","v":16.8},26.5,28.4,18.5,8,98.3,17454,20.3,27.4,26.7,17.3,7,98.7,11794,18.2,26.8,27.7,18,7.6,98.4,29248]
[null,"Economics",{"$f":"ROUND(C53,1)","v":34.200000000000003},27.2,20.2,12.2,4.9000000000000004,98.7,9711,41.3,26.9,17.600000000000001,9.3000000000000007,3.9,99.1,4239,36.4,27.2,19.399999999999999,11.3,4.5999999999999996,98.8,13950]
[null,"Geography",{"$f":"ROUND(C54,1)","v":23.6},25.8,24.6,17.399999999999999,7.3,98.6,15178,33.4,27.5,21.9,11.9,4.5,99.2,12316,28,26.6,23.4,14.9,6,98.9,27494]
[null,"Government and Politics",{"$f":"ROUND(C55,1)","v":32.200000000000003},27.1,21.2,12.6,5.2,98.3,6229,37.700000000000003,26.4,18.5,11.3,4.7,98.6,4395,34.5,26.8,20,12,5,98.4,10624]
[null,"History",{"$f":"ROUND(C56,1)","v":23.5},26.1,24.7,17.100000000000001,7.1,98.5,20376,26.8,27.4,23.2,15.2,6,98.6,20166,25.1,26.7,23.9,16.2,6.6,98.5,40542]
[null,"Law",{"$f":"ROUND(C57,1)","v":17.399999999999999},21.6,24.5,19.7,12,95.2,5810,23.4,23.3,23.4,17,9.6,96.8,8009,20.9,22.6,23.9,18.100000000000001,10.6,96.1,13819]
[null,"Psychology",{"$f":"ROUND(C58,1)","v":12.3},20,25.2,22.7,14.5,94.6,12254,21.8,24.7,24,17.5,9.1999999999999993,97.2,36349,19.399999999999999,23.5,24.3,18.8,10.6,96.6,48603]
[null,"Sociology",{"$f":"ROUND(C59,1)","v":16.100000000000001},24.2,27.1,20,9.5,97,5936,23.4,27,25,15.9,6.7,98,18593,21.6,26.3,25.5,16.899999999999999,7.4,97.8,24529]
[null,"Other social studies",{"$f":"ROUND(C60,1)","v":18.5},25.6,26.3,17.399999999999999,9.5,97.4,1646,22.8,27.5,24.7,16.3,6.4,97.8,1621,20.7,26.6,25.5,16.899999999999999,8,97.6,3267]
[null,"Art and Design",{"$f":"ROUND(C61,1)","v":25.5},22.4,23.6,17.399999999999999,8.1999999999999993,97,11414,31.7,24.9,22.5,13.5,5.5,98.1,26537,29.8,24.2,22.8,14.7,6.3,97.8,37951]
[null,"Drama",{"$f":"ROUND(C62,1)","v":14.7},27.5,32.700000000000003,18.399999999999999,5.9,99.1,4380,22.5,32.6,27.6,13.5,3.3,99.5,10542,20.2,31.1,29.1,14.9,4,99.4,14922]
[null,"English",{"$f":"ROUND(C63,1)","v":23.3},24.9,26.7,17.899999999999999,6,98.9,23965,23.3,26.1,27.4,17.100000000000001,5.2,99.2,53537,23.3,25.8,27.2,17.399999999999999,5.5,99.1,77502]
[null,"Media/Film/TV Studies",{"$f":"ROUND(C64,1)","v":10.6},26.1,34.5,20.6,6.9,98.7,10172,15.8,32.1,31.8,15.7,3.8,99.1,13141,13.5,29.5,33,17.8,5.2,98.9,23313]
[null,"Other Communication Studies",{"$f":"ROUND(C65,1)","v":13.5},32,35.1,14.9,3.4,98.9,4234,18.100000000000001,33.799999999999997,31.2,13.2,3,99.3,5773,16.100000000000001,33,32.799999999999997,14,3.2,99.1,10007]
[null,"French",{"$f":"ROUND(C66,1)","v":39.200000000000003},27.5,17,11,4.2,98.8,3846,35.700000000000003,28.1,18.7,11.8,4.8,99.1,8306,36.799999999999997,27.9,18.100000000000001,11.5,4.5999999999999996,99,12152]
[null,"German",{"$f":"ROUND(C67,1)","v":40.6},24.7,17.7,11.6,4.4000000000000004,99,2181,34.799999999999997,27.2,19.899999999999999,12.3,4.8,99,3434,37,26.2,19.100000000000001,12,4.7,99,5615]
[null,"Spanish",{"$f":"ROUND(C68,1)","v":41.5},29.8,16.3,7.3,4,98.9,1865,37.1,28.2,18.600000000000001,11,4,98.9,3626,38.6,28.7,17.8,9.6999999999999993,4,98.9,5491]
[null,"Other modern languages",{"$f":"ROUND(C69,1)","v":44.6},32,13.6,4.5999999999999996,2.2999999999999998,97.1,2235,52.2,27.9,11.7,3.7,2.5,98,2884,48.9,29.7,12.5,4.0999999999999996,2.4,97.6,5119]
[null,"Classical Studies",{"$f":"ROUND(C70,1)","v":34.9},25.7,21.4,12.3,4.5,98.9,2602,39.5,31,18.100000000000001,8.4,2.2999999999999998,99.3,3164,37.5,28.6,19.600000000000001,10.199999999999999,3.3,99.1,5766]
[null,"Religious Studies",{"$f":"ROUND(C71,1)","v":27},28.7,23.5,13.5,5.4,98.3,5106,28.1,30.7,23.4,12.3,4.5999999999999996,99,10487,27.7,30,23.4,12.7,4.9000000000000004,98.8,15593]
[null,"Music",{"$f":"ROUND(C72,1)","v":14.4},20.7,25.9,22.9,12.2,96.1,5354,21.4,23.8,24.4,19.100000000000001,9.3000000000000007,98.1,3744,17.3,22,25.3,21.3,11,96.9,9098]
[null,"Physical Education",{"$f":"ROUND(C73,1)","v":11.4},20.399999999999999,26,23.9,15.3,97,12398,22.1,23.4,24,18.2,10.199999999999999,97.9,9129,16,21.7,25.1,21.5,13.1,97.4,21527]
[null,"General Studies",{"$f":"ROUND(C74,1)","v":12.1},16.2,22.4,23.4,18.3,92.5,27051,13.2,18,23.6,22.7,16.3,93.8,30623,12.7,17.2,23.1,23,17.2,93.2,57674]
[null,"All subjects",{"$f":"ROUND(C75,1)","v":24.1},22.8,23,17.3,9.6,96.8,329233,26.4,25.4,23.2,15.6,7.3,97.9,389523,25.3,24.2,23.1,16.399999999999999,8.4,97.4,718756]

{"sheet":"2008 data","index":14,"n_rows":81,"n_cols":23,"rows_kept":81,"cut":false,"hidden":true,"merged":[]}
[]
[]
[null,null,"Males",null,null,null,null,null,null,"Female",null,null,null,null,null,null,"Total"]
[null,null,"A","B","C","D","E","A-E","Entries","A","B","C","D","E","A-E","Entries","A","B","C","D","E","A-E","Entries"]
[null,"Biological Sciences",{"$f":"IF(OR(C47=1,C47=2),\"x\",ROUND(C47/$I47*100,1))","v":25.8},{"$f":"IF(OR(D47=1,D47=2),\"x\",ROUND(D47/$I47*100,1))","v":21.3},20.399999999999999,16.7,12,96.2,{"$f":"ROUND(I47,0)","v":20304},{"$f":"IF(OR(J47=1,J47=2),\"x\",ROUND(J47/$P47*100,1))","v":27.5},{"$f":"IF(OR(K47=1,K47=2),\"x\",ROUND(K47/$P47*100,1))","v":22.8},20.6,16.3,9.9,97,{"$f":"ROUND(P47,0)","v":28093},{"$f":"IF(OR(Q47=1,Q47=2),\"x\",ROUND(Q47/$W47*100,1))","v":26.8},{"$f":"IF(OR(R47=1,R47=2),\"x\",ROUND(R47/$W47*100,1))","v":22.2},20.5,16.5,10.8,96.7,{"$f":"ROUND(W47,0)","v":48397}]
[null,"Chemistry",{"$f":"IF(OR(C48=1,C48=2),\"x\",ROUND(C48/$I48*100,1))","v":33.9},23.6,18,13,8.4,96.9,{"$f":"ROUND(I48,0)","v":18625},{"$f":"IF(OR(J48=1,J48=2),\"x\",ROUND(J48/$P48*100,1))","v":34.1},26,18.5,12.6,6.6,97.8,{"$f":"ROUND(P48,0)","v":17703},{"$f":"IF(OR(Q48=1,Q48=2),\"x\",ROUND(Q48/$W48*100,1))","v":34},24.8,18.2,12.8,7.5,97.3,{"$f":"ROUND(W48,0)","v":36328}]
[null,"Physics",31,20.9,18.3,15.3,10.8,96.3,19418,37.5,21.7,17.399999999999999,12.8,8.4,97.7,5285,32.4,21.1,18.100000000000001,14.8,10.3,96.6,24703]
[null,"Other Science",24.7,20.3,21.2,17.899999999999999,12.8,97,2895,23.8,24.7,19.2,20.3,9.5,97.5,1091,24.4,21.5,20.7,18.5,11.9,97.1,3986]
[null,"Mathematics",43,21.7,15.7,10.7,6.6,97.8,34809,45.9,23,14.9,9.5,5,98.3,22809,44.2,22.2,15.4,10.199999999999999,6,98,57618]
[null,"Further Mathematics",58,20.100000000000001,11.3,5.7,3.1,98.3,5871,58.7,21.7,10.4,5.5,2.4,98.7,2576,58.2,20.6,11.1,5.7,2.9,98.4,8447]
[null,"Design and Technology",15.5,21.8,26.6,21.4,11.6,96.8,8995,22.9,26.2,25.6,16.100000000000001,7.4,98.2,6643,18.600000000000001,23.7,26.2,19.100000000000001,9.8000000000000007,97.4,15638]
[null,"Computer Studies",16.899999999999999,19.7,21.6,22,15.4,95.6,3876,19,21.2,25.6,19.899999999999999,9.1999999999999993,94.9,316,17.100000000000001,19.8,21.9,21.9,14.9,95.5,4192]
[null,"ICT",5.7,16.3,26.2,26.7,19.3,94.2,6109,10.1,22,26.1,23.9,13.6,95.8,3561,7.3,18.399999999999999,26.2,25.7,17.2,94.8,9670]
[null,"Home Economics","x",15.6,28.1,21.9,18.8,90.6,32,19.8,24.9,27.2,20.399999999999999,6.4,98.7,313,18.600000000000001,24.1,27.2,20.6,7.5,98,345]
[null,"Accounting and Finance",14.1,18.600000000000001,24.4,21.7,15.9,94.7,2234,14.9,20.8,24.1,21.7,13.8,95.3,1298,14.4,19.399999999999999,24.3,21.7,15.1,94.9,3532]
[null,"Business Studies",17,27.1,28.9,19,6.8,98.8,17592,20.100000000000001,27.8,27.4,17.2,6.4,98.9,12295,18.3,27.3,28.3,18.3,6.6,98.8,29887]
[null,"Economics",36.1,27.1,19.8,11.8,4.0999999999999996,99,10641,40.799999999999997,27.4,17.5,9.1999999999999993,3.9,98.8,4717,37.5,27.2,19.100000000000001,11,4.0999999999999996,99,15358]
[null,"Geography",25.5,26.3,24.9,15.6,6.4,98.7,15188,34.1,27.7,21.6,11.8,4.0999999999999996,99.3,12658,29.4,26.9,23.4,13.9,5.4,99,27846]
[null,"Government and Politics",33.200000000000003,27.1,22.1,11.7,4.8,98.8,6334,37.1,27.2,19.100000000000001,9.9,5.3,98.7,4542,34.799999999999997,27.2,20.8,11,5,98.7,10876]
[null,"History",23.3,27.2,26.1,16,6.2,98.9,21217,26.4,29.1,24.1,14.2,5.2,98.9,20890,24.8,28.1,25.1,15.1,5.7,98.9,42107]
[null,"Law",18.2,21.3,24.4,19.7,12.2,95.7,5728,23.2,23.5,23.7,17.8,8.8000000000000007,97.1,8470,21.2,22.6,24,18.600000000000001,10.199999999999999,96.5,14198]
[null,"Psychology",{"$f":"IF(OR(C64=1,C64=2),\"x\",ROUND(C64/$I64*100,1))","v":12.5},20.7,25.7,22.7,14,95.7,12791,{"$f":"IF(OR(J64=1,J64=2),\"x\",ROUND(J64/$P64*100,1))","v":22.4},25.1,24.5,17.100000000000001,8.6999999999999993,97.8,36643,{"$f":"IF(OR(Q64=1,Q64=2),\"x\",ROUND(Q64/$W64*100,1))","v":19.8},24,24.8,18.5,10.1,97.3,49434]
[null,"Sociology",17,25.6,27,19.100000000000001,9.1,97.6,6129,23.7,28,24.8,15.6,6.4,98.6,19287,22.1,27.4,25.3,16.5,7.1,98.3,25416]
[null,"Other social studies",20.9,25.6,25.2,16.399999999999999,9.9,98,1669,23.8,26.5,23.4,16.600000000000001,7.4,97.7,1587,22.3,26,24.3,16.5,8.6999999999999993,97.9,3256]
[null,"Art and Design",26.4,22.6,23.5,17.399999999999999,7.7,97.6,11770,32,25.5,22.6,13.4,5,98.7,27853,30.4,24.7,22.9,14.6,5.8,98.4,39623]
[null,"Drama",15.6,28.9,32.4,17.5,4.8,99.3,4702,22.9,32.6,29.2,12.3,2.6,99.6,10456,20.6,31.4,30.2,13.9,3.3,99.5,15158]
[null,"English",22.3,25.3,27.4,18.2,5.9,99.1,25129,23,27,27.8,16.600000000000001,4.9000000000000004,99.3,55788,22.8,26.4,27.7,17.100000000000001,5.2,99.2,80917]
[null,"Media/Film/TV Studies",10.3,26.8,33.700000000000003,21.6,6.4,98.8,10760,15.9,31.9,32.9,15.1,3.5,99.3,13375,13.4,29.6,33.200000000000003,18,4.8,99.1,24135]
[null,"Other Communication Studies",13.1,31.7,36.200000000000003,14.8,3.4,99.1,4220,17.2,34.200000000000003,32.299999999999997,12.4,3,99.2,5417,15.4,33.1,34,13.5,3.2,99.1,9637]
[null,"French",39.5,27.1,18.3,9.9,4.2,99,3971,36.9,28.2,18.7,11,4.0999999999999996,99,8634,37.799999999999997,27.9,18.600000000000001,10.6,4.0999999999999996,99,12605]
[null,"German",40.9,24.2,18.7,10.8,4.4000000000000004,99,2205,35.6,27.8,19.5,11.3,5.0999999999999996,99.3,3355,37.700000000000003,26.4,19.2,11.1,4.8,99.2,5560]
[null,"Spanish",42.3,28.3,16.899999999999999,9.1999999999999993,2.8,99.4,1884,38.200000000000003,27.3,19.2,10.6,4,99.3,3844,39.6,27.6,18.399999999999999,10.199999999999999,3.6,99.4,5728]
[null,"Other modern languages",46.1,31.5,12.6,4.9000000000000004,2.4,97.6,2371,52.3,27.8,10.5,5.2,2.8,98.6,3159,49.7,29.4,11.4,5.0999999999999996,2.6,98.2,5530]
[null,"Classical Studies",35.299999999999997,25.7,22,12,4.0999999999999996,99.1,2545,41.2,28.6,19.100000000000001,7.7,2.8,99.5,3114,38.5,27.3,20.399999999999999,9.6,3.4,99.3,5659]
[null,"Religious Studies",25.6,28.1,25,14.6,5.0999999999999996,98.4,5710,27.7,29.6,24.3,12.8,4.5,98.9,11132,27,29.1,24.5,13.4,4.7,98.7,16842]
[null,"Music",15.4,21.2,25.2,22.7,12.3,96.8,5682,21.7,24.4,24,19.899999999999999,8.4,98.3,3616,17.8,22.4,24.8,21.6,10.8,97.4,9298]
[null,"Physical Education",12.1,21,26.7,23.2,14.1,97.1,13037,23.2,25.2,23,18.2,8.6999999999999993,98.3,9307,16.7,22.7,25.2,21.1,11.8,97.6,22344]
[null,"General Studies",{"$f":"IF(OR(C80=1,C80=2),\"x\",ROUND(C80/$I80*100,1))","v":12},16.2,22,23.5,18.5,92.3,26573,{"$f":"IF(OR(J80=1,J80=2),\"x\",ROUND(J80/$P80*100,1))","v":13.6},18.7,24.2,22.9,15.5,94.9,30513,{"$f":"IF(OR(Q80=1,Q80=2),\"x\",ROUND(Q80/$W80*100,1))","v":12.8},17.5,23.2,23.2,16.899999999999999,93.7,57086]
[null,"All subjects",24.8,23.2,23.1,17,9.1999999999999993,97.3,341016,26.8,25.9,23.5,15.2,6.8,98.2,400340,25.9,24.7,23.3,16,7.9,97.8,741356]
[]
[]
[]
[]
[]
[]
[null,null,"A","B","C","D","E","A-E","Total","A","B","C","D","E","A-E","Total","A","B","C","D","E","A-E","Total"]
[null,"Biological Sciences",5234,4326,4138,3395,2431,19524,20304,7720,6409,5775,4579,2781,27264,28093,12954,10735,9913,7974,5212,46788,48397]
[null,"Chemistry",6315,4400,3348,2420,1560,18043,18625,6034,4599,3273,2230,1177,17313,17703,12349,8999,6621,4650,2737,35356,36328]
[null,"Physics",6019,4056,3553,2972,2100,18700,19418,1982,1146,918,674,443,5163,5285,8001,5202,4471,3646,2543,23863,24703]
[null,"Other Science",714,589,615,517,372,2807,2895,260,269,210,221,104,1064,1091,974,858,825,738,476,3871,3986]
[null,"Mathematics",14984,7557,5462,3731,2298,34032,34809,10462,5241,3409,2163,1150,22425,22809,25446,12798,8871,5894,3448,56457,57618]
[null,"Further Mathematics",3406,1179,666,337,183,5771,5871,1511,558,268,142,63,2542,2576,4917,1737,934,479,246,8313,8447]
[null,"Design and Technology",1392,1965,2393,1922,1039,8711,8995,1521,1739,1703,1071,492,6526,6643,2913,3704,4096,2993,1531,15237,15638]
[null,"Computer Studies",656,762,837,854,596,3705,3876,60,67,81,63,29,300,316,716,829,918,917,625,4005,4192]
[null,"ICT",350,994,1598,1633,1182,5757,6109,360,783,931,852,486,3412,3561,710,1777,2529,2485,1668,9169,9670]
[null,"Home Economics",2,5,9,7,6,29,32,62,78,85,64,20,309,313,64,83,94,71,26,338,345]
[null,"Accounting and Finance",314,415,546,484,356,2115,2234,193,270,313,282,179,1237,1298,507,685,859,766,535,3352,3532]
[null,"Business Studies",2998,4759,5082,3337,1203,17379,17592,2469,3413,3371,2120,783,12156,12295,5467,8172,8453,5457,1986,29535,29887]
[null,"Economics",3842,2889,2108,1256,440,10535,10641,1923,1293,824,436,186,4662,4717,5765,4182,2932,1692,626,15197,15358]
[null,"Geography",3871,3993,3779,2376,976,14995,15188,4317,3504,2736,1498,514,12569,12658,8188,7497,6515,3874,1490,27564,27846]
[null,"Government and Politics",2102,1716,1397,741,302,6258,6334,1686,1237,867,451,241,4482,4542,3788,2953,2264,1192,543,10740,10876]
[null,"History",4952,5761,5548,3403,1316,20980,21217,5506,6075,5029,2974,1084,20668,20890,10458,11836,10577,6377,2400,41648,42107]
[null,"Law",1040,1219,1396,1129,700,5484,5728,1966,1994,2008,1509,747,8224,8470,3006,3213,3404,2638,1447,13708,14198]
[null,"Psychology",1603,2649,3292,2905,1788,12237,12791,8203,9200,8983,6260,3205,35851,36643,9806,11849,12275,9165,4993,48088,49434]
[null,"Sociology",1041,1566,1652,1168,556,5983,6129,4574,5400,4786,3014,1236,19010,19287,5615,6966,6438,4182,1792,24993,25416]
[null,"Other Social Studies",349,428,420,273,166,1636,1669,378,420,372,263,118,1551,1587,727,848,792,536,284,3187,3256]
[null,"Art and Design",3104,2665,2764,2044,909,11486,11770,8925,7109,6305,3739,1406,27484,27853,12029,9774,9069,5783,2315,38970,39623]
[null,"Drama",735,1358,1524,824,226,4667,4702,2390,3406,3057,1282,274,10409,10456,3125,4764,4581,2106,500,15076,15158]
[null,"English",5599,6348,6877,4585,1489,24898,25129,12859,15045,15504,9268,2720,55396,55788,18458,21393,22381,13853,4209,80294,80917]
[null,"Media/Film/Television Studies",1105,2887,3628,2328,688,10636,10760,2129,4264,4395,2017,472,13277,13375,3234,7151,8023,4345,1160,23913,24135]
[null,"Other Communication Studies",553,1336,1529,623,142,4183,4220,931,1852,1751,674,164,5372,5417,1484,3188,3280,1297,306,9555,9637]
[null,"French",1570,1077,728,392,166,3933,3971,3190,2435,1617,950,357,8549,8634,4760,3512,2345,1342,523,12482,12605]
[null,"German",901,533,412,239,98,2183,2205,1194,934,654,378,170,3330,3355,2095,1467,1066,617,268,5513,5560]
[null,"Spanish",796,533,318,174,52,1873,1884,1470,1050,737,409,152,3818,3844,2266,1583,1055,583,204,5691,5728]
[null,"Other Modern Languages",1093,748,299,117,58,2315,2371,1653,878,331,165,88,3115,3159,2746,1626,630,282,146,5430,5530]
[null,"Classical Studies",898,654,560,306,104,2522,2545,1283,892,595,239,88,3097,3114,2181,1546,1155,545,192,5619,5659]
[null,"Religious Studies",1459,1607,1428,835,289,5618,5710,3085,3296,2701,1424,501,11007,11132,4544,4903,4129,2259,790,16625,16842]
[null,"Music",874,1205,1434,1290,700,5503,5682,783,882,868,721,302,3556,3616,1657,2087,2302,2011,1002,9059,9298]
[null,"Physical Education",1571,2738,3479,3030,1836,12654,13037,2158,2343,2143,1691,810,9145,9307,3729,5081,5622,4721,2646,21799,22344]
[null,"General Studies",3184,4305,5855,6255,4924,24523,26573,4150,5708,7389,6973,4743,28963,30513,7334,10013,13244,13228,9667,53486,57086]
[null,"Total",84626,79222,78674,57902,31251,331675,341016,107387,103789,93989,60796,27285,393246,400340,192013,183011,172663,118698,58536,724921,741356]

{"sheet":"2009 data","index":15,"n_rows":81,"n_cols":23,"rows_kept":81,"cut":false,"hidden":true,"merged":[]}
[]
[]
[null,null,"Males",null,null,null,null,null,null,"Female",null,null,null,null,null,null,"Total"]
[null,null,"A","B","C","D","E","A-E","Entries","A","B","C","D","E","A-E","Entries","A","B","C","D","E","A-E","Entries"]
[null,"Biological Sciences",{"$f":"IF(OR(C47=1,C47=2),\"x\",ROUND(C47/$I47*100,1))","v":26.3},{"$f":"IF(OR(D47=1,D47=2),\"x\",ROUND(D47/$I47*100,1))","v":22},20.100000000000001,16.899999999999999,11.4,96.7,{"$f":"ROUND(I47,0)","v":20510},{"$f":"IF(OR(J47=1,J47=2),\"x\",ROUND(J47/$P47*100,1))","v":29.4},{"$f":"IF(OR(K47=1,K47=2),\"x\",ROUND(K47/$P47*100,1))","v":23},20,15.3,9.6999999999999993,97.4,{"$f":"ROUND(P47,0)","v":27468},{"$f":"IF(OR(Q47=1,Q47=2),\"x\",ROUND(Q47/$W47*100,1))","v":28.1},{"$f":"IF(OR(R47=1,R47=2),\"x\",ROUND(R47/$W47*100,1))","v":22.6},20,16,10.4,97.1,{"$f":"ROUND(W47,0)","v":47978}]
[null,"Chemistry",{"$f":"IF(OR(C48=1,C48=2),\"x\",ROUND(C48/$I48*100,1))","v":34.299999999999997},23.3,17.5,13.2,8.9,97.2,{"$f":"ROUND(I48,0)","v":19160},{"$f":"IF(OR(J48=1,J48=2),\"x\",ROUND(J48/$P48*100,1))","v":35.299999999999997},25.5,18.2,11.8,7.4,98.1,{"$f":"ROUND(P48,0)","v":17981},{"$f":"IF(OR(Q48=1,Q48=2),\"x\",ROUND(Q48/$W48*100,1))","v":34.799999999999997},24.3,17.8,12.5,8.1999999999999993,97.6,{"$f":"ROUND(W48,0)","v":37141}]
[null,"Physics",{"$f":"IF(OR(C49=1,C49=2),\"x\",ROUND(C49/$I49*100,1))","v":31.7},20.3,18.399999999999999,15.3,10.9,96.6,19994,{"$f":"IF(OR(J49=1,J49=2),\"x\",ROUND(J49/$P49*100,1))","v":37.799999999999997},22,17.100000000000001,13.4,7.7,98.1,5626,{"$f":"IF(OR(Q49=1,Q49=2),\"x\",ROUND(Q49/$W49*100,1))","v":33},20.7,18.100000000000001,14.9,10.199999999999999,96.9,25620]
[null,"Other Science",{"$f":"IF(OR(C50=1,C50=2),\"x\",ROUND(C50/$I50*100,1))","v":24.9},21.8,21.7,18,10.6,97,2794,{"$f":"IF(OR(J50=1,J50=2),\"x\",ROUND(J50/$P50*100,1))","v":25.1},24.8,22.1,16.100000000000001,9.8000000000000007,97.9,1111,{"$f":"IF(OR(Q50=1,Q50=2),\"x\",ROUND(Q50/$W50*100,1))","v":25},22.7,21.8,17.399999999999999,10.4,97.3,3905]
[null,"Mathematics",{"$f":"IF(OR(C51=1,C51=2),\"x\",ROUND(C51/$I51*100,1))","v":44.4},21.2,15.6,10.7,6.2,98.1,38408,{"$f":"IF(OR(J51=1,J51=2),\"x\",ROUND(J51/$P51*100,1))","v":46.7},22.5,15,9.1999999999999993,5.0999999999999996,98.6,26109,{"$f":"IF(OR(Q51=1,Q51=2),\"x\",ROUND(Q51/$W51*100,1))","v":45.4},21.7,15.3,10.1,5.8,98.3,64517]
[null,"Further Mathematics",{"$f":"IF(OR(C52=1,C52=2),\"x\",ROUND(C52/$I52*100,1))","v":59.4},19.7,10.4,5.8,3.6,98.9,6493,{"$f":"IF(OR(J52=1,J52=2),\"x\",ROUND(J52/$P52*100,1))","v":58.6},21.3,12.4,4.5999999999999996,2.2999999999999998,99.2,2950,{"$f":"IF(OR(Q52=1,Q52=2),\"x\",ROUND(Q52/$W52*100,1))","v":59.1},20.2,11,5.4,3.2,99,9443]
[null,"Design and Technology",{"$f":"IF(OR(C53=1,C53=2),\"x\",ROUND(C53/$I53*100,1))","v":15.7},22.6,27.1,21.6,10.6,97.6,8860,{"$f":"IF(OR(J53=1,J53=2),\"x\",ROUND(J53/$P53*100,1))","v":22.2},26.9,25,17.600000000000001,7,98.6,6585,{"$f":"IF(OR(Q53=1,Q53=2),\"x\",ROUND(Q53/$W53*100,1))","v":18.5},24.4,26.2,19.899999999999999,9,98,15445]
[null,"Computer Studies",{"$f":"IF(OR(C54=1,C54=2),\"x\",ROUND(C54/$I54*100,1))","v":16.7},20.6,22.6,20.8,14.5,95.3,3652,{"$f":"IF(OR(J54=1,J54=2),\"x\",ROUND(J54/$P54*100,1))","v":17.399999999999999},26.3,21.5,19.8,12.6,97.6,293,{"$f":"IF(OR(Q54=1,Q54=2),\"x\",ROUND(Q54/$W54*100,1))","v":16.8},21.1,22.6,20.7,14.4,95.4,3945]
[null,"ICT",{"$f":"IF(OR(C55=1,C55=2),\"x\",ROUND(C55/$I55*100,1))","v":6.2},16.7,25.4,27.8,18.8,94.9,5728,{"$f":"IF(OR(J55=1,J55=2),\"x\",ROUND(J55/$P55*100,1))","v":10.199999999999999},21.3,27.9,25.3,12.4,97.1,3383,{"$f":"IF(OR(Q55=1,Q55=2),\"x\",ROUND(Q55/$W55*100,1))","v":7.7},18.399999999999999,26.3,26.8,16.399999999999999,95.7,9111]
[null,"Home Economics",{"$f":"IF(OR(C56=1,C56=2),\"x\",ROUND(C56/$I56*100,1))","v":"x"},18.8,18.8,18.8,34.4,93.8,32,{"$f":"IF(OR(J56=1,J56=2),\"x\",ROUND(J56/$P56*100,1))","v":18.3},29.2,20.8,22.1,8.3000000000000007,98.7,312,{"$f":"IF(OR(Q56=1,Q56=2),\"x\",ROUND(Q56/$W56*100,1))","v":16.899999999999999},28.2,20.6,21.8,10.8,98.3,344]
[null,"Accounting and Finance",{"$f":"IF(OR(C57=1,C57=2),\"x\",ROUND(C57/$I57*100,1))","v":12.6},23,25.2,21.8,12.8,95.3,2234,{"$f":"IF(OR(J57=1,J57=2),\"x\",ROUND(J57/$P57*100,1))","v":14.5},22.3,22.5,22.3,13.8,95.3,1424,{"$f":"IF(OR(Q57=1,Q57=2),\"x\",ROUND(Q57/$W57*100,1))","v":13.3},22.7,24.1,22,13.2,95.3,3658]
[null,"Business Studies",{"$f":"IF(OR(C58=1,C58=2),\"x\",ROUND(C58/$I58*100,1))","v":18},27.7,28.6,17.8,6.6,98.7,18208,{"$f":"IF(OR(J58=1,J58=2),\"x\",ROUND(J58/$P58*100,1))","v":21.4},27.5,27,16.399999999999999,6.7,98.9,12353,{"$f":"IF(OR(Q58=1,Q58=2),\"x\",ROUND(Q58/$W58*100,1))","v":19.3},27.6,27.9,17.2,6.6,98.8,30561]
[null,"Economics",{"$f":"IF(OR(C59=1,C59=2),\"x\",ROUND(C59/$I59*100,1))","v":36.299999999999997},27.9,19.600000000000001,11,4.3,99.1,12233,{"$f":"IF(OR(J59=1,J59=2),\"x\",ROUND(J59/$P59*100,1))","v":43.6},25.7,17.600000000000001,8.6999999999999993,3.7,99.3,5463,{"$f":"IF(OR(Q59=1,Q59=2),\"x\",ROUND(Q59/$W59*100,1))","v":38.5},27.2,19,10.3,4.0999999999999996,99.2,17696]
[null,"Geography",{"$f":"IF(OR(C60=1,C60=2),\"x\",ROUND(C60/$I60*100,1))","v":25.9},27,24.3,15.6,6.3,99.1,15533,{"$f":"IF(OR(J60=1,J60=2),\"x\",ROUND(J60/$P60*100,1))","v":36.9},27.6,20.2,11.1,3.7,99.4,12917,{"$f":"IF(OR(Q60=1,Q60=2),\"x\",ROUND(Q60/$W60*100,1))","v":30.9},27.2,22.4,13.5,5.0999999999999996,99.2,28450]
[null,"Government and Politics",{"$f":"IF(OR(C61=1,C61=2),\"x\",ROUND(C61/$I61*100,1))","v":34.4},26.1,20.7,12.7,4.9000000000000004,98.8,6678,{"$f":"IF(OR(J61=1,J61=2),\"x\",ROUND(J61/$P61*100,1))","v":38.6},26.2,19.2,10.7,4.4000000000000004,99.1,4984,{"$f":"IF(OR(Q61=1,Q61=2),\"x\",ROUND(Q61/$W61*100,1))","v":36.200000000000003},26.2,20.100000000000001,11.8,4.7,98.9,11662]
[null,"History",{"$f":"IF(OR(C62=1,C62=2),\"x\",ROUND(C62/$I62*100,1))","v":24.4},28.3,25.1,15.6,5.8,99.1,21450,{"$f":"IF(OR(J62=1,J62=2),\"x\",ROUND(J62/$P62*100,1))","v":28},29.2,23.8,13.6,4.8,99.3,21391,{"$f":"IF(OR(Q62=1,Q62=2),\"x\",ROUND(Q62/$W62*100,1))","v":26.2},28.8,24.4,14.6,5.3,99.2,42841]
[null,"Law",{"$f":"IF(OR(C63=1,C63=2),\"x\",ROUND(C63/$I63*100,1))","v":18.5},23.8,24.1,18.899999999999999,11.3,96.5,6068,{"$f":"IF(OR(J63=1,J63=2),\"x\",ROUND(J63/$P63*100,1))","v":23.4},24.2,24,16.8,8.8000000000000007,97.3,8691,{"$f":"IF(OR(Q63=1,Q63=2),\"x\",ROUND(Q63/$W63*100,1))","v":21.4},24,24,17.7,9.8000000000000007,97,14759]
[null,"Psychology",{"$f":"IF(OR(C64=1,C64=2),\"x\",ROUND(C64/$I64*100,1))","v":11.8},21.8,25.9,22.5,14.4,96.5,12700,{"$f":"IF(OR(J64=1,J64=2),\"x\",ROUND(J64/$P64*100,1))","v":22.2},26.4,24.5,17.100000000000001,8.1,98.3,37028,{"$f":"IF(OR(Q64=1,Q64=2),\"x\",ROUND(Q64/$W64*100,1))","v":19.5},25.2,24.9,18.5,9.6999999999999993,97.8,49728]
[null,"Sociology",{"$f":"IF(OR(C65=1,C65=2),\"x\",ROUND(C65/$I65*100,1))","v":16.100000000000001},25.2,27.8,19.899999999999999,9.1,98.1,6428,{"$f":"IF(OR(J65=1,J65=2),\"x\",ROUND(J65/$P65*100,1))","v":22.5},28.4,25.9,15.8,6.1,98.7,20086,{"$f":"IF(OR(Q65=1,Q65=2),\"x\",ROUND(Q65/$W65*100,1))","v":21},27.6,26.4,16.8,6.9,98.6,26514]
[null,"Other social studies",{"$f":"IF(OR(C66=1,C66=2),\"x\",ROUND(C66/$I66*100,1))","v":22.3},26.5,21.8,18.3,8.6999999999999993,97.6,1731,{"$f":"IF(OR(J66=1,J66=2),\"x\",ROUND(J66/$P66*100,1))","v":25.6},25.1,23.8,15.6,7.2,97.3,1687,{"$f":"IF(OR(Q66=1,Q66=2),\"x\",ROUND(Q66/$W66*100,1))","v":23.9},25.8,22.8,16.899999999999999,8,97.4,3418]
[null,"Art and Design",{"$f":"IF(OR(C67=1,C67=2),\"x\",ROUND(C67/$I67*100,1))","v":27.3},23.7,23.9,15.5,7.3,97.7,12015,{"$f":"IF(OR(J67=1,J67=2),\"x\",ROUND(J67/$P67*100,1))","v":32.799999999999997},26.5,22.7,12.3,4.4000000000000004,98.6,29097,{"$f":"IF(OR(Q67=1,Q67=2),\"x\",ROUND(Q67/$W67*100,1))","v":31.2},25.7,23,13.2,5.2,98.4,41112]
[null,"Drama",{"$f":"IF(OR(C68=1,C68=2),\"x\",ROUND(C68/$I68*100,1))","v":14.3},30.6,31.1,18.600000000000001,5,99.6,4820,{"$f":"IF(OR(J68=1,J68=2),\"x\",ROUND(J68/$P68*100,1))","v":21.7},33.4,29.6,12.6,2.4,99.7,10478,{"$f":"IF(OR(Q68=1,Q68=2),\"x\",ROUND(Q68/$W68*100,1))","v":19.3},32.5,30.1,14.5,3.3,99.6,15298]
[null,"English",{"$f":"IF(OR(C69=1,C69=2),\"x\",ROUND(C69/$I69*100,1))","v":22.8},25.8,27.9,17.399999999999999,5.3,99.1,26111,{"$f":"IF(OR(J69=1,J69=2),\"x\",ROUND(J69/$P69*100,1))","v":23.3},27.3,28.5,16.2,4.2,99.5,57538,{"$f":"IF(OR(Q69=1,Q69=2),\"x\",ROUND(Q69/$W69*100,1))","v":23.2},26.8,28.3,16.600000000000001,4.5,99.4,83649]
[null,"Media/Film/TV Studies",{"$f":"IF(OR(C70=1,C70=2),\"x\",ROUND(C70/$I70*100,1))","v":10.7},27.2,34.700000000000003,20.6,5.6,98.9,11019,{"$f":"IF(OR(J70=1,J70=2),\"x\",ROUND(J70/$P70*100,1))","v":15},33.1,32.9,15.3,3,99.3,14037,{"$f":"IF(OR(Q70=1,Q70=2),\"x\",ROUND(Q70/$W70*100,1))","v":13.1},30.5,33.700000000000003,17.600000000000001,4.2,99.1,25056]
[null,"Other Communication Studies",{"$f":"IF(OR(C71=1,C71=2),\"x\",ROUND(C71/$I71*100,1))","v":12.1},32.799999999999997,37.299999999999997,14.3,2.6,99.1,4306,{"$f":"IF(OR(J71=1,J71=2),\"x\",ROUND(J71/$P71*100,1))","v":16.399999999999999},33.9,33.799999999999997,12.5,2.6,99.2,5491,{"$f":"IF(OR(Q71=1,Q71=2),\"x\",ROUND(Q71/$W71*100,1))","v":14.5},33.4,35.299999999999997,13.3,2.6,99.2,9797]
[null,"French",{"$f":"IF(OR(C72=1,C72=2),\"x\",ROUND(C72/$I72*100,1))","v":41.1},27.6,17.7,9.8000000000000007,3.3,99.5,3960,{"$f":"IF(OR(J72=1,J72=2),\"x\",ROUND(J72/$P72*100,1))","v":38.5},27.5,17.7,10.9,4.5,99.2,8271,{"$f":"IF(OR(Q72=1,Q72=2),\"x\",ROUND(Q72/$W72*100,1))","v":39.4},27.5,17.7,10.6,4.0999999999999996,99.3,12231]
[null,"German",{"$f":"IF(OR(C73=1,C73=2),\"x\",ROUND(C73/$I73*100,1))","v":40.5},25.2,17.899999999999999,10.7,5.0999999999999996,99.4,2041,{"$f":"IF(OR(J73=1,J73=2),\"x\",ROUND(J73/$P73*100,1))","v":39.299999999999997},25.2,18.899999999999999,11.3,4.5999999999999996,99.3,3078,{"$f":"IF(OR(Q73=1,Q73=2),\"x\",ROUND(Q73/$W73*100,1))","v":39.799999999999997},25.2,18.5,11.1,4.8,99.3,5119]
[null,"Spanish",{"$f":"IF(OR(C74=1,C74=2),\"x\",ROUND(C74/$I74*100,1))","v":43},27.9,17.100000000000001,7.4,3.8,99.2,1968,{"$f":"IF(OR(J74=1,J74=2),\"x\",ROUND(J74/$P74*100,1))","v":38.299999999999997},27.5,18.7,10.8,4.0999999999999996,99.5,4121,{"$f":"IF(OR(Q74=1,Q74=2),\"x\",ROUND(Q74/$W74*100,1))","v":39.799999999999997},27.7,18.2,9.6999999999999993,4,99.4,6089]
[null,"Other modern languages",{"$f":"IF(OR(C75=1,C75=2),\"x\",ROUND(C75/$I75*100,1))","v":46.1},32.700000000000003,11.9,4.7,2.4,97.8,2637,{"$f":"IF(OR(J75=1,J75=2),\"x\",ROUND(J75/$P75*100,1))","v":51.7},29.5,10.5,4.3,2.2999999999999998,98.2,3453,{"$f":"IF(OR(Q75=1,Q75=2),\"x\",ROUND(Q75/$W75*100,1))","v":49.3},30.9,11.1,4.5,2.2999999999999998,98.1,6090]
[null,"Classical Studies",{"$f":"IF(OR(C76=1,C76=2),\"x\",ROUND(C76/$I76*100,1))","v":36.299999999999997},27.1,21.6,10.199999999999999,4.3,99.5,2770,{"$f":"IF(OR(J76=1,J76=2),\"x\",ROUND(J76/$P76*100,1))","v":41.4},29.1,18.7,7.4,2.7,99.3,3149,{"$f":"IF(OR(Q76=1,Q76=2),\"x\",ROUND(Q76/$W76*100,1))","v":39},28.1,20,8.6999999999999993,3.5,99.4,5919]
[null,"Religious Studies",{"$f":"IF(OR(C77=1,C77=2),\"x\",ROUND(C77/$I77*100,1))","v":26},28.3,24.5,14.2,5.6,98.6,5854,{"$f":"IF(OR(J77=1,J77=2),\"x\",ROUND(J77/$P77*100,1))","v":27.3},31,23.2,12.9,4.5,98.9,11634,{"$f":"IF(OR(Q77=1,Q77=2),\"x\",ROUND(Q77/$W77*100,1))","v":26.9},30.1,23.6,13.4,4.8,98.8,17488]
[null,"Music",{"$f":"IF(OR(C78=1,C78=2),\"x\",ROUND(C78/$I78*100,1))","v":16.5},21.6,25.5,22.1,11.8,97.5,5461,{"$f":"IF(OR(J78=1,J78=2),\"x\",ROUND(J78/$P78*100,1))","v":21.2},26.4,23.2,18.5,9,98.3,3558,{"$f":"IF(OR(Q78=1,Q78=2),\"x\",ROUND(Q78/$W78*100,1))","v":18.3},23.5,24.6,20.7,10.7,97.8,9019]
[null,"Physical Education",{"$f":"IF(OR(C79=1,C79=2),\"x\",ROUND(C79/$I79*100,1))","v":13.4},20.8,26.3,23.6,13.5,97.5,12766,{"$f":"IF(OR(J79=1,J79=2),\"x\",ROUND(J79/$P79*100,1))","v":24},25.5,24.6,16.899999999999999,7.3,98.4,8843,{"$f":"IF(OR(Q79=1,Q79=2),\"x\",ROUND(Q79/$W79*100,1))","v":17.7},22.7,25.6,20.9,11,97.9,21609]
[null,"General Studies",{"$f":"IF(OR(C80=1,C80=2),\"x\",ROUND(C80/$I80*100,1))","v":12.8},17,22.8,23.7,17.3,93.6,24404,{"$f":"IF(OR(J80=1,J80=2),\"x\",ROUND(J80/$P80*100,1))","v":14},19.3,24.4,22.4,15.3,95.5,28080,{"$f":"IF(OR(Q80=1,Q80=2),\"x\",ROUND(Q80/$W80*100,1))","v":13.4},18.2,23.7,23,16.2,94.6,52484]
[null,"All subjects",{"$f":"IF(OR(C81=1,C81=2),\"x\",ROUND(C81/$I81*100,1))","v":25.9},23.8,22.9,16.600000000000001,8.6,97.7,349026,{"$f":"IF(OR(J81=1,J81=2),\"x\",ROUND(J81/$P81*100,1))","v":27.7},26.3,23.5,14.7,6.4,98.5,408670,{"$f":"IF(OR(Q81=1,Q81=2),\"x\",ROUND(Q81/$W81*100,1))","v":26.8},25.1,23.2,15.5,7.4,98.1,757696]
[]
[]
[]
[]
[null," ","Male",null,null,null,null,null,null,"Female",null,null,null,null,null,null,"Total"]
[null,null,"A","B","C","D","E","A-E","Total","A","B","C","D","E","A-E","Total","A","B","C","D","E","A-E","Total"]
[]
[null,"Biological Sciences",5404,4513,4115,3464,2335,19831,20510,8067,6315,5503,4198,2677,26760,27468,13471,10828,9618,7662,5012,46591,47978]
[null,"Chemistry",6568,4456,3361,2520,1714,18619,19160,6346,4581,3266,2115,1325,17633,17981,12914,9037,6627,4635,3039,36252,37141]
[null,"Physics",6331,4058,3676,3056,2188,19309,19994,2128,1239,963,756,434,5520,5626,8459,5297,4639,3812,2622,24829,25620]
[null,"Other Science",696,609,606,502,297,2710,2794,279,276,245,179,109,1088,1111,975,885,851,681,406,3798,3905]
[null,"Mathematics",17063,8147,5977,4112,2379,37678,38408,12203,5875,3921,2413,1338,25750,26109,29266,14022,9898,6525,3717,63428,64517]
[null,"Further Mathematics",3855,1281,675,377,232,6420,6493,1729,628,366,135,67,2925,2950,5584,1909,1041,512,299,9345,9443]
[null,"Design and Technology",1392,2003,2399,1915,938,8647,8860,1459,1771,1648,1159,458,6495,6585,2851,3774,4047,3074,1396,15142,15445]
[null,"Computer Studies",610,754,827,758,530,3479,3652,51,77,63,58,37,286,293,661,831,890,816,567,3765,3945]
[null,"ICT",353,959,1454,1591,1078,5435,5728,345,719,945,855,420,3284,3383,698,1678,2399,2446,1498,8719,9111]
[null,"Home Economics",1,6,6,6,11,30,32,57,91,65,69,26,308,312,58,97,71,75,37,338,344]
[null,"Accounting and Finance",282,513,562,487,285,2129,2234,206,317,320,317,197,1357,1424,488,830,882,804,482,3486,3658]
[null,"Business Studies",3269,5047,5206,3239,1207,17968,18208,2640,3396,3331,2031,824,12222,12353,5909,8443,8537,5270,2031,30190,30561]
[null,"Economics",4439,3409,2402,1345,528,12123,12233,2382,1406,962,475,200,5425,5463,6821,4815,3364,1820,728,17548,17696]
[null,"Geography",4030,4188,3774,2422,976,15390,15533,4763,3564,2613,1430,473,12843,12917,8793,7752,6387,3852,1449,28233,28450]
[null,"Government and Politics",2294,1746,1385,848,328,6601,6678,1926,1307,955,532,218,4938,4984,4220,3053,2340,1380,546,11539,11662]
[null,"History",5235,6068,5380,3339,1237,21259,21450,5979,6249,5086,2904,1018,21236,21391,11214,12317,10466,6243,2255,42495,42841]
[null,"Law",1120,1443,1464,1148,683,5858,6068,2035,2104,2085,1464,765,8453,8691,3155,3547,3549,2612,1448,14311,14759]
[null,"Psychology",1494,2771,3289,2862,1834,12250,12700,8214,9778,9090,6323,2989,36394,37028,9708,12549,12379,9185,4823,48644,49728]
[null,"Sociology",1032,1620,1788,1279,586,6305,6428,4527,5698,5200,3168,1235,19828,20086,5559,7318,6988,4447,1821,26133,26514]
[null,"Other Social Studies",386,459,377,316,151,1689,1731,432,423,401,263,122,1641,1687,818,882,778,579,273,3330,3418]
[null,"Art and Design",3283,2851,2877,1859,872,11742,12015,9557,7710,6596,3571,1266,28700,29097,12840,10561,9473,5430,2138,40442,41112]
[null,"Drama",688,1474,1499,896,242,4799,4820,2272,3497,3099,1321,256,10445,10478,2960,4971,4598,2217,498,15244,15298]
[null,"English",5946,6724,7290,4541,1381,25882,26111,13423,15725,16390,9309,2389,57236,57538,19369,22449,23680,13850,3770,83118,83649]
[null,"Media/Film/Television Studies",1180,2992,3829,2273,620,10894,11019,2108,4643,4614,2142,425,13932,14037,3288,7635,8443,4415,1045,24826,25056]
[null,"Other Communication Studies",521,1412,1607,616,113,4269,4306,901,1862,1854,687,144,5448,5491,1422,3274,3461,1303,257,9717,9797]
[null,"French",1627,1092,702,387,132,3940,3960,3188,2275,1468,905,370,8206,8271,4815,3367,2170,1292,502,12146,12231]
[null,"German",826,515,365,218,104,2028,2041,1209,776,582,348,142,3057,3078,2035,1291,947,566,246,5085,5119]
[null,"Spanish",846,550,336,146,74,1952,1968,1580,1135,772,444,170,4101,4121,2426,1685,1108,590,244,6053,6089]
[null,"Other Modern Languages",1216,861,315,125,63,2580,2637,1786,1020,361,147,78,3392,3453,3002,1881,676,272,141,5972,6090]
[null,"Classical Studies",1006,750,598,283,119,2756,2770,1305,916,588,233,86,3128,3149,2311,1666,1186,516,205,5884,5919]
[null,"Religious Studies",1523,1658,1432,831,327,5771,5854,3177,3602,2701,1506,520,11506,11634,4700,5260,4133,2337,847,17277,17488]
[null,"Music",899,1180,1392,1209,647,5327,5461,753,940,826,658,319,3496,3558,1652,2120,2218,1867,966,8823,9019]
[null,"Physical Education",1709,2652,3359,3013,1718,12451,12766,2119,2254,2178,1498,649,8698,8843,3828,4906,5537,4511,2367,21149,21609]
[null,"General Studies",3127,4138,5559,5795,4221,22840,24404,3923,5425,6865,6300,4297,26810,28080,7050,9563,12424,12095,8518,49650,52484]
[null,"Total",90251,82899,79883,57778,30150,340961,349026,113069,107594,95922,59913,26043,402541,408670,203320,190493,175805,117691,56193,743502,757696]

{"sheet":"2010 data","index":16,"n_rows":81,"n_cols":26,"rows_kept":81,"cut":false,"hidden":true,"merged":[]}
[]
[]
[null,null,"Males",null,null,null,null,null,null,null,"Female",null,null,null,null,null,null,null,"Total"]
[null,null,"*","A","B","C","D","E","A-E","Entries","*","A","B","C","D","E","A-E","Entries","*","A","B","C","D","E","A-E","Entries"]
[null,"Biological Sciences",{"$f":"IF(OR(C47=1,C47=2),\"x\",ROUND(C47/$J47*100,1))","v":7.3},{"$f":"IF(OR(D47=1,D47=2),\"x\",ROUND(D47/$J47*100,1))","v":18.600000000000001},23,21.5,16.3,10.7,97.3,{"$f":"ROUND(J47,0)","v":23100},{"$f":"IF(OR(K47=1,K47=2),\"x\",ROUND(K47/$R47*100,1))","v":8.3000000000000007},{"$f":"IF(OR(L47=1,L47=2),\"x\",ROUND(L47/$R47*100,1))","v":21.1},23.6,21.2,15.1,8.6,98,{"$f":"ROUND(R47,0)","v":29628},{"$f":"IF(OR(S47=1,S47=2),\"x\",ROUND(S47/$Z47*100,1))","v":7.9},{"$f":"IF((T47<=2),\"x\",ROUND(T47/$Z47*100,1))","v":20},23.3,21.3,15.6,9.6,97.7,{"$f":"ROUND(Z47,0)","v":52728}]
[null,"Chemistry",{"$f":"IF(OR(C48=1,C48=2),\"x\",ROUND(C48/$J48*100,1))","v":9.3000000000000007},24.6,24.1,18.399999999999999,13,8.4,97.7,{"$f":"ROUND(J48,0)","v":21124},{"$f":"IF(OR(K48=1,K48=2),\"x\",ROUND(K48/$R48*100,1))","v":8.6999999999999993},25.8,25.5,19.2,12.1,6.8,98.2,{"$f":"ROUND(R48,0)","v":19255},{"$f":"IF(OR(S48=1,S48=2),\"x\",ROUND(S48/$Z48*100,1))","v":9},{"$f":"IF((T48<=2),\"x\",ROUND(T48/$Z48*100,1))","v":25.2},24.8,18.8,12.6,7.6,97.9,{"$f":"ROUND(Z48,0)","v":40379}]
[null,"Physics",{"$f":"IF(OR(C49=1,C49=2),\"x\",ROUND(C49/$J49*100,1))","v":10.199999999999999},21.8,21.7,18.399999999999999,14.9,10.1,97.2,21934,{"$f":"IF(OR(K49=1,K49=2),\"x\",ROUND(K49/$R49*100,1))","v":11.9},26.1,23.8,17,11.9,7.4,98.1,5852,10.6,{"$f":"IF((T49<=2),\"x\",ROUND(T49/$Z49*100,1))","v":22.7},22.1,18.100000000000001,14.3,9.6,97.4,27786]
[null,"Other Science",{"$f":"IF(OR(C50=1,C50=2),\"x\",ROUND(C50/$J50*100,1))","v":7.6},17.399999999999999,23.1,22.7,16.8,9.6999999999999993,97.2,3055,{"$f":"IF(OR(K50=1,K50=2),\"x\",ROUND(K50/$R50*100,1))","v":7.7},16.8,24.4,22.6,16.600000000000001,8.9,97.1,1228,7.6,{"$f":"IF((T50<=2),\"x\",ROUND(T50/$Z50*100,1))","v":17.2},23.5,22.7,16.7,9.5,97.2,4283]
[null,"Mathematics",{"$f":"IF(OR(C51=1,C51=2),\"x\",ROUND(C51/$J51*100,1))","v":17.3},27.4,21.3,15.4,10.5,6.5,98.4,41552,{"$f":"IF(OR(K51=1,K51=2),\"x\",ROUND(K51/$R51*100,1))","v":16.600000000000001},28.8,23,15.7,9.5,5.2,98.7,28251,17,{"$f":"IF((T51<=2),\"x\",ROUND(T51/$Z51*100,1))","v":27.9},22,15.5,10.1,6,98.5,69803]
[null,"Further Mathematics",{"$f":"IF(OR(C52=1,C52=2),\"x\",ROUND(C52/$J52*100,1))","v":30},29.3,20.3,11.1,5.5,3.1,99.2,7369,{"$f":"IF(OR(K52=1,K52=2),\"x\",ROUND(K52/$R52*100,1))","v":27.7},31.9,20.100000000000001,12,5.3,2.2999999999999998,99.3,3444,29.3,{"$f":"IF((T52<=2),\"x\",ROUND(T52/$Z52*100,1))","v":30.1},20.2,11.4,5.4,2.8,99.3,10813]
[null,"Design and Technology",{"$f":"IF(OR(C53=1,C53=2),\"x\",ROUND(C53/$J53*100,1))","v":4.0999999999999996},11.5,22.6,27.8,21,10.4,97.4,8529,{"$f":"IF(OR(K53=1,K53=2),\"x\",ROUND(K53/$R53*100,1))","v":6.9},14.2,26.9,26,16.899999999999999,7.6,98.5,6715,5.3,{"$f":"IF((T53<=2),\"x\",ROUND(T53/$Z53*100,1))","v":12.7},24.5,27,19.2,9.1,97.9,15244]
[null,"Computer Studies",{"$f":"IF(OR(C54=1,C54=2),\"x\",ROUND(C54/$J54*100,1))","v":3.6},13.2,20.8,24.5,21.2,13.1,96.4,3413,{"$f":"IF(OR(K54=1,K54=2),\"x\",ROUND(K54/$R54*100,1))","v":3},13.3,23.3,27.4,21.1,8.1,96.3,270,3.6,{"$f":"IF((T54<=2),\"x\",ROUND(T54/$Z54*100,1))","v":13.2},21,24.7,21.2,12.7,96.4,3683]
[null,"ICT",{"$f":"IF(OR(C55=1,C55=2),\"x\",ROUND(C55/$J55*100,1))","v":1.3},5.7,18.5,27.4,27,15.9,95.8,5985,{"$f":"IF(OR(K55=1,K55=2),\"x\",ROUND(K55/$R55*100,1))","v":1.8},9.6999999999999993,24.7,28.8,21.3,11.2,97.4,3374,1.5,{"$f":"IF((T55<=2),\"x\",ROUND(T55/$Z55*100,1))","v":7.2},20.7,27.9,24.9,14.2,96.4,9359]
[null,"Home Economics",{"$f":"IF(OR(C56=1,C56=2),\"x\",ROUND(C56/$J56*100,1))","v":0},0,17.600000000000001,26.5,32.4,20.6,97.1,34,{"$f":"IF(OR(K56=1,K56=2),\"x\",ROUND(K56/$R56*100,1))","v":2.2000000000000002},19.100000000000001,25,25.3,17.3,9.6,98.5,324,2,{"$f":"IF((T56<=2),\"x\",ROUND(T56/$Z56*100,1))","v":17.3},24.3,25.4,18.7,10.6,98.3,358]
[null,"Accounting and Finance",{"$f":"IF(OR(C57=1,C57=2),\"x\",ROUND(C57/$J57*100,1))","v":1.6},13.2,22.6,26.9,20.5,11.8,96.7,2365,{"$f":"IF(OR(K57=1,K57=2),\"x\",ROUND(K57/$R57*100,1))","v":2.5},12.2,21.8,25.6,20.7,13,95.8,1443,1.9,{"$f":"IF((T57<=2),\"x\",ROUND(T57/$Z57*100,1))","v":12.8},22.3,26.4,20.6,12.3,96.3,3808]
[null,"Business Studies",{"$f":"IF(OR(C58=1,C58=2),\"x\",ROUND(C58/$J58*100,1))","v":3.5},12.9,26.7,29.7,18.899999999999999,6.9,98.6,18434,{"$f":"IF(OR(K58=1,K58=2),\"x\",ROUND(K58/$R58*100,1))","v":4.3},14.6,27.4,27.8,18.3,6.4,98.8,12537,3.8,{"$f":"IF((T58<=2),\"x\",ROUND(T58/$Z58*100,1))","v":13.6},27,28.9,18.7,6.7,98.7,30971]
[null,"Economics",{"$f":"IF(OR(C59=1,C59=2),\"x\",ROUND(C59/$J59*100,1))","v":8},28,28.2,19.8,10.6,4.5,99.1,14007,{"$f":"IF(OR(K59=1,K59=2),\"x\",ROUND(K59/$R59*100,1))","v":11.4},30.8,28.4,17.7,8.1,2.9,99.3,6307,9.1,{"$f":"IF((T59<=2),\"x\",ROUND(T59/$Z59*100,1))","v":28.8},28.2,19.100000000000001,9.8000000000000007,4,99.1,20314]
[null,"Geography",{"$f":"IF(OR(C60=1,C60=2),\"x\",ROUND(C60/$J60*100,1))","v":5.3},20.9,27,24.7,15.3,5.6,98.9,15901,{"$f":"IF(OR(K60=1,K60=2),\"x\",ROUND(K60/$R60*100,1))","v":9},26.7,27.8,21.1,11.3,3.5,99.4,13324,7,{"$f":"IF((T60<=2),\"x\",ROUND(T60/$Z60*100,1))","v":23.6},27.4,23.1,13.5,4.7,99.1,29225]
[null,"Government and Politics",{"$f":"IF(OR(C61=1,C61=2),\"x\",ROUND(C61/$J61*100,1))","v":8.3000000000000007},24.2,27.9,21.7,11.9,4.8,98.6,7180,{"$f":"IF(OR(K61=1,K61=2),\"x\",ROUND(K61/$R61*100,1))","v":10.8},27.7,26.4,18.7,11.3,4.2,99.1,5449,9.4,{"$f":"IF((T61<=2),\"x\",ROUND(T61/$Z61*100,1))","v":25.7},27.2,20.399999999999999,11.6,4.5,98.8,12629]
[null,"History",{"$f":"IF(OR(C62=1,C62=2),\"x\",ROUND(C62/$J62*100,1))","v":6.6},19.2,27.9,25.1,15.1,5.3,99.2,22247,{"$f":"IF(OR(K62=1,K62=2),\"x\",ROUND(K62/$R62*100,1))","v":7.3},21.4,29,23.8,13.7,4.3,99.3,22899,7,{"$f":"IF((T62<=2),\"x\",ROUND(T62/$Z62*100,1))","v":20.3},28.5,24.4,14.4,4.7,99.3,45146]
[null,"Law",{"$f":"IF(OR(C63=1,C63=2),\"x\",ROUND(C63/$J63*100,1))","v":4.0999999999999996},12.2,22.5,26.6,20.6,10.9,96.8,5758,{"$f":"IF(OR(K63=1,K63=2),\"x\",ROUND(K63/$R63*100,1))","v":6.3},16.7,24.9,23.8,17.3,8.5,97.5,8503,5.4,{"$f":"IF((T63<=2),\"x\",ROUND(T63/$Z63*100,1))","v":14.9},23.9,24.9,18.600000000000001,9.4,97.2,14261]
[null,"Psychology",{"$f":"IF(OR(C64=1,C64=2),\"x\",ROUND(C64/$J64*100,1))","v":2.8},9.1999999999999993,21.6,27.4,23.3,12.2,96.5,14311,{"$f":"IF(OR(K64=1,K64=2),\"x\",ROUND(K64/$R64*100,1))","v":6.1},15.6,26.3,25.9,17,7.3,98.2,38769,5.2,{"$f":"IF((T64<=2),\"x\",ROUND(T64/$Z64*100,1))","v":13.9},25.1,26.3,18.7,8.6,97.7,53080]
[null,"Sociology",{"$f":"IF(OR(C65=1,C65=2),\"x\",ROUND(C65/$J65*100,1))","v":3.8},11,25.5,29.3,20,8.4,97.9,6678,{"$f":"IF(OR(K65=1,K65=2),\"x\",ROUND(K65/$R65*100,1))","v":5.7},16,27.5,26.9,16.399999999999999,6.1,98.6,20499,5.3,{"$f":"IF((T65<=2),\"x\",ROUND(T65/$Z65*100,1))","v":14.8},27,27.5,17.3,6.6,98.4,27177]
[null,"Other social studies",{"$f":"IF(OR(C66=1,C66=2),\"x\",ROUND(C66/$J66*100,1))","v":5.8},16.7,28.4,24.6,13.9,7.6,97,2091,{"$f":"IF(OR(K66=1,K66=2),\"x\",ROUND(K66/$R66*100,1))","v":6.7},17.8,30.1,23.3,13.7,5.4,96.9,2176,6.2,{"$f":"IF((T66<=2),\"x\",ROUND(T66/$Z66*100,1))","v":17.3},29.3,23.9,13.8,6.5,97,4267]
[null,"Art and Design",{"$f":"IF(OR(C67=1,C67=2),\"x\",ROUND(C67/$J67*100,1))","v":11.8},14.2,23.8,24.5,15.7,7.7,97.6,11855,{"$f":"IF(OR(K67=1,K67=2),\"x\",ROUND(K67/$R67*100,1))","v":13.4},19.3,26.5,22.8,12.4,4.4000000000000004,98.8,30929,13,{"$f":"IF((T67<=2),\"x\",ROUND(T67/$Z67*100,1))","v":17.899999999999999},25.7,23.3,13.3,5.3,98.5,42784]
[null,"Drama",{"$f":"IF(OR(C68=1,C68=2),\"x\",ROUND(C68/$J68*100,1))","v":4.0999999999999996},10.7,25.6,30.4,20.8,7.2,98.9,4970,{"$f":"IF(OR(K68=1,K68=2),\"x\",ROUND(K68/$R68*100,1))","v":6.4},15.2,30.7,29.5,14,3.6,99.4,10292,5.7,{"$f":"IF((T68<=2),\"x\",ROUND(T68/$Z68*100,1))","v":13.7},29,29.8,16.2,4.8,99.2,15262]
[null,"English",{"$f":"IF(OR(C69=1,C69=2),\"x\",ROUND(C69/$J69*100,1))","v":7.3},15.1,25.5,27.5,18.399999999999999,5.4,99.1,25438,{"$f":"IF(OR(K69=1,K69=2),\"x\",ROUND(K69/$R69*100,1))","v":7.2},16.2,27.2,28.2,16.5,4.0999999999999996,99.4,58599,7.2,{"$f":"IF((T69<=2),\"x\",ROUND(T69/$Z69*100,1))","v":15.9},26.7,28,17.100000000000001,4.5,99.3,84037]
[null,"Media/Film/TV Studies",{"$f":"IF(OR(C70=1,C70=2),\"x\",ROUND(C70/$J70*100,1))","v":1.3},7.7,26.7,35.4,21.6,6.2,98.9,10683,{"$f":"IF(OR(K70=1,K70=2),\"x\",ROUND(K70/$R70*100,1))","v":1.8},12.3,33,33.9,14.9,3.3,99.2,13545,1.6,{"$f":"IF((T70<=2),\"x\",ROUND(T70/$Z70*100,1))","v":10.3},30.2,34.5,17.899999999999999,4.5999999999999996,99.1,24228]
[null,"Other Communication Studies",{"$f":"IF(OR(C71=1,C71=2),\"x\",ROUND(C71/$J71*100,1))","v":2.2000000000000002},9.8000000000000007,30.7,36.6,16.3,3.7,99.3,4412,{"$f":"IF(OR(K71=1,K71=2),\"x\",ROUND(K71/$R71*100,1))","v":3.5},12.3,33.799999999999997,33.1,14.1,2.6,99.4,5610,2.9,{"$f":"IF((T71<=2),\"x\",ROUND(T71/$Z71*100,1))","v":11.2},32.5,34.6,15.1,3.1,99.4,10022]
[null,"French",{"$f":"IF(OR(C72=1,C72=2),\"x\",ROUND(C72/$J72*100,1))","v":7.2},33,28.9,17.899999999999999,9,3.4,99.4,3888,{"$f":"IF(OR(K72=1,K72=2),\"x\",ROUND(K72/$R72*100,1))","v":7.5},31.9,28.7,18.3,9.6999999999999993,3.3,99.4,8436,7.4,{"$f":"IF((T72<=2),\"x\",ROUND(T72/$Z72*100,1))","v":32.200000000000003},28.8,18.2,9.5,3.3,99.4,12324]
[null,"German",{"$f":"IF(OR(C73=1,C73=2),\"x\",ROUND(C73/$J73*100,1))","v":9.3000000000000007},32.5,26.2,16.8,9.8000000000000007,4.3,99,2016,{"$f":"IF(OR(K73=1,K73=2),\"x\",ROUND(K73/$R73*100,1))","v":9.4},29.6,26.2,18.899999999999999,10.9,4.3,99.4,3039,9.4,{"$f":"IF((T73<=2),\"x\",ROUND(T73/$Z73*100,1))","v":30.8},26.2,18.100000000000001,10.4,4.3,99.2,5055]
[null,"Spanish",{"$f":"IF(OR(C74=1,C74=2),\"x\",ROUND(C74/$J74*100,1))","v":9},32.299999999999997,28.2,18,8.1999999999999993,3.5,99.2,2238,{"$f":"IF(OR(K74=1,K74=2),\"x\",ROUND(K74/$R74*100,1))","v":8.1999999999999993},29.2,28.4,19.100000000000001,10.1,4.3,99.2,4326,8.5,{"$f":"IF((T74<=2),\"x\",ROUND(T74/$Z74*100,1))","v":30.3},28.3,18.7,9.4,4,99.2,6564]
[null,"Other modern languages",{"$f":"IF(OR(C75=1,C75=2),\"x\",ROUND(C75/$J75*100,1))","v":13.7},36.5,29.4,11.1,4.2,2.2999999999999998,97.2,2529,{"$f":"IF(OR(K75=1,K75=2),\"x\",ROUND(K75/$R75*100,1))","v":14},41.5,26,10.3,4.0999999999999996,2.1,98,3383,13.9,{"$f":"IF((T75<=2),\"x\",ROUND(T75/$Z75*100,1))","v":39.4},27.5,10.6,4.0999999999999996,2.2000000000000002,97.7,5912]
[null,"Classical Studies",{"$f":"IF(OR(C76=1,C76=2),\"x\",ROUND(C76/$J76*100,1))","v":8.9},27.9,27.5,19.899999999999999,10.6,4.0999999999999996,98.9,2637,{"$f":"IF(OR(K76=1,K76=2),\"x\",ROUND(K76/$R76*100,1))","v":10.8},30.6,27.9,19,8.1,2.8,99.2,3282,10,{"$f":"IF((T76<=2),\"x\",ROUND(T76/$Z76*100,1))","v":29.4},27.7,19.399999999999999,9.1999999999999993,3.4,99.1,5919]
[null,"Religious Studies",{"$f":"IF(OR(C77=1,C77=2),\"x\",ROUND(C77/$J77*100,1))","v":5.8},20,26,23.9,15.2,7.2,98.2,5918,{"$f":"IF(OR(K77=1,K77=2),\"x\",ROUND(K77/$R77*100,1))","v":6.8},21.6,28.2,23.4,13.3,5.7,99,11977,6.5,{"$f":"IF((T77<=2),\"x\",ROUND(T77/$Z77*100,1))","v":21.1},27.5,23.6,13.9,6.2,98.7,17895]
[null,"Music",{"$f":"IF(OR(C78=1,C78=2),\"x\",ROUND(C78/$J78*100,1))","v":3.6},13.1,23.2,26,21.9,10.1,97.9,5530,{"$f":"IF(OR(K78=1,K78=2),\"x\",ROUND(K78/$R78*100,1))","v":4.2},16.600000000000001,25.7,25.2,18.7,8.1999999999999993,98.6,3311,3.8,{"$f":"IF((T78<=2),\"x\",ROUND(T78/$Z78*100,1))","v":14.4},24.1,25.7,20.7,9.4,98.2,8841]
[null,"Physical Education",{"$f":"IF(OR(C79=1,C79=2),\"x\",ROUND(C79/$J79*100,1))","v":2.9},9.3000000000000007,19.8,27,23.8,14.3,97.1,12736,{"$f":"IF(OR(K79=1,K79=2),\"x\",ROUND(K79/$R79*100,1))","v":7.6},16,25.6,24.6,16.399999999999999,8.1,98.3,8568,4.8,{"$f":"IF((T79<=2),\"x\",ROUND(T79/$Z79*100,1))","v":12},22.1,26,20.8,11.8,97.6,21304]
[null,"General Studies",{"$f":"IF(OR(C80=1,C80=2),\"x\",ROUND(C80/$J80*100,1))","v":4},8.3000000000000007,17.8,23.5,24,16.2,93.8,22147,{"$f":"IF(OR(K80=1,K80=2),\"x\",ROUND(K80/$R80*100,1))","v":4.9000000000000004},9.4,19.7,24.7,23.2,14.1,96,25739,4.5,{"$f":"IF((T80<=2),\"x\",ROUND(T80/$Z80*100,1))","v":8.9},18.8,24.2,23.6,15.1,95,47886]
[null,"All subjects",{"$f":"IF(OR(C81=1,C81=2),\"x\",ROUND(C81/$J81*100,1))","v":7.9},18.100000000000001,23.9,23.2,16.5,8.3000000000000007,97.9,362064,{"$f":"IF(OR(K81=1,K81=2),\"x\",ROUND(K81/$R81*100,1))","v":8.1999999999999993},19.5,26.3,23.8,14.7,6,98.6,421283,8,{"$f":"IF((T81<=2),\"x\",ROUND(T81/$Z81*100,1))","v":18.899999999999999},25.2,23.5,15.5,7.1,98.3,783347]
[]
[]
[null," "]
[]
[null,null,"Male",null,null,null,null,null,null,null,"Female",null,null,null,null,null,null,null,"Total"]
[null,null,"*","A","B","C","D","E","A-E","Total","*","A","B","C","D","E","A-E","Total","*","A","B","C","D","E","A-E","Total"]
[null,null,"Count","Count","Count","Count","Count","Count","Count","Count","Count","Count","Count","Count","Count","Count","Count","Count","Count","Count","Count","Count","Count","Count","Count","Count"]
[null,"Biological Sciences",1682,4299,5306,4957,3761,2479,22484,23100,2460,6252,6982,6291,4474,2562,29021,29628,4142,10551,12288,11248,8235,5041,51505,52728]
[null,"Chemistry",1957,5194,5097,3879,2736,1767,20630,21124,1669,4963,4912,3701,2339,1315,18899,19255,3626,10157,10009,7580,5075,3082,39529,40379]
[null,"Physics",2238,4780,4761,4043,3264,2225,21311,21934,696,1530,1392,993,696,432,5739,5852,2934,6310,6153,5036,3960,2657,27050,27786]
[null,"Other Science",231,531,705,693,513,297,2970,3055,95,206,300,278,204,109,1192,1228,326,737,1005,971,717,406,4162,4283]
[null,"Mathematics",7169,11371,8857,6405,4361,2713,40876,41552,4676,8130,6492,4438,2685,1456,27877,28251,11845,19501,15349,10843,7046,4169,68753,69803]
[null,"Further Mathematics",2212,2158,1494,818,404,225,7311,7369,954,1097,693,413,184,80,3421,3444,3166,3255,2187,1231,588,305,10732,10813]
[null,"Design and Technology",350,980,1929,2372,1790,885,8306,8529,463,954,1804,1745,1137,509,6612,6715,813,1934,3733,4117,2927,1394,14918,15244]
[null,"Computer Studies",123,450,711,836,724,447,3291,3413,8,36,63,74,57,22,260,270,131,486,774,910,781,469,3551,3683]
[null,"ICT",80,344,1109,1637,1613,952,5735,5985,60,326,832,973,717,379,3287,3374,140,670,1941,2610,2330,1331,9022,9359]
[null,"Home Economics",0,0,6,9,11,7,33,34,7,62,81,82,56,31,319,324,7,62,87,91,67,38,352,358]
[null,"Accounting and Finance",38,311,535,636,486,280,2286,2365,36,176,315,369,299,187,1382,1443,74,487,850,1005,785,467,3668,3808]
[null,"Business Studies",644,2370,4922,5474,3492,1281,18183,18434,545,1829,3431,3483,2292,807,12387,12537,1189,4199,8353,8957,5784,2088,30570,30971]
[null,"Economics",1125,3916,3944,2770,1487,632,13874,14007,721,1941,1791,1115,513,184,6265,6307,1846,5857,5735,3885,2000,816,20139,20314]
[null,"Geography",843,3324,4293,3932,2437,894,15723,15901,1196,3563,3701,2814,1501,473,13248,13324,2039,6887,7994,6746,3938,1367,28971,29225]
[null,"Government and Politics",593,1735,2002,1558,852,343,7083,7180,589,1507,1438,1021,617,227,5399,5449,1182,3242,3440,2579,1469,570,12482,12629]
[null,"History",1468,4275,6215,5576,3356,1169,22059,22247,1682,4892,6631,5442,3128,975,22750,22899,3150,9167,12846,11018,6484,2144,44809,45146]
[null,"Law",238,701,1293,1533,1184,625,5574,5758,537,1424,2115,2024,1470,722,8292,8503,775,2125,3408,3557,2654,1347,13866,14261]
[null,"Psychology",398,1317,3098,3921,3333,1747,13814,14311,2361,6039,10205,10053,6590,2811,38059,38769,2759,7356,13303,13974,9923,4558,51873,53080]
[null,"Sociology",254,735,1700,1955,1335,558,6537,6678,1173,3277,5644,5515,3361,1248,20218,20499,1427,4012,7344,7470,4696,1806,26755,27177]
[null,"Other Social Studies",121,350,594,514,291,159,2029,2091,145,387,655,506,298,118,2109,2176,266,737,1249,1020,589,277,4138,4267]
[null,"Art and Design",1398,1689,2817,2899,1856,915,11574,11855,4152,5970,8195,7060,3843,1352,30572,30929,5550,7659,11012,9959,5699,2267,42146,42784]
[null,"Drama",206,533,1272,1513,1034,357,4915,4970,657,1565,3159,3032,1443,374,10230,10292,863,2098,4431,4545,2477,731,15145,15262]
[null,"English",1849,3832,6494,6983,4687,1375,25220,25438,4212,9496,15952,16531,9693,2383,58267,58599,6061,13328,22446,23514,14380,3758,83487,84037]
[null,"Media/Film/Television Studies",142,822,2852,3777,2303,666,10562,10683,244,1670,4470,4590,2022,444,13440,13545,386,2492,7322,8367,4325,1110,24002,24228]
[null,"Other Communication Studies",96,433,1356,1613,721,164,4383,4412,196,690,1898,1855,789,147,5575,5610,292,1123,3254,3468,1510,311,9958,10022]
[null,"French",278,1284,1124,697,351,132,3866,3888,634,2689,2423,1546,817,278,8387,8436,912,3973,3547,2243,1168,410,12253,12324]
[null,"German",188,656,529,339,198,86,1996,2016,286,901,796,575,330,132,3020,3039,474,1557,1325,914,528,218,5016,5055]
[null,"Spanish",202,722,632,402,184,78,2220,2238,353,1264,1227,828,435,184,4291,4326,555,1986,1859,1230,619,262,6511,6564]
[null,"Other Modern Languages",347,924,744,280,107,57,2459,2529,474,1405,879,349,138,72,3317,3383,821,2329,1623,629,245,129,5776,5912]
[null,"Classical Studies",235,735,724,525,280,109,2608,2637,356,1004,916,623,266,92,3257,3282,591,1739,1640,1148,546,201,5865,5919]
[null,"Religious Studies",345,1186,1541,1414,899,428,5813,5918,811,2584,3381,2808,1592,682,11858,11977,1156,3770,4922,4222,2491,1110,17671,17895]
[null,"Music",199,727,1285,1437,1209,556,5413,5530,139,549,850,836,620,272,3266,3311,338,1276,2135,2273,1829,828,8679,8841]
[null,"Physical Education",366,1184,2522,3443,3034,1817,12366,12736,654,1370,2194,2104,1405,697,8424,8568,1020,2554,4716,5547,4439,2514,20790,21304]
[null,"General Studies",892,1835,3939,5209,5311,3598,20784,22147,1273,2407,5081,6357,5967,3637,24722,25739,2165,4242,9020,11566,11278,7235,45506,47886]
[null,"Total",28507,65703,86402,84049,59604,30023,354288,362064,34514,82155,110898,100424,61978,25393,415362,421283,63021,147858,197300,184473,121582,55416,769650,783347]

{"sheet":"2011 data","index":17,"n_rows":81,"n_cols":26,"rows_kept":81,"cut":false,"hidden":true,"merged":[]}
["March 2012 post errata figures"]
[]
[null,null,"Males",null,null,null,null,null,null,null,"Female",null,null,null,null,null,null,null,"Total"]
[null,null,"*","A","B","C","D","E","A-E","Entries","*","A","B","C","D","E","A-E","Entries","*","A","B","C","D","E","A-E","Entries"]
[null,"Biological Sciences",{"$f":"IF(OR(C47=1,C47=2),\"x\",ROUND(C47/$J47*100,1))","v":8.1999999999999993},{"$f":"IF(OR(D47=1,D47=2),\"x\",ROUND(D47/$J47*100,1))","v":18.399999999999999},23.3,22.1,16.399999999999999,9.5,97.9,{"$f":"ROUND(J47,0)","v":23785},{"$f":"IF(OR(K47=1,K47=2),\"x\",ROUND(K47/$R47*100,1))","v":9.5},{"$f":"IF(OR(L47=1,L47=2),\"x\",ROUND(L47/$R47*100,1))","v":20.100000000000001},24,21.1,14.8,8.6,98.2,{"$f":"ROUND(R47,0)","v":30953},{"$f":"IF(OR(S47=1,S47=2),\"x\",ROUND(S47/$Z47*100,1))","v":9},{"$f":"IF((T47<=2),\"x\",ROUND(T47/$Z47*100,1))","v":19.399999999999999},23.7,21.5,15.5,9,98.1,{"$f":"ROUND(Z47,0)","v":54738}]
[null,"Chemistry",{"$f":"IF(OR(C48=1,C48=2),\"x\",ROUND(C48/$J48*100,1))","v":10.199999999999999},24.7,24.6,18.8,12.5,7.4,98.2,{"$f":"ROUND(J48,0)","v":22818},{"$f":"IF(OR(K48=1,K48=2),\"x\",ROUND(K48/$R48*100,1))","v":8.8000000000000007},25.1,26.5,19.100000000000001,12.4,6.7,98.6,{"$f":"ROUND(R48,0)","v":20431},{"$f":"IF(OR(S48=1,S48=2),\"x\",ROUND(S48/$Z48*100,1))","v":9.6},{"$f":"IF((T48<=2),\"x\",ROUND(T48/$Z48*100,1))","v":24.9},25.5,19,12.4,7,98.4,{"$f":"ROUND(Z48,0)","v":43249}]
[null,"Physics",{"$f":"IF(OR(C49=1,C49=2),\"x\",ROUND(C49/$J49*100,1))","v":10.7},21.7,22.2,18.399999999999999,15.2,9.3000000000000007,97.5,23193,{"$f":"IF(OR(K49=1,K49=2),\"x\",ROUND(K49/$R49*100,1))","v":11.5},26.9,22.6,17.899999999999999,12.4,7.1,98.4,6012,10.9,{"$f":"IF((T49<=2),\"x\",ROUND(T49/$Z49*100,1))","v":22.8},22.3,18.3,14.6,8.9,97.7,29205]
[null,"Other Science",{"$f":"IF(OR(C50=1,C50=2),\"x\",ROUND(C50/$J50*100,1))","v":8},18.399999999999999,21.7,21.3,17.5,10.199999999999999,97.1,2978,{"$f":"IF(OR(K50=1,K50=2),\"x\",ROUND(K50/$R50*100,1))","v":9},15.5,23.8,22.3,16,10.9,97.4,1244,8.3000000000000007,{"$f":"IF((T50<=2),\"x\",ROUND(T50/$Z50*100,1))","v":17.600000000000001},22.3,21.6,17,10.4,97.2,4222]
[null,"Mathematics",{"$f":"IF(OR(C51=1,C51=2),\"x\",ROUND(C51/$J51*100,1))","v":18.8},26.3,21.2,15.5,10.6,6.1,98.4,45322,{"$f":"IF(OR(K51=1,K51=2),\"x\",ROUND(K51/$R51*100,1))","v":17.2},27.8,22.9,15.8,9.9,5,98.8,30224,18.2,{"$f":"IF((T51<=2),\"x\",ROUND(T51/$Z51*100,1))","v":26.9},21.9,15.6,10.4,5.6,98.6,75546]
[null,"Further Mathematics",{"$f":"IF(OR(C52=1,C52=2),\"x\",ROUND(C52/$J52*100,1))","v":27.9},31,20.7,10.3,5.8,2.9,98.7,7819,{"$f":"IF(OR(K52=1,K52=2),\"x\",ROUND(K52/$R52*100,1))","v":26.7},31.5,21.7,10.3,5.5,3.1,98.8,3589,27.5,{"$f":"IF((T52<=2),\"x\",ROUND(T52/$Z52*100,1))","v":31.2},21,10.3,5.7,3,98.7,11408]
[null,"Design and Technology",{"$f":"IF(OR(C53=1,C53=2),\"x\",ROUND(C53/$J53*100,1))","v":4},11,23.4,27.7,21.7,9.9,97.7,8552,{"$f":"IF(OR(K53=1,K53=2),\"x\",ROUND(K53/$R53*100,1))","v":6.7},14.4,28.1,26.3,16.899999999999999,6.4,98.8,6326,5.2,{"$f":"IF((T53<=2),\"x\",ROUND(T53/$Z53*100,1))","v":12.5},25.4,27.1,19.7,8.4,98.2,14878]
[null,"Computer Studies",{"$f":"IF(OR(C54=1,C54=2),\"x\",ROUND(C54/$J54*100,1))","v":3.9},12.8,22,24.9,19.7,13,96.2,3276,{"$f":"IF(OR(K54=1,K54=2),\"x\",ROUND(K54/$R54*100,1))","v":5.4},17.8,24.1,23.7,17,9.1,97.1,241,4,{"$f":"IF((T54<=2),\"x\",ROUND(T54/$Z54*100,1))","v":13.1},22.1,24.8,19.5,12.7,96.2,3517]
[null,"ICT",{"$f":"IF(OR(C55=1,C55=2),\"x\",ROUND(C55/$J55*100,1))","v":1.4},6.2,19.600000000000001,26.7,27.4,14.9,96.2,5511,{"$f":"IF(OR(K55=1,K55=2),\"x\",ROUND(K55/$R55*100,1))","v":2.8},10.9,22.5,28.2,23.3,10,97.8,3317,1.9,{"$f":"IF((T55<=2),\"x\",ROUND(T55/$Z55*100,1))","v":8},20.7,27.2,25.9,13.1,96.8,8828]
[null,"Home Economics",{"$f":"IF(OR(C56=1,C56=2),\"x\",ROUND(C56/$J56*100,1))","v":0},"x",9.4,29.7,32.799999999999997,20.3,93.8,64,{"$f":"IF(OR(K56=1,K56=2),\"x\",ROUND(K56/$R56*100,1))","v":3.3},15.1,28.3,26.6,18.8,5.6,97.7,304,2.7,{"$f":"IF((T56<=2),\"x\",ROUND(T56/$Z56*100,1))","v":12.8},25,27.2,21.2,8.1999999999999993,97,368]
[null,"Accounting and Finance",{"$f":"IF(OR(C57=1,C57=2),\"x\",ROUND(C57/$J57*100,1))","v":1.3},11.6,20.9,25.8,24,12.8,96.3,2283,{"$f":"IF(OR(K57=1,K57=2),\"x\",ROUND(K57/$R57*100,1))","v":2.5},13.6,22.5,25.7,18.3,14.3,96.9,1212,1.7,{"$f":"IF((T57<=2),\"x\",ROUND(T57/$Z57*100,1))","v":12.3},21.5,25.8,22,13.3,96.5,3495]
[null,"Business Studies",{"$f":"IF(OR(C58=1,C58=2),\"x\",ROUND(C58/$J58*100,1))","v":3.6},12.1,27.4,29.9,19,6.8,98.7,17173,{"$f":"IF(OR(K58=1,K58=2),\"x\",ROUND(K58/$R58*100,1))","v":5.0999999999999996},14.1,26.9,28,18.3,6.5,98.8,11603,4.2,{"$f":"IF((T58<=2),\"x\",ROUND(T58/$Z58*100,1))","v":12.9},27.2,29.2,18.7,6.7,98.8,28776]
[null,"Economics",{"$f":"IF(OR(C59=1,C59=2),\"x\",ROUND(C59/$J59*100,1))","v":8.6},27.1,28.2,20.399999999999999,10.4,4.3,99,14406,{"$f":"IF(OR(K59=1,K59=2),\"x\",ROUND(K59/$R59*100,1))","v":10.6},30.9,28.3,17.2,9.1,3.2,99.2,6413,9.1999999999999993,{"$f":"IF((T59<=2),\"x\",ROUND(T59/$Z59*100,1))","v":28.3},28.3,19.399999999999999,10,4,99.1,20819]
[null,"Geography",{"$f":"IF(OR(C60=1,C60=2),\"x\",ROUND(C60/$J60*100,1))","v":5.8},20.6,27.8,25,15.1,4.9000000000000004,99.1,15147,{"$f":"IF(OR(K60=1,K60=2),\"x\",ROUND(K60/$R60*100,1))","v":9.3000000000000007},26.6,27.9,21.8,10.8,3.2,99.4,13056,7.4,{"$f":"IF((T60<=2),\"x\",ROUND(T60/$Z60*100,1))","v":23.3},27.8,23.5,13.1,4.0999999999999996,99.3,28203]
[null,"Government and Politics",{"$f":"IF(OR(C61=1,C61=2),\"x\",ROUND(C61/$J61*100,1))","v":8.4},22.4,28.6,22.3,12.2,5,98.9,7591,{"$f":"IF(OR(K61=1,K61=2),\"x\",ROUND(K61/$R61*100,1))","v":10.8},25.8,28.5,19.2,10.6,4.0999999999999996,98.9,5715,9.4,{"$f":"IF((T61<=2),\"x\",ROUND(T61/$Z61*100,1))","v":23.9},28.5,20.9,11.5,4.5999999999999996,98.9,13306]
[null,"History",{"$f":"IF(OR(C62=1,C62=2),\"x\",ROUND(C62/$J62*100,1))","v":7},19.100000000000001,28.2,25.6,14.7,4.8,99.3,22168,{"$f":"IF(OR(K62=1,K62=2),\"x\",ROUND(K62/$R62*100,1))","v":8},21.2,29.3,24.7,12.6,3.7,99.4,23162,7.5,{"$f":"IF((T62<=2),\"x\",ROUND(T62/$Z62*100,1))","v":20.2},28.7,25.1,13.6,4.2,99.4,45330]
[null,"Law",{"$f":"IF(OR(C63=1,C63=2),\"x\",ROUND(C63/$J63*100,1))","v":3.8},11.7,23.5,25.9,20.2,12,97,5153,{"$f":"IF(OR(K63=1,K63=2),\"x\",ROUND(K63/$R63*100,1))","v":5.4},15.6,24.5,24.8,19.100000000000001,8.4,97.8,7979,4.8,{"$f":"IF((T63<=2),\"x\",ROUND(T63/$Z63*100,1))","v":14.1},24.1,25.2,19.5,9.8000000000000007,97.5,13132]
[null,"Psychology",{"$f":"IF(OR(C64=1,C64=2),\"x\",ROUND(C64/$J64*100,1))","v":2.4},9.8000000000000007,21.6,28,22.6,12.3,96.6,14260,{"$f":"IF(OR(K64=1,K64=2),\"x\",ROUND(K64/$R64*100,1))","v":5.2},15.9,26.8,26,17,7.5,98.4,38684,4.4000000000000004,{"$f":"IF((T64<=2),\"x\",ROUND(T64/$Z64*100,1))","v":14.2},25.4,26.6,18.5,8.8000000000000007,97.9,52944]
[null,"Sociology",{"$f":"IF(OR(C65=1,C65=2),\"x\",ROUND(C65/$J65*100,1))","v":3.9},11.4,25.3,29.4,20,7.9,97.9,6920,{"$f":"IF(OR(K65=1,K65=2),\"x\",ROUND(K65/$R65*100,1))","v":5.2},15.7,27.1,26.7,17.399999999999999,6.6,98.7,20575,4.9000000000000004,{"$f":"IF((T65<=2),\"x\",ROUND(T65/$Z65*100,1))","v":14.6},26.6,27.4,18.100000000000001,6.9,98.5,27495]
[null,"Other social studies",{"$f":"IF(OR(C66=1,C66=2),\"x\",ROUND(C66/$J66*100,1))","v":5.0999999999999996},15.5,26.3,25,18.399999999999999,7.5,97.8,1970,{"$f":"IF(OR(K66=1,K66=2),\"x\",ROUND(K66/$R66*100,1))","v":5},17.7,29,24.6,15.2,6.7,98.1,2161,5.0999999999999996,{"$f":"IF((T66<=2),\"x\",ROUND(T66/$Z66*100,1))","v":16.7},27.7,24.8,16.7,7.1,97.9,4131]
[null,"Art and Design",{"$f":"IF(OR(C67=1,C67=2),\"x\",ROUND(C67/$J67*100,1))","v":12},13.9,25,24,16.3,7,98.2,11442,{"$f":"IF(OR(K67=1,K67=2),\"x\",ROUND(K67/$R67*100,1))","v":14.8},17.399999999999999,27.4,23.4,12.2,3.9,99.2,31191,14.1,{"$f":"IF((T67<=2),\"x\",ROUND(T67/$Z67*100,1))","v":16.5},26.8,23.6,13.3,4.8,98.9,42633]
[null,"Drama",{"$f":"IF(OR(C68=1,C68=2),\"x\",ROUND(C68/$J68*100,1))","v":2.6},11.6,26.1,32.1,20.7,5.8,99,4704,{"$f":"IF(OR(K68=1,K68=2),\"x\",ROUND(K68/$R68*100,1))","v":4.3},15.5,33.200000000000003,30,13.7,3,99.6,9893,3.7,{"$f":"IF((T68<=2),\"x\",ROUND(T68/$Z68*100,1))","v":14.2},30.9,30.7,15.9,3.9,99.4,14597]
[null,"English",{"$f":"IF(OR(C69=1,C69=2),\"x\",ROUND(C69/$J69*100,1))","v":7.5},14.5,26,28.8,17.7,4.8,99.3,24496,{"$f":"IF(OR(K69=1,K69=2),\"x\",ROUND(K69/$R69*100,1))","v":7.1},15.6,27.6,29.5,16,3.8,99.6,58607,7.2,{"$f":"IF((T69<=2),\"x\",ROUND(T69/$Z69*100,1))","v":15.3},27.1,29.3,16.5,4.0999999999999996,99.5,83103]
[null,"Media/Film/TV Studies",{"$f":"IF(OR(C70=1,C70=2),\"x\",ROUND(C70/$J70*100,1))","v":1},7.2,25.9,36.700000000000003,22.3,5.9,98.9,10546,{"$f":"IF(OR(K70=1,K70=2),\"x\",ROUND(K70/$R70*100,1))","v":1.9},11.8,33.799999999999997,34.700000000000003,14.3,2.9,99.4,13680,1.5,{"$f":"IF((T70<=2),\"x\",ROUND(T70/$Z70*100,1))","v":9.8000000000000007},30.3,35.6,17.8,4.2,99.2,24226]
[null,"Other Communication Studies",{"$f":"IF(OR(C71=1,C71=2),\"x\",ROUND(C71/$J71*100,1))","v":2},9.5,30,37.700000000000003,16.2,3.9,99.4,4425,{"$f":"IF(OR(K71=1,K71=2),\"x\",ROUND(K71/$R71*100,1))","v":3.1},12.4,35.4,32.799999999999997,13.2,2.6,99.5,5480,2.6,{"$f":"IF((T71<=2),\"x\",ROUND(T71/$Z71*100,1))","v":11.1},33,35,14.5,3.2,99.5,9905]
[null,"French",{"$f":"IF(OR(C72=1,C72=2),\"x\",ROUND(C72/$J72*100,1))","v":8.8000000000000007},34.799999999999997,27.8,17.5,7.7,2.8,99.3,3553,{"$f":"IF(OR(K72=1,K72=2),\"x\",ROUND(K72/$R72*100,1))","v":7.6},32.700000000000003,29.9,17.8,8.5,2.8,99.4,7937,8,{"$f":"IF((T72<=2),\"x\",ROUND(T72/$Z72*100,1))","v":33.299999999999997},29.3,17.7,8.3000000000000007,2.8,99.4,11490]
[null,"German",{"$f":"IF(OR(C73=1,C73=2),\"x\",ROUND(C73/$J73*100,1))","v":9},33.1,25.9,18.8,8.6,3.7,99.1,1874,{"$f":"IF(OR(K73=1,K73=2),\"x\",ROUND(K73/$R73*100,1))","v":8.5},31.9,27,19.7,9.1,3.2,99.5,2680,8.6999999999999993,{"$f":"IF((T73<=2),\"x\",ROUND(T73/$Z73*100,1))","v":32.4},26.6,19.3,8.9,3.4,99.3,4554]
[null,"Spanish",{"$f":"IF(OR(C74=1,C74=2),\"x\",ROUND(C74/$J74*100,1))","v":8.9},32.299999999999997,27.7,17.3,9.8000000000000007,3.5,99.4,2122,{"$f":"IF(OR(K74=1,K74=2),\"x\",ROUND(K74/$R74*100,1))","v":8.9},28.8,28.7,19.399999999999999,10,3.4,99.3,4276,8.9,{"$f":"IF((T74<=2),\"x\",ROUND(T74/$Z74*100,1))","v":30},28.4,18.7,9.9,3.5,99.3,6398]
[null,"Other modern languages",{"$f":"IF(OR(C75=1,C75=2),\"x\",ROUND(C75/$J75*100,1))","v":13},38.299999999999997,29.1,11.3,4.8,2,98.5,2913,{"$f":"IF(OR(K75=1,K75=2),\"x\",ROUND(K75/$R75*100,1))","v":14.6},43.1,25.6,10,4,1.7,99.1,3886,13.9,{"$f":"IF((T75<=2),\"x\",ROUND(T75/$Z75*100,1))","v":41.1},27.1,10.5,4.3,1.9,98.8,6799]
[null,"Classical Studies",{"$f":"IF(OR(C76=1,C76=2),\"x\",ROUND(C76/$J76*100,1))","v":10.6},27,27.4,20,11,3.2,99.2,2536,{"$f":"IF(OR(K76=1,K76=2),\"x\",ROUND(K76/$R76*100,1))","v":11.8},30.8,28.9,17.3,8,2.4,99.2,3213,11.3,{"$f":"IF((T76<=2),\"x\",ROUND(T76/$Z76*100,1))","v":29.1},28.2,18.5,9.3000000000000007,2.8,99.2,5749]
[null,"Religious Studies",{"$f":"IF(OR(C77=1,C77=2),\"x\",ROUND(C77/$J77*100,1))","v":6},20.3,29.1,23.5,14,5.8,98.8,5992,{"$f":"IF(OR(K77=1,K77=2),\"x\",ROUND(K77/$R77*100,1))","v":5.8},22.5,29.9,23.7,12.3,4.7,98.9,12544,5.9,{"$f":"IF((T77<=2),\"x\",ROUND(T77/$Z77*100,1))","v":21.8},29.7,23.6,12.9,5.0999999999999996,98.9,18536]
[null,"Music",{"$f":"IF(OR(C78=1,C78=2),\"x\",ROUND(C78/$J78*100,1))","v":4.0999999999999996},12.6,23.9,26.9,21.4,9.3000000000000007,98.2,5403,{"$f":"IF(OR(K78=1,K78=2),\"x\",ROUND(K78/$R78*100,1))","v":4.5999999999999996},16.5,25.7,25.8,18.8,7.5,99,3306,4.3,{"$f":"IF((T78<=2),\"x\",ROUND(T78/$Z78*100,1))","v":14.1},24.6,26.5,20.399999999999999,8.6,98.5,8709]
[null,"Physical Education",{"$f":"IF(OR(C79=1,C79=2),\"x\",ROUND(C79/$J79*100,1))","v":3.1},9.1,20.5,26.4,24,14.4,97.5,11491,{"$f":"IF(OR(K79=1,K79=2),\"x\",ROUND(K79/$R79*100,1))","v":7.3},14.8,25.7,25.4,17.2,8.3000000000000007,98.8,8116,4.9000000000000004,{"$f":"IF((T79<=2),\"x\",ROUND(T79/$Z79*100,1))","v":11.5},22.6,26,21.2,11.9,98,19607]
[null,"General Studies",{"$f":"IF(OR(C80=1,C80=2),\"x\",ROUND(C80/$J80*100,1))","v":3.8},8.1999999999999993,17.7,24.5,23.5,16.399999999999999,94.1,20176,{"$f":"IF(OR(K80=1,K80=2),\"x\",ROUND(K80/$R80*100,1))","v":4.5},10.1,20.399999999999999,25.6,22.5,13.2,96.4,22699,4.2,{"$f":"IF((T80<=2),\"x\",ROUND(T80/$Z80*100,1))","v":9.1999999999999993},19.100000000000001,25.1,23,14.7,95.3,42875]
[null,"All subjects",{"$f":"IF(OR(C81=1,C81=2),\"x\",ROUND(C81/$J81*100,1))","v":8.5},18.2,24.2,23.3,16.2,7.8,98.1,362062,{"$f":"IF(OR(K81=1,K81=2),\"x\",ROUND(K81/$R81*100,1))","v":8.4},19.3,26.8,24.2,14.4,5.7,98.8,420709,8.4,{"$f":"IF((T81<=2),\"x\",ROUND(T81/$Z81*100,1))","v":18.8},25.6,23.8,15.2,6.7,98.5,782771]
[]
[]
[null," "]
[]
[null,null,"Male",null,null,null,null,null,null,null,"Female",null,null,null,null,null,null,null,"Total"]
[null,null,"*","A","B","C","D","E","A-E","Total","*","A","B","C","D","E","A-E","Total","*","A","B","C","D","E","A-E","Total"]
[]
[null,"Biological Sciences",1956,4383,5539,5248,3898,2266,23290,23785,2953,6235,7433,6543,4593,2652,30409,30953,4909,10618,12972,11791,8491,4918,53699,54738]
[null,"Chemistry",2328,5635,5603,4298,2846,1688,22398,22818,1804,5133,5423,3902,2527,1361,20150,20431,4132,10768,11026,8200,5373,3049,42548,43249]
[null,"Physics",2479,5043,5156,4256,3516,2158,22608,23193,690,1617,1356,1075,748,428,5914,6012,3169,6660,6512,5331,4264,2586,28522,29205]
[null,"Other Science",239,548,646,635,520,303,2891,2978,112,193,296,277,199,135,1212,1244,351,741,942,912,719,438,4103,4222]
[null,"Mathematics",8517,11926,9595,7007,4815,2745,44605,45322,5203,8410,6929,4790,3006,1520,29858,30224,13720,20336,16524,11797,7821,4265,74463,75546]
[null,"Further Mathematics",2180,2426,1619,808,457,228,7718,7819,958,1130,778,369,197,113,3545,3589,3138,3556,2397,1177,654,341,11263,11408]
[null,"Design and Technology",345,940,2000,2366,1856,850,8357,8552,425,913,1779,1664,1068,404,6253,6326,770,1853,3779,4030,2924,1254,14610,14878]
[null,"Computer Studies",128,419,720,815,644,425,3151,3276,13,43,58,57,41,22,234,241,141,462,778,872,685,447,3385,3517]
[null,"ICT",77,343,1080,1470,1511,823,5304,5511,94,362,746,935,773,333,3243,3317,171,705,1826,2405,2284,1156,8547,8828]
[null,"Home Economics",0,1,6,19,21,13,60,64,10,46,86,81,57,17,297,304,10,47,92,100,78,30,357,368]
[null,"Accounting and Finance",29,264,477,588,548,292,2198,2283,30,165,273,312,222,173,1175,1212,59,429,750,900,770,465,3373,3495]
[null,"Business Studies",619,2072,4703,5138,3259,1167,16958,17173,586,1638,3121,3254,2118,751,11468,11603,1205,3710,7824,8392,5377,1918,28426,28776]
[null,"Economics",1242,3904,4068,2934,1496,625,14269,14406,680,1981,1814,1102,581,204,6362,6413,1922,5885,5882,4036,2077,829,20631,20819]
[null,"Geography",872,3113,4210,3793,2284,743,15015,15147,1211,3468,3641,2842,1406,413,12981,13056,2083,6581,7851,6635,3690,1156,27996,28203]
[null,"Government and Politics",641,1703,2168,1691,924,377,7504,7591,615,1476,1628,1095,603,235,5652,5715,1256,3179,3796,2786,1527,612,13156,13306]
[null,"History",1543,4229,6248,5673,3268,1054,22015,22168,1846,4918,6775,5719,2911,854,23023,23162,3389,9147,13023,11392,6179,1908,45038,45330]
[null,"Law",196,605,1209,1333,1040,616,4999,5153,432,1248,1952,1980,1527,668,7807,7979,628,1853,3161,3313,2567,1284,12806,13132]
[null,"Psychology",344,1394,3081,3986,3225,1749,13779,14260,2006,6150,10371,10077,6561,2890,38055,38684,2350,7544,13452,14063,9786,4639,51834,52944]
[null,"Sociology",273,786,1750,2035,1387,545,6776,6920,1071,3227,5566,5499,3584,1351,20298,20575,1344,4013,7316,7534,4971,1896,27074,27495]
[null,"Other Social Studies",101,305,518,492,362,148,1926,1970,108,383,626,531,328,144,2120,2161,209,688,1144,1023,690,292,4046,4131]
[null,"Art and Design",1374,1588,2865,2743,1866,805,11241,11442,4628,5436,8558,7301,3795,1223,30941,31191,6002,7024,11423,10044,5661,2028,42182,42633]
[null,"Drama",121,547,1228,1509,976,274,4655,4704,424,1529,3285,2972,1352,296,9858,9893,545,2076,4513,4481,2328,570,14513,14597]
[null,"English",1839,3552,6379,7053,4338,1175,24336,24496,4150,9149,16153,17307,9353,2232,58344,58607,5989,12701,22532,24360,13691,3407,82680,83103]
[null,"Media/Film/Television Studies",106,758,2727,3870,2348,621,10430,10546,259,1621,4620,4747,1962,390,13599,13680,365,2379,7347,8617,4310,1011,24029,24226]
[null,"Other Communication Studies",90,421,1326,1667,719,174,4397,4425,169,682,1939,1797,722,145,5454,5480,259,1103,3265,3464,1441,319,9851,9905]
[null,"French",314,1235,986,620,273,101,3529,3553,607,2596,2375,1414,678,221,7891,7937,921,3831,3361,2034,951,322,11420,11490]
[null,"German",169,620,486,352,161,70,1858,1874,227,856,724,527,245,87,2666,2680,396,1476,1210,879,406,157,4524,4554]
[null,"Spanish",188,686,587,367,207,74,2109,2122,382,1232,1227,829,427,147,4244,4276,570,1918,1814,1196,634,221,6353,6398]
[null,"Other Modern Languages",378,1117,849,328,139,59,2870,2913,567,1676,996,389,155,67,3850,3886,945,2793,1845,717,294,126,6720,6799]
[null,"Classical Studies",268,685,695,506,279,82,2515,2536,379,988,928,556,258,78,3187,3213,647,1673,1623,1062,537,160,5702,5749]
[null,"Religious Studies",360,1216,1746,1409,838,349,5918,5992,730,2828,3753,2967,1544,589,12411,12544,1090,4044,5499,4376,2382,938,18329,18536]
[null,"Music",219,683,1292,1451,1155,504,5304,5403,152,547,850,853,622,248,3272,3306,371,1230,2142,2304,1777,752,8576,8709]
[null,"Physical Education",357,1046,2356,3036,2759,1653,11207,11491,595,1203,2082,2063,1396,676,8015,8116,952,2249,4438,5099,4155,2329,19222,19607]
[null,"General Studies",768,1655,3569,4939,4741,3311,18983,20176,1032,2302,4631,5808,5105,2999,21877,22699,1800,3957,8200,10747,9846,6310,40860,42875]
[null,"Total",30660,65848,87487,84435,58676,28067,355173,362062,35148,81381,112772,101634,60664,24066,415665,420709,65808,147229,200259,186069,119340,52133,770838,782771]

{"sheet":"2012 data","index":18,"n_rows":81,"n_cols":26,"rows_kept":81,"cut":false,"hidden":true,"merged":[]}
["POST ERRATA"]
[]
[null,null,"Males",null,null,null,null,null,null,null,"Female",null,null,null,null,null,null,null,"Total"]
[null,null,"*","A","B","C","D","E","A-E","Entries","*","A","B","C","D","E","A-E","Entries","*","A","B","C","D","E","A-E","Entries"]
[null,"Biological Sciences",{"$f":"IF(OR(C47=1,C47=2),\"x\",ROUND(C47/$J47*100,1))","v":7.6},{"$f":"IF(OR(D47=1,D47=2),\"x\",ROUND(D47/$J47*100,1))","v":19.899999999999999},23.4,21.7,16,9.5,98,{"$f":"ROUND(J47,0)","v":24302},{"$f":"IF(OR(K47=1,K47=2),\"x\",ROUND(K47/$R47*100,1))","v":8.6},{"$f":"IF(OR(L47=1,L47=2),\"x\",ROUND(L47/$R47*100,1))","v":21.6},24.7,20.6,14.7,8.1999999999999993,98.5,{"$f":"ROUND(R47,0)","v":31515},{"$f":"IF(OR(S47=1,S47=2),\"x\",ROUND(S47/$Z47*100,1))","v":8.1},{"$f":"IF(OR(T47=1,T47=2),\"x\",ROUND(T47/$Z47*100,1))","v":20.9},24.1,21.1,15.3,8.8000000000000007,98.3,{"$f":"ROUND(Z47,0)","v":55817}]
[null,"Chemistry",{"$f":"IF(OR(C48=1,C48=2),\"x\",ROUND(C48/$J48*100,1))","v":9.6},24.7,25.4,18.399999999999999,12.6,7.6,98.3,{"$f":"ROUND(J48,0)","v":23634},{"$f":"IF(OR(K48=1,K48=2),\"x\",ROUND(K48/$R48*100,1))","v":8.3000000000000007},27.1,27.7,18.600000000000001,11.1,5.8,98.7,{"$f":"ROUND(R48,0)","v":21095},{"$f":"IF(OR(S48=1,S48=2),\"x\",ROUND(S48/$Z48*100,1))","v":9},25.9,26.5,18.5,11.9,6.8,98.4,{"$f":"ROUND(Z48,0)","v":44729}]
[null,"Physics",{"$f":"IF(OR(C49=1,C49=2),\"x\",ROUND(C49/$J49*100,1))","v":9.9},21.6,22.7,19.5,14.5,9.5,97.6,24297,{"$f":"IF(OR(K49=1,K49=2),\"x\",ROUND(K49/$R49*100,1))","v":12.4},25.1,24.2,17.100000000000001,11.8,7.8,98.5,6452,{"$f":"IF(OR(S49=1,S49=2),\"x\",ROUND(S49/$Z49*100,1))","v":10.4},22.4,23,19,13.9,9.1,97.8,30749]
[null,"Other Science",{"$f":"IF(OR(C50=1,C50=2),\"x\",ROUND(C50/$J50*100,1))","v":7.6},17.100000000000001,22.7,23.2,18.5,8.6999999999999993,97.7,3046,{"$f":"IF(OR(K50=1,K50=2),\"x\",ROUND(K50/$R50*100,1))","v":7.2},19.5,23.1,21,17,9.5,97.3,1223,{"$f":"IF(OR(S50=1,S50=2),\"x\",ROUND(S50/$Z50*100,1))","v":7.5},17.8,22.8,22.6,18,8.9,97.6,4269]
[null,"Mathematics",{"$f":"IF(OR(C51=1,C51=2),\"x\",ROUND(C51/$J51*100,1))","v":18.7},26,21.4,15.7,10.9,6,98.6,46871,{"$f":"IF(OR(K51=1,K51=2),\"x\",ROUND(K51/$R51*100,1))","v":16.899999999999999},27.6,22.9,16,10.1,5.4,98.9,31206,{"$f":"IF(OR(S51=1,S51=2),\"x\",ROUND(S51/$Z51*100,1))","v":18},26.6,22,15.8,10.6,5.7,98.7,78077]
[null,"Further Mathematics",{"$f":"IF(OR(C52=1,C52=2),\"x\",ROUND(C52/$J52*100,1))","v":28.2},29.3,21,11.1,6.2,2.8,98.6,8632,{"$f":"IF(OR(K52=1,K52=2),\"x\",ROUND(K52/$R52*100,1))","v":29.1},30.9,20.7,10.199999999999999,5,2.6,98.6,3747,{"$f":"IF(OR(S52=1,S52=2),\"x\",ROUND(S52/$Z52*100,1))","v":28.5},29.8,21,10.8,5.9,2.7,98.6,12379]
[null,"Design and Technology",{"$f":"IF(OR(C53=1,C53=2),\"x\",ROUND(C53/$J53*100,1))","v":4},10.8,22.7,28.1,21.4,11,98,7833,{"$f":"IF(OR(K53=1,K53=2),\"x\",ROUND(K53/$R53*100,1))","v":5.5},15.2,26.9,26.4,18.2,6.7,98.9,6011,{"$f":"IF(OR(S53=1,S53=2),\"x\",ROUND(S53/$Z53*100,1))","v":4.7},12.7,24.5,27.4,20,9.1,98.4,13844]
[null,"Computer Studies",{"$f":"IF(OR(C54=1,C54=2),\"x\",ROUND(C54/$J54*100,1))","v":3.7},12.5,20.9,24.5,22.5,12.6,96.6,3165,{"$f":"IF(OR(K54=1,K54=2),\"x\",ROUND(K54/$R54*100,1))","v":4.3},12.5,23.5,22.7,20.399999999999999,13.3,96.9,255,{"$f":"IF(OR(S54=1,S54=2),\"x\",ROUND(S54/$Z54*100,1))","v":3.7},12.5,21.1,24.4,22.3,12.6,96.6,3420]
[null,"ICT",{"$f":"IF(OR(C55=1,C55=2),\"x\",ROUND(C55/$J55*100,1))","v":1.4},6.6,18.8,29.1,26.4,14.7,97,5136,{"$f":"IF(OR(K55=1,K55=2),\"x\",ROUND(K55/$R55*100,1))","v":2.8},11.7,24.4,28.4,21,9.9,98.2,3093,{"$f":"IF(OR(S55=1,S55=2),\"x\",ROUND(S55/$Z55*100,1))","v":1.9},8.5,20.9,28.9,24.4,12.9,97.5,8229]
[null,"Home Economics",{"$f":"IF(OR(C56=1,C56=2),\"x\",ROUND(C56/$J56*100,1))","v":0},"x",15.2,36.4,24.2,21.2,100,33,{"$f":"IF(OR(K56=1,K56=2),\"x\",ROUND(K56/$R56*100,1))","v":1.4},18.3,28.5,26.1,16.899999999999999,8.1,99.3,284,{"$f":"IF(OR(S56=1,S56=2),\"x\",ROUND(S56/$Z56*100,1))","v":1.3},16.7,27.1,27.1,17.7,9.5,99.4,317]
[null,"Accounting and Finance",{"$f":"IF(OR(C57=1,C57=2),\"x\",ROUND(C57/$J57*100,1))","v":1.7},11.3,23.6,27.3,21.4,11,96.2,2095,{"$f":"IF(OR(K57=1,K57=2),\"x\",ROUND(K57/$R57*100,1))","v":2.8},12.2,21.5,24.5,20.9,14.1,96.1,1210,{"$f":"IF(OR(S57=1,S57=2),\"x\",ROUND(S57/$Z57*100,1))","v":2.1},11.6,22.8,26.3,21.2,12.2,96.2,3305]
[null,"Business Studies",{"$f":"IF(OR(C58=1,C58=2),\"x\",ROUND(C58/$J58*100,1))","v":2.9},11.8,28.2,30.2,18.899999999999999,6.8,98.7,16222,{"$f":"IF(OR(K58=1,K58=2),\"x\",ROUND(K58/$R58*100,1))","v":4.3},13.8,27.7,28.8,17.7,6.6,98.7,11555,{"$f":"IF(OR(S58=1,S58=2),\"x\",ROUND(S58/$Z58*100,1))","v":3.5},12.6,28,29.6,18.399999999999999,6.7,98.7,27777]
[null,"Economics",{"$f":"IF(OR(C59=1,C59=2),\"x\",ROUND(C59/$J59*100,1))","v":7.6},26.4,28.4,20.5,11.5,4.7,99.2,14459,{"$f":"IF(OR(K59=1,K59=2),\"x\",ROUND(K59/$R59*100,1))","v":10.7},30.3,28.2,16.5,9.8000000000000007,3.7,99.1,6779,{"$f":"IF(OR(S59=1,S59=2),\"x\",ROUND(S59/$Z59*100,1))","v":8.6},27.6,28.3,19.2,11,4.4000000000000004,99.2,21238]
[null,"Geography",{"$f":"IF(OR(C60=1,C60=2),\"x\",ROUND(C60/$J60*100,1))","v":5.0999999999999996},19.899999999999999,28.1,27,14.6,4.5999999999999996,99.3,15155,{"$f":"IF(OR(K60=1,K60=2),\"x\",ROUND(K60/$R60*100,1))","v":8.6},26.8,29.6,21.4,10.199999999999999,3,99.6,13778,{"$f":"IF(OR(S60=1,S60=2),\"x\",ROUND(S60/$Z60*100,1))","v":6.8},23.2,28.8,24.3,12.5,3.9,99.4,28933]
[null,"Government and Politics",{"$f":"IF(OR(C61=1,C61=2),\"x\",ROUND(C61/$J61*100,1))","v":7.1},21.9,28.1,23,13.3,5.5,98.9,7673,{"$f":"IF(OR(K61=1,K61=2),\"x\",ROUND(K61/$R61*100,1))","v":8.8000000000000007},26.2,28.7,20.100000000000001,10.9,4.5999999999999996,99.3,5952,{"$f":"IF(OR(S61=1,S61=2),\"x\",ROUND(S61/$Z61*100,1))","v":7.8},23.8,28.4,21.7,12.2,5.0999999999999996,99.1,13625]
[null,"History",{"$f":"IF(OR(C62=1,C62=2),\"x\",ROUND(C62/$J62*100,1))","v":6.6},18.600000000000001,28.3,26.8,14.6,4.5,99.4,22129,{"$f":"IF(OR(K62=1,K62=2),\"x\",ROUND(K62/$R62*100,1))","v":8.1},20.9,30.2,24.1,12.4,3.8,99.5,23502,{"$f":"IF(OR(S62=1,S62=2),\"x\",ROUND(S62/$Z62*100,1))","v":7.3},19.8,29.3,25.4,13.5,4.0999999999999996,99.4,45631]
[null,"Law",{"$f":"IF(OR(C63=1,C63=2),\"x\",ROUND(C63/$J63*100,1))","v":3.8},10.4,22.5,26.8,22.1,11.2,96.7,4769,{"$f":"IF(OR(K63=1,K63=2),\"x\",ROUND(K63/$R63*100,1))","v":6.2},14.7,26,25.5,17.2,8.4,98,7487,{"$f":"IF(OR(S63=1,S63=2),\"x\",ROUND(S63/$Z63*100,1))","v":5.2},13,24.6,26,19.100000000000001,9.5,97.5,12256]
[null,"Psychology",{"$f":"IF(OR(C64=1,C64=2),\"x\",ROUND(C64/$J64*100,1))","v":2.1},8.9,21.9,27.9,23.6,12.4,96.7,14260,{"$f":"IF(OR(K64=1,K64=2),\"x\",ROUND(K64/$R64*100,1))","v":5.2},15.5,28,26.4,16.3,7,98.4,39080,{"$f":"IF(OR(S64=1,S64=2),\"x\",ROUND(S64/$Z64*100,1))","v":4.4000000000000004},13.7,26.4,26.8,18.2,8.4,97.9,53340]
[null,"Sociology",{"$f":"IF(OR(C65=1,C65=2),\"x\",ROUND(C65/$J65*100,1))","v":3},10.3,23.7,30.6,21.7,8.8000000000000007,98,6951,{"$f":"IF(OR(K65=1,K65=2),\"x\",ROUND(K65/$R65*100,1))","v":4.8},15.1,28.1,28.1,16.5,6,98.7,21344,{"$f":"IF(OR(S65=1,S65=2),\"x\",ROUND(S65/$Z65*100,1))","v":4.4000000000000004},13.9,27,28.7,17.8,6.7,98.5,28295]
[null,"Other social studies",{"$f":"IF(OR(C66=1,C66=2),\"x\",ROUND(C66/$J66*100,1))","v":5},14.2,24.9,26,17.8,9.1999999999999993,97.2,2106,{"$f":"IF(OR(K66=1,K66=2),\"x\",ROUND(K66/$R66*100,1))","v":5.6},17.8,26.5,25.2,15.1,7.5,97.6,2391,{"$f":"IF(OR(S66=1,S66=2),\"x\",ROUND(S66/$Z66*100,1))","v":5.3},16.100000000000001,25.8,25.6,16.3,8.3000000000000007,97.4,4497]
[null,"Art and Design",{"$f":"IF(OR(C67=1,C67=2),\"x\",ROUND(C67/$J67*100,1))","v":12.2},13.4,24.3,26.2,16.100000000000001,6.1,98.3,11322,{"$f":"IF(OR(K67=1,K67=2),\"x\",ROUND(K67/$R67*100,1))","v":13.7},17.600000000000001,29.1,24,11.3,3.5,99.2,31914,{"$f":"IF(OR(S67=1,S67=2),\"x\",ROUND(S67/$Z67*100,1))","v":13.3},16.5,27.8,24.6,12.6,4.2,99,43236]
[null,"Drama",{"$f":"IF(OR(C68=1,C68=2),\"x\",ROUND(C68/$J68*100,1))","v":2.7},10,26.9,33.299999999999997,20.399999999999999,6.2,99.4,4321,{"$f":"IF(OR(K68=1,K68=2),\"x\",ROUND(K68/$R68*100,1))","v":4.5},13.7,32.1,31.3,14.5,3.5,99.6,9349,{"$f":"IF(OR(S68=1,S68=2),\"x\",ROUND(S68/$Z68*100,1))","v":3.9},12.5,30.5,32,16.399999999999999,4.3,99.5,13670]
[null,"English",{"$f":"IF(OR(C69=1,C69=2),\"x\",ROUND(C69/$J69*100,1))","v":7.3},13.4,25.3,29.2,19.100000000000001,5,99.3,23774,{"$f":"IF(OR(K69=1,K69=2),\"x\",ROUND(K69/$R69*100,1))","v":6.6},15.1,27.7,30.1,16.399999999999999,3.7,99.5,59051,{"$f":"IF(OR(S69=1,S69=2),\"x\",ROUND(S69/$Z69*100,1))","v":6.8},14.6,27,29.8,17.2,4.0999999999999996,99.5,82825]
[null,"Media/Film/TV Studies",{"$f":"IF(OR(C70=1,C70=2),\"x\",ROUND(C70/$J70*100,1))","v":1},6.7,24.1,37.9,24.1,5.4,99.2,9811,{"$f":"IF(OR(K70=1,K70=2),\"x\",ROUND(K70/$R70*100,1))","v":1.8},11,33.5,35.9,14.6,2.8,99.5,13143,{"$f":"IF(OR(S70=1,S70=2),\"x\",ROUND(S70/$Z70*100,1))","v":1.4},9.1999999999999993,29.5,36.700000000000003,18.600000000000001,3.9,99.4,22954]
[null,"Other Communication Studies",{"$f":"IF(OR(C71=1,C71=2),\"x\",ROUND(C71/$J71*100,1))","v":1.9},8.8000000000000007,29.5,38.700000000000003,16.7,3.8,99.4,4274,{"$f":"IF(OR(K71=1,K71=2),\"x\",ROUND(K71/$R71*100,1))","v":2.8},12.3,33.700000000000003,34.4,14,2.4,99.6,5338,{"$f":"IF(OR(S71=1,S71=2),\"x\",ROUND(S71/$Z71*100,1))","v":2.4},10.7,31.8,36.299999999999997,15.2,3,99.5,9612]
[null,"French",{"$f":"IF(OR(C72=1,C72=2),\"x\",ROUND(C72/$J72*100,1))","v":7},34.5,29.3,17.8,8.6,2.4,99.7,3404,{"$f":"IF(OR(K72=1,K72=2),\"x\",ROUND(K72/$R72*100,1))","v":7},33.9,29.1,18.3,8.1999999999999993,3.1,99.6,7467,{"$f":"IF(OR(S72=1,S72=2),\"x\",ROUND(S72/$Z72*100,1))","v":7},34.1,29.2,18.100000000000001,8.3000000000000007,2.9,99.6,10871]
[null,"German",{"$f":"IF(OR(C73=1,C73=2),\"x\",ROUND(C73/$J73*100,1))","v":8.4},32.5,27.2,19.5,9.3000000000000007,2.5,99.3,1685,{"$f":"IF(OR(K73=1,K73=2),\"x\",ROUND(K73/$R73*100,1))","v":7.2},33,25.5,18.8,11.3,3.7,99.4,2523,{"$f":"IF(OR(S73=1,S73=2),\"x\",ROUND(S73/$Z73*100,1))","v":7.7},32.799999999999997,26.2,19.100000000000001,10.5,3.2,99.4,4208]
[null,"Spanish",{"$f":"IF(OR(C74=1,C74=2),\"x\",ROUND(C74/$J74*100,1))","v":7.9},30.8,30.5,18.100000000000001,8.6999999999999993,3.1,99.1,2095,{"$f":"IF(OR(K74=1,K74=2),\"x\",ROUND(K74/$R74*100,1))","v":7.2},30,29.7,18.7,10.1,3.5,99.3,4102,{"$f":"IF(OR(S74=1,S74=2),\"x\",ROUND(S74/$Z74*100,1))","v":7.4},30.3,30,18.5,9.6,3.4,99.3,6197]
[null,"Other modern languages",{"$f":"IF(OR(C75=1,C75=2),\"x\",ROUND(C75/$J75*100,1))","v":11.4},37.799999999999997,30.7,12.5,4.2,1.8,98.5,3018,{"$f":"IF(OR(K75=1,K75=2),\"x\",ROUND(K75/$R75*100,1))","v":15.3},41.8,27,9.8000000000000007,3.5,1.3,98.7,4081,{"$f":"IF(OR(S75=1,S75=2),\"x\",ROUND(S75/$Z75*100,1))","v":13.6},40.1,28.6,11,3.8,1.5,98.6,7099]
[null,"Classical Studies",{"$f":"IF(OR(C76=1,C76=2),\"x\",ROUND(C76/$J76*100,1))","v":10.7},25.7,26.7,20.6,11.4,4,99.1,2727,{"$f":"IF(OR(K76=1,K76=2),\"x\",ROUND(K76/$R76*100,1))","v":11.6},28.2,30.9,18.100000000000001,8.4,2.2999999999999998,99.5,3521,{"$f":"IF(OR(S76=1,S76=2),\"x\",ROUND(S76/$Z76*100,1))","v":11.2},27.1,29.1,19.2,9.6999999999999993,3,99.3,6248]
[null,"Religious Studies",{"$f":"IF(OR(C77=1,C77=2),\"x\",ROUND(C77/$J77*100,1))","v":5.6},18.899999999999999,28.7,24.4,15.1,6.1,98.9,6088,{"$f":"IF(OR(K77=1,K77=2),\"x\",ROUND(K77/$R77*100,1))","v":5.8},20.9,29.7,24.5,13,5.0999999999999996,99,12761,{"$f":"IF(OR(S77=1,S77=2),\"x\",ROUND(S77/$Z77*100,1))","v":5.7},20.3,29.4,24.5,13.7,5.4,99,18849]
[null,"Music",{"$f":"IF(OR(C78=1,C78=2),\"x\",ROUND(C78/$J78*100,1))","v":3.9},12.8,22.6,27.9,21.1,10.1,98.4,5068,{"$f":"IF(OR(K78=1,K78=2),\"x\",ROUND(K78/$R78*100,1))","v":4.5},16.3,27.2,25.9,18.2,6.7,98.9,3135,{"$f":"IF(OR(S78=1,S78=2),\"x\",ROUND(S78/$Z78*100,1))","v":4.2},14.1,24.3,27.1,20,8.8000000000000007,98.6,8203]
[null,"Physical Education",{"$f":"IF(OR(C79=1,C79=2),\"x\",ROUND(C79/$J79*100,1))","v":2.6},9.1,21.9,27.5,23.4,13.2,97.8,9994,{"$f":"IF(OR(K79=1,K79=2),\"x\",ROUND(K79/$R79*100,1))","v":6.5},16,27.7,25.1,16.5,7.2,99,7141,{"$f":"IF(OR(S79=1,S79=2),\"x\",ROUND(S79/$Z79*100,1))","v":4.2},12,24.3,26.5,20.5,10.7,98.3,17135]
[null,"General Studies",{"$f":"IF(OR(C80=1,C80=2),\"x\",ROUND(C80/$J80*100,1))","v":3.6},7.6,16.8,24.2,24.1,17.100000000000001,93.5,17174,{"$f":"IF(OR(K80=1,K80=2),\"x\",ROUND(K80/$R80*100,1))","v":5.0999999999999996},9.4,19.7,24.9,22.6,14.2,95.9,20471,{"$f":"IF(OR(S80=1,S80=2),\"x\",ROUND(S80/$Z80*100,1))","v":4.4000000000000004},8.6,18.399999999999999,24.6,23.3,15.5,94.8,37645]
[null,"All subjects",{"$f":"IF(OR(C81=1,C81=2),\"x\",ROUND(C81/$J81*100,1))","v":8.3000000000000007},18.100000000000001,24.2,23.7,16.3,7.6,98.2,357523,{"$f":"IF(OR(K81=1,K81=2),\"x\",ROUND(K81/$R81*100,1))","v":8.1},19.399999999999999,27.3,24.3,14.1,5.6,98.8,421956,{"$f":"IF(OR(S81=1,S81=2),\"x\",ROUND(S81/$Z81*100,1))","v":8.1999999999999993},18.8,25.9,24,15.1,6.5,98.6,779479]
[]
["Copy data from Table 2 SPSS output"]
["into below cells (note gender order and cells required)"]
[]
[null,null,"Male",null,null,null,null,null,null,null,"Female",null,null,null,null,null,null,null,"Total"]
[null,null,"*","A","B","C","D","E","2_A-E","Total","*","A","B","C","D","E","A-E","Total","*","A","B","C","D","E","A-E","Total"]
[]
[null,"Biological Sciences",1847,4826,5675,5271,3893,2302,23814,24302,2699,6821,7798,6505,4622,2588,31033,31515,4546,11647,13473,11776,8515,4890,54847,55817]
[null,"Chemistry",2262,5847,5997,4348,2969,1798,23221,23634,1752,5718,5844,3933,2333,1234,20814,21095,4014,11565,11841,8281,5302,3032,44035,44729]
[null,"Physics",2405,5254,5511,4732,3523,2300,23725,24297,801,1619,1564,1106,763,502,6355,6452,3206,6873,7075,5838,4286,2802,30080,30749]
[null,"Other Science",231,522,690,707,562,264,2976,3046,88,239,282,257,208,116,1190,1223,319,761,972,964,770,380,4166,4269]
[null,"Mathematics",8743,12171,10053,7341,5098,2800,46206,46871,5275,8603,7144,4988,3164,1685,30859,31206,14018,20774,17197,12329,8262,4485,77065,78077]
[null,"Further Mathematics",2435,2527,1817,956,539,238,8512,8632,1092,1158,777,383,186,98,3694,3747,3527,3685,2594,1339,725,336,12206,12379]
[null,"Design and Technology",314,845,1777,2202,1673,864,7675,7833,333,913,1616,1585,1097,401,5945,6011,647,1758,3393,3787,2770,1265,13620,13844]
[null,"Computer Studies",116,395,662,775,711,398,3057,3165,11,32,60,58,52,34,247,255,127,427,722,833,763,432,3304,3420]
[null,"ICT",70,337,968,1497,1357,755,4984,5136,86,363,754,879,650,306,3038,3093,156,700,1722,2376,2007,1061,8022,8229]
[null,"Home Economics",0,1,5,12,8,7,33,33,4,52,81,74,48,23,282,284,4,53,86,86,56,30,315,317]
[null,"Accounting and Finance",36,236,494,571,448,231,2016,2095,34,148,260,297,253,171,1163,1210,70,384,754,868,701,402,3179,3305]
[null,"Business Studies",468,1914,4569,4895,3070,1097,16013,16222,494,1595,3195,3323,2041,757,11405,11555,962,3509,7764,8218,5111,1854,27418,27777]
[null,"Economics",1103,3812,4103,2965,1670,686,14339,14459,722,2056,1909,1117,662,253,6719,6779,1825,5868,6012,4082,2332,939,21058,21238]
[null,"Geography",774,3016,4252,4093,2206,703,15044,15155,1183,3688,4084,2946,1410,415,13726,13778,1957,6704,8336,7039,3616,1118,28770,28933]
[null,"Government and Politics",544,1680,2159,1765,1019,423,7590,7673,522,1559,1707,1196,649,275,5908,5952,1066,3239,3866,2961,1668,698,13498,13625]
[null,"History",1452,4115,6254,5940,3230,1002,21993,22129,1901,4917,7099,5663,2921,882,23383,23502,3353,9032,13353,11603,6151,1884,45376,45631]
[null,"Law",179,494,1071,1278,1056,532,4610,4769,463,1101,1943,1911,1288,629,7335,7487,642,1595,3014,3189,2344,1161,11945,12256]
[null,"Psychology",301,1264,3122,3972,3364,1770,13793,14260,2023,6061,10953,10318,6361,2736,38452,39080,2324,7325,14075,14290,9725,4506,52245,53340]
[null,"Sociology",207,713,1644,2127,1505,613,6809,6951,1024,3223,6002,6005,3528,1278,21060,21344,1231,3936,7646,8132,5033,1891,27869,28295]
[null,"Other Social Studies",106,300,525,548,375,193,2047,2106,134,425,633,602,360,180,2334,2391,240,725,1158,1150,735,373,4381,4497]
[null,"Art and Design",1377,1514,2754,2961,1827,695,11128,11322,4369,5617,9278,7666,3608,1119,31657,31914,5746,7131,12032,10627,5435,1814,42785,43236]
[null,"Drama",116,430,1161,1440,880,268,4295,4321,418,1280,3003,2928,1358,324,9311,9349,534,1710,4164,4368,2238,592,13606,13670]
[null,"English",1734,3192,6025,6933,4552,1181,23617,23774,3916,8921,16328,17775,9670,2175,58785,59051,5650,12113,22353,24708,14222,3356,82402,82825]
[null,"Media/Film/Television Studies",96,656,2369,3722,2360,526,9729,9811,236,1445,4399,4713,1920,364,13077,13143,332,2101,6768,8435,4280,890,22806,22954]
[null,"Other Communication Studies",81,374,1261,1655,712,164,4247,4274,149,657,1800,1834,748,127,5315,5338,230,1031,3061,3489,1460,291,9562,9612]
[null,"French",237,1176,999,605,293,83,3393,3404,525,2535,2173,1364,611,228,7436,7467,762,3711,3172,1969,904,311,10829,10871]
[null,"German",141,547,458,329,157,42,1674,1685,181,832,644,474,284,94,2509,2523,322,1379,1102,803,441,136,4183,4208]
[null,"Spanish",165,645,639,380,183,65,2077,2095,295,1231,1220,769,415,144,4074,4102,460,1876,1859,1149,598,209,6151,6197]
[null,"Other Modern Languages",344,1142,927,378,126,55,2972,3018,624,1706,1103,400,144,52,4029,4081,968,2848,2030,778,270,107,7001,7099]
[null,"Classical Studies",293,701,729,562,310,108,2703,2727,408,992,1088,637,297,81,3503,3521,701,1693,1817,1199,607,189,6206,6248]
[null,"Religious Studies",339,1150,1750,1487,921,373,6020,6088,738,2672,3793,3123,1657,649,12632,12761,1077,3822,5543,4610,2578,1022,18652,18849]
[null,"Music",200,649,1143,1414,1067,512,4985,5068,141,511,854,813,570,211,3100,3135,341,1160,1997,2227,1637,723,8085,8203]
[null,"Physical Education",261,912,2192,2752,2343,1319,9779,9994,461,1146,1978,1795,1176,515,7071,7141,722,2058,4170,4547,3519,1834,16850,17135]
[null,"General Studies",615,1302,2893,4164,4147,2943,16064,17174,1048,1932,4025,5095,4626,2904,19630,20471,1663,3234,6918,9259,8773,5847,35694,37645]
[null,"Total",29592,64659,86648,84777,58154,27310,351140,357523,34150,81768,115391,102532,59680,23550,417071,421956,63742,146427,202039,187309,117834,50860,768211,779479]

{"sheet":"2013 data","index":19,"n_rows":81,"n_cols":26,"rows_kept":81,"cut":false,"hidden":true,"merged":[]}
["2013 UNAMENDED"]
[]
[null,null,"Males",null,null,null,null,null,null,null,"Female",null,null,null,null,null,null,null,"Total"]
[null,null,"*","A","B","C","D","E","A-E","Entries","*","A","B","C","D","E","A-E","Entries","*","A","B","C","D","E","A-E","Entries"]
[null,"Biological Sciences",{"$f":"IF(OR(C47=1,C47=2),\"x\",ROUND(C47/$J47*100,1))","v":7.5},{"$f":"IF(OR(D47=1,D47=2),\"x\",ROUND(D47/$J47*100,1))","v":19.2},23.5,21.5,16.600000000000001,9.8000000000000007,98.1,{"$f":"ROUND(J47,0)","v":24083},{"$f":"IF(OR(K47=1,K47=2),\"x\",ROUND(K47/$R47*100,1))","v":8.9},{"$f":"IF(OR(L47=1,L47=2),\"x\",ROUND(L47/$R47*100,1))","v":21.6},25,20.9,14.6,7.7,98.6,{"$f":"ROUND(R47,0)","v":33152},{"$f":"IF(OR(S47=1,S47=2),\"x\",ROUND(S47/$Z47*100,1))","v":8.3000000000000007},{"$f":"IF(OR(T47=1,T47=2),\"x\",ROUND(T47/$Z47*100,1))","v":20.6},24.4,21.1,15.4,8.6,98.4,{"$f":"ROUND(Z47,0)","v":57235}]
[null,"Chemistry",{"$f":"IF(OR(C48=1,C48=2),\"x\",ROUND(C48/$J48*100,1))","v":9.1999999999999993},25.4,26.2,18.399999999999999,12.2,7,98.3,{"$f":"ROUND(J48,0)","v":24554},{"$f":"IF(OR(K48=1,K48=2),\"x\",ROUND(K48/$R48*100,1))","v":7.6},25.8,28.4,19.3,11.9,5.8,98.9,{"$f":"ROUND(R48,0)","v":22767},{"$f":"IF(OR(S48=1,S48=2),\"x\",ROUND(S48/$Z48*100,1))","v":8.4},25.6,27.3,18.8,12.1,6.4,98.6,{"$f":"ROUND(Z48,0)","v":47321}]
[null,"Physics",9.5,21.2,23.4,19.7,14.5,9.4,97.8,25312,11.4,24.7,23.9,18.2,12.9,7.3,98.5,6596,9.9,21.9,23.5,19.399999999999999,14.2,9,97.9,31908]
[null,"Other Science",7.2,17.600000000000001,24,23.4,17.100000000000001,8.3000000000000007,97.6,2990,6.2,17.7,27.8,23.1,14.6,8.3000000000000007,97.7,1191,6.9,17.600000000000001,25.1,23.3,16.399999999999999,8.3000000000000007,97.7,4181]
[null,"Mathematics",18.600000000000001,25.5,21.2,16.2,11,6,98.6,48945,14.9,28.1,23.7,16.100000000000001,10.6,5.6,98.9,31622,17.100000000000001,26.5,22.2,16.2,10.8,5.8,98.7,80567]
[null,"Further Mathematics",28,29.3,21.8,11.4,5.8,3.1,99.3,9190,28.3,30.9,21.3,11.4,5.5,2,99.5,3691,28.1,29.7,21.7,11.4,5.7,2.8,99.4,12881]
[null,"Design and Technology",3.2,12.2,23.2,27.5,22,10,98.1,7073,4.5,16,28.6,27,16.399999999999999,6.4,98.9,5395,3.8,13.8,25.6,27.3,19.5,8.5,98.4,12468]
[null,"Computer Studies",3.5,13.1,21.4,25,21,13.2,97.1,3189,5.2,19,20.5,21,15.7,16.2,97.6,210,3.6,13.4,21.3,24.7,20.7,13.4,97.1,3399]
[null,"ICT",1.4,6.9,20.3,30.2,25.2,13.8,97.8,4892,2.2000000000000002,11.3,26.5,31,18.8,9.1,98.9,2804,1.7,8.5,22.5,30.5,22.9,12.1,98.2,7696]
[null,"Home Economics",0,0,17.399999999999999,28.3,32.6,17.399999999999999,95.7,46,2.1,16.8,21.4,28.1,20,7.4,95.8,285,1.8,14.5,20.8,28.1,21.8,8.8000000000000007,95.8,331]
[null,"Accounting and Finance",1.5,11.9,22.9,26.7,21.2,11.7,95.9,2045,2.1,15,23.6,24,19.899999999999999,11.2,95.9,1073,1.7,13,23.2,25.8,20.8,11.5,95.9,3118]
[null,"Business Studies",2.7,11.5,28.2,30.9,18.7,6.7,98.8,15956,3.9,14.1,28.8,29.3,16.8,6.1,99,11082,3.2,12.6,28.5,30.3,17.899999999999999,6.5,98.9,27038]
[null,"Economics",7.2,25.2,29.1,21.4,11.6,4.7,99.3,15713,8.6,29.8,29.3,18.7,9.1999999999999993,3.7,99.3,7404,7.7,26.7,29.2,20.5,10.8,4.3,99.3,23117]
[null,"Geography",4.7,20.100000000000001,28.5,26.7,14.5,4.8,99.3,15151,7.5,26.8,30.4,21.7,10.199999999999999,3,99.7,14568,6.1,23.4,29.4,24.3,12.4,3.9,99.5,29719]
[null,"Government and Politics",6.5,21.4,29,23.8,13.2,5.2,99.2,7933,8.5,25.9,28.6,21,10.4,4.5999999999999996,99.1,5858,7.4,23.3,28.8,22.6,12,5,99.1,13791]
[null,"History",6.2,18.100000000000001,28.8,27.9,14.3,4.2,99.5,22349,7.5,20.8,31,25,11.9,3.3,99.5,24071,6.9,19.5,29.9,26.4,13,3.7,99.5,46420]
[null,"Law",3.2,12,23.3,26.3,20.8,11.1,96.8,4508,4.7,15.3,26.4,25.6,17.5,8.1999999999999993,97.7,7236,4.0999999999999996,14.1,25.2,25.9,18.8,9.3000000000000007,97.3,11744]
[null,"Psychology",{"$f":"IF(OR(C64=1,C64=2),\"x\",ROUND(C64/$J64*100,1))","v":2},7.9,22.1,28.5,24.2,12.3,97.1,13638,{"$f":"IF(OR(K64=1,K64=2),\"x\",ROUND(K64/$R64*100,1))","v":4.8},15.3,27.9,26.3,17,7,98.5,39707,{"$f":"IF(OR(S64=1,S64=2),\"x\",ROUND(S64/$Z64*100,1))","v":4.0999999999999996},13.4,26.4,26.9,18.899999999999999,8.4,98.1,53345]
[null,"Sociology",3.6,10.1,25.6,30.7,20.2,8,98.3,6805,4.5,15.3,28.9,28.2,15.9,5.8,98.7,21148,4.3,14,28.1,28.8,17,6.4,98.6,27953]
[null,"Other social studies",5.5,14.6,28,24.1,17.399999999999999,7.4,97.1,1875,5.6,16.8,28.7,24.8,15.2,6.8,97.9,2263,5.5,15.8,28.4,24.5,16.2,7.1,97.5,4138]
[null,"Art and Design",11.2,12.4,25.5,27.4,16.3,5.8,98.6,10443,12.5,17.3,30.5,24.9,11.2,2.8,99.3,30945,12.2,16.100000000000001,29.2,25.6,12.5,3.6,99.1,41388]
[null,"Drama",2.2000000000000002,9.1999999999999993,27,33.4,21.6,5.9,99.3,3937,4.8,13.4,33.200000000000003,30.8,14.5,2.9,99.6,8603,4,12,31.3,31.6,16.7,3.8,99.5,12540]
[null,"English",6.4,14,26,30.1,18.399999999999999,4.5,99.4,23435,6.2,15,28.8,30.8,15.5,3.3,99.7,59990,6.3,14.7,28,30.6,16.3,3.6,99.6,83425]
[null,"Media/Film/TV Studies",0.9,6.3,25.3,39.1,22.3,5.0999999999999996,99.1,8804,1.5,11.7,35.6,35,13.3,2.2999999999999998,99.5,11996,1.2,9.4,31.3,36.700000000000003,17.100000000000001,3.5,99.3,20800]
[null,"Other Communication Studies",1.6,7.2,29.6,39.1,18.2,3.5,99.1,3747,1.9,12.1,34.5,36.1,12.9,2.1,99.5,4758,1.7,9.9,32.299999999999997,37.4,15.2,2.7,99.3,8505]
[null,"French",7.3,35.9,28.8,16.2,8.4,2.7,99.2,3106,6.3,32.299999999999997,30.2,18.600000000000001,9.1,3,99.5,6772,6.6,33.4,29.8,17.8,8.9,2.9,99.4,9878]
[null,"German",7.6,35.799999999999997,24.3,17.3,10.6,4,99.7,1499,7.1,31.1,28.1,19.3,9.8000000000000007,4,99.5,2275,7.3,33,26.6,18.5,10.1,4,99.6,3774]
[null,"Spanish",7.5,31.6,28,20.8,8.8000000000000007,2.8,99.5,2140,7.3,29.1,31,18.5,9.6999999999999993,3.7,99.3,4376,7.4,29.9,30,19.3,9.4,3.4,99.4,6516]
[null,"Other modern languages",12,34.5,32,13.2,4.2,2.2000000000000002,98.2,2970,14.7,39.200000000000003,28.4,10.4,3.9,2,98.6,4114,13.6,37.200000000000003,29.9,11.6,4.0999999999999996,2.1,98.4,7084]
[null,"Classical Studies",9.4,23.8,28.2,21.6,11.3,4.7,99.1,2691,12.3,28.6,29.1,18.100000000000001,8.4,2.9,99.4,3389,11.1,26.5,28.7,19.7,9.6999999999999993,3.7,99.3,6080]
[null,"Religious Studies",5.7,19.5,27.1,25.8,15.2,5.6,98.9,6186,5.6,21.4,29.7,24.2,13.5,4.8,99.2,12985,5.6,20.8,28.9,24.7,14,5.0999999999999996,99.1,19171]
[null,"Music",3.9,12.2,22.8,27.9,23,8.8000000000000007,98.5,4722,3.9,17.8,25.5,26.9,17.899999999999999,7,99,2933,3.9,14.3,23.8,27.5,21,8.1,98.7,7655]
[null,"Physical Education",2.5,9.5,21,27.7,24.1,13.2,98.1,8681,5.8,16.399999999999999,29.7,24.7,16,6.5,99.1,6332,3.9,12.4,24.7,26.5,20.7,10.4,98.5,15013]
[null,"General Studies",{"$f":"IF(OR(C80=1,C80=2),\"x\",ROUND(C80/$J80*100,1))","v":4.2},7.9,16.899999999999999,24.8,24.5,16.399999999999999,94.6,15084,{"$f":"IF(OR(K80=1,K80=2),\"x\",ROUND(K80/$R80*100,1))","v":4.8},8.6,20,25.2,23.1,14.5,96.3,18368,{"$f":"IF(OR(S80=1,S80=2),\"x\",ROUND(S80/$Z80*100,1))","v":4.5},8.3000000000000007,18.600000000000001,25,23.8,15.4,95.6,33452]
[null,"All subjects",8.1999999999999993,18.2,24.7,23.9,16,7.4,98.4,353692,7.6,19.399999999999999,28.1,24.6,13.9,5.3,99,419959,7.9,18.899999999999999,26.5,24.3,14.9,6.2,98.7,773651]
[]
["Copy data from Table 2 SPSS output"]
["into below cells (note gender order and cells/columns required)"]
[]
[null,null,"Male",null,null,null,null,null,null,null,"Female",null,null,null,null,null,null,null,"Total"]
[null,null,"*","A","B","C","D","E","2_A-E","Total","*","A","B","C","D","E","A-E","Total","*","A","B","C","D","E","A-E","Total"]
[]
[null,"Biological Sciences",1801,4615,5670,5182,3990,2359,23617,24083,2945,7150,8301,6921,4837,2539,32693,33152,4746,11765,13971,12103,8827,4898,56310,57235]
[null,"Chemistry",2250,6238,6439,4508,3001,1711,24147,24554,1735,5877,6462,4396,2712,1329,22511,22767,3985,12115,12901,8904,5713,3040,46658,47321]
[null,"Physics",2417,5368,5923,4981,3672,2384,24745,25312,755,1632,1578,1199,854,482,6500,6596,3172,7000,7501,6180,4526,2866,31245,31908]
[null,"Other Science",215,526,719,700,510,249,2919,2990,74,211,331,275,174,99,1164,1191,289,737,1050,975,684,348,4083,4181]
[null,"Mathematics",9108,12504,10358,7930,5396,2945,48241,48945,4705,8879,7501,5090,3344,1762,31281,31622,13813,21383,17859,13020,8740,4707,79522,80567]
[null,"Further Mathematics",2572,2689,2006,1046,531,285,9129,9190,1045,1139,787,421,204,75,3671,3691,3617,3828,2793,1467,735,360,12800,12881]
[null,"Design and Technology",224,861,1644,1945,1553,710,6937,7073,245,862,1542,1455,883,346,5333,5395,469,1723,3186,3400,2436,1056,12270,12468]
[null,"Computer Studies",111,417,682,797,669,420,3096,3189,11,40,43,44,33,34,205,210,122,457,725,841,702,454,3301,3399]
[null,"ICT",69,336,991,1479,1233,676,4784,4892,61,318,742,870,526,255,2772,2804,130,654,1733,2349,1759,931,7556,7696]
[null,"Home Economics",0,0,8,13,15,8,44,46,6,48,61,80,57,21,273,285,6,48,69,93,72,29,317,331]
[null,"Accounting and Finance",30,243,469,547,433,240,1962,2045,23,161,253,258,214,120,1029,1073,53,404,722,805,647,360,2991,3118]
[null,"Business Studies",426,1839,4501,4934,2982,1075,15757,15956,433,1561,3194,3248,1864,671,10971,11082,859,3400,7695,8182,4846,1746,26728,27038]
[null,"Economics",1136,3966,4579,3361,1827,733,15602,15713,634,2206,2173,1385,681,271,7350,7404,1770,6172,6752,4746,2508,1004,22952,23117]
[null,"Geography",713,3052,4313,4043,2197,727,15045,15151,1091,3908,4430,3166,1487,441,14523,14568,1804,6960,8743,7209,3684,1168,29568,29719]
[null,"Government and Politics",515,1699,2302,1886,1049,416,7867,7933,500,1520,1675,1231,609,269,5804,5858,1015,3219,3977,3117,1658,685,13671,13791]
[null,"History",1388,4050,6428,6233,3191,940,22230,22349,1804,5018,7462,6012,2864,797,23957,24071,3192,9068,13890,12245,6055,1737,46187,46420]
[null,"Law",145,543,1049,1187,939,500,4363,4508,342,1108,1907,1852,1267,593,7069,7236,487,1651,2956,3039,2206,1093,11432,11744]
[null,"Psychology",279,1083,3012,3892,3303,1673,13242,13638,1921,6085,11081,10456,6770,2784,39097,39707,2200,7168,14093,14348,10073,4457,52339,53345]
[null,"Sociology",244,688,1742,2090,1378,544,6686,6805,948,3239,6121,5970,3371,1234,20883,21148,1192,3927,7863,8060,4749,1778,27569,27953]
[null,"Other Social Studies",103,274,525,452,327,139,1820,1875,126,380,650,561,343,155,2215,2263,229,654,1175,1013,670,294,4035,4138]
[null,"Art and Design",1174,1295,2658,2863,1702,608,10300,10443,3879,5368,9437,7712,3455,878,30729,30945,5053,6663,12095,10575,5157,1486,41029,41388]
[null,"Drama",87,361,1063,1313,850,234,3908,3937,413,1149,2857,2654,1250,248,8571,8603,500,1510,3920,3967,2100,482,12479,12540]
[null,"English",1506,3280,6085,7046,4317,1062,23296,23435,3740,8999,17270,18506,9296,1974,59785,59990,5246,12279,23355,25552,13613,3036,83081,83425]
[null,"Media/Film/Television Studies",83,558,2230,3440,1964,451,8726,8804,176,1401,4276,4202,1600,281,11936,11996,259,1959,6506,7642,3564,732,20662,20800]
[null,"Other Communication Studies",59,270,1109,1464,681,132,3715,3747,89,576,1641,1716,613,99,4734,4758,148,846,2750,3180,1294,231,8449,8505]
[null,"French",226,1114,894,502,260,85,3081,3106,425,2187,2046,1261,616,201,6736,6772,651,3301,2940,1763,876,286,9817,9878]
[null,"German",114,536,365,260,159,60,1494,1499,162,708,640,440,223,91,2264,2275,276,1244,1005,700,382,151,3758,3774]
[null,"Spanish",161,677,600,445,188,59,2130,2140,320,1272,1357,810,425,162,4346,4376,481,1949,1957,1255,613,221,6476,6516]
[null,"Other Modern Languages",357,1026,951,392,126,65,2917,2970,604,1611,1168,428,161,83,4055,4114,961,2637,2119,820,287,148,6972,7084]
[null,"Classical Studies",254,641,759,582,305,127,2668,2691,418,968,985,614,286,98,3369,3389,672,1609,1744,1196,591,225,6037,6080]
[null,"Religious Studies",352,1207,1676,1593,938,349,6115,6186,724,2777,3855,3147,1751,626,12880,12985,1076,3984,5531,4740,2689,975,18995,19171]
[null,"Music",185,574,1076,1319,1084,414,4652,4722,115,522,749,788,524,206,2904,2933,300,1096,1825,2107,1608,620,7556,7655]
[null,"Physical Education",217,829,1820,2408,2092,1147,8513,8681,368,1038,1883,1564,1011,410,6274,6332,585,1867,3703,3972,3103,1557,14787,15013]
[null,"General Studies",629,1189,2547,3734,3698,2477,14274,15084,888,1587,3673,4627,4250,2666,17691,18368,1517,2776,6220,8361,7948,5143,31965,33452]
[null,"Total",29150,64548,87193,84567,56560,26004,348022,353692,31725,81505,118131,103359,58555,22300,415575,419959,60875,146053,205324,187926,115115,48304,763597,773651]

{"sheet":"2001AS","index":20,"n_rows":116,"n_cols":24,"rows_kept":116,"cut":false,"hidden":true,"merged":[]}
[]
[]
[null,null,null,"Males",null,null,null,null,null,"Females",null,null,null,null,null,"Total"]
[null,null,null,"A","B","C","D (or A/GNVQ distinction)","E","other","A","B","C","D (or A/GNVQ distinction)","E","other","A","B","C","D (or A/GNVQ distinction)","E","other"]
[]
[null,null,"Biological Sciences",3079,3124,3441,3567,3257,3908,5907,5431,5764,5293,4580,5303,8986,8555,9205,8860,7837,9211]
[null,null,"Chemistry",3556,3230,3167,2780,2256,2894,4136,3518,3217,2634,1916,2357,7692,6748,6384,5414,4172,5251]
[null,null,"Physics",4747,4047,4085,3735,3091,3961,1951,1412,1370,1011,737,870,6698,5459,5455,4746,3828,4831]
[null,null,"Other Science",676,746,915,904,698,803,335,386,474,485,380,383,1011,1132,1389,1389,1078,1186]
[null,null,"Mathematics",6134,3833,4322,4886,5194,12045,4095,3088,3247,3262,3148,6185,10229,6921,7569,8148,8342,18230]
[null,null,"Further Mathematics",350,232,220,211,151,271,233,162,126,101,75,98,583,394,346,312,226,369]
[null,null,"Design and Technology",909,1454,2109,2352,1964,2172,809,1073,1435,1319,868,800,1718,2527,3544,3671,2832,2972]
[null,null,"Computer Studies",1338,1841,2232,2126,1657,2160,206,251,329,373,326,480,1544,2092,2561,2499,1983,2640]
[null,null,"ICT",746,1669,2964,3536,3000,3616,441,1025,1692,2050,1804,2271,1187,2694,4656,5586,4804,5887]
[null,null,"Home Economics",8,7,12,13,22,15,127,148,159,166,113,90,135,155,171,179,135,105]
[null,null,"Accounting and Finance",297,346,459,487,408,934,184,218,291,315,279,528,481,564,750,802,687,1462]
[null,null,"Business Studies",2126,3605,4941,4693,3304,3051,1913,2903,3810,3513,2396,2423,4039,6508,8751,8206,5700,5474]
[null,null,"Economics",2302,1798,1708,1426,1089,1283,1097,811,710,597,467,564,3399,2609,2418,2023,1556,1847]
[null,null,"Geography",2739,3356,3921,3506,2502,2016,3493,3109,3123,2374,1555,1320,6232,6465,7044,5880,4057,3336]
[null,null,"Government and Politics",846,860,997,783,517,532,739,721,654,555,361,421,1585,1581,1651,1338,878,953]
[null,null,"History",2880,4027,4215,2955,1613,1192,3610,4700,4659,3232,1829,1461,6490,8727,8874,6187,3442,2653]
[null,null,"Law",559,724,931,971,882,1331,1035,1201,1354,1423,1088,1705,1594,1925,2285,2394,1970,3036]
[null,null,"Psychology",891,1450,2269,2510,2359,2995,4680,5769,6832,6361,5343,5701,5571,7219,9101,8871,7702,8696]
[null,null,"Sociology",729,977,1363,1321,1137,1325,3347,3598,4127,3612,2885,3052,4076,4575,5490,4933,4022,4377]
[null,null,"Other social studies",171,189,270,275,182,353,256,282,349,332,293,423,427,471,619,607,475,776]
[null,null,"Art and Design",2399,2237,2653,2467,1751,3179,7222,5397,5283,3870,2335,3502,9621,7634,7936,6337,4086,6681]
[null,null,"Drama",463,862,1069,907,468,392,1709,2517,2725,1846,873,548,2172,3379,3794,2753,1341,940]
[null,null,"English",3546,4540,5817,5140,2930,2025,8595,11031,13727,11441,6023,3218,12141,15571,19544,16581,8953,5243]
[null,null,"Media/Film/Television Studies",948,2049,2573,1928,1067,880,1745,3293,3635,2264,977,833,2693,5342,6208,4192,2044,1713]
[null,null,"Other Communication Studies",256,553,850,663,400,455,722,1561,1829,1168,517,539,978,2114,2679,1831,917,994]
[null,null,"French",1410,1017,929,838,559,529,2915,2428,2438,1949,1464,1395,4325,3445,3367,2787,2023,1924]
[null,null,"German",634,471,484,467,331,301,1249,990,1102,936,667,504,1883,1461,1586,1403,998,805]
[null,null,"Spanish",363,327,251,180,129,117,806,699,652,517,372,379,1169,1026,903,697,501,496]
[null,null,"Other modern languages",355,195,112,82,59,83,445,266,182,125,83,85,800,461,294,207,142,168]
[null,null,"Classical Studies",615,400,396,306,188,119,927,667,560,348,186,120,1542,1067,956,654,374,239]
[null,null,"Religious Studies",481,671,643,510,347,355,1272,1711,1791,1317,810,711,1753,2382,2434,1827,1157,1066]
[null,null,"Music",697,798,989,748,413,363,896,1058,1039,717,339,219,1593,1856,2028,1465,752,582]
[null,null,"Physical Education",824,1490,2665,3247,2503,2009,1365,1504,1832,1737,1147,955,2189,2994,4497,4984,3650,2964]
[null,null,"General Studies",3009,3816,5013,5167,4799,5899,3410,4319,5839,5961,5061,5454,6419,8135,10852,11128,9860,11353]
[null,null,"subtotal",51083,56941,68985,65687,51227,63563,71872,77247,86356,73204,51297,54897,122955,134188,155341,138891,102524,118460]
[]
[null,null,null,"Grade",null,null,null,null,null,null,"Grade",null,null,null,null,null,null,"Grade"]
[null,null,null,"A","B","C","D","E","A-E","Entries","A","B","C","D","E","A-E","Entries","A","B","C","D","E","A-E","Entries"]
[null,null,"Biological Sciences",15.1,15.3,16.899999999999999,17.5,16,80.8,20376,18.3,16.8,17.899999999999999,16.399999999999999,14.2,83.6,32278,17.100000000000001,16.2,17.5,16.8,14.9,82.5,52654]
[null,null,"Chemistry",19.899999999999999,18.100000000000001,17.7,15.5,12.6,83.8,17883,23.3,19.8,18.100000000000001,14.8,10.8,86.7,17778,21.6,18.899999999999999,17.899999999999999,15.2,11.7,85.3,35661]
[null,null,"Physics",20.100000000000001,17.100000000000001,17.3,15.8,13.1,83.3,23666,26.5,19.2,18.600000000000001,13.8,10,88.2,7351,21.6,17.600000000000001,17.600000000000001,15.3,12.3,84.4,31017]
[null,null,"Other Science",14.3,15.7,19.3,19.100000000000001,14.7,83.1,4742,13.7,15.8,19.399999999999999,19.899999999999999,15.6,84.3,2443,14.1,15.8,19.3,19.3,15,83.5,7185]
[null,null,"Mathematics",16.8,10.5,11.9,13.4,14.3,66.900000000000006,36414,17.8,13.4,14.1,14.2,13.7,73.099999999999994,23025,17.2,11.6,12.7,13.7,14,69.3,59439]
[null,null,"Further Mathematics",24.4,16.2,15.3,14.7,10.5,81.099999999999994,1435,29.3,20.399999999999999,15.8,12.7,9.4,87.7,795,26.1,17.7,15.5,14,10.1,83.5,2230]
[null,null,"Design and Technology",8.3000000000000007,13.3,19.2,21.5,17.899999999999999,80.2,10960,12.8,17,22.8,20.9,13.8,87.3,6304,10,14.6,20.5,21.3,16.399999999999999,82.8,17264]
[null,null,"Computer Studies",11.8,16.2,19.7,18.7,14.6,81,11354,10.5,12.8,16.7,19,16.600000000000001,75.599999999999994,1965,11.6,15.7,19.2,18.8,14.9,80.2,13319]
[null,null,"ICT",4.8,10.7,19.100000000000001,22.8,19.3,76.7,15531,4.8,11,18.2,22.1,19.399999999999999,75.5,9283,4.8,10.9,18.8,22.5,19.399999999999999,76.3,24814]
[null,null,"Home Economics",10.4,9.1,15.6,16.899999999999999,28.6,80.5,77,15.8,18.399999999999999,19.8,20.7,14.1,88.8,803,15.3,17.600000000000001,19.399999999999999,20.3,15.3,88.1,880]
[null,null,"Accounting and Finance",10.1,11.8,15.7,16.600000000000001,13.9,68.099999999999994,2931,10.1,12,16,17.399999999999999,15.4,70.900000000000006,1815,10.1,11.9,15.8,16.899999999999999,14.5,69.2,4746]
[null,null,"Business Studies",9.8000000000000007,16.600000000000001,22.7,21.6,15.2,86,21720,11.3,17.100000000000001,22.5,20.7,14.1,85.7,16958,10.4,16.8,22.6,21.2,14.7,85.8,38678]
[null,null,"Economics",24,18.7,17.8,14.8,11.3,86.6,9606,25.8,19.100000000000001,16.7,14.1,11,86.7,4246,24.5,18.8,17.5,14.6,11.2,86.7,13852]
[null,null,"Geography",15.2,18.600000000000001,21.7,19.399999999999999,13.9,88.8,18040,23.3,20.8,20.9,15.9,10.4,91.2,14974,18.899999999999999,19.600000000000001,21.3,17.8,12.3,89.9,33014]
[null,null,"Government and Politics",18.7,19,22,17.3,11.4,88.3,4535,21.4,20.9,19,16.100000000000001,10.5,87.8,3451,19.8,19.8,20.7,16.8,11,88.1,7986]
[null,null,"History",17.100000000000001,23.9,25,17.5,9.6,92.9,16882,18.5,24.1,23.9,16.600000000000001,9.4,92.5,19491,17.8,24,24.4,17,9.5,92.7,36373]
[null,null,"Law",10.4,13.4,17.2,18,16.3,75.3,5398,13.3,15.4,17.3,18.2,13.9,78.2,7806,12.1,14.6,17.3,18.100000000000001,14.9,77,13204]
[null,null,"Psychology",7.1,11.6,18.2,20.100000000000001,18.899999999999999,76,12474,13.5,16.600000000000001,19.7,18.3,15.4,83.6,34686,11.8,15.3,19.3,18.8,16.3,81.599999999999994,47160]
[null,null,"Sociology",10.6,14.3,19.899999999999999,19.3,16.600000000000001,80.7,6852,16.2,17.399999999999999,20,17.5,14,85.2,20621,14.8,16.7,20,18,14.6,84.1,27473]
[null,null,"Other social studies",11.9,13.1,18.8,19.100000000000001,12.6,75.5,1440,13.2,14.6,18,17.2,15.1,78.099999999999994,1935,12.7,14,18.3,18,14.1,77,3375]
[null,null,"Art and Design",16.3,15.2,18.100000000000001,16.8,11.9,78.400000000000006,14686,26.2,19.5,19.100000000000001,14,8.5,87.3,27609,22.7,18,18.8,15,9.6999999999999993,84.2,42295]
[null,null,"Drama",11.1,20.7,25.7,21.8,11.2,90.6,4161,16.7,24.6,26.7,18.100000000000001,8.5,94.6,10218,15.1,23.5,26.4,19.100000000000001,9.3000000000000007,93.5,14379]
[null,null,"English",14.8,18.899999999999999,24.2,21.4,12.2,91.6,23998,15.9,20.399999999999999,25.4,21.2,11.1,94,54035,15.6,20,25,21.2,11.5,93.3,78033]
[null,null,"Media/Film/TV Studies",10,21.7,27.2,20.399999999999999,11.3,90.7,9445,13.7,25.8,28.5,17.8,7.7,93.5,12747,12.1,24.1,28,18.899999999999999,9.1999999999999993,92.3,22192]
[null,null,"Other Communication Studies",8.1,17.399999999999999,26.8,20.9,12.6,85.7,3177,11.4,24.6,28.9,18.399999999999999,8.1999999999999993,91.5,6336,10.3,22.2,28.2,19.2,9.6,89.6,9513]
[null,null,"French",26.7,19.3,17.600000000000001,15.9,10.6,90,5282,23.2,19.3,19.399999999999999,15.5,11.6,88.9,12589,24.2,19.3,18.8,15.6,11.3,89.2,17871]
[null,null,"German",23.6,17.5,18,17.399999999999999,12.3,88.8,2688,22.9,18.2,20.2,17.2,12.2,90.7,5448,23.1,18,19.5,17.2,12.3,90.1,8136]
[null,null,"Spanish",26.6,23.9,18.399999999999999,13.2,9.4,91.4,1367,23.5,20.399999999999999,19,15.1,10.9,88.9,3425,24.4,21.4,18.8,14.5,10.5,89.6,4792]
[null,null,"Other modern languages",40.1,22,12.6,9.3000000000000007,6.7,90.6,886,37.5,22.4,15.3,10.5,7,92.8,1186,38.6,22.2,14.2,10,6.9,91.9,2072]
[null,null,"Classical Studies",30.4,19.8,19.600000000000001,15.1,9.3000000000000007,94.1,2024,33,23.8,19.899999999999999,12.4,6.6,95.7,2808,31.9,22.1,19.8,13.5,7.7,95.1,4832]
[null,null,"Religious Studies",16,22.3,21.4,17,11.5,88.2,3007,16.7,22.5,23.5,17.3,10.6,90.7,7612,16.5,22.4,22.9,17.2,10.9,90,10619]
[null,null,"Music",17.399999999999999,19.899999999999999,24.7,18.7,10.3,90.9,4008,21,24.8,24.3,16.8,7.9,94.9,4268,19.2,22.4,24.5,17.7,9.1,93,8276]
[null,null,"Physical Education",6.5,11.7,20.9,25.5,19.600000000000001,84.2,12738,16,17.600000000000001,21.5,20.3,13.4,88.8,8540,10.3,14.1,21.1,23.4,17.2,86.1,21278]
[null,null,"General Studies",10.9,13.8,18.100000000000001,18.7,17.3,78.7,27703,11.4,14.4,19.399999999999999,19.8,16.8,81.8,30044,11.1,14.1,18.8,19.3,17.100000000000001,80.3,57747]
[null,null,"All subjects",14.3,15.9,19.3,18.399999999999999,14.3,82.2,357486,17.3,18.600000000000001,20.8,17.600000000000001,12.4,86.8,414873,15.9,17.399999999999999,20.100000000000001,18,13.3,84.7,772359]
[]
[null,null,null,"Grade",null,null,null,null,null,null,"Grade",null,null,null,null,null,null,"Grade"]
[null,null,null,"A","B","C","D","E","A-E","Entries","A","B","C","D","E","A-E","Entries","A","B","C","D","E","A-E","Entries"]
[null,null,"Biological Sciences",{"$f":"ROUND(D44,1)","v":15.1},{"$f":"ROUND(E44,1)","v":15.3},16.899999999999999,17.5,16,80.8,{"$f":"ROUND(J44,0)","v":20376},18.3,16.8,17.899999999999999,16.399999999999999,14.2,83.6,{"$f":"ROUND(Q44,0)","v":32278},17.100000000000001,16.2,17.5,16.8,14.9,82.5,{"$f":"ROUND(X44,0)","v":52654}]
[null,null,"Chemistry",{"$f":"ROUND(D45,1)","v":19.899999999999999},18.100000000000001,17.7,15.5,12.6,83.8,{"$f":"ROUND(J45,0)","v":17883},{"$f":"ROUND(K45,1)","v":23.3},19.8,18.100000000000001,14.8,10.8,86.7,{"$f":"ROUND(Q45,0)","v":17778},{"$f":"ROUND(R45,1)","v":21.6},18.899999999999999,17.899999999999999,15.2,11.7,85.3,{"$f":"ROUND(X45,0)","v":35661}]
[null,null,"Physics",{"$f":"ROUND(D46,1)","v":20.100000000000001},17.100000000000001,17.3,15.8,13.1,83.3,23666,{"$f":"ROUND(K46,1)","v":26.5},19.2,18.600000000000001,13.8,10,88.2,7351,{"$f":"ROUND(R46,1)","v":21.6},17.600000000000001,17.600000000000001,15.3,12.3,84.4,31017]
[null,null,"Other Science",{"$f":"ROUND(D47,1)","v":14.3},15.7,19.3,19.100000000000001,14.7,83.1,4742,{"$f":"ROUND(K47,1)","v":13.7},15.8,19.399999999999999,19.899999999999999,15.6,84.3,2443,{"$f":"ROUND(R47,1)","v":14.1},15.8,19.3,19.3,15,83.5,7185]
[null,null,"Mathematics",{"$f":"ROUND(D48,1)","v":16.8},10.5,11.9,13.4,14.3,66.900000000000006,36414,{"$f":"ROUND(K48,1)","v":17.8},13.4,14.1,14.2,13.7,73.099999999999994,23025,{"$f":"ROUND(R48,1)","v":17.2},11.6,12.7,13.7,14,69.3,59439]
[null,null,"Further Mathematics",{"$f":"ROUND(D49,1)","v":24.4},16.2,15.3,14.7,10.5,81.099999999999994,1435,{"$f":"ROUND(K49,1)","v":29.3},20.399999999999999,15.8,12.7,9.4,87.7,795,{"$f":"ROUND(R49,1)","v":26.1},17.7,15.5,14,10.1,83.5,2230]
[null,null,"Design and Technology",{"$f":"ROUND(D50,1)","v":8.3000000000000007},13.3,19.2,21.5,17.899999999999999,80.2,10960,{"$f":"ROUND(K50,1)","v":12.8},17,22.8,20.9,13.8,87.3,6304,{"$f":"ROUND(R50,1)","v":10},14.6,20.5,21.3,16.399999999999999,82.8,17264]
[null,null,"Computer Studies",{"$f":"ROUND(D51,1)","v":11.8},16.2,19.7,18.7,14.6,81,11354,{"$f":"ROUND(K51,1)","v":10.5},12.8,16.7,19,16.600000000000001,75.599999999999994,1965,{"$f":"ROUND(R51,1)","v":11.6},15.7,19.2,18.8,14.9,80.2,13319]
[null,null,"ICT",{"$f":"ROUND(D52,1)","v":4.8},10.7,19.100000000000001,22.8,19.3,76.7,15531,{"$f":"ROUND(K52,1)","v":4.8},11,18.2,22.1,19.399999999999999,75.5,9283,{"$f":"ROUND(R52,1)","v":4.8},10.9,18.8,22.5,19.399999999999999,76.3,24814]
[null,null,"Home Economics",{"$f":"ROUND(D53,1)","v":10.4},9.1,15.6,16.899999999999999,28.6,80.5,77,{"$f":"ROUND(K53,1)","v":15.8},18.399999999999999,19.8,20.7,14.1,88.8,803,{"$f":"ROUND(R53,1)","v":15.3},17.600000000000001,19.399999999999999,20.3,15.3,88.1,880]
[null,null,"Accounting and Finance",{"$f":"ROUND(D54,1)","v":10.1},11.8,15.7,16.600000000000001,13.9,68.099999999999994,2931,{"$f":"ROUND(K54,1)","v":10.1},12,16,17.399999999999999,15.4,70.900000000000006,1815,{"$f":"ROUND(R54,1)","v":10.1},11.9,15.8,16.899999999999999,14.5,69.2,4746]
[null,null,"Business Studies",{"$f":"ROUND(D55,1)","v":9.8000000000000007},16.600000000000001,22.7,21.6,15.2,86,21720,{"$f":"ROUND(K55,1)","v":11.3},17.100000000000001,22.5,20.7,14.1,85.7,16958,{"$f":"ROUND(R55,1)","v":10.4},16.8,22.6,21.2,14.7,85.8,38678]
[null,null,"Economics",{"$f":"ROUND(D56,1)","v":24},18.7,17.8,14.8,11.3,86.6,9606,{"$f":"ROUND(K56,1)","v":25.8},19.100000000000001,16.7,14.1,11,86.7,4246,{"$f":"ROUND(R56,1)","v":24.5},18.8,17.5,14.6,11.2,86.7,13852]
[null,null,"Geography",{"$f":"ROUND(D57,1)","v":15.2},18.600000000000001,21.7,19.399999999999999,13.9,88.8,18040,{"$f":"ROUND(K57,1)","v":23.3},20.8,20.9,15.9,10.4,91.2,14974,{"$f":"ROUND(R57,1)","v":18.899999999999999},19.600000000000001,21.3,17.8,12.3,89.9,33014]
[null,null,"Government and Politics",{"$f":"ROUND(D58,1)","v":18.7},19,22,17.3,11.4,88.3,4535,{"$f":"ROUND(K58,1)","v":21.4},20.9,19,16.100000000000001,10.5,87.8,3451,{"$f":"ROUND(R58,1)","v":19.8},19.8,20.7,16.8,11,88.1,7986]
[null,null,"History",{"$f":"ROUND(D59,1)","v":17.100000000000001},23.9,25,17.5,9.6,92.9,16882,{"$f":"ROUND(K59,1)","v":18.5},24.1,23.9,16.600000000000001,9.4,92.5,19491,{"$f":"ROUND(R59,1)","v":17.8},24,24.4,17,9.5,92.7,36373]
[null,null,"Law",{"$f":"ROUND(D60,1)","v":10.4},13.4,17.2,18,16.3,75.3,5398,{"$f":"ROUND(K60,1)","v":13.3},15.4,17.3,18.2,13.9,78.2,7806,{"$f":"ROUND(R60,1)","v":12.1},14.6,17.3,18.100000000000001,14.9,77,13204]
[null,null,"Psychology",{"$f":"ROUND(D61,1)","v":7.1},11.6,18.2,20.100000000000001,18.899999999999999,76,12474,{"$f":"ROUND(K61,1)","v":13.5},16.600000000000001,19.7,18.3,15.4,83.6,34686,{"$f":"ROUND(R61,1)","v":11.8},15.3,19.3,18.8,16.3,81.599999999999994,47160]
[null,null,"Sociology",{"$f":"ROUND(D62,1)","v":10.6},14.3,19.899999999999999,19.3,16.600000000000001,80.7,6852,{"$f":"ROUND(K62,1)","v":16.2},17.399999999999999,20,17.5,14,85.2,20621,{"$f":"ROUND(R62,1)","v":14.8},16.7,20,18,14.6,84.1,27473]
[null,null,"Other social studies",{"$f":"ROUND(D63,1)","v":11.9},13.1,18.8,19.100000000000001,12.6,75.5,1440,{"$f":"ROUND(K63,1)","v":13.2},14.6,18,17.2,15.1,78.099999999999994,1935,{"$f":"ROUND(R63,1)","v":12.7},14,18.3,18,14.1,77,3375]
[null,null,"Art and Design",{"$f":"ROUND(D64,1)","v":16.3},15.2,18.100000000000001,16.8,11.9,78.400000000000006,14686,{"$f":"ROUND(K64,1)","v":26.2},19.5,19.100000000000001,14,8.5,87.3,27609,{"$f":"ROUND(R64,1)","v":22.7},18,18.8,15,9.6999999999999993,84.2,42295]
[null,null,"Drama",{"$f":"ROUND(D65,1)","v":11.1},20.7,25.7,21.8,11.2,90.6,4161,{"$f":"ROUND(K65,1)","v":16.7},24.6,26.7,18.100000000000001,8.5,94.6,10218,{"$f":"ROUND(R65,1)","v":15.1},23.5,26.4,19.100000000000001,9.3000000000000007,93.5,14379]
[null,null,"English",{"$f":"ROUND(D66,1)","v":14.8},18.899999999999999,24.2,21.4,12.2,91.6,23998,{"$f":"ROUND(K66,1)","v":15.9},20.399999999999999,25.4,21.2,11.1,94,54035,{"$f":"ROUND(R66,1)","v":15.6},20,25,21.2,11.5,93.3,78033]
[null,null,"Media/Film/TV Studies",{"$f":"ROUND(D67,1)","v":10},21.7,27.2,20.399999999999999,11.3,90.7,9445,{"$f":"ROUND(K67,1)","v":13.7},25.8,28.5,17.8,7.7,93.5,12747,{"$f":"ROUND(R67,1)","v":12.1},24.1,28,18.899999999999999,9.1999999999999993,92.3,22192]
[null,null,"Other Communication Studies",{"$f":"ROUND(D68,1)","v":8.1},17.399999999999999,26.8,20.9,12.6,85.7,3177,{"$f":"ROUND(K68,1)","v":11.4},24.6,28.9,18.399999999999999,8.1999999999999993,91.5,6336,{"$f":"ROUND(R68,1)","v":10.3},22.2,28.2,19.2,9.6,89.6,9513]
[null,null,"French",{"$f":"ROUND(D69,1)","v":26.7},19.3,17.600000000000001,15.9,10.6,90,5282,{"$f":"ROUND(K69,1)","v":23.2},19.3,19.399999999999999,15.5,11.6,88.9,12589,{"$f":"ROUND(R69,1)","v":24.2},19.3,18.8,15.6,11.3,89.2,17871]
[null,null,"German",{"$f":"ROUND(D70,1)","v":23.6},17.5,18,17.399999999999999,12.3,88.8,2688,{"$f":"ROUND(K70,1)","v":22.9},18.2,20.2,17.2,12.2,90.7,5448,{"$f":"ROUND(R70,1)","v":23.1},18,19.5,17.2,12.3,90.1,8136]
[null,null,"Spanish",{"$f":"ROUND(D71,1)","v":26.6},23.9,18.399999999999999,13.2,9.4,91.4,1367,{"$f":"ROUND(K71,1)","v":23.5},20.399999999999999,19,15.1,10.9,88.9,3425,{"$f":"ROUND(R71,1)","v":24.4},21.4,18.8,14.5,10.5,89.6,4792]
[null,null,"Other modern languages",{"$f":"ROUND(D72,1)","v":40.1},22,12.6,9.3000000000000007,6.7,90.6,886,{"$f":"ROUND(K72,1)","v":37.5},22.4,15.3,10.5,7,92.8,1186,{"$f":"ROUND(R72,1)","v":38.6},22.2,14.2,10,6.9,91.9,2072]
[null,null,"Classical Studies",{"$f":"ROUND(D73,1)","v":30.4},19.8,19.600000000000001,15.1,9.3000000000000007,94.1,2024,{"$f":"ROUND(K73,1)","v":33},23.8,19.899999999999999,12.4,6.6,95.7,2808,{"$f":"ROUND(R73,1)","v":31.9},22.1,19.8,13.5,7.7,95.1,4832]
[null,null,"Religious Studies",{"$f":"ROUND(D74,1)","v":16},22.3,21.4,17,11.5,88.2,3007,{"$f":"ROUND(K74,1)","v":16.7},22.5,23.5,17.3,10.6,90.7,7612,{"$f":"ROUND(R74,1)","v":16.5},22.4,22.9,17.2,10.9,90,10619]
[null,null,"Music",{"$f":"ROUND(D75,1)","v":17.399999999999999},19.899999999999999,24.7,18.7,10.3,90.9,4008,{"$f":"ROUND(K75,1)","v":21},24.8,24.3,16.8,7.9,94.9,4268,{"$f":"ROUND(R75,1)","v":19.2},22.4,24.5,17.7,9.1,93,8276]
[null,null,"Physical Education",{"$f":"ROUND(D76,1)","v":6.5},11.7,20.9,25.5,19.600000000000001,84.2,12738,{"$f":"ROUND(K76,1)","v":16},17.600000000000001,21.5,20.3,13.4,88.8,8540,{"$f":"ROUND(R76,1)","v":10.3},14.1,21.1,23.4,17.2,86.1,21278]
[null,null,"General Studies",{"$f":"ROUND(D77,1)","v":10.9},13.8,18.100000000000001,18.7,17.3,78.7,27703,{"$f":"ROUND(K77,1)","v":11.4},14.4,19.399999999999999,19.8,16.8,81.8,30044,{"$f":"ROUND(R77,1)","v":11.1},14.1,18.8,19.3,17.100000000000001,80.3,57747]
[null,null,"All subjects",{"$f":"ROUND(D78,1)","v":14.3},15.9,19.3,18.399999999999999,14.3,82.2,357486,{"$f":"ROUND(K78,1)","v":17.3},18.600000000000001,20.8,17.600000000000001,12.4,86.8,414873,{"$f":"ROUND(R78,1)","v":15.9},17.399999999999999,20.100000000000001,18,13.3,84.7,772359]

{"sheet":"2002AS","index":21,"n_rows":116,"n_cols":24,"rows_kept":116,"cut":false,"hidden":true,"merged":[]}
[]
[]
[null,null,null,"Male",null,null,null,null,null,"Female",null,null,null,null,null,"Total"]
[null,null,null,"A","B","C","D (or A/GNVQ distinction)","E","other","A","B","C","D (or A/GNVQ distinction)","E","other","A","B","C","D (or A/GNVQ distinction)","E","other"]
[]
[null,null,"Biological Sciences",3050,3020,3429,3551,3207,4376,6215,5298,5481,5138,4553,5742,9265,8318,8910,8689,7760,10118]
[null,null,"Chemistry",3363,2976,3023,2898,2506,3043,4037,3342,3228,2855,2326,2461,7400,6318,6251,5753,4832,5504]
[null,null,"Physics",4565,3814,3920,3637,3145,4459,1996,1472,1376,1103,833,934,6561,5286,5296,4740,3978,5393]
[null,null,"Other Science",805,803,982,994,812,952,321,416,505,532,394,416,1126,1219,1487,1526,1206,1368]
[null,null,"Mathematics",6808,4389,4635,4714,4641,9212,5224,3322,3422,3166,2894,4806,12032,7711,8057,7880,7535,14018]
[null,null,"Further Mathematics",617,251,230,157,101,111,414,159,120,62,24,47,1031,410,350,219,125,158]
[null,null,"Design and Technology",1352,1932,2526,2463,1960,1819,1197,1476,1730,1357,883,687,2549,3408,4256,3820,2843,2506]
[null,null,"Computer Studies",1223,1536,1955,2082,1725,2650,186,244,299,338,309,452,1409,1780,2254,2420,2034,3102]
[null,null,"ICT",776,1834,3184,3767,3408,4614,546,1213,2009,2235,1932,2458,1322,3047,5193,6002,5340,7072]
[null,null,"Home Economics",2,11,17,20,24,13,137,104,129,161,101,75,139,115,146,181,125,88]
[null,null,"Accounting and Finance",289,384,458,522,467,997,209,251,293,318,324,573,498,635,751,840,791,1570]
[null,null,"Business Studies",2221,3597,5113,4955,3626,3422,2017,2777,3716,3325,2541,2282,4238,6374,8829,8280,6167,5704]
[null,null,"Economics",2470,1802,1697,1507,1176,1381,1241,853,749,651,471,598,3711,2655,2446,2158,1647,1979]
[null,null,"Geography",2795,3263,3675,3450,2672,2318,3729,3110,3162,2532,1787,1534,6524,6373,6837,5982,4459,3852]
[null,null,"Government and Politics",1121,1002,1078,936,676,608,975,793,804,636,452,495,2096,1795,1882,1572,1128,1103]
[null,null,"History",2946,3694,4195,3519,2190,1583,3884,4465,4789,3742,2346,1802,6830,8159,8984,7261,4536,3385]
[null,null,"Law",656,899,1057,1192,1185,1755,1344,1440,1673,1588,1296,2006,2000,2339,2730,2780,2481,3761]
[null,null,"Psychology",1217,1736,2642,2981,2639,3743,6146,6691,7514,6879,5470,6654,7363,8427,10156,9860,8109,10397]
[null,null,"Sociology",788,992,1355,1464,1297,1674,3604,3781,4064,3801,3133,3328,4392,4773,5419,5265,4430,5002]
[null,null,"Other social studies",285,318,406,457,353,552,433,416,466,477,446,531,718,734,872,934,799,1083]
[null,null,"Art and Design",2430,2375,3113,2983,2177,2657,7608,6551,6721,4944,2827,2658,10038,8926,9834,7927,5004,5315]
[null,null,"Drama",420,817,1207,992,587,421,1769,2665,3019,2083,1115,591,2189,3482,4226,3075,1702,1012]
[null,null,"English",3351,4332,5593,5428,3501,2193,8407,11175,13947,12116,6896,3794,11758,15507,19540,17544,10397,5987]
[null,null,"Media/Film/Television Studies",877,1951,2857,2467,1421,952,1695,3320,3803,2719,1327,874,2572,5271,6660,5186,2748,1826]
[null,null,"Other Communication Studies",441,1034,1273,896,422,416,962,1924,2270,1315,517,449,1403,2958,3543,2211,939,865]
[null,null,"French",1309,995,1019,880,653,635,2536,2305,2383,2005,1606,1622,3845,3300,3402,2885,2259,2257]
[null,null,"German",570,507,561,480,319,313,1119,1018,1137,966,682,541,1689,1525,1698,1446,1001,854]
[null,null,"Spanish",372,328,306,235,162,169,792,763,745,600,458,453,1164,1091,1051,835,620,622]
[null,null,"Other modern languages",474,239,124,80,61,102,688,353,207,134,86,104,1162,592,331,214,147,206]
[null,null,"Classical Studies",681,435,470,391,245,139,1098,832,662,442,235,142,1779,1267,1132,833,480,281]
[null,null,"Religious Studies",643,692,777,595,458,406,1687,1938,1943,1480,925,772,2330,2630,2720,2075,1383,1178]
[null,null,"Music",776,810,1077,964,689,598,983,1027,1018,776,476,273,1759,1837,2095,1740,1165,871]
[null,null,"Physical Education",1049,1994,2900,3232,2642,2139,1645,1760,1996,1755,1160,989,2694,3754,4896,4987,3802,3128]
[null,null,"General Studies",3613,4511,6181,6822,6449,9431,4824,5917,7430,7677,6824,8969,8437,10428,13611,14499,13273,18400]
[null,null,"subtotal",54355,59273,73035,71711,57596,69853,79668,83171,92810,79908,57649,60112,134023,142444,165845,151619,115245,129965]
[]
[null,null,null,"Grade",null,null,null,null,null,null,"Grade",null,null,null,null,null,null,"Grade"]
[null,null,null,"A","B","C","D","E","A-E","Entries","A","B","C","D","E","A-E","Entries","A","B","C","D","E","A-E","Entries"]
[null,null,"Biological Sciences",14.8,14.6,16.600000000000001,17.2,15.5,78.8,20633,19.2,16.3,16.899999999999999,15.8,14,82.3,32427,17.5,15.7,16.8,16.399999999999999,14.6,80.900000000000006,53060]
[null,null,"Chemistry",18.899999999999999,16.7,17,16.3,14.1,82.9,17809,22.1,18.3,17.7,15.6,12.7,86.5,18249,20.5,17.5,17.3,16,13.4,84.7,36058]
[null,null,"Physics",19.399999999999999,16.2,16.7,15.5,13.4,81.099999999999994,23540,25.9,19.100000000000001,17.8,14.3,10.8,87.9,7714,21,16.899999999999999,16.899999999999999,15.2,12.7,82.7,31254]
[null,null,"Other Science",15.1,15,18.399999999999999,18.600000000000001,15.2,82.2,5348,12.4,16.100000000000001,19.5,20.6,15.2,83.9,2584,14.2,15.4,18.7,19.2,15.2,82.8,7932]
[null,null,"Mathematics",19.8,12.8,13.5,13.7,13.5,73.2,34399,22.9,14.5,15,13.9,12.7,79,22834,21,13.5,14.1,13.8,13.2,75.5,57233]
[null,null,"Further Mathematics",42.1,17.100000000000001,15.7,10.7,6.9,92.4,1467,50.1,19.2,14.5,7.5,2.9,94.3,826,45,17.899999999999999,15.3,9.6,5.5,93.1,2293]
[null,null,"Design and Technology",11.2,16,21,20.399999999999999,16.3,84.9,12052,16.3,20.100000000000001,23.6,18.5,12,90.6,7330,13.2,17.600000000000001,22,19.7,14.7,87.1,19382]
[null,null,"Computer Studies",10.9,13.7,17.5,18.600000000000001,15.4,76.3,11171,10.199999999999999,13.3,16.399999999999999,18.5,16.899999999999999,75.3,1828,10.8,13.7,17.3,18.600000000000001,15.6,76.099999999999994,12999]
[null,null,"ICT",4.4000000000000004,10.4,18.100000000000001,21.4,19.399999999999999,73.8,17583,5.3,11.7,19.3,21.5,18.600000000000001,76.3,10393,4.7,10.9,18.600000000000001,21.5,19.100000000000001,74.7,27976]
[null,null,"Home Economics","x",12.6,19.5,23,27.6,85.1,87,19.399999999999999,14.7,18.2,22.8,14.3,89.4,707,17.5,14.5,18.399999999999999,22.8,15.7,88.9,794]
[null,null,"Accounting and Finance",9.3000000000000007,12.3,14.7,16.7,15,68,3117,10.6,12.8,14.9,16.2,16.5,70.900000000000006,1968,9.8000000000000007,12.5,14.8,16.5,15.6,69.099999999999994,5085]
[null,null,"Business Studies",9.6999999999999993,15.7,22.3,21.6,15.8,85.1,22934,12.1,16.7,22.3,20,15.3,86.3,16658,10.7,16.100000000000001,22.3,20.9,15.6,85.6,39592]
[null,null,"Economics",24.6,18,16.899999999999999,15,11.7,86.2,10033,27.2,18.7,16.399999999999999,14.3,10.3,86.9,4563,25.4,18.2,16.8,14.8,11.3,86.4,14596]
[null,null,"Geography",15.4,18,20.2,19,14.7,87.2,18173,23.5,19.600000000000001,19.899999999999999,16,11.3,90.3,15854,19.2,18.7,20.100000000000001,17.600000000000001,13.1,88.7,34027]
[null,null,"Government and Politics",20.7,18.5,19.899999999999999,17.3,12.5,88.8,5421,23.5,19.100000000000001,19.399999999999999,15.3,10.9,88.1,4155,21.9,18.7,19.7,16.399999999999999,11.8,88.5,9576]
[null,null,"History",16.3,20.399999999999999,23.1,19.399999999999999,12.1,91.3,18127,18.5,21.2,22.8,17.8,11.2,91.4,21028,17.399999999999999,20.8,22.9,18.5,11.6,91.4,39155]
[null,null,"Law",9.6999999999999993,13.3,15.7,17.7,17.600000000000001,74,6744,14.4,15.4,17.899999999999999,17,13.9,78.5,9347,12.4,14.5,17,17.3,15.4,76.599999999999994,16091]
[null,null,"Psychology",8.1,11.6,17.7,19.899999999999999,17.600000000000001,75,14958,15.6,17,19.100000000000001,17.5,13.9,83.1,39354,13.6,15.5,18.7,18.2,14.9,80.900000000000006,54312]
[null,null,"Sociology",10.4,13.1,17.899999999999999,19.3,17.100000000000001,77.900000000000006,7570,16.600000000000001,17.399999999999999,18.7,17.5,14.4,84.7,21711,15,16.3,18.5,18,15.1,82.9,29281]
[null,null,"Other social studies",12,13.4,17.100000000000001,19.3,14.9,76.7,2371,15.6,15,16.8,17.2,16.100000000000001,80.8,2769,14,14.3,17,18.2,15.5,78.900000000000006,5140]
[null,null,"Art and Design",15.4,15.1,19.8,19,13.8,83.1,15735,24.3,20.9,21.5,15.8,9,91.5,31309,21.3,19,20.9,16.899999999999999,10.6,88.7,47044]
[null,null,"Drama",9.5,18.399999999999999,27.2,22.3,13.2,90.5,4444,15.7,23.7,26.9,18.5,9.9,94.7,11242,14,22.2,26.9,19.600000000000001,10.9,93.5,15686]
[null,null,"English",13.7,17.8,22.9,22.2,14.3,91,24398,14.9,19.8,24.8,21.5,12.2,93.3,56335,14.6,19.2,24.2,21.7,12.9,92.6,80733]
[null,null,"Media/Film/TV Studies",8.3000000000000007,18.5,27.1,23.4,13.5,91,10525,12.3,24.2,27.7,19.8,9.6999999999999993,93.6,13738,10.6,21.7,27.4,21.4,11.3,92.5,24263]
[null,null,"Other Communication Studies",9.8000000000000007,23.1,28.4,20,9.4,90.7,4482,12.9,25.9,30.5,17.7,7,94,7437,11.8,24.8,29.7,18.600000000000001,7.9,92.7,11919]
[null,null,"French",23.8,18.100000000000001,18.600000000000001,16,11.9,88.4,5491,20.399999999999999,18.5,19.100000000000001,16.100000000000001,12.9,87,12457,21.4,18.399999999999999,19,16.100000000000001,12.6,87.4,17948]
[null,null,"German",20.7,18.399999999999999,20.399999999999999,17.5,11.6,88.6,2750,20.5,18.600000000000001,20.8,17.7,12.5,90.1,5463,20.6,18.600000000000001,20.7,17.600000000000001,12.2,89.6,8213]
[null,null,"Spanish",23.7,20.9,19.5,14.9,10.3,89.2,1572,20.8,20,19.5,15.7,12,88.1,3811,21.6,20.3,19.5,15.5,11.5,88.4,5383]
[null,null,"Other modern languages",43.9,22.1,11.5,7.4,5.6,90.6,1080,43.8,22.5,13.2,8.5,5.5,93.4,1572,43.8,22.3,12.5,8.1,5.5,92.2,2652]
[null,null,"Classical Studies",28.8,18.399999999999999,19.899999999999999,16.600000000000001,10.4,94.1,2361,32.200000000000003,24.4,19.399999999999999,13,6.9,95.8,3411,30.8,22,19.600000000000001,14.4,8.3000000000000007,95.1,5772]
[null,null,"Religious Studies",18,19.399999999999999,21.8,16.7,12.8,88.6,3571,19.3,22.2,22.2,16.899999999999999,10.6,91.2,8745,18.899999999999999,21.4,22.1,16.8,11.2,90.4,12316]
[null,null,"Music",15.8,16.5,21.9,19.600000000000001,14,87.8,4914,21.6,22.6,22.4,17,10.5,94,4553,18.600000000000001,19.399999999999999,22.1,18.399999999999999,12.3,90.8,9467]
[null,null,"Physical Education",7.5,14.3,20.8,23.2,18.899999999999999,84.7,13956,17.7,18.899999999999999,21.5,18.899999999999999,12.5,89.4,9305,11.6,16.100000000000001,21,21.4,16.3,86.6,23261]
[null,null,"General Studies",9.8000000000000007,12.2,16.7,18.399999999999999,17.399999999999999,74.5,37007,11.6,14.2,17.8,18.399999999999999,16.399999999999999,78.5,41641,10.7,13.3,17.3,18.399999999999999,16.899999999999999,76.599999999999994,78648]
[null,null,"All subjects",14.1,15.4,18.899999999999999,18.600000000000001,14.9,81.900000000000006,385823,17.600000000000001,18.3,20.5,17.600000000000001,12.7,86.7,453318,16,17,19.8,18.100000000000001,13.7,84.5,839141]
[]
[null,null,null,"Grade",null,null,null,null,null,null,"Grade",null,null,null,null,null,null,"Grade"]
[null,null,null,"A","B","C","D","E","A-E","Entries","A","B","C","D","E","A-E","Entries","A","B","C","D","E","A-E","Entries"]
[null,null,"Biological Sciences",{"$f":"ROUND(D44,1)","v":14.8},{"$f":"ROUND(E44,1)","v":14.6},16.600000000000001,17.2,15.5,78.8,{"$f":"ROUND(J44,0)","v":20633},19.2,16.3,16.899999999999999,15.8,14,82.3,{"$f":"ROUND(Q44,0)","v":32427},17.5,15.7,16.8,16.399999999999999,14.6,80.900000000000006,{"$f":"ROUND(X44,0)","v":53060}]
[null,null,"Chemistry",{"$f":"ROUND(D45,1)","v":18.899999999999999},16.7,17,16.3,14.1,82.9,{"$f":"ROUND(J45,0)","v":17809},22.1,18.3,17.7,15.6,12.7,86.5,{"$f":"ROUND(Q45,0)","v":18249},20.5,17.5,17.3,16,13.4,84.7,{"$f":"ROUND(X45,0)","v":36058}]
[null,null,"Physics",{"$f":"ROUND(D46,1)","v":19.399999999999999},16.2,16.7,15.5,13.4,81.099999999999994,23540,25.9,19.100000000000001,17.8,14.3,10.8,87.9,7714,21,16.899999999999999,16.899999999999999,15.2,12.7,82.7,31254]
[null,null,"Other Science",{"$f":"ROUND(D47,1)","v":15.1},15,18.399999999999999,18.600000000000001,15.2,82.2,5348,12.4,16.100000000000001,19.5,20.6,15.2,83.9,2584,14.2,15.4,18.7,19.2,15.2,82.8,7932]
[null,null,"Mathematics",{"$f":"ROUND(D48,1)","v":19.8},12.8,13.5,13.7,13.5,73.2,34399,22.9,14.5,15,13.9,12.7,79,22834,21,13.5,14.1,13.8,13.2,75.5,57233]
[null,null,"Further Mathematics",{"$f":"ROUND(D49,1)","v":42.1},17.100000000000001,15.7,10.7,6.9,92.4,1467,50.1,19.2,14.5,7.5,2.9,94.3,826,45,17.899999999999999,15.3,9.6,5.5,93.1,2293]
[null,null,"Design and Technology",{"$f":"ROUND(D50,1)","v":11.2},16,21,20.399999999999999,16.3,84.9,12052,16.3,20.100000000000001,23.6,18.5,12,90.6,7330,13.2,17.600000000000001,22,19.7,14.7,87.1,19382]
[null,null,"Computer Studies",{"$f":"ROUND(D51,1)","v":10.9},13.7,17.5,18.600000000000001,15.4,76.3,11171,10.199999999999999,13.3,16.399999999999999,18.5,16.899999999999999,75.3,1828,10.8,13.7,17.3,18.600000000000001,15.6,76.099999999999994,12999]
[null,null,"ICT",{"$f":"ROUND(D52,1)","v":4.4000000000000004},10.4,18.100000000000001,21.4,19.399999999999999,73.8,17583,5.3,11.7,19.3,21.5,18.600000000000001,76.3,10393,4.7,10.9,18.600000000000001,21.5,19.100000000000001,74.7,27976]
[null,null,"Home Economics",{"$f":"ROUND(D53,1)","v":{"$error":"#VALUE!"}},12.6,19.5,23,27.6,85.1,87,19.399999999999999,14.7,18.2,22.8,14.3,89.4,707,17.5,14.5,18.399999999999999,22.8,15.7,88.9,794]
[null,null,"Accounting and Finance",{"$f":"ROUND(D54,1)","v":9.3000000000000007},12.3,14.7,16.7,15,68,3117,10.6,12.8,14.9,16.2,16.5,70.900000000000006,1968,9.8000000000000007,12.5,14.8,16.5,15.6,69.099999999999994,5085]
[null,null,"Business Studies",{"$f":"ROUND(D55,1)","v":9.6999999999999993},15.7,22.3,21.6,15.8,85.1,22934,12.1,16.7,22.3,20,15.3,86.3,16658,10.7,16.100000000000001,22.3,20.9,15.6,85.6,39592]
[null,null,"Economics",{"$f":"ROUND(D56,1)","v":24.6},18,16.899999999999999,15,11.7,86.2,10033,27.2,18.7,16.399999999999999,14.3,10.3,86.9,4563,25.4,18.2,16.8,14.8,11.3,86.4,14596]
[null,null,"Geography",{"$f":"ROUND(D57,1)","v":15.4},18,20.2,19,14.7,87.2,18173,23.5,19.600000000000001,19.899999999999999,16,11.3,90.3,15854,19.2,18.7,20.100000000000001,17.600000000000001,13.1,88.7,34027]
[null,null,"Government and Politics",{"$f":"ROUND(D58,1)","v":20.7},18.5,19.899999999999999,17.3,12.5,88.8,5421,23.5,19.100000000000001,19.399999999999999,15.3,10.9,88.1,4155,21.9,18.7,19.7,16.399999999999999,11.8,88.5,9576]
[null,null,"History",{"$f":"ROUND(D59,1)","v":16.3},20.399999999999999,23.1,19.399999999999999,12.1,91.3,18127,18.5,21.2,22.8,17.8,11.2,91.4,21028,17.399999999999999,20.8,22.9,18.5,11.6,91.4,39155]
[null,null,"Law",{"$f":"ROUND(D60,1)","v":9.6999999999999993},13.3,15.7,17.7,17.600000000000001,74,6744,14.4,15.4,17.899999999999999,17,13.9,78.5,9347,12.4,14.5,17,17.3,15.4,76.599999999999994,16091]
[null,null,"Psychology",{"$f":"ROUND(D61,1)","v":8.1},11.6,17.7,19.899999999999999,17.600000000000001,75,14958,15.6,17,19.100000000000001,17.5,13.9,83.1,39354,13.6,15.5,18.7,18.2,14.9,80.900000000000006,54312]
[null,null,"Sociology",{"$f":"ROUND(D62,1)","v":10.4},13.1,17.899999999999999,19.3,17.100000000000001,77.900000000000006,7570,16.600000000000001,17.399999999999999,18.7,17.5,14.4,84.7,21711,15,16.3,18.5,18,15.1,82.9,29281]
[null,null,"Other social studies",{"$f":"ROUND(D63,1)","v":12},13.4,17.100000000000001,19.3,14.9,76.7,2371,15.6,15,16.8,17.2,16.100000000000001,80.8,2769,14,14.3,17,18.2,15.5,78.900000000000006,5140]
[null,null,"Art and Design",{"$f":"ROUND(D64,1)","v":15.4},15.1,19.8,19,13.8,83.1,15735,24.3,20.9,21.5,15.8,9,91.5,31309,21.3,19,20.9,16.899999999999999,10.6,88.7,47044]
[null,null,"Drama",{"$f":"ROUND(D65,1)","v":9.5},18.399999999999999,27.2,22.3,13.2,90.5,4444,15.7,23.7,26.9,18.5,9.9,94.7,11242,14,22.2,26.9,19.600000000000001,10.9,93.5,15686]
[null,null,"English",{"$f":"ROUND(D66,1)","v":13.7},17.8,22.9,22.2,14.3,91,24398,14.9,19.8,24.8,21.5,12.2,93.3,56335,14.6,19.2,24.2,21.7,12.9,92.6,80733]
[null,null,"Media/Film/TV Studies",{"$f":"ROUND(D67,1)","v":8.3000000000000007},18.5,27.1,23.4,13.5,91,10525,12.3,24.2,27.7,19.8,9.6999999999999993,93.6,13738,10.6,21.7,27.4,21.4,11.3,92.5,24263]
[null,null,"Other Communication Studies",{"$f":"ROUND(D68,1)","v":9.8000000000000007},23.1,28.4,20,9.4,90.7,4482,12.9,25.9,30.5,17.7,7,94,7437,11.8,24.8,29.7,18.600000000000001,7.9,92.7,11919]
[null,null,"French",{"$f":"ROUND(D69,1)","v":23.8},18.100000000000001,18.600000000000001,16,11.9,88.4,5491,20.399999999999999,18.5,19.100000000000001,16.100000000000001,12.9,87,12457,21.4,18.399999999999999,19,16.100000000000001,12.6,87.4,17948]
[null,null,"German",{"$f":"ROUND(D70,1)","v":20.7},18.399999999999999,20.399999999999999,17.5,11.6,88.6,2750,20.5,18.600000000000001,20.8,17.7,12.5,90.1,5463,20.6,18.600000000000001,20.7,17.600000000000001,12.2,89.6,8213]
[null,null,"Spanish",{"$f":"ROUND(D71,1)","v":23.7},20.9,19.5,14.9,10.3,89.2,1572,20.8,20,19.5,15.7,12,88.1,3811,21.6,20.3,19.5,15.5,11.5,88.4,5383]
[null,null,"Other modern languages",{"$f":"ROUND(D72,1)","v":43.9},22.1,11.5,7.4,5.6,90.6,1080,43.8,22.5,13.2,8.5,5.5,93.4,1572,43.8,22.3,12.5,8.1,5.5,92.2,2652]
[null,null,"Classical Studies",{"$f":"ROUND(D73,1)","v":28.8},18.399999999999999,19.899999999999999,16.600000000000001,10.4,94.1,2361,32.200000000000003,24.4,19.399999999999999,13,6.9,95.8,3411,30.8,22,19.600000000000001,14.4,8.3000000000000007,95.1,5772]
[null,null,"Religious Studies",{"$f":"ROUND(D74,1)","v":18},19.399999999999999,21.8,16.7,12.8,88.6,3571,19.3,22.2,22.2,16.899999999999999,10.6,91.2,8745,18.899999999999999,21.4,22.1,16.8,11.2,90.4,12316]
[null,null,"Music",{"$f":"ROUND(D75,1)","v":15.8},16.5,21.9,19.600000000000001,14,87.8,4914,21.6,22.6,22.4,17,10.5,94,4553,18.600000000000001,19.399999999999999,22.1,18.399999999999999,12.3,90.8,9467]
[null,null,"Physical Education",{"$f":"ROUND(D76,1)","v":7.5},14.3,20.8,23.2,18.899999999999999,84.7,13956,17.7,18.899999999999999,21.5,18.899999999999999,12.5,89.4,9305,11.6,16.100000000000001,21,21.4,16.3,86.6,23261]
[null,null,"General Studies",{"$f":"ROUND(D77,1)","v":9.8000000000000007},12.2,16.7,18.399999999999999,17.399999999999999,74.5,37007,11.6,14.2,17.8,18.399999999999999,16.399999999999999,78.5,41641,10.7,13.3,17.3,18.399999999999999,16.899999999999999,76.599999999999994,78648]
[null,null,"All subjects",{"$f":"ROUND(D78,1)","v":14.1},15.4,18.899999999999999,18.600000000000001,14.9,81.900000000000006,385823,17.600000000000001,18.3,20.5,17.600000000000001,12.7,86.7,453318,16,17,19.8,18.100000000000001,13.7,84.5,839141]

{"sheet":"2003AS","index":22,"n_rows":114,"n_cols":70,"rows_kept":114,"cut":false,"hidden":true,"merged":[]}
[]
[]
[null,null,null,"Male",null,null,null,null,null,"Female",null,null,null,null,null,"Total"]
[null,null,null,"A","B","C","D","E","other","A","B","C","D","E","other","A","B","C","D","E","other"]
[]
[null,null,"Biological Sciences",2987,3048,3465,3740,3788,4993,5539,5167,5511,5536,5297,6364,8526,8215,8976,9276,9085,11357]
[null,null,"Chemistry",3458,3077,3191,3126,2698,3276,3903,3434,3337,3119,2526,2767,7361,6511,6528,6245,5224,6043]
[null,null,"Physics",4295,3574,3744,3570,3397,4527,1828,1342,1275,1068,899,879,6123,4916,5019,4638,4296,5406]
[null,null,"Other Science",757,755,969,971,797,896,279,386,479,437,329,425,1036,1141,1448,1408,1126,1321]
[null,null,"Mathematics",6835,4477,4722,4525,4626,9014,5073,3582,3584,3183,2784,4594,11908,8059,8306,7708,7410,13608]
[null,null,"Further Mathematics",525,287,256,199,107,111,372,152,103,64,34,44,897,439,359,263,141,155]
[null,null,"Design and Technology",1191,1799,2421,2430,1987,1942,1168,1403,1602,1403,917,707,2359,3202,4023,3833,2904,2649]
[null,null,"Computer Studies",1132,1330,1690,1909,1749,2458,153,162,217,235,273,362,1285,1492,1907,2144,2022,2820]
[null,null,"ICT",607,1405,2786,3625,3702,4331,432,963,1747,2235,2059,2157,1039,2368,4533,5860,5761,6488]
[null,null,"Home Economics",1,8,13,14,20,27,109,121,136,118,79,53,110,129,149,132,99,80]
[null,null,"Accounting and Finance",235,393,571,636,620,1339,210,260,365,378,403,748,445,653,936,1014,1023,2087]
[null,null,"Business Studies",2338,3550,4799,5078,4040,3517,2148,2670,3439,3512,2822,2471,4486,6220,8238,8590,6862,5988]
[null,null,"Economics",2410,1886,1809,1574,1342,1638,1068,900,844,662,543,654,3478,2786,2653,2236,1885,2292]
[null,null,"Geography",2886,3092,3596,3441,2660,2233,3601,2945,2883,2435,1689,1377,6487,6037,6479,5876,4349,3610]
[null,null,"Government and Politics",1070,1064,1104,957,708,676,945,824,779,637,475,528,2015,1888,1883,1594,1183,1204]
[null,null,"History",2865,3906,4601,3955,2467,1713,3980,4775,4905,3794,2385,1801,6845,8681,9506,7749,4852,3514]
[null,null,"Law",758,1060,1483,1478,1268,1857,1469,1754,2074,1963,1593,2193,2227,2814,3557,3441,2861,4050]
[null,null,"Psychology",1375,2208,3201,3427,3280,4746,6741,7549,8403,7662,6353,7273,8116,9757,11604,11089,9633,12019]
[null,null,"Sociology",902,1246,1503,1530,1338,1677,4060,4204,4375,4033,3293,3395,4962,5450,5878,5563,4631,5072]
[null,null,"Other social studies",321,364,524,505,378,678,452,493,631,573,468,644,773,857,1155,1078,846,1322]
[null,null,"Art and Design",2334,2501,3194,3058,2382,3015,7002,6475,6767,5205,3149,3052,9336,8976,9961,8263,5531,6067]
[null,null,"Drama",467,852,1238,1054,666,416,1530,2781,3223,2197,1071,512,1997,3633,4461,3251,1737,928]
[null,null,"English",3335,4262,5805,5860,3756,2084,7988,10899,14390,13139,7474,3473,11323,15161,20195,18999,11230,5557]
[null,null,"Media/Film/Television Studies",1062,2277,3209,2697,1529,1032,1999,3597,4090,2933,1440,900,3061,5874,7299,5630,2969,1932]
[null,null,"Other Communication Studies",546,1188,1477,983,460,448,1031,2118,2290,1451,530,436,1577,3306,3767,2434,990,884]
[null,null,"French",1150,955,972,811,648,593,2478,2126,2250,1994,1587,1371,3628,3081,3222,2805,2235,1964]
[null,null,"German",512,432,506,407,366,282,1020,920,1038,884,646,537,1532,1352,1544,1291,1012,819]
[null,null,"Spanish",347,315,276,227,189,178,740,794,750,655,533,500,1087,1109,1026,882,722,678]
[null,null,"Other modern languages",521,300,123,90,63,114,700,350,247,147,92,142,1221,650,370,237,155,256]
[null,null,"Classical Studies",600,485,438,369,226,146,994,733,620,455,235,167,1594,1218,1058,824,461,313]
[null,null,"Religious Studies",743,807,875,723,509,515,1919,2138,2228,1558,960,826,2662,2945,3103,2281,1469,1341]
[null,null,"Music",782,906,1163,1178,772,707,957,936,1024,872,507,368,1739,1842,2187,2050,1279,1075]
[null,null,"Physical Education",970,1858,2904,3306,2940,2224,1699,1806,2001,1832,1440,1139,2669,3664,4905,5138,4380,3363]
[null,null,"General Studies",4036,5598,7557,8252,8187,11196,5207,6745,9127,9499,8879,10563,9243,12343,16684,17751,17066,21759]
[null,null,"subtotal",54353,61265,76185,75705,63665,74599,78794,85504,96734,85868,63764,63422,133147,146769,172919,161573,127429,138021]
[]
[null,null,null,"Grade",null,null,null,null,null,null,"Grade",null,null,null,null,null,null,"Grade"]
[null,null,null,"A","B","C","D","E","A-E","Entries","A","B","C","D","E","A-E","Entries","A","B","C","D","E","A-E","Entries"]
[null,null,"Biological Sciences",13.6,13.8,15.7,17,17.2,77.3,22021,16.600000000000001,15.5,16.5,16.600000000000001,15.9,81,33414,15.4,14.8,16.2,16.7,16.399999999999999,79.5,55435]
[null,null,"Chemistry",18.399999999999999,16.3,16.899999999999999,16.600000000000001,14.3,82.6,18826,20.399999999999999,18,17.5,16.3,13.2,85.5,19086,19.399999999999999,17.2,17.2,16.5,13.8,84.1,37912]
[null,null,"Physics",18.600000000000001,15.5,16.2,15.4,14.7,80.400000000000006,23107,25.1,18.399999999999999,17.5,14.6,12.3,87.9,7291,20.100000000000001,16.2,16.5,15.3,14.1,82.2,30398]
[null,null,"Other Science",14.7,14.7,18.8,18.899999999999999,15.5,82.6,5145,11.9,16.5,20.5,18.7,14.1,81.8,2335,13.9,15.3,19.399999999999999,18.8,15.1,82.3,7480]
[null,null,"Mathematics",20,13.1,13.8,13.2,13.5,73.599999999999994,34199,22.3,15.7,15.7,14,12.2,79.900000000000006,22800,20.9,14.1,14.6,13.5,13,76.099999999999994,56999]
[null,null,"Further Mathematics",35.4,19.3,17.2,13.4,7.2,92.5,1485,48.4,19.8,13.4,8.3000000000000007,4.4000000000000004,94.3,769,39.799999999999997,19.5,15.9,11.7,6.3,93.1,2254]
[null,null,"Design and Technology",10.1,15.3,20.6,20.6,16.899999999999999,83.5,11770,16.2,19.5,22.3,19.5,12.7,90.2,7200,12.4,16.899999999999999,21.2,20.2,15.3,86,18970]
[null,null,"Computer Studies",11,13,16.5,18.600000000000001,17,76.099999999999994,10268,10.9,11.6,15.5,16.8,19.5,74.2,1402,11,12.8,16.3,18.399999999999999,17.3,75.8,11670]
[null,null,"ICT",3.7,8.5,16.899999999999999,22,22.5,73.7,16456,4.5,10,18.2,23.3,21.5,77.5,9593,4,9.1,17.399999999999999,22.5,22.1,75.099999999999994,26049]
[null,null,"Home Economics","x",9.6,15.7,16.899999999999999,24.1,67.5,83,17.7,19.600000000000001,22.1,19.2,12.8,91.4,616,15.7,18.5,21.3,18.899999999999999,14.2,88.6,699]
[null,null,"Accounting and Finance",6.2,10.4,15.1,16.8,16.3,64.7,3794,8.9,11,15.4,16,17,68.400000000000006,2364,7.2,10.6,15.2,16.5,16.600000000000001,66.099999999999994,6158]
[null,null,"Business Studies",10,15.2,20.6,21.8,17.3,84.9,23322,12.6,15.6,20.2,20.6,16.5,85.5,17062,11.1,15.4,20.399999999999999,21.3,17,85.2,40384]
[null,null,"Economics",22.6,17.7,17,14.8,12.6,84.6,10659,22.9,19.3,18.100000000000001,14.2,11.6,86,4671,22.7,18.2,17.3,14.6,12.3,85,15330]
[null,null,"Geography",16.100000000000001,17.3,20.100000000000001,19.2,14.9,87.5,17908,24.1,19.7,19.3,16.3,11.3,90.8,14930,19.8,18.399999999999999,19.7,17.899999999999999,13.2,89,32838]
[null,null,"Government and Politics",19.2,19.100000000000001,19.8,17.2,12.7,87.9,5579,22.6,19.7,18.600000000000001,15.2,11.3,87.4,4188,20.6,19.3,19.3,16.3,12.1,87.7,9767]
[null,null,"History",14.7,20,23.6,20.3,12.6,91.2,19507,18.399999999999999,22.1,22.7,17.5,11,91.7,21640,16.600000000000001,21.1,23.1,18.8,11.8,91.5,41147]
[null,null,"Law",9.6,13.4,18.8,18.7,16,76.5,7904,13.3,15.9,18.8,17.8,14.4,80.099999999999994,11046,11.8,14.8,18.8,18.2,15.1,78.599999999999994,18950]
[null,null,"Psychology",7.5,12.1,17.600000000000001,18.8,18,74,18237,15.3,17.2,19.100000000000001,17.399999999999999,14.4,83.5,43981,13,15.7,18.7,17.8,15.5,80.7,62218]
[null,null,"Sociology",11,15.2,18.3,18.7,16.3,79.5,8196,17.399999999999999,18,18.7,17.3,14.1,85.5,23360,15.7,17.3,18.600000000000001,17.600000000000001,14.7,83.9,31556]
[null,null,"Other social studies",11.6,13.1,18.899999999999999,18.2,13.6,75.5,2770,13.9,15.1,19.3,17.600000000000001,14.4,80.3,3261,12.8,14.2,19.2,17.899999999999999,14,78.099999999999994,6031]
[null,null,"Art and Design",14.2,15.2,19.399999999999999,18.600000000000001,14.5,81.7,16484,22.1,20.5,21.4,16.399999999999999,9.9,90.4,31650,19.399999999999999,18.600000000000001,20.7,17.2,11.5,87.4,48134]
[null,null,"Drama",10,18.2,26.4,22.5,14.2,91.1,4693,13.5,24.6,28.5,19.399999999999999,9.5,95.5,11314,12.5,22.7,27.9,20.3,10.9,94.2,16007]
[null,null,"English",13.3,17,23.1,23.3,15,91.7,25102,13.9,19,25.1,22.9,13,93.9,57363,13.7,18.399999999999999,24.5,23,13.6,93.3,82465]
[null,null,"Media/Film/TV Studies",9,19.3,27.2,22.8,13,91.3,11806,13.4,24,27.3,19.600000000000001,9.6,94,14959,11.4,21.9,27.3,21,11.1,92.8,26765]
[null,null,"Other Communication Studies",10.7,23.3,28.9,19.3,9,91.2,5102,13.1,27,29.1,18.5,6.7,94.5,7856,12.2,25.5,29.1,18.8,7.6,93.2,12958]
[null,null,"French",22.4,18.600000000000001,19,15.8,12.6,88.4,5129,21,18,19.100000000000001,16.899999999999999,13.4,88.4,11806,21.4,18.2,19,16.600000000000001,13.2,88.4,16935]
[null,null,"German",20.399999999999999,17.2,20.2,16.2,14.6,88.7,2505,20.2,18.2,20.6,17.5,12.8,89.4,5045,20.3,17.899999999999999,20.5,17.100000000000001,13.4,89.2,7550]
[null,null,"Spanish",22.7,20.6,18,14.8,12.3,88.4,1532,18.600000000000001,20,18.899999999999999,16.5,13.4,87.4,3972,19.7,20.100000000000001,18.600000000000001,16,13.1,87.7,5504]
[null,null,"Other modern languages",43,24.8,10.199999999999999,7.4,5.2,90.6,1211,41.7,20.9,14.7,8.8000000000000007,5.5,91.5,1678,42.3,22.5,12.8,8.1999999999999993,5.4,91.1,2889]
[null,null,"Classical Studies",26.5,21.4,19.3,16.3,10,93.6,2264,31,22.9,19.399999999999999,14.2,7.3,94.8,3204,29.2,22.3,19.3,15.1,8.4,94.3,5468]
[null,null,"Religious Studies",17.8,19.3,21,17.3,12.2,87.7,4172,19.899999999999999,22.2,23.1,16.2,10,91.4,9629,19.3,21.3,22.5,16.5,10.6,90.3,13801]
[null,null,"Music",14.2,16.399999999999999,21.1,21.4,14,87.2,5508,20.5,20.100000000000001,22,18.7,10.9,92.1,4664,17.100000000000001,18.100000000000001,21.5,20.2,12.6,89.4,10172]
[null,null,"Physical Education",6.8,13.1,20.399999999999999,23.3,20.7,84.3,14202,17.100000000000001,18.2,20.2,18.5,14.5,88.5,9917,11.1,15.2,20.3,21.3,18.2,86.1,24119]
[null,null,"General Studies",9,12.5,16.899999999999999,18.399999999999999,18.3,75,44826,10.4,13.5,18.2,19,17.8,78.900000000000006,50020,9.6999999999999993,13,17.600000000000001,18.7,18,77.099999999999994,94846]
[null,null,"All subjects",13.4,15.1,18.8,18.7,15.7,81.599999999999994,405772,16.600000000000001,18,20.399999999999999,18.100000000000001,13.4,86.6,474086,15.1,16.7,19.7,18.399999999999999,14.5,84.3,879858,null,null,null,null,null,null,null,null,null,null,null,null,null,null,null,null,null,null,null,null,null,null,null,null,"All subjects",{"$f":"D78-AA78","v":13.4},{"$f":"E78-AB78","v":15.1},{"$f":"F78-AC78","v":18.8},{"$f":"G78-AD78","v":18.7},{"$f":"H78-AE78","v":15.7},{"$f":"I78-AF78","v":81.599999999999994},{"$f":"J78-AG78","v":405772},{"$f":"K78-AH78","v":16.600000000000001},{"$f":"L78-AI78","v":18},{"$f":"M78-AJ78","v":20.399999999999999},{"$f":"N78-AK78","v":18.100000000000001},{"$f":"O78-AL78","v":13.4},{"$f":"P78-AM78","v":86.6},{"$f":"Q78-AN78","v":474086},{"$f":"R78-AO78","v":15.1},{"$f":"S78-AP78","v":16.7},{"$f":"T78-AQ78","v":19.7},{"$f":"U78-AR78","v":18.399999999999999},{"$f":"V78-AS78","v":14.5},{"$f":"W78-AT78","v":84.3},{"$f":"X78-AU78","v":879858}]
[]
[null,null,null,{"$f":"ROUND(D44,1)","v":13.6},{"$f":"ROUND(E44,1)","v":13.8},15.7,17,17.2,77.3,{"$f":"ROUND(J44,0)","v":22021},16.600000000000001,15.5,16.5,16.600000000000001,15.9,81,{"$f":"ROUND(Q44,0)","v":33414},15.4,14.8,16.2,16.7,16.399999999999999,79.5,{"$f":"ROUND(X44,0)","v":55435}]
[null,null,null,{"$f":"ROUND(D45,1)","v":18.399999999999999},16.3,16.899999999999999,16.600000000000001,14.3,82.6,{"$f":"ROUND(J45,0)","v":18826},{"$f":"ROUND(K45,1)","v":20.399999999999999},18,17.5,16.3,13.2,85.5,{"$f":"ROUND(Q45,0)","v":19086},{"$f":"ROUND(R45,1)","v":19.399999999999999},17.2,17.2,16.5,13.8,84.1,{"$f":"ROUND(X45,0)","v":37912}]
[null,null,null,{"$f":"ROUND(D46,1)","v":18.600000000000001},15.5,16.2,15.4,14.7,80.400000000000006,23107,{"$f":"ROUND(K46,1)","v":25.1},18.399999999999999,17.5,14.6,12.3,87.9,7291,{"$f":"ROUND(R46,1)","v":20.100000000000001},16.2,16.5,15.3,14.1,82.2,30398]
[null,null,null,{"$f":"ROUND(D47,1)","v":14.7},14.7,18.8,18.899999999999999,15.5,82.6,5145,{"$f":"ROUND(K47,1)","v":11.9},16.5,20.5,18.7,14.1,81.8,2335,{"$f":"ROUND(R47,1)","v":13.9},15.3,19.399999999999999,18.8,15.1,82.3,7480]
[null,null,null,{"$f":"ROUND(D48,1)","v":20},13.1,13.8,13.2,13.5,73.599999999999994,34199,{"$f":"ROUND(K48,1)","v":22.3},15.7,15.7,14,12.2,79.900000000000006,22800,{"$f":"ROUND(R48,1)","v":20.9},14.1,14.6,13.5,13,76.099999999999994,56999]
[null,null,null,{"$f":"ROUND(D49,1)","v":35.4},19.3,17.2,13.4,7.2,92.5,1485,{"$f":"ROUND(K49,1)","v":48.4},19.8,13.4,8.3000000000000007,4.4000000000000004,94.3,769,{"$f":"ROUND(R49,1)","v":39.799999999999997},19.5,15.9,11.7,6.3,93.1,2254]
[null,null,null,{"$f":"ROUND(D50,1)","v":10.1},15.3,20.6,20.6,16.899999999999999,83.5,11770,{"$f":"ROUND(K50,1)","v":16.2},19.5,22.3,19.5,12.7,90.2,7200,{"$f":"ROUND(R50,1)","v":12.4},16.899999999999999,21.2,20.2,15.3,86,18970]
[null,null,null,{"$f":"ROUND(D51,1)","v":11},13,16.5,18.600000000000001,17,76.099999999999994,10268,{"$f":"ROUND(K51,1)","v":10.9},11.6,15.5,16.8,19.5,74.2,1402,{"$f":"ROUND(R51,1)","v":11},12.8,16.3,18.399999999999999,17.3,75.8,11670]
[null,null,null,{"$f":"ROUND(D52,1)","v":3.7},8.5,16.899999999999999,22,22.5,73.7,16456,{"$f":"ROUND(K52,1)","v":4.5},10,18.2,23.3,21.5,77.5,9593,{"$f":"ROUND(R52,1)","v":4},9.1,17.399999999999999,22.5,22.1,75.099999999999994,26049]
[null,null,null,{"$f":"ROUND(D53,1)","v":{"$error":"#VALUE!"}},9.6,15.7,16.899999999999999,24.1,67.5,83,{"$f":"ROUND(K53,1)","v":17.7},19.600000000000001,22.1,19.2,12.8,91.4,616,{"$f":"ROUND(R53,1)","v":15.7},18.5,21.3,18.899999999999999,14.2,88.6,699]
[null,null,null,{"$f":"ROUND(D54,1)","v":6.2},10.4,15.1,16.8,16.3,64.7,3794,{"$f":"ROUND(K54,1)","v":8.9},11,15.4,16,17,68.400000000000006,2364,{"$f":"ROUND(R54,1)","v":7.2},10.6,15.2,16.5,16.600000000000001,66.099999999999994,6158]
[null,null,null,{"$f":"ROUND(D55,1)","v":10},15.2,20.6,21.8,17.3,84.9,23322,{"$f":"ROUND(K55,1)","v":12.6},15.6,20.2,20.6,16.5,85.5,17062,{"$f":"ROUND(R55,1)","v":11.1},15.4,20.399999999999999,21.3,17,85.2,40384]
[null,null,null,{"$f":"ROUND(D56,1)","v":22.6},17.7,17,14.8,12.6,84.6,10659,{"$f":"ROUND(K56,1)","v":22.9},19.3,18.100000000000001,14.2,11.6,86,4671,{"$f":"ROUND(R56,1)","v":22.7},18.2,17.3,14.6,12.3,85,15330]
[null,null,null,{"$f":"ROUND(D57,1)","v":16.100000000000001},17.3,20.100000000000001,19.2,14.9,87.5,17908,{"$f":"ROUND(K57,1)","v":24.1},19.7,19.3,16.3,11.3,90.8,14930,{"$f":"ROUND(R57,1)","v":19.8},18.399999999999999,19.7,17.899999999999999,13.2,89,32838]
[null,null,null,{"$f":"ROUND(D58,1)","v":19.2},19.100000000000001,19.8,17.2,12.7,87.9,5579,{"$f":"ROUND(K58,1)","v":22.6},19.7,18.600000000000001,15.2,11.3,87.4,4188,{"$f":"ROUND(R58,1)","v":20.6},19.3,19.3,16.3,12.1,87.7,9767]
[null,null,null,{"$f":"ROUND(D59,1)","v":14.7},20,23.6,20.3,12.6,91.2,19507,{"$f":"ROUND(K59,1)","v":18.399999999999999},22.1,22.7,17.5,11,91.7,21640,{"$f":"ROUND(R59,1)","v":16.600000000000001},21.1,23.1,18.8,11.8,91.5,41147]
[null,null,null,{"$f":"ROUND(D60,1)","v":9.6},13.4,18.8,18.7,16,76.5,7904,{"$f":"ROUND(K60,1)","v":13.3},15.9,18.8,17.8,14.4,80.099999999999994,11046,{"$f":"ROUND(R60,1)","v":11.8},14.8,18.8,18.2,15.1,78.599999999999994,18950]
[null,null,null,{"$f":"ROUND(D61,1)","v":7.5},12.1,17.600000000000001,18.8,18,74,18237,{"$f":"ROUND(K61,1)","v":15.3},17.2,19.100000000000001,17.399999999999999,14.4,83.5,43981,{"$f":"ROUND(R61,1)","v":13},15.7,18.7,17.8,15.5,80.7,62218]
[null,null,null,{"$f":"ROUND(D62,1)","v":11},15.2,18.3,18.7,16.3,79.5,8196,{"$f":"ROUND(K62,1)","v":17.399999999999999},18,18.7,17.3,14.1,85.5,23360,{"$f":"ROUND(R62,1)","v":15.7},17.3,18.600000000000001,17.600000000000001,14.7,83.9,31556]
[null,null,null,{"$f":"ROUND(D63,1)","v":11.6},13.1,18.899999999999999,18.2,13.6,75.5,2770,{"$f":"ROUND(K63,1)","v":13.9},15.1,19.3,17.600000000000001,14.4,80.3,3261,{"$f":"ROUND(R63,1)","v":12.8},14.2,19.2,17.899999999999999,14,78.099999999999994,6031]
[null,null,null,{"$f":"ROUND(D64,1)","v":14.2},15.2,19.399999999999999,18.600000000000001,14.5,81.7,16484,{"$f":"ROUND(K64,1)","v":22.1},20.5,21.4,16.399999999999999,9.9,90.4,31650,{"$f":"ROUND(R64,1)","v":19.399999999999999},18.600000000000001,20.7,17.2,11.5,87.4,48134]
[null,null,null,{"$f":"ROUND(D65,1)","v":10},18.2,26.4,22.5,14.2,91.1,4693,{"$f":"ROUND(K65,1)","v":13.5},24.6,28.5,19.399999999999999,9.5,95.5,11314,{"$f":"ROUND(R65,1)","v":12.5},22.7,27.9,20.3,10.9,94.2,16007]
[null,null,null,{"$f":"ROUND(D66,1)","v":13.3},17,23.1,23.3,15,91.7,25102,{"$f":"ROUND(K66,1)","v":13.9},19,25.1,22.9,13,93.9,57363,{"$f":"ROUND(R66,1)","v":13.7},18.399999999999999,24.5,23,13.6,93.3,82465]
[null,null,null,{"$f":"ROUND(D67,1)","v":9},19.3,27.2,22.8,13,91.3,11806,{"$f":"ROUND(K67,1)","v":13.4},24,27.3,19.600000000000001,9.6,94,14959,{"$f":"ROUND(R67,1)","v":11.4},21.9,27.3,21,11.1,92.8,26765]
[null,null,null,{"$f":"ROUND(D68,1)","v":10.7},23.3,28.9,19.3,9,91.2,5102,{"$f":"ROUND(K68,1)","v":13.1},27,29.1,18.5,6.7,94.5,7856,{"$f":"ROUND(R68,1)","v":12.2},25.5,29.1,18.8,7.6,93.2,12958]
[null,null,null,{"$f":"ROUND(D69,1)","v":22.4},18.600000000000001,19,15.8,12.6,88.4,5129,{"$f":"ROUND(K69,1)","v":21},18,19.100000000000001,16.899999999999999,13.4,88.4,11806,{"$f":"ROUND(R69,1)","v":21.4},18.2,19,16.600000000000001,13.2,88.4,16935]
[null,null,null,{"$f":"ROUND(D70,1)","v":20.399999999999999},17.2,20.2,16.2,14.6,88.7,2505,{"$f":"ROUND(K70,1)","v":20.2},18.2,20.6,17.5,12.8,89.4,5045,{"$f":"ROUND(R70,1)","v":20.3},17.899999999999999,20.5,17.100000000000001,13.4,89.2,7550]
[null,null,null,{"$f":"ROUND(D71,1)","v":22.7},20.6,18,14.8,12.3,88.4,1532,{"$f":"ROUND(K71,1)","v":18.600000000000001},20,18.899999999999999,16.5,13.4,87.4,3972,{"$f":"ROUND(R71,1)","v":19.7},20.100000000000001,18.600000000000001,16,13.1,87.7,5504]
[null,null,null,{"$f":"ROUND(D72,1)","v":43},24.8,10.199999999999999,7.4,5.2,90.6,1211,{"$f":"ROUND(K72,1)","v":41.7},20.9,14.7,8.8000000000000007,5.5,91.5,1678,{"$f":"ROUND(R72,1)","v":42.3},22.5,12.8,8.1999999999999993,5.4,91.1,2889]
[null,null,null,{"$f":"ROUND(D73,1)","v":26.5},21.4,19.3,16.3,10,93.6,2264,{"$f":"ROUND(K73,1)","v":31},22.9,19.399999999999999,14.2,7.3,94.8,3204,{"$f":"ROUND(R73,1)","v":29.2},22.3,19.3,15.1,8.4,94.3,5468]
[null,null,null,{"$f":"ROUND(D74,1)","v":17.8},19.3,21,17.3,12.2,87.7,4172,{"$f":"ROUND(K74,1)","v":19.899999999999999},22.2,23.1,16.2,10,91.4,9629,{"$f":"ROUND(R74,1)","v":19.3},21.3,22.5,16.5,10.6,90.3,13801]
[null,null,null,{"$f":"ROUND(D75,1)","v":14.2},16.399999999999999,21.1,21.4,14,87.2,5508,{"$f":"ROUND(K75,1)","v":20.5},20.100000000000001,22,18.7,10.9,92.1,4664,{"$f":"ROUND(R75,1)","v":17.100000000000001},18.100000000000001,21.5,20.2,12.6,89.4,10172]
[null,null,null,{"$f":"ROUND(D76,1)","v":6.8},13.1,20.399999999999999,23.3,20.7,84.3,14202,{"$f":"ROUND(K76,1)","v":17.100000000000001},18.2,20.2,18.5,14.5,88.5,9917,{"$f":"ROUND(R76,1)","v":11.1},15.2,20.3,21.3,18.2,86.1,24119]
[null,null,null,{"$f":"ROUND(D77,1)","v":9},12.5,16.899999999999999,18.399999999999999,18.3,75,44826,{"$f":"ROUND(K77,1)","v":10.4},13.5,18.2,19,17.8,78.900000000000006,50020,{"$f":"ROUND(R77,1)","v":9.6999999999999993},13,17.600000000000001,18.7,18,77.099999999999994,94846]
[null,null,null,{"$f":"ROUND(D78,1)","v":13.4},15.1,18.8,18.7,15.7,81.599999999999994,405772,{"$f":"ROUND(K78,1)","v":16.600000000000001},18,20.399999999999999,18.100000000000001,13.4,86.6,474086,{"$f":"ROUND(R78,1)","v":15.1},16.7,19.7,18.399999999999999,14.5,84.3,879858]

{"sheet":"2004AS","index":23,"n_rows":116,"n_cols":24,"rows_kept":116,"cut":false,"hidden":true,"merged":[]}
[]
[]
[null,null,null,"Male",null,null,null,null,null,"Female",null,null,null,null,null,"Total"]
[null,null,null,"A","B","C","D","E","other","A","B","C","D","E","other","A","B","C","D","E","other"]
[]
[null,null,"Biological Sciences",3075,3348,3691,4002,3790,4954,5317,5349,5632,5616,5178,6232,8392,8697,9323,9618,8968,11186]
[null,null,"Chemistry",3490,3230,3290,3221,2738,3437,3718,3336,3402,3069,2646,3026,7208,6566,6692,6290,5384,6463]
[null,null,"Physics",4209,3455,3712,3579,3247,4438,1737,1368,1295,1072,841,932,5946,4823,5007,4651,4088,5370]
[null,null,"Other Science",736,763,942,954,788,906,267,362,487,482,399,397,1003,1125,1429,1436,1187,1303]
[null,null,"Mathematics",6148,4027,4232,4390,4222,7612,4555,3189,3171,2954,2619,3918,10703,7216,7403,7344,6841,11530]
[null,null,"Further Mathematics",513,309,301,240,156,152,329,179,158,97,53,68,842,488,459,337,209,220]
[null,null,"Design and Technology",1026,1660,2368,2606,2086,1855,1228,1484,1769,1529,988,732,2254,3144,4137,4135,3074,2587]
[null,null,"Computer Studies",894,1208,1515,1579,1402,1850,99,120,161,149,176,271,993,1328,1676,1728,1578,2121]
[null,null,"ICT",521,1379,2482,3237,3268,3322,380,952,1542,1916,1733,1630,901,2331,4024,5153,5001,4952]
[null,null,"Home Economics",0,7,13,10,24,21,84,90,107,111,87,47,84,97,120,121,111,68]
[null,null,"Accounting and Finance",231,420,567,634,720,1440,208,270,348,412,448,801,439,690,915,1046,1168,2241]
[null,null,"Business Studies",2240,3607,4657,4503,3254,3215,1962,2596,3403,3138,2316,2389,4202,6203,8060,7641,5570,5604]
[null,null,"Economics",2180,1930,1947,1620,1243,1551,1207,869,843,630,480,632,3387,2799,2790,2250,1723,2183]
[null,null,"Geography",2679,2830,3408,3273,2402,2250,3377,2821,2728,2262,1572,1290,6056,5651,6136,5535,3974,3540]
[null,null,"Government and Politics",1083,1194,1350,1087,740,735,1014,864,845,718,522,550,2097,2058,2195,1805,1262,1285]
[null,null,"History",3020,3955,4603,3810,2517,1735,3825,4673,5111,4009,2562,1679,6845,8628,9714,7819,5079,3414]
[null,null,"Law",868,1102,1480,1512,1310,1889,1627,1957,2133,1900,1576,2215,2495,3059,3613,3412,2886,4104]
[null,null,"Psychology",1493,2344,3346,3733,3608,4665,6839,7890,8840,8023,6480,7516,8332,10234,12186,11756,10088,12181]
[null,null,"Sociology",905,1262,1662,1707,1425,1575,4028,4383,4749,4042,3121,3122,4933,5645,6411,5749,4546,4697]
[null,null,"Other social studies",362,428,552,623,540,889,481,597,719,661,571,758,843,1025,1271,1284,1111,1647]
[null,null,"Art and Design",2218,2540,3145,3225,2435,2811,7022,6682,7172,5625,3223,3147,9240,9222,10317,8850,5658,5958]
[null,null,"Drama",496,941,1190,986,578,290,1797,2830,3199,2030,774,408,2293,3771,4389,3016,1352,698]
[null,null,"English",3377,4715,6364,6047,3713,1995,8332,11552,15003,13160,7183,3357,11709,16267,21367,19207,10896,5352]
[null,null,"Media/Film/Television Studies",1261,2446,3257,2726,1379,1048,2253,3730,4296,2803,1340,875,3514,6176,7553,5529,2719,1923]
[null,null,"Other Communication Studies",585,1470,1714,1015,425,381,1155,2132,2398,1379,562,397,1740,3602,4112,2394,987,778]
[null,null,"French",1086,843,934,725,546,507,2389,2157,2024,1764,1369,1329,3475,3000,2958,2489,1915,1836]
[null,null,"German",499,453,514,416,297,218,883,815,970,826,544,381,1382,1268,1484,1242,841,599]
[null,null,"Spanish",400,327,299,248,173,127,814,822,824,696,494,482,1214,1149,1123,944,667,609]
[null,null,"Other modern languages",537,318,140,75,67,95,805,380,216,140,95,124,1342,698,356,215,162,219]
[null,null,"Classical Studies",680,503,483,365,209,158,1098,811,616,383,208,126,1778,1314,1099,748,417,284]
[null,null,"Religious Studies",940,1070,1029,752,543,510,2418,2614,2409,1760,1014,808,3358,3684,3438,2512,1557,1318]
[null,null,"Music",837,959,1269,1195,850,808,925,927,1014,853,516,320,1762,1886,2283,2048,1366,1128]
[null,null,"Physical Education",1006,1868,2712,3117,2886,2170,1625,1802,2138,1931,1494,1115,2631,3670,4850,5048,4380,3285]
[null,null,"General Studies",3678,5205,7750,8936,8848,11653,5001,6889,9327,10125,9546,11239,8679,12094,17077,19061,18394,22892]
[null,null,"subtotal",53273,62116,76918,76148,62429,71262,78799,87492,99049,86265,62730,62313,132072,149608,175967,162413,125159,133575]
[]
[null,null,null,"Grade",null,null,null,null,null,null,"Grade",null,null,null,null,null,null,"Grade"]
[null,null,null,"A","B","C","D","E","A-E","Entries","A","B","C","D","E","A-E","Entries","A","B","C","D","E","A-E","Entries"]
[null,null,"Biological Sciences",13.5,14.6,16.100000000000001,17.5,16.600000000000001,78.3,22860,16,16.100000000000001,16.899999999999999,16.899999999999999,15.5,81.3,33324,14.9,15.5,16.600000000000001,17.100000000000001,16,80.099999999999994,56184]
[null,null,"Chemistry",18,16.600000000000001,17,16.600000000000001,14.1,82.3,19406,19.399999999999999,17.399999999999999,17.7,16,13.8,84.2,19197,18.7,17,17.3,16.3,13.9,83.3,38603]
[null,null,"Physics",18.600000000000001,15.3,16.399999999999999,15.8,14.3,80.400000000000006,22640,24,18.899999999999999,17.899999999999999,14.8,11.6,87.1,7245,19.899999999999999,16.100000000000001,16.8,15.6,13.7,82,29885]
[null,null,"Other Science",14.5,15,18.5,18.7,15.5,82.2,5089,11.2,15.1,20.3,20.100000000000001,16.7,83.4,2394,13.4,15,19.100000000000001,19.2,15.9,82.6,7483]
[null,null,"Mathematics",20.100000000000001,13.1,13.8,14.3,13.8,75.099999999999994,30631,22.3,15.6,15.5,14.5,12.8,80.8,20406,21,14.1,14.5,14.4,13.4,77.400000000000006,51037]
[null,null,"Further Mathematics",30.7,18.5,18,14.4,9.3000000000000007,90.9,1671,37.200000000000003,20.2,17.899999999999999,11,6,92.3,884,33,19.100000000000001,18,13.2,8.1999999999999993,91.4,2555]
[null,null,"Design and Technology",8.8000000000000007,14.3,20.399999999999999,22.5,18,84,11601,15.9,19.2,22.9,19.8,12.8,90.5,7730,11.7,16.3,21.4,21.4,15.9,86.6,19331]
[null,null,"Computer Studies",10.6,14.3,17.899999999999999,18.7,16.600000000000001,78.099999999999994,8448,10.1,12.3,16.5,15.3,18,72.2,976,10.5,14.1,17.8,18.3,16.7,77.5,9424]
[null,null,"ICT",3.7,9.6999999999999993,17.5,22.8,23,76.599999999999994,14209,4.7,11.7,18.899999999999999,23.5,21.3,80,8153,4,10.4,18,23,22.4,77.900000000000006,22362]
[null,null,"Home Economics",0,9.3000000000000007,17.3,13.3,32,72,75,16,17.100000000000001,20.3,21.1,16.5,91.1,526,14,16.100000000000001,20,20.100000000000001,18.5,88.7,601]
[null,null,"Accounting and Finance",5.8,10.5,14.1,15.8,17.899999999999999,64.099999999999994,4012,8.4,10.9,14,16.600000000000001,18,67.8,2487,6.8,10.6,14.1,16.100000000000001,18,65.5,6499]
[null,null,"Business Studies",10.4,16.8,21.7,21,15.2,85,21476,12.4,16.399999999999999,21.5,19.899999999999999,14.7,84.9,15804,11.3,16.600000000000001,21.6,20.5,14.9,85,37280]
[null,null,"Economics",20.8,18.399999999999999,18.600000000000001,15.5,11.9,85.2,10471,25.9,18.600000000000001,18.100000000000001,13.5,10.3,86.4,4661,22.4,18.5,18.399999999999999,14.9,11.4,85.6,15132]
[null,null,"Geography",15.9,16.8,20.2,19.399999999999999,14.3,86.6,16842,24,20.100000000000001,19.399999999999999,16.100000000000001,11.2,90.8,14050,19.600000000000001,18.3,19.899999999999999,17.899999999999999,12.9,88.5,30892]
[null,null,"Government and Politics",17.5,19.3,21.8,17.600000000000001,12,88.1,6189,22.5,19.100000000000001,18.7,15.9,11.6,87.8,4513,19.600000000000001,19.2,20.5,16.899999999999999,11.8,88,10702]
[null,null,"History",15.4,20.100000000000001,23.4,19.399999999999999,12.8,91.2,19640,17.5,21.4,23.4,18.3,11.7,92.3,21859,16.5,20.8,23.4,18.8,12.2,91.8,41499]
[null,null,"Law",10.6,13.5,18.100000000000001,18.5,16.100000000000001,76.900000000000006,8161,14.3,17.2,18.7,16.7,13.8,80.599999999999994,11408,12.7,15.6,18.5,17.399999999999999,14.7,79,19569]
[null,null,"Psychology",7.8,12.2,17.399999999999999,19.5,18.8,75.7,19189,15,17.3,19.399999999999999,17.600000000000001,14.2,83.5,45588,12.9,15.8,18.8,18.100000000000001,15.6,81.2,64777]
[null,null,"Sociology",10.6,14.8,19.5,20,16.7,81.5,8536,17.2,18.7,20.3,17.2,13.3,86.7,23445,15.4,17.7,20,18,14.2,85.3,31981]
[null,null,"Other social studies",10.7,12.6,16.3,18.399999999999999,15.9,73.8,3394,12.7,15.8,19,17.5,15.1,80,3787,11.7,14.3,17.7,17.899999999999999,15.5,77.099999999999994,7181]
[null,null,"Art and Design",13.5,15.5,19.2,19.7,14.9,82.8,16374,21.4,20.3,21.8,17.100000000000001,9.8000000000000007,90.4,32871,18.8,18.7,21,18,11.5,87.9,49245]
[null,null,"Drama",11.1,21,26.6,22,12.9,93.5,4481,16.3,25.6,29,18.399999999999999,7,96.3,11038,14.8,24.3,28.3,19.399999999999999,8.6999999999999993,95.5,15519]
[null,null,"English",12.9,18,24.3,23.1,14.2,92.4,26211,14.2,19.7,25.6,22.5,12.3,94.3,58587,13.8,19.2,25.2,22.7,12.8,93.7,84798]
[null,null,"Media/Film/TV Studies",10.4,20.2,26.9,22.5,11.4,91.4,12117,14.7,24.4,28.1,18.3,8.8000000000000007,94.3,15297,12.8,22.5,27.6,20.2,9.9,93,27414]
[null,null,"Other Communication Studies",10.5,26.3,30.7,18.2,7.6,93.2,5590,14.4,26.6,29.9,17.2,7,95.1,8023,12.8,26.5,30.2,17.600000000000001,7.3,94.3,13613]
[null,null,"French",23.4,18.2,20.100000000000001,15.6,11.8,89.1,4641,21.7,19.600000000000001,18.3,16,12.4,88,11032,22.2,19.100000000000001,18.899999999999999,15.9,12.2,88.3,15673]
[null,null,"German",20.8,18.899999999999999,21.4,17.399999999999999,12.4,90.9,2397,20,18.399999999999999,22,18.7,12.3,91.4,4419,20.3,18.600000000000001,21.8,18.2,12.3,91.2,6816]
[null,null,"Spanish",25.4,20.8,19,15.8,11,91.9,1574,19.7,19.899999999999999,19.899999999999999,16.8,12,88.3,4132,21.3,20.100000000000001,19.7,16.5,11.7,89.3,5706]
[null,null,"Other modern languages",43.6,25.8,11.4,6.1,5.4,92.3,1232,45.7,21.6,12.3,8,5.4,93,1760,44.9,23.3,11.9,7.2,5.4,92.7,2992]
[null,null,"Classical Studies",28.4,21,20.100000000000001,15.2,8.6999999999999993,93.4,2398,33.9,25,19,11.8,6.4,96.1,3242,31.5,23.3,19.5,13.3,7.4,95,5640]
[null,null,"Religious Studies",19.399999999999999,22.1,21.2,15.5,11.2,89.5,4844,21.9,23.7,21.9,16,9.1999999999999993,92.7,11023,21.2,23.2,21.7,15.8,9.8000000000000007,91.7,15867]
[null,null,"Music",14.1,16.2,21.4,20.2,14.4,86.3,5918,20.3,20.399999999999999,22.3,18.7,11.3,93,4555,16.8,18,21.8,19.600000000000001,13,89.2,10473]
[null,null,"Physical Education",7.3,13.6,19.7,22.7,21,84.2,13759,16.100000000000001,17.8,21.2,19.100000000000001,14.8,89,10105,11,15.4,20.3,21.2,18.399999999999999,86.2,23864]
[null,null,"General Studies",8,11.3,16.8,19.399999999999999,19.2,74.7,46070,9.6,13.2,17.899999999999999,19.399999999999999,18.3,78.400000000000006,52127,8.8000000000000007,12.3,17.399999999999999,19.399999999999999,18.7,76.7,98197]
[null,null,"All subjects",13.2,15.4,19.100000000000001,18.899999999999999,15.5,82.3,402146,16.5,18.399999999999999,20.8,18.100000000000001,13.2,86.9,476648,15,17,20,18.5,14.2,84.8,878794]
[]
[null,null,null,"Grade",null,null,null,null,null,null,"Grade",null,null,null,null,null,null,"Grade"]
[null,null,null,"A","B","C","D","E","A-E","Entries","A","B","C","D","E","A-E","Entries","A","B","C","D","E","A-E","Entries"]
[null,null,"Biological Sciences",{"$f":"ROUND(D44,1)","v":13.5},{"$f":"ROUND(E44,1)","v":14.6},16.100000000000001,17.5,16.600000000000001,78.3,{"$f":"ROUND(J44,0)","v":22860},16,16.100000000000001,16.899999999999999,16.899999999999999,15.5,81.3,{"$f":"ROUND(Q44,0)","v":33324},14.9,15.5,16.600000000000001,17.100000000000001,16,80.099999999999994,{"$f":"ROUND(X44,0)","v":56184}]
[null,null,"Chemistry",{"$f":"ROUND(D45,1)","v":18},16.600000000000001,17,16.600000000000001,14.1,82.3,{"$f":"ROUND(J45,0)","v":19406},{"$f":"ROUND(K45,1)","v":19.399999999999999},17.399999999999999,17.7,16,13.8,84.2,{"$f":"ROUND(Q45,0)","v":19197},{"$f":"ROUND(R45,1)","v":18.7},17,17.3,16.3,13.9,83.3,{"$f":"ROUND(X45,0)","v":38603}]
[null,null,"Physics",{"$f":"ROUND(D46,1)","v":18.600000000000001},15.3,16.399999999999999,15.8,14.3,80.400000000000006,22640,{"$f":"ROUND(K46,1)","v":24},18.899999999999999,17.899999999999999,14.8,11.6,87.1,7245,{"$f":"ROUND(R46,1)","v":19.899999999999999},16.100000000000001,16.8,15.6,13.7,82,29885]
[null,null,"Other Science",{"$f":"ROUND(D47,1)","v":14.5},15,18.5,18.7,15.5,82.2,5089,{"$f":"ROUND(K47,1)","v":11.2},15.1,20.3,20.100000000000001,16.7,83.4,2394,{"$f":"ROUND(R47,1)","v":13.4},15,19.100000000000001,19.2,15.9,82.6,7483]
[null,null,"Mathematics",{"$f":"ROUND(D48,1)","v":20.100000000000001},13.1,13.8,14.3,13.8,75.099999999999994,30631,{"$f":"ROUND(K48,1)","v":22.3},15.6,15.5,14.5,12.8,80.8,20406,{"$f":"ROUND(R48,1)","v":21},14.1,14.5,14.4,13.4,77.400000000000006,51037]
[null,null,"Further Mathematics",{"$f":"ROUND(D49,1)","v":30.7},18.5,18,14.4,9.3000000000000007,90.9,1671,{"$f":"ROUND(K49,1)","v":37.200000000000003},20.2,17.899999999999999,11,6,92.3,884,{"$f":"ROUND(R49,1)","v":33},19.100000000000001,18,13.2,8.1999999999999993,91.4,2555]
[null,null,"Design and Technology",{"$f":"ROUND(D50,1)","v":8.8000000000000007},14.3,20.399999999999999,22.5,18,84,11601,{"$f":"ROUND(K50,1)","v":15.9},19.2,22.9,19.8,12.8,90.5,7730,{"$f":"ROUND(R50,1)","v":11.7},16.3,21.4,21.4,15.9,86.6,19331]
[null,null,"Computer Studies",{"$f":"ROUND(D51,1)","v":10.6},14.3,17.899999999999999,18.7,16.600000000000001,78.099999999999994,8448,{"$f":"ROUND(K51,1)","v":10.1},12.3,16.5,15.3,18,72.2,976,{"$f":"ROUND(R51,1)","v":10.5},14.1,17.8,18.3,16.7,77.5,9424]
[null,null,"ICT",{"$f":"ROUND(D52,1)","v":3.7},9.6999999999999993,17.5,22.8,23,76.599999999999994,14209,{"$f":"ROUND(K52,1)","v":4.7},11.7,18.899999999999999,23.5,21.3,80,8153,{"$f":"ROUND(R52,1)","v":4},10.4,18,23,22.4,77.900000000000006,22362]
[null,null,"Home Economics",{"$f":"ROUND(D53,1)","v":0},9.3000000000000007,17.3,13.3,32,72,75,{"$f":"ROUND(K53,1)","v":16},17.100000000000001,20.3,21.1,16.5,91.1,526,{"$f":"ROUND(R53,1)","v":14},16.100000000000001,20,20.100000000000001,18.5,88.7,601]
[null,null,"Accounting and Finance",{"$f":"ROUND(D54,1)","v":5.8},10.5,14.1,15.8,17.899999999999999,64.099999999999994,4012,{"$f":"ROUND(K54,1)","v":8.4},10.9,14,16.600000000000001,18,67.8,2487,{"$f":"ROUND(R54,1)","v":6.8},10.6,14.1,16.100000000000001,18,65.5,6499]
[null,null,"Business Studies",{"$f":"ROUND(D55,1)","v":10.4},16.8,21.7,21,15.2,85,21476,{"$f":"ROUND(K55,1)","v":12.4},16.399999999999999,21.5,19.899999999999999,14.7,84.9,15804,{"$f":"ROUND(R55,1)","v":11.3},16.600000000000001,21.6,20.5,14.9,85,37280]
[null,null,"Economics",{"$f":"ROUND(D56,1)","v":20.8},18.399999999999999,18.600000000000001,15.5,11.9,85.2,10471,{"$f":"ROUND(K56,1)","v":25.9},18.600000000000001,18.100000000000001,13.5,10.3,86.4,4661,{"$f":"ROUND(R56,1)","v":22.4},18.5,18.399999999999999,14.9,11.4,85.6,15132]
[null,null,"Geography",{"$f":"ROUND(D57,1)","v":15.9},16.8,20.2,19.399999999999999,14.3,86.6,16842,{"$f":"ROUND(K57,1)","v":24},20.100000000000001,19.399999999999999,16.100000000000001,11.2,90.8,14050,{"$f":"ROUND(R57,1)","v":19.600000000000001},18.3,19.899999999999999,17.899999999999999,12.9,88.5,30892]
[null,null,"Government and Politics",{"$f":"ROUND(D58,1)","v":17.5},19.3,21.8,17.600000000000001,12,88.1,6189,{"$f":"ROUND(K58,1)","v":22.5},19.100000000000001,18.7,15.9,11.6,87.8,4513,{"$f":"ROUND(R58,1)","v":19.600000000000001},19.2,20.5,16.899999999999999,11.8,88,10702]
[null,null,"History",{"$f":"ROUND(D59,1)","v":15.4},20.100000000000001,23.4,19.399999999999999,12.8,91.2,19640,{"$f":"ROUND(K59,1)","v":17.5},21.4,23.4,18.3,11.7,92.3,21859,{"$f":"ROUND(R59,1)","v":16.5},20.8,23.4,18.8,12.2,91.8,41499]
[null,null,"Law",{"$f":"ROUND(D60,1)","v":10.6},13.5,18.100000000000001,18.5,16.100000000000001,76.900000000000006,8161,{"$f":"ROUND(K60,1)","v":14.3},17.2,18.7,16.7,13.8,80.599999999999994,11408,{"$f":"ROUND(R60,1)","v":12.7},15.6,18.5,17.399999999999999,14.7,79,19569]
[null,null,"Psychology",{"$f":"ROUND(D61,1)","v":7.8},12.2,17.399999999999999,19.5,18.8,75.7,19189,{"$f":"ROUND(K61,1)","v":15},17.3,19.399999999999999,17.600000000000001,14.2,83.5,45588,{"$f":"ROUND(R61,1)","v":12.9},15.8,18.8,18.100000000000001,15.6,81.2,64777]
[null,null,"Sociology",{"$f":"ROUND(D62,1)","v":10.6},14.8,19.5,20,16.7,81.5,8536,{"$f":"ROUND(K62,1)","v":17.2},18.7,20.3,17.2,13.3,86.7,23445,{"$f":"ROUND(R62,1)","v":15.4},17.7,20,18,14.2,85.3,31981]
[null,null,"Other social studies",{"$f":"ROUND(D63,1)","v":10.7},12.6,16.3,18.399999999999999,15.9,73.8,3394,{"$f":"ROUND(K63,1)","v":12.7},15.8,19,17.5,15.1,80,3787,{"$f":"ROUND(R63,1)","v":11.7},14.3,17.7,17.899999999999999,15.5,77.099999999999994,7181]
[null,null,"Art and Design",{"$f":"ROUND(D64,1)","v":13.5},15.5,19.2,19.7,14.9,82.8,16374,{"$f":"ROUND(K64,1)","v":21.4},20.3,21.8,17.100000000000001,9.8000000000000007,90.4,32871,{"$f":"ROUND(R64,1)","v":18.8},18.7,21,18,11.5,87.9,49245]
[null,null,"Drama",{"$f":"ROUND(D65,1)","v":11.1},21,26.6,22,12.9,93.5,4481,{"$f":"ROUND(K65,1)","v":16.3},25.6,29,18.399999999999999,7,96.3,11038,{"$f":"ROUND(R65,1)","v":14.8},24.3,28.3,19.399999999999999,8.6999999999999993,95.5,15519]
[null,null,"English",{"$f":"ROUND(D66,1)","v":12.9},18,24.3,23.1,14.2,92.4,26211,{"$f":"ROUND(K66,1)","v":14.2},19.7,25.6,22.5,12.3,94.3,58587,{"$f":"ROUND(R66,1)","v":13.8},19.2,25.2,22.7,12.8,93.7,84798]
[null,null,"Media/Film/TV Studies",{"$f":"ROUND(D67,1)","v":10.4},20.2,26.9,22.5,11.4,91.4,12117,{"$f":"ROUND(K67,1)","v":14.7},24.4,28.1,18.3,8.8000000000000007,94.3,15297,{"$f":"ROUND(R67,1)","v":12.8},22.5,27.6,20.2,9.9,93,27414]
[null,null,"Other Communication Studies",{"$f":"ROUND(D68,1)","v":10.5},26.3,30.7,18.2,7.6,93.2,5590,{"$f":"ROUND(K68,1)","v":14.4},26.6,29.9,17.2,7,95.1,8023,{"$f":"ROUND(R68,1)","v":12.8},26.5,30.2,17.600000000000001,7.3,94.3,13613]
[null,null,"French",{"$f":"ROUND(D69,1)","v":23.4},18.2,20.100000000000001,15.6,11.8,89.1,4641,{"$f":"ROUND(K69,1)","v":21.7},19.600000000000001,18.3,16,12.4,88,11032,{"$f":"ROUND(R69,1)","v":22.2},19.100000000000001,18.899999999999999,15.9,12.2,88.3,15673]
[null,null,"German",{"$f":"ROUND(D70,1)","v":20.8},18.899999999999999,21.4,17.399999999999999,12.4,90.9,2397,{"$f":"ROUND(K70,1)","v":20},18.399999999999999,22,18.7,12.3,91.4,4419,{"$f":"ROUND(R70,1)","v":20.3},18.600000000000001,21.8,18.2,12.3,91.2,6816]
[null,null,"Spanish",{"$f":"ROUND(D71,1)","v":25.4},20.8,19,15.8,11,91.9,1574,{"$f":"ROUND(K71,1)","v":19.7},19.899999999999999,19.899999999999999,16.8,12,88.3,4132,{"$f":"ROUND(R71,1)","v":21.3},20.100000000000001,19.7,16.5,11.7,89.3,5706]
[null,null,"Other modern languages",{"$f":"ROUND(D72,1)","v":43.6},25.8,11.4,6.1,5.4,92.3,1232,{"$f":"ROUND(K72,1)","v":45.7},21.6,12.3,8,5.4,93,1760,{"$f":"ROUND(R72,1)","v":44.9},23.3,11.9,7.2,5.4,92.7,2992]
[null,null,"Classical Studies",{"$f":"ROUND(D73,1)","v":28.4},21,20.100000000000001,15.2,8.6999999999999993,93.4,2398,{"$f":"ROUND(K73,1)","v":33.9},25,19,11.8,6.4,96.1,3242,{"$f":"ROUND(R73,1)","v":31.5},23.3,19.5,13.3,7.4,95,5640]
[null,null,"Religious Studies",{"$f":"ROUND(D74,1)","v":19.399999999999999},22.1,21.2,15.5,11.2,89.5,4844,{"$f":"ROUND(K74,1)","v":21.9},23.7,21.9,16,9.1999999999999993,92.7,11023,{"$f":"ROUND(R74,1)","v":21.2},23.2,21.7,15.8,9.8000000000000007,91.7,15867]
[null,null,"Music",{"$f":"ROUND(D75,1)","v":14.1},16.2,21.4,20.2,14.4,86.3,5918,{"$f":"ROUND(K75,1)","v":20.3},20.399999999999999,22.3,18.7,11.3,93,4555,{"$f":"ROUND(R75,1)","v":16.8},18,21.8,19.600000000000001,13,89.2,10473]
[null,null,"Physical Education",{"$f":"ROUND(D76,1)","v":7.3},13.6,19.7,22.7,21,84.2,13759,{"$f":"ROUND(K76,1)","v":16.100000000000001},17.8,21.2,19.100000000000001,14.8,89,10105,{"$f":"ROUND(R76,1)","v":11},15.4,20.3,21.2,18.399999999999999,86.2,23864]
[null,null,"General Studies",{"$f":"ROUND(D77,1)","v":8},11.3,16.8,19.399999999999999,19.2,74.7,46070,{"$f":"ROUND(K77,1)","v":9.6},13.2,17.899999999999999,19.399999999999999,18.3,78.400000000000006,52127,{"$f":"ROUND(R77,1)","v":8.8000000000000007},12.3,17.399999999999999,19.399999999999999,18.7,76.7,98197]
[null,null,"All subjects",{"$f":"ROUND(D78,1)","v":13.2},15.4,19.100000000000001,18.899999999999999,15.5,82.3,402146,{"$f":"ROUND(K78,1)","v":16.5},18.399999999999999,20.8,18.100000000000001,13.2,86.9,476648,{"$f":"ROUND(R78,1)","v":15},17,20,18.5,14.2,84.8,878794]

{"sheet":"2005AS","index":24,"n_rows":198,"n_cols":23,"rows_kept":198,"cut":false,"hidden":true,"merged":[]}
[]
[]
[null,null,"Male",null,null,null,null,null,null,"Female",null,null,null,null,null,null,"Total"]
[null,null,"A","B","C","D","E","A-E","Entries","A","B","C","D","E","A-E","Entries","A","B","C","D","E","A-E","Entries"]
[]
[null,"Biological Sciences",{"$f":"IF(OR(C48=1,C48=2),\"x\",ROUND(C48/$I48*100,1))","v":13.1},{"$f":"IF(OR(D48=1,D48=2),\"x\",ROUND(D48/$I48*100,1))","v":14.3},16.899999999999999,17.3,16.899999999999999,78.5,{"$f":"ROUND(I48,0)","v":23633},{"$f":"IF(OR(J48=1,J48=2),\"x\",ROUND(J48/$P48*100,1))","v":15.4},{"$f":"IF(OR(K48=1,K48=2),\"x\",ROUND(K48/$P48*100,1))","v":16.2},17.5,16.600000000000001,15.7,81.400000000000006,{"$f":"ROUND(P48,0)","v":33354},{"$f":"IF(OR(Q48=1,Q48=2),\"x\",ROUND(Q48/$W48*100,1))","v":14.5},{"$f":"IF(OR(R48=1,R48=2),\"x\",ROUND(R48/$W48*100,1))","v":15.4},17.2,16.899999999999999,16.2,80.2,{"$f":"ROUND(W48,0)","v":56987}]
[null,"Chemistry",{"$f":"IF(OR(C49=1,C49=2),\"x\",ROUND(C49/$I49*100,1))","v":17.600000000000001},16.7,17.2,16.100000000000001,14.8,82.4,{"$f":"ROUND(I49,0)","v":20322},{"$f":"IF(OR(J49=1,J49=2),\"x\",ROUND(J49/$P49*100,1))","v":18.7},18.600000000000001,18,15.9,13.1,84.3,{"$f":"ROUND(P49,0)","v":19766},{"$f":"IF(OR(Q49=1,Q49=2),\"x\",ROUND(Q49/$W49*100,1))","v":18.100000000000001},17.7,17.600000000000001,16,14,83.3,{"$f":"ROUND(W49,0)","v":40088}]
[null,"Physics",18.2,15.8,16.5,16.2,14,80.7,22154,22.9,18.2,17.8,14.8,12.5,86.2,7048,19.3,16.399999999999999,16.8,15.9,13.7,82.1,29202]
[null,"Other Science",15.3,14.1,17.5,18,16.600000000000001,81.400000000000006,5153,13.5,17,18.8,18.2,15.1,82.7,2418,14.7,15,17.899999999999999,18.100000000000001,16.100000000000001,81.900000000000006,7571]
[null,"Mathematics",22.6,13.7,13.8,14.1,13.3,77.5,32921,26.9,16.600000000000001,15.2,13.1,11.8,83.6,22051,24.3,14.9,14.4,13.7,12.7,79.900000000000006,54972]
[null,"Further Mathematics",38.6,17.100000000000001,14.7,13.2,7.8,91.3,2193,40.299999999999997,21.3,14.4,10,7.1,93.1,1195,39.200000000000003,18.600000000000001,14.6,12.1,7.5,92,3388]
[null,"Design and Technology",8.1999999999999993,13.7,20.2,21.7,19,82.8,11651,14.3,18.2,23.5,20.9,13.2,90.1,8333,10.8,15.6,21.6,21.3,16.600000000000001,85.8,19984]
[null,"Computer Studies",10.1,13.9,17.899999999999999,18.5,16.600000000000001,77,7585,9.5,13,14.4,18.600000000000001,17.899999999999999,73.5,769,10,13.8,17.600000000000001,18.5,16.7,76.599999999999994,8354]
[null,"ICT",3.9,9.5,17,22.9,23.1,76.5,12595,5.4,12.5,18.7,23.3,20.6,80.5,7231,4.5,10.6,17.600000000000001,23,22.2,77.900000000000006,19826]
[null,"Home Economics","x","x",21.5,24.1,24.1,83.5,79,"x","x",24.7,19.7,15.6,91.4,442,12.1,16.7,24.2,20.3,16.899999999999999,90.2,521]
[null,"Accounting and Finance","x","x",15.4,17.2,19.399999999999999,69,3841,"x","x",14.6,16.5,19.100000000000001,69.099999999999994,2437,6.5,11.2,15.1,16.899999999999999,19.3,69.099999999999994,6278]
[null,"Business Studies",9.3000000000000007,16.600000000000001,22.4,21.2,16,85.5,20951,12.1,17.7,21.9,19.5,14.7,85.9,15737,10.5,17,22.2,20.5,15.4,85.7,36688]
[null,"Economics",21.4,17.399999999999999,18.5,16,12.4,85.8,10514,24.4,18.2,16.600000000000001,15.4,11.8,86.5,4719,22.4,17.600000000000001,17.899999999999999,15.8,12.3,86,15233]
[null,"Geography",16.100000000000001,17.5,20.6,18.7,14.6,87.4,16632,24,19.8,19,16,11.6,90.4,13933,19.7,18.5,19.899999999999999,17.5,13.2,88.8,30565]
[null,"Government and Politics",19.3,18.399999999999999,21.3,17.399999999999999,11.7,88.2,6300,22.6,18.3,18.899999999999999,15.9,12.2,88,4604,20.7,18.399999999999999,20.3,16.8,11.9,88.1,10904]
[null,"History",15.5,20.5,23.9,19.7,11.9,91.5,20953,18.2,21.8,22.6,18.399999999999999,11.3,92.3,22964,16.899999999999999,21.2,23.2,19,11.6,91.9,43917]
[null,"Law",11.2,14.4,18,18.7,15.8,78.099999999999994,8409,14.8,16.399999999999999,19.2,16.5,14.3,81.2,12271,13.4,15.6,18.7,17.399999999999999,14.9,79.900000000000006,20680]
[null,"Psychology",{"$f":"IF(OR(C65=1,C65=2),\"x\",ROUND(C65/$I65*100,1))","v":7.6},12.5,18.399999999999999,19.399999999999999,17.399999999999999,75.3,20338,{"$f":"IF(OR(J65=1,J65=2),\"x\",ROUND(J65/$P65*100,1))","v":14.9},17.8,19.8,17.2,14,83.7,48066,{"$f":"IF(OR(Q65=1,Q65=2),\"x\",ROUND(Q65/$W65*100,1))","v":12.7},16.2,19.399999999999999,17.899999999999999,15,81.2,68404]
[null,"Sociology",10.6,15.6,19.899999999999999,18.8,15.9,80.7,8511,17.899999999999999,18.899999999999999,20,16.899999999999999,13.1,86.8,24487,16,18.100000000000001,20,17.399999999999999,13.8,85.2,32998]
[null,"Other social studies",10.6,13.4,17.399999999999999,17.2,15.8,74.5,4104,13.5,15.2,18.2,18.100000000000001,14.2,79.099999999999994,4694,12.1,14.4,17.8,17.7,15,76.900000000000006,8798]
[null,"Art and Design",13.6,16.5,21.1,19.100000000000001,14.3,84.7,16369,21.3,21.3,22.6,16.600000000000001,9.6999999999999993,91.5,33734,18.8,19.7,22.1,17.399999999999999,11.2,89.3,50103]
[null,"Drama",12.4,23.6,27.7,20.9,10.5,95,4823,18.399999999999999,28,28,16.3,6.3,97.1,10955,16.600000000000001,26.7,27.9,17.7,7.6,96.5,15778]
[null,"English",13.7,19.100000000000001,25,22.2,13.2,93.3,26370,15.2,20.6,26.3,21.8,11.3,95.2,58943,14.7,20.100000000000001,25.9,21.9,11.9,94.6,85313]
[null,"Media/Film/TV Studies",10,20,26.8,22.7,12.4,92,12925,15.2,24.4,27.7,19.399999999999999,8.1999999999999993,94.9,15858,12.9,22.5,27.3,20.9,10.1,93.6,28783]
[null,"Other Communication Studies",10.3,27.9,31.2,17.100000000000001,6.6,93.1,5952,13.5,28,29.9,16.3,7.4,95.1,8593,12.2,28,30.4,16.600000000000001,7,94.3,14545]
[null,"French",24.6,19.5,19.600000000000001,15.5,10.8,90,4671,21.8,18.600000000000001,19,16.8,13,89.1,11186,22.6,18.8,19.2,16.399999999999999,12.3,89.4,15857]
[null,"German",27.3,19.600000000000001,19.100000000000001,15.2,10.6,91.9,2316,19.899999999999999,20.399999999999999,21,17.7,12.7,91.8,4283,22.5,20.100000000000001,20.399999999999999,16.8,12,91.8,6599]
[null,"Spanish",24.1,19.600000000000001,19.8,16.3,11.6,91.4,1589,19.3,18.3,21.3,18.5,12.5,89.8,4158,20.6,18.600000000000001,20.9,17.899999999999999,12.2,90.2,5747]
[null,"Other modern languages",43.4,28,12.5,5.9,4.3,94,1361,44.4,24.2,10.9,8.1999999999999993,5.9,93.6,1993,43.9,25.8,11.5,7.3,5.2,93.8,3354]
[null,"Classical Studies",28.2,20.3,19.8,15.2,10,93.4,2409,32.6,23.4,21.7,12.4,5.7,95.9,3324,30.8,22.1,20.9,13.6,7.5,94.9,5733]
[null,"Religious Studies",18.899999999999999,20.6,21.3,16.8,11.1,88.7,5112,22.7,23,21.3,15.4,10,92.4,11194,21.5,22.2,21.3,15.8,10.3,91.2,16306]
[null,"Music",11.5,14.6,21.4,22.4,16.600000000000001,86.6,6511,18.2,20.3,22,19.5,12.7,92.7,4752,14.4,17,21.6,21.2,15,89.2,11263]
[null,"Physical Education",7.5,13.3,20.2,22.5,20.399999999999999,83.9,14849,16.5,18.2,20.9,19.100000000000001,14.7,89.4,10781,11.3,15.4,20.5,21.1,18,86.2,25630]
[null,"General Studies",{"$f":"IF(OR(C81=1,C81=2),\"x\",ROUND(C81/$I81*100,1))","v":8},11.5,16.600000000000001,19.899999999999999,19.5,75.400000000000006,49951,{"$f":"IF(OR(J81=1,J81=2),\"x\",ROUND(J81/$P81*100,1))","v":9.1},13,18.399999999999999,20.5,18.399999999999999,79.400000000000006,56709,{"$f":"IF(OR(Q81=1,Q81=2),\"x\",ROUND(Q81/$W81*100,1))","v":8.5},12.3,17.5,20.2,18.899999999999999,77.5,106660]
[null,"All Subjects",13.5,15.7,19.399999999999999,18.8,15.4,82.8,414047,16.8,18.7,20.9,18,13,87.4,492982,15.3,17.3,20.2,18.3,14.1,85.3,907029]
[]
[]
[]
[]
[]
[null,null,"Male",null,null,null,null,null,null,"Female",null,null,null,null,null,null,"Total"]
[null,null,"A","B","C","D","E","A-E","Entries","A","B","C","D","E","A-E","Entries","A","B","C","D","E","A-E","Entries"]
[null,"Biological Sciences",3090,3391,4000,4093,3989,18563,23633,5146,5402,5827,5534,5251,27160,33354,8236,8793,9827,9627,9240,45723,56987]
[null,"Chemistry",3577,3402,3488,3282,3004,16753,20322,3695,3681,3555,3140,2589,16660,19766,7272,7083,7043,6422,5593,33413,40088]
[null,"Physics",4036,3498,3651,3592,3108,17885,22154,1613,1286,1253,1044,881,6077,7048,5649,4784,4904,4636,3989,23962,29202]
[null,"Other Science",789,726,901,928,853,4197,5153,327,412,455,441,365,2000,2418,1116,1138,1356,1369,1218,6197,7571]
[null,"Mathematics",7429,4525,4538,4642,4382,25516,32921,5935,3663,3356,2887,2593,18434,22051,13364,8188,7894,7529,6975,43950,54972]
[null,"Further Mathematics",846,374,323,290,170,2003,2193,482,255,172,119,85,1113,1195,1328,629,495,409,255,3116,3388]
[null,"Design and Technology",957,1599,2353,2523,2214,9646,11651,1195,1514,1961,1743,1097,7510,8333,2152,3113,4314,4266,3311,17156,19984]
[null,"Computer Studies",765,1054,1357,1400,1261,5837,7585,73,100,111,143,138,565,769,838,1154,1468,1543,1399,6402,8354]
[null,"ICT",494,1200,2141,2884,2912,9631,12595,394,902,1350,1685,1487,5818,7231,888,2102,3491,4569,4399,15449,19826]
[null,"Home Economics","X","X",17,19,19,66,79,"X","X",109,87,69,404,442,63,87,126,106,88,470,521]
[null,"Accounting and Finance","X","X",590,660,746,2650,3841,"X","X",356,402,465,1685,2437,411,705,946,1062,1211,4335,6278]
[null,"Business Studies",1955,3477,4701,4441,3344,17918,20951,1897,2778,3451,3068,2320,13514,15737,3852,6255,8152,7509,5664,31432,36688]
[null,"Economics",2253,1826,1948,1682,1308,9017,10514,1152,859,784,727,559,4081,4719,3405,2685,2732,2409,1867,13098,15233]
[null,"Geography",2670,2906,3430,3111,2422,14539,16632,3342,2763,2653,2224,1619,12601,13933,6012,5669,6083,5335,4041,27140,30565]
[null,"Government and Politics",1216,1162,1345,1096,735,5554,6300,1040,842,872,733,563,4050,4604,2256,2004,2217,1829,1298,9604,10904]
[null,"History",3250,4292,5002,4127,2502,19173,20953,4189,5002,5185,4215,2604,21195,22964,7439,9294,10187,8342,5106,40368,43917]
[null,"Law",946,1208,1513,1571,1326,6564,8409,1816,2013,2356,2020,1753,9958,12271,2762,3221,3869,3591,3079,16522,20680]
[null,"Psychology",1542,2540,3751,3942,3533,15308,20338,7140,8568,9507,8282,6737,40234,48066,8682,11108,13258,12224,10270,55542,68404]
[null,"Sociology",899,1324,1693,1600,1353,6869,8511,4373,4634,4907,4139,3203,21256,24487,5272,5958,6600,5739,4556,28125,32998]
[null,"Other social studies",434,551,715,707,650,3057,4104,632,712,853,848,666,3711,4694,1066,1263,1568,1555,1316,6768,8798]
[null,"Art and Design",2231,2709,3461,3122,2344,13867,16369,7199,7182,7628,5592,3261,30862,33734,9430,9891,11089,8714,5605,44729,50103]
[null,"Drama",598,1136,1334,1007,508,4583,4823,2017,3071,3069,1787,692,10636,10955,2615,4207,4403,2794,1200,15219,15778]
[null,"English",3622,5048,6591,5841,3490,24592,26370,8949,12135,15514,12865,6678,56141,58943,12571,17183,22105,18706,10168,80733,85313]
[null,"Media/Film/TV Studies",1296,2590,3468,2934,1601,11889,12925,2407,3877,4385,3072,1303,15044,15858,3703,6467,7853,6006,2904,26933,28783]
[null,"Other Communication Studies",613,1661,1859,1016,393,5542,5952,1161,2408,2568,1399,632,8168,8593,1774,4069,4427,2415,1025,13710,14545]
[null,"French",1148,912,915,724,504,4203,4671,2435,2076,2123,1884,1451,9969,11186,3583,2988,3038,2608,1955,14172,15857]
[null,"German",633,455,442,352,246,2128,2316,852,874,901,759,545,3931,4283,1485,1329,1343,1111,791,6059,6599]
[null,"Spanish",383,311,315,259,184,1452,1589,801,759,885,769,518,3732,4158,1184,1070,1200,1028,702,5184,5747]
[null,"Other modern languages",590,381,170,80,58,1279,1361,884,483,217,164,118,1866,1993,1474,864,387,244,176,3145,3354]
[null,"Classical Studies",680,490,476,365,240,2251,2409,1085,777,722,413,190,3187,3324,1765,1267,1198,778,430,5438,5733]
[null,"Religious Studies",966,1051,1089,859,568,4533,5112,2538,2577,2387,1719,1118,10339,11194,3504,3628,3476,2578,1686,14872,16306]
[null,"Music",752,952,1394,1457,1082,5637,6511,867,964,1044,927,604,4406,4752,1619,1916,2438,2384,1686,10043,11263]
[null,"Physical Education",1117,1977,2995,3348,3027,12464,14849,1776,1962,2257,2060,1581,9636,10781,2893,3939,5252,5408,4608,22100,25630]
[null,"General Studies",3983,5726,8285,9928,9736,37658,49951,5133,7378,10427,11644,10448,45030,56709,9116,13104,18712,21572,20184,82688,106660]
[null,"All Subjects",55979,64900,80251,77882,63812,342824,414047,82800,92255,103200,88535,64183,430973,492982,138779,157155,183451,166417,127995,773797,907029]
[]
[]
[]
[]
[]
[null,null," "," "," "," ","GRADE",null,null,null,null,null,null,null,null,"GRADE_OTHERS"]
[null,null,null,null,null,null,"A","B","C","D","E","Q","U","X","Total","1_OTH","2_A-E","Total"]
[null,null,null,null,null,null,"Count","Count","Count","Count","Count","Count","Count","Count","Count","Count","Count","Count"]
[null,null,"GENDER","Total","NEW_MAJ","Biological Sciences",8092,8598,9603,9379,8981,22,10654,245,55574,10921,44653,55574]
[null,null,null,null,null,"Chemistry",7099,6925,6881,6257,5453,3,6346,138,39102,6487,32615,39102]
[null,null,null,null,null,"Physics",5512,4677,4800,4511,3873,6,4956,122,28457,5084,23373,28457]
[null,null,null,null,null,"Other Science",1095,1112,1326,1341,1200,0,1298,63,7435,1361,6074,7435]
[null,null,null,null,null,"Mathematics",13027,8022,7747,7358,6790,21,10289,383,53637,10693,42944,53637]
[null,null,null,null,null,"Further Mathematics",1303,620,485,394,246,0,230,36,3314,266,3048,3314]
[null,null,null,null,null,"Design and Technology",2099,3052,4224,4179,3234,2,2566,196,19552,2764,16788,19552]
[null,null,null,null,null,"Computer Studies",824,1137,1443,1513,1358,4,1815,70,8164,1889,6275,8164]
[null,null,null,null,null,"ICT",877,2072,3419,4458,4264,11,4026,188,19315,4225,15090,19315]
[null,null,null,null,null,"Home Economics",62,86,125,104,87,0,50,1,515,51,464,515]
[null,null,null,null,null,"Accounting and Finance",406,694,925,1037,1176,0,1794,69,6101,1863,4238,6101]
[null,null,null,null,null,"Business Studies",3786,6125,7961,7328,5487,2,4823,271,35783,5096,30687,35783]
[null,null,null,null,null,"Economics",3337,2627,2677,2353,1830,5,1965,103,14897,2073,12824,14897]
[null,null,null,null,null,"Geography",5945,5619,6030,5290,3990,11,3258,116,30259,3385,26874,30259]
[null,null,null,null,null,"Government and Politics",2213,1976,2179,1795,1264,1,1179,81,10688,1261,9427,10688]
[null,null,null,null,null,"History",7295,9109,9961,8155,4998,5,3257,199,42979,3461,39518,42979]
[null,null,null,null,null,"Law",2711,3164,3767,3488,3009,1,3694,365,20199,4060,16139,20199]
[null,null,null,null,null,"Psychology",8541,10888,12959,11946,9968,0,11718,728,66748,12446,54302,66748]
[null,null,null,null,null,"Sociology",5142,5794,6433,5587,4415,10,4406,312,32099,4728,27371,32099]
[null,null,null,null,null,"Other Social Studies",993,1176,1468,1462,1267,0,1715,261,8342,1976,6366,8342]
[null,null,null,null,null,"Art and Design",9303,9736,10890,8520,5462,1,3864,1387,49163,5252,43911,49163]
[null,null,null,null,null,"Drama",2579,4126,4312,2736,1173,3,477,71,15477,551,14926,15477]
[null,null,null,null,null,"English",12328,16867,21653,18193,9830,2,3805,622,83300,4429,78871,83300]
[null,null,null,null,null,"Media/Film/Television Studies",3613,6324,7644,5846,2816,4,1477,303,28027,1784,26243,28027]
[null,null,null,null,null,"Other Communication Studies",1747,3997,4329,2368,1006,0,590,229,14266,819,13447,14266]
[null,null,null,null,null,"French",3532,2930,2963,2565,1910,1,1569,93,15563,1663,13900,15563]
[null,null,null,null,null,"German",1443,1285,1314,1082,766,0,488,40,6418,528,5890,6418]
[null,null,null,null,null,"Spanish",1171,1051,1172,1007,689,0,488,56,5634,544,5090,5634]
[null,null,null,null,null,"Other Modern Languages",1446,847,369,238,170,2,132,64,3268,198,3070,3268]
[null,null,null,null,null,"Classical Studies",1756,1257,1180,771,422,0,261,31,5678,292,5386,5678]
[null,null,null,null,null,"Religious Studies",3431,3529,3372,2503,1641,2,1265,123,15866,1390,14476,15866]
[null,null,null,null,null,"Music",1606,1883,2380,2335,1659,0,1055,141,11059,1196,9863,11059]
[null,null,null,null,null,"Physical Education",2857,3880,5151,5298,4541,1,3287,175,25190,3463,21727,25190]
[null,null,null,null,null,"General Studies",8947,12877,18372,21194,19776,23,21417,1926,104532,23366,81166,104532]
[null,null,null,null,null,"Error",8,14,11,11,14,0,6,0,64,6,58,64]
[null,null,null,null,null,"Total",136126,154076,179525,162602,124765,143,120220,9208,886665,129571,757094,886665]
[null,null,null,"M","NEW_MAJ","Biological Sciences",3014,3316,3924,3985,3878,11,4814,110,23052,4935,18117,23052]
[null,null,null,null,null,"Chemistry",3460,3317,3407,3206,2927,2,3400,78,19797,3480,16317,19797]
[null,null,null,null,null,"Physics",3920,3412,3571,3498,3022,4,4054,90,21571,4148,17423,21571]
[null,null,null,null,null,"Other Science",769,710,880,912,845,0,900,46,5062,946,4116,5062]
[null,null,null,null,null,"Mathematics",7192,4421,4461,4540,4276,10,6943,225,32068,7178,24890,32068]
[null,null,null,null,null,"Further Mathematics",829,367,316,278,163,0,162,24,2139,186,1953,2139]
[null,null,null,null,null,"Design and Technology",923,1566,2300,2476,2174,1,1836,128,11404,1965,9439,11404]
[null,null,null,null,null,"Computer Studies",752,1037,1334,1373,1224,4,1629,57,7410,1690,5720,7410]
[null,null,null,null,null,"ICT",489,1187,2097,2821,2831,9,2740,123,12297,2872,9425,12297]
[null,null,null,null,null,"Home Economics",1,9,17,19,19,0,13,0,78,13,65,78]
[null,null,null,null,null,"Accounting and Finance",214,431,580,645,723,0,1102,39,3734,1141,2593,3734]
[null,null,null,null,null,"Business Studies",1914,3404,4586,4340,3239,2,2790,153,20428,2945,17483,20428]
[null,null,null,null,null,"Economics",2192,1782,1906,1637,1276,4,1383,68,10248,1455,8793,10248]
[null,null,null,null,null,"Geography",2609,2868,3394,3090,2392,7,2000,71,16431,2078,14353,16431]
[null,null,null,null,null,"Government and Politics",1180,1142,1319,1080,711,0,677,50,6159,727,5432,6159]
[null,null,null,null,null,"History",3167,4200,4890,4019,2452,1,1642,94,20465,1737,18728,20465]
[null,null,null,null,null,"Law",927,1186,1478,1538,1302,0,1646,150,8227,1796,6431,8227]
[null,null,null,null,null,"Psychology",1516,2489,3680,3865,3440,0,4641,243,19874,4884,14990,19874]
[null,null,null,null,null,"Sociology",870,1286,1649,1564,1319,0,1510,93,8291,1603,6688,8291]
[null,null,null,null,null,"Other Social Studies",410,518,673,660,632,0,895,120,3908,1015,2893,3908]
[null,null,null,null,null,"Art and Design",2198,2683,3407,3056,2282,0,1823,626,16075,2449,13626,16075]
[null,null,null,null,null,"Drama",592,1111,1317,979,492,0,218,19,4728,237,4491,4728]
[null,null,null,null,null,"English",3528,4968,6486,5680,3381,0,1526,197,25766,1723,24043,25766]
[null,null,null,null,null,"Media/Film/Television Studies",1268,2539,3398,2858,1557,1,838,162,12621,1001,11620,12621]
[null,null,null,null,null,"Other Communication Studies",604,1634,1822,998,388,0,289,114,5849,403,5446,5849]
[null,null,null,null,null,"French",1121,894,890,709,491,0,434,27,4566,461,4105,4566]
[null,null,null,null,null,"German",601,435,431,346,237,0,167,16,2233,183,2050,2233]
[null,null,null,null,null,"Spanish",381,308,306,250,180,0,114,19,1558,133,1425,1558]
[null,null,null,null,null,"Other Modern Languages",575,374,164,79,56,0,47,30,1325,77,1248,1325]
[null,null,null,null,null,"Classical Studies",675,485,469,361,239,0,139,18,2386,157,2229,2386]
[null,null,null,null,null,"Religious Studies",948,1025,1061,833,551,1,515,50,4984,566,4418,4984]
[null,null,null,null,null,"Music",744,934,1365,1433,1063,0,756,100,6395,856,5539,6395]
[null,null,null,null,null,"Physical Education",1097,1943,2936,3278,2984,0,2255,88,14581,2343,12238,14581]
[null,null,null,null,null,"General Studies",3884,5609,8113,9745,9527,19,11058,937,48892,12014,36878,48892]
[null,null,null,null,null,"Error",1,2,3,1,2,0,3,0,12,3,9,12]
[null,null,null,null,null,"Total",54565,63592,78630,76152,62275,76,64959,4365,404614,69400,335214,404614]
[null,null,null,"F","NEW_MAJ","Biological Sciences",5078,5282,5679,5394,5103,11,5840,135,32522,5986,26536,32522]
[null,null,null,null,null,"Chemistry",3639,3608,3474,3051,2526,1,2946,60,19305,3007,16298,19305]
[null,null,null,null,null,"Physics",1592,1265,1229,1013,851,2,902,32,6886,936,5950,6886]
[null,null,null,null,null,"Other Science",326,402,446,429,355,0,398,17,2373,415,1958,2373]
[null,null,null,null,null,"Mathematics",5835,3601,3286,2818,2514,11,3346,158,21569,3515,18054,21569]
[null,null,null,null,null,"Further Mathematics",474,253,169,116,83,0,68,12,1175,80,1095,1175]
[null,null,null,null,null,"Design and Technology",1176,1486,1924,1703,1060,1,730,68,8148,799,7349,8148]
[null,null,null,null,null,"Computer Studies",72,100,109,140,134,0,186,13,754,199,555,754]
[null,null,null,null,null,"ICT",388,885,1322,1637,1433,2,1286,65,7018,1353,5665,7018]
[null,null,null,null,null,"Home Economics",61,77,108,85,68,0,37,1,437,38,399,437]
[null,null,null,null,null,"Accounting and Finance",192,263,345,392,453,0,692,30,2367,722,1645,2367]
[null,null,null,null,null,"Business Studies",1872,2721,3375,2988,2248,0,2033,118,15355,2151,13204,15355]
[null,null,null,null,null,"Economics",1145,845,771,716,554,1,582,35,4649,618,4031,4649]
[null,null,null,null,null,"Geography",3336,2751,2636,2200,1598,4,1258,45,13828,1307,12521,13828]
[null,null,null,null,null,"Government and Politics",1033,834,860,715,553,1,502,31,4529,534,3995,4529]
[null,null,null,null,null,"History",4128,4909,5071,4136,2546,4,1615,105,22514,1724,20790,22514]
[null,null,null,null,null,"Law",1784,1978,2289,1950,1707,1,2048,215,11972,2264,9708,11972]
[null,null,null,null,null,"Psychology",7025,8399,9279,8081,6528,0,7077,485,46874,7562,39312,46874]
[null,null,null,null,null,"Sociology",4272,4508,4784,4023,3096,10,2896,219,23808,3125,20683,23808]
[null,null,null,null,null,"Other Social Studies",583,658,795,802,635,0,820,141,4434,961,3473,4434]
[null,null,null,null,null,"Art and Design",7105,7053,7483,5464,3180,1,2041,761,33088,2803,30285,33088]
[null,null,null,null,null,"Drama",1987,3015,2995,1757,681,3,259,52,10749,314,10435,10749]
[null,null,null,null,null,"English",8800,11899,15167,12513,6449,2,2279,425,57534,2706,54828,57534]
[null,null,null,null,null,"Media/Film/Television Studies",2345,3785,4246,2988,1259,3,639,141,15406,783,14623,15406]
[null,null,null,null,null,"Other Communication Studies",1143,2363,2507,1370,618,0,301,115,8417,416,8001,8417]
[null,null,null,null,null,"French",2411,2036,2073,1856,1419,1,1135,66,10997,1202,9795,10997]
[null,null,null,null,null,"German",842,850,883,736,529,0,321,24,4185,345,3840,4185]
[null,null,null,null,null,"Spanish",790,743,866,757,509,0,374,37,4076,411,3665,4076]
[null,null,null,null,null,"Other Modern Languages",871,473,205,159,114,2,85,34,1943,121,1822,1943]
[null,null,null,null,null,"Classical Studies",1081,772,711,410,183,0,122,13,3292,135,3157,3292]
[null,null,null,null,null,"Religious Studies",2483,2504,2311,1670,1090,1,750,73,10882,824,10058,10882]
[null,null,null,null,null,"Music",862,949,1015,902,596,0,299,41,4664,340,4324,4664]
[null,null,null,null,null,"Physical Education",1760,1937,2215,2020,1557,1,1032,87,10609,1120,9489,10609]
[null,null,null,null,null,"General Studies",5063,7268,10259,11449,10249,4,10359,989,55640,11352,44288,55640]
[null,null,null,null,null,"Error",7,12,8,10,12,0,3,0,52,3,49,52]
[null,null,null,null,null,"Total",81561,90484,100895,86450,62490,67,55261,4843,482051,60171,421880,482051]

{"sheet":"2006AS","index":25,"n_rows":82,"n_cols":23,"rows_kept":82,"cut":false,"hidden":true,"merged":[]}
[]
[]
[null,null,"Male",null,null,null,null,null,null,"Female",null,null,null,null,null,null,"Total"]
[null,null,"A","B","C","D","E","A-E","Entries","A","B","C","D","E","A-E","Entries","A","B","C","D","E","A-E","Entries"]
[]
[null,"Biological Sciences",{"$f":"IF(OR(C48=1,C48=2),\"x\",ROUND(C48/$I48*100,1))","v":14.3},{"$f":"IF(OR(D48=1,D48=2),\"x\",ROUND(D48/$I48*100,1))","v":14},15.9,17.100000000000001,17,78.2,{"$f":"ROUND(I48,0)","v":24278},{"$f":"IF(OR(J48=1,J48=2),\"x\",ROUND(J48/$P48*100,1))","v":16.5},{"$f":"IF(OR(K48=1,K48=2),\"x\",ROUND(K48/$P48*100,1))","v":15.4},16.399999999999999,16.8,15.7,80.900000000000006,{"$f":"ROUND(P48,0)","v":34246},{"$f":"IF(OR(Q48=1,Q48=2),\"x\",ROUND(Q48/$W48*100,1))","v":15.6},{"$f":"IF(OR(R48=1,R48=2),\"x\",ROUND(R48/$W48*100,1))","v":14.8},16.2,16.899999999999999,16.2,79.8,{"$f":"ROUND(W48,0)","v":58524}]
[null,"Chemistry",{"$f":"IF(OR(C49=1,C49=2),\"x\",ROUND(C49/$I49*100,1))","v":17.899999999999999},17.100000000000001,16.899999999999999,16.100000000000001,14.5,82.6,{"$f":"ROUND(I49,0)","v":20825},{"$f":"IF(OR(J49=1,J49=2),\"x\",ROUND(J49/$P49*100,1))","v":19},18.7,17.600000000000001,16.2,13.7,85.1,{"$f":"ROUND(P49,0)","v":20390},{"$f":"IF(OR(Q49=1,Q49=2),\"x\",ROUND(Q49/$W49*100,1))","v":18.5},17.899999999999999,17.2,16.100000000000001,14.1,83.8,{"$f":"ROUND(W49,0)","v":41215}]
[null,"Physics",18.899999999999999,15.9,16.3,15.6,14.4,81.099999999999994,22563,24.3,19.8,17.5,14.4,10.9,86.9,7185,20.2,16.8,16.600000000000001,15.3,13.5,82.5,29748]
[null,"Other Science",16.100000000000001,15,18.399999999999999,17.600000000000001,14.6,81.7,5453,12.4,17.3,20.399999999999999,17.5,14.8,82.4,2692,14.9,15.8,19.100000000000001,17.600000000000001,14.7,81.900000000000006,8145]
[null,"Mathematics",24.1,14.3,14.3,13.3,13,78.900000000000006,33966,26.4,16.7,15.9,14,11.2,84.2,23681,25,15.3,15,13.6,12.2,81.099999999999994,57647]
[null,"Further Mathematics",35.9,19.3,17,12.1,8.1,92.5,2537,41.3,20.6,16.5,9.8000000000000007,6.5,94.7,1541,38,19.8,16.8,11.2,7.5,93.4,4078]
[null,"Design and Technology",8.5,14.4,20,21.4,18.8,83.1,10942,15.6,18.399999999999999,22.7,19.7,14,90.3,8188,11.5,16.100000000000001,21.1,20.7,16.7,86.2,19130]
[null,"Computer Studies",11.1,13.1,16.8,19.5,17.8,78.3,6884,11.7,13.4,17.100000000000001,15.4,19.600000000000001,77.2,741,11.1,13.2,16.8,19.100000000000001,18,78.2,7625]
[null,"ICT",3.9,9.6999999999999993,17.8,22.2,22.5,76.099999999999994,11208,6.2,12.3,19.5,23.4,20.100000000000001,81.5,6613,4.8,10.6,18.399999999999999,22.7,21.6,78.099999999999994,17821]
[null,"Home Economics",4.8,9.5,15.9,25.4,30.2,85.7,63,16.2,12.9,20.7,21.8,17.600000000000001,89.2,426,14.7,12.5,20,22.3,19.2,88.8,489]
[null,"Accounting and Finance",6.1,10.199999999999999,14.3,17.600000000000001,19.3,67.599999999999994,4131,6.7,10,14.8,17.5,18.899999999999999,68,2549,6.4,10.199999999999999,14.5,17.5,19.2,67.8,6680]
[null,"Business Studies",9.6999999999999993,16.100000000000001,22.4,21.1,16.7,85.9,20867,12.4,17,21.1,19.8,15.1,85.4,15546,10.8,16.5,21.9,20.5,16,85.7,36413]
[null,"Economics",20.3,18.399999999999999,18.100000000000001,16.2,12.7,85.7,10560,25.1,19.399999999999999,17.899999999999999,14.6,11.1,88.1,4855,21.8,18.7,18,15.7,12.2,86.5,15415]
[null,"Geography",17.399999999999999,17.5,20,19.100000000000001,14.4,88.3,16602,25,19.2,19.2,15.9,11.2,90.5,13735,20.8,18.3,19.600000000000001,17.600000000000001,13,89.3,30337]
[null,"Government and Politics",20.399999999999999,19.399999999999999,19.8,16.8,12,88.4,6874,22,19.600000000000001,19.3,16.399999999999999,11.5,88.9,5444,21.1,19.5,19.600000000000001,16.600000000000001,11.8,88.6,12318]
[null,"History",16.100000000000001,20.399999999999999,23.6,18.899999999999999,12.8,91.8,20978,18.3,22.3,22.2,17.899999999999999,11.2,91.9,23098,17.2,21.4,22.9,18.399999999999999,12,91.8,44076]
[null,"Law",11.6,14.2,17.8,18.899999999999999,15.9,78.400000000000006,8861,15,16,18.7,16.899999999999999,14.5,81,12124,13.5,15.2,18.3,17.7,15.1,79.900000000000006,20985]
[null,"Psychology",{"$f":"IF(OR(C65=1,C65=2),\"x\",ROUND(C65/$I65*100,1))","v":7.1},12,17.3,19.7,18.3,74.5,20638,{"$f":"IF(OR(J65=1,J65=2),\"x\",ROUND(J65/$P65*100,1))","v":14.4},16.899999999999999,19.5,17.8,14.4,83.1,49515,{"$f":"IF(OR(Q65=1,Q65=2),\"x\",ROUND(Q65/$W65*100,1))","v":12.3},15.5,18.899999999999999,18.399999999999999,15.5,80.5,70153]
[null,"Sociology",11.8,15.8,19.899999999999999,18.7,15.8,82,8861,18.7,18.899999999999999,19.899999999999999,16.899999999999999,12.7,87.1,24866,16.899999999999999,18.100000000000001,19.899999999999999,17.399999999999999,13.5,85.8,33727]
[null,"Other social studies",10.7,14.1,18.100000000000001,18,15.5,76.3,4049,13.2,15.1,19.7,17.5,14.4,79.900000000000006,4828,12,14.7,19,17.7,14.9,78.3,8877]
[null,"Art and Design",15.4,17.100000000000001,22.2,19.2,13.5,87.3,15846,22.4,22.1,23.1,16.100000000000001,9.1999999999999993,92.9,34180,20.2,20.5,22.8,17.100000000000001,10.6,91.2,50026]
[null,"Drama",12,20.9,28,23.2,10.8,94.9,4778,19.3,26.3,27.3,16.899999999999999,7,96.8,11334,17.2,24.7,27.5,18.8,8.1,96.3,16112]
[null,"English",14.8,19.3,25.1,22.3,12.5,93.9,26168,16.2,21.1,26.6,21.4,10.5,95.7,59077,15.8,20.5,26.1,21.7,11.1,95.2,85245]
[null,"Media/Film/TV Studies",9.8000000000000007,20.6,27.2,21.8,12.3,91.7,13409,15.4,24.8,26.8,18.8,8.9,94.7,16495,12.9,22.9,27,20.100000000000001,10.4,93.4,29904]
[null,"Other Communication Studies",9.9,27.6,33.9,16.7,6.4,94.6,6264,14.1,29.4,30.6,15.6,6.6,96.2,8281,12.3,28.6,32,16.100000000000001,6.5,95.5,14545]
[null,"French",26.8,18.899999999999999,19,15.2,10.4,90.4,4608,22.9,19.100000000000001,19.100000000000001,16.399999999999999,12.2,89.7,10805,24,19,19,16.100000000000001,11.6,89.9,15413]
[null,"German",25.4,18.8,20.6,16.2,10.1,91.1,2405,22.7,20.9,21.6,16,10.5,91.7,4214,23.6,20.100000000000001,21.3,16.100000000000001,10.4,91.5,6619]
[null,"Spanish",24.4,21.8,18.8,16.3,10.6,91.8,1865,20,20,19.5,18.899999999999999,12.3,90.8,4267,21.3,20.5,19.3,18.100000000000001,11.8,91.1,6132]
[null,"Other modern languages",48.9,23.4,10.3,5.6,5.2,93.3,1548,50,21.1,11.3,5.3,5.2,92.9,2045,49.5,22.1,10.9,5.4,5.2,93.1,3593]
[null,"Classical Studies",28.4,19.2,20.2,14.5,10.8,93,2684,32.4,22.7,19.8,13,7.9,95.8,3418,30.6,21.1,20,13.6,9.1999999999999993,94.6,6102]
[null,"Religious Studies",19.399999999999999,21.8,21.2,16.399999999999999,11.7,90.6,5661,23.1,24.2,22.1,15.3,8.6,93.2,11724,21.9,23.4,21.8,15.6,9.6,92.4,17385]
[null,"Music",11.9,16.3,21.8,22.1,16.3,88.4,6891,17.600000000000001,18.399999999999999,22.8,21.1,13,92.9,4577,14.2,17.2,22.2,21.7,15,90.2,11468]
[null,"Physical Education",8.1999999999999993,13,19.600000000000001,22.5,21.3,84.6,15253,16.100000000000001,17,20.6,19.8,15.5,89,11205,11.5,14.7,20,21.4,18.899999999999999,86.5,26458]
[null,"General Studies",{"$f":"IF(OR(C81=1,C81=2),\"x\",ROUND(C81/$I81*100,1))","v":7.6},11.4,17.5,20.6,20.100000000000001,77.099999999999994,49361,{"$f":"IF(OR(J81=1,J81=2),\"x\",ROUND(J81/$P81*100,1))","v":8.5},13.1,18.2,20.8,19.399999999999999,80.099999999999994,57998,{"$f":"IF(OR(Q81=1,Q81=2),\"x\",ROUND(Q81/$W81*100,1))","v":8.1},12.3,17.899999999999999,20.7,19.7,78.7,107359]
[null,"All Subjects",14.2,15.8,19.399999999999999,18.7,15.4,83.5,417881,17.3,18.7,20.8,17.899999999999999,13,87.7,501883,15.9,17.399999999999999,20.2,18.3,14.1,85.8,919764]
[]
[]
[]
[]
[]
[null,null,"Male",null,null,null,null,null,null,"Female",null,null,null,null,null,null,"Total"]
[null,null,"A","B","C","D","E","A-E","Entries","A","B","C","D","E","A-E","Entries","A","B","C","D","E","A-E","Entries"]
[null,"Biological Sciences",3465,3405,3862,4148,4116,18996,24278,5662,5270,5628,5759,5386,27705,34246,9127,8675,9490,9907,9502,46701,58524]
[null,"Chemistry",3728,3566,3510,3362,3029,17195,20825,3878,3810,3581,3294,2797,17360,20390,7606,7376,7091,6656,5826,34555,41215]
[null,"Physics",4272,3582,3676,3523,3239,18292,22563,1748,1424,1258,1034,781,6245,7185,6020,5006,4934,4557,4020,24537,29748]
[null,"Other Science",877,816,1005,959,798,4455,5453,333,467,549,472,398,2219,2692,1210,1283,1554,1431,1196,6674,8145]
[null,"Mathematics",8178,4854,4848,4534,4402,26816,33966,6261,3953,3775,3313,2643,19945,23681,14439,8807,8623,7847,7045,46761,57647]
[null,"Further Mathematics",912,490,432,307,206,2347,2537,637,318,254,151,100,1460,1541,1549,808,686,458,306,3807,4078]
[null,"Design and Technology",934,1571,2183,2345,2056,9089,10942,1274,1503,1859,1612,1148,7396,8188,2208,3074,4042,3957,3204,16485,19130]
[null,"Computer Studies",762,904,1157,1339,1225,5387,6884,87,99,127,114,145,572,741,849,1003,1284,1453,1370,5959,7625]
[null,"ICT",438,1084,1991,2491,2527,8531,11208,411,812,1290,1548,1326,5387,6613,849,1896,3281,4039,3853,13918,17821]
[null,"Home Economics",3,6,10,16,19,54,63,69,55,88,93,75,380,426,72,61,98,109,94,434,489]
[null,"Accounting and Finance",253,423,592,726,799,2793,4131,172,256,377,446,483,1734,2549,425,679,969,1172,1282,4527,6680]
[null,"Business Studies",2015,3360,4680,4398,3475,17928,20867,1930,2642,3283,3082,2340,13277,15546,3945,6002,7963,7480,5815,31205,36413]
[null,"Economics",2140,1944,1911,1710,1346,9051,10560,1221,943,867,707,540,4278,4855,3361,2887,2778,2417,1886,13329,15415]
[null,"Geography",2886,2898,3313,3168,2391,14656,16602,3437,2642,2631,2178,1545,12433,13735,6323,5540,5944,5346,3936,27089,30337]
[null,"Government and Politics",1400,1336,1359,1155,824,6074,6874,1200,1067,1053,892,625,4837,5444,2600,2403,2412,2047,1449,10911,12318]
[null,"History",3376,4284,4941,3969,2690,19260,20978,4221,5147,5131,4130,2593,21222,23098,7597,9431,10072,8099,5283,40482,44076]
[null,"Law",1026,1256,1578,1678,1406,6944,8861,1814,1943,2271,2044,1754,9826,12124,2840,3199,3849,3722,3160,16770,20985]
[null,"Psychology",1472,2485,3576,4073,3770,15376,20638,7141,8371,9675,8801,7135,41123,49515,8613,10856,13251,12874,10905,56499,70153]
[null,"Sociology",1044,1396,1764,1660,1402,7266,8861,4659,4708,4956,4197,3148,21668,24866,5703,6104,6720,5857,4550,28934,33727]
[null,"Other social studies",433,572,731,728,626,3090,4049,636,729,953,844,695,3857,4828,1069,1301,1684,1572,1321,6947,8877]
[null,"Art and Design",2442,2706,3514,3035,2139,13836,15846,7660,7553,7897,5513,3145,31768,34180,10102,10259,11411,8548,5284,45604,50026]
[null,"Drama",574,997,1339,1110,515,4535,4778,2193,2984,3097,1914,788,10976,11334,2767,3981,4436,3024,1303,15511,16112]
[null,"English",3869,5040,6557,5833,3264,24563,26168,9576,12442,15719,12639,6174,56550,59077,13445,17482,22276,18472,9438,81113,85245]
[null,"Media/Film/TV Studies",1315,2768,3648,2918,1647,12296,13409,2538,4087,4425,3102,1472,15624,16495,3853,6855,8073,6020,3119,27920,29904]
[null,"Other Communication Studies",622,1731,2125,1045,402,5925,6264,1168,2432,2530,1290,547,7967,8281,1790,4163,4655,2335,949,13892,14545]
[null,"French",1234,873,876,702,480,4165,4608,2472,2063,2060,1777,1315,9687,10805,3706,2936,2936,2479,1795,13852,15413]
[null,"German",610,451,496,389,244,2190,2405,955,879,912,676,443,3865,4214,1565,1330,1408,1065,687,6055,6619]
[null,"Spanish",455,406,350,304,198,1713,1865,852,854,834,808,526,3874,4267,1307,1260,1184,1112,724,5587,6132]
[null,"Other modern languages",757,362,159,86,80,1444,1548,1022,431,232,109,106,1900,2045,1779,793,391,195,186,3344,3593]
[null,"Classical Studies",761,514,543,388,289,2495,2684,1109,776,678,443,270,3276,3418,1870,1290,1221,831,559,5771,6102]
[null,"Religious Studies",1101,1235,1199,929,664,5128,5661,2705,2836,2590,1790,1010,10931,11724,3806,4071,3789,2719,1674,16059,17385]
[null,"Music",819,1126,1501,1520,1123,6089,6891,805,843,1045,964,596,4253,4577,1624,1969,2546,2484,1719,10342,11468]
[null,"Physical Education",1245,1986,2994,3426,3253,12904,15253,1804,1906,2303,2224,1741,9978,11205,3049,3892,5297,5650,4994,22882,26458]
[null,"General Studies",3769,5623,8619,10152,9899,38062,49361,4950,7616,10580,12074,11240,46460,57998,8719,13239,19199,22226,21139,84522,107359]
[null,"All Subjects",59187,66050,81039,78126,64543,348945,417881,86600,93861,104508,90034,65030,440033,501883,145787,159911,185547,168160,129573,788978,919764]

{"sheet":"2007AS","index":26,"n_rows":82,"n_cols":23,"rows_kept":82,"cut":false,"hidden":true,"merged":[]}
[]
[]
[null,null,"Male",null,null,null,null,null,null,"Female",null,null,null,null,null,null,"Total"]
[null,null,"A","B","C","D","E","A-E","Entries","A","B","C","D","E","A-E","Entries","A","B","C","D","E","A-E","Entries"]
[]
[null,"Biological Sciences",{"$f":"IF(OR(C48=1,C48=2),\"x\",ROUND(C48/$I48*100,1))","v":14.2},{"$f":"IF(OR(D48=1,D48=2),\"x\",ROUND(D48/$I48*100,1))","v":14.5},16.399999999999999,17,17,79.099999999999994,{"$f":"ROUND(I48,0)","v":25247},{"$f":"IF(OR(J48=1,J48=2),\"x\",ROUND(J48/$P48*100,1))","v":16.7},{"$f":"IF(OR(K48=1,K48=2),\"x\",ROUND(K48/$P48*100,1))","v":16.100000000000001},17.2,16.600000000000001,15.7,82.3,{"$f":"ROUND(P48,0)","v":34553},{"$f":"IF(OR(Q48=1,Q48=2),\"x\",ROUND(Q48/$W48*100,1))","v":15.6},{"$f":"IF(OR(R48=1,R48=2),\"x\",ROUND(R48/$W48*100,1))","v":15.4},16.899999999999999,16.7,16.3,80.900000000000006,{"$f":"ROUND(W48,0)","v":59800}]
[null,"Chemistry",{"$f":"IF(OR(C49=1,C49=2),\"x\",ROUND(C49/$I49*100,1))","v":18.7},16.8,17,15.6,14.1,82.2,{"$f":"ROUND(I49,0)","v":21963},{"$f":"IF(OR(J49=1,J49=2),\"x\",ROUND(J49/$P49*100,1))","v":18.899999999999999},19.100000000000001,17.600000000000001,15.6,13.4,84.7,{"$f":"ROUND(P49,0)","v":21142},{"$f":"IF(OR(Q49=1,Q49=2),\"x\",ROUND(Q49/$W49*100,1))","v":18.8},18,17.3,15.6,13.7,83.4,{"$f":"ROUND(W49,0)","v":43105}]
[null,"Physics",19.2,15.8,16.3,16.100000000000001,14.3,81.7,23311,24.8,19,16.7,14.8,11.6,86.9,7459,20.6,16.600000000000001,16.399999999999999,15.8,13.6,83,30770]
[null,"Other Science",15.9,14.7,18.3,17.8,15.8,82.5,5025,15.8,15.5,18.899999999999999,17.2,15.5,82.9,2561,15.9,15,18.5,17.600000000000001,15.7,82.7,7586]
[null,"Mathematics",23.2,14,14.2,14.5,13,78.900000000000006,36844,25.7,16.3,15.6,13.9,12.3,83.7,26052,24.3,15,14.8,14.2,12.7,80.900000000000006,62896]
[null,"Further Mathematics",37.299999999999997,18.399999999999999,16.3,10.7,7.8,90.5,3079,40.4,20.5,14.7,10,6.3,91.9,1833,38.5,19.2,15.7,10.4,7.3,91,4912]
[null,"Design and Technology",8.8000000000000007,14.4,20.399999999999999,21.8,18.3,83.7,10916,14.9,18.8,22.3,19.3,14.6,90,8063,11.4,16.3,21.2,20.7,16.8,86.4,18979]
[null,"Computer Studies",9.6999999999999993,13.7,17.8,19.3,17.100000000000001,77.599999999999994,6622,10.3,12.5,18.100000000000001,18.8,15.8,75.5,697,9.6999999999999993,13.6,17.899999999999999,19.3,17,77.400000000000006,7319]
[null,"ICT",3.5,9.5,16.899999999999999,22.5,22.7,75.099999999999994,10169,6,12.9,17.600000000000001,22.6,21,80.2,5888,4.4000000000000004,10.8,17.2,22.5,22.1,77,16057]
[null,"Home Economics",6.3,6.3,18.8,18.8,31.3,81.3,48,18.600000000000001,19.399999999999999,20.2,18.600000000000001,13.7,90.4,387,17.2,17.899999999999999,20,18.600000000000001,15.6,89.4,435]
[null,"Accounting and Finance",6.3,8.8000000000000007,14,19.399999999999999,19.399999999999999,68,4495,6.9,10.8,13.2,18.3,20.5,69.7,2710,6.6,9.6,13.7,19,19.8,68.599999999999994,7205]
[null,"Business Studies",10,17.399999999999999,21.9,20.8,15.4,85.6,21007,12.6,18.600000000000001,21.9,19.3,13.8,86.3,15547,11.1,17.899999999999999,21.9,20.2,14.8,85.9,36554]
[null,"Economics",19.8,17.899999999999999,18.8,16.7,12.8,86.1,11460,22.9,19.100000000000001,17.8,15.5,12,87.3,5379,20.8,18.3,18.5,16.3,12.6,86.5,16839]
[null,"Geography",17.899999999999999,18,20.3,17.899999999999999,14,88,16467,24.6,19.5,19.2,16.3,10.9,90.5,13804,20.9,18.7,19.8,17.2,12.6,89.2,30271]
[null,"Government and Politics",21.2,20.6,20.6,15.8,10.8,89,6755,23.7,20.9,18.899999999999999,14,10.6,88.1,5452,22.3,20.8,19.8,15,10.7,88.6,12207]
[null,"History",16,21.3,24.3,18.899999999999999,11.6,92.1,21781,18.5,22.7,23.2,18,10.6,93,23627,17.3,22,23.7,18.399999999999999,11.1,92.6,45408]
[null,"Law",11,13.2,17.5,17.899999999999999,17,76.7,8897,14.6,15.3,17.5,17.8,14.9,80.2,12592,13.1,14.5,17.5,17.8,15.8,78.7,21489]
[null,"Psychology",{"$f":"IF(OR(C65=1,C65=2),\"x\",ROUND(C65/$I65*100,1))","v":7.8},12.2,17,20.100000000000001,18.2,75.2,21173,{"$f":"IF(OR(J65=1,J65=2),\"x\",ROUND(J65/$P65*100,1))","v":14.4},16.2,19.2,17.899999999999999,14.8,82.6,50393,{"$f":"IF(OR(Q65=1,Q65=2),\"x\",ROUND(Q65/$W65*100,1))","v":12.5},15,18.600000000000001,18.600000000000001,15.8,80.400000000000006,71566]
[null,"Sociology",10.9,16.100000000000001,19.899999999999999,18.7,16.399999999999999,82,9148,17.899999999999999,18.7,19.600000000000001,17.7,12.9,86.6,25980,16.100000000000001,18,19.600000000000001,17.899999999999999,13.8,85.4,35128]
[null,"Other social studies",11.6,14.4,18.100000000000001,18,15.8,77.900000000000006,4056,12.6,16.5,18.2,17.7,14.9,79.8,4756,12.1,15.5,18.100000000000001,17.8,15.3,78.900000000000006,8812]
[null,"Art and Design",14.7,16.5,22.4,20.6,14.2,88.3,16308,20.8,22,23.8,17.399999999999999,9.5,93.5,35838,18.899999999999999,20.3,23.4,18.399999999999999,11,91.9,52146]
[null,"Drama",12.8,22.6,29.2,20.3,10,94.9,5059,18.5,27.4,27.8,16.600000000000001,6.5,96.9,11156,16.7,25.9,28.2,17.8,7.6,96.3,16215]
[null,"English",13.8,19.3,25.6,22.6,12.9,94.2,27369,15.6,21.5,26.8,21.5,10.4,95.8,61172,15,20.8,26.4,21.9,11.2,95.3,88541]
[null,"Media/Film/TV Studies",8.9,19.600000000000001,27.1,22.9,12.9,91.4,14138,14.2,24.8,27.8,19,8.9,94.6,16918,11.8,22.4,27.5,20.8,10.7,93.1,31056]
[null,"Other Communication Studies",9.5,25.3,33.9,19.899999999999999,7,95.5,6108,13.5,29.2,30.9,16.7,5.8,96.2,7847,11.8,27.5,32.200000000000003,18.100000000000001,6.3,95.9,13955]
[null,"French",26.9,18.3,18.8,15.4,10.7,90.2,4602,24.2,20,18.600000000000001,15.6,11.5,89.9,11262,25,19.5,18.7,15.5,11.3,90,15864]
[null,"German",23.6,21.9,19.5,15.3,10.9,91.2,2339,22.1,21,20.3,16.2,11.7,91.2,4280,22.6,21.3,20,15.9,11.4,91.2,6619]
[null,"Spanish",23.5,21.9,19.600000000000001,16.3,10.5,91.9,1835,21.4,19.5,20.3,17.5,12,90.7,4622,22,20.100000000000001,20.100000000000001,17.2,11.6,91,6457]
[null,"Other modern languages",51.2,20.5,9.1999999999999993,7.3,3.5,91.8,1538,52.5,18.8,10.3,7.6,5.3,94.4,2167,52,19.5,9.9,7.5,4.5,93.3,3705]
[null,"Classical Studies",29,20,18,16,10,93,2552,34.299999999999997,22.6,19.100000000000001,12.3,6.9,95.2,3278,32,21.5,18.600000000000001,13.9,8.3000000000000007,94.2,5830]
[null,"Religious Studies",18.8,22.7,21.5,16.5,10.5,90,6167,22.2,24.4,21.9,15.7,8.9,93.1,12591,21.1,23.8,21.8,15.9,9.5,92.1,18758]
[null,"Music",11.7,16.2,21.5,22,16.7,88,7265,18.2,19.8,23,19.100000000000001,12.7,92.9,4479,14.2,17.600000000000001,22.1,20.9,15.2,89.9,11744]
[null,"Physical Education",8.1,12.5,19.5,22.4,21.1,83.7,15792,16.100000000000001,18,21,19.399999999999999,15.2,89.7,11267,11.4,14.8,20.2,21.2,18.7,86.2,27059]
[null,"General Studies",{"$f":"IF(OR(C81=1,C81=2),\"x\",ROUND(C81/$I81*100,1))","v":8},11.9,17.3,20.399999999999999,19.600000000000001,77.2,49825,{"$f":"IF(OR(J81=1,J81=2),\"x\",ROUND(J81/$P81*100,1))","v":9.3000000000000007},13.5,18.8,20.399999999999999,18.8,80.7,58765,{"$f":"IF(OR(Q81=1,Q81=2),\"x\",ROUND(Q81/$W81*100,1))","v":8.6999999999999993},12.8,18.100000000000001,20.399999999999999,19.2,79.099999999999994,108590]
[null,"All Subjects",14.2,15.9,19.5,18.8,15.2,83.6,429360,17.100000000000001,18.899999999999999,20.9,18,12.9,87.8,514517,15.8,17.600000000000001,20.2,18.3,14,85.9,943877]
[]
[]
[]
[]
[]
[null,null,"Male",null,null,null,null,null,null,"Female",null,null,null,null,null,null,"Total"]
[null,null,"A","B","C","D","E","A-E","Entries","A","B","C","D","E","A-E","Entries","A","B","C","D","E","A-E","Entries"]
[null,"Biological Sciences",3588,3652,4153,4282,4290,19965,25247,5760,5561,5949,5719,5440,28429,34553,9348,9213,10102,10001,9730,48394,59800]
[null,"Chemistry",4112,3694,3739,3427,3087,18059,21963,4006,4044,3726,3307,2829,17912,21142,8118,7738,7465,6734,5916,35971,43105]
[null,"Physics",4481,3678,3798,3763,3332,19052,23311,1849,1416,1246,1107,865,6483,7459,6330,5094,5044,4870,4197,25535,30770]
[null,"Other Science",798,739,921,895,794,4147,5025,405,397,485,440,396,2123,2561,1203,1136,1406,1335,1190,6270,7586]
[null,"Mathematics",8557,5148,5240,5338,4800,29083,36844,6700,4256,4055,3609,3193,21813,26052,15257,9404,9295,8947,7993,50896,62896]
[null,"Further Mathematics",1150,566,502,328,241,2787,3079,741,375,269,184,116,1685,1833,1891,941,771,512,357,4472,4912]
[null,"Design and Technology",963,1574,2226,2377,2001,9141,10916,1204,1516,1795,1560,1178,7253,8063,2167,3090,4021,3937,3179,16394,18979]
[null,"Computer Studies",641,905,1182,1278,1135,5141,6622,72,87,126,131,110,526,697,713,992,1308,1409,1245,5667,7319]
[null,"ICT",351,970,1719,2285,2313,7638,10169,355,759,1039,1332,1239,4724,5888,706,1729,2758,3617,3552,12362,16057]
[null,"Home Economics",3,3,9,9,15,39,48,72,75,78,72,53,350,387,75,78,87,81,68,389,435]
[null,"Accounting and Finance",285,396,631,872,871,3055,4495,187,293,357,497,555,1889,2710,472,689,988,1369,1426,4944,7205]
[null,"Business Studies",2106,3656,4603,4363,3244,17972,21007,1955,2899,3407,3006,2149,13416,15547,4061,6555,8010,7369,5393,31388,36554]
[null,"Economics",2273,2052,2159,1915,1470,9869,11460,1232,1028,957,833,644,4694,5379,3505,3080,3116,2748,2114,14563,16839]
[null,"Geography",2947,2961,3336,2948,2302,14494,16467,3394,2696,2657,2252,1500,12499,13804,6341,5657,5993,5200,3802,26993,30271]
[null,"Government and Politics",1430,1394,1391,1070,730,6015,6755,1293,1142,1028,762,580,4805,5452,2723,2536,2419,1832,1310,10820,12207]
[null,"History",3495,4634,5285,4123,2518,20055,21781,4368,5373,5481,4244,2511,21977,23627,7863,10007,10766,8367,5029,42032,45408]
[null,"Law",980,1177,1561,1593,1509,6820,8897,1837,1931,2209,2240,1881,10098,12592,2817,3108,3770,3833,3390,16918,21489]
[null,"Psychology",1645,2576,3592,4254,3863,15930,21173,7266,8158,9696,9027,7464,41611,50393,8911,10734,13288,13281,11327,57541,71566]
[null,"Sociology",1000,1476,1818,1707,1502,7503,9148,4640,4848,5082,4596,3343,22509,25980,5640,6324,6900,6303,4845,30012,35128]
[null,"Other social studies",469,585,733,729,642,3158,4056,600,783,865,840,708,3796,4756,1069,1368,1598,1569,1350,6954,8812]
[null,"Art and Design",2395,2686,3658,3356,2309,14404,16308,7445,7882,8547,6232,3416,33522,35838,9840,10568,12205,9588,5725,47926,52146]
[null,"Drama",648,1141,1477,1027,508,4801,5059,2064,3058,3100,1857,727,10806,11156,2712,4199,4577,2884,1235,15607,16215]
[null,"English",3770,5295,7007,6193,3524,25789,27369,9533,13140,16380,13173,6376,58602,61172,13303,18435,23387,19366,9900,84391,88541]
[null,"Media/Film/TV Studies",1256,2764,3833,3239,1826,12918,14138,2394,4199,4702,3206,1500,16001,16918,3650,6963,8535,6445,3326,28919,31056]
[null,"Other Communication Studies",583,1545,2070,1213,425,5836,6108,1061,2295,2423,1311,456,7546,7847,1644,3840,4493,2524,881,13382,13955]
[null,"French",1240,841,867,711,491,4150,4602,2724,2253,2095,1752,1300,10124,11262,3964,3094,2962,2463,1791,14274,15864]
[null,"German",551,512,455,359,255,2132,2339,945,899,867,693,499,3903,4280,1496,1411,1322,1052,754,6035,6619]
[null,"Spanish",432,401,360,300,193,1686,1835,991,900,938,809,554,4192,4622,1423,1301,1298,1109,747,5878,6457]
[null,"Other modern languages",788,316,142,112,54,1412,1538,1137,407,223,165,114,2046,2167,1925,723,365,277,168,3458,3705]
[null,"Classical Studies",739,510,460,409,255,2373,2552,1124,742,625,403,226,3120,3278,1863,1252,1085,812,481,5493,5830]
[null,"Religious Studies",1160,1397,1327,1016,650,5550,6167,2797,3076,2755,1972,1123,11723,12591,3957,4473,4082,2988,1773,17273,18758]
[null,"Music",848,1175,1559,1595,1215,6392,7265,815,888,1032,857,571,4163,4479,1663,2063,2591,2452,1786,10555,11744]
[null,"Physical Education",1276,1978,3082,3540,3339,13215,15792,1809,2032,2371,2190,1710,10112,11267,3085,4010,5453,5730,5049,23327,27059]
[null,"General Studies",4004,5930,8618,10146,9765,38463,49825,5462,7919,11029,11979,11050,47439,58765,9466,13849,19647,22125,20815,85902,108590]
[null,"All Subjects",60964,68327,83513,80772,65468,359044,429360,88237,97327,107594,92357,66376,451891,514517,149201,165654,191107,173129,131844,810935,943877]

{"sheet":"2008AS","index":27,"n_rows":82,"n_cols":23,"rows_kept":82,"cut":false,"hidden":true,"merged":[]}
[]
[]
[null,null,"Males",null,null,null,null,null,null,"Females",null,null,null,null,null,null,"Total"]
[null,null,"A","B","C","D","E","A-E","Entries","A","B","C","D","E","A-E","Entries","A","B","C","D","E","A-E","Entries"]
[]
[null,"Biological Sciences",{"$f":"IF(OR(C48=1,C48=2),\"x\",ROUND(C48/$I48*100,1))","v":14.2},{"$f":"IF(OR(D48=1,D48=2),\"x\",ROUND(D48/$I48*100,1))","v":13.9},16.8,17.399999999999999,17,79.3,{"$f":"ROUND(I48,0)","v":24993},{"$f":"IF(OR(J48=1,J48=2),\"x\",ROUND(J48/$P48*100,1))","v":16.600000000000001},{"$f":"IF(OR(K48=1,K48=2),\"x\",ROUND(K48/$P48*100,1))","v":15.5},17.2,17.100000000000001,16,82.4,{"$f":"ROUND(P48,0)","v":32712},{"$f":"IF(OR(Q48=1,Q48=2),\"x\",ROUND(Q48/$W48*100,1))","v":15.5},{"$f":"IF(OR(R48=1,R48=2),\"x\",ROUND(R48/$W48*100,1))","v":14.8},17,17.2,16.399999999999999,81,{"$f":"ROUND(W48,0)","v":57705}]
[null,"Chemistry",{"$f":"IF(OR(C49=1,C49=2),\"x\",ROUND(C49/$I49*100,1))","v":17.3},16.3,17.100000000000001,16.600000000000001,15.1,82.5,{"$f":"ROUND(I49,0)","v":22228},{"$f":"IF(OR(J49=1,J49=2),\"x\",ROUND(J49/$P49*100,1))","v":18.100000000000001},17.5,17.899999999999999,16.7,14,84.2,{"$f":"ROUND(P49,0)","v":21096},{"$f":"IF(OR(Q49=1,Q49=2),\"x\",ROUND(Q49/$W49*100,1))","v":17.7},16.899999999999999,17.5,16.600000000000001,14.6,83.3,{"$f":"ROUND(W49,0)","v":43324}]
[null,"Physics",18.899999999999999,15.7,16.5,16.3,14.3,81.7,23658,24.5,18.5,16.899999999999999,15.7,11.4,87,7446,20.3,16.399999999999999,16.600000000000001,16.100000000000001,13.6,82.9,31104]
[null,"Other Science",16.7,15.2,17.899999999999999,17.899999999999999,15.6,83.4,4949,16.7,15.7,18.100000000000001,18.899999999999999,14.5,83.9,2508,16.7,15.4,18,18.3,15.2,83.5,7457]
[null,"Mathematics",22.2,14.9,14.9,14.4,13.1,79.599999999999994,38325,25.5,16.899999999999999,16,14.3,11.7,84.4,27883,23.6,15.7,15.4,14.4,12.5,81.599999999999994,66208]
[null,"Further Mathematics",35.799999999999997,20,16.2,11.4,7.8,91.1,3567,40.700000000000003,20.5,15.5,10.1,6.8,93.6,2087,37.6,20.2,15.9,10.9,7.4,92.1,5654]
[null,"Design and Technology",9.1999999999999993,14.6,20.7,22,17.7,84.1,11287,14.1,18.600000000000001,23,20.399999999999999,14.5,90.6,8280,11.2,16.3,21.6,21.4,16.3,86.9,19567]
[null,"Computer Studies",9.6999999999999993,15.1,18.5,19,17.100000000000001,79.400000000000006,5867,11.1,14.7,16.7,18.2,18.7,79.5,604,9.8000000000000007,15.1,18.3,18.899999999999999,17.2,79.400000000000006,6471]
[null,"ICT",3.7,10.5,18.3,23.6,22.4,78.400000000000006,9249,6.4,14.7,20.9,21.8,19,82.7,5329,4.7,12,19.2,22.9,21.1,80,14578]
[null,"Home Economics","x",6,12,24,32,76,50,15.2,22.4,20.9,23.3,10.7,92.5,335,13.5,20.3,19.7,23.4,13.5,90.4,385]
[null,"Accounting and Finance",6.3,11.1,15.8,18.7,19,70.8,4358,7.9,11.2,14.8,17.8,19.899999999999999,71.599999999999994,2873,6.9,11.1,15.4,18.399999999999999,19.3,71.2,7231]
[null,"Business Studies",10.1,16.899999999999999,22.8,21.2,14.9,85.9,21288,12.7,17.8,21.1,19.899999999999999,14.5,85.9,15797,11.2,17.3,22.1,20.7,14.7,85.9,37085]
[null,"Economics",19.600000000000001,18.899999999999999,19.600000000000001,16.8,12.2,87,12506,23.1,19.100000000000001,18.2,15.5,11.7,87.5,6000,20.7,18.899999999999999,19.100000000000001,16.399999999999999,12,87.2,18506]
[null,"Geography",17.8,17.2,20.399999999999999,18.100000000000001,14.5,88,16525,25.5,19,19.2,15.7,11.3,90.7,13976,21.3,18,19.899999999999999,17,13,89.2,30501]
[null,"Government and Politics",20.2,20,20.2,16.8,11.9,89.1,6830,24.3,19,18.899999999999999,15.2,11.1,88.5,5740,22.1,19.5,19.600000000000001,16.100000000000001,11.5,88.8,12570]
[null,"History",15.3,21.5,23.5,19.5,12.4,92.1,21308,17.7,23,23.8,17.899999999999999,10.5,92.9,23314,16.600000000000001,22.3,23.6,18.7,11.4,92.6,44622]
[null,"Law",10.7,13.2,17.7,19.100000000000001,17.3,77.900000000000006,9408,14,15.1,17.899999999999999,17.100000000000001,15.6,79.599999999999994,13190,12.6,14.3,17.8,17.899999999999999,16.3,78.900000000000006,22598]
[null,"Psychology",{"$f":"IF(OR(C65=1,C65=2),\"x\",ROUND(C65/$I65*100,1))","v":6.8},12.4,18,19.600000000000001,17.8,74.599999999999994,21085,{"$f":"IF(OR(J65=1,J65=2),\"x\",ROUND(J65/$P65*100,1))","v":13.9},17.7,20,17.600000000000001,14.1,83.2,49659,{"$f":"IF(OR(Q65=1,Q65=2),\"x\",ROUND(Q65/$W65*100,1))","v":11.7},16.100000000000001,19.399999999999999,18.2,15.2,80.599999999999994,70744]
[null,"Sociology",10.5,15.1,19.5,19.5,16.899999999999999,81.5,9534,17.100000000000001,19,20.100000000000001,17.5,13.1,86.8,26698,15.4,18,19.899999999999999,18.100000000000001,14.1,85.4,36232]
[null,"Other social studies",10.3,13.1,19.100000000000001,20.100000000000001,17.100000000000001,79.599999999999994,4224,11.6,15.2,19.2,20.5,15,81.400000000000006,5246,11,14.3,19.100000000000001,20.3,15.9,80.599999999999994,9470]
[null,"Art and Design",15.7,18.100000000000001,22.3,19.399999999999999,12.5,88,16170,22.7,23.1,23.5,15.6,8.6,93.4,36807,20.5,21.6,23.1,16.8,9.8000000000000007,91.8,52977]
[null,"Drama",12.3,23.4,28.4,21.7,10.1,96,5106,17.399999999999999,27.8,28.9,16.399999999999999,6.7,97.2,11096,15.8,26.4,28.7,18.100000000000001,7.8,96.8,16202]
[null,"English",13.5,19.899999999999999,26.3,22.4,12,94.2,27811,15,21.7,27.9,21.6,10,96.2,61800,14.6,21.1,27.4,21.8,10.6,95.5,89611]
[null,"Media/Film/TV Studies",9.6,20.100000000000001,26.5,23,12.7,91.9,14165,13.6,25.1,28.1,19,9.1999999999999993,95,17364,11.8,22.8,27.4,20.8,10.7,93.6,31529]
[null,"Other Communication Studies",7.9,25.4,34.200000000000003,19.2,7.5,94.2,6266,12.4,28.2,31.6,17.2,6.3,95.7,8000,10.4,27,32.700000000000003,18.100000000000001,6.9,95.1,14266]
[null,"French",26.9,20.7,19,14.8,9.8000000000000007,91.3,4172,24.4,19.7,18.399999999999999,15.6,12.3,90.4,10152,25.2,20,18.600000000000001,15.4,11.6,90.7,14324]
[null,"German",22.7,20.9,18.7,17.2,11.9,91.4,2235,23.9,20.100000000000001,19.399999999999999,17.399999999999999,11.5,92.3,3620,23.4,20.399999999999999,19.2,17.3,11.6,92,5855]
[null,"Spanish",24.1,21.3,19.7,15.6,11,91.7,1912,21.1,19.3,20.100000000000001,18.2,11.9,90.6,4645,22,19.899999999999999,20,17.399999999999999,11.6,90.9,6557]
[null,"Other modern languages",50.2,22.1,9.8000000000000007,5.9,4.7,92.7,1500,51.3,18.8,11.7,7.3,5.0999999999999996,94.3,1975,50.8,20.3,10.9,6.7,4.9000000000000004,93.6,3475]
[null,"Classical Studies",25.8,21.4,20.8,15.9,9.8000000000000007,93.6,2584,32.200000000000003,23.4,19.600000000000001,12.3,7.4,94.9,2990,29.2,22.5,20.2,14,8.5,94.3,5574]
[null,"Religious Studies",18.399999999999999,20.9,22.1,17.5,11.1,89.9,6318,20.9,23.7,22.4,15.9,9.8000000000000007,92.6,12807,20,22.7,22.3,16.399999999999999,10.199999999999999,91.7,19125]
[null,"Music",11.7,16.3,23.1,23.2,15.3,89.7,6985,16.8,20.100000000000001,23.5,20.100000000000001,13.4,93.9,4204,13.6,17.7,23.3,22.1,14.6,91.3,11189]
[null,"Physical Education",8.6999999999999993,13.1,18.7,22.1,21.3,83.9,15471,17.3,18.5,20.100000000000001,19.7,14.7,90.3,10783,12.2,15.3,19.3,21.1,18.600000000000001,86.5,26254]
[null,"General Studies",{"$f":"IF(OR(C81=1,C81=2),\"x\",ROUND(C81/$I81*100,1))","v":7.7},12.2,17.5,20.3,19.3,77,45129,{"$f":"IF(OR(J81=1,J81=2),\"x\",ROUND(J81/$P81*100,1))","v":9.3000000000000007},14.2,19.100000000000001,20.100000000000001,18.8,81.5,53258,{"$f":"IF(OR(Q81=1,Q81=2),\"x\",ROUND(Q81/$W81*100,1))","v":8.6},13.3,18.3,20.2,19,79.400000000000006,98387]
[null,"All Subjects",14,16.2,19.8,18.899999999999999,15.1,84,427063,17.100000000000001,19.2,21.3,17.899999999999999,12.7,88.2,510274,15.7,17.8,20.6,18.399999999999999,13.8,86.3,937337]
[]
[]
[]
[]
[]
[null,null,"Male",null,null,null,null,null,null,"Female",null,null,null,null,null,null,"Total"]
[null,null,"A","B","C","D","E","A-E","Entries","A","B","C","D","E","A-E","Entries","A","B","C","D","E","A-E","Entries"]
[null,"Biological Sciences",3548,3483,4205,4342,4243,19821,24993,5415,5081,5622,5603,5220,26941,32712,8963,8564,9827,9945,9463,46762,57705]
[null,"Chemistry",3856,3624,3805,3679,3365,18329,22228,3819,3700,3771,3530,2949,17769,21096,7675,7324,7576,7209,6314,36098,43324]
[null,"Physics",4479,3710,3902,3850,3377,19318,23658,1826,1376,1262,1168,849,6481,7446,6305,5086,5164,5018,4226,25799,31104]
[null,"Other Science",825,754,885,888,773,4125,4949,420,393,455,473,364,2105,2508,1245,1147,1340,1361,1137,6230,7457]
[null,"Mathematics",8521,5702,5725,5518,5035,30501,38325,7104,4710,4471,4001,3249,23535,27883,15625,10412,10196,9519,8284,54036,66208]
[null,"Further Mathematics",1277,713,577,406,278,3251,3567,850,427,324,211,142,1954,2087,2127,1140,901,617,420,5205,5654]
[null,"Design and Technology",1033,1652,2332,2487,1993,9497,11287,1167,1540,1904,1692,1202,7505,8280,2200,3192,4236,4179,3195,17002,19567]
[null,"Computer Studies",568,888,1084,1113,1003,4656,5867,67,89,101,110,113,480,604,635,977,1185,1223,1116,5136,6471]
[null,"ICT",345,973,1689,2180,2068,7255,9249,339,781,1112,1161,1014,4407,5329,684,1754,2801,3341,3082,11662,14578]
[null,"Home Economics",1,3,6,12,16,38,50,51,75,70,78,36,310,335,52,78,76,90,52,348,385]
[null,"Accounting and Finance",274,482,688,817,826,3087,4358,228,322,426,511,571,2058,2873,502,804,1114,1328,1397,5145,7231]
[null,"Business Studies",2142,3606,4854,4522,3165,18289,21288,2002,2816,3327,3139,2288,13572,15797,4144,6422,8181,7661,5453,31861,37085]
[null,"Economics",2452,2362,2446,2102,1522,10884,12506,1386,1144,1089,927,704,5250,6000,3838,3506,3535,3029,2226,16134,18506]
[null,"Geography",2939,2841,3375,2993,2397,14545,16525,3566,2651,2683,2195,1576,12671,13976,6505,5492,6058,5188,3973,27216,30501]
[null,"Government and Politics",1383,1364,1377,1148,815,6087,6830,1395,1093,1086,870,636,5080,5740,2778,2457,2463,2018,1451,11167,12570]
[null,"History",3269,4580,4997,4155,2633,19634,21308,4131,5359,5554,4171,2455,21670,23314,7400,9939,10551,8326,5088,41304,44622]
[null,"Law",1004,1240,1668,1795,1624,7331,9408,1843,1987,2356,2254,2062,10502,13190,2847,3227,4024,4049,3686,17833,22598]
[null,"Psychology",1429,2614,3803,4134,3752,15732,21085,6879,8788,9938,8721,6992,41318,49659,8308,11402,13741,12855,10744,57050,70744]
[null,"Sociology",997,1440,1861,1860,1612,7770,9534,4575,5075,5363,4682,3490,23185,26698,5572,6515,7224,6542,5102,30955,36232]
[null,"Other social studies",434,553,806,849,721,3363,4224,610,797,1005,1074,786,4272,5246,1044,1350,1811,1923,1507,7635,9470]
[null,"Art and Design",2532,2919,3608,3134,2029,14222,16170,8339,8499,8645,5755,3154,34392,36807,10871,11418,12253,8889,5183,48614,52977]
[null,"Drama",629,1195,1452,1110,514,4900,5106,1933,3089,3205,1816,745,10788,11096,2562,4284,4657,2926,1259,15688,16202]
[null,"English",3762,5528,7325,6238,3332,26185,27811,9296,13398,17230,13330,6173,59427,61800,13058,18926,24555,19568,9505,85612,89611]
[null,"Media/Film/TV Studies",1362,2847,3747,3255,1800,13011,14165,2364,4357,4880,3298,1589,16488,17364,3726,7204,8627,6553,3389,29499,31529]
[null,"Other Communication Studies",492,1594,2142,1205,472,5905,6266,992,2257,2529,1373,507,7658,8000,1484,3851,4671,2578,979,13563,14266]
[null,"French",1123,865,794,619,408,3809,4172,2482,1997,1867,1580,1252,9178,10152,3605,2862,2661,2199,1660,12987,14324]
[null,"German",507,468,419,384,265,2043,2235,865,726,703,631,416,3341,3620,1372,1194,1122,1015,681,5384,5855]
[null,"Spanish",461,407,376,299,210,1753,1912,980,896,934,844,553,4207,4645,1441,1303,1310,1143,763,5960,6557]
[null,"Other modern languages",753,332,147,88,71,1391,1500,1014,372,231,144,101,1862,1975,1767,704,378,232,172,3253,3475]
[null,"Classical Studies",666,553,537,410,252,2418,2584,963,699,587,369,221,2839,2990,1629,1252,1124,779,473,5257,5574]
[null,"Religious Studies",1161,1319,1397,1106,699,5682,6318,2672,3029,2874,2036,1252,11863,12807,3833,4348,4271,3142,1951,17545,19125]
[null,"Music",820,1138,1617,1624,1070,6269,6985,707,845,989,845,562,3948,4204,1527,1983,2606,2469,1632,10217,11189]
[null,"Physical Education",1345,2020,2890,3425,3300,12980,15471,1866,1993,2164,2125,1585,9733,10783,3211,4013,5054,5550,4885,22713,26254]
[null,"General Studies",3485,5509,7884,9150,8699,34727,45129,4948,7555,10156,10717,10038,43414,53258,8433,13064,18040,19867,18737,78141,98387]
[null,"All Subjects",59874,69278,84420,80897,64339,358808,427063,87094,97916,108913,91434,64846,450203,510274,146968,167194,193333,172331,129185,809011,937337]

{"sheet":"2009AS","index":28,"n_rows":82,"n_cols":23,"rows_kept":82,"cut":false,"hidden":true,"merged":[]}
[]
[]
[null,null,"Males",null,null,null,null,null,null,"Females",null,null,null,null,null,null,"Total"]
[null,null,"A","B","C","D","E","A-E","Entries","A","B","C","D","E","A-E","Entries","A","B","C","D","E","A-E","Entries"]
[]
[null,"Biological Sciences",{"$f":"IF(OR(C48=1,C48=2),\"x\",ROUND(C48/$I48*100,1))","v":13.7},{"$f":"IF(OR(D48=1,D48=2),\"x\",ROUND(D48/$I48*100,1))","v":14.3},17,17.5,16.3,78.900000000000006,{"$f":"ROUND(I48,0)","v":27922},{"$f":"IF(OR(J48=1,J48=2),\"x\",ROUND(J48/$P48*100,1))","v":16.5},{"$f":"IF(OR(K48=1,K48=2),\"x\",ROUND(K48/$P48*100,1))","v":15.8},17.399999999999999,16.600000000000001,14.8,81,{"$f":"ROUND(P48,0)","v":35948},{"$f":"IF(OR(Q48=1,Q48=2),\"x\",ROUND(Q48/$W48*100,1))","v":15.3},{"$f":"IF(OR(R48=1,R48=2),\"x\",ROUND(R48/$W48*100,1))","v":15.1},17.2,17,15.5,80.099999999999994,{"$f":"ROUND(W48,0)","v":63870}]
[null,"Chemistry",{"$f":"IF(OR(C49=1,C49=2),\"x\",ROUND(C49/$I49*100,1))","v":17.100000000000001},16.100000000000001,17.3,16.899999999999999,15.1,82.4,{"$f":"ROUND(I49,0)","v":24501},{"$f":"IF(OR(J49=1,J49=2),\"x\",ROUND(J49/$P49*100,1))","v":18.100000000000001},16.8,17.399999999999999,16.5,14.7,83.4,{"$f":"ROUND(P49,0)","v":22200},{"$f":"IF(OR(Q49=1,Q49=2),\"x\",ROUND(Q49/$W49*100,1))","v":17.600000000000001},16.399999999999999,17.3,16.7,14.9,82.9,{"$f":"ROUND(W49,0)","v":46701}]
[null,"Physics",19.399999999999999,15.7,16.100000000000001,15.5,14.8,81.400000000000006,26249,23,18,17.7,15.3,12.1,86.1,7966,20.2,16.2,16.5,15.4,14.2,82.5,34215]
[null,"Other Science",16.100000000000001,15.5,18.8,17.399999999999999,15,82.8,4935,14.6,15.9,18.2,17.399999999999999,14,80,2501,15.6,15.7,18.600000000000001,17.399999999999999,14.7,81.900000000000006,7436]
[null,"Mathematics",22.2,14.3,14.5,14.9,13.5,79.5,42555,24.9,16.600000000000001,16,14.8,11.9,84.2,31173,23.3,15.3,15.1,14.9,12.9,81.5,73728]
[null,"Further Mathematics",39.299999999999997,19.100000000000001,15.5,10.6,7.8,92.4,5190,43.8,20.7,14.1,9.9,5.7,94.2,3209,41,19.7,14.9,10.4,7,93.1,8399]
[null,"Design and Technology",8.9,14.4,19.7,22.3,17.8,83.1,10602,14.3,18.7,22.3,19.5,14.6,89.4,7995,11.2,16.3,20.8,21.1,16.5,85.8,18597]
[null,"Computer Studies",10,14.2,19.399999999999999,19.7,17.5,80.8,5683,9.5,11.1,18.3,20,16.2,75.2,524,9.9,14,19.3,19.8,17.399999999999999,80.3,6207]
[null,"ICT",5,11.1,18.600000000000001,23.2,20.6,78.599999999999994,9350,8.6999999999999993,14.3,20.5,22,18,83.5,5023,6.3,12.2,19.3,22.8,19.7,80.3,14373]
[null,"Home Economics","x",4.4000000000000004,16.7,28.9,15.6,67.8,90,13,18.399999999999999,23.5,19.100000000000001,15.6,89.5,392,11,15.8,22.2,21,15.6,85.5,482]
[null,"Accounting and Finance",6.1,11,15.7,19,17.600000000000001,69.400000000000006,4227,7.5,12,15.9,17.5,19.5,72.400000000000006,2769,6.6,11.4,15.8,18.399999999999999,18.399999999999999,70.599999999999994,6996]
[null,"Business Studies",10.4,17.399999999999999,22.9,19.899999999999999,15.3,85.9,21644,11.6,17.2,22.3,19.5,14.8,85.3,16119,10.9,17.3,22.6,19.7,15.1,85.7,37763]
[null,"Economics",19.3,19.8,19.7,15.9,12.6,87.1,14513,22.6,20.6,18.600000000000001,16,10.8,88.7,6984,20.399999999999999,20,19.3,15.9,12,87.6,21497]
[null,"Geography",18.399999999999999,16.8,19,18.399999999999999,14.8,87.4,17282,26.5,18.3,19,15.7,11.4,90.9,14666,22.1,17.5,19,17.2,13.2,89,31948]
[null,"Government and Politics",19.7,17.7,20.8,16.7,12,87,7202,23.1,18.7,18.2,16.3,11.4,87.7,6039,21.3,18.2,19.600000000000001,16.5,11.7,87.3,13241]
[null,"History",16.899999999999999,21.4,24.2,18.600000000000001,11.1,92.4,22199,18.600000000000001,23,23.1,17.7,10.199999999999999,92.7,24554,17.8,22.3,23.7,18.100000000000001,10.7,92.5,46753]
[null,"Law",9.9,12.8,18.399999999999999,18.399999999999999,16.899999999999999,76.400000000000006,9140,13.8,14.4,18.600000000000001,17.8,14.4,79,12907,12.2,13.7,18.5,18.100000000000001,15.4,77.900000000000006,22047]
[null,"Psychology",{"$f":"IF(OR(C65=1,C65=2),\"x\",ROUND(C65/$I65*100,1))","v":7.1},12.1,18.3,19.2,18.8,75.400000000000006,22203,{"$f":"IF(OR(J65=1,J65=2),\"x\",ROUND(J65/$P65*100,1))","v":13.5},16.7,19.7,18,14.3,82.1,50367,{"$f":"IF(OR(Q65=1,Q65=2),\"x\",ROUND(Q65/$W65*100,1))","v":11.5},15.3,19.3,18.399999999999999,15.7,80.099999999999994,72570]
[null,"Sociology",10.199999999999999,14.2,19.899999999999999,19.399999999999999,16.600000000000001,80.400000000000006,9888,16.5,18.399999999999999,20.7,17.8,12.9,86.3,26692,14.8,17.3,20.5,18.2,13.9,84.7,36580]
[null,"Other social studies",9.5,14.3,18.899999999999999,19,15.5,77.3,4852,13.9,16.5,20.8,18.2,13.1,82.6,5710,11.9,15.5,19.899999999999999,18.600000000000001,14.2,80.099999999999994,10562]
[null,"Art and Design",15.8,18.600000000000001,21.7,19,13.7,88.9,16162,22.9,22.8,22.9,16.2,8.9,93.7,38743,20.8,21.6,22.6,17,10.3,92.3,54905]
[null,"Drama",13.1,22,27.3,21.9,11.3,95.6,5350,16.8,25.5,27.5,19.100000000000001,7.9,96.8,10983,15.6,24.3,27.4,20,9,96.4,16333]
[null,"English",13.7,19.3,25,23.1,13.5,94.6,27809,15.7,20.7,26.4,22.1,11.2,96.1,62671,15.1,20.3,25.9,22.4,11.9,95.6,90480]
[null,"Media/Film/TV Studies",7.9,18.399999999999999,27.1,23.9,13.4,90.7,14110,13.3,23.8,27.6,19.3,10,94,17708,10.9,21.4,27.4,21.4,11.5,92.5,31818]
[null,"Other Communication Studies",7.9,22.7,33.700000000000003,21,8.6,93.9,6433,12.1,26.6,31.8,18.100000000000001,6.8,95.4,8129,10.199999999999999,24.9,32.700000000000003,19.399999999999999,7.6,94.8,14562]
[null,"French",27.3,20.8,18.7,15.2,10.4,92.4,4025,25.9,20,19.2,15.2,11,91.3,10001,26.3,20.2,19.100000000000001,15.2,10.9,91.6,14026]
[null,"German",25.1,17.399999999999999,20.5,16.899999999999999,11.7,91.7,2122,24.1,19,20.8,16.5,12.1,92.6,3569,24.4,18.399999999999999,20.7,16.7,12,92.3,5691]
[null,"Spanish",22.4,21.5,20.8,15.1,11,90.9,2093,20.6,19.600000000000001,21.9,16.8,11.7,90.6,4786,21.2,20.2,21.6,16.3,11.5,90.7,6879]
[null,"Other modern languages",50.8,21.7,10.199999999999999,6.5,4.0999999999999996,93.3,1456,50.7,19,12.5,7.9,5.2,95.4,2078,50.7,20.100000000000001,11.6,7.3,4.8,94.5,3534]
[null,"Classical Studies",25.2,19.899999999999999,19.7,16.7,10.199999999999999,91.7,2669,31,21.8,19.3,13.6,8.5,94.2,3365,28.4,21,19.5,14.9,9.1999999999999993,93.1,6034]
[null,"Religious Studies",18.3,20.2,20.9,17.8,12,89.3,6487,21.9,22,21.1,16.399999999999999,10.7,92.1,13264,20.7,21.4,21.1,16.8,11.1,91.1,19751]
[null,"Music",12.6,18,22.4,21.2,15.8,90,6854,16.600000000000001,21.5,23.1,19,12.7,92.9,3834,14,19.3,22.7,20.399999999999999,14.7,91.1,10688]
[null,"Physical Education",8.1999999999999993,11.7,18.100000000000001,22.8,22.8,83.6,16043,15.5,17,20.399999999999999,18.600000000000001,16.100000000000001,87.5,10657,11.1,13.8,19,21.1,20.100000000000001,85.1,26700]
[null,"General Studies",{"$f":"IF(OR(C81=1,C81=2),\"x\",ROUND(C81/$I81*100,1))","v":8.4},12.3,18,20,18.899999999999999,77.599999999999994,42829,{"$f":"IF(OR(J81=1,J81=2),\"x\",ROUND(J81/$P81*100,1))","v":9.6999999999999993},13.9,18.7,20.2,18.2,80.8,48662,{"$f":"IF(OR(Q81=1,Q81=2),\"x\",ROUND(Q81/$W81*100,1))","v":9.1},13.1,18.399999999999999,20.100000000000001,18.5,79.3,91491]
[null,"All subjects",14.4,16,19.600000000000001,18.7,15.2,83.9,444669,17.3,18.7,21,18,12.7,87.8,522188,16,17.399999999999999,20.399999999999999,18.3,13.9,86,966857]
[]
[]
[]
[]
[null,null,"Male",null,null,null,null,null,null,"Female",null,null,null,null,null,null,"Total"]
[null,null,"A","B","C","D","E","A-E","Total","A","B","C","D","E","A-E","Total","A","B","C","D","E","A-E","Total"]
[]
[null,"Biological Sciences",3825,4002,4750,4897,4552,22026,27922,5924,5662,6238,5968,5328,29120,35948,9749,9664,10988,10865,9880,51146,63870]
[null,"Chemistry",4182,3944,4241,4135,3692,20194,24501,4018,3724,3853,3656,3261,18512,22200,8200,7668,8094,7791,6953,38706,46701]
[null,"Physics",5086,4122,4232,4056,3880,21376,26249,1829,1434,1410,1222,963,6858,7966,6915,5556,5642,5278,4843,28234,34215]
[null,"Other Science",793,766,928,860,740,4087,4935,365,398,455,434,350,2002,2501,1158,1164,1383,1294,1090,6089,7436]
[null,"Mathematics",9450,6102,6182,6349,5763,33846,42555,7763,5184,4977,4620,3718,26262,31173,17213,11286,11159,10969,9481,60108,73728]
[null,"Further Mathematics",2040,992,802,552,407,4793,5190,1405,664,453,318,184,3024,3209,3445,1656,1255,870,591,7817,8399]
[null,"Design and Technology",939,1527,2090,2359,1890,8805,10602,1142,1496,1779,1557,1170,7144,7995,2081,3023,3869,3916,3060,15949,18597]
[null,"Computer Studies",567,809,1100,1121,994,4591,5683,50,58,96,105,85,394,524,617,867,1196,1226,1079,4985,6207]
[null,"ICT",471,1040,1738,2172,1930,7351,9350,435,718,1030,1107,906,4196,5023,906,1758,2768,3279,2836,11547,14373]
[null,"Home Economics",2,4,15,26,14,61,90,51,72,92,75,61,351,392,53,76,107,101,75,412,482]
[null,"Accounting and Finance",256,464,665,804,745,2934,4227,208,332,441,485,539,2005,2769,464,796,1106,1289,1284,4939,6996]
[null,"Business Studies",2250,3765,4953,4310,3320,18598,21644,1870,2768,3591,3140,2379,13748,16119,4120,6533,8544,7450,5699,32346,37763]
[null,"Economics",2797,2867,2852,2306,1822,12644,14513,1580,1438,1298,1120,757,6193,6984,4377,4305,4150,3426,2579,18837,21497]
[null,"Geography",3184,2895,3276,3185,2560,15100,17282,3888,2683,2788,2298,1671,13328,14666,7072,5578,6064,5483,4231,28428,31948]
[null,"Government and Politics",1421,1278,1500,1202,866,6267,7202,1396,1130,1097,984,689,5296,6039,2817,2408,2597,2186,1555,11563,13241]
[null,"History",3762,4760,5376,4133,2470,20501,22199,4578,5652,5682,4336,2513,22761,24554,8340,10412,11058,8469,4983,43262,46753]
[null,"Law",907,1170,1682,1682,1545,6986,9140,1780,1861,2400,2300,1856,10197,12907,2687,3031,4082,3982,3401,17183,22047]
[null,"Psychology",1571,2681,4054,4268,4172,16746,22203,6790,8389,9940,9050,7187,41356,50367,8361,11070,13994,13318,11359,58102,72570]
[null,"Sociology",1009,1408,1971,1916,1644,7948,9888,4397,4921,5521,4750,3453,23042,26692,5406,6329,7492,6666,5097,30990,36580]
[null,"Other Social Studies",463,694,916,923,753,3749,4852,796,943,1189,1040,747,4715,5710,1259,1637,2105,1963,1500,8464,10562]
[null,"Art and Design",2550,3014,3504,3078,2216,14362,16162,8873,8819,8891,6271,3465,36319,38743,11423,11833,12395,9349,5681,50681,54905]
[null,"Drama",699,1178,1463,1169,604,5113,5350,1845,2796,3015,2103,872,10631,10983,2544,3974,4478,3272,1476,15744,16333]
[null,"English",3816,5362,6940,6432,3751,26301,27809,9820,12988,16517,13854,7030,60209,62671,13636,18350,23457,20286,10781,86510,90480]
[null,"Media/Film/Television Studies",1112,2590,3826,3377,1889,12794,14110,2352,4208,4889,3426,1772,16647,17708,3464,6798,8715,6803,3661,29441,31818]
[null,"Other Communication Studies",508,1461,2170,1351,552,6042,6433,984,2162,2586,1475,552,7759,8129,1492,3623,4756,2826,1104,13801,14562]
[null,"French",1100,836,753,610,420,3719,4025,2591,1999,1921,1519,1103,9133,10001,3691,2835,2674,2129,1523,12852,14026]
[null,"German",532,370,436,359,249,1946,2122,859,678,744,590,433,3304,3569,1391,1048,1180,949,682,5250,5691]
[null,"Spanish",469,451,436,316,230,1902,2093,987,940,1047,805,558,4337,4786,1456,1391,1483,1121,788,6239,6879]
[null,"Other Modern Languages",739,316,149,94,60,1358,1456,1054,395,260,164,109,1982,2078,1793,711,409,258,169,3340,3534]
[null,"Classical Studies",673,532,525,445,272,2447,2669,1043,734,651,456,286,3170,3365,1716,1266,1176,901,558,5617,6034]
[null,"Religious Studies",1190,1310,1359,1152,779,5790,6487,2906,2915,2801,2176,1413,12211,13264,4096,4225,4160,3328,2192,18001,19751]
[null,"Music",862,1235,1535,1456,1083,6171,6854,637,823,887,729,486,3562,3834,1499,2058,2422,2185,1569,9733,10688]
[null,"Physical Education",1320,1878,2900,3655,3653,13406,16043,1647,1807,2170,1981,1721,9326,10657,2967,3685,5070,5636,5374,22732,26700]
[null,"General Studies",3592,5273,7726,8562,8092,33245,42829,4728,6751,9124,9830,8865,39298,48662,8320,12024,16850,18392,16957,72543,91491]
[null,"Total",64137,71096,87045,83312,67609,373199,444669,90591,97542,109833,93944,66482,458392,522188,154728,168638,196878,177256,134091,831591,966857]

{"sheet":"2010AS","index":29,"n_rows":82,"n_cols":23,"rows_kept":82,"cut":false,"hidden":true,"merged":[]}
[]
[]
[null,null,"Males",null,null,null,null,null,null,"Females",null,null,null,null,null,null,"Total"]
[null,null,"A","B","C","D","E","A-E","Entries","A","B","C","D","E","A-E","Entries","A","B","C","D","E","A-E","Entries"]
[]
[null,"Biological Sciences",{"$f":"IF(OR(C48=1,C48=2),\"x\",ROUND(C48/$I48*100,1))","v":13.7},{"$f":"IF(OR(D48=1,D48=2),\"x\",ROUND(D48/$I48*100,1))","v":14.9},17.100000000000001,16.8,16.399999999999999,79,{"$f":"ROUND(I48,0)","v":29446},{"$f":"IF(OR(J48=1,J48=2),\"x\",ROUND(J48/$P48*100,1))","v":16.899999999999999},{"$f":"IF(OR(K48=1,K48=2),\"x\",ROUND(K48/$P48*100,1))","v":16.8},17.600000000000001,16.399999999999999,14.7,82.4,{"$f":"ROUND(P48,0)","v":37177},{"$f":"IF(OR(Q48=1,Q48=2),\"x\",ROUND(Q48/$W48*100,1))","v":15.5},{"$f":"IF(OR(R48=1,R48=2),\"x\",ROUND(R48/$W48*100,1))","v":16},17.399999999999999,16.600000000000001,15.5,80.900000000000006,{"$f":"ROUND(W48,0)","v":66623}]
[null,"Chemistry",{"$f":"IF(OR(C49=1,C49=2),\"x\",ROUND(C49/$I49*100,1))","v":18.3},17,17.600000000000001,16.100000000000001,14.3,83.3,{"$f":"ROUND(I49,0)","v":25986},{"$f":"IF(OR(J49=1,J49=2),\"x\",ROUND(J49/$P49*100,1))","v":17.899999999999999},18.2,18.5,16,13.5,84,{"$f":"ROUND(P49,0)","v":23457},{"$f":"IF(OR(Q49=1,Q49=2),\"x\",ROUND(Q49/$W49*100,1))","v":18.100000000000001},17.5,18,16,13.9,83.6,{"$f":"ROUND(W49,0)","v":49443}]
[null,"Physics",19.100000000000001,15.8,16.8,15.7,14.3,81.599999999999994,28419,23.1,17.600000000000001,17.8,15.4,12.8,86.8,8668,20,16.2,17.100000000000001,15.6,13.9,82.8,37087]
[null,"Other Science",15.4,14,19.100000000000001,18,15.7,82.2,4983,13.2,15.2,18.8,18.100000000000001,16.5,81.900000000000006,2497,14.6,14.4,19,18.100000000000001,16,82.1,7480]
[null,"Mathematics",22.8,15.2,14.9,14.4,12.7,80,46279,24.6,18.2,16.2,14,11.7,84.6,33179,23.5,16.5,15.5,14.2,12.3,81.900000000000006,79458]
[null,"Further Mathematics",40.299999999999997,18.899999999999999,13.9,10.9,7.4,91.4,5911,44.6,19.7,13.7,10.1,6.2,94.3,3510,41.9,19.2,13.8,10.6,6.9,92.5,9421]
[null,"Design and Technology",8.9,14.5,20.5,22.2,17.7,83.8,10591,14.1,19,22.2,19.7,14.4,89.3,7808,11.1,16.399999999999999,21.2,21.1,16.3,86.2,18399]
[null,"Computer Studies",10.3,15.5,19.5,19.5,15.8,80.5,5524,8.4,15.8,16,19.100000000000001,15.6,74.900000000000006,487,10.1,15.5,19.2,19.5,15.8,80.099999999999994,6011]
[null,"ICT",4.5999999999999996,9.9,18.3,22.6,21.2,76.599999999999994,9136,8.1,12.9,20.8,22.6,18.399999999999999,82.8,4996,5.8,11,19.2,22.6,20.2,78.8,14132]
[null,"Home Economics","x",4.7,19.8,22.6,26.4,74.5,106,13.3,15.9,23.1,19.399999999999999,17.100000000000001,88.7,346,10.4,13.3,22.3,20.100000000000001,19.2,85.4,452]
[null,"Accounting and Finance",6.2,12.7,16.600000000000001,17.3,16,68.8,4395,7.5,12.5,17.100000000000001,15.9,17.2,70.3,2433,6.7,12.7,16.8,16.8,16.399999999999999,69.3,6828]
[null,"Business Studies",8.8000000000000007,15.6,22,22.2,17.600000000000001,86.2,21066,10,15.3,21.1,21.6,17.600000000000001,85.6,15327,9.3000000000000007,15.5,21.6,22,17.600000000000001,86,36393]
[null,"Economics",18.5,18.600000000000001,19.5,17.100000000000001,12.8,86.6,15126,21.6,19.8,18.899999999999999,15.6,12.2,88.1,7115,19.5,19,19.3,16.600000000000001,12.6,87.1,22241]
[null,"Geography",18.399999999999999,17.3,19.899999999999999,18.399999999999999,13.9,87.9,16301,26.1,18.8,19.399999999999999,15.9,11.1,91.2,13975,21.9,18,19.7,17.2,12.6,89.4,30276]
[null,"Government and Politics",19.5,18.600000000000001,21.2,16.5,12.1,87.8,7802,23.8,19.5,18.100000000000001,15.5,11,87.9,6097,21.4,19,19.8,16,11.6,87.8,13899]
[null,"History",16.100000000000001,20.9,25.4,19.5,11.1,93,22549,18.2,23.2,23.8,18.100000000000001,10.1,93.4,25447,17.2,22.1,24.5,18.7,10.6,93.2,47996]
[null,"Law",9.4,13,17.2,18.399999999999999,16.8,74.8,8475,12.6,15.2,18.8,18,14.9,79.5,12238,11.3,14.3,18.100000000000001,18.2,15.7,77.599999999999994,20713]
[null,"Psychology",{"$f":"IF(OR(C65=1,C65=2),\"x\",ROUND(C65/$I65*100,1))","v":6.4},11.4,17,19.8,18.399999999999999,73,23810,{"$f":"IF(OR(J65=1,J65=2),\"x\",ROUND(J65/$P65*100,1))","v":13.5},16.8,19.7,18,14.1,82,51952,{"$f":"IF(OR(Q65=1,Q65=2),\"x\",ROUND(Q65/$W65*100,1))","v":11.3},15.1,18.8,18.600000000000001,15.4,79.2,75762]
[null,"Sociology",8.6999999999999993,13,18.3,21,17.3,78.3,10816,15,16.899999999999999,20.399999999999999,18.8,14.4,85.5,27799,13.2,15.8,19.8,19.399999999999999,15.2,83.5,38615]
[null,"Other social studies",9.6999999999999993,13.6,17.2,19.3,15.8,75.599999999999994,4904,12.9,16.600000000000001,20.6,18.8,13.8,82.7,5871,11.4,15.3,19,19,14.7,79.5,10775]
[null,"Art and Design",15,19,22.3,20.100000000000001,13.2,89.6,15956,22.7,23.2,24,15.9,8.6999999999999993,94.6,39283,20.5,22,23.5,17.100000000000001,10,93.1,55239]
[null,"Drama",13.5,23.2,28.5,21.6,9.9,96.7,5145,16.8,28,28.5,17.899999999999999,6.4,97.6,10755,15.7,26.5,28.5,19.100000000000001,7.6,97.3,15900]
[null,"English",13.3,19.5,25.7,23.2,12.6,94.3,27586,14.7,21.5,27.4,22,10.9,96.4,64568,14.3,20.9,26.9,22.3,11.4,95.8,92154]
[null,"Media/Film/TV Studies",7.3,18.7,28.3,24.2,13.3,91.9,14148,12.7,26.4,30.2,18.600000000000001,7.7,95.5,17308,10.3,22.9,29.4,21.1,10.199999999999999,93.8,31456]
[null,"Other Communication Studies",6.9,23,35.1,21.9,8,94.8,6559,11.3,27.6,32.799999999999997,17.899999999999999,6.6,96.3,8219,9.4,25.5,33.799999999999997,19.7,7.2,95.7,14778]
[null,"French",26.8,20.6,17.399999999999999,14.7,11.4,90.9,3820,25.3,19.5,19.3,15.1,11.6,90.7,9344,25.7,19.8,18.7,15,11.5,90.7,13164]
[null,"German",25,19.399999999999999,19.3,17.100000000000001,11.2,92,1961,22.8,18.899999999999999,20.9,17.100000000000001,12.7,92.4,3345,23.6,19.100000000000001,20.3,17.100000000000001,12.1,92.3,5306]
[null,"Spanish",22,21.3,21.3,15.3,11.1,91,2139,21.1,20.3,20.100000000000001,17.2,11.7,90.3,4864,21.4,20.6,20.399999999999999,16.600000000000001,11.5,90.5,7003]
[null,"Other modern languages",49.3,21.7,11.4,6.4,4.8,93.6,1599,51.4,19.399999999999999,11,8.1999999999999993,5.2,95.2,2174,50.5,20.399999999999999,11.2,7.4,5,94.5,3773]
[null,"Classical Studies",26.1,20.3,19.899999999999999,15.7,9.4,91.4,2548,32,22.6,20.8,12.4,6.9,94.6,3124,29.4,21.6,20.399999999999999,13.9,8,93.2,5672]
[null,"Religious Studies",18.399999999999999,19.899999999999999,20.7,17.3,12.9,89.3,6703,20.6,23,21.4,16.399999999999999,10.4,91.9,13643,19.899999999999999,22,21.2,16.7,11.3,91,20346]
[null,"Music",13.1,19.100000000000001,23.1,22.1,13.9,91.4,6612,17.100000000000001,23.5,23.8,18.7,11.1,94.2,3896,14.6,20.8,23.4,20.8,12.9,92.5,10508]
[null,"Physical Education",7.4,11.5,17.5,22.3,23.2,81.900000000000006,15499,15.1,17.100000000000001,20.8,20.3,15.8,89.1,10362,10.5,13.7,18.8,21.5,20.3,84.8,25861]
[null,"General Studies",{"$f":"IF(OR(C81=1,C81=2),\"x\",ROUND(C81/$I81*100,1))","v":8.1},12.6,18.5,20.3,18.600000000000001,78.2,38080,{"$f":"IF(OR(J81=1,J81=2),\"x\",ROUND(J81/$P81*100,1))","v":9.9},14.6,19.2,19.7,18.399999999999999,81.8,42345,{"$f":"IF(OR(Q81=1,Q81=2),\"x\",ROUND(Q81/$W81*100,1))","v":9.1},13.6,18.899999999999999,20,18.5,80.099999999999994,80425]
[null,"All subjects",14.4,16.100000000000001,19.7,18.8,14.9,83.9,449980,17.100000000000001,19.2,21.5,17.899999999999999,12.6,88.3,523609,15.8,17.8,20.7,18.3,13.7,86.3,973589]
[]
[]
[" "," "]
[]
[null,null,"Male",null,null,null,null,null,null,"Female",null,null,null,null,null,null,"Total"]
[null,null,"A","B","C","D","E","A-E","Total","A","B","C","D","E","A-E","Total","A","B","C","D","E","A-E","Total"]
[]
["NEW_MAJ","Biological Sciences",4048,4397,5036,4944,4827,23252,29446,6275,6232,6535,6092,5482,30616,37177,10323,10629,11571,11036,10309,53868,66623]
[null,"Chemistry",4750,4405,4582,4184,3727,21648,25986,4188,4270,4334,3751,3163,19706,23457,8938,8675,8916,7935,6890,41354,49443]
[null,"Physics",5418,4488,4781,4459,4054,23200,28419,1999,1528,1546,1338,1110,7521,8668,7417,6016,6327,5797,5164,30721,37087]
[null,"Other Science",765,698,953,899,783,4098,4983,329,380,470,453,412,2044,2497,1094,1078,1423,1352,1195,6142,7480]
[null,"Mathematics",10564,7049,6909,6644,5855,37021,46279,8146,6039,5368,4636,3897,28086,33179,18710,13088,12277,11280,9752,65107,79458]
[null,"Further Mathematics",2385,1118,819,645,435,5402,5911,1566,690,482,355,216,3309,3510,3951,1808,1301,1000,651,8711,9421]
[null,"Design and Technology",940,1538,2169,2353,1878,8878,10591,1102,1483,1730,1535,1123,6973,7808,2042,3021,3899,3888,3001,15851,18399]
[null,"Computer Studies",569,855,1076,1077,871,4448,5524,41,77,78,93,76,365,487,610,932,1154,1170,947,4813,6011]
[null,"ICT",416,905,1669,2068,1936,6994,9136,406,646,1039,1130,918,4139,4996,822,1551,2708,3198,2854,11133,14132]
[null,"Home Economics",1,5,21,24,28,79,106,46,55,80,67,59,307,346,47,60,101,91,87,386,452]
[null,"Accounting and Finance",273,560,729,759,703,3024,4395,182,305,416,388,419,1710,2433,455,865,1145,1147,1122,4734,6828]
[null,"Business Studies",1851,3277,4639,4683,3715,18165,21066,1529,2348,3227,3315,2696,13115,15327,3380,5625,7866,7998,6411,31280,36393]
[null,"Economics",2802,2808,2956,2590,1939,13095,15126,1535,1411,1345,1109,867,6267,7115,4337,4219,4301,3699,2806,19362,22241]
[null,"Geography",2998,2821,3252,3000,2260,14331,16301,3643,2622,2709,2219,1550,12743,13975,6641,5443,5961,5219,3810,27074,30276]
[null,"Government and Politics",1518,1450,1655,1284,946,6853,7802,1453,1189,1102,942,671,5357,6097,2971,2639,2757,2226,1617,12210,13899]
[null,"History",3637,4702,5720,4397,2513,20969,22549,4636,5904,6063,4602,2574,23779,25447,8273,10606,11783,8999,5087,44748,47996]
[null,"Law",798,1103,1456,1562,1422,6341,8475,1539,1860,2302,2205,1820,9726,12238,2337,2963,3758,3767,3242,16067,20713]
[null,"Psychology",1529,2724,4039,4705,4381,17378,23810,7004,8708,10234,9366,7310,42622,51952,8533,11432,14273,14071,11691,60000,75762]
[null,"Sociology",937,1411,1983,2269,1868,8468,10816,4158,4697,5678,5229,4012,23774,27799,5095,6108,7661,7498,5880,32242,38615]
[null,"Other Social Studies",476,669,842,945,775,3707,4904,756,977,1210,1104,809,4856,5871,1232,1646,2052,2049,1584,8563,10775]
[null,"Art and Design",2393,3032,3563,3205,2099,14292,15956,8927,9099,9436,6263,3427,37152,39283,11320,12131,12999,9468,5526,51444,55239]
[null,"Drama",693,1196,1464,1113,510,4976,5145,1810,3011,3063,1926,691,10501,10755,2503,4207,4527,3039,1201,15477,15900]
[null,"English",3673,5387,7099,6391,3476,26026,27586,9480,13871,17671,14196,7046,62264,64568,13153,19258,24770,20587,10522,88290,92154]
[null,"Media/Film/Television Studies",1033,2642,4005,3428,1888,12996,14148,2192,4562,5228,3216,1326,16524,17308,3225,7204,9233,6644,3214,29520,31456]
[null,"Other Communication Studies",453,1508,2302,1434,524,6221,6559,931,2267,2698,1473,546,7915,8219,1384,3775,5000,2907,1070,14136,14778]
[null,"French",1024,788,664,562,435,3473,3820,2361,1824,1799,1407,1080,8471,9344,3385,2612,2463,1969,1515,11944,13164]
[null,"German",490,381,379,336,219,1805,1961,764,632,698,572,425,3091,3345,1254,1013,1077,908,644,4896,5306]
[null,"Spanish",471,455,455,328,237,1946,2139,1027,986,977,835,569,4394,4864,1498,1441,1432,1163,806,6340,7003]
[null,"Other Modern Languages",789,347,182,102,76,1496,1599,1117,422,239,178,114,2070,2174,1906,769,421,280,190,3566,3773]
[null,"Classical Studies",666,518,507,399,239,2329,2548,1000,705,649,388,214,2956,3124,1666,1223,1156,787,453,5285,5672]
[null,"Religious Studies",1231,1337,1388,1161,867,5984,6703,2811,3133,2925,2242,1423,12534,13643,4042,4470,4313,3403,2290,18518,20346]
[null,"Music",869,1266,1530,1461,919,6045,6612,665,916,929,727,434,3671,3896,1534,2182,2459,2188,1353,9716,10508]
[null,"Physical Education",1148,1785,2714,3451,3600,12698,15499,1560,1770,2155,2105,1641,9231,10362,2708,3555,4869,5556,5241,21929,25861]
[null,"General Studies",3103,4793,7057,7746,7075,29774,38080,4198,6163,8112,8357,7791,34621,42345,7301,10956,15169,16103,14866,64395,80425]
[null,"Total",64711,72418,88595,84608,67080,377412,449980,89376,100782,112527,93814,65911,462410,523609,154087,173200,201122,178422,132991,839822,973589]

{"sheet":"2011AS","index":30,"n_rows":197,"n_cols":23,"rows_kept":197,"cut":false,"hidden":true,"merged":[]}
["March 2012 post errata figures"]
[]
[null,null,"Males",null,null,null,null,null,null,"Females",null,null,null,null,null,null,"Total"]
[null,null,"Grade",null,null,null,null,null,null,"Grade",null,null,null,null,null,null,"Grade"]
[null,null,"A","B","C","D","E","A-E","Entries","A","B","C","D","E","A-E","Entries","A","B","C","D","E","A-E","Entries"]
[]
[null,"Biological Sciences",{"$f":"IF(OR(C49=1,C49=2),\"x\",ROUND(C49/$I49*100,1))","v":13.9},{"$f":"IF(OR(D49=1,D49=2),\"x\",ROUND(D49/$I49*100,1))","v":15},17.5,17.3,16.3,80.2,{"$f":"ROUND(I49,0)","v":38196},{"$f":"IF(OR(J49=1,J49=2),\"x\",ROUND(J49/$P49*100,1))","v":17},{"$f":"IF(OR(K49=1,K49=2),\"x\",ROUND(K49/$P49*100,1))","v":16.399999999999999},17.7,17.100000000000001,14.8,83,{"$f":"ROUND(P49,0)","v":46138},{"$f":"IF(OR(Q49=1,Q49=2),\"x\",ROUND(Q49/$W49*100,1))","v":15.6},{"$f":"IF(OR(R49=1,R49=2),\"x\",ROUND(R49/$W49*100,1))","v":15.8},17.600000000000001,17.2,15.5,81.7,{"$f":"ROUND(W49,0)","v":84334}]
[null,"Chemistry",{"$f":"IF(OR(C50=1,C50=2),\"x\",ROUND(C50/$I50*100,1))","v":17.600000000000001},17.399999999999999,17.399999999999999,16.3,14.2,82.8,{"$f":"ROUND(I50,0)","v":35549},{"$f":"IF(OR(J50=1,J50=2),\"x\",ROUND(J50/$P50*100,1))","v":17.5},18,18,16.3,13.8,83.6,{"$f":"ROUND(P50,0)","v":30869},{"$f":"IF(OR(Q50=1,Q50=2),\"x\",ROUND(Q50/$W50*100,1))","v":17.600000000000001},17.7,17.7,16.3,14,83.2,{"$f":"ROUND(W50,0)","v":66418}]
[null,"Physics",19.3,15.5,16.600000000000001,15.7,14.3,81.5,37689,23.2,18.8,17.7,15.4,12.3,87.4,11390,20.2,16.3,16.899999999999999,15.6,13.9,82.8,49079]
[null,"Other Science",14.8,14.9,18.8,18.5,15.1,81.900000000000006,5588,14.4,14.4,18.7,18.399999999999999,15.5,81.2,2599,14.6,14.7,18.7,18.399999999999999,15.2,81.7,8187]
[null,"Mathematics",23.9,14.9,14.6,13.8,12.4,79.5,61147,25,17.2,15.8,14.2,11.7,83.9,43439,24.3,15.8,15.1,14,12.1,81.3,104586]
[null,"Further Mathematics",39.9,17.5,13.8,10.4,7.5,89,8199,42.2,18.399999999999999,14.1,9.5,7.5,91.7,4228,40.700000000000003,17.8,13.9,10.1,7.5,90,12427]
[null,"Design and Technology",7.5,13.5,21.4,22.4,18.5,83.3,12448,12.9,19.3,21.6,20.8,14.9,89.4,9180,9.8000000000000007,16,21.5,21.7,17,85.9,21628]
[null,"Computer Studies",9.6999999999999993,14.5,19.3,19.2,16.100000000000001,78.8,6306,11.5,16.7,18.100000000000001,19.100000000000001,15.9,81.3,540,9.8000000000000007,14.6,19.2,19.2,16.100000000000001,79,6846]
[null,"ICT",4.5999999999999996,10.199999999999999,19,23,21.2,77.900000000000006,10263,8.5,14.5,21.8,22.1,18,84.8,5556,5.9,11.7,20,22.7,20.100000000000001,80.3,15819]
[null,"Home Economics","x",6.1,14.3,17.3,26.5,65.3,98,9.3000000000000007,22.1,24.7,17.8,14.5,88.4,421,7.7,19.100000000000001,22.7,17.7,16.8,84,519]
[null,"Accounting and Finance",6.3,12.5,17.7,16.2,16,68.599999999999994,4407,8.6,11.8,17,17.100000000000001,17.100000000000001,71.8,2433,7.1,12.3,17.399999999999999,16.5,16.399999999999999,69.8,6840]
[null,"Business Studies",8.5,16,22.4,21.3,17.600000000000001,85.7,24154,10,16.899999999999999,21.8,20.3,17.100000000000001,86.1,18009,9.1,16.399999999999999,22.1,20.9,17.399999999999999,85.9,42163]
[null,"Economics",18.899999999999999,18.899999999999999,19.5,16.5,12.5,86.4,18900,21.8,19.8,17.899999999999999,16.2,12.1,87.8,9031,19.8,19.2,19,16.399999999999999,12.4,86.8,27931]
[null,"Geography",17.7,17.399999999999999,20.399999999999999,18.3,13.4,87.3,20703,27.1,19.3,19.100000000000001,15.3,9.8000000000000007,90.6,18080,22.1,18.3,19.8,16.899999999999999,11.7,88.8,38783]
[null,"Government and Politics",18.3,19.8,20.9,16.600000000000001,11.5,87.2,9941,23.5,19.5,18.8,15.9,10.6,88.1,8024,20.6,19.7,19.899999999999999,16.3,11.1,87.6,17965]
[null,"History",16.399999999999999,21.8,25.6,18.8,10.8,93.3,27846,18.100000000000001,22.8,24.8,17.899999999999999,10,93.6,31459,17.3,22.3,25.1,18.3,10.4,93.4,59305]
[null,"Law",8.3000000000000007,12.2,16.8,18.899999999999999,17.2,73.5,9245,12.7,15.4,19.100000000000001,17.600000000000001,13.9,78.7,12854,10.8,14.1,18.100000000000001,18.100000000000001,15.3,76.5,22099]
[null,"Psychology",{"$f":"IF(OR(C66=1,C66=2),\"x\",ROUND(C66/$I66*100,1))","v":5.9},12,17.2,19.8,18.3,73.099999999999994,29051,{"$f":"IF(OR(J66=1,J66=2),\"x\",ROUND(J66/$P66*100,1))","v":13.6},18.100000000000001,19.899999999999999,17.8,13.5,82.8,62486,{"$f":"IF(OR(Q66=1,Q66=2),\"x\",ROUND(Q66/$W66*100,1))","v":11.1},16.100000000000001,19,18.399999999999999,15,79.7,91537]
[null,"Sociology",8.4,14.1,19.3,20.7,16.100000000000001,78.599999999999994,13311,14.8,18.100000000000001,21.7,17.899999999999999,13.3,85.7,34327,13,17,21,18.600000000000001,14.1,83.7,47638]
[null,"Other social studies",8.6999999999999993,13.3,17.899999999999999,19,15.7,74.7,5669,11.4,16.399999999999999,19.899999999999999,18.600000000000001,14.1,80.400000000000006,6783,10.199999999999999,15,19,18.8,14.8,77.8,12452]
[null,"Art and Design",16,19.399999999999999,23.7,18.7,12.5,90.3,18166,23.4,25.3,23.8,14.5,8,95.1,46778,21.3,23.7,23.8,15.7,9.1999999999999993,93.7,64944]
[null,"Drama",12.8,24.4,31.3,20.8,8.1,97.4,5923,16.100000000000001,30.2,30.1,16.8,5,98.3,12331,15,28.3,30.5,18.100000000000001,6,98,18254]
[null,"English",13,19.8,26.6,23.2,12.2,94.7,32647,15,22.1,27.8,21.7,10.1,96.7,78306,14.4,21.4,27.4,22.2,10.7,96.1,110953]
[null,"Media/Film/TV Studies",7,18.899999999999999,30.2,24.8,12,92.8,16249,12.4,26.7,30.9,18.7,7.2,95.9,20151,10,23.2,30.6,21.4,9.3000000000000007,94.5,36400]
[null,"Other Communication Studies",7.6,22,33.200000000000003,22.1,9.5,94.5,7128,11.3,27.1,32.299999999999997,18.399999999999999,7,96.1,8850,9.6999999999999993,24.8,32.700000000000003,20.100000000000001,8.1,95.4,15978]
[null,"French",27.7,19,18.600000000000001,15.3,10.6,91.3,4621,25.7,19.399999999999999,18.2,15.4,11.9,90.6,11055,26.3,19.3,18.3,15.4,11.5,90.8,15676]
[null,"German",27.1,17.899999999999999,20,15.9,12.9,93.6,2280,23.7,17.899999999999999,20.2,17.600000000000001,13,92.4,3834,25,17.899999999999999,20.100000000000001,17,12.9,92.9,6114]
[null,"Spanish",23.8,21.9,18.899999999999999,16.100000000000001,11.2,92,2598,21.4,20.2,19.5,16.8,12.5,90.4,5740,22.1,20.7,19.3,16.600000000000001,12.1,90.9,8338]
[null,"Other modern languages",50.5,19.5,10.4,8.1999999999999993,5.6,94.3,1833,51,18.2,12.3,8.1,4.8,94.4,2643,50.8,18.7,11.6,8.1999999999999993,5.2,94.3,4476]
[null,"Classical Studies",27.2,21.1,21,14.9,8.8000000000000007,93.1,3140,30.5,25.9,19.399999999999999,13,6.3,95.1,3961,29,23.8,20.100000000000001,13.9,7.4,94.2,7101]
[null,"Religious Studies",16.600000000000001,19.8,23.2,18.100000000000001,11,88.7,8499,20.399999999999999,22.5,22.4,16.2,10.199999999999999,91.7,17899,19.2,21.6,22.6,16.8,10.5,90.7,26398]
[null,"Music",12.8,18.899999999999999,24.5,21.5,14.1,91.9,7687,16.2,22.3,25.5,19.100000000000001,10.8,93.9,4496,14.1,20.2,24.9,20.6,12.9,92.6,12183]
[null,"Physical Education",7.4,11.8,18,22.3,23.3,82.9,16631,15.9,18,20.7,20.2,15.2,90,10672,10.7,14.2,19,21.5,20.100000000000001,85.6,27303]
[null,"General Studies",{"$f":"IF(OR(C82=1,C82=2),\"x\",ROUND(C82/$I82*100,1))","v":8.1},12.7,18.3,19.899999999999999,18.5,77.5,42227,{"$f":"IF(OR(J82=1,J82=2),\"x\",ROUND(J82/$P82*100,1))","v":10.5},15,19.600000000000001,20.100000000000001,17.8,83,48597,{"$f":"IF(OR(Q82=1,Q82=2),\"x\",ROUND(Q82/$W82*100,1))","v":9.4},13.9,19,20,18.100000000000001,80.400000000000006,90824]
[null,"All subjects",14.7,16.2,19.899999999999999,18.5,14.6,83.8,548339,17.399999999999999,19.7,21.6,17.7,12.1,88.6,633159,16.100000000000001,18.100000000000001,20.8,18.100000000000001,13.3,86.4,1181498]
[]
[]
[" "," "]
[]
[null,null,"Males",null,null,null,null,null,null,"Females",null,null,null,null,null,null,"Total"]
[null,null,"A","B","C","D","E","2_A-E","Total","A","B","C","D","E","2_A-E","Total","A","B","C","D","E","2_A-E","Total"]
[null,null,"Count","Count","Count","Count","Count","Count","Count","Count","Count","Count","Count","Count","Count","Count","Count","Count","Count","Count","Count","Count","Count"]
["NEW_MAJ","Biological Sciences",5320,5741,6693,6619,6243,30616,38196,7829,7547,8186,7911,6839,38312,46138,13149,13288,14879,14530,13082,68928,84334]
[null,"Chemistry",6256,6171,6193,5797,5031,29448,35549,5406,5555,5542,5024,4268,25795,30869,11662,11726,11735,10821,9299,55243,66418]
[null,"Physics",7271,5846,6270,5919,5395,30701,37689,2639,2143,2014,1754,1406,9956,11390,9910,7989,8284,7673,6801,40657,49079]
[null,"Other Science",825,830,1048,1031,844,4578,5588,373,373,485,477,403,2111,2599,1198,1203,1533,1508,1247,6689,8187]
[null,"Mathematics",14603,9091,8906,8425,7564,48589,61147,10862,7465,6881,6176,5078,36462,43439,25465,16556,15787,14601,12642,85051,104586]
[null,"Further Mathematics",3269,1432,1133,854,613,7301,8199,1786,779,595,401,318,3879,4228,5055,2211,1728,1255,931,11180,12427]
[null,"Design and Technology",928,1684,2665,2788,2298,10363,12448,1184,1769,1984,1905,1369,8211,9180,2112,3453,4649,4693,3667,18574,21628]
[null,"Computer Studies",612,912,1217,1213,1016,4970,6306,62,90,98,103,86,439,540,674,1002,1315,1316,1102,5409,6846]
[null,"ICT",469,1042,1946,2363,2175,7995,10263,471,808,1210,1226,999,4714,5556,940,1850,3156,3589,3174,12709,15819]
[null,"Home Economics",1,6,14,17,26,64,98,39,93,104,75,61,372,421,40,99,118,92,87,436,519]
[null,"Accounting and Finance",279,550,779,712,705,3025,4407,210,288,414,417,417,1746,2433,489,838,1193,1129,1122,4771,6840]
[null,"Business Studies",2047,3863,5409,5134,4253,20706,24154,1797,3045,3925,3664,3071,15502,18009,3844,6908,9334,8798,7324,36208,42163]
[null,"Economics",3571,3580,3694,3115,2361,16321,18900,1969,1786,1620,1462,1091,7928,9031,5540,5366,5314,4577,3452,24249,27931]
[null,"Geography",3665,3612,4228,3799,2778,18082,20703,4892,3496,3449,2762,1775,16374,18080,8557,7108,7677,6561,4553,34456,38783]
[null,"Government and Politics",1822,1971,2073,1655,1148,8669,9941,1882,1561,1508,1272,847,7070,8024,3704,3532,3581,2927,1995,15739,17965]
[null,"History",4555,6067,7119,5240,2998,25979,27846,5683,7183,7792,5626,3154,29438,31459,10238,13250,14911,10866,6152,55417,59305]
[null,"Law",769,1132,1551,1750,1592,6794,9245,1627,1985,2451,2256,1791,10110,12854,2396,3117,4002,4006,3383,16904,22099]
[null,"Psychology",1708,3476,4988,5748,5319,21239,29051,8482,11297,12430,11096,8445,51750,62486,10190,14773,17418,16844,13764,72989,91537]
[null,"Sociology",1122,1876,2572,2749,2138,10457,13311,5071,6201,7455,6128,4574,29429,34327,6193,8077,10027,8877,6712,39886,47638]
[null,"Other Social Studies",495,755,1017,1077,892,4236,5669,775,1113,1347,1264,955,5454,6783,1270,1868,2364,2341,1847,9690,12452]
[null,"Art and Design",2902,3531,4301,3400,2265,16399,18166,10952,11840,11141,6806,3734,44473,46778,13854,15371,15442,10206,5999,60872,64944]
[null,"Drama",756,1446,1853,1232,481,5768,5923,1981,3723,3717,2074,622,12117,12331,2737,5169,5570,3306,1103,17885,18254]
[null,"English",4243,6449,8683,7562,3993,30930,32647,11740,17287,21766,17021,7901,75715,78306,15983,23736,30449,24583,11894,106645,110953]
[null,"Media/Film/Television Studies",1137,3071,4903,4030,1945,15086,16249,2492,5384,6221,3777,1453,19327,20151,3629,8455,11124,7807,3398,34413,36400]
[null,"Other Communication Studies",542,1571,2367,1578,680,6738,7128,1000,2396,2858,1626,621,8501,8850,1542,3967,5225,3204,1301,15239,15978]
[null,"French",1280,879,861,707,490,4217,4621,2838,2149,2010,1706,1317,10020,11055,4118,3028,2871,2413,1807,14237,15676]
[null,"German",617,407,455,363,293,2135,2280,909,687,775,674,498,3543,3834,1526,1094,1230,1037,791,5678,6114]
[null,"Spanish",619,568,492,418,292,2389,2598,1226,1160,1121,965,719,5191,5740,1845,1728,1613,1383,1011,7580,8338]
[null,"Other Modern Languages",925,358,191,151,103,1728,1833,1347,480,326,214,128,2495,2643,2272,838,517,365,231,4223,4476]
[null,"Classical Studies",854,663,660,469,277,2923,3140,1207,1026,770,516,248,3767,3961,2061,1689,1430,985,525,6690,7101]
[null,"Religious Studies",1409,1680,1969,1542,939,7539,8499,3656,4027,4001,2898,1832,16414,17899,5065,5707,5970,4440,2771,23953,26398]
[null,"Music",984,1456,1886,1655,1082,7063,7687,729,1003,1146,859,484,4221,4496,1713,2459,3032,2514,1566,11284,12183]
[null,"Physical Education",1235,1964,2986,3717,3877,13779,16631,1695,1917,2212,2159,1620,9603,10672,2930,3881,5198,5876,5497,23382,27303]
[null,"General Studies",3400,5365,7746,8404,7808,32723,42227,5121,7276,9517,9777,8633,40324,48597,8521,12641,17263,18181,16441,73047,90824]
[null,"Total",80490,89045,108868,101233,79914,459550,548339,109932,124932,137071,112071,76757,560763,633159,190422,213977,245939,213304,156671,1020313,1181498]
[]
[]
[]
[]
[]
[]
["SPSS output 2011",null," "," ","GRADE"]
[null,null,null,null,"A","B","C","D","E","A-E","Total"]
[null,null,null,null,"Count","Count","Count","Count","Count","Count","Count"]
["GENDER","Total","NEW_MAJ","Biological Sciences",13149,13288,14879,14530,13082,68928,84334]
[null,null,null,"Chemistry",11662,11726,11735,10821,9299,55243,66418]
[null,null,null,"Physics",9910,7989,8284,7673,6801,40657,49079]
[null,null,null,"Other Science",1198,1203,1533,1508,1247,6689,8187]
[null,null,null,"Mathematics",25465,16556,15787,14601,12642,85051,104586]
[null,null,null,"Further Mathematics",5055,2211,1728,1255,931,11180,12427]
[null,null,null,"Design and Technology",2112,3453,4649,4693,3667,18574,21628]
[null,null,null,"Computer Studies",674,1002,1315,1316,1102,5409,6846]
[null,null,null,"ICT",940,1850,3156,3589,3174,12709,15819]
[null,null,null,"Home Economics",40,99,118,92,87,436,519]
[null,null,null,"Accounting and Finance",489,838,1193,1129,1122,4771,6840]
[null,null,null,"Business Studies",3844,6908,9334,8798,7324,36208,42163]
[null,null,null,"Economics",5540,5366,5314,4577,3452,24249,27931]
[null,null,null,"Geography",8557,7108,7677,6561,4553,34456,38783]
[null,null,null,"Government and Politics",3704,3532,3581,2927,1995,15739,17965]
[null,null,null,"History",10238,13250,14911,10866,6152,55417,59305]
[null,null,null,"Law",2396,3117,4002,4006,3383,16904,22099]
[null,null,null,"Psychology",10190,14773,17418,16844,13764,72989,91537]
[null,null,null,"Sociology",6193,8077,10027,8877,6712,39886,47638]
[null,null,null,"Other Social Studies",1270,1868,2364,2341,1847,9690,12452]
[null,null,null,"Art and Design",13854,15371,15442,10206,5999,60872,64944]
[null,null,null,"Drama",2737,5169,5570,3306,1103,17885,18254]
[null,null,null,"English",15983,23736,30449,24583,11894,106645,110953]
[null,null,null,"Media/Film/Television Studies",3629,8455,11124,7807,3398,34413,36400]
[null,null,null,"Other Communication Studies",1542,3967,5225,3204,1301,15239,15978]
[null,null,null,"French",4118,3028,2871,2413,1807,14237,15676]
[null,null,null,"German",1526,1094,1230,1037,791,5678,6114]
[null,null,null,"Spanish",1845,1728,1613,1383,1011,7580,8338]
[null,null,null,"Other Modern Languages",2273,838,517,365,231,4224,4477]
[null,null,null,"Classical Studies",2061,1689,1430,985,525,6690,7101]
[null,null,null,"Religious Studies",5065,5707,5970,4440,2771,23953,26398]
[null,null,null,"Music",1713,2459,3032,2514,1566,11284,12183]
[null,null,null,"Physical Education",2930,3881,5198,5876,5497,23382,27303]
[null,null,null,"General Studies",8521,12641,17263,18181,16441,73047,90824]
[null,null,null,"Total",190423,213977,245939,213304,156671,1020314,1181499]
[null,"M","NEW_MAJ","Biological Sciences",5320,5741,6693,6619,6243,30616,38196]
[null,null,null,"Chemistry",6256,6171,6193,5797,5031,29448,35549]
[null,null,null,"Physics",7271,5846,6270,5919,5395,30701,37689]
[null,null,null,"Other Science",825,830,1048,1031,844,4578,5588]
[null,null,null,"Mathematics",14603,9091,8906,8425,7564,48589,61147]
[null,null,null,"Further Mathematics",3269,1432,1133,854,613,7301,8199]
[null,null,null,"Design and Technology",928,1684,2665,2788,2298,10363,12448]
[null,null,null,"Computer Studies",612,912,1217,1213,1016,4970,6306]
[null,null,null,"ICT",469,1042,1946,2363,2175,7995,10263]
[null,null,null,"Home Economics",1,6,14,17,26,64,98]
[null,null,null,"Accounting and Finance",279,550,779,712,705,3025,4407]
[null,null,null,"Business Studies",2047,3863,5409,5134,4253,20706,24154]
[null,null,null,"Economics",3571,3580,3694,3115,2361,16321,18900]
[null,null,null,"Geography",3665,3612,4228,3799,2778,18082,20703]
[null,null,null,"Government and Politics",1822,1971,2073,1655,1148,8669,9941]
[null,null,null,"History",4555,6067,7119,5240,2998,25979,27846]
[null,null,null,"Law",769,1132,1551,1750,1592,6794,9245]
[null,null,null,"Psychology",1708,3476,4988,5748,5319,21239,29051]
[null,null,null,"Sociology",1122,1876,2572,2749,2138,10457,13311]
[null,null,null,"Other Social Studies",495,755,1017,1077,892,4236,5669]
[null,null,null,"Art and Design",2902,3531,4301,3400,2265,16399,18166]
[null,null,null,"Drama",756,1446,1853,1232,481,5768,5923]
[null,null,null,"English",4243,6449,8683,7562,3993,30930,32647]
[null,null,null,"Media/Film/Television Studies",1137,3071,4903,4030,1945,15086,16249]
[null,null,null,"Other Communication Studies",542,1571,2367,1578,680,6738,7128]
[null,null,null,"French",1280,879,861,707,490,4217,4621]
[null,null,null,"German",617,407,455,363,293,2135,2280]
[null,null,null,"Spanish",619,568,492,418,292,2389,2598]
[null,null,null,"Other Modern Languages",925,358,191,151,103,1728,1833]
[null,null,null,"Classical Studies",854,663,660,469,277,2923,3140]
[null,null,null,"Religious Studies",1409,1680,1969,1542,939,7539,8499]
[null,null,null,"Music",984,1456,1886,1655,1082,7063,7687]
[null,null,null,"Physical Education",1235,1964,2986,3717,3877,13779,16631]
[null,null,null,"General Studies",3400,5365,7746,8404,7808,32723,42227]
[null,null,null,"Total",80490,89045,108868,101233,79914,459550,548339]
[null,"F","NEW_MAJ","Biological Sciences",7829,7547,8186,7911,6839,38312,46138]
[null,null,null,"Chemistry",5406,5555,5542,5024,4268,25795,30869]
[null,null,null,"Physics",2639,2143,2014,1754,1406,9956,11390]
[null,null,null,"Other Science",373,373,485,477,403,2111,2599]
[null,null,null,"Mathematics",10862,7465,6881,6176,5078,36462,43439]
[null,null,null,"Further Mathematics",1786,779,595,401,318,3879,4228]
[null,null,null,"Design and Technology",1184,1769,1984,1905,1369,8211,9180]
[null,null,null,"Computer Studies",62,90,98,103,86,439,540]
[null,null,null,"ICT",471,808,1210,1226,999,4714,5556]
[null,null,null,"Home Economics",39,93,104,75,61,372,421]
[null,null,null,"Accounting and Finance",210,288,414,417,417,1746,2433]
[null,null,null,"Business Studies",1797,3045,3925,3664,3071,15502,18009]
[null,null,null,"Economics",1969,1786,1620,1462,1091,7928,9031]
[null,null,null,"Geography",4892,3496,3449,2762,1775,16374,18080]
[null,null,null,"Government and Politics",1882,1561,1508,1272,847,7070,8024]
[null,null,null,"History",5683,7183,7792,5626,3154,29438,31459]
[null,null,null,"Law",1627,1985,2451,2256,1791,10110,12854]
[null,null,null,"Psychology",8482,11297,12430,11096,8445,51750,62486]
[null,null,null,"Sociology",5071,6201,7455,6128,4574,29429,34327]
[null,null,null,"Other Social Studies",775,1113,1347,1264,955,5454,6783]
[null,null,null,"Art and Design",10952,11840,11141,6806,3734,44473,46778]
[null,null,null,"Drama",1981,3723,3717,2074,622,12117,12331]
[null,null,null,"English",11740,17287,21766,17021,7901,75715,78306]
[null,null,null,"Media/Film/Television Studies",2492,5384,6221,3777,1453,19327,20151]
[null,null,null,"Other Communication Studies",1000,2396,2858,1626,621,8501,8850]
[null,null,null,"French",2838,2149,2010,1706,1317,10020,11055]
[null,null,null,"German",909,687,775,674,498,3543,3834]
[null,null,null,"Spanish",1226,1160,1121,965,719,5191,5740]
[null,null,null,"Other Modern Languages",1348,480,326,214,128,2496,2644]
[null,null,null,"Classical Studies",1207,1026,770,516,248,3767,3961]
[null,null,null,"Religious Studies",3656,4027,4001,2898,1832,16414,17899]
[null,null,null,"Music",729,1003,1146,859,484,4221,4496]
[null,null,null,"Physical Education",1695,1917,2212,2159,1620,9603,10672]
[null,null,null,"General Studies",5121,7276,9517,9777,8633,40324,48597]
[null,null,null,"Total",109933,124932,137071,112071,76757,560764,633160]

{"sheet":"2012AS","index":31,"n_rows":83,"n_cols":23,"rows_kept":83,"cut":false,"hidden":true,"merged":[]}
[]
["POST ERRATA"]
[null,null,"Males",null,null,null,null,null,null,"Females",null,null,null,null,null,null,"Total"]
[null,null,"Grade",null,null,null,null,null,null,"Grade",null,null,null,null,null,null,"Grade"]
[null,null,"A","B","C","D","E","A-E","Entries","A","B","C","D","E","A-E","Entries","A","B","C","D","E","A-E","Entries"]
[]
[null,"Biological Sciences",{"$f":"IF(OR(C49=1,C49=2),\"x\",ROUND(C49/$I49*100,1))","v":15.1},{"$f":"IF(OR(D49=1,D49=2),\"x\",ROUND(D49/$I49*100,1))","v":16.2},17.600000000000001,17.100000000000001,15.3,81.099999999999994,{"$f":"ROUND(I49,0)","v":37000},{"$f":"IF(OR(J49=1,J49=2),\"x\",ROUND(J49/$P49*100,1))","v":18},{"$f":"IF(OR(K49=1,K49=2),\"x\",ROUND(K49/$P49*100,1))","v":17.7},18.3,16.2,13.3,83.6,{"$f":"ROUND(P49,0)","v":47527},{"$f":"IF(OR(Q49=1,Q49=2),\"x\",ROUND(Q49/$W49*100,1))","v":16.7},{"$f":"IF(OR(R49=1,R49=2),\"x\",ROUND(R49/$W49*100,1))","v":17.100000000000001},18,16.600000000000001,14.2,82.5,{"$f":"ROUND(W49,0)","v":84527}]
[null,"Chemistry",{"$f":"IF(OR(C50=1,C50=2),\"x\",ROUND(C50/$I50*100,1))","v":18.8},18.5,17.5,15.3,12.9,83,{"$f":"ROUND(I50,0)","v":36109},{"$f":"IF(OR(J50=1,J50=2),\"x\",ROUND(J50/$P50*100,1))","v":17.7},19.399999999999999,18,15.5,13.1,83.7,{"$f":"ROUND(P50,0)","v":32833},{"$f":"IF(OR(Q50=1,Q50=2),\"x\",ROUND(Q50/$W50*100,1))","v":18.3},18.899999999999999,17.7,15.4,13,83.3,{"$f":"ROUND(W50,0)","v":68942}]
[null,"Physics",{"$f":"IF(OR(C51=1,C51=2),\"x\",ROUND(C51/$I51*100,1))","v":19.8},16.5,16.7,15.5,13.6,82.1,38412,{"$f":"IF(OR(J51=1,J51=2),\"x\",ROUND(J51/$P51*100,1))","v":23.2},18.7,17.100000000000001,15.3,11.8,86.1,11720,{"$f":"IF(OR(Q51=1,Q51=2),\"x\",ROUND(Q51/$W51*100,1))","v":20.6},17,16.8,15.5,13.2,83,50132]
[null,"Other Science",{"$f":"IF(OR(C52=1,C52=2),\"x\",ROUND(C52/$I52*100,1))","v":17.2},17.399999999999999,18.3,16.8,15,84.6,4955,{"$f":"IF(OR(J52=1,J52=2),\"x\",ROUND(J52/$P52*100,1))","v":16.399999999999999},18.3,18.3,16.600000000000001,15,84.6,2247,{"$f":"IF(OR(Q52=1,Q52=2),\"x\",ROUND(Q52/$W52*100,1))","v":17},17.7,18.3,16.7,15,84.6,7202]
[null,"Mathematics",{"$f":"IF(OR(C53=1,C53=2),\"x\",ROUND(C53/$I53*100,1))","v":24.8},15.1,15,13.9,11.2,80,63203,{"$f":"IF(OR(J53=1,J53=2),\"x\",ROUND(J53/$P53*100,1))","v":25.1},17.3,16.5,13.8,11.1,83.7,44246,{"$f":"IF(OR(Q53=1,Q53=2),\"x\",ROUND(Q53/$W53*100,1))","v":24.9},16,15.6,13.8,11.2,81.5,107449]
[null,"Further Mathematics",{"$f":"IF(OR(C54=1,C54=2),\"x\",ROUND(C54/$I54*100,1))","v":40.6},18.2,13.1,10.6,6.9,89.3,9107,{"$f":"IF(OR(J54=1,J54=2),\"x\",ROUND(J54/$P54*100,1))","v":42.4},18.600000000000001,14,9.8000000000000007,6.3,91.2,4531,{"$f":"IF(OR(Q54=1,Q54=2),\"x\",ROUND(Q54/$W54*100,1))","v":41.2},18.3,13.4,10.3,6.7,89.9,13638]
[null,"Design and Technology",{"$f":"IF(OR(C55=1,C55=2),\"x\",ROUND(C55/$I55*100,1))","v":8.4},14.7,20.9,22.6,17.899999999999999,84.4,11205,{"$f":"IF(OR(J55=1,J55=2),\"x\",ROUND(J55/$P55*100,1))","v":13.7},18.899999999999999,22.1,21.8,14.2,90.7,7760,{"$f":"IF(OR(Q55=1,Q55=2),\"x\",ROUND(Q55/$W55*100,1))","v":10.6},16.399999999999999,21.4,22.3,16.399999999999999,87,18965]
[null,"Computer Studies",{"$f":"IF(OR(C56=1,C56=2),\"x\",ROUND(C56/$I56*100,1))","v":9.9},15.1,19.100000000000001,19,16.5,79.599999999999994,6176,{"$f":"IF(OR(J56=1,J56=2),\"x\",ROUND(J56/$P56*100,1))","v":11.9},14.8,15.8,18.600000000000001,17.8,78.900000000000006,488,{"$f":"IF(OR(Q56=1,Q56=2),\"x\",ROUND(Q56/$W56*100,1))","v":10},15,18.899999999999999,19,16.600000000000001,79.5,6664]
[null,"ICT",{"$f":"IF(OR(C57=1,C57=2),\"x\",ROUND(C57/$I57*100,1))","v":4.9000000000000004},11.1,19.899999999999999,22.3,19.600000000000001,77.8,9218,{"$f":"IF(OR(J57=1,J57=2),\"x\",ROUND(J57/$P57*100,1))","v":9},16.399999999999999,23,20.8,16,85.2,4806,{"$f":"IF(OR(Q57=1,Q57=2),\"x\",ROUND(Q57/$W57*100,1))","v":6.3},12.9,20.9,21.8,18.399999999999999,80.3,14024]
[null,"Home Economics",{"$f":"IF(OR(C58=1,C58=2),\"x\",ROUND(C58/$I58*100,1))","v":"x"},4.8,13.3,18.100000000000001,27.7,66.3,83,{"$f":"IF(OR(J58=1,J58=2),\"x\",ROUND(J58/$P58*100,1))","v":14.4},17.7,20.7,17.7,15.5,86.1,367,{"$f":"IF(OR(Q58=1,Q58=2),\"x\",ROUND(Q58/$W58*100,1))","v":12.2},15.3,19.3,17.8,17.8,82.4,450]
[null,"Accounting and Finance",{"$f":"IF(OR(C59=1,C59=2),\"x\",ROUND(C59/$I59*100,1))","v":6.4},11.8,16.3,17.7,16.8,68.900000000000006,4231,{"$f":"IF(OR(J59=1,J59=2),\"x\",ROUND(J59/$P59*100,1))","v":7.7},12,16.600000000000001,17.8,16,70.2,2339,{"$f":"IF(OR(Q59=1,Q59=2),\"x\",ROUND(Q59/$W59*100,1))","v":6.9},11.8,16.399999999999999,17.7,16.5,69.3,6570]
[null,"Business Studies",{"$f":"IF(OR(C60=1,C60=2),\"x\",ROUND(C60/$I60*100,1))","v":8},16.3,22.6,22.1,17.600000000000001,86.5,23371,{"$f":"IF(OR(J60=1,J60=2),\"x\",ROUND(J60/$P60*100,1))","v":9.9},16.3,21.5,21,16.7,85.4,17164,{"$f":"IF(OR(Q60=1,Q60=2),\"x\",ROUND(Q60/$W60*100,1))","v":8.8000000000000007},16.3,22.1,21.6,17.2,86.1,40535]
[null,"Economics",{"$f":"IF(OR(C61=1,C61=2),\"x\",ROUND(C61/$I61*100,1))","v":19.600000000000001},18.5,19.399999999999999,16.399999999999999,12.4,86.2,20994,{"$f":"IF(OR(J61=1,J61=2),\"x\",ROUND(J61/$P61*100,1))","v":22.8},20.100000000000001,19,15.1,11.3,88.2,9938,{"$f":"IF(OR(Q61=1,Q61=2),\"x\",ROUND(Q61/$W61*100,1))","v":20.6},19,19.3,16,12,86.8,30932]
[null,"Geography",{"$f":"IF(OR(C62=1,C62=2),\"x\",ROUND(C62/$I62*100,1))","v":18.399999999999999},17.600000000000001,20.5,17.600000000000001,13,87.1,20670,{"$f":"IF(OR(J62=1,J62=2),\"x\",ROUND(J62/$P62*100,1))","v":27.8},20.2,19.100000000000001,14.1,9.8000000000000007,91,18909,{"$f":"IF(OR(Q62=1,Q62=2),\"x\",ROUND(Q62/$W62*100,1))","v":22.9},18.8,19.8,15.9,11.5,89,39579]
[null,"Government and Politics",{"$f":"IF(OR(C63=1,C63=2),\"x\",ROUND(C63/$I63*100,1))","v":18.8},20.7,21.6,17.399999999999999,10.6,89.2,10137,{"$f":"IF(OR(J63=1,J63=2),\"x\",ROUND(J63/$P63*100,1))","v":23.1},20.399999999999999,18.7,15.7,10.4,88.3,8001,{"$f":"IF(OR(Q63=1,Q63=2),\"x\",ROUND(Q63/$W63*100,1))","v":20.7},20.6,20.3,16.600000000000001,10.5,88.8,18138]
[null,"History",{"$f":"IF(OR(C64=1,C64=2),\"x\",ROUND(C64/$I64*100,1))","v":16.899999999999999},23.3,25.8,18.2,9.6,93.8,27862,{"$f":"IF(OR(J64=1,J64=2),\"x\",ROUND(J64/$P64*100,1))","v":18.7},24.1,25.2,17.100000000000001,8.9,94,31804,{"$f":"IF(OR(Q64=1,Q64=2),\"x\",ROUND(Q64/$W64*100,1))","v":17.899999999999999},23.7,25.5,17.600000000000001,9.1999999999999993,93.9,59666]
[null,"Law",{"$f":"IF(OR(C65=1,C65=2),\"x\",ROUND(C65/$I65*100,1))","v":8.6999999999999993},13.9,17.100000000000001,17.399999999999999,16.8,73.8,8358,{"$f":"IF(OR(J65=1,J65=2),\"x\",ROUND(J65/$P65*100,1))","v":13.4},16.5,18.5,16.8,14.2,79.3,12054,{"$f":"IF(OR(Q65=1,Q65=2),\"x\",ROUND(Q65/$W65*100,1))","v":11.4},15.4,17.899999999999999,17.100000000000001,15.2,77,20412]
[null,"Psychology",{"$f":"IF(OR(C66=1,C66=2),\"x\",ROUND(C66/$I66*100,1))","v":5.9},12.4,18.5,19.5,16.600000000000001,72.900000000000006,26821,{"$f":"IF(OR(J66=1,J66=2),\"x\",ROUND(J66/$P66*100,1))","v":13.8},19.600000000000001,20.6,17.100000000000001,12.5,83.6,60659,{"$f":"IF(OR(Q66=1,Q66=2),\"x\",ROUND(Q66/$W66*100,1))","v":11.4},17.399999999999999,19.899999999999999,17.899999999999999,13.8,80.3,87480]
[null,"Sociology",{"$f":"IF(OR(C67=1,C67=2),\"x\",ROUND(C67/$I67*100,1))","v":7.9},13.9,19.7,20.7,16.3,78.5,12608,{"$f":"IF(OR(J67=1,J67=2),\"x\",ROUND(J67/$P67*100,1))","v":14.6},19,22,17.7,12.9,86.2,32730,{"$f":"IF(OR(Q67=1,Q67=2),\"x\",ROUND(Q67/$W67*100,1))","v":12.7},17.600000000000001,21.4,18.5,13.8,84,45338]
[null,"Other social studies",{"$f":"IF(OR(C68=1,C68=2),\"x\",ROUND(C68/$I68*100,1))","v":8.5},13.2,18,18.100000000000001,16.899999999999999,74.900000000000006,5020,{"$f":"IF(OR(J68=1,J68=2),\"x\",ROUND(J68/$P68*100,1))","v":11.1},16.7,20,18.7,14.9,81.400000000000006,6586,{"$f":"IF(OR(Q68=1,Q68=2),\"x\",ROUND(Q68/$W68*100,1))","v":10},15.2,19.2,18.399999999999999,15.8,78.599999999999994,11606]
[null,"Art and Design",{"$f":"IF(OR(C69=1,C69=2),\"x\",ROUND(C69/$I69*100,1))","v":15.9},20,23.3,19.3,12.2,90.8,16332,{"$f":"IF(OR(J69=1,J69=2),\"x\",ROUND(J69/$P69*100,1))","v":23.2},26.2,23.8,15.2,7.3,95.6,43847,{"$f":"IF(OR(Q69=1,Q69=2),\"x\",ROUND(Q69/$W69*100,1))","v":21.2},24.6,23.6,16.3,8.6,94.3,60179]
[null,"Drama",{"$f":"IF(OR(C70=1,C70=2),\"x\",ROUND(C70/$I70*100,1))","v":13.5},26.4,29.7,19.899999999999999,8,97.6,5181,{"$f":"IF(OR(J70=1,J70=2),\"x\",ROUND(J70/$P70*100,1))","v":16.2},30.4,30.6,16.2,5,98.4,11090,{"$f":"IF(OR(Q70=1,Q70=2),\"x\",ROUND(Q70/$W70*100,1))","v":15.4},29.1,30.3,17.399999999999999,5.9,98.1,16271]
[null,"English",{"$f":"IF(OR(C71=1,C71=2),\"x\",ROUND(C71/$I71*100,1))","v":13.9},20.2,27.3,22.6,11.6,95.5,31616,{"$f":"IF(OR(J71=1,J71=2),\"x\",ROUND(J71/$P71*100,1))","v":15.7},22.8,28.5,21.2,8.9,97.1,78021,{"$f":"IF(OR(Q71=1,Q71=2),\"x\",ROUND(Q71/$W71*100,1))","v":15.2},22,28.2,21.6,9.6999999999999993,96.7,109637]
[null,"Media/Film/TV Studies",{"$f":"IF(OR(C72=1,C72=2),\"x\",ROUND(C72/$I72*100,1))","v":6.6},18.2,30.4,25.5,12.7,93.4,13929,{"$f":"IF(OR(J72=1,J72=2),\"x\",ROUND(J72/$P72*100,1))","v":12.2},27.1,31.3,18.600000000000001,7.1,96.2,17525,{"$f":"IF(OR(Q72=1,Q72=2),\"x\",ROUND(Q72/$W72*100,1))","v":9.6999999999999993},23.2,30.9,21.7,9.6,95,31454]
[null,"Other Communication Studies",{"$f":"IF(OR(C73=1,C73=2),\"x\",ROUND(C73/$I73*100,1))","v":6.6},24.6,35.799999999999997,21,7.6,95.7,6138,{"$f":"IF(OR(J73=1,J73=2),\"x\",ROUND(J73/$P73*100,1))","v":11.7},29.1,33.799999999999997,17.100000000000001,5.2,96.8,7531,{"$f":"IF(OR(Q73=1,Q73=2),\"x\",ROUND(Q73/$W73*100,1))","v":9.4},27.1,34.700000000000003,18.8,6.3,96.3,13669]
[null,"French",{"$f":"IF(OR(C74=1,C74=2),\"x\",ROUND(C74/$I74*100,1))","v":30.1},20.7,18.5,13.4,10,92.7,4219,{"$f":"IF(OR(J74=1,J74=2),\"x\",ROUND(J74/$P74*100,1))","v":25.3},20.3,19,15.7,11.2,91.6,10092,{"$f":"IF(OR(Q74=1,Q74=2),\"x\",ROUND(Q74/$W74*100,1))","v":26.7},20.399999999999999,18.8,15,10.9,91.9,14311]
[null,"German",{"$f":"IF(OR(C75=1,C75=2),\"x\",ROUND(C75/$I75*100,1))","v":27.9},19.3,18.5,16.7,11.4,93.8,2106,{"$f":"IF(OR(J75=1,J75=2),\"x\",ROUND(J75/$P75*100,1))","v":24.7},20.100000000000001,20.100000000000001,16.8,11.2,92.8,3536,{"$f":"IF(OR(Q75=1,Q75=2),\"x\",ROUND(Q75/$W75*100,1))","v":25.9},19.8,19.5,16.7,11.3,93.2,5642]
[null,"Spanish",{"$f":"IF(OR(C76=1,C76=2),\"x\",ROUND(C76/$I76*100,1))","v":25.5},21.7,19,15.3,9.8000000000000007,91.3,2796,{"$f":"IF(OR(J76=1,J76=2),\"x\",ROUND(J76/$P76*100,1))","v":21.7},20.399999999999999,20.2,17,12.2,91.5,6106,{"$f":"IF(OR(Q76=1,Q76=2),\"x\",ROUND(Q76/$W76*100,1))","v":22.9},20.8,19.8,16.399999999999999,11.4,91.4,8902]
[null,"Other modern languages",{"$f":"IF(OR(C77=1,C77=2),\"x\",ROUND(C77/$I77*100,1))","v":50.6},20.7,12.1,7,3.8,94.3,1794,{"$f":"IF(OR(J77=1,J77=2),\"x\",ROUND(J77/$P77*100,1))","v":51.1},19.600000000000001,11.6,7.9,3.9,94.2,2558,{"$f":"IF(OR(Q77=1,Q77=2),\"x\",ROUND(Q77/$W77*100,1))","v":50.9},20.100000000000001,11.8,7.6,3.9,94.2,4352]
[null,"Classical Studies",{"$f":"IF(OR(C78=1,C78=2),\"x\",ROUND(C78/$I78*100,1))","v":29.3},23.1,22,13.3,7.3,95,3263,{"$f":"IF(OR(J78=1,J78=2),\"x\",ROUND(J78/$P78*100,1))","v":32.299999999999997},25.9,19.399999999999999,11.7,5.6,94.9,3966,{"$f":"IF(OR(Q78=1,Q78=2),\"x\",ROUND(Q78/$W78*100,1))","v":30.9},24.7,20.6,12.4,6.4,94.9,7229]
[null,"Religious Studies",{"$f":"IF(OR(C79=1,C79=2),\"x\",ROUND(C79/$I79*100,1))","v":17.8},19.2,23.1,17.3,12.1,89.5,8532,{"$f":"IF(OR(J79=1,J79=2),\"x\",ROUND(J79/$P79*100,1))","v":21.3},22,22.8,16.600000000000001,9.8000000000000007,92.5,17727,{"$f":"IF(OR(Q79=1,Q79=2),\"x\",ROUND(Q79/$W79*100,1))","v":20.2},21.1,22.9,16.899999999999999,10.5,91.5,26259]
[null,"Music",{"$f":"IF(OR(C80=1,C80=2),\"x\",ROUND(C80/$I80*100,1))","v":13.8},19.600000000000001,25,22.3,12.4,93.2,6851,{"$f":"IF(OR(J80=1,J80=2),\"x\",ROUND(J80/$P80*100,1))","v":17.5},23.6,23.8,19.3,10.7,94.9,4189,{"$f":"IF(OR(Q80=1,Q80=2),\"x\",ROUND(Q80/$W80*100,1))","v":15.2},21.2,24.5,21.2,11.8,93.8,11040]
[null,"Physical Education",{"$f":"IF(OR(C81=1,C81=2),\"x\",ROUND(C81/$I81*100,1))","v":7.9},12.8,18,20.9,24.6,84.2,13784,{"$f":"IF(OR(J81=1,J81=2),\"x\",ROUND(J81/$P81*100,1))","v":15.3},19.3,21.4,19.5,14.9,90.2,9178,{"$f":"IF(OR(Q81=1,Q81=2),\"x\",ROUND(Q81/$W81*100,1))","v":10.9},15.4,19.399999999999999,20.3,20.7,86.6,22962]
[null,"General Studies",{"$f":"IF(OR(C82=1,C82=2),\"x\",ROUND(C82/$I82*100,1))","v":8.5},13,18.5,20,17.899999999999999,77.900000000000006,31036,{"$f":"IF(OR(J82=1,J82=2),\"x\",ROUND(J82/$P82*100,1))","v":11.1},14.9,19.899999999999999,19.600000000000001,16.5,81.900000000000006,36694,{"$f":"IF(OR(Q82=1,Q82=2),\"x\",ROUND(Q82/$W82*100,1))","v":9.9},14,19.2,19.8,17.100000000000001,80.099999999999994,67730]
[null,"All subjects",{"$f":"IF(OR(C83=1,C83=2),\"x\",ROUND(C83/$I83*100,1))","v":15.7},17,20,18,13.7,84.5,523117,{"$f":"IF(OR(J83=1,J83=2),\"x\",ROUND(J83/$P83*100,1))","v":18},20.5,21.9,17.2,11.2,88.9,608769,{"$f":"IF(OR(Q83=1,Q83=2),\"x\",ROUND(Q83/$W83*100,1))","v":16.899999999999999},18.899999999999999,21,17.600000000000001,12.4,86.8,1131886]
[]
[]
["Copy data from Table 3 SPSS output"]
["into below cells (note gender order and cells required)"]
[null,null,"Males",null,null,null,null,null,null,"Females",null,null,null,null,null,null,"Total"]
[null,null,"A","B","C","D","E","2_A-E","Total","A","B","C","D","E","2_A-E","Total","A","B","C","D","E","2_A-E","Total"]
[null,null,"Count","Count","Count","Count","Count","Count","Count","Count","Count","Count","Count","Count","Count","Count","Count","Count","Count","Count","Count","Count","Count"]
["NEW_MAJ","Biological Sciences",5569,6002,6494,6316,5644,30025,37000,8568,8419,8679,7716,6328,39710,47527,14137,14421,15173,14032,11972,69735,84527]
[null,"Chemistry",6793,6663,6324,5534,4657,29971,36109,5823,6355,5906,5075,4308,27467,32833,12616,13018,12230,10609,8965,57438,68942]
[null,"Physics",7603,6352,6399,5962,5210,31526,38412,2721,2192,2002,1797,1384,10096,11720,10324,8544,8401,7759,6594,41622,50132]
[null,"Other Science",854,861,905,830,741,4191,4955,369,411,412,373,336,1901,2247,1223,1272,1317,1203,1077,6092,7202]
[null,"Mathematics",15681,9555,9485,8754,7096,50571,63203,11084,7645,7310,6122,4891,37052,44246,26765,17200,16795,14876,11987,87623,107449]
[null,"Further Mathematics",3696,1655,1191,963,629,8134,9107,1920,844,634,446,287,4131,4531,5616,2499,1825,1409,916,12265,13638]
[null,"Design and Technology",941,1643,2340,2529,2008,9461,11205,1064,1467,1715,1691,1103,7040,7760,2005,3110,4055,4220,3111,16501,18965]
[null,"Computer Studies",610,930,1180,1175,1019,4914,6176,58,72,77,91,87,385,488,668,1002,1257,1266,1106,5299,6664]
[null,"ICT",452,1027,1831,2056,1805,7171,9218,433,788,1107,998,770,4096,4806,885,1815,2938,3054,2575,11267,14024]
[null,"Home Economics",2,4,11,15,23,55,83,53,65,76,65,57,316,367,55,69,87,80,80,371,450]
[null,"Accounting and Finance",272,498,688,747,710,2915,4231,181,280,389,417,374,1641,2339,453,778,1077,1164,1084,4556,6570]
[null,"Business Studies",1872,3800,5290,5160,4103,20225,23371,1699,2803,3682,3610,2866,14660,17164,3571,6603,8972,8770,6969,34885,40535]
[null,"Economics",4113,3875,4075,3434,2593,18090,20994,2267,1993,1886,1503,1121,8770,9938,6380,5868,5961,4937,3714,26860,30932]
[null,"Geography",3810,3633,4234,3643,2690,18010,20670,5252,3827,3620,2657,1845,17201,18909,9062,7460,7854,6300,4535,35211,39579]
[null,"Government and Politics",1909,2102,2193,1761,1078,9043,10137,1845,1636,1498,1257,829,7065,8001,3754,3738,3691,3018,1907,16108,18138]
[null,"History",4704,6503,7196,5059,2685,26147,27862,5952,7664,8020,5429,2819,29884,31804,10656,14167,15216,10488,5504,56031,59666]
[null,"Law",724,1159,1426,1458,1400,6167,8358,1610,1989,2226,2025,1707,9557,12054,2334,3148,3652,3483,3107,15724,20412]
[null,"Psychology",1570,3331,4965,5239,4455,19560,26821,8376,11865,12473,10394,7579,50687,60659,9946,15196,17438,15633,12034,70247,87480]
[null,"Sociology",996,1749,2488,2604,2054,9891,12608,4765,6211,7214,5805,4218,28213,32730,5761,7960,9702,8409,6272,38104,45338]
[null,"Other Social Studies",429,664,906,911,849,3759,5020,729,1098,1319,1230,982,5358,6586,1158,1762,2225,2141,1831,9117,11606]
[null,"Art and Design",2589,3271,3812,3157,1999,14828,16332,10169,11508,10419,6661,3180,41937,43847,12758,14779,14231,9818,5179,56765,60179]
[null,"Drama",701,1366,1540,1031,417,5055,5181,1800,3373,3393,1797,550,10913,11090,2501,4739,4933,2828,967,15968,16271]
[null,"English",4398,6391,8621,7131,3662,30203,31616,12282,17772,22256,16504,6979,75793,78021,16680,24163,30877,23635,10641,105996,109637]
[null,"Media/Film/Television Studies",919,2535,4231,3553,1773,13011,13929,2130,4749,5480,3260,1246,16865,17525,3049,7284,9711,6813,3019,29876,31454]
[null,"Other Communication Studies",407,1513,2197,1289,467,5873,6138,878,2189,2543,1287,393,7290,7531,1285,3702,4740,2576,860,13163,13669]
[null,"French",1270,874,782,567,420,3913,4219,2558,2051,1913,1585,1133,9240,10092,3828,2925,2695,2152,1553,13153,14311]
[null,"German",587,407,390,351,240,1975,2106,872,710,709,593,397,3281,3536,1459,1117,1099,944,637,5256,5642]
[null,"Spanish",714,608,530,428,274,2554,2796,1326,1244,1236,1036,743,5585,6106,2040,1852,1766,1464,1017,8139,8902]
[null,"Other Modern Languages",908,371,217,126,69,1691,1794,1307,502,298,203,99,2409,2558,2215,873,515,329,168,4100,4352]
[null,"Classical Studies",955,755,718,433,238,3099,3263,1281,1029,769,463,222,3764,3966,2236,1784,1487,896,460,6863,7229]
[null,"Religious Studies",1518,1635,1970,1479,1030,7632,8532,3784,3902,4038,2949,1730,16403,17727,5302,5537,6008,4428,2760,24035,26259]
[null,"Music",947,1346,1712,1528,849,6382,6851,731,989,998,809,449,3976,4189,1678,2335,2710,2337,1298,10358,11040]
[null,"Physical Education",1093,1760,2484,2879,3386,11602,13784,1402,1767,1961,1786,1367,8283,9178,2495,3527,4445,4665,4753,19885,22962]
[null,"General Studies",2653,4038,5733,6221,5541,24186,31036,4079,5456,7299,7183,6051,30068,36694,6732,9494,13032,13404,11592,54254,67730]
[null,"Total",82259,88876,104558,94323,71814,441830,523117,109368,124865,133557,104817,68430,541037,608769,191627,213741,238115,199140,140244,982867,1131886]

{"sheet":"2013AS","index":32,"n_rows":83,"n_cols":23,"rows_kept":83,"cut":false,"hidden":true,"merged":[]}
[]
["2013 UNAMENDED"]
[null,null,"Males",null,null,null,null,null,null,"Females",null,null,null,null,null,null,"Total"]
[null,null,"Grade",null,null,null,null,null,null,"Grade",null,null,null,null,null,null,"Grade"]
[null,null,"A","B","C","D","E","A-E","Entries","A","B","C","D","E","A-E","Entries","A","B","C","D","E","A-E","Entries"]
[]
[null,"Biological Sciences",{"$f":"IF(OR(C49=1,C49=2),\"x\",ROUND(C49/$I49*100,1))","v":14.9},{"$f":"IF(OR(D49=1,D49=2),\"x\",ROUND(D49/$I49*100,1))","v":16.100000000000001},18,16.600000000000001,15,80.599999999999994,{"$f":"ROUND(I49,0)","v":36813},{"$f":"IF(OR(J49=1,J49=2),\"x\",ROUND(J49/$P49*100,1))","v":18.3},{"$f":"IF(OR(K49=1,K49=2),\"x\",ROUND(K49/$P49*100,1))","v":18.2},18.100000000000001,16,13.1,83.7,{"$f":"ROUND(P49,0)","v":49107},{"$f":"IF(OR(Q49=1,Q49=2),\"x\",ROUND(Q49/$W49*100,1))","v":16.8},{"$f":"IF(OR(R49=1,R49=2),\"x\",ROUND(R49/$W49*100,1))","v":17.3},18.100000000000001,16.3,13.9,82.4,{"$f":"ROUND(W49,0)","v":85920}]
[null,"Chemistry",{"$f":"IF(OR(C50=1,C50=2),\"x\",ROUND(C50/$I50*100,1))","v":18.600000000000001},18.7,17.399999999999999,15.4,12.9,82.9,{"$f":"ROUND(I50,0)","v":37353},{"$f":"IF(OR(J50=1,J50=2),\"x\",ROUND(J50/$P50*100,1))","v":17.7},19.3,18.7,15.2,12.5,83.3,{"$f":"ROUND(P50,0)","v":34456},{"$f":"IF(OR(Q50=1,Q50=2),\"x\",ROUND(Q50/$W50*100,1))","v":18.2},19,18,15.3,12.7,83.1,{"$f":"ROUND(W50,0)","v":71809}]
[null,"Physics",19.8,17,16.5,15.3,13.1,81.7,39995,23.2,18.7,17.600000000000001,14.2,11.5,85.2,12249,20.6,17.399999999999999,16.8,15,12.8,82.5,52244]
[null,"Other Science",16.899999999999999,16.3,18.5,17.7,14.7,84.1,4946,16.899999999999999,17.2,19.899999999999999,15.7,14.1,83.7,2306,16.899999999999999,16.600000000000001,18.899999999999999,17.100000000000001,14.5,84,7252]
[null,"Mathematics",25.4,15.1,15.1,13.5,11.3,80.400000000000006,64932,25.9,17.399999999999999,16.100000000000001,13.8,10.9,84.1,44129,25.6,16.100000000000001,15.5,13.6,11.2,81.900000000000006,109061]
[null,"Further Mathematics",39.5,17.600000000000001,14.3,11,7.9,90.3,10002,44.4,18.600000000000001,14.1,9.6999999999999993,6.1,93,4751,41.1,18,14.2,10.6,7.3,91.1,14753]
[null,"Design and Technology",7.9,13.4,20.3,23.5,18.7,83.8,11316,13.3,19.399999999999999,22.4,21.7,14.6,91.5,7509,10.1,15.8,21.1,22.8,17.100000000000001,86.9,18825]
[null,"Computer Studies",9.5,13.3,18.7,19.8,17,78.400000000000006,7196,12,14.3,16.600000000000001,18.100000000000001,14.1,75.099999999999994,651,9.6999999999999993,13.4,18.600000000000001,19.600000000000001,16.8,78.099999999999994,7847]
[null,"ICT",5.0999999999999996,11.8,18.899999999999999,23.3,20,79.099999999999994,8694,9,15.9,21.4,21,17,84.3,4233,6.4,13.2,19.7,22.6,19,80.8,12927]
[null,"Home Economics","x",3.8,9,26.9,24.4,66.7,78,15.6,13.3,20.7,21.4,14.4,85.3,430,13.6,11.8,18.899999999999999,22.2,15.9,82.5,508]
[null,"Accounting and Finance",6.4,11.6,16.5,17.7,16.5,68.7,3962,7.6,14.4,16,16.7,16.3,71.099999999999994,2032,6.8,12.5,16.3,17.399999999999999,16.5,69.5,5994]
[null,"Business Studies",7.8,16.2,22.6,21.8,17.2,85.6,23012,10,17.100000000000001,22.8,20.3,16.3,86.5,16795,8.6999999999999993,16.600000000000001,22.7,21.2,16.8,86,39807]
[null,"Economics",19.3,19,19.2,16.100000000000001,12.2,85.8,22103,21,20.399999999999999,18.7,15.3,11.7,87.2,10159,19.8,19.399999999999999,19,15.9,12,86.2,32262]
[null,"Geography",18.3,18.3,20.8,18.2,12.1,87.6,21011,27.8,20.100000000000001,18.600000000000001,14.4,9.6999999999999993,90.6,20198,22.9,19.2,19.7,16.3,10.9,89.1,41209]
[null,"Government and Politics",18.3,19.600000000000001,20.5,17.8,11.7,87.8,9446,22.2,19.7,19,15.7,11,87.6,7477,20,19.600000000000001,19.8,16.899999999999999,11.4,87.7,16923]
[null,"History",17.3,23,25.7,18.3,9.5,93.9,27957,18.899999999999999,24.3,24.7,17.100000000000001,8.9,94,32506,18.2,23.7,25.2,17.7,9.1999999999999993,93.9,60463]
[null,"Law",8.5,13.1,17.7,18.600000000000001,16.600000000000001,74.5,7406,14,17.100000000000001,19.100000000000001,16.100000000000001,13.5,79.8,11368,11.8,15.5,18.600000000000001,17.100000000000001,14.7,77.7,18774]
[null,"Psychology",{"$f":"IF(OR(C66=1,C66=2),\"x\",ROUND(C66/$I66*100,1))","v":5.9},11.9,17.5,19.399999999999999,17,71.7,26413,{"$f":"IF(OR(J66=1,J66=2),\"x\",ROUND(J66/$P66*100,1))","v":13.5},18.899999999999999,20.5,17.2,12.8,82.8,61391,{"$f":"IF(OR(Q66=1,Q66=2),\"x\",ROUND(Q66/$W66*100,1))","v":11.2},16.8,19.600000000000001,17.899999999999999,14,79.5,87804]
[null,"Sociology",7.4,13.4,21.3,19.5,16.399999999999999,78.099999999999994,12741,14.8,19.5,22.1,17.2,12,85.7,33702,12.8,17.8,21.9,17.899999999999999,13.2,83.6,46443]
[null,"Other social studies",8.6999999999999993,13,18.399999999999999,18.899999999999999,16.100000000000001,75,4149,9.9,16.3,20.7,18.7,15.2,80.900000000000006,5655,9.4,14.9,19.8,18.8,15.6,78.400000000000006,9804]
[null,"Art and Design",14.7,20.399999999999999,24.3,19.600000000000001,12.2,91.2,15808,22.6,26,24.6,15.1,7.4,95.8,43649,20.5,24.5,24.5,16.3,8.6999999999999993,94.5,59457]
[null,"Drama",13.1,25.7,30.3,20.9,7.8,97.8,4890,15.1,31,30.7,17.2,4.5999999999999996,98.5,10569,14.5,29.3,30.5,18.399999999999999,5.6,98.3,15459]
[null,"English",12.9,19.899999999999999,27.7,23.1,11.5,95.2,30837,15.4,23,28.8,21.1,8.9,97.1,74856,14.7,22.1,28.4,21.7,9.6,96.6,105693]
[null,"Media/Film/TV Studies",6.1,19.600000000000001,30.9,25.2,11.7,93.5,13301,12.1,27.5,31.2,18.2,7.2,96.2,16479,9.4,24,31.1,21.3,9.1999999999999993,95,29780]
[null,"Other Communication Studies",6.2,26.8,36.299999999999997,19.899999999999999,6.6,95.8,5770,11.2,30.7,35.200000000000003,15.2,4.9000000000000004,97.2,7166,9,29,35.700000000000003,17.3,5.7,96.6,12936]
[null,"French",30,20,18.7,13.8,9,91.6,4036,26,19.600000000000001,19.3,16.100000000000001,10.7,91.6,9487,27.2,19.7,19.100000000000001,15.4,10.199999999999999,91.6,13523]
[null,"German",27.7,22.3,17.899999999999999,15.8,10.4,94.1,2126,24.6,20.8,20.7,16.8,10.199999999999999,93.1,3472,25.8,21.4,19.600000000000001,16.399999999999999,10.3,93.4,5598]
[null,"Spanish",26.6,21.1,20,15.6,9.6,92.9,3021,21.8,20.3,19.899999999999999,16.8,11.6,90.4,6409,23.3,20.6,20,16.399999999999999,11,91.2,9430]
[null,"Other modern languages",49.3,22.9,11.5,6.4,4.5999999999999996,94.8,1962,52.2,19.5,11.4,7.2,4.5,94.8,2748,51,20.9,11.4,6.8,4.5999999999999996,94.8,4710]
[null,"Classical Studies",31.1,22.2,19.2,13.5,8.3000000000000007,94.3,3276,33.4,23.6,19.100000000000001,13.1,6,95.3,4293,32.4,23,19.2,13.3,7,94.8,7569]
[null,"Religious Studies",18.100000000000001,19.899999999999999,21.8,18.3,11.9,89.9,8690,20.9,23.3,22.9,15.6,9.6999999999999993,92.4,18758,20,22.2,22.5,16.5,10.4,91.6,27448]
[null,"Music",14.3,20.399999999999999,24.5,20.7,13.2,93.1,6560,18.7,22.8,23.8,19.2,10.6,95.1,4052,16,21.3,24.3,20.100000000000001,12.2,93.9,10612]
[null,"Physical Education",7.1,11.6,16.399999999999999,21.8,27.1,83.8,12748,14.8,18.399999999999999,21.6,19.899999999999999,16.399999999999999,91,8552,10.199999999999999,14.3,18.5,21,22.8,86.7,21300]
[null,"General Studies",{"$f":"IF(OR(C82=1,C82=2),\"x\",ROUND(C82/$I82*100,1))","v":8.5},12.8,17.600000000000001,20.3,18.3,77.5,29288,{"$f":"IF(OR(J82=1,J82=2),\"x\",ROUND(J82/$P82*100,1))","v":11.7},14.8,19.2,19.600000000000001,17.100000000000001,82.5,34891,{"$f":"IF(OR(Q82=1,Q82=2),\"x\",ROUND(Q82/$W82*100,1))","v":10.3},13.9,18.5,19.899999999999999,17.7,80.2,64179]
[null,"All subjects",15.8,17,19.8,18,13.7,84.3,521838,18.100000000000001,20.6,21.9,17,11.2,88.8,606485,17,18.899999999999999,21,17.5,12.3,86.7,1128323]
[]
[]
["Copy data from Table 3 SPSS output"]
["into below cells (note gender order and cells/columns required)"]
[null,null,"Males",null,null,null,null,null,null,"Females",null,null,null,null,null,null,"Total"]
[null,null,"A","B","C","D","E","2_A-E","Total","A","B","C","D","E","2_A-E","Total","A","B","C","D","E","2_A-E","Total"]
[null,null,"Count","Count","Count","Count","Count","Count","Count","Count","Count","Count","Count","Count","Count","Count","Count","Count","Count","Count","Count","Count","Count"]
["NEW_MAJ","Biological Sciences",5491,5927,6637,6102,5515,29672,36813,8972,8947,8906,7865,6423,41113,49107,14463,14874,15543,13967,11938,70785,85920]
[null,"Chemistry",6947,6997,6487,5741,4808,30980,37353,6103,6661,6428,5223,4293,28708,34456,13050,13658,12915,10964,9101,59688,71809]
[null,"Physics",7913,6783,6613,6103,5259,32671,39995,2843,2287,2157,1741,1406,10434,12249,10756,9070,8770,7844,6665,43105,52244]
[null,"Other Science",834,808,915,876,729,4162,4946,390,396,458,361,326,1931,2306,1224,1204,1373,1237,1055,6093,7252]
[null,"Mathematics",16481,9825,9793,8771,7350,52220,64932,11451,7685,7090,6072,4830,37128,44129,27932,17510,16883,14843,12180,89348,109061]
[null,"Further Mathematics",3947,1764,1427,1097,792,9027,10002,2110,886,672,461,291,4420,4751,6057,2650,2099,1558,1083,13447,14753]
[null,"Design and Technology",898,1511,2297,2659,2118,9483,11316,1000,1457,1682,1631,1097,6867,7509,1898,2968,3979,4290,3215,16350,18825]
[null,"Computer Studies",685,959,1348,1423,1224,5639,7196,78,93,108,118,92,489,651,763,1052,1456,1541,1316,6128,7847]
[null,"ICT",440,1028,1645,2027,1741,6881,8694,382,672,904,890,719,3567,4233,822,1700,2549,2917,2460,10448,12927]
[null,"Home Economics",2,3,7,21,19,52,78,67,57,89,92,62,367,430,69,60,96,113,81,419,508]
[null,"Accounting and Finance",255,458,652,701,655,2721,3962,154,293,325,340,332,1444,2032,409,751,977,1041,987,4165,5994]
[null,"Business Studies",1792,3731,5193,5023,3964,19703,23012,1674,2865,3833,3417,2736,14525,16795,3466,6596,9026,8440,6700,34228,39807]
[null,"Economics",4263,4194,4237,3567,2694,18955,22103,2137,2077,1901,1553,1187,8855,10159,6400,6271,6138,5120,3881,27810,32262]
[null,"Geography",3836,3838,4362,3821,2547,18404,21011,5609,4065,3760,2910,1953,18297,20198,9445,7903,8122,6731,4500,36701,41209]
[null,"Government and Politics",1725,1848,1935,1681,1105,8294,9446,1659,1476,1421,1171,820,6547,7477,3384,3324,3356,2852,1925,14841,16923]
[null,"History",4843,6438,7190,5125,2659,26255,27957,6137,7890,8041,5565,2908,30541,32506,10980,14328,15231,10690,5567,56796,60463]
[null,"Law",628,972,1313,1375,1226,5514,7406,1589,1940,2174,1828,1537,9068,11368,2217,2912,3487,3203,2763,14582,18774]
[null,"Psychology",1559,3136,4629,5120,4499,18943,26413,8267,11575,12581,10586,7834,50843,61391,9826,14711,17210,15706,12333,69786,87804]
[null,"Sociology",945,1713,2716,2490,2085,9949,12741,4989,6573,7461,5803,4054,28880,33702,5934,8286,10177,8293,6139,38829,46443]
[null,"Other Social Studies",359,538,765,784,666,3112,4149,562,923,1172,1058,860,4575,5655,921,1461,1937,1842,1526,7687,9804]
[null,"Art and Design",2330,3230,3834,3096,1923,14413,15808,9870,11349,10741,6610,3224,41794,43649,12200,14579,14575,9706,5147,56207,59457]
[null,"Drama",641,1258,1480,1024,380,4783,4890,1597,3279,3241,1814,482,10413,10569,2238,4537,4721,2838,862,15196,15459]
[null,"English",3990,6143,8538,7128,3557,29356,30837,11545,17204,21531,15772,6640,72692,74856,15535,23347,30069,22900,10197,102048,105693]
[null,"Media/Film/Television Studies",812,2610,4113,3346,1560,12441,13301,1989,4526,5145,2998,1193,15851,16479,2801,7136,9258,6344,2753,28292,29780]
[null,"Other Communication Studies",358,1547,2096,1147,380,5528,5770,806,2200,2523,1087,351,6967,7166,1164,3747,4619,2234,731,12495,12936]
[null,"French",1212,807,755,557,364,3695,4036,2468,1857,1829,1523,1012,8689,9487,3680,2664,2584,2080,1376,12384,13523]
[null,"German",589,474,380,336,221,2000,2126,854,722,718,582,355,3231,3472,1443,1196,1098,918,576,5231,5598]
[null,"Spanish",805,636,605,470,290,2806,3021,1396,1304,1278,1074,743,5795,6409,2201,1940,1883,1544,1033,8601,9430]
[null,"Other Modern Languages",968,450,225,125,91,1859,1962,1434,535,314,197,125,2605,2748,2402,985,539,322,216,4464,4710]
[null,"Classical Studies",1018,726,629,443,272,3088,3276,1434,1014,821,564,257,4090,4293,2452,1740,1450,1007,529,7178,7569]
[null,"Religious Studies",1570,1725,1895,1587,1032,7809,8690,3928,4377,4290,2933,1813,17341,18758,5498,6102,6185,4520,2845,25150,27448]
[null,"Music",936,1340,1609,1355,868,6108,6560,758,922,966,780,428,3854,4052,1694,2262,2575,2135,1296,9962,10612]
[null,"Physical Education",905,1473,2085,2774,3451,10688,12748,1265,1570,1847,1701,1400,7783,8552,2170,3043,3932,4475,4851,18471,21300]
[null,"General Studies",2494,3754,5151,5941,5362,22702,29288,4094,5178,6694,6831,5982,28779,34891,6588,8932,11845,12772,11344,51481,64179]
[null,"Total",82471,88644,103556,93836,71406,439913,521838,109611,124855,133101,103151,67765,538483,606485,192082,213499,236657,196987,139171,978396,1128323]

{"sheet":"Sheet3","index":33,"n_rows":36,"n_cols":3,"rows_kept":36,"cut":false,"hidden":true,"merged":[]}
["Subject Group",null,"Males"]
["Biological Sciences",null,"Females"]
["Chemistry",null,"Males and females"]
["Physics"]
["Other Science"]
["Mathematics"]
["Further Mathematics"]
["Design and Technology"]
["Computer Studies"]
["ICT"]
["Home Economics"]
["Accounting and Finance"]
["Business Studies"]
["Economics"]
["Geography"]
["Government and Politics"]
["History"]
["Law"]
["Psychology"]
["Sociology"]
["Other social studies"]
["Art and Design"]
["Drama"]
["English"]
["Media/Film/TV Studies"]
["Other Communication Studies"]
["French"]
["German"]
["Spanish"]
["Other modern languages"]
["Classical Studies"]
["Religious Studies"]
["Music"]
["Physical Education"]
["General Studies"]
["All subjects"]