{"text_format":"2","workbook":"xlsx","n_sheets":8,"sheets":["Cover Sheet","Contents","Notes","Commentary","Main Table","Annual","Quarter","Calculation"],"not_rendered":{"charts":0,"images":0,"macros":0,"external_links":1,"defined_names":35,"comments":0,"pivot_tables":0},"unopened":[],"bounds":{"document_bytes":16777216,"sheet_cells":100000,"run_cost":"one","rows_first":2000,"rows_last":500,"rows_between":2000,"halvings":0,"cell_chars":16384,"cell_head_chars":4096},"cells_cut":0,"cells_raw":0,"read":"whole","date_system":"1900"}

{"sheet":"Cover Sheet","index":0,"n_rows":26,"n_cols":1,"rows_kept":26,"cut":false,"hidden":false,"merged":[]}
["Coal imports"]
["This spreadsheet forms part of the National Statistics publication Energy Trends produced by the Department for Energy Security & Net Zero (DESNZ).\nThe data presented is on coal imports. Quarterly data are published one quarter in arrears in thousand tonnes."]
["Publication dates "]
["These data were published on Thursday 28th March 2024\nThe next publication date is Thursday 27th June 2024"]
["Data period"]
["This spreadsheet contains quarterly data including new data for Quarter 4 2023"]
["Revisions "]
["There were are revisions to earlier data in this release\nRevisions are due to updates from data suppliers or the receipt of data replacing estimates unless otherwise stated\n"]
["Further information "]
["The data tables and accompanying cover sheet, contents, and commentary have been edited to meet legal accessibility regulations \nTo provide feedback please contact "]
["energy.stats@energysecurity.gov.uk"]
["Some cells in the tables refer to notes which can be found in the notes worksheet\nNote markers are presented in square brackets, for example [Note 1]"]
["Time periods used in this workbook refer to calendar quarters, i.e. quarter 1 represents January to March, quarter 2 April to June, quarter 3 July to September and quarter 4 October to December, and calendar years i.e. January to December "]
["Links to additional further information in cells below "]
["Energy trends publication (opens in a new window)"]
["Data sources and methodology for Solid fuels and derived gases (opens in a new window)"]
["Energy statistics revisions policy (opens in a new window)"]
["Glossary and acronyms, DUKES Annex B (opens in a new window)"]
["Contact details "]
["Statistical enquiries "]
["Chris Michaels"]
["coalstatistics@energysecurity.gov.uk"]
["0774 159 8039"]
["Media enquiries "]
["newsdesk@energysecurity.gov.uk"]
["020 7215 1000"]

{"sheet":"Contents","index":1,"n_rows":11,"n_cols":2,"rows_kept":11,"cut":false,"hidden":false,"merged":[]}
["Contents"]
["This worksheet contains one table"]
["This table includes a list of worksheets in this workbook with links to those worksheets "]
["Worksheet description","Link"]
["Cover sheet","Cover Sheet"]
["Contents table","Contents"]
["Notes to understand the data","Notes"]
["Commentary on the latest trends in the data","Commentary"]
["Main table in thousand tonnes","Main table (thousand tonnes)"]
["Annual table data from 1995 to 2020, in thousand tonnes","Annual (thousand tonnes)"]
["Quarterly data from quarter 1 1995 to quarter 2 2021, in thousand tonnes","Quarter (thousand tonnes)"]

{"sheet":"Notes","index":2,"n_rows":8,"n_cols":2,"rows_kept":8,"cut":false,"hidden":false,"merged":[]}
["Notes"]
["This worksheet contains one table \n"]
["This table contains supplementary information supporting coal consumption and coal stocks data which are referred to in the data presented in this workbook "]
["Note ","Description"]
["Note 1","Refers to total imports, not net imports."]
["Note 2","Percentage change between the most recent quarter and the same quarter a year earlier; (+) represents a positive percentage change greater than 100%."]
["Note 3 ","Total coal imports are equivalent to those published in Table 2.1 of Energy Trends."]
["Note 4","Shipment of Russian steam coal that arrived in July before the ban was cleared by HMRC in December, but is being counted when it entered the UK."]

{"sheet":"Commentary","index":3,"n_rows":10,"n_cols":1,"rows_kept":10,"cut":false,"hidden":false,"merged":[]}
["Commentary "]
["In the latest year"]
["Total coal imports in 2023 at 3.5 million tonnes were 45 per cent lower than in 2022. In 2022 the USA was the largest exporter of coal to the UK with a share of 45 per cent. This was followed by the Australia with 13 per cent and the European Union with 11 per cent. "]
["Steam coal imports were 54 per cent lower at 2.1 million tonnes in 2023 compared to 2022. The USA was the largest provider of UK's steam coal (37 per cent). This was followed by Colombia (16 per cent) and the European Union (14 per cent). Steam coal accounted for 60 per cent of total coal imports."]
["Coking coal imports were down 23 per cent at 1.3 million tonnes compared to 2022. The USA was the largest provider of UK's coking coal (59 per cent). This was followed by Canada (16 per cent) and Australia (16 per cent). Coking coal accounted for 38 per cent of total coal imports."]
["In the latest quarter"]
["Imports of coal fell as coal demand continued to decline"]
["Total coal imports in the fourth quarter of 2023 fell to 953 thousand tonnes, 44 per cent lower than in the same period in 2022. The largest provider was the USA (43 per cent). This was followed by Australia (18 per cent) and the European Union (13 per cent). "]
["No Russian coal imports since August 2022"]
["The UK banned Russian coal imports in August 2022.  This reflects a decreasing reliance on Russian energy in line with that seen for both oil and gas. "]

{"sheet":"Main Table","index":4,"n_rows":42,"n_cols":15,"rows_kept":42,"cut":false,"hidden":false,"merged":[]}
["Table 2.4 Coal imports (thousand tonnes) (note 1)"]
["This worksheet contains one table"]
["Some cells refer to notes which can be found on the notes worksheet"]
["Figures in this table are rounded to two decimal places. Therefore, totals may not equal the exact sum of their constituents."]
["Type of coal","Country of origin","2022","2023 [provisional]","Per cent change year-on-year","2021 4th            quarter","2022 1st            quarter","2022 2nd            quarter","2022 3rd            quarter","2022 4th            quarter","2023 1st           quarter","2023 2nd           quarter","2023 3rd           quarter","2023 4th           quarter [provisional]","per cent change [note 2]"]
["Steam Coal","European Union",{"$f":"INDIRECT(Calculation!F7,FALSE)","v":297.83},{"$f":"INDIRECT(Calculation!G7,FALSE)","v":288.14},{"$f":"IF(((D6-C6)/C6)*100>100,\"(+)  \",IF(((D6-C6)/C6)*100<-100,\"(-)  \",IF(ROUND((((D6-C6)/C6)*100),1)=0,\"-  \",((D6-C6)/C6)*100)))","v":-3.2535338951750994},{"$f":"INDIRECT(Calculation!J7,FALSE)","v":43.43},{"$f":"INDIRECT(Calculation!K7,FALSE)","v":91.99},{"$f":"INDIRECT(Calculation!L7,FALSE)","v":136.21},{"$f":"INDIRECT(Calculation!M7,FALSE)","v":44.17},{"$f":"INDIRECT(Calculation!N7,FALSE)","v":25.46},{"$f":"INDIRECT(Calculation!O7,FALSE)","v":99.72},{"$f":"INDIRECT(Calculation!P7,FALSE)","v":44.99},{"$f":"INDIRECT(Calculation!Q7,FALSE)","v":43.16},{"$f":"INDIRECT(Calculation!R7,FALSE)","v":100.27},{"$f":"IF(((N6-J6)/J6)*100>100,\"(+)  \",IF(((N6-J6)/J6)*100<-100,\"(-)  \",IF(ROUND((((N6-J6)/J6)*100),1)=0,\"-  \",((N6-J6)/J6)*100)))","v":"(+)  "}]
["Steam Coal","Australia",{"$f":"INDIRECT(Calculation!F8,FALSE)","v":436.15999999999997},{"$f":"INDIRECT(Calculation!G8,FALSE)","v":232.49},null,{"$f":"INDIRECT(Calculation!J8,FALSE)","v":0},{"$f":"INDIRECT(Calculation!K8,FALSE)","v":0},{"$f":"INDIRECT(Calculation!L8,FALSE)","v":0},{"$f":"INDIRECT(Calculation!M8,FALSE)","v":137.6},{"$f":"INDIRECT(Calculation!N8,FALSE)","v":298.56},{"$f":"INDIRECT(Calculation!O8,FALSE)","v":63.8},{"$f":"INDIRECT(Calculation!P8,FALSE)","v":0},{"$f":"INDIRECT(Calculation!Q8,FALSE)","v":0},{"$f":"INDIRECT(Calculation!R8,FALSE)","v":168.69}]
["Steam Coal","Canada",{"$f":"INDIRECT(Calculation!F9,FALSE)","v":0.11},{"$f":"INDIRECT(Calculation!G9,FALSE)","v":0},null,{"$f":"INDIRECT(Calculation!J9,FALSE)","v":0},{"$f":"INDIRECT(Calculation!K9,FALSE)","v":0.02},{"$f":"INDIRECT(Calculation!L9,FALSE)","v":0.03},{"$f":"INDIRECT(Calculation!M9,FALSE)","v":0},{"$f":"INDIRECT(Calculation!N9,FALSE)","v":0.06},{"$f":"INDIRECT(Calculation!O9,FALSE)","v":0},{"$f":"INDIRECT(Calculation!P9,FALSE)","v":0},{"$f":"INDIRECT(Calculation!Q9,FALSE)","v":0},{"$f":"INDIRECT(Calculation!R9,FALSE)","v":0}]
["Steam Coal","China",{"$f":"INDIRECT(Calculation!F10,FALSE)","v":0.04},{"$f":"INDIRECT(Calculation!G10,FALSE)","v":0.01},{"$f":"IF(((D9-C9)/C9)*100>100,\"(+)  \",IF(((D9-C9)/C9)*100<-100,\"(-)  \",IF(ROUND((((D9-C9)/C9)*100),1)=0,\"-  \",((D9-C9)/C9)*100)))","v":-75},{"$f":"INDIRECT(Calculation!J10,FALSE)","v":0.01},{"$f":"INDIRECT(Calculation!K10,FALSE)","v":0},{"$f":"INDIRECT(Calculation!L10,FALSE)","v":0.01},{"$f":"INDIRECT(Calculation!M10,FALSE)","v":0.01},{"$f":"INDIRECT(Calculation!N10,FALSE)","v":0.02},{"$f":"INDIRECT(Calculation!O10,FALSE)","v":0},{"$f":"INDIRECT(Calculation!P10,FALSE)","v":0.01},{"$f":"INDIRECT(Calculation!Q10,FALSE)","v":0},{"$f":"INDIRECT(Calculation!R10,FALSE)","v":0}]
["Steam Coal","Colombia",{"$f":"INDIRECT(Calculation!F11,FALSE)","v":450.91999999999996},{"$f":"INDIRECT(Calculation!G11,FALSE)","v":330.90000000000003},{"$f":"IF(((D10-C10)/C10)*100>100,\"(+)  \",IF(((D10-C10)/C10)*100<-100,\"(-)  \",IF(ROUND((((D10-C10)/C10)*100),1)=0,\"-  \",((D10-C10)/C10)*100)))","v":-26.616694757384892},{"$f":"INDIRECT(Calculation!J11,FALSE)","v":70.42},{"$f":"INDIRECT(Calculation!K11,FALSE)","v":90.47},{"$f":"INDIRECT(Calculation!L11,FALSE)","v":38.68},{"$f":"INDIRECT(Calculation!M11,FALSE)","v":192.01},{"$f":"INDIRECT(Calculation!N11,FALSE)","v":129.76},{"$f":"INDIRECT(Calculation!O11,FALSE)","v":77.66},{"$f":"INDIRECT(Calculation!P11,FALSE)","v":135.07},{"$f":"INDIRECT(Calculation!Q11,FALSE)","v":87},{"$f":"INDIRECT(Calculation!R11,FALSE)","v":31.17}]
["Steam Coal","Indonesia",{"$f":"INDIRECT(Calculation!F12,FALSE)","v":0},{"$f":"INDIRECT(Calculation!G12,FALSE)","v":0},null,{"$f":"INDIRECT(Calculation!J12,FALSE)","v":0.02},{"$f":"INDIRECT(Calculation!K12,FALSE)","v":0},{"$f":"INDIRECT(Calculation!L12,FALSE)","v":0},{"$f":"INDIRECT(Calculation!M12,FALSE)","v":0},{"$f":"INDIRECT(Calculation!N12,FALSE)","v":0},{"$f":"INDIRECT(Calculation!O12,FALSE)","v":0},{"$f":"INDIRECT(Calculation!P12,FALSE)","v":0},{"$f":"INDIRECT(Calculation!Q12,FALSE)","v":0},{"$f":"INDIRECT(Calculation!R12,FALSE)","v":0}]
["Steam Coal","Republic of South Africa",{"$f":"INDIRECT(Calculation!F13,FALSE)","v":614.57999999999993},{"$f":"INDIRECT(Calculation!G13,FALSE)","v":164.33999999999997},{"$f":"IF(((D12-C12)/C12)*100>100,\"(+)  \",IF(((D12-C12)/C12)*100<-100,\"(-)  \",IF(ROUND((((D12-C12)/C12)*100),1)=0,\"-  \",((D12-C12)/C12)*100)))","v":-73.259787171727027},{"$f":"INDIRECT(Calculation!J13,FALSE)","v":0},{"$f":"INDIRECT(Calculation!K13,FALSE)","v":55.73},{"$f":"INDIRECT(Calculation!L13,FALSE)","v":71.38},{"$f":"INDIRECT(Calculation!M13,FALSE)","v":207.04},{"$f":"INDIRECT(Calculation!N13,FALSE)","v":280.43},{"$f":"INDIRECT(Calculation!O13,FALSE)","v":88.3},{"$f":"INDIRECT(Calculation!P13,FALSE)","v":25.02},{"$f":"INDIRECT(Calculation!Q13,FALSE)","v":0.1},{"$f":"INDIRECT(Calculation!R13,FALSE)","v":50.92}]
["Steam Coal","Russia [note 4]",{"$f":"INDIRECT(Calculation!F14,FALSE)","v":980.25000000000011},{"$f":"INDIRECT(Calculation!G14,FALSE)","v":0},-100,{"$f":"INDIRECT(Calculation!J14,FALSE)","v":533.49},{"$f":"INDIRECT(Calculation!K14,FALSE)","v":490.98},{"$f":"INDIRECT(Calculation!L14,FALSE)","v":263.91000000000003},{"$f":"INDIRECT(Calculation!M14,FALSE)","v":225.36},{"$f":"INDIRECT(Calculation!N14,FALSE)","v":0},{"$f":"INDIRECT(Calculation!O14,FALSE)","v":0},{"$f":"INDIRECT(Calculation!P14,FALSE)","v":0},{"$f":"INDIRECT(Calculation!Q14,FALSE)","v":0},{"$f":"INDIRECT(Calculation!R14,FALSE)","v":0}]
["Steam Coal","USA",{"$f":"INDIRECT(Calculation!F15,FALSE)","v":1316.01},{"$f":"INDIRECT(Calculation!G15,FALSE)","v":776},-41.033882721255914,{"$f":"INDIRECT(Calculation!J15,FALSE)","v":222.22},{"$f":"INDIRECT(Calculation!K15,FALSE)","v":344.48},{"$f":"INDIRECT(Calculation!L15,FALSE)","v":360},{"$f":"INDIRECT(Calculation!M15,FALSE)","v":289.73},{"$f":"INDIRECT(Calculation!N15,FALSE)","v":321.8},{"$f":"INDIRECT(Calculation!O15,FALSE)","v":508.97},{"$f":"INDIRECT(Calculation!P15,FALSE)","v":68.010000000000005},{"$f":"INDIRECT(Calculation!Q15,FALSE)","v":0},{"$f":"INDIRECT(Calculation!R15,FALSE)","v":199.02}]
["Steam Coal","Venezuela",{"$f":"INDIRECT(Calculation!F16,FALSE)","v":75.489999999999995},{"$f":"INDIRECT(Calculation!G16,FALSE)","v":170.95},"(+)  ",{"$f":"INDIRECT(Calculation!J16,FALSE)","v":104.84},{"$f":"INDIRECT(Calculation!K16,FALSE)","v":75.489999999999995},{"$f":"INDIRECT(Calculation!L16,FALSE)","v":0},{"$f":"INDIRECT(Calculation!M16,FALSE)","v":0},{"$f":"INDIRECT(Calculation!N16,FALSE)","v":0},{"$f":"INDIRECT(Calculation!O16,FALSE)","v":68.819999999999993},{"$f":"INDIRECT(Calculation!P16,FALSE)","v":0},{"$f":"INDIRECT(Calculation!Q16,FALSE)","v":69.81},{"$f":"INDIRECT(Calculation!R16,FALSE)","v":32.32}]
["Steam Coal","Other countries",{"$f":"INDIRECT(Calculation!F17,FALSE)","v":349.87},{"$f":"INDIRECT(Calculation!G17,FALSE)","v":133.26},-61.91156715351417,{"$f":"INDIRECT(Calculation!J17,FALSE)","v":20.51},{"$f":"INDIRECT(Calculation!K17,FALSE)","v":0},{"$f":"INDIRECT(Calculation!L17,FALSE)","v":10.69},{"$f":"INDIRECT(Calculation!M17,FALSE)","v":146.30000000000001},{"$f":"INDIRECT(Calculation!N17,FALSE)","v":192.88},{"$f":"INDIRECT(Calculation!O17,FALSE)","v":53.52},{"$f":"INDIRECT(Calculation!P17,FALSE)","v":34.71},{"$f":"INDIRECT(Calculation!Q17,FALSE)","v":17.28},{"$f":"INDIRECT(Calculation!R17,FALSE)","v":27.75}]
["Steam Coal","Total all countries",{"$f":"INDIRECT(Calculation!F18,FALSE)","v":4521.2300000000005},{"$f":"INDIRECT(Calculation!G18,FALSE)","v":2096.0699999999997},-53.639385742375424,{"$f":"INDIRECT(Calculation!J18,FALSE)","v":994.93},{"$f":"INDIRECT(Calculation!K18,FALSE)","v":1149.1500000000001},{"$f":"INDIRECT(Calculation!L18,FALSE)","v":880.9},{"$f":"INDIRECT(Calculation!M18,FALSE)","v":1242.21},{"$f":"INDIRECT(Calculation!N18,FALSE)","v":1248.97},{"$f":"INDIRECT(Calculation!O18,FALSE)","v":960.78},{"$f":"INDIRECT(Calculation!P18,FALSE)","v":307.8},{"$f":"INDIRECT(Calculation!Q18,FALSE)","v":217.35},{"$f":"INDIRECT(Calculation!R18,FALSE)","v":610.14},{"$f":"IF(((N17-J17)/J17)*100>100,\"(+)  \",IF(((N17-J17)/J17)*100<-100,\"(-)  \",IF(ROUND((((N17-J17)/J17)*100),1)=0,\"-  \",((N17-J17)/J17)*100)))","v":-51.148546402235439}]
["Coking Coal","European Union",{"$f":"INDIRECT(Calculation!F19,FALSE)","v":194.75},{"$f":"INDIRECT(Calculation!G19,FALSE)","v":62.5},{"$f":"IF(((D18-C18)/C18)*100>100,\"(+)  \",IF(((D18-C18)/C18)*100<-100,\"(-)  \",IF(ROUND((((D18-C18)/C18)*100),1)=0,\"-  \",((D18-C18)/C18)*100)))","v":-67.907573812580239},{"$f":"INDIRECT(Calculation!J19,FALSE)","v":9.7200000000000006},{"$f":"INDIRECT(Calculation!K19,FALSE)","v":168.4},{"$f":"INDIRECT(Calculation!L19,FALSE)","v":8.41},{"$f":"INDIRECT(Calculation!M19,FALSE)","v":6.8},{"$f":"INDIRECT(Calculation!N19,FALSE)","v":11.14},{"$f":"INDIRECT(Calculation!O19,FALSE)","v":10.25},{"$f":"INDIRECT(Calculation!P19,FALSE)","v":7.9},{"$f":"INDIRECT(Calculation!Q19,FALSE)","v":32.770000000000003},{"$f":"INDIRECT(Calculation!R19,FALSE)","v":11.58},{"$f":"IF(((N18-J18)/J18)*100>100,\"(+)  \",IF(((N18-J18)/J18)*100<-100,\"(-)  \",IF(ROUND((((N18-J18)/J18)*100),1)=0,\"-  \",((N18-J18)/J18)*100)))","v":3.9497307001795288}]
["Coking Coal","Australia",{"$f":"INDIRECT(Calculation!F20,FALSE)","v":328.99},{"$f":"INDIRECT(Calculation!G20,FALSE)","v":215.54},{"$f":"IF(((D19-C19)/C19)*100>100,\"(+)  \",IF(((D19-C19)/C19)*100<-100,\"(-)  \",IF(ROUND((((D19-C19)/C19)*100),1)=0,\"-  \",((D19-C19)/C19)*100)))","v":-34.484330830724339},{"$f":"INDIRECT(Calculation!J20,FALSE)","v":44.85},{"$f":"INDIRECT(Calculation!K20,FALSE)","v":86.46},{"$f":"INDIRECT(Calculation!L20,FALSE)","v":29.07},{"$f":"INDIRECT(Calculation!M20,FALSE)","v":142.33000000000001},{"$f":"INDIRECT(Calculation!N20,FALSE)","v":71.13},{"$f":"INDIRECT(Calculation!O20,FALSE)","v":215.54},{"$f":"INDIRECT(Calculation!P20,FALSE)","v":0},{"$f":"INDIRECT(Calculation!Q20,FALSE)","v":0},{"$f":"INDIRECT(Calculation!R20,FALSE)","v":0},{"$f":"IF(((N19-J19)/J19)*100>100,\"(+)  \",IF(((N19-J19)/J19)*100<-100,\"(-)  \",IF(ROUND((((N19-J19)/J19)*100),1)=0,\"-  \",((N19-J19)/J19)*100)))","v":-100}]
["Coking Coal","Canada",{"$f":"INDIRECT(Calculation!F21,FALSE)","v":63.1},{"$f":"INDIRECT(Calculation!G21,FALSE)","v":220.35},null,{"$f":"INDIRECT(Calculation!J21,FALSE)","v":0},{"$f":"INDIRECT(Calculation!K21,FALSE)","v":0},{"$f":"INDIRECT(Calculation!L21,FALSE)","v":63.1},{"$f":"INDIRECT(Calculation!M21,FALSE)","v":0},{"$f":"INDIRECT(Calculation!N21,FALSE)","v":0},{"$f":"INDIRECT(Calculation!O21,FALSE)","v":0},{"$f":"INDIRECT(Calculation!P21,FALSE)","v":30.86},{"$f":"INDIRECT(Calculation!Q21,FALSE)","v":79.27},{"$f":"INDIRECT(Calculation!R21,FALSE)","v":110.22}]
["Coking Coal","China",{"$f":"INDIRECT(Calculation!F22,FALSE)","v":0},{"$f":"INDIRECT(Calculation!G22,FALSE)","v":44.22},null,{"$f":"INDIRECT(Calculation!J22,FALSE)","v":0},{"$f":"INDIRECT(Calculation!K22,FALSE)","v":0},{"$f":"INDIRECT(Calculation!L22,FALSE)","v":0},{"$f":"INDIRECT(Calculation!M22,FALSE)","v":0},{"$f":"INDIRECT(Calculation!N22,FALSE)","v":0},{"$f":"INDIRECT(Calculation!O22,FALSE)","v":0},{"$f":"INDIRECT(Calculation!P22,FALSE)","v":0},{"$f":"INDIRECT(Calculation!Q22,FALSE)","v":44.22},{"$f":"INDIRECT(Calculation!R22,FALSE)","v":0}]
["Coking Coal","Colombia",{"$f":"INDIRECT(Calculation!F23,FALSE)","v":0},{"$f":"INDIRECT(Calculation!G23,FALSE)","v":0},null,{"$f":"INDIRECT(Calculation!J23,FALSE)","v":0},{"$f":"INDIRECT(Calculation!K23,FALSE)","v":0},{"$f":"INDIRECT(Calculation!L23,FALSE)","v":0},{"$f":"INDIRECT(Calculation!M23,FALSE)","v":0},{"$f":"INDIRECT(Calculation!N23,FALSE)","v":0},{"$f":"INDIRECT(Calculation!O23,FALSE)","v":0},{"$f":"INDIRECT(Calculation!P23,FALSE)","v":0},{"$f":"INDIRECT(Calculation!Q23,FALSE)","v":0},{"$f":"INDIRECT(Calculation!R23,FALSE)","v":0}]
["Coking Coal","Indonesia",{"$f":"INDIRECT(Calculation!F24,FALSE)","v":0},{"$f":"INDIRECT(Calculation!G24,FALSE)","v":0},null,{"$f":"INDIRECT(Calculation!J24,FALSE)","v":0},{"$f":"INDIRECT(Calculation!K24,FALSE)","v":0},{"$f":"INDIRECT(Calculation!L24,FALSE)","v":0},{"$f":"INDIRECT(Calculation!M24,FALSE)","v":0},{"$f":"INDIRECT(Calculation!N24,FALSE)","v":0},{"$f":"INDIRECT(Calculation!O24,FALSE)","v":0},{"$f":"INDIRECT(Calculation!P24,FALSE)","v":0},{"$f":"INDIRECT(Calculation!Q24,FALSE)","v":0},{"$f":"INDIRECT(Calculation!R24,FALSE)","v":0}]
["Coking Coal","Republic of South Africa",{"$f":"INDIRECT(Calculation!F25,FALSE)","v":0},{"$f":"INDIRECT(Calculation!G25,FALSE)","v":0},null,{"$f":"INDIRECT(Calculation!J25,FALSE)","v":0},{"$f":"INDIRECT(Calculation!K25,FALSE)","v":0},{"$f":"INDIRECT(Calculation!L25,FALSE)","v":0},{"$f":"INDIRECT(Calculation!M25,FALSE)","v":0},{"$f":"INDIRECT(Calculation!N25,FALSE)","v":0},{"$f":"INDIRECT(Calculation!O25,FALSE)","v":0},{"$f":"INDIRECT(Calculation!P25,FALSE)","v":0},{"$f":"INDIRECT(Calculation!Q25,FALSE)","v":0},{"$f":"INDIRECT(Calculation!R25,FALSE)","v":0}]
["Coking Coal","Russia",{"$f":"INDIRECT(Calculation!F26,FALSE)","v":28.98},{"$f":"INDIRECT(Calculation!G26,FALSE)","v":0},{"$f":"IF(((D25-C25)/C25)*100>100,\"(+)  \",IF(((D25-C25)/C25)*100<-100,\"(-)  \",IF(ROUND((((D25-C25)/C25)*100),1)=0,\"-  \",((D25-C25)/C25)*100)))","v":-100},{"$f":"INDIRECT(Calculation!J26,FALSE)","v":111.44},{"$f":"INDIRECT(Calculation!K26,FALSE)","v":28.98},{"$f":"INDIRECT(Calculation!L26,FALSE)","v":0},{"$f":"INDIRECT(Calculation!M26,FALSE)","v":0},{"$f":"INDIRECT(Calculation!N26,FALSE)","v":0},{"$f":"INDIRECT(Calculation!O26,FALSE)","v":0},{"$f":"INDIRECT(Calculation!P26,FALSE)","v":0},{"$f":"INDIRECT(Calculation!Q26,FALSE)","v":0},{"$f":"INDIRECT(Calculation!R26,FALSE)","v":0}]
["Coking Coal","USA",{"$f":"INDIRECT(Calculation!F27,FALSE)","v":1128.04},{"$f":"INDIRECT(Calculation!G27,FALSE)","v":796.90000000000009},{"$f":"IF(((D26-C26)/C26)*100>100,\"(+)  \",IF(((D26-C26)/C26)*100<-100,\"(-)  \",IF(ROUND((((D26-C26)/C26)*100),1)=0,\"-  \",((D26-C26)/C26)*100)))","v":-29.3553420091486},{"$f":"INDIRECT(Calculation!J27,FALSE)","v":121.77},{"$f":"INDIRECT(Calculation!K27,FALSE)","v":82.32},{"$f":"INDIRECT(Calculation!L27,FALSE)","v":357.93},{"$f":"INDIRECT(Calculation!M27,FALSE)","v":354.76},{"$f":"INDIRECT(Calculation!N27,FALSE)","v":333.03},{"$f":"INDIRECT(Calculation!O27,FALSE)","v":69.62},{"$f":"INDIRECT(Calculation!P27,FALSE)","v":342.04},{"$f":"INDIRECT(Calculation!Q27,FALSE)","v":177.56},{"$f":"INDIRECT(Calculation!R27,FALSE)","v":207.68},{"$f":"IF(((N26-J26)/J26)*100>100,\"(+)  \",IF(((N26-J26)/J26)*100<-100,\"(-)  \",IF(ROUND((((N26-J26)/J26)*100),1)=0,\"-  \",((N26-J26)/J26)*100)))","v":-37.63925171906434}]
["Coking Coal","Venezuela",{"$f":"INDIRECT(Calculation!F28,FALSE)","v":0},{"$f":"INDIRECT(Calculation!G28,FALSE)","v":0},null,{"$f":"INDIRECT(Calculation!J28,FALSE)","v":0},{"$f":"INDIRECT(Calculation!K28,FALSE)","v":0},{"$f":"INDIRECT(Calculation!L28,FALSE)","v":0},{"$f":"INDIRECT(Calculation!M28,FALSE)","v":0},{"$f":"INDIRECT(Calculation!N28,FALSE)","v":0},{"$f":"INDIRECT(Calculation!O28,FALSE)","v":0},{"$f":"INDIRECT(Calculation!P28,FALSE)","v":0},{"$f":"INDIRECT(Calculation!Q28,FALSE)","v":0},{"$f":"INDIRECT(Calculation!R28,FALSE)","v":0}]
["Coking Coal","Other countries",{"$f":"INDIRECT(Calculation!F29,FALSE)","v":0},{"$f":"INDIRECT(Calculation!G29,FALSE)","v":0},null,{"$f":"INDIRECT(Calculation!J29,FALSE)","v":0},{"$f":"INDIRECT(Calculation!K29,FALSE)","v":0},{"$f":"INDIRECT(Calculation!L29,FALSE)","v":0},{"$f":"INDIRECT(Calculation!M29,FALSE)","v":0},{"$f":"INDIRECT(Calculation!N29,FALSE)","v":0},{"$f":"INDIRECT(Calculation!O29,FALSE)","v":0},{"$f":"INDIRECT(Calculation!P29,FALSE)","v":0},{"$f":"INDIRECT(Calculation!Q29,FALSE)","v":0},{"$f":"INDIRECT(Calculation!R29,FALSE)","v":0}]
["Coking Coal","Total all countries",{"$f":"INDIRECT(Calculation!F30,FALSE)","v":1743.87},{"$f":"INDIRECT(Calculation!G30,FALSE)","v":1339.51},{"$f":"IF(((D29-C29)/C29)*100>100,\"(+)  \",IF(((D29-C29)/C29)*100<-100,\"(-)  \",IF(ROUND((((D29-C29)/C29)*100),1)=0,\"-  \",((D29-C29)/C29)*100)))","v":-23.187508243160323},{"$f":"INDIRECT(Calculation!J30,FALSE)","v":287.77999999999997},{"$f":"INDIRECT(Calculation!K30,FALSE)","v":366.16},{"$f":"INDIRECT(Calculation!L30,FALSE)","v":458.52},{"$f":"INDIRECT(Calculation!M30,FALSE)","v":503.9},{"$f":"INDIRECT(Calculation!N30,FALSE)","v":415.29},{"$f":"INDIRECT(Calculation!O30,FALSE)","v":295.41000000000003},{"$f":"INDIRECT(Calculation!P30,FALSE)","v":380.8},{"$f":"INDIRECT(Calculation!Q30,FALSE)","v":333.82},{"$f":"INDIRECT(Calculation!R30,FALSE)","v":329.48},{"$f":"IF(((N29-J29)/J29)*100>100,\"(+)  \",IF(((N29-J29)/J29)*100<-100,\"(-)  \",IF(ROUND((((N29-J29)/J29)*100),1)=0,\"-  \",((N29-J29)/J29)*100)))","v":-20.662669459895493}]
["Anthracite","European Union",{"$f":"INDIRECT(Calculation!F31,FALSE)","v":63.92},{"$f":"INDIRECT(Calculation!G31,FALSE)","v":39.07},{"$f":"IF(((D30-C30)/C30)*100>100,\"(+)  \",IF(((D30-C30)/C30)*100<-100,\"(-)  \",IF(ROUND((((D30-C30)/C30)*100),1)=0,\"-  \",((D30-C30)/C30)*100)))","v":-38.876720901126411},{"$f":"INDIRECT(Calculation!J31,FALSE)","v":7.8},{"$f":"INDIRECT(Calculation!K31,FALSE)","v":35.28},{"$f":"INDIRECT(Calculation!L31,FALSE)","v":12.44},{"$f":"INDIRECT(Calculation!M31,FALSE)","v":7.03},{"$f":"INDIRECT(Calculation!N31,FALSE)","v":9.17},{"$f":"INDIRECT(Calculation!O31,FALSE)","v":8.9},{"$f":"INDIRECT(Calculation!P31,FALSE)","v":7.66},{"$f":"INDIRECT(Calculation!Q31,FALSE)","v":13.59},{"$f":"INDIRECT(Calculation!R31,FALSE)","v":8.92},{"$f":"IF(((N30-J30)/J30)*100>100,\"(+)  \",IF(((N30-J30)/J30)*100<-100,\"(-)  \",IF(ROUND((((N30-J30)/J30)*100),1)=0,\"-  \",((N30-J30)/J30)*100)))","v":-2.7262813522355507}]
["Anthracite","Australia",{"$f":"INDIRECT(Calculation!F32,FALSE)","v":4.38},{"$f":"INDIRECT(Calculation!G32,FALSE)","v":0},null,{"$f":"INDIRECT(Calculation!J32,FALSE)","v":0},{"$f":"INDIRECT(Calculation!K32,FALSE)","v":0},{"$f":"INDIRECT(Calculation!L32,FALSE)","v":0},{"$f":"INDIRECT(Calculation!M32,FALSE)","v":4.38},{"$f":"INDIRECT(Calculation!N32,FALSE)","v":0},{"$f":"INDIRECT(Calculation!O32,FALSE)","v":0},{"$f":"INDIRECT(Calculation!P32,FALSE)","v":0},{"$f":"INDIRECT(Calculation!Q32,FALSE)","v":0},{"$f":"INDIRECT(Calculation!R32,FALSE)","v":0}]
["Anthracite","Canada",{"$f":"INDIRECT(Calculation!F33,FALSE)","v":5.63},{"$f":"INDIRECT(Calculation!G33,FALSE)","v":0},null,{"$f":"INDIRECT(Calculation!J33,FALSE)","v":0},{"$f":"INDIRECT(Calculation!K33,FALSE)","v":0},{"$f":"INDIRECT(Calculation!L33,FALSE)","v":0},{"$f":"INDIRECT(Calculation!M33,FALSE)","v":0},{"$f":"INDIRECT(Calculation!N33,FALSE)","v":5.63},{"$f":"INDIRECT(Calculation!O33,FALSE)","v":0},{"$f":"INDIRECT(Calculation!P33,FALSE)","v":0},{"$f":"INDIRECT(Calculation!Q33,FALSE)","v":0},{"$f":"INDIRECT(Calculation!R33,FALSE)","v":0}]
["Anthracite","China",{"$f":"INDIRECT(Calculation!F34,FALSE)","v":0.02},{"$f":"INDIRECT(Calculation!G34,FALSE)","v":0.13},{"$f":"IF(((D33-C33)/C33)*100>100,\"(+)  \",IF(((D33-C33)/C33)*100<-100,\"(-)  \",IF(ROUND((((D33-C33)/C33)*100),1)=0,\"-  \",((D33-C33)/C33)*100)))","v":"(+)  "},{"$f":"INDIRECT(Calculation!J34,FALSE)","v":0.69},{"$f":"INDIRECT(Calculation!K34,FALSE)","v":0},{"$f":"INDIRECT(Calculation!L34,FALSE)","v":0},{"$f":"INDIRECT(Calculation!M34,FALSE)","v":0},{"$f":"INDIRECT(Calculation!N34,FALSE)","v":0.02},{"$f":"INDIRECT(Calculation!O34,FALSE)","v":0},{"$f":"INDIRECT(Calculation!P34,FALSE)","v":0},{"$f":"INDIRECT(Calculation!Q34,FALSE)","v":0.04},{"$f":"INDIRECT(Calculation!R34,FALSE)","v":0.09}]
["Anthracite","Colombia",{"$f":"INDIRECT(Calculation!F35,FALSE)","v":0},{"$f":"INDIRECT(Calculation!G35,FALSE)","v":1.0900000000000001},null,{"$f":"INDIRECT(Calculation!J35,FALSE)","v":0},{"$f":"INDIRECT(Calculation!K35,FALSE)","v":0},{"$f":"INDIRECT(Calculation!L35,FALSE)","v":0},{"$f":"INDIRECT(Calculation!M35,FALSE)","v":0},{"$f":"INDIRECT(Calculation!N35,FALSE)","v":0},{"$f":"INDIRECT(Calculation!O35,FALSE)","v":0},{"$f":"INDIRECT(Calculation!P35,FALSE)","v":0},{"$f":"INDIRECT(Calculation!Q35,FALSE)","v":0},{"$f":"INDIRECT(Calculation!R35,FALSE)","v":1.0900000000000001}]
["Anthracite","Indonesia",{"$f":"INDIRECT(Calculation!F36,FALSE)","v":7.0000000000000007E-2},{"$f":"INDIRECT(Calculation!G36,FALSE)","v":0.01},null,{"$f":"INDIRECT(Calculation!J36,FALSE)","v":0.01},{"$f":"INDIRECT(Calculation!K36,FALSE)","v":7.0000000000000007E-2},{"$f":"INDIRECT(Calculation!L36,FALSE)","v":0},{"$f":"INDIRECT(Calculation!M36,FALSE)","v":0},{"$f":"INDIRECT(Calculation!N36,FALSE)","v":0},{"$f":"INDIRECT(Calculation!O36,FALSE)","v":0},{"$f":"INDIRECT(Calculation!P36,FALSE)","v":0},{"$f":"INDIRECT(Calculation!Q36,FALSE)","v":0.01},{"$f":"INDIRECT(Calculation!R36,FALSE)","v":0}]
["Anthracite","Republic of South Africa",{"$f":"INDIRECT(Calculation!F37,FALSE)","v":0},{"$f":"INDIRECT(Calculation!G37,FALSE)","v":3.44},null,{"$f":"INDIRECT(Calculation!J37,FALSE)","v":0},{"$f":"INDIRECT(Calculation!K37,FALSE)","v":0},{"$f":"INDIRECT(Calculation!L37,FALSE)","v":0},{"$f":"INDIRECT(Calculation!M37,FALSE)","v":0},{"$f":"INDIRECT(Calculation!N37,FALSE)","v":0},{"$f":"INDIRECT(Calculation!O37,FALSE)","v":0},{"$f":"INDIRECT(Calculation!P37,FALSE)","v":0},{"$f":"INDIRECT(Calculation!Q37,FALSE)","v":0.32},{"$f":"INDIRECT(Calculation!R37,FALSE)","v":3.12}]
["Anthracite","Russia",{"$f":"INDIRECT(Calculation!F38,FALSE)","v":0},{"$f":"INDIRECT(Calculation!G38,FALSE)","v":0},null,{"$f":"INDIRECT(Calculation!J38,FALSE)","v":11.88},{"$f":"INDIRECT(Calculation!K38,FALSE)","v":0},{"$f":"INDIRECT(Calculation!L38,FALSE)","v":0},{"$f":"INDIRECT(Calculation!M38,FALSE)","v":0},{"$f":"INDIRECT(Calculation!N38,FALSE)","v":0},{"$f":"INDIRECT(Calculation!O38,FALSE)","v":0},{"$f":"INDIRECT(Calculation!P38,FALSE)","v":0},{"$f":"INDIRECT(Calculation!Q38,FALSE)","v":0},{"$f":"INDIRECT(Calculation!R38,FALSE)","v":0}]
["Anthracite","USA",{"$f":"INDIRECT(Calculation!F39,FALSE)","v":5.3100000000000005},{"$f":"INDIRECT(Calculation!G39,FALSE)","v":0},null,{"$f":"INDIRECT(Calculation!J39,FALSE)","v":0.05},{"$f":"INDIRECT(Calculation!K39,FALSE)","v":0},{"$f":"INDIRECT(Calculation!L39,FALSE)","v":0.24},{"$f":"INDIRECT(Calculation!M39,FALSE)","v":5.07},{"$f":"INDIRECT(Calculation!N39,FALSE)","v":0},{"$f":"INDIRECT(Calculation!O39,FALSE)","v":0},{"$f":"INDIRECT(Calculation!P39,FALSE)","v":0},{"$f":"INDIRECT(Calculation!Q39,FALSE)","v":0},{"$f":"INDIRECT(Calculation!R39,FALSE)","v":0}]
["Anthracite","Venezuela",{"$f":"INDIRECT(Calculation!F40,FALSE)","v":0},{"$f":"INDIRECT(Calculation!G40,FALSE)","v":0},null,{"$f":"INDIRECT(Calculation!J40,FALSE)","v":0},{"$f":"INDIRECT(Calculation!K40,FALSE)","v":0},{"$f":"INDIRECT(Calculation!L40,FALSE)","v":0},{"$f":"INDIRECT(Calculation!M40,FALSE)","v":0},{"$f":"INDIRECT(Calculation!N40,FALSE)","v":0},{"$f":"INDIRECT(Calculation!O40,FALSE)","v":0},{"$f":"INDIRECT(Calculation!P40,FALSE)","v":0},{"$f":"INDIRECT(Calculation!Q40,FALSE)","v":0},{"$f":"INDIRECT(Calculation!R40,FALSE)","v":0}]
["Anthracite","Other countries",{"$f":"INDIRECT(Calculation!F41,FALSE)","v":13.120000000000001},{"$f":"INDIRECT(Calculation!G41,FALSE)","v":3.31},-74.771341463414629,{"$f":"INDIRECT(Calculation!J41,FALSE)","v":0.01},{"$f":"INDIRECT(Calculation!K41,FALSE)","v":0.16},{"$f":"INDIRECT(Calculation!L41,FALSE)","v":0},{"$f":"INDIRECT(Calculation!M41,FALSE)","v":0.9},{"$f":"INDIRECT(Calculation!N41,FALSE)","v":12.06},{"$f":"INDIRECT(Calculation!O41,FALSE)","v":3.29},{"$f":"INDIRECT(Calculation!P41,FALSE)","v":0},{"$f":"INDIRECT(Calculation!Q41,FALSE)","v":0.02},{"$f":"INDIRECT(Calculation!R41,FALSE)","v":0}]
["Anthracite","Total all countries",{"$f":"INDIRECT(Calculation!F42,FALSE)","v":92.449999999999989},{"$f":"INDIRECT(Calculation!G42,FALSE)","v":47.06},-49.096809085992419,{"$f":"INDIRECT(Calculation!J42,FALSE)","v":20.45},{"$f":"INDIRECT(Calculation!K42,FALSE)","v":35.51},{"$f":"INDIRECT(Calculation!L42,FALSE)","v":12.68},{"$f":"INDIRECT(Calculation!M42,FALSE)","v":17.38},{"$f":"INDIRECT(Calculation!N42,FALSE)","v":26.88},{"$f":"INDIRECT(Calculation!O42,FALSE)","v":12.19},{"$f":"INDIRECT(Calculation!P42,FALSE)","v":7.66},{"$f":"INDIRECT(Calculation!Q42,FALSE)","v":13.98},{"$f":"INDIRECT(Calculation!R42,FALSE)","v":13.23},{"$f":"IF(((N41-J41)/J41)*100>100,\"(+)  \",IF(((N41-J41)/J41)*100<-100,\"(-)  \",IF(ROUND((((N41-J41)/J41)*100),1)=0,\"-  \",((N41-J41)/J41)*100)))","v":-50.78125}]
["Total coal imports [note 3]","Total all countries",{"$f":"INDIRECT(Calculation!F43,FALSE)","v":6357.54},{"$f":"INDIRECT(Calculation!G43,FALSE)","v":3482.64},-45.220321067582745,{"$f":"INDIRECT(Calculation!J43,FALSE)","v":1303.17},{"$f":"INDIRECT(Calculation!K43,FALSE)","v":1550.82},{"$f":"INDIRECT(Calculation!L43,FALSE)","v":1352.09},{"$f":"INDIRECT(Calculation!M43,FALSE)","v":1763.49},{"$f":"INDIRECT(Calculation!N43,FALSE)","v":1691.14},{"$f":"INDIRECT(Calculation!O43,FALSE)","v":1268.3800000000001},{"$f":"INDIRECT(Calculation!P43,FALSE)","v":696.26},{"$f":"INDIRECT(Calculation!Q43,FALSE)","v":565.15},{"$f":"INDIRECT(Calculation!R43,FALSE)","v":952.85},{"$f":"IF(((N42-J42)/J42)*100>100,\"(+)  \",IF(((N42-J42)/J42)*100<-100,\"(-)  \",IF(ROUND((((N42-J42)/J42)*100),1)=0,\"-  \",((N42-J42)/J42)*100)))","v":-43.656350154333765}]

{"sheet":"Annual","index":5,"n_rows":41,"n_cols":24,"rows_kept":41,"cut":false,"hidden":false,"merged":[]}
["Table 2.4 Coal imports (thousand tonnes) (note 1)"]
["This worksheet contains one table"]
[]
["Type of coal","Country of origin","2002","2003","2004","2005","2006","2007","2008","2009","2010","2011","2012","2013","2014","2015","2016","2017","2018","2019","2020","2021","2022","2023 [provisional]"]
["Steam Coal","European Union",{"$f":"SUM(Quarter!C5:F5)","v":307.45},{"$f":"SUM(Quarter!G5:J5)","v":314.02999999999997},{"$f":"SUM(Quarter!K5:N5)","v":931.8900000000001},{"$f":"SUM(Quarter!O5:R5)","v":1001.17},{"$f":"SUM(Quarter!S5:V5)","v":1583.6000000000001},{"$f":"SUM(Quarter!W5:Z5)","v":482.4},{"$f":"SUM(Quarter!AA5:AD5)","v":933.07},{"$f":"SUM(Quarter!AE5:AH5)","v":1136.42},{"$f":"SUM(Quarter!AI5:AL5)","v":880.89},{"$f":"SUM(Quarter!AM5:AP5)","v":1056.3899999999999},{"$f":"SUM(Quarter!AQ5:AT5)","v":582.85},{"$f":"SUM(Quarter!AU5:AX5)","v":1124.49},{"$f":"SUM(Quarter!AY5:BB5)","v":689.62},{"$f":"SUM(Quarter!BC5:BF5)","v":526.37},{"$f":"SUM(Quarter!BG5:BJ5)","v":336.5},{"$f":"SUM(Quarter!BK5:BN5)","v":293.17},{"$f":"SUM(Quarter!BO5:BR5)","v":253.6},{"$f":"SUM(Quarter!BS5:BV5)","v":307.02},{"$f":"SUM(Quarter!BW5:BZ5)","v":275.54000000000002},{"$f":"SUM(Quarter!CA5:CD5)","v":257.20999999999998},{"$f":"SUM(Quarter!CE5:CH5)","v":297.83},{"$f":"SUM(Quarter!CI5:CL5)","v":288.14}]
["Steam Coal","Australia",{"$f":"SUM(Quarter!C6:F6)","v":760.91},{"$f":"SUM(Quarter!G6:J6)","v":1289},{"$f":"SUM(Quarter!K6:N6)","v":2101.1},{"$f":"SUM(Quarter!O6:R6)","v":827.77},{"$f":"SUM(Quarter!S6:V6)","v":155.93},{"$f":"SUM(Quarter!W6:Z6)","v":535.39},{"$f":"SUM(Quarter!AA6:AD6)","v":698.53},{"$f":"SUM(Quarter!AE6:AH6)","v":443.13},{"$f":"SUM(Quarter!AI6:AL6)","v":0},{"$f":"SUM(Quarter!AM6:AP6)","v":0},{"$f":"SUM(Quarter!AQ6:AT6)","v":0},{"$f":"SUM(Quarter!AU6:AX6)","v":89.23},{"$f":"SUM(Quarter!AY6:BB6)","v":0},{"$f":"SUM(Quarter!BC6:BF6)","v":0},{"$f":"SUM(Quarter!BG6:BJ6)","v":0},{"$f":"SUM(Quarter!BK6:BN6)","v":0.01},{"$f":"SUM(Quarter!BO6:BR6)","v":0},{"$f":"SUM(Quarter!BS6:BV6)","v":0},{"$f":"SUM(Quarter!BW6:BZ6)","v":0},{"$f":"SUM(Quarter!CA6:CD6)","v":0},{"$f":"SUM(Quarter!CE6:CH6)","v":436.15999999999997},{"$f":"SUM(Quarter!CI6:CL6)","v":232.49}]
["Steam Coal","Canada",{"$f":"SUM(Quarter!C7:F7)","v":0},{"$f":"SUM(Quarter!G7:J7)","v":0},{"$f":"SUM(Quarter!K7:N7)","v":0},{"$f":"SUM(Quarter!O7:R7)","v":0},{"$f":"SUM(Quarter!S7:V7)","v":0},{"$f":"SUM(Quarter!W7:Z7)","v":0},{"$f":"SUM(Quarter!AA7:AD7)","v":0},{"$f":"SUM(Quarter!AE7:AH7)","v":0},{"$f":"SUM(Quarter!AI7:AL7)","v":0},{"$f":"SUM(Quarter!AM7:AP7)","v":0},{"$f":"SUM(Quarter!AQ7:AT7)","v":152.62},{"$f":"SUM(Quarter!AU7:AX7)","v":498.93000000000006},{"$f":"SUM(Quarter!AY7:BB7)","v":7.0000000000000007E-2},{"$f":"SUM(Quarter!BC7:BF7)","v":0.02},{"$f":"SUM(Quarter!BG7:BJ7)","v":0.17},{"$f":"SUM(Quarter!BK7:BN7)","v":0.28999999999999998},{"$f":"SUM(Quarter!BO7:BR7)","v":0.08},{"$f":"SUM(Quarter!BS7:BV7)","v":0.11},{"$f":"SUM(Quarter!BW7:BZ7)","v":0},{"$f":"SUM(Quarter!CA7:CD7)","v":0},{"$f":"SUM(Quarter!CE7:CH7)","v":0.11},{"$f":"SUM(Quarter!CI7:CL7)","v":0}]
["Steam Coal","China",{"$f":"SUM(Quarter!C8:F8)","v":200.17000000000004},{"$f":"SUM(Quarter!G8:J8)","v":187.79},{"$f":"SUM(Quarter!K8:N8)","v":178.52},{"$f":"SUM(Quarter!O8:R8)","v":105.95},{"$f":"SUM(Quarter!S8:V8)","v":36.11},{"$f":"SUM(Quarter!W8:Z8)","v":169.62},{"$f":"SUM(Quarter!AA8:AD8)","v":0},{"$f":"SUM(Quarter!AE8:AH8)","v":600.16999999999996},{"$f":"SUM(Quarter!AI8:AL8)","v":0},{"$f":"SUM(Quarter!AM8:AP8)","v":0},{"$f":"SUM(Quarter!AQ8:AT8)","v":0.33999999999999997},{"$f":"SUM(Quarter!AU8:AX8)","v":0.11},{"$f":"SUM(Quarter!AY8:BB8)","v":78.010000000000005},{"$f":"SUM(Quarter!BC8:BF8)","v":0},{"$f":"SUM(Quarter!BG8:BJ8)","v":0.01},{"$f":"SUM(Quarter!BK8:BN8)","v":0.01},{"$f":"SUM(Quarter!BO8:BR8)","v":0.02},{"$f":"SUM(Quarter!BS8:BV8)","v":0.01},{"$f":"SUM(Quarter!BW8:BZ8)","v":0.02},{"$f":"SUM(Quarter!CA8:CD8)","v":0.02},{"$f":"SUM(Quarter!CE8:CH8)","v":0.04},{"$f":"SUM(Quarter!CI8:CL8)","v":0.01}]
["Steam Coal","Colombia",{"$f":"SUM(Quarter!C9:F9)","v":3778.86},{"$f":"SUM(Quarter!G9:J9)","v":2974.37},{"$f":"SUM(Quarter!K9:N9)","v":3609.69},{"$f":"SUM(Quarter!O9:R9)","v":3368.88},{"$f":"SUM(Quarter!S9:V9)","v":3882.7400000000002},{"$f":"SUM(Quarter!W9:Z9)","v":3842.3599999999997},{"$f":"SUM(Quarter!AA9:AD9)","v":5294.1},{"$f":"SUM(Quarter!AE9:AH9)","v":5232.87},{"$f":"SUM(Quarter!AI9:AL9)","v":6235.6100000000006},{"$f":"SUM(Quarter!AM9:AP9)","v":8009.6},{"$f":"SUM(Quarter!AQ9:AT9)","v":11748.560000000001},{"$f":"SUM(Quarter!AU9:AX9)","v":11292.54},{"$f":"SUM(Quarter!AY9:BB9)","v":9690.68},{"$f":"SUM(Quarter!BC9:BF9)","v":6552.76},{"$f":"SUM(Quarter!BG9:BJ9)","v":2895.7799999999997},{"$f":"SUM(Quarter!BK9:BN9)","v":731.12},{"$f":"SUM(Quarter!BO9:BR9)","v":623.22},{"$f":"SUM(Quarter!BS9:BV9)","v":826.96},{"$f":"SUM(Quarter!BW9:BZ9)","v":114.57},{"$f":"SUM(Quarter!CA9:CD9)","v":167.01},{"$f":"SUM(Quarter!CE9:CH9)","v":450.91999999999996},{"$f":"SUM(Quarter!CI9:CL9)","v":330.90000000000003}]
["Steam Coal","Indonesia",{"$f":"SUM(Quarter!C10:F10)","v":49.65},{"$f":"SUM(Quarter!G10:J10)","v":374.75},{"$f":"SUM(Quarter!K10:N10)","v":1532},{"$f":"SUM(Quarter!O10:R10)","v":1681.8},{"$f":"SUM(Quarter!S10:V10)","v":1954.3999999999996},{"$f":"SUM(Quarter!W10:Z10)","v":1469.92},{"$f":"SUM(Quarter!AA10:AD10)","v":2162.46},{"$f":"SUM(Quarter!AE10:AH10)","v":718.73},{"$f":"SUM(Quarter!AI10:AL10)","v":270.7},{"$f":"SUM(Quarter!AM10:AP10)","v":0},{"$f":"SUM(Quarter!AQ10:AT10)","v":0},{"$f":"SUM(Quarter!AU10:AX10)","v":0},{"$f":"SUM(Quarter!AY10:BB10)","v":0},{"$f":"SUM(Quarter!BC10:BF10)","v":0},{"$f":"SUM(Quarter!BG10:BJ10)","v":0},{"$f":"SUM(Quarter!BK10:BN10)","v":0.06},{"$f":"SUM(Quarter!BO10:BR10)","v":0},{"$f":"SUM(Quarter!BS10:BV10)","v":0},{"$f":"SUM(Quarter!BW10:BZ10)","v":0},{"$f":"SUM(Quarter!CA10:CD10)","v":0.02},{"$f":"SUM(Quarter!CE10:CH10)","v":0},{"$f":"SUM(Quarter!CI10:CL10)","v":0}]
["Steam Coal","Republic of South Africa",{"$f":"SUM(Quarter!C11:F11)","v":9948.41},{"$f":"SUM(Quarter!G11:J11)","v":12028.09},{"$f":"SUM(Quarter!K11:N11)","v":10023.06},{"$f":"SUM(Quarter!O11:R11)","v":12862.17},{"$f":"SUM(Quarter!S11:V11)","v":12745.67},{"$f":"SUM(Quarter!W11:Z11)","v":7940.85},{"$f":"SUM(Quarter!AA11:AD11)","v":4249.34},{"$f":"SUM(Quarter!AE11:AH11)","v":3033.9900000000002},{"$f":"SUM(Quarter!AI11:AL11)","v":763.49},{"$f":"SUM(Quarter!AM11:AP11)","v":646.97},{"$f":"SUM(Quarter!AQ11:AT11)","v":546.04},{"$f":"SUM(Quarter!AU11:AX11)","v":477.83},{"$f":"SUM(Quarter!AY11:BB11)","v":144.58000000000001},{"$f":"SUM(Quarter!BC11:BF11)","v":260.32},{"$f":"SUM(Quarter!BG11:BJ11)","v":135.73000000000002},{"$f":"SUM(Quarter!BK11:BN11)","v":49.5},{"$f":"SUM(Quarter!BO11:BR11)","v":118.47},{"$f":"SUM(Quarter!BS11:BV11)","v":145.99},{"$f":"SUM(Quarter!BW11:BZ11)","v":66.7},{"$f":"SUM(Quarter!CA11:CD11)","v":96.539999999999992},{"$f":"SUM(Quarter!CE11:CH11)","v":614.57999999999993},{"$f":"SUM(Quarter!CI11:CL11)","v":164.33999999999997}]
["Steam Coal","Russia",{"$f":"SUM(Quarter!C12:F12)","v":3765.3700000000003},{"$f":"SUM(Quarter!G12:J12)","v":3400.4399999999996},{"$f":"SUM(Quarter!K12:N12)","v":9676.5},{"$f":"SUM(Quarter!O12:R12)","v":16887.97},{"$f":"SUM(Quarter!S12:V12)","v":22543.02},{"$f":"SUM(Quarter!W12:Z12)","v":20184.510000000002},{"$f":"SUM(Quarter!AA12:AD12)","v":21193.440000000002},{"$f":"SUM(Quarter!AE12:AH12)","v":18413.61},{"$f":"SUM(Quarter!AI12:AL12)","v":9166.0999999999985},{"$f":"SUM(Quarter!AM12:AP12)","v":12093.11},{"$f":"SUM(Quarter!AQ12:AT12)","v":17458.579999999998},{"$f":"SUM(Quarter!AU12:AX12)","v":19007.260000000002},{"$f":"SUM(Quarter!AY12:BB12)","v":16438.260000000002},{"$f":"SUM(Quarter!BC12:BF12)","v":7079.8799999999992},{"$f":"SUM(Quarter!BG12:BJ12)","v":1694.81},{"$f":"SUM(Quarter!BK12:BN12)","v":2918.92},{"$f":"SUM(Quarter!BO12:BR12)","v":3728.0299999999997},{"$f":"SUM(Quarter!BS12:BV12)","v":1680.25},{"$f":"SUM(Quarter!BW12:BZ12)","v":892.59999999999991},{"$f":"SUM(Quarter!CA12:CD12)","v":1120.55},{"$f":"SUM(Quarter!CE12:CH12)","v":980.25000000000011},{"$f":"SUM(Quarter!CI12:CL12)","v":0}]
["Steam Coal","USA",{"$f":"SUM(Quarter!C13:F13)","v":254.32},{"$f":"SUM(Quarter!G13:J13)","v":166.84},{"$f":"SUM(Quarter!K13:N13)","v":743.23},{"$f":"SUM(Quarter!O13:R13)","v":265.55},{"$f":"SUM(Quarter!S13:V13)","v":707.27},{"$f":"SUM(Quarter!W13:Z13)","v":1121.4000000000001},{"$f":"SUM(Quarter!AA13:AD13)","v":2792.33},{"$f":"SUM(Quarter!AE13:AH13)","v":3111.55},{"$f":"SUM(Quarter!AI13:AL13)","v":2348.88},{"$f":"SUM(Quarter!AM13:AP13)","v":4460.9400000000005},{"$f":"SUM(Quarter!AQ13:AT13)","v":8858.5},{"$f":"SUM(Quarter!AU13:AX13)","v":10997.929999999998},{"$f":"SUM(Quarter!AY13:BB13)","v":8163.54},{"$f":"SUM(Quarter!BC13:BF13)","v":2943.18},{"$f":"SUM(Quarter!BG13:BJ13)","v":386.37},{"$f":"SUM(Quarter!BK13:BN13)","v":1451.7199999999998},{"$f":"SUM(Quarter!BO13:BR13)","v":2791.16},{"$f":"SUM(Quarter!BS13:BV13)","v":798.78},{"$f":"SUM(Quarter!BW13:BZ13)","v":20.16},{"$f":"SUM(Quarter!CA13:CD13)","v":388.44},{"$f":"SUM(Quarter!CE13:CH13)","v":1316.01},{"$f":"SUM(Quarter!CI13:CL13)","v":776}]
["Steam Coal","Venezuela",{"$f":"SUM(Quarter!C14:F14)","v":0},{"$f":"SUM(Quarter!G14:J14)","v":0},{"$f":"SUM(Quarter!K14:N14)","v":0},{"$f":"SUM(Quarter!O14:R14)","v":0},{"$f":"SUM(Quarter!S14:V14)","v":0},{"$f":"SUM(Quarter!W14:Z14)","v":0},{"$f":"SUM(Quarter!AA14:AD14)","v":0},{"$f":"SUM(Quarter!AE14:AH14)","v":0},{"$f":"SUM(Quarter!AI14:AL14)","v":0},{"$f":"SUM(Quarter!AM14:AP14)","v":0},{"$f":"SUM(Quarter!AQ14:AT14)","v":0},{"$f":"SUM(Quarter!AU14:AX14)","v":0},{"$f":"SUM(Quarter!AY14:BB14)","v":0},{"$f":"SUM(Quarter!BC14:BF14)","v":0},{"$f":"SUM(Quarter!BG14:BJ14)","v":0},{"$f":"SUM(Quarter!BK14:BN14)","v":0},{"$f":"SUM(Quarter!BO14:BR14)","v":0},{"$f":"SUM(Quarter!BS14:BV14)","v":126.21000000000001},{"$f":"SUM(Quarter!BW14:BZ14)","v":967.75},{"$f":"SUM(Quarter!CA14:CD14)","v":319.25},{"$f":"SUM(Quarter!CE14:CH14)","v":75.489999999999995},{"$f":"SUM(Quarter!CI14:CL14)","v":170.95}]
["Steam Coal","Other countries",{"$f":"SUM(Quarter!C15:F15)","v":2829.6099999999997},{"$f":"SUM(Quarter!G15:J15)","v":4362.4799999999996},{"$f":"SUM(Quarter!K15:N15)","v":817.89},{"$f":"SUM(Quarter!O15:R15)","v":229.04000000000002},{"$f":"SUM(Quarter!S15:V15)","v":0},{"$f":"SUM(Quarter!W15:Z15)","v":0},{"$f":"SUM(Quarter!AA15:AD15)","v":59},{"$f":"SUM(Quarter!AE15:AH15)","v":103.35},{"$f":"SUM(Quarter!AI15:AL15)","v":85.79},{"$f":"SUM(Quarter!AM15:AP15)","v":204.79000000000002},{"$f":"SUM(Quarter!AQ15:AT15)","v":271.81},{"$f":"SUM(Quarter!AU15:AX15)","v":715.88},{"$f":"SUM(Quarter!AY15:BB15)","v":549.03},{"$f":"SUM(Quarter!BC15:BF15)","v":302.94},{"$f":"SUM(Quarter!BG15:BJ15)","v":589.49},{"$f":"SUM(Quarter!BK15:BN15)","v":244.23},{"$f":"SUM(Quarter!BO15:BR15)","v":33.160000000000004},{"$f":"SUM(Quarter!BS15:BV15)","v":63.96},{"$f":"SUM(Quarter!BW15:BZ15)","v":62.46},{"$f":"SUM(Quarter!CA15:CD15)","v":73.89},{"$f":"SUM(Quarter!CE15:CH15)","v":349.87},{"$f":"SUM(Quarter!CI15:CL15)","v":133.26}]
["Steam Coal","Total all countries",{"$f":"SUM(Quarter!C16:F16)","v":21894.720000000001},{"$f":"SUM(Quarter!G16:J16)","v":25097.79},{"$f":"SUM(Quarter!K16:N16)","v":29613.86},{"$f":"SUM(Quarter!O16:R16)","v":37230.29},{"$f":"SUM(Quarter!S16:V16)","v":43608.76},{"$f":"SUM(Quarter!W16:Z16)","v":35746.43},{"$f":"SUM(Quarter!AA16:AD16)","v":37382.25},{"$f":"SUM(Quarter!AE16:AH16)","v":32793.83},{"$f":"SUM(Quarter!AI16:AL16)","v":19751.46},{"$f":"SUM(Quarter!AM16:AP16)","v":26471.8},{"$f":"SUM(Quarter!AQ16:AT16)","v":39619.31},{"$f":"SUM(Quarter!AU16:AX16)","v":44204.2},{"$f":"SUM(Quarter!AY16:BB16)","v":35753.81},{"$f":"SUM(Quarter!BC16:BF16)","v":17665.46},{"$f":"SUM(Quarter!BG16:BJ16)","v":6038.8600000000006},{"$f":"SUM(Quarter!BK16:BN16)","v":5689.05},{"$f":"SUM(Quarter!BO16:BR16)","v":7547.7300000000005},{"$f":"SUM(Quarter!BS16:BV16)","v":3949.3100000000004},{"$f":"SUM(Quarter!BW16:BZ16)","v":2399.81},{"$f":"SUM(Quarter!CA16:CD16)","v":2422.9299999999998},{"$f":"SUM(Quarter!CE16:CH16)","v":4521.2300000000005},{"$f":"SUM(Quarter!CI16:CL16)","v":2096.0699999999997}]
["Coking Coal","European Union",{"$f":"SUM(Quarter!C17:F17)","v":0},{"$f":"SUM(Quarter!G17:J17)","v":13.68},{"$f":"SUM(Quarter!K17:N17)","v":0},{"$f":"SUM(Quarter!O17:R17)","v":0},{"$f":"SUM(Quarter!S17:V17)","v":0},{"$f":"SUM(Quarter!W17:Z17)","v":7.32},{"$f":"SUM(Quarter!AA17:AD17)","v":0},{"$f":"SUM(Quarter!AE17:AH17)","v":0},{"$f":"SUM(Quarter!AI17:AL17)","v":0.94},{"$f":"SUM(Quarter!AM17:AP17)","v":2.5300000000000002},{"$f":"SUM(Quarter!AQ17:AT17)","v":3.93},{"$f":"SUM(Quarter!AU17:AX17)","v":7.74},{"$f":"SUM(Quarter!AY17:BB17)","v":31.87},{"$f":"SUM(Quarter!BC17:BF17)","v":33.1},{"$f":"SUM(Quarter!BG17:BJ17)","v":42.53},{"$f":"SUM(Quarter!BK17:BN17)","v":29.09},{"$f":"SUM(Quarter!BO17:BR17)","v":28.729999999999997},{"$f":"SUM(Quarter!BS17:BV17)","v":33.4},{"$f":"SUM(Quarter!BW17:BZ17)","v":34.01},{"$f":"SUM(Quarter!CA17:CD17)","v":34.269999999999996},{"$f":"SUM(Quarter!CE17:CH17)","v":194.75},{"$f":"SUM(Quarter!CI17:CL17)","v":62.5}]
["Coking Coal","Australia",{"$f":"SUM(Quarter!C18:F18)","v":4233},{"$f":"SUM(Quarter!G18:J18)","v":4180.1100000000006},{"$f":"SUM(Quarter!K18:N18)","v":4140.1099999999997},{"$f":"SUM(Quarter!O18:R18)","v":3467.91},{"$f":"SUM(Quarter!S18:V18)","v":3766.3900000000003},{"$f":"SUM(Quarter!W18:Z18)","v":3908.6800000000003},{"$f":"SUM(Quarter!AA18:AD18)","v":3202.59},{"$f":"SUM(Quarter!AE18:AH18)","v":2534.8199999999997},{"$f":"SUM(Quarter!AI18:AL18)","v":3437.3700000000003},{"$f":"SUM(Quarter!AM18:AP18)","v":3380.11},{"$f":"SUM(Quarter!AQ18:AT18)","v":2360.27},{"$f":"SUM(Quarter!AU18:AX18)","v":2057.9299999999998},{"$f":"SUM(Quarter!AY18:BB18)","v":1248.76},{"$f":"SUM(Quarter!BC18:BF18)","v":909.81999999999994},{"$f":"SUM(Quarter!BG18:BJ18)","v":777.58999999999992},{"$f":"SUM(Quarter!BK18:BN18)","v":749.16},{"$f":"SUM(Quarter!BO18:BR18)","v":630.26},{"$f":"SUM(Quarter!BS18:BV18)","v":423.21},{"$f":"SUM(Quarter!BW18:BZ18)","v":319.65000000000003},{"$f":"SUM(Quarter!CA18:CD18)","v":511.45000000000005},{"$f":"SUM(Quarter!CE18:CH18)","v":328.99},{"$f":"SUM(Quarter!CI18:CL18)","v":215.54}]
["Coking Coal","Canada",{"$f":"SUM(Quarter!C19:F19)","v":778.84},{"$f":"SUM(Quarter!G19:J19)","v":792.62999999999988},{"$f":"SUM(Quarter!K19:N19)","v":715.15},{"$f":"SUM(Quarter!O19:R19)","v":1092},{"$f":"SUM(Quarter!S19:V19)","v":1276.68},{"$f":"SUM(Quarter!W19:Z19)","v":1688.84},{"$f":"SUM(Quarter!AA19:AD19)","v":1378.41},{"$f":"SUM(Quarter!AE19:AH19)","v":203.91},{"$f":"SUM(Quarter!AI19:AL19)","v":457.57000000000005},{"$f":"SUM(Quarter!AM19:AP19)","v":362.88},{"$f":"SUM(Quarter!AQ19:AT19)","v":154.47999999999999},{"$f":"SUM(Quarter!AU19:AX19)","v":55.95},{"$f":"SUM(Quarter!AY19:BB19)","v":434.28},{"$f":"SUM(Quarter!BC19:BF19)","v":333.9},{"$f":"SUM(Quarter!BG19:BJ19)","v":0},{"$f":"SUM(Quarter!BK19:BN19)","v":36.08},{"$f":"SUM(Quarter!BO19:BR19)","v":0},{"$f":"SUM(Quarter!BS19:BV19)","v":0},{"$f":"SUM(Quarter!BW19:BZ19)","v":0},{"$f":"SUM(Quarter!CA19:CD19)","v":0},{"$f":"SUM(Quarter!CE19:CH19)","v":63.1},{"$f":"SUM(Quarter!CI19:CL19)","v":220.35}]
["Coking Coal","China",{"$f":"SUM(Quarter!C20:F20)","v":0},{"$f":"SUM(Quarter!G20:J20)","v":0},{"$f":"SUM(Quarter!K20:N20)","v":0},{"$f":"SUM(Quarter!O20:R20)","v":0},{"$f":"SUM(Quarter!S20:V20)","v":0},{"$f":"SUM(Quarter!W20:Z20)","v":65.33},{"$f":"SUM(Quarter!AA20:AD20)","v":0},{"$f":"SUM(Quarter!AE20:AH20)","v":0},{"$f":"SUM(Quarter!AI20:AL20)","v":0},{"$f":"SUM(Quarter!AM20:AP20)","v":0},{"$f":"SUM(Quarter!AQ20:AT20)","v":0},{"$f":"SUM(Quarter!AU20:AX20)","v":0},{"$f":"SUM(Quarter!AY20:BB20)","v":0},{"$f":"SUM(Quarter!BC20:BF20)","v":0},{"$f":"SUM(Quarter!BG20:BJ20)","v":0},{"$f":"SUM(Quarter!BK20:BN20)","v":64.42},{"$f":"SUM(Quarter!BO20:BR20)","v":0},{"$f":"SUM(Quarter!BS20:BV20)","v":0},{"$f":"SUM(Quarter!BW20:BZ20)","v":0},{"$f":"SUM(Quarter!CA20:CD20)","v":0},{"$f":"SUM(Quarter!CE20:CH20)","v":0},{"$f":"SUM(Quarter!CI20:CL20)","v":44.22}]
["Coking Coal","Colombia",{"$f":"SUM(Quarter!C21:F21)","v":0},{"$f":"SUM(Quarter!G21:J21)","v":122.81},{"$f":"SUM(Quarter!K21:N21)","v":0},{"$f":"SUM(Quarter!O21:R21)","v":0},{"$f":"SUM(Quarter!S21:V21)","v":0},{"$f":"SUM(Quarter!W21:Z21)","v":0},{"$f":"SUM(Quarter!AA21:AD21)","v":0},{"$f":"SUM(Quarter!AE21:AH21)","v":0},{"$f":"SUM(Quarter!AI21:AL21)","v":69.77},{"$f":"SUM(Quarter!AM21:AP21)","v":0},{"$f":"SUM(Quarter!AQ21:AT21)","v":0},{"$f":"SUM(Quarter!AU21:AX21)","v":106.23},{"$f":"SUM(Quarter!AY21:BB21)","v":0},{"$f":"SUM(Quarter!BC21:BF21)","v":0},{"$f":"SUM(Quarter!BG21:BJ21)","v":0},{"$f":"SUM(Quarter!BK21:BN21)","v":0},{"$f":"SUM(Quarter!BO21:BR21)","v":0},{"$f":"SUM(Quarter!BS21:BV21)","v":0},{"$f":"SUM(Quarter!BW21:BZ21)","v":0},{"$f":"SUM(Quarter!CA21:CD21)","v":0},{"$f":"SUM(Quarter!CE21:CH21)","v":0},{"$f":"SUM(Quarter!CI21:CL21)","v":0}]
["Coking Coal","Indonesia",{"$f":"SUM(Quarter!C22:F22)","v":0},{"$f":"SUM(Quarter!G22:J22)","v":0},{"$f":"SUM(Quarter!K22:N22)","v":0},{"$f":"SUM(Quarter!O22:R22)","v":0},{"$f":"SUM(Quarter!S22:V22)","v":0},{"$f":"SUM(Quarter!W22:Z22)","v":0},{"$f":"SUM(Quarter!AA22:AD22)","v":0},{"$f":"SUM(Quarter!AE22:AH22)","v":0},{"$f":"SUM(Quarter!AI22:AL22)","v":0},{"$f":"SUM(Quarter!AM22:AP22)","v":0},{"$f":"SUM(Quarter!AQ22:AT22)","v":0},{"$f":"SUM(Quarter!AU22:AX22)","v":0},{"$f":"SUM(Quarter!AY22:BB22)","v":0},{"$f":"SUM(Quarter!BC22:BF22)","v":0},{"$f":"SUM(Quarter!BG22:BJ22)","v":0},{"$f":"SUM(Quarter!BK22:BN22)","v":0},{"$f":"SUM(Quarter!BO22:BR22)","v":0},{"$f":"SUM(Quarter!BS22:BV22)","v":0},{"$f":"SUM(Quarter!BW22:BZ22)","v":0},{"$f":"SUM(Quarter!CA22:CD22)","v":0},{"$f":"SUM(Quarter!CE22:CH22)","v":0},{"$f":"SUM(Quarter!CI22:CL22)","v":0}]
["Coking Coal","Republic of South Africa",{"$f":"SUM(Quarter!C23:F23)","v":0},{"$f":"SUM(Quarter!G23:J23)","v":231.83999999999997},{"$f":"SUM(Quarter!K23:N23)","v":0},{"$f":"SUM(Quarter!O23:R23)","v":0},{"$f":"SUM(Quarter!S23:V23)","v":0},{"$f":"SUM(Quarter!W23:Z23)","v":0},{"$f":"SUM(Quarter!AA23:AD23)","v":0},{"$f":"SUM(Quarter!AE23:AH23)","v":0},{"$f":"SUM(Quarter!AI23:AL23)","v":0},{"$f":"SUM(Quarter!AM23:AP23)","v":0},{"$f":"SUM(Quarter!AQ23:AT23)","v":0},{"$f":"SUM(Quarter!AU23:AX23)","v":0},{"$f":"SUM(Quarter!AY23:BB23)","v":0},{"$f":"SUM(Quarter!BC23:BF23)","v":0},{"$f":"SUM(Quarter!BG23:BJ23)","v":0},{"$f":"SUM(Quarter!BK23:BN23)","v":0},{"$f":"SUM(Quarter!BO23:BR23)","v":0},{"$f":"SUM(Quarter!BS23:BV23)","v":0},{"$f":"SUM(Quarter!BW23:BZ23)","v":0},{"$f":"SUM(Quarter!CA23:CD23)","v":0},{"$f":"SUM(Quarter!CE23:CH23)","v":0},{"$f":"SUM(Quarter!CI23:CL23)","v":0}]
["Coking Coal","Russia",{"$f":"SUM(Quarter!C24:F24)","v":34.049999999999997},{"$f":"SUM(Quarter!G24:J24)","v":97.85},{"$f":"SUM(Quarter!K24:N24)","v":148.30000000000001},{"$f":"SUM(Quarter!O24:R24)","v":707.46},{"$f":"SUM(Quarter!S24:V24)","v":273.33},{"$f":"SUM(Quarter!W24:Z24)","v":356.99},{"$f":"SUM(Quarter!AA24:AD24)","v":295.58},{"$f":"SUM(Quarter!AE24:AH24)","v":310.14999999999998},{"$f":"SUM(Quarter!AI24:AL24)","v":375.86},{"$f":"SUM(Quarter!AM24:AP24)","v":239.39000000000001},{"$f":"SUM(Quarter!AQ24:AT24)","v":594.69000000000005},{"$f":"SUM(Quarter!AU24:AX24)","v":1060.4699999999998},{"$f":"SUM(Quarter!AY24:BB24)","v":1395.6000000000001},{"$f":"SUM(Quarter!BC24:BF24)","v":1290.52},{"$f":"SUM(Quarter!BG24:BJ24)","v":729.67000000000007},{"$f":"SUM(Quarter!BK24:BN24)","v":914.72},{"$f":"SUM(Quarter!BO24:BR24)","v":881.43000000000006},{"$f":"SUM(Quarter!BS24:BV24)","v":709.99},{"$f":"SUM(Quarter!BW24:BZ24)","v":734.27},{"$f":"SUM(Quarter!CA24:CD24)","v":827.02},{"$f":"SUM(Quarter!CE24:CH24)","v":28.98},{"$f":"SUM(Quarter!CI24:CL24)","v":0}]
["Coking Coal","USA",{"$f":"SUM(Quarter!C25:F25)","v":1267.44},{"$f":"SUM(Quarter!G25:J25)","v":980.92000000000007},{"$f":"SUM(Quarter!K25:N25)","v":1341.76},{"$f":"SUM(Quarter!O25:R25)","v":1283.74},{"$f":"SUM(Quarter!S25:V25)","v":1415.33},{"$f":"SUM(Quarter!W25:Z25)","v":1377.83},{"$f":"SUM(Quarter!AA25:AD25)","v":1472.21},{"$f":"SUM(Quarter!AE25:AH25)","v":1609.85},{"$f":"SUM(Quarter!AI25:AL25)","v":2275.52},{"$f":"SUM(Quarter!AM25:AP25)","v":1873.2000000000003},{"$f":"SUM(Quarter!AQ25:AT25)","v":1931.91},{"$f":"SUM(Quarter!AU25:AX25)","v":2667.61},{"$f":"SUM(Quarter!AY25:BB25)","v":3018.9399999999996},{"$f":"SUM(Quarter!BC25:BF25)","v":2075.04},{"$f":"SUM(Quarter!BG25:BJ25)","v":1044.1199999999999},{"$f":"SUM(Quarter!BK25:BN25)","v":898.99},{"$f":"SUM(Quarter!BO25:BR25)","v":766.2399999999999},{"$f":"SUM(Quarter!BS25:BV25)","v":970},{"$f":"SUM(Quarter!BW25:BZ25)","v":970.64},{"$f":"SUM(Quarter!CA25:CD25)","v":739.3},{"$f":"SUM(Quarter!CE25:CH25)","v":1128.04},{"$f":"SUM(Quarter!CI25:CL25)","v":796.90000000000009}]
["Coking Coal","Venezuela",{"$f":"SUM(Quarter!C26:F26)","v":0},{"$f":"SUM(Quarter!G26:J26)","v":0},{"$f":"SUM(Quarter!K26:N26)","v":0},{"$f":"SUM(Quarter!O26:R26)","v":0},{"$f":"SUM(Quarter!S26:V26)","v":0},{"$f":"SUM(Quarter!W26:Z26)","v":0},{"$f":"SUM(Quarter!AA26:AD26)","v":0},{"$f":"SUM(Quarter!AE26:AH26)","v":0},{"$f":"SUM(Quarter!AI26:AL26)","v":0},{"$f":"SUM(Quarter!AM26:AP26)","v":0},{"$f":"SUM(Quarter!AQ26:AT26)","v":0},{"$f":"SUM(Quarter!AU26:AX26)","v":0},{"$f":"SUM(Quarter!AY26:BB26)","v":0},{"$f":"SUM(Quarter!BC26:BF26)","v":0},{"$f":"SUM(Quarter!BG26:BJ26)","v":0},{"$f":"SUM(Quarter!BK26:BN26)","v":0},{"$f":"SUM(Quarter!BO26:BR26)","v":0},{"$f":"SUM(Quarter!BS26:BV26)","v":0},{"$f":"SUM(Quarter!BW26:BZ26)","v":0},{"$f":"SUM(Quarter!CA26:CD26)","v":0},{"$f":"SUM(Quarter!CE26:CH26)","v":0},{"$f":"SUM(Quarter!CI26:CL26)","v":0}]
["Coking Coal","Other countries",{"$f":"SUM(Quarter!C27:F27)","v":1.21},{"$f":"SUM(Quarter!G27:J27)","v":54.06},{"$f":"SUM(Quarter!K27:N27)","v":0},{"$f":"SUM(Quarter!O27:R27)","v":0},{"$f":"SUM(Quarter!S27:V27)","v":42.760000000000005},{"$f":"SUM(Quarter!W27:Z27)","v":76.039999999999992},{"$f":"SUM(Quarter!AA27:AD27)","v":0},{"$f":"SUM(Quarter!AE27:AH27)","v":605.42999999999995},{"$f":"SUM(Quarter!AI27:AL27)","v":17.29},{"$f":"SUM(Quarter!AM27:AP27)","v":49.6},{"$f":"SUM(Quarter!AQ27:AT27)","v":25.23},{"$f":"SUM(Quarter!AU27:AX27)","v":289.92},{"$f":"SUM(Quarter!AY27:BB27)","v":214.41},{"$f":"SUM(Quarter!BC27:BF27)","v":107.77000000000001},{"$f":"SUM(Quarter!BG27:BJ27)","v":187.12},{"$f":"SUM(Quarter!BK27:BN27)","v":0},{"$f":"SUM(Quarter!BO27:BR27)","v":110.72},{"$f":"SUM(Quarter!BS27:BV27)","v":40.729999999999997},{"$f":"SUM(Quarter!BW27:BZ27)","v":0},{"$f":"SUM(Quarter!CA27:CD27)","v":0},{"$f":"SUM(Quarter!CE27:CH27)","v":0},{"$f":"SUM(Quarter!CI27:CL27)","v":0}]
["Coking Coal","Total all countries",{"$f":"SUM(Quarter!C28:F28)","v":6314.55},{"$f":"SUM(Quarter!G28:J28)","v":6473.920000000001},{"$f":"SUM(Quarter!K28:N28)","v":6345.3000000000011},{"$f":"SUM(Quarter!O28:R28)","v":6551.11},{"$f":"SUM(Quarter!S28:V28)","v":6774.4699999999993},{"$f":"SUM(Quarter!W28:Z28)","v":7481.04},{"$f":"SUM(Quarter!AA28:AD28)","v":6348.79},{"$f":"SUM(Quarter!AE28:AH28)","v":5264.17},{"$f":"SUM(Quarter!AI28:AL28)","v":6634.31},{"$f":"SUM(Quarter!AM28:AP28)","v":5907.7},{"$f":"SUM(Quarter!AQ28:AT28)","v":5070.51},{"$f":"SUM(Quarter!AU28:AX28)","v":6245.82},{"$f":"SUM(Quarter!AY28:BB28)","v":6343.8599999999988},{"$f":"SUM(Quarter!BC28:BF28)","v":4750.17},{"$f":"SUM(Quarter!BG28:BJ28)","v":2781.05},{"$f":"SUM(Quarter!BK28:BN28)","v":2692.46},{"$f":"SUM(Quarter!BO28:BR28)","v":2417.37},{"$f":"SUM(Quarter!BS28:BV28)","v":2177.3500000000004},{"$f":"SUM(Quarter!BW28:BZ28)","v":2058.5700000000002},{"$f":"SUM(Quarter!CA28:CD28)","v":2112.0299999999997},{"$f":"SUM(Quarter!CE28:CH28)","v":1743.87},{"$f":"SUM(Quarter!CI28:CL28)","v":1339.51}]
["Anthracite","European Union",{"$f":"SUM(Quarter!C29:F29)","v":59.16},{"$f":"SUM(Quarter!G29:J29)","v":40.89},{"$f":"SUM(Quarter!K29:N29)","v":54.230000000000004},{"$f":"SUM(Quarter!O29:R29)","v":37.019999999999996},{"$f":"SUM(Quarter!S29:V29)","v":12.64},{"$f":"SUM(Quarter!W29:Z29)","v":5.4399999999999995},{"$f":"SUM(Quarter!AA29:AD29)","v":10.52},{"$f":"SUM(Quarter!AE29:AH29)","v":40.910000000000004},{"$f":"SUM(Quarter!AI29:AL29)","v":72.040000000000006},{"$f":"SUM(Quarter!AM29:AP29)","v":96.43},{"$f":"SUM(Quarter!AQ29:AT29)","v":106.08000000000001},{"$f":"SUM(Quarter!AU29:AX29)","v":109.26999999999998},{"$f":"SUM(Quarter!AY29:BB29)","v":42.09},{"$f":"SUM(Quarter!BC29:BF29)","v":54.86},{"$f":"SUM(Quarter!BG29:BJ29)","v":59.75},{"$f":"SUM(Quarter!BK29:BN29)","v":33.39},{"$f":"SUM(Quarter!BO29:BR29)","v":61.76},{"$f":"SUM(Quarter!BS29:BV29)","v":79.53},{"$f":"SUM(Quarter!BW29:BZ29)","v":60.68},{"$f":"SUM(Quarter!CA29:CD29)","v":46.06},{"$f":"SUM(Quarter!CE29:CH29)","v":63.92},{"$f":"SUM(Quarter!CI29:CL29)","v":39.07}]
["Anthracite","Australia",{"$f":"SUM(Quarter!C30:F30)","v":20.54},{"$f":"SUM(Quarter!G30:J30)","v":0},{"$f":"SUM(Quarter!K30:N30)","v":0},{"$f":"SUM(Quarter!O30:R30)","v":0},{"$f":"SUM(Quarter!S30:V30)","v":0},{"$f":"SUM(Quarter!W30:Z30)","v":0},{"$f":"SUM(Quarter!AA30:AD30)","v":0},{"$f":"SUM(Quarter!AE30:AH30)","v":0},{"$f":"SUM(Quarter!AI30:AL30)","v":11.75},{"$f":"SUM(Quarter!AM30:AP30)","v":0},{"$f":"SUM(Quarter!AQ30:AT30)","v":0},{"$f":"SUM(Quarter!AU30:AX30)","v":0},{"$f":"SUM(Quarter!AY30:BB30)","v":0},{"$f":"SUM(Quarter!BC30:BF30)","v":0},{"$f":"SUM(Quarter!BG30:BJ30)","v":0},{"$f":"SUM(Quarter!BK30:BN30)","v":0},{"$f":"SUM(Quarter!BO30:BR30)","v":0},{"$f":"SUM(Quarter!BS30:BV30)","v":0},{"$f":"SUM(Quarter!BW30:BZ30)","v":0},{"$f":"SUM(Quarter!CA30:CD30)","v":0},{"$f":"SUM(Quarter!CE30:CH30)","v":4.38},{"$f":"SUM(Quarter!CI30:CL30)","v":0}]
["Anthracite","Canada",{"$f":"SUM(Quarter!C31:F31)","v":0},{"$f":"SUM(Quarter!G31:J31)","v":0},{"$f":"SUM(Quarter!K31:N31)","v":0},{"$f":"SUM(Quarter!O31:R31)","v":0},{"$f":"SUM(Quarter!S31:V31)","v":0},{"$f":"SUM(Quarter!W31:Z31)","v":0},{"$f":"SUM(Quarter!AA31:AD31)","v":0},{"$f":"SUM(Quarter!AE31:AH31)","v":0},{"$f":"SUM(Quarter!AI31:AL31)","v":0},{"$f":"SUM(Quarter!AM31:AP31)","v":0},{"$f":"SUM(Quarter!AQ31:AT31)","v":0},{"$f":"SUM(Quarter!AU31:AX31)","v":0},{"$f":"SUM(Quarter!AY31:BB31)","v":0},{"$f":"SUM(Quarter!BC31:BF31)","v":0},{"$f":"SUM(Quarter!BG31:BJ31)","v":0},{"$f":"SUM(Quarter!BK31:BN31)","v":0},{"$f":"SUM(Quarter!BO31:BR31)","v":0},{"$f":"SUM(Quarter!BS31:BV31)","v":0},{"$f":"SUM(Quarter!BW31:BZ31)","v":0},{"$f":"SUM(Quarter!CA31:CD31)","v":0},{"$f":"SUM(Quarter!CE31:CH31)","v":5.63},{"$f":"SUM(Quarter!CI31:CL31)","v":0}]
["Anthracite","China",{"$f":"SUM(Quarter!C32:F32)","v":38.47},{"$f":"SUM(Quarter!G32:J32)","v":40.24},{"$f":"SUM(Quarter!K32:N32)","v":42.45},{"$f":"SUM(Quarter!O32:R32)","v":24.53},{"$f":"SUM(Quarter!S32:V32)","v":13.99},{"$f":"SUM(Quarter!W32:Z32)","v":48.360000000000007},{"$f":"SUM(Quarter!AA32:AD32)","v":50.88},{"$f":"SUM(Quarter!AE32:AH32)","v":13.77},{"$f":"SUM(Quarter!AI32:AL32)","v":16.509999999999998},{"$f":"SUM(Quarter!AM32:AP32)","v":51.38},{"$f":"SUM(Quarter!AQ32:AT32)","v":12.71},{"$f":"SUM(Quarter!AU32:AX32)","v":33.39},{"$f":"SUM(Quarter!AY32:BB32)","v":28.58},{"$f":"SUM(Quarter!BC32:BF32)","v":22.57},{"$f":"SUM(Quarter!BG32:BJ32)","v":11.39},{"$f":"SUM(Quarter!BK32:BN32)","v":10.11},{"$f":"SUM(Quarter!BO32:BR32)","v":4.4399999999999995},{"$f":"SUM(Quarter!BS32:BV32)","v":6.96},{"$f":"SUM(Quarter!BW32:BZ32)","v":6.6999999999999993},{"$f":"SUM(Quarter!CA32:CD32)","v":5.8900000000000006},{"$f":"SUM(Quarter!CE32:CH32)","v":0.02},{"$f":"SUM(Quarter!CI32:CL32)","v":0.13}]
["Anthracite","Colombia",{"$f":"SUM(Quarter!C33:F33)","v":23.52},{"$f":"SUM(Quarter!G33:J33)","v":0},{"$f":"SUM(Quarter!K33:N33)","v":0},{"$f":"SUM(Quarter!O33:R33)","v":0},{"$f":"SUM(Quarter!S33:V33)","v":0},{"$f":"SUM(Quarter!W33:Z33)","v":12.77},{"$f":"SUM(Quarter!AA33:AD33)","v":0},{"$f":"SUM(Quarter!AE33:AH33)","v":0},{"$f":"SUM(Quarter!AI33:AL33)","v":11.23},{"$f":"SUM(Quarter!AM33:AP33)","v":0},{"$f":"SUM(Quarter!AQ33:AT33)","v":0},{"$f":"SUM(Quarter!AU33:AX33)","v":0},{"$f":"SUM(Quarter!AY33:BB33)","v":9.2799999999999994},{"$f":"SUM(Quarter!BC33:BF33)","v":0},{"$f":"SUM(Quarter!BG33:BJ33)","v":0},{"$f":"SUM(Quarter!BK33:BN33)","v":0},{"$f":"SUM(Quarter!BO33:BR33)","v":0},{"$f":"SUM(Quarter!BS33:BV33)","v":0},{"$f":"SUM(Quarter!BW33:BZ33)","v":0},{"$f":"SUM(Quarter!CA33:CD33)","v":0},{"$f":"SUM(Quarter!CE33:CH33)","v":0},{"$f":"SUM(Quarter!CI33:CL33)","v":1.0900000000000001}]
["Anthracite","Indonesia",{"$f":"SUM(Quarter!C34:F34)","v":0},{"$f":"SUM(Quarter!G34:J34)","v":0},{"$f":"SUM(Quarter!K34:N34)","v":0},{"$f":"SUM(Quarter!O34:R34)","v":0},{"$f":"SUM(Quarter!S34:V34)","v":0},{"$f":"SUM(Quarter!W34:Z34)","v":0},{"$f":"SUM(Quarter!AA34:AD34)","v":0},{"$f":"SUM(Quarter!AE34:AH34)","v":0},{"$f":"SUM(Quarter!AI34:AL34)","v":0},{"$f":"SUM(Quarter!AM34:AP34)","v":0},{"$f":"SUM(Quarter!AQ34:AT34)","v":0},{"$f":"SUM(Quarter!AU34:AX34)","v":0},{"$f":"SUM(Quarter!AY34:BB34)","v":0},{"$f":"SUM(Quarter!BC34:BF34)","v":0},{"$f":"SUM(Quarter!BG34:BJ34)","v":0},{"$f":"SUM(Quarter!BK34:BN34)","v":0},{"$f":"SUM(Quarter!BO34:BR34)","v":0},{"$f":"SUM(Quarter!BS34:BV34)","v":0},{"$f":"SUM(Quarter!BW34:BZ34)","v":0.22000000000000003},{"$f":"SUM(Quarter!CA34:CD34)","v":0.01},{"$f":"SUM(Quarter!CE34:CH34)","v":7.0000000000000007E-2},{"$f":"SUM(Quarter!CI34:CL34)","v":0.01}]
["Anthracite","Republic of South Africa",{"$f":"SUM(Quarter!C35:F35)","v":114.77},{"$f":"SUM(Quarter!G35:J35)","v":109.53999999999999},{"$f":"SUM(Quarter!K35:N35)","v":32.019999999999996},{"$f":"SUM(Quarter!O35:R35)","v":48.949999999999996},{"$f":"SUM(Quarter!S35:V35)","v":41.8},{"$f":"SUM(Quarter!W35:Z35)","v":22.73},{"$f":"SUM(Quarter!AA35:AD35)","v":31.439999999999998},{"$f":"SUM(Quarter!AE35:AH35)","v":19.5},{"$f":"SUM(Quarter!AI35:AL35)","v":0},{"$f":"SUM(Quarter!AM35:AP35)","v":0},{"$f":"SUM(Quarter!AQ35:AT35)","v":6.51},{"$f":"SUM(Quarter!AU35:AX35)","v":6.16},{"$f":"SUM(Quarter!AY35:BB35)","v":6.83},{"$f":"SUM(Quarter!BC35:BF35)","v":6.39},{"$f":"SUM(Quarter!BG35:BJ35)","v":0},{"$f":"SUM(Quarter!BK35:BN35)","v":0},{"$f":"SUM(Quarter!BO35:BR35)","v":0},{"$f":"SUM(Quarter!BS35:BV35)","v":0},{"$f":"SUM(Quarter!BW35:BZ35)","v":0},{"$f":"SUM(Quarter!CA35:CD35)","v":0},{"$f":"SUM(Quarter!CE35:CH35)","v":0},{"$f":"SUM(Quarter!CI35:CL35)","v":3.44}]
["Anthracite","Russia",{"$f":"SUM(Quarter!C36:F36)","v":133.5},{"$f":"SUM(Quarter!G36:J36)","v":14.379999999999999},{"$f":"SUM(Quarter!K36:N36)","v":15.049999999999999},{"$f":"SUM(Quarter!O36:R36)","v":75.77000000000001},{"$f":"SUM(Quarter!S36:V36)","v":36.6},{"$f":"SUM(Quarter!W36:Z36)","v":11.23},{"$f":"SUM(Quarter!AA36:AD36)","v":34.57},{"$f":"SUM(Quarter!AE36:AH36)","v":34.370000000000005},{"$f":"SUM(Quarter!AI36:AL36)","v":43.14},{"$f":"SUM(Quarter!AM36:AP36)","v":0},{"$f":"SUM(Quarter!AQ36:AT36)","v":0},{"$f":"SUM(Quarter!AU36:AX36)","v":11.87},{"$f":"SUM(Quarter!AY36:BB36)","v":35.379999999999995},{"$f":"SUM(Quarter!BC36:BF36)","v":10.08},{"$f":"SUM(Quarter!BG36:BJ36)","v":8.120000000000001},{"$f":"SUM(Quarter!BK36:BN36)","v":49.59},{"$f":"SUM(Quarter!BO36:BR36)","v":52.14},{"$f":"SUM(Quarter!BS36:BV36)","v":4.1899999999999995},{"$f":"SUM(Quarter!BW36:BZ36)","v":0},{"$f":"SUM(Quarter!CA36:CD36)","v":20.329999999999998},{"$f":"SUM(Quarter!CE36:CH36)","v":0},{"$f":"SUM(Quarter!CI36:CL36)","v":0}]
["Anthracite","USA",{"$f":"SUM(Quarter!C37:F37)","v":27.07},{"$f":"SUM(Quarter!G37:J37)","v":45.36},{"$f":"SUM(Quarter!K37:N37)","v":1.6},{"$f":"SUM(Quarter!O37:R37)","v":0},{"$f":"SUM(Quarter!S37:V37)","v":0},{"$f":"SUM(Quarter!W37:Z37)","v":0},{"$f":"SUM(Quarter!AA37:AD37)","v":15.82},{"$f":"SUM(Quarter!AE37:AH37)","v":0},{"$f":"SUM(Quarter!AI37:AL37)","v":0.28000000000000003},{"$f":"SUM(Quarter!AM37:AP37)","v":0.06},{"$f":"SUM(Quarter!AQ37:AT37)","v":0.04},{"$f":"SUM(Quarter!AU37:AX37)","v":0.4},{"$f":"SUM(Quarter!AY37:BB37)","v":0},{"$f":"SUM(Quarter!BC37:BF37)","v":0.16999999999999998},{"$f":"SUM(Quarter!BG37:BJ37)","v":3.2399999999999998},{"$f":"SUM(Quarter!BK37:BN37)","v":0.87},{"$f":"SUM(Quarter!BO37:BR37)","v":0.08},{"$f":"SUM(Quarter!BS37:BV37)","v":0},{"$f":"SUM(Quarter!BW37:BZ37)","v":0},{"$f":"SUM(Quarter!CA37:CD37)","v":0.41},{"$f":"SUM(Quarter!CE37:CH37)","v":5.3100000000000005},{"$f":"SUM(Quarter!CI37:CL37)","v":0}]
["Anthracite","Venezuela",{"$f":"SUM(Quarter!C38:F38)","v":0},{"$f":"SUM(Quarter!G38:J38)","v":0},{"$f":"SUM(Quarter!K38:N38)","v":0},{"$f":"SUM(Quarter!O38:R38)","v":0},{"$f":"SUM(Quarter!S38:V38)","v":0},{"$f":"SUM(Quarter!W38:Z38)","v":0},{"$f":"SUM(Quarter!AA38:AD38)","v":0},{"$f":"SUM(Quarter!AE38:AH38)","v":0},{"$f":"SUM(Quarter!AI38:AL38)","v":0},{"$f":"SUM(Quarter!AM38:AP38)","v":0},{"$f":"SUM(Quarter!AQ38:AT38)","v":0},{"$f":"SUM(Quarter!AU38:AX38)","v":0},{"$f":"SUM(Quarter!AY38:BB38)","v":0},{"$f":"SUM(Quarter!BC38:BF38)","v":0},{"$f":"SUM(Quarter!BG38:BJ38)","v":0},{"$f":"SUM(Quarter!BK38:BN38)","v":0},{"$f":"SUM(Quarter!BO38:BR38)","v":0},{"$f":"SUM(Quarter!BS38:BV38)","v":0},{"$f":"SUM(Quarter!BW38:BZ38)","v":0},{"$f":"SUM(Quarter!CA38:CD38)","v":0},{"$f":"SUM(Quarter!CE38:CH38)","v":0},{"$f":"SUM(Quarter!CI38:CL38)","v":0}]
["Anthracite","Other countries",{"$f":"SUM(Quarter!C39:F39)","v":59.890000000000008},{"$f":"SUM(Quarter!G39:J39)","v":69.050000000000011},{"$f":"SUM(Quarter!K39:N39)","v":48.19},{"$f":"SUM(Quarter!O39:R39)","v":0},{"$f":"SUM(Quarter!S39:V39)","v":39.799999999999997},{"$f":"SUM(Quarter!W39:Z39)","v":35.76},{"$f":"SUM(Quarter!AA39:AD39)","v":1},{"$f":"SUM(Quarter!AE39:AH39)","v":0},{"$f":"SUM(Quarter!AI39:AL39)","v":0},{"$f":"SUM(Quarter!AM39:AP39)","v":0.01},{"$f":"SUM(Quarter!AQ39:AT39)","v":0},{"$f":"SUM(Quarter!AU39:AX39)","v":0.06},{"$f":"SUM(Quarter!AY39:BB39)","v":5.17},{"$f":"SUM(Quarter!BC39:BF39)","v":8.36},{"$f":"SUM(Quarter!BG39:BJ39)","v":11.3},{"$f":"SUM(Quarter!BK39:BN39)","v":22.46},{"$f":"SUM(Quarter!BO39:BR39)","v":0.7},{"$f":"SUM(Quarter!BS39:BV39)","v":11.639999999999999},{"$f":"SUM(Quarter!BW39:BZ39)","v":5.129999999999999},{"$f":"SUM(Quarter!CA39:CD39)","v":0.03},{"$f":"SUM(Quarter!CE39:CH39)","v":13.120000000000001},{"$f":"SUM(Quarter!CI39:CL39)","v":3.31}]
["Anthracite","Total all countries",{"$f":"SUM(Quarter!C40:F40)","v":476.94},{"$f":"SUM(Quarter!G40:J40)","v":319.44},{"$f":"SUM(Quarter!K40:N40)","v":193.64999999999998},{"$f":"SUM(Quarter!O40:R40)","v":187.07},{"$f":"SUM(Quarter!S40:V40)","v":144.84},{"$f":"SUM(Quarter!W40:Z40)","v":136.65},{"$f":"SUM(Quarter!AA40:AD40)","v":144.29},{"$f":"SUM(Quarter!AE40:AH40)","v":108.85},{"$f":"SUM(Quarter!AI40:AL40)","v":154.94999999999999},{"$f":"SUM(Quarter!AM40:AP40)","v":147.88},{"$f":"SUM(Quarter!AQ40:AT40)","v":125.35000000000001},{"$f":"SUM(Quarter!AU40:AX40)","v":161.15},{"$f":"SUM(Quarter!AY40:BB40)","v":127.33},{"$f":"SUM(Quarter!BC40:BF40)","v":102.44},{"$f":"SUM(Quarter!BG40:BJ40)","v":93.8},{"$f":"SUM(Quarter!BK40:BN40)","v":116.42},{"$f":"SUM(Quarter!BO40:BR40)","v":119.13000000000001},{"$f":"SUM(Quarter!BS40:BV40)","v":102.32},{"$f":"SUM(Quarter!BW40:BZ40)","v":72.72},{"$f":"SUM(Quarter!CA40:CD40)","v":72.72},{"$f":"SUM(Quarter!CE40:CH40)","v":92.449999999999989},{"$f":"SUM(Quarter!CI40:CL40)","v":47.06}]
["Total coal imports (note 3)","Total all countries",{"$f":"SUM(Quarter!C41:F41)","v":28686.22},{"$f":"SUM(Quarter!G41:J41)","v":31891.159999999996},{"$f":"SUM(Quarter!K41:N41)","v":36152.82},{"$f":"SUM(Quarter!O41:R41)","v":43968.490000000005},{"$f":"SUM(Quarter!S41:V41)","v":50528.07},{"$f":"SUM(Quarter!W41:Z41)","v":43364.12},{"$f":"SUM(Quarter!AA41:AD41)","v":43875.31},{"$f":"SUM(Quarter!AE41:AH41)","v":38166.839999999997},{"$f":"SUM(Quarter!AI41:AL41)","v":26540.739999999998},{"$f":"SUM(Quarter!AM41:AP41)","v":32527.4},{"$f":"SUM(Quarter!AQ41:AT41)","v":44815.16},{"$f":"SUM(Quarter!AU41:AX41)","v":50611.159999999996},{"$f":"SUM(Quarter!AY41:BB41)","v":42225},{"$f":"SUM(Quarter!BC41:BF41)","v":22518.07},{"$f":"SUM(Quarter!BG41:BJ41)","v":8913.7199999999993},{"$f":"SUM(Quarter!BK41:BN41)","v":8497.92},{"$f":"SUM(Quarter!BO41:BR41)","v":10084.219999999999},{"$f":"SUM(Quarter!BS41:BV41)","v":6228.98},{"$f":"SUM(Quarter!BW41:BZ41)","v":4531.1000000000004},{"$f":"SUM(Quarter!CA41:CD41)","v":4607.7},{"$f":"SUM(Quarter!CE41:CH41)","v":6357.54},{"$f":"SUM(Quarter!CI41:CL41)","v":3482.64}]

{"sheet":"Quarter","index":6,"n_rows":41,"n_cols":90,"rows_kept":41,"cut":false,"hidden":false,"merged":[]}
["Table 2.4 Coal imports (thousand tonnes) (note 1)"]
["This worksheet contains one table"]
["Freeze panes are active on this sheet, to turn off freeze panes select 'view' then 'freeze panes' then 'unfreeze panes' or use [Alt W, F] "]
["Type of coal","Country of origin","2002 1st quarter","2002 2nd quarter","2002 3rd quarter","2002 4th quarter","2003 1st quarter","2003 2nd quarter","2003 3rd quarter","2003 4th quarter","2004 1st quarter","2004 2nd quarter","2004 3rd quarter","2004 4th quarter","2005 1st quarter","2005 2nd quarter","2005 3rd quarter","2005 4th quarter","2006 1st quarter","2006 2nd quarter","2006 3rd quarter","2006 4th quarter","2007 1st quarter","2007 2nd quarter","2007 3rd quarter","2007 4th quarter","2008 1st quarter","2008 2nd quarter","2008 3rd quarter","2008 4th quarter","2009 1st quarter","2009 2nd quarter","2009 3rd quarter","2009 4th quarter","2010 1st quarter","2010 2nd quarter","2010 3rd quarter","2010 4th quarter","2011 1st quarter","2011 2nd quarter","2011 3rd quarter","2011 4th quarter","2012 1st quarter","2012 2nd quarter","2012 3rd quarter","2012 4th quarter","2013 1st quarter","2013 2nd quarter","2013 3rd quarter","2013 4th quarter","2014 1st quarter","2014 2nd quarter","2014 3rd quarter","2014 4th quarter","2015 1st quarter","2015 2nd quarter","2015 3rd quarter","2015 4th quarter","2016 1st quarter","2016 2nd quarter","2016 3rd quarter","2016 4th quarter","2017 1st quarter","2017 2nd quarter","2017 3rd quarter","2017 4th quarter","2018 1st quarter","2018 2nd quarter","2018 3rd quarter","2018 4th quarter","2019 1st quarter","2019 2nd quarter","2019 3rd quarter","2019 4th quarter","2020 1st quarter","2020 2nd quarter","2020 3rd quarter","2020 4th quarter","2021 1st quarter","2021 2nd quarter","2021 3rd            quarter ","2021 4th            quarter","2022 1st            quarter","2022 2nd            quarter","2022 3rd            quarter","2022 4th            quarter","2023 1st           quarter","2023 2nd           quarter","2023 3rd           quarter","2023 4th           quarter [provisional]"]
["Steam Coal","European Union",93.46,57.13,99.81,57.05,121.42,36.96,59.26,96.39,60.39,334.07,358.73,178.7,232.82,252.56,157.41,358.38,447.91,442.7,429,263.99,156.26,181.59,59.4,85.15,352.3,211.03,231.14,138.6,84.38,366.24,321.29000000000002,364.51,329.27,150.22999999999999,239.22,162.16999999999999,406.26,152.03,386.59,111.51,274.68,41.04,128.47999999999999,138.65,163.62,470.03,228.11,262.73,184.16,180.82,211.75,112.89,127.64,182.75,82.56,133.41999999999999,82.82,64.42,112.62,76.64,33.07,73.11,112.97,74.02,79.75,38.450000000000003,59.15,76.25,66.930000000000007,53.72,121.05,65.319999999999993,72.540000000000006,79.98,49.29,73.73,93.23,60.46,60.09,43.43,91.99,136.21,44.17,25.46,99.72,44.99,43.16,100.27]
["Steam Coal","Australia",135.19,0,409.12,216.6,171.08,240.11,305.83,571.98,779.09,705.79,414.59,201.63,143.68,398.83,131.74,153.52000000000001,0,11.86,144.07,0,208.96,96.99,229.44,0,86.53,115.37,80.98,415.65,74.23,174.59,194.31,0,0,0,0,0,0,0,0,0,0,0,0,0,0,0,0,89.23,0,0,0,0,0,0,0,0,0,0,0,0,0.01,0,0,0,0,0,0,0,0,0,0,0,0,0,0,0,0,0,0,0,0,0,137.6,298.56,63.8,0,0,168.69]
["Steam Coal","Canada",0,0,0,0,0,0,0,0,0,0,0,0,0,0,0,0,0,0,0,0,0,0,0,0,0,0,0,0,0,0,0,0,0,0,0,0,0,0,0,0,0,120.23,32.39,0,0,130.05000000000001,56.65,312.23,0.02,0.01,0.02,0.02,0,0,0,0.02,7.0000000000000007E-2,0.08,0.02,0,0.21,0,0.02,0.06,0.04,0,0.04,0,0.02,0,0.09,0,0,0,0,0,0,0,0,0,0.02,0.03,0,0.06,0,0,0,0]
["Steam Coal","China",20.32,68.010000000000005,107.01,4.83,0,0,0,187.79,0,93.87,84.65,0,85.44,0,20.51,0,0,0,0,36.11,137.08000000000001,32.54,0,0,0,0,0,0,392.14,208.03,0,0,0,0,0,0,0,0,0,0,0,0.24,0,0.1,0,0.1,0.01,0,0,0,78.010000000000005,0,0,0,0,0,0,0.01,0,0,0,0,0,0.01,0.02,0,0,0,0,0,0.01,0,0,0,0.01,0.01,0,0,0.01,0.01,0,0.01,0.01,0.02,0,0.01,0,0]
["Steam Coal","Colombia",1488.21,691.05,705.89,893.71,752.75,491.79,965.92,763.91,1107.5999999999999,1144.21,807.99,549.89,790.9,1106.46,703.19,768.33,610.67999999999995,782.32,1462.43,1027.31,1283.3800000000001,485.81,872.85,1200.32,1562.94,1523.84,1239.51,967.81,1694.76,1112.97,1130.8900000000001,1294.25,1382.61,915.93,1586.77,2350.3000000000002,2090.23,1840.47,1761.9,2317,3154.21,2475.58,2871.9,3246.87,3014.65,2595.85,3023.7,2658.34,2600.1,2085.1,1847.82,3157.66,2176.4,1137.21,1219.76,2019.39,1188.56,280.08999999999997,618.66999999999996,808.46,179.41,43.53,80.150000000000006,428.03,140.13999999999999,111,123.14,248.94,200.79,211.92,240.66,173.59,59.07,0,0,55.5,46.57,12.98,37.04,70.42,90.47,38.68,192.01,129.76,77.66,135.07,87,31.17]
["Steam Coal","Indonesia",49.65,0,0,0,69.58,0,178.38,126.79,621.01,308.60000000000002,193.3,409.09,400.6,363.44,403.8,513.96,520.54,485.3,351.63,596.92999999999995,516.22,305.93,228.06,419.71,689.77,275.87,501.93,694.89,243.33,404.34,0,71.06,0,0,90.53,180.17,0,0,0,0,0,0,0,0,0,0,0,0,0,0,0,0,0,0,0,0,0,0,0,0,0,0,0,0.06,0,0,0,0,0,0,0,0,0,0,0,0,0,0,0,0.02,0,0,0,0,0,0,0,0]
["Steam Coal","Republic of South Africa",2320.86,2658.89,2198.63,2770.03,2622.75,4025.75,2248.39,3131.2,2468.21,1913.88,2676.97,2964,3753.78,2390.64,2944.16,3773.59,3224.9,2790.2,2749.47,3981.1,1920.45,2022.03,1570.43,2427.94,806.61,1154.44,1282.1099999999999,1006.18,1476.34,571.89,742.84,242.92,195.46,425.71,0,142.32,47.36,167.03,91.82,340.76,194.55,201.98,47.3,102.21,282.68,90.72,104.43,0,96.98,0,47.6,0,210.37,0,0,49.95,0,84.54,0,51.19,0,49.5,0,0,68.98,0,49.49,0,47.25,49.35,0,49.39,0,0,66.7,0,48.69,0,47.85,0,55.73,71.38,207.04,280.43,88.3,25.02,0.1,50.92]
["Steam Coal","Russia",713.89,1020.63,1055.74,975.11,613.42999999999995,717.89,791.75,1277.3699999999999,2117.88,2417.86,2491.41,2649.35,3128.1,4533.72,4707.0600000000004,4519.09,5885.7,5727.53,5793.17,5136.62,5668.29,5028.6099999999997,4510.09,4977.5200000000004,5791.42,4414.25,4724.25,6263.52,5967.94,5191.29,3866.11,3388.27,3429.25,1539.48,2039.38,2157.9899999999998,2661.73,2934.98,3029.76,3466.64,4333.95,4791.6899999999996,4124.6899999999996,4208.25,4320.96,5169.5200000000004,5198.7,4318.08,5763.25,4318.93,3078.74,3277.34,4051.5,1336.9,683.87,1007.61,863.22,91.75,336.04,403.8,1036.3499999999999,337.79,532.04999999999995,1012.73,1631.83,356.09,593.26,1146.8499999999999,768.07,145.13,445.92,321.13,225.31,64.22,278.52,324.55,222.43,125.84,238.79,533.49,490.98,263.91000000000003,225.36,0,0,0,0,0]
["Steam Coal","USA",33.299999999999997,137.69999999999999,0,83.32,19.63,0,147.21,0,240.22,129.47,273.43,100.11,20.09,100.48,65.900000000000006,79.08,91.36,200.94,62.94,352.03,174.4,384.86,231.49,330.65,419.06,334.49,924.38,1114.4000000000001,934.23,692.77,653.48,831.07,866.15,321.42,197.22,964.09,947.08,691.39,1053.22,1769.25,1314.32,2756.27,2561.29,2226.62,3101.02,2794.62,2607.06,2495.23,2482.5,2001.39,1637.69,2041.96,1635.51,353.59,725.16,228.92,0,48.39,4.03,333.95,548.04999999999995,207.7,292.08,403.89,452.53,637.9,601.77,1098.96,703.56,95.22,0,0,0,0,20.16,0,0,59.13,107.09,222.22,344.48,360,289.73,321.8,508.97,68.010000000000005,0,199.02]
["Steam Coal","Venezuela",0,0,0,0,0,0,0,0,0,0,0,0,0,0,0,0,0,0,0,0,0,0,0,0,0,0,0,0,0,0,0,0,0,0,0,0,0,0,0,0,0,0,0,0,0,0,0,0,0,0,0,0,0,0,0,0,0,0,0,0,0,0,0,0,0,0,0,0,41.7,42.88,0,41.63,107.77,143.99,148.94,567.04999999999995,47.46,71.680000000000007,95.27,104.84,75.489999999999995,0,0,0,68.819999999999993,0,69.81,32.32]
["Steam Coal","Other countries",412.5,970.85,868.75,577.51,758.06,1197.67,1622.43,784.32,429.14,249.26,139.49,0,30.76,0,127.86,70.42,0,0,0,0,0,0,0,0,0,50.12,0,8.8800000000000008,53.46,0,23.2,26.69,0,0,0,85.79,0.01,14.86,106.98,82.94,27.38,1.67,16.559999999999999,226.2,75.099999999999994,18.760000000000002,170.54,451.48,38.07,343.86,77.97,89.13,0,49.5,198.4,55.04,158.35,292.60000000000002,54.12,84.42,49.26,96.46,47.38,51.13,10,0.03,23.11,0.02,0,0,0,63.96,2.5,0,0,59.96,53.37,0,0.01,20.51,0,10.69,146.30000000000001,192.88,53.52,34.71,17.28,27.75]
["Steam Coal","Total all countries",5267.37,5604.26,5444.94,5578.15,5128.7,6710.17,6319.17,6939.75,7823.54,7297,7440.56,7052.76,8586.17,9146.1299999999992,9261.6200000000008,10236.370000000001,10781.09,10440.86,10992.73,11394.08,10065.030000000001,8538.36,7701.77,9441.27,9708.64,8079.4,8984.2800000000007,10609.93,10920.82,8722.1200000000008,6932.12,6218.77,6202.74,3352.77,4153.12,6042.83,6152.68,5800.76,6430.27,8088.09,9299.08,10388.700000000001,9782.6200000000008,10148.91,10958.03,11269.66,11389.2,10587.31,11165.08,8930.1200000000008,6979.61,8679,8201.42,3059.95,2909.74,3494.35,2293.0100000000002,861.88,1125.5,1758.47,1846.37,808.1,1064.6500000000001,1969.93,2383.29,1143.46,1449.97,2571.0100000000002,1828.32,598.23,807.72,715.04,467.2,288.19,563.62,1080.8,511.75,330.1,586.15,994.93,1149.1500000000001,880.9,1242.21,1248.97,960.78,307.8,217.35,610.14]
["Coking Coal","European Union",0,0,0,0,0,0,0,13.68,0,0,0,0,0,0,0,0,0,0,0,0,7.32,0,0,0,0,0,0,0,0,0,0,0,0.6,0.21,0.13,0,1.1599999999999999,0.96,0.41,0,1.05,0.83,0.53,1.52,2.67,1.58,1.1599999999999999,2.33,4.42,15.83,6.43,5.19,8.06,5.26,3.87,15.91,13.06,18.21,4.9400000000000004,6.32,6.04,6.13,7.1,9.82,5.74,7.51,4.95,10.53,8.84,8.24,5.51,10.81,10.82,5.46,8.4499999999999993,9.2799999999999994,7.88,9.41,7.26,9.7200000000000006,168.4,8.41,6.8,11.14,10.25,7.9,32.770000000000003,11.58]
["Coking Coal","Australia",1099.6400000000001,1083.69,1121.53,928.14,1023.74,1031.23,1289.42,835.72,1037.04,912.23,1208.79,982.05,929.17,826.79,862.03,849.92,975.64,984.2,826.06,980.49,1077.53,728.62,999.06,1103.47,738.69,788,800.91,874.99,1009.9,521.9,527.07000000000005,475.95,770.68,703.97,1007.2,955.52,794.23,702.63,1036.1400000000001,847.11,717.39,700.86,486.43,455.59,305.19,641.5,420.07,691.17,132.13,377.18,430.18,309.27,290.99,289.81,141.38999999999999,187.63,43.23,165.73,125.22,443.41,55.68,202.77,249.38,241.33,288.24,98.08,159.80000000000001,84.14,298.51,95.8,28.9,0,156.80000000000001,79.31,58.48,25.06,219.33,151.41999999999999,95.85,44.85,86.46,29.07,142.33000000000001,71.13,215.54,0,0,0]
["Coking Coal","Canada",174.24,178.15,273.11,153.34,169.96,187.56,226.17,208.94,137.5,204.43,201.14,172.08,243.17,371.46,208.72,268.64999999999998,290.83999999999997,364.87,260.89999999999998,360.07,470.58,385.03,477.99,355.24,358.86,459.61,397.71,162.22999999999999,0,0,104.67,99.24,257.48,0,140.6,59.49,99.18,87.37,128.30000000000001,48.03,40.28,60.39,37.97,15.84,13.74,42.21,0,0,118.54,68.98,176.85,69.91,155.6,67.52,110.78,0,0,0,0,0,0,0,0,36.08,0,0,0,0,0,0,0,0,0,0,0,0,0,0,0,0,0,63.1,0,0,0,30.86,79.27,110.22]
["Coking Coal","China",0,0,0,0,0,0,0,0,0,0,0,0,0,0,0,0,0,0,0,0,0,65.33,0,0,0,0,0,0,0,0,0,0,0,0,0,0,0,0,0,0,0,0,0,0,0,0,0,0,0,0,0,0,0,0,0,0,0,0,0,0,0,35.67,28.75,0,0,0,0,0,0,0,0,0,0,0,0,0,0,0,0,0,0,0,0,0,0,0,44.22,0]
["Coking Coal","Colombia",0,0,0,0,0,0,0,122.81,0,0,0,0,0,0,0,0,0,0,0,0,0,0,0,0,0,0,0,0,0,0,0,0,0,69.77,0,0,0,0,0,0,0,0,0,0,0,27.09,79.09,0.05,0,0,0,0,0,0,0,0,0,0,0,0,0,0,0,0,0,0,0,0,0,0,0,0,0,0,0,0,0,0,0,0,0,0,0,0,0,0,0,0]
["Coking Coal","Indonesia",0,0,0,0,0,0,0,0,0,0,0,0,0,0,0,0,0,0,0,0,0,0,0,0,0,0,0,0,0,0,0,0,0,0,0,0,0,0,0,0,0,0,0,0,0,0,0,0,0,0,0,0,0,0,0,0,0,0,0,0,0,0,0,0,0,0,0,0,0,0,0,0,0,0,0,0,0,0,0,0,0,0,0,0,0,0,0,0]
["Coking Coal","Republic of South Africa",0,0,0,0,0,121.27,0,110.57,0,0,0,0,0,0,0,0,0,0,0,0,0,0,0,0,0,0,0,0,0,0,0,0,0,0,0,0,0,0,0,0,0,0,0,0,0,0,0,0,0,0,0,0,0,0,0,0,0,0,0,0,0,0,0,0,0,0,0,0,0,0,0,0,0,0,0,0,0,0,0,0,0,0,0,0,0,0,0,0]
["Coking Coal","Russia",0,10.01,0,24.04,16.489999999999998,30.56,50.8,0,27.39,56.79,44.34,19.78,72.14,162.94,302.63,169.75,25.73,112.43,84.42,50.75,65.459999999999994,81.84,104.36,105.33,62.18,85.22,39.92,108.26,47.69,64.959999999999994,75.95,121.55,69.61,156.25,14.95,135.05000000000001,79.98,32.32,127.09,0,0,169.65,187.11,237.93,219.89,277.33999999999997,371.1,192.14,401.87,300.36,415.91,277.45999999999998,423.6,454.64,340.76,71.52,169.05,236.4,142.61000000000001,181.61,304.32,312.88,234.12,63.4,239.74,250.35,241.15,150.19,206.37,181.05,204.01,118.56,86.47,222.38,272.70999999999998,152.71,121.77,341.53,252.28,111.44,28.98,0,0,0,0,0,0,0]
["Coking Coal","USA",429.99,337.44,232.99,267.02,215.03,299.19,247.83,218.87,306.99,318.26,359.65,356.86,285.73,358.35,278.75,360.91,681.74,177.14,332.31,224.14,349.33,344.78,409.45,274.27,285.45,437.48,462.04,287.24,460.88,225.05,451.34,472.58,349.41,1020.04,447.56,458.51,391.26,553.88,387.74,540.32000000000005,344.06,422.36,587.21,578.28,451.93,1027.8,816.84,371.04,768.74,867.15,640.08000000000004,742.97,677.97,802.51,354.42,240.14,317.39999999999998,196.69,185.86,344.17,176.75,273.91000000000003,253.86,194.47,192.81,123.96,281.82,167.65,204.92,201.43,196.75,366.9,307.75,148.75,195,319.14,226.02,123.48,268.02999999999997,121.77,82.32,357.93,354.76,333.03,69.62,342.04,177.56,207.68]
["Coking Coal","Venezuela",0,0,0,0,0,0,0,0,0,0,0,0,0,0,0,0,0,0,0,0,0,0,0,0,0,0,0,0,0,0,0,0,0,0,0,0,0,0,0,0,0,0,0,0,0,0,0,0,0,0,0,0,0,0,0,0,0,0,0,0,0,0,0,0,0,0,0,0,0,0,0,0,0,0,0,0,0,0,0,0,0,0,0,0,0,0,0,0]
["Coking Coal","Other countries",0,0,0,1.21,16.77,0,0,37.29,0,0,0,0,0,0,0,0,0,0,29.76,13,6.18,0,18.399999999999999,51.46,0,0,0,0,51.63,77.78,0,476.02,0,17.29,0,0,0,0,49.6,0,0,0,0,25.23,50.89,44.41,89.61,105.01,34.18,38.32,141.91,0,45.96,0,0,61.81,43.76,57.27,86.09,0,0,0,0,0,27.82,18.93,27.08,36.89,0,40.729999999999997,0,0,0,0,0,0,0,0,0,0,0,0,0,0,0,0,0,0]
["Coking Coal","Total all countries",1703.88,1609.29,1627.62,1373.76,1441.99,1669.81,1814.23,1547.89,1508.91,1491.7,1813.92,1530.77,1530.2,1719.55,1652.12,1649.24,1973.95,1638.63,1533.45,1628.44,1976.39,1605.6,2009.27,1889.78,1445.18,1770.32,1700.58,1432.71,1570.1,889.7,1159.03,1645.34,1447.77,1967.53,1610.43,1608.58,1365.81,1377.16,1729.28,1435.45,1102.78,1354.09,1299.25,1314.39,1044.29,2061.9299999999998,1777.86,1361.74,1459.87,1667.82,1811.36,1404.81,1602.18,1619.74,951.23,577.02,586.51,674.3,544.73,975.51,542.79,831.37,773.21,545.09,754.34,498.82,714.81,449.4,718.64,527.26,435.18,496.27,561.85,455.9,534.63,506.19,575,625.83000000000004,623.41999999999996,287.77999999999997,366.16,458.52,503.9,415.29,295.41000000000003,380.8,333.82,329.48]
["Anthracite","European Union",10.84,1.69,14.28,32.35,23.94,4.2699999999999996,1.3,11.38,10.23,16.940000000000001,18.329999999999998,8.73,23.13,7.89,2.06,3.94,3.75,2.5299999999999998,4.63,1.73,0.59,0,2.8,2.0499999999999998,4.08,0.62,3.44,2.38,5.57,15.32,16.03,3.99,11.1,11.42,9.32,40.200000000000003,28.35,12.32,25.54,30.22,12.34,26.72,34.770000000000003,32.25,29.22,32.94,24.57,22.54,14.81,6.11,11.75,9.42,6.12,18.989999999999998,12.43,17.32,10,13.75,17.079999999999998,18.920000000000002,6.68,9.0399999999999991,7.62,10.050000000000001,17.739999999999998,1.18,16.059999999999999,26.78,17.57,8.4600000000000009,18.38,35.119999999999997,11.42,14.06,20.079999999999998,15.12,11.57,9.42,17.27,7.8,35.28,12.44,7.03,9.17,8.9,7.66,13.59,8.92]
["Anthracite","Australia",0,0,11.37,9.17,0,0,0,0,0,0,0,0,0,0,0,0,0,0,0,0,0,0,0,0,0,0,0,0,0,0,0,0,0,11.75,0,0,0,0,0,0,0,0,0,0,0,0,0,0,0,0,0,0,0,0,0,0,0,0,0,0,0,0,0,0,0,0,0,0,0,0,0,0,0,0,0,0,0,0,0,0,0,0,4.38,0,0,0,0,0]
["Anthracite","Canada",0,0,0,0,0,0,0,0,0,0,0,0,0,0,0,0,0,0,0,0,0,0,0,0,0,0,0,0,0,0,0,0,0,0,0,0,0,0,0,0,0,0,0,0,0,0,0,0,0,0,0,0,0,0,0,0,0,0,0,0,0,0,0,0,0,0,0,0,0,0,0,0,0,0,0,0,0,0,0,0,0,0,0,5.63,0,0,0,0]
["Anthracite","China",10.93,0.01,7.0000000000000007E-2,27.46,36.67,0.02,3.55,0,40.43,0,2.02,0,3.42,1.5,19.61,0,2.4300000000000002,4.62,5.27,1.67,3.14,9.8000000000000007,32.71,2.71,33.479999999999997,11.3,1.1100000000000001,4.99,7.81,2.21,0,3.75,1.1100000000000001,10.49,4.91,0,9.48,25,13.43,3.47,3.92,5.7,0,3.09,7.6,9.17,1.08,15.54,2.2999999999999998,20.95,1.02,4.3099999999999996,7.03,8.49,7.05,0,1.0900000000000001,3.92,3.09,3.29,6.35,2.71,0,1.05,0.99,0.08,0.89,2.48,5.7,1.26,0,0,0.99,0.44,0,5.27,0.78,4.42,0,0.69,0,0,0,0.02,0,0,0.04,0.09]
["Anthracite","Colombia",23.52,0,0,0,0,0,0,0,0,0,0,0,0,0,0,0,0,0,0,0,12.77,0,0,0,0,0,0,0,0,0,0,0,11.23,0,0,0,0,0,0,0,0,0,0,0,0,0,0,0,0,0,0,9.2799999999999994,0,0,0,0,0,0,0,0,0,0,0,0,0,0,0,0,0,0,0,0,0,0,0,0,0,0,0,0,0,0,0,0,0,0,0,1.0900000000000001]
["Anthracite","Indonesia",0,0,0,0,0,0,0,0,0,0,0,0,0,0,0,0,0,0,0,0,0,0,0,0,0,0,0,0,0,0,0,0,0,0,0,0,0,0,0,0,0,0,0,0,0,0,0,0,0,0,0,0,0,0,0,0,0,0,0,0,0,0,0,0,0,0,0,0,0,0,0,0,0,0,0.17,0.05,0,0,0,0.01,7.0000000000000007E-2,0,0,0,0,0,0.01,0]
["Anthracite","Republic of South Africa",80.209999999999994,5.03,1.19,28.34,18.79,82.35,0,8.4,23.09,0,0,8.93,24.4,0,18.72,5.83,31.14,0,0,10.66,16.84,0,0,5.89,0,21.9,0,9.5399999999999991,9.4499999999999993,0,0,10.050000000000001,0,0,0,0,0,0,0,0,0,0,0,6.51,0,0,0,6.16,6.83,0,0,0,0,0,0,6.39,0,0,0,0,0,0,0,0,0,0,0,0,0,0,0,0,0,0,0,0,0,0,0,0,0,0,0,0,0,0,0.32,3.12]
["Anthracite","Russia",9.0399999999999991,34.03,45.86,44.57,0.16,0.26,0.11,13.85,0,5.68,0,9.3699999999999992,17.64,27.95,7.97,22.21,3.14,0,11.46,22,0,0,0,11.23,0,1,14.19,19.38,10.81,9.25,8.33,5.98,9.7100000000000009,0,33.43,0,0,0,0,0,0,0,0,0,0,0,11.87,0,0,6.02,21.9,7.46,0,0,10.08,0,4.34,0,3.71,7.0000000000000007E-2,0,18.670000000000002,15.29,15.63,14.61,22.45,11.86,3.22,0.69,1.79,1.71,0,0,0,0,0,0,5.44,3.01,11.88,0,0,0,0,0,0,0,0]
["Anthracite","USA",26.72,0.35,0,0,27.6,7.0000000000000007E-2,0.09,17.600000000000001,1.58,0.02,0,0,0,0,0,0,0,0,0,0,0,0,0,0,0,0,15.82,0,0,0,0,0,0,0.25,0.03,0,0.06,0,0,0,0.04,0,0,0,0,0.28000000000000003,0.12,0,0,0,0,0,0.15,0.02,0,0,0.19,2.64,0.11,0.3,0.87,0,0,0,0,0.01,0,7.0000000000000007E-2,0,0,0,0,0,0,0,0,0.06,0.3,0,0.05,0,0.24,5.07,0,0,0,0,0]
["Anthracite","Venezuela",0,0,0,0,0,0,0,0,0,0,0,0,0,0,0,0,0,0,0,0,0,0,0,0,0,0,0,0,0,0,0,0,0,0,0,0,0,0,0,0,0,0,0,0,0,0,0,0,0,0,0,0,0,0,0,0,0,0,0,0,0,0,0,0,0,0,0,0,0,0,0,0,0,0,0,0,0,0,0,0,0,0,0,0,0,0,0,0]
["Anthracite","Other countries",40.56,5.2,6.09,8.0399999999999991,3.38,48.45,11.52,5.7,14.32,33.869999999999997,0,0,0,0,0,0,0,8,10,21.8,0,22.84,0,12.92,0,1,0,0,0,0,0,0,0,0,0,0,0,0.01,0,0,0,0,0,0,0,0,0,0.06,4.53,0.48,0.16,0,0.01,0.02,0,8.33,0.28999999999999998,0,0.01,11,9.15,11.48,1.22,0.61,0.6,0,0.04,0.06,0.04,6.38,5.18,0.04,0.02,5.08,0.02,0.01,0.01,0.01,0,0.01,0.16,0,0.9,12.06,3.29,0,0.02,0]
["Anthracite","Total all countries",201.82,46.31,78.87,149.94,110.54,135.41,16.559999999999999,56.93,89.66,56.53,20.350000000000001,27.11,68.67,37.75,48.66,31.99,40.46,15.16,31.36,57.86,33.35,32.93,35.56,34.81,37.56,35.85,34.56,36.32,33.65,26.79,24.37,24.04,33.15,33.909999999999997,47.69,40.200000000000003,37.89,37.33,38.97,33.69,16.3,32.42,34.770000000000003,41.86,36.82,42.39,37.64,44.3,28.47,33.56,34.83,30.47,13.32,27.52,29.56,32.04,15.91,20.309999999999999,24,33.58,23.05,41.9,24.13,27.34,33.94,23.73,28.85,32.61,24,17.89,25.27,35.159999999999997,12.42,19.579999999999998,20.27,20.45,12.42,19.579999999999998,20.27,20.45,35.51,12.68,17.38,26.88,12.19,7.66,13.98,13.23]
["Total coal imports (note 3)","Total all countries",7173.07,7259.86,7151.44,7101.85,6681.24,8515.4,8149.96,8544.56,9422.11,8845.24,9274.83,8610.64,10185.040000000001,10903.43,10962.41,11917.61,12795.5,12094.65,12557.54,13080.38,12074.77,10176.89,9746.6,11365.86,11191.37,9885.57,10719.42,12078.95,12524.56,9638.61,8115.52,7888.15,7683.67,5354.2,5811.25,7691.62,7556.38,7215.25,8198.5300000000007,9557.24,10418.16,11775.21,11116.63,11505.16,12039.14,13373.97,13204.7,11993.35,12653.41,10631.5,8825.81,10114.280000000001,9816.92,4707.21,3890.53,4103.41,2895.44,1556.49,1694.23,2767.56,2412.1999999999998,1681.37,1861.99,2542.36,3171.57,1666.01,2193.62,3053.02,2570.96,1143.3699999999999,1268.17,1246.48,1041.47,763.67,1118.52,1607.44,1099.18,975.51,1229.8399999999999,1303.17,1550.82,1352.09,1763.49,1691.14,1268.3800000000001,696.26,565.15,952.85]

{"sheet":"Calculation","index":7,"n_rows":47,"n_cols":18,"rows_kept":47,"cut":false,"hidden":true,"merged":[]}
[]
[{"$nulls":5},"Annual!",null,null,null,"Quarter!"]
[null,"Year","Quarter"]
[null,2023,4]
[{"$nulls":5},23,24,null,null,{"$f":"K5-1","v":82},{"$f":"L5-1","v":83},{"$f":"M5-1","v":84},85,86,87,88,{"$f":"R5-1","v":89},90]
[{"$nulls":4},4,{"$f":"$F$2&\"r\"&$E6&\"c\"&F$5","v":"Annual!r4c23"},"Annual!r4c24",null,4,{"$f":"$J$2&\"r\"&$I6&\"c\"&J$5","v":"Quarter!r4c82"},"Quarter!r4c83","Quarter!r4c84","Quarter!r4c85","Quarter!r4c86","Quarter!r4c87","Quarter!r4c88","Quarter!r4c89","Quarter!r4c90"]
[{"$nulls":4},5,"Annual!r5c23","Annual!r5c24",null,5,"Quarter!r5c82","Quarter!r5c83","Quarter!r5c84","Quarter!r5c85","Quarter!r5c86","Quarter!r5c87","Quarter!r5c88","Quarter!r5c89","Quarter!r5c90"]
[{"$nulls":4},6,"Annual!r6c23","Annual!r6c24",null,6,"Quarter!r6c82","Quarter!r6c83","Quarter!r6c84","Quarter!r6c85","Quarter!r6c86","Quarter!r6c87","Quarter!r6c88","Quarter!r6c89","Quarter!r6c90"]
[{"$nulls":4},7,"Annual!r7c23","Annual!r7c24",null,7,"Quarter!r7c82","Quarter!r7c83","Quarter!r7c84","Quarter!r7c85","Quarter!r7c86","Quarter!r7c87","Quarter!r7c88","Quarter!r7c89","Quarter!r7c90"]
[{"$nulls":4},8,"Annual!r8c23","Annual!r8c24",null,8,"Quarter!r8c82","Quarter!r8c83","Quarter!r8c84","Quarter!r8c85","Quarter!r8c86","Quarter!r8c87","Quarter!r8c88","Quarter!r8c89","Quarter!r8c90"]
[{"$nulls":4},9,"Annual!r9c23","Annual!r9c24",null,9,"Quarter!r9c82","Quarter!r9c83","Quarter!r9c84","Quarter!r9c85","Quarter!r9c86","Quarter!r9c87","Quarter!r9c88","Quarter!r9c89","Quarter!r9c90"]
[{"$nulls":4},10,"Annual!r10c23","Annual!r10c24",null,10,"Quarter!r10c82","Quarter!r10c83","Quarter!r10c84","Quarter!r10c85","Quarter!r10c86","Quarter!r10c87","Quarter!r10c88","Quarter!r10c89","Quarter!r10c90"]
[{"$nulls":4},11,"Annual!r11c23","Annual!r11c24",null,11,"Quarter!r11c82","Quarter!r11c83","Quarter!r11c84","Quarter!r11c85","Quarter!r11c86","Quarter!r11c87","Quarter!r11c88","Quarter!r11c89","Quarter!r11c90"]
[{"$nulls":4},12,"Annual!r12c23","Annual!r12c24",null,12,"Quarter!r12c82","Quarter!r12c83","Quarter!r12c84","Quarter!r12c85","Quarter!r12c86","Quarter!r12c87","Quarter!r12c88","Quarter!r12c89","Quarter!r12c90"]
[{"$nulls":4},13,"Annual!r13c23","Annual!r13c24",null,13,"Quarter!r13c82","Quarter!r13c83","Quarter!r13c84","Quarter!r13c85","Quarter!r13c86","Quarter!r13c87","Quarter!r13c88","Quarter!r13c89","Quarter!r13c90"]
[{"$nulls":4},14,"Annual!r14c23","Annual!r14c24",null,14,"Quarter!r14c82","Quarter!r14c83","Quarter!r14c84","Quarter!r14c85","Quarter!r14c86","Quarter!r14c87","Quarter!r14c88","Quarter!r14c89","Quarter!r14c90"]
[{"$nulls":4},15,"Annual!r15c23","Annual!r15c24",null,15,"Quarter!r15c82","Quarter!r15c83","Quarter!r15c84","Quarter!r15c85","Quarter!r15c86","Quarter!r15c87","Quarter!r15c88","Quarter!r15c89","Quarter!r15c90"]
[{"$nulls":4},16,"Annual!r16c23","Annual!r16c24",null,16,"Quarter!r16c82","Quarter!r16c83","Quarter!r16c84","Quarter!r16c85","Quarter!r16c86","Quarter!r16c87","Quarter!r16c88","Quarter!r16c89","Quarter!r16c90"]
[{"$nulls":4},17,"Annual!r17c23","Annual!r17c24",null,17,"Quarter!r17c82","Quarter!r17c83","Quarter!r17c84","Quarter!r17c85","Quarter!r17c86","Quarter!r17c87","Quarter!r17c88","Quarter!r17c89","Quarter!r17c90"]
[{"$nulls":4},18,"Annual!r18c23","Annual!r18c24",null,18,"Quarter!r18c82","Quarter!r18c83","Quarter!r18c84","Quarter!r18c85","Quarter!r18c86","Quarter!r18c87","Quarter!r18c88","Quarter!r18c89","Quarter!r18c90"]
[{"$nulls":4},19,"Annual!r19c23","Annual!r19c24",null,19,"Quarter!r19c82","Quarter!r19c83","Quarter!r19c84","Quarter!r19c85","Quarter!r19c86","Quarter!r19c87","Quarter!r19c88","Quarter!r19c89","Quarter!r19c90"]
[{"$nulls":4},20,"Annual!r20c23","Annual!r20c24",null,20,"Quarter!r20c82","Quarter!r20c83","Quarter!r20c84","Quarter!r20c85","Quarter!r20c86","Quarter!r20c87","Quarter!r20c88","Quarter!r20c89","Quarter!r20c90"]
[{"$nulls":4},21,"Annual!r21c23","Annual!r21c24",null,21,"Quarter!r21c82","Quarter!r21c83","Quarter!r21c84","Quarter!r21c85","Quarter!r21c86","Quarter!r21c87","Quarter!r21c88","Quarter!r21c89","Quarter!r21c90"]
[{"$nulls":4},22,"Annual!r22c23","Annual!r22c24",null,22,"Quarter!r22c82","Quarter!r22c83","Quarter!r22c84","Quarter!r22c85","Quarter!r22c86","Quarter!r22c87","Quarter!r22c88","Quarter!r22c89","Quarter!r22c90"]
[{"$nulls":4},23,"Annual!r23c23","Annual!r23c24",null,23,"Quarter!r23c82","Quarter!r23c83","Quarter!r23c84","Quarter!r23c85","Quarter!r23c86","Quarter!r23c87","Quarter!r23c88","Quarter!r23c89","Quarter!r23c90"]
[{"$nulls":4},24,"Annual!r24c23","Annual!r24c24",null,24,"Quarter!r24c82","Quarter!r24c83","Quarter!r24c84","Quarter!r24c85","Quarter!r24c86","Quarter!r24c87","Quarter!r24c88","Quarter!r24c89","Quarter!r24c90"]
[{"$nulls":4},25,"Annual!r25c23","Annual!r25c24",null,25,"Quarter!r25c82","Quarter!r25c83","Quarter!r25c84","Quarter!r25c85","Quarter!r25c86","Quarter!r25c87","Quarter!r25c88","Quarter!r25c89","Quarter!r25c90"]
[{"$nulls":4},26,"Annual!r26c23","Annual!r26c24",null,26,"Quarter!r26c82","Quarter!r26c83","Quarter!r26c84","Quarter!r26c85","Quarter!r26c86","Quarter!r26c87","Quarter!r26c88","Quarter!r26c89","Quarter!r26c90"]
[{"$nulls":4},27,{"$f":"$F$2&\"r\"&$E29&\"c\"&F$5","v":"Annual!r27c23"},"Annual!r27c24",null,27,"Quarter!r27c82","Quarter!r27c83","Quarter!r27c84","Quarter!r27c85","Quarter!r27c86","Quarter!r27c87","Quarter!r27c88","Quarter!r27c89","Quarter!r27c90"]
[{"$nulls":4},28,"Annual!r28c23","Annual!r28c24",null,28,"Quarter!r28c82","Quarter!r28c83","Quarter!r28c84","Quarter!r28c85","Quarter!r28c86","Quarter!r28c87","Quarter!r28c88","Quarter!r28c89","Quarter!r28c90"]
[{"$nulls":4},29,"Annual!r29c23","Annual!r29c24",null,29,"Quarter!r29c82","Quarter!r29c83","Quarter!r29c84","Quarter!r29c85","Quarter!r29c86","Quarter!r29c87","Quarter!r29c88","Quarter!r29c89","Quarter!r29c90"]
[{"$nulls":4},30,"Annual!r30c23","Annual!r30c24",null,30,"Quarter!r30c82","Quarter!r30c83","Quarter!r30c84","Quarter!r30c85","Quarter!r30c86","Quarter!r30c87","Quarter!r30c88","Quarter!r30c89","Quarter!r30c90"]
[{"$nulls":4},31,"Annual!r31c23","Annual!r31c24",null,31,"Quarter!r31c82","Quarter!r31c83","Quarter!r31c84","Quarter!r31c85","Quarter!r31c86","Quarter!r31c87","Quarter!r31c88","Quarter!r31c89","Quarter!r31c90"]
[{"$nulls":4},32,"Annual!r32c23","Annual!r32c24",null,32,"Quarter!r32c82","Quarter!r32c83","Quarter!r32c84",{"$f":"$J$2&\"r\"&$I34&\"c\"&M$5","v":"Quarter!r32c85"},"Quarter!r32c86","Quarter!r32c87","Quarter!r32c88","Quarter!r32c89","Quarter!r32c90"]
[{"$nulls":4},33,"Annual!r33c23","Annual!r33c24",null,33,{"$f":"$J$2&\"r\"&$I35&\"c\"&J$5","v":"Quarter!r33c82"},"Quarter!r33c83","Quarter!r33c84","Quarter!r33c85","Quarter!r33c86","Quarter!r33c87","Quarter!r33c88","Quarter!r33c89","Quarter!r33c90"]
[{"$nulls":4},34,"Annual!r34c23","Annual!r34c24",null,34,"Quarter!r34c82","Quarter!r34c83","Quarter!r34c84","Quarter!r34c85","Quarter!r34c86","Quarter!r34c87","Quarter!r34c88","Quarter!r34c89","Quarter!r34c90"]
[{"$nulls":4},35,"Annual!r35c23","Annual!r35c24",null,35,"Quarter!r35c82","Quarter!r35c83","Quarter!r35c84","Quarter!r35c85","Quarter!r35c86","Quarter!r35c87","Quarter!r35c88","Quarter!r35c89","Quarter!r35c90"]
[{"$nulls":4},36,"Annual!r36c23","Annual!r36c24",null,36,"Quarter!r36c82","Quarter!r36c83","Quarter!r36c84","Quarter!r36c85","Quarter!r36c86","Quarter!r36c87","Quarter!r36c88","Quarter!r36c89","Quarter!r36c90"]
[{"$nulls":4},37,"Annual!r37c23","Annual!r37c24",null,37,"Quarter!r37c82","Quarter!r37c83","Quarter!r37c84","Quarter!r37c85","Quarter!r37c86","Quarter!r37c87","Quarter!r37c88","Quarter!r37c89","Quarter!r37c90"]
[{"$nulls":4},38,"Annual!r38c23","Annual!r38c24",null,38,"Quarter!r38c82","Quarter!r38c83","Quarter!r38c84","Quarter!r38c85","Quarter!r38c86","Quarter!r38c87","Quarter!r38c88","Quarter!r38c89","Quarter!r38c90"]
[{"$nulls":4},39,"Annual!r39c23","Annual!r39c24",null,39,"Quarter!r39c82","Quarter!r39c83","Quarter!r39c84","Quarter!r39c85","Quarter!r39c86","Quarter!r39c87","Quarter!r39c88","Quarter!r39c89","Quarter!r39c90"]
[{"$nulls":4},40,"Annual!r40c23","Annual!r40c24",null,40,"Quarter!r40c82","Quarter!r40c83","Quarter!r40c84","Quarter!r40c85","Quarter!r40c86","Quarter!r40c87","Quarter!r40c88","Quarter!r40c89","Quarter!r40c90"]
[{"$nulls":4},41,"Annual!r41c23","Annual!r41c24",null,41,"Quarter!r41c82","Quarter!r41c83","Quarter!r41c84","Quarter!r41c85","Quarter!r41c86","Quarter!r41c87","Quarter!r41c88","Quarter!r41c89","Quarter!r41c90"]
[{"$nulls":4},42,"Annual!r42c23","Annual!r42c24",null,42,"Quarter!r42c82","Quarter!r42c83","Quarter!r42c84","Quarter!r42c85","Quarter!r42c86","Quarter!r42c87","Quarter!r42c88","Quarter!r42c89","Quarter!r42c90"]
[{"$nulls":4},43,"Annual!r43c23","Annual!r43c24",null,43,"Quarter!r43c82","Quarter!r43c83","Quarter!r43c84","Quarter!r43c85","Quarter!r43c86","Quarter!r43c87","Quarter!r43c88","Quarter!r43c89","Quarter!r43c90"]
[{"$nulls":4},44,"Annual!r44c23","Annual!r44c24",null,44,"Quarter!r44c82","Quarter!r44c83","Quarter!r44c84","Quarter!r44c85","Quarter!r44c86","Quarter!r44c87","Quarter!r44c88","Quarter!r44c89","Quarter!r44c90"]
[{"$nulls":8},45,"Quarter!r45c82","Quarter!r45c83","Quarter!r45c84","Quarter!r45c85","Quarter!r45c86","Quarter!r45c87","Quarter!r45c88","Quarter!r45c89","Quarter!r45c90"]